Workbook
Name BR_YEAR: '[1]Worksheet K'!$D$26
Name Brit_Pound_to_U.S.: [2]Conversions!$B$3
Name CR_YEAR: '[1]Worksheet J'!$D$19
Name DE_YEAR: '[1]Worksheet L'!$D$19
Name Discharger_Ratio: #REF!
Name Discharger_Ratio: #REF!
Name Discharger_Ratio: #REF!
Name Discharger_Ratio1: #REF!
Name EBT_Year: '[1]Worksheet H'!$D$21
Name EURO_to_U.S.: [2]Conversions!$B$2
Name euros: #REF!
Name euros: #REF!
Name euros: #REF!
Name euros1: #REF!
Name millions: #REF!
Name millions: #REF!
Name millions: #REF!
Name pounds: #REF!
Name pounds: #REF!
Name pounds: #REF!
Name Thousands: [2]Conversions!$B$8

Sheet Purpose and Instructions
B1: Antidegradation - Evaluating Important Economic Or Social Development: Public Sector
B2: Purpose
B3: The purpose of this spreadsheet is to help states, tribes, and stakeholders implement the recommendations in EPA's Interim Economic Guidance for Water Quality Standards, Workbook (1995). Federal regulations require States to adopt an antidegradation policy to protect existing uses, high-quality waters, and water quality in waters that are considered to be outstanding national resources. Federal regulations allow the lowering of water quality in higher-quality waters only if it is necessary to accommodate important economic or social development in the area in which the waters are located (CFR 40 131.12(a)(2)). The EPA developed guidance (EPA-823-B-95-002 Interim Economic Guidance for Water Quality Standards, Workbook (1995), hereafter termed “The Guidance”) to help states, tribes, and stakeholders evaluate if the costs of pollution controls needed to maintain high-quality water will interfere with important economic and social development. The Guidance recommends methods for calculating socioeconomic and financial indicators and ways to evaluate and interpret them. Worksheets are provided in the appendix to facilitate the calculation, evaluation, and interpretation of these recommended indicators. This spreadsheet supplements The Guidance by guiding the user through the necessary calculation steps to successfully implement The Guidance recommendations. The spreadsheet provides instructions on what information needs to be obtained and how to obtain it, organizes and stores the information in a sensible and relevant format, performs the required calculations on numeric information wherever feasible, and evaluates the results. The spreadsheet also clearly displays the information, methodology, and analytical results in a way that can be used to compile needed documentation when requesting the lowering of water quality under state or tribal antidegradation policy. Below are general instructions on how to use this spreadsheet. The worksheet tabs along the bottom of the screen provide access to each sequential step in the analysis that is recommended in the Guidance. In all worksheets, only cells marked with an asterisk (*) require input. Worksheets that do not require input refer to information from other cells for the purpose of providing supplementary information and documentation. Information is automatically transferred to the appropriate worksheets for analysis and display of results.
B5: Instructions
B6: 1. Enter information about the proposed project in the tab named: "1. Project Description" (only cells marked with an asterisk (*) require input). The most cost-effective approach to maintaining high quality waters should be considered in the analysis. If at least one treatment alternative would allow for the maintenance of high-quality waters without incurring substantial impacts, then that alternative would not interfere with development and should be implemented. The analysis should include assumptions about excess capacity, population growth, and consideration of alternative technologies. An accurate estimate of project costs may be available from the discharger's design engineers. If site-specific engineering cost estimates are not available, preliminary project cost estimates can be derived from a comparable project in the State or from the judgment of experienced water pollution control engineers. See Sections 5.1 and 2.1.a in the Guidance for more information.
B7: 2. Enter information that will be used to calculate the municipal preliminary screener (MPS) value in the tab named" "2. MPS Inputs" (only cells marked with an asterisk (*) require input). The MPS is the average annualized pollution control cost per household within the affected community. The affected community is defined as those who will pay the compliance costs. Current costs of pollution controls must be considered along with the projected annual costs of the proposed pollution control project. The existing cost per household usually can be obtained from municipal records. If project costs were estimated for a prior year, these costs should be adjusted to reflect current year prices using the average annual national Consumer Price Index (CPI) inflation rate for the period available from the Bureau of Labor Statistics. See Section 5.1 in the Guidance for more information.
B8: 3. Evaluate the MPS in the tab named: "3. MPS." The MPS helps determine whether or not the community can clearly afford the pollution control project. The MPS is an estimate of the total annual pollution control costs per household (existing annual pollution control costs per household plus the incremental cost related to the proposed project) as a percentage of median household income. If the MPS is less than 1.0 percent, the project is unlikely to impose a substantial economic hardship on households; do not continue to the secondary analysis. If the MPS exceeds 2.0 percent, then the project may place an unreasonable financial burden on households within the community; continue with the secondary affordability test. If the MPS is between 1.0 and 2.0 percent, the project may or may not impose a substantial economic hardship on households, and performing the secondary test is optional. See Section 5.2.a in the Guidance for more information.
B9: 4. If the MPS indicates substantial impacts that would interfere with development may occur (i.e. it exceeds 1.0%), continue with the Secondary Test by entering socioeconomic data for the affected community in the tab named: "4. Secondary Test Inputs" (only cells marked with an asterisk (*) require input). Specifically, provide community indicators including: debt indicators (bond rating and overall net debt as a percent of full market value of taxable property), socioeconomic indicators (unemployment rate and median household income), and financial management indicators (property tax revenue as a percent of full market value of taxable property and property tax collection rate). Follow the instructions provided to obtain the necessary data, as well as data for alternative indicators as needed. The resulting Secondary Test Score is calculated on tab "5. Secondary Test Score." See Sections 5.2.b and 2.4 in the Guidance for more information.
B10: 5. Evaluate the combined outcome of the MPS and Secondary Test in the tab named: "6. Substantial Impacts Matrix." If the matrix suggests that substantial economic impacts that would interfere with the development are unlikely, then do not continue with the analysis. If the matrix indicates that impacts may or are likely to interfere with development, proceed with the final step of the analysis.
B11: 6. If the Substantial Impacts Matrix indicates that requirements would interfere with development, determine if the development would be economically and socially important in the tab named: "7. Determine Whether Important" (only cells marked with an asterisk (*) require input). The affected community is most often the immediate municipality. While there are no explicit criteria, the EPA recommends that changes in the socioeconomic indicators listed on the worksheet be considered. For each indicator listed, estimate the potential change that would result from the development. See Section 5.3 in the Guidance for more information.
B13: Explanation of Tabs
B14: Name | C14: Description | D14: Requires Input?
B15: Overview | C15: Overview of the steps involved in performing an economic impact analysis as part of an antidegradation review (Figure 5-1 in the Guidance). | D15: No
B16: 1. Project Description | C16: Numerical data and information needed to evaluate potential control project alternatives. (See Section 5.1 and Worksheet O in the Guidance.) | D16: Yes
B17: 2. MPS Inputs | C17: Numerical data needed to calculate the MPS, which helps to determine whether or not the community can clearly pay for the project without incurring any substantial impacts. (See Section 5.1.a in the Guidance.) | D17: Yes
B18: 3. MPS | C18: Calculates and evaluates the MPS. (See Section 5.2.a and Worksheet S in the Guidance.) | D18: No
B19: 4. Secondary Test Inputs | C19: Numerical data needed to calculate the secondary test score. (See Section 5.2.b and Worksheet T in the Guidance.) | D19: Yes
B20: 5. Secondary Test Score | C20: Calculates the secondary test score. (See Section 5.2.b and Worksheet U in the Guidance.) | D20: No
B21: 6. Substantial Impacts Matrix | C21: Determines whether substantial impacts that would interfere with development are likely using the MPS and secondary test score. | D21: No
B22: 7. Determine Whether Important | C22: Descriptions of estimated change in socioeconomic indicators due to pollution control costs. This information is used to describe how economic impacts would affect the community. (See Section 5.3 and Worksheet AA in the Guidance.) | D22: Yes
B23: Supplementary information
B24: Annualized Project Cost | C24: Calculation of total annualized project costs, based on inputs in other worksheets; provided for informational purposes. (See Section 5.1.a, Section 2.1.b, and Worksheet P in the Guidance.) | D24: No
B25: Per-Household Cost | C25: Calculation of total annual pollution control costs per household; provided for informational purposes. (See Section 5.1.b, Section 2.2, and Worksheet Q in the Guidance.) | D25: No
B26: Potential Data Sources | C26: Additional information on potential sources of data for tab "4. Secondary Test Inputs" (Worksheet T). | D26: No
B27: Example Data Sources | C27: Example data sources for "4. Secondary Test Inputs" (Worksheet T). | D27: No
B28: Changelog | C28: Describes bug fixes and other modifications that have been made since the original spreadsheet was posted to the EPA web site. | D28: No
B30: Comparison to Worksheets in the Guidance
B31: These worksheets provide suggested information and methods to conduct an analysis of potential interference with an important economic and social development when public sector entities must maintain high-quality waters. The worksheets are not exhaustive of all appropriate economic analyses. Alternative or additional information and tests may be necessary or desirable in certain circumstances. The principles and methods used in this spreadsheet are the same principles and methods used in the Guidance. Although the EPA attempted to maintain the same general structure as the Guidance, some organizational and format modifications were adopted to increase clarity and functionality. Whenever possible, see the appropriate pages in the Guidance for assistance on specific topics or calculations. The EPA intends for this spreadsheet to be used in conjunction with the complete Guidance and not as a substitute.
B33: Notes: 1 The Guidance is available at:
B34: http://water.epa.gov/scitech/swguidance/standards/upload/2007_06_18_standards_econworkbook_complete.pdf
B35: 2 The use of the term "important" communicates a general sense of the level of economic and social development. The EPA intends for this provision to permit degradation of high-quality water bodies in only a few extraordinary cases where the benefits of the economic or social development unquestionably outweigh the costs of lowering water quality.

Sheet Overview
B1: Antidegradation Review (Figure 5-1 from the Guidance)
B2: Description: This flowchart is an overview of the steps involved in performing an economic impact analysis as part of an antidegradation review. No input is required.

Sheet 1. Project Description
B1: Pollution Control Project Summary Information (Worksheet O in the Guidance)
B2: Description: This worksheet identifies and documents the pollution control project(s) needed to meet water quality standards. See the Guidance documentation below for more information.
B3: Instructions: Enter information in the cells marked with an asterisk (*) about the most cost-effective approach to meet water quality standards. The most accurate estimate of project costs may be available from the discharger's design engineers. If site-specific engineering cost estimates are not available, preliminary project cost estimates may be derived from a comparable project in the State or from the judgment of experienced water pollution control engineers.
B4: Discharge management options to consider include: • Pollution prevention • End-of-pipe treatment • Upgrades or additions to existing treatment.
B5: Specific types of pollution prevention activities to consider are: • Public education • Change in raw materials • Substitution of process chemicals • Change in process • Water recycling and reuse • Pretreatment requirements.
B6: Whatever the approach, the information should demonstrate that the proposed project is the most appropriate means of meeting water quality standards and fully document project cost estimates. If at least one of the options allows for the maintenance of high-quality water without interfering with development, then do not proceed with the analysis.
B8: Design Capacity of the Pollution Control System (MGD) | F8: *
B9: Expected Excess Capacity after Completion of Project (%) | F9: *
B10: Projected Groundbreaking Date (MM/DD/YYYY) | F10: *
B11: Projected Date of Completion (MM/DD/YYYY) | F11: *
B12: Describe the proposed pollution control project. Include descriptions of all pollution prevention activities included in the project.
F13: *
B25: Describe the other pollution control options considered, including pollution prevention activities. Explain why each option was rejected.
F26: *
B39: Guidance Documentation
B40: Component | C40: Section | D40: Page
B41: Verify Project Costs | C41: 5.1 | D41: 5-2
B42: Documentation of Other Options Considered | C42: 2.1.a | D42: 2-3

Sheet 2. MPS Inputs
B1: Data Needed to Calculate the MPS (Worksheets P and Q in the Guidance)
B2: Description: This worksheet contains the information needed to calculate the municipal preliminary screener (MPS). The MPS is the average annualized pollution control cost per household in the affected community. The MPS helps to determine whether or not the community can clearly pay for the project without incurring any substantial impacts. Instructions: Enter the requested information into the cells marked with an asterisk (*). The affected community is the governmental jurisdiction or jurisdictions responsible for paying compliance costs. Current costs of pollution controls can also be considered in addition to the projected annual costs of the proposed pollution control project. The existing cost per household usually can be obtained from municipal records. If project costs are estimated for a prior year, these costs should be adjusted to reflect current year prices using the average annual national Consumer Price Index (CPI) inflation rate for the period available from the Bureau of Labor Statistics. See the Guidance documentation below for additional information.
B4: Capital Cost
B5: Capital Cost of Project ($) | K5: *
B6: Other One-Time Costs of Project (list below, if any):
B7: Description of Cost Element | F7: Cost ($)
E8: * | K8: *
E9: * | K9: *
E10: * | K10: *
B12: Capital Costs to be Paid by Grants ($) | K12: *
B13: Type of Financing (e.g., G.O. bond, revenue bond, bank loan) | K13: *
B14: Interest Rate for Financing (%) | K14: *
B15: Time Period of Financing (years) | K15: *
B17: Annual costs of operation and maintenance (including but not limited to: monitoring, inspection, permitting fees, waste disposal charges, repair, administration and replacement). (List below)
B18: Description of Cost Element | F18: Cost ($)
E19: * | K19: *
E20: * | K20: *
E21: * | K21: *
E22: * | K22: *
E23: * | K23: *
B25: Total Annual Cost of Existing Pollution Control ($) | K25: *
B26: Amount of Existing Costs Paid by Households ($) | K26: *
B27: Number of Households (do not use number of hook-ups) | K27: *
B29: Will households provide revenues for the new pollution control project in the same proportion that they support existing pollution control? (Check a, b or c, below.)
B30: a) Yes | I30: TRUE | K30: *
B31: b) No, they will pay a different percentage. Enter to right. | I31: FALSE | K31: *
B32: c) No, they will pay based on flow. Answer three questions to right. (Corresponds to Worksheet Q, Option A.) | C32: 1. Total Usage of Project (e.g., MGD for wastewater treatment) | I32: FALSE | K32: *
C33: 2. Usage Due to Household Use (MGD of household wastewater) | K33: *
C34: 3. Industrial Surcharges, if any ($ total per year) | K34: *
B36: Median Household Income (from Census) | K36: *
B37: Current Consumer Price Index (CPI) | K37: *
B38: Consumer Price Index (CPI) for the year of the Census | K38: *
B39: Adjustment Factor [current CPI / CPI for the year of the Census] | F39: =IF(F38="",0,F37/F38) -> 0
B40: Adjusted Median Household Income [Median Household Income x Adjustment Factor] | F40: =F36*F39 -> 0
B42: Guidance Documentation
B43: Component | C43: Section | D43: Page
B44: Antidegradation: Role of Economic Analysis | C44: 5 | D44: 5-1
B45: Capital Cost | C45: 5.1; 5.1.a | D45: 5-2; 5-3
B46: Annual Cost of Pollution Control Project | C46: 5.1.a; 2.1.b | D46: 5-3; 2-4
B47: Financing | C47: 5.1.a | D47: 5-3
...

Sheet 3. MPS
B1: Municipal Preliminary Screener (Worksheet D in the Guidance)
B2: Description: This worksheet calculates and displays the Municipal Preliminary Screener (MPS), which is the total annual pollution control costs per household (existing annual cost per household plus the incremental cost related to the proposed project) as a percentage of median household income.
B3: Total Annual Pollution Control Cost per Household / Adjusted Median Household Income × 100
B4: The MPS indicates if a public entity would clearly not incur substantial economic impacts as a result of the proposed pollution control project. Instructions: Evaluate the MPS by noting which cell is highlighted in orange and marked with an asterisk (*). If the MPS is less than 1.0 percent of median household income, EPA does not expect the pollution control project to impose a substantial economic impact on the community; do not continue to the secondary affordability test. If the MPS is greater than 2.0 percent of median household income, then the pollution control project may interfere with development; continue to the secondary affordability test. If the MPS is between 1.0 and 2.0 percent of median household income, the community may incur a mid-range economic impact; continuing to the secondary affordability test is optional. See the Guidance documentation below for additional information.
B6: A. Calculation of the MPS
B7: Total Annual Pollution Control Cost per Household [Worksheet Q, (11) or Worksheet Q: Option A, (10)] | J7: =IF('2. MPS Inputs'!I32=TRUE,'Per-Household Costs'!D38,'Per-Household Costs'!D23) -> 0 | K7: (1)
B8: Adjusted Median Household Income | J8: ='2. MPS Inputs'!F40 -> 0 | K8: (2)
B9: MPS [[(1) / (2)] × 100] | J9: =IF(J8=0,0,J7/J8) -> 0 | K9: (3)
B11: B. Evaluation of the MPS
B12: Note column of cell marked with an asterisk (*) below:
B13: This is a blank cell used for formatting purposes. | D13: Little Impact | F13: Mid-Range Impact | H13: Large Impact | J13: This is a blank cell used for formatting purposes.
D14: Less than 1.0% | E14: * | F14: 1.0% - 2.0% | G14: * | H14: Greater than 2.0% | I14: *
D16: Indication of no substantial economic impacts | F16: --------------------------------------------------------------->
F17: Proceed to Secondary Test
B20: Guidance Documentation
B21: Component | F21: Section | H21: Page
B22: MPS | F22: 5.2.a | H22: 5-5
B23: Annual Pollution Control Cost per Household | F23: 5.1.b | H23: 5-3
B24: Median Household Income | F24: 5.2.a | H24: 5-5
B25: Interpreting Municipal Preliminary Screener | F25: 5.2.a | H25: 5-5
B26: Determining Need for Secondary Test | F26: 5.2.a | H26: 5-5

Sheet 4. Secondary Test Inputs
B1: Data Needed to Calculate the Secondary Test Score (Worksheet T in the Guidance)
B2: Description: This worksheet contains the numerical data necessary to calculate the secondary test score. The secondary test score characterizes the community's current financial and socioeconomic condition. See the Guidance documentation below for additional information. Instructions: If the MPS indicates that substantial impacts interfering with development may occur (i.e. it exceeds 1.0%), proceed with the secondary test by entering socioeconomic data for the affected community in the cells marked with an asterisk (*). Additional information on potential sources of data are provided in the tab named: "Potential Data Sources," and example data sources are provided in the tab named: "Example Data Sources." If one or more of the six indicators is not developed, provide an explanation as to why the indicator is not appropriate or not available.
B4: A. Socioeconomic Data
B5: Data | C5: Potential Source | D5: Value
B6: Direct Net Debt ($) | C6: Community Financial Statements Town, County or State Assessor's Office | E6: * | F6: (1)
B7: Overlapping Debt ($) | C7: Community Financial Statements Town, County or State Assessor's Office | E7: * | F7: (2)
B8: Market Value of Taxable Property ($) | C8: Community Financial Statements Town, County or State Assessor's Office | E8: * | F8: (3)
B9: Bond Rating (for uninsured bonds) | C9: Standard and Poor's or Moody's | E9: * | F9: (4)
B10: Community Unemployment Rate (%) | C10: Census of Population Regional Data Centers | E10: * | F10: (5)
B11: National Unemployment Rate (%) | C11: Bureau of Labor Statistics | E11: * | F11: (6)
B12: Community Median Household Income (not adjusted for inflation) | C12: Census of Population | D12: ='2. MPS Inputs'!F36 -> 0 | F12: (7)
B13: State Median Household Income (for same time period as Community MHI) ($) | C13: Census of Population | E13: * | F13: (8)
B14: Property Tax Collection Rate (%) | C14: Community Financial Statements Town, County or State Assessor's Office | E14: * | F14: (9)
B15: Property Tax Revenues ($) | C15: Community Financial Statements Town, County or State Assessor's Office | E15: * | F15: (10)
B16: If any cell above is left blank, explain why the indicator is not appropriate or not available:
J17: *
B18: Some states have statutory limits on property tax collections and/or rates, or data on full-market value of taxable property are not available. If this is the case, select "yes" below and provide the number of people residing in the affected community. Are there statutory limits on property tax collections and/or rates in the state, or are data on the full-market value of taxable property not available?
B19: a) No | H19: TRUE | J19: *
B20: b) Yes (enter the number of residents in the affected community below) | H20: FALSE | J20: *
B21: Population (#) | C21: Census of Population | D21: 399999 | E21: * | F21: (Pop.)
B23: B. Calculated Indicators (for informational purposes only)
B24: 1. Overall Net Debt as a Percent of Full Market Value of Taxable Property
B25: Overall Net Debt [(1) + (2)] | D25: =D6+D7 -> 0 | F25: (11)
B26: Overall Net Debt as a Percent of Full Market Value of Taxable Property [[(11)/(3)] × 100] | D26: =IF(D8=0,0,D25/D8) -> 0 | F26: (12)
B27: 1a. Overall Net Debt Per Capita (Alternative Indicator)
B28: Overall Net Debt Per Capita [[(11) / (Pop.)] × 100] | D28: =IF(D21="", "N/A",IF(D21=0,0,((D6+D7)/D21))) -> 0 | F28: (12 Alt.)
B29: 2. Property Tax Revenues as a Percent of Full Market Value of Taxable Property
B30: Property Tax Revenues as a Percent of Full Market Value of Taxable Property [[(10)/(3)] × 100] | D30: =IF(D8=0,0,D15/D8) -> 0 | F30: (13)
B32: Guidance Documentation
B33: Component | C33: Section | D33: Page
B34: Secondary Test (overview) | C34: 5.2.b | D34: 5-5
B35: Net and Overlapping Debt | C35: 5.2.b; 2.4 | D35: 5-6; 2-8
B36: Bond Rating | C36: 5.2.b; 2.4 | D36: 5-6; 2-8
B37: Unemployment Rate | C37: 5.2.b; 2.4 | D37: 5-6; 2-9
B38: Median Household Income | C38: 5.2.b; 2.4 | D38: 5-6; 2-10
B39: Property Tax | C39: 5.2.b; 2.4 | D39: 5-6; 2-10
B40: Alternative Indicators | C40: 5.2.b; 2.4 | D40: 5-7; 2-11
B41: Use of Secondary Test | C41: 5.2.b; 2.4 | D41: 5-7; 2-11

Sheet 5. Secondary Test Score
B1: Calculation of the Secondary Test Score (Worksheet U in the Guidance)
B2: Description: This worksheet calculates the secondary test score, which characterizes the affected community's current financial and socioeconomic condition. The secondary test score is used in combination with the MPS to evaluate whether or not substantial economic impacts are likely to occur. See the Guidance documentation below for additional information. Instructions: Verify that the appropriate cells are selected in each row and in the "Score" column to be summed below (highlighted in orange and marked with an asterisk (*)).
B4: Indicator | C4: Secondary Indicators | I4: Score
C5: Weak a | E5: Mid-Range b | G5: Strong c | K5: Bond Rating List (for tab 4 cell D9) | L5: Bond Rating Conversion Table (for cell G5)
B6: Bond Rating Worksheet T, (4) | C6: Below BBB (S&P) Below Baa (Moody's) | D6: * | E6: BBB (S&P) Baa (Moody's) | F6: * | G6: Above BBB (S&P) Above Baa (Moody's) | H6: * | I6: =IF(ISERROR(MATCH('4. Secondary Test Inputs'!D9,'5. Secondary Test Score'!L7:L32,0))=FALSE,1,IF(ISERROR(MATCH('4. Secondary Test Inputs'!D9,'5. Secondary Test Score'!M7:M10,0))=FALSE,2,IF(ISERROR(MATCH('4. Secondary Test Inputs'!D9,'5. Secondary Test Score'!N7:N23,0))=FALSE,3,"N/A"))) -> N/A | J6: * | K6: AAA | L6: 1 | M6: 2 | N6: 3
B7: Overall Net Debt as Percent of Full Market Value of Taxable Property Worksheet T, (12) | C7: Above 5% | D7: * | E7: 2% - 5% | F7: * | G7: Below 2% | H7: * | I7: =IF('4. Secondary Test Inputs'!H20=TRUE,"N/A",IF(OR('4. Secondary Test Inputs'!D8="",AND('4. Secondary Test Inputs'!D6="",'4. Secondary Test Inputs'!D7="")),"N/A",IF('4. Secondary Test Inputs'!D26>0.05,1,IF(AND('4. Secondary Test Inputs'!D26<=0.05,'4. Secondary Test Inputs'!D26>=0.02),2,IF('4. Secondary Test Inputs'!D26<0.02,3,"N/A"))))) -> N/A | J7: * | K7: Aaa | L7: Baa3 | M7: Baa2 | N7: Aaa
B8: Overall Net Debt Per Capita1 Worksheet T, (12 Alt.) | C8: Greater than $3,000 | D8: * | E8: $1,000 - $3,000 | F8: * | G8: Less than $1,000 | H8: * | I8: =IF(OR('4. Secondary Test Inputs'!H19=TRUE, '4. Secondary Test Inputs'!D28="N/A"), "N/A", IF('4. Secondary Test Inputs'!D28<1000, 3, IF('4. Secondary Test Inputs'!D28<3000, 2, 1))) -> N/A | J8: *
B9: Unemployment2 Worksheet T, (5) & (6) | C9: Above National Average | D9: * | E9: National Average | F9: * | G9: Below National Average | H9: * | I9: =IF(OR('4. Secondary Test Inputs'!D10="",'4. Secondary Test Inputs'!D11=""),"N/A",IF('4. Secondary Test Inputs'!D10-'4. Secondary Test Inputs'!D11>0.01,1,IF(AND('4. Secondary Test Inputs'!D10-'4. Secondary Test Inputs'!D11<=0.01,'4. Secondary Test Inputs'!D11-'4. Secondary Test Inputs'!D10<=0.01),2,IF('4. Secondary Test Inputs'!D11-'4. Secondary Test Inputs'!D10>0.01,3,"N/A")))) -> N/A | J9: * | K9: AA+ | L9: Ba1 | M9: BBB | N9: Aa1
B10: Median Household Income3 Worksheet T, (7) & (8) | C10: Below State Median | D10: * | E10: State Median | F10: * | G10: Above State Median | H10: * | I10: =IF(OR('4. Secondary Test Inputs'!D12="",'4. Secondary Test Inputs'!D13=""),"N/A",IF('4. Secondary Test Inputs'!D13-'4. Secondary Test Inputs'!D12>0.1*'4. Secondary Test Inputs'!D13,1,IF(AND('4. Secondary Test Inputs'!D13-'4. Secondary Test Inputs'!D12<=0.1*'4. Secondary Test Inputs'!D13,'4. Secondary Test Inputs'!D12-'4. Secondary Test Inputs'!D13<=0.1*'4. Secondary Test Inputs'!D13),2,IF('4. Secondary Test Inputs'!D12-'4. Secondary Test Inputs'!D13>0.1*'4. Secondary Test Inputs'!D13,3,"N/A")))) -> N/A | J10: * | K10: Aa1 | L10: Ba2 | M10: Baa | N10: Aa2
B11: Property Tax Revenues as a Percent of Full Market Value of Taxable Property4 Worksheet T, (13) | C11: Above 4% | D11: * | E11: 2% - 4% | F11: * | G11: Below 2% | H11: * | I11: =IF('4. Secondary Test Inputs'!H20=TRUE, "N/A", IF(OR('4. Secondary Test Inputs'!D15="",'4. Secondary Test Inputs'!D8=""),"N/A",IF('4. Secondary Test Inputs'!D30>0.04,1,IF(AND('4. Secondary Test Inputs'!D30<=0.04,'4. Secondary Test Inputs'!D30>=0.02),2,IF('4. Secondary Test Inputs'!D30<0.02,3,"N/A"))))) -> N/A | J11: * | K11: AA | L11: Ba3 | N11: Aa3
B12: Property Tax Collection Rate4 Worksheet T, (9) | C12: < 94% | D12: * | E12: 94% - 98% | F12: * | G12: > 98% | H12: * | I12: =IF('4. Secondary Test Inputs'!D14="","N/A",IF('4. Secondary Test Inputs'!D14<0.94,1,IF(AND('4. Secondary Test Inputs'!D14>=0.94,'4. Secondary Test Inputs'!D14<=0.98),2,IF('4. Secondary Test Inputs'!D14>0.98,3,"N/A")))) -> N/A | J12: * | K12: Aa2 | L12: B1 | N12: A1
B13: Average of Financial Management Indicators4 Worksheet T, (13) and (9) | I13: =IFERROR((IF(AND(OR(I6="N/A", AND(I7="N/A", I8="N/A"), I9="N/A", I10="N/A"), I11<>"N/A", I12<>"N/A"), AVERAGE(I11:I12), "N/A")), "N/A") -> N/A | J13: * | K13: Aa | L13: B2 | N13: A2
B14: This is a blank cell used for formatting purposes. | K14: Aa3 | L14: Caa1 | N14: Baa1
C15: a. Weak is a score of 1 point | G15: SUM | I15: =IF(I13="N/A",SUM(I6:I13),SUM(I6:I10,I13)) -> 0 | K15: A+ | L15: Caa2 | N15: AAA
C16: b. Mid-Range is a score of 2 points | K16: A1 | L16: Caa3 | N16: AA+
C17: c. Strong is a score of 3 points | G17: AVERAGE | I17: =IF(I15=0,0, IF(I13="N/A",(AVERAGE(I6:I13)),AVERAGE(I6:I10,I13))) -> 0 | K17: A | L17: Ca | N17: AA
B18: Notes: 1 If the state has statutory limits on property tax collections and/or rates or data on full-market value of taxable property are not available, "Overall Net Debt as Percent of Full Market Value of Taxable Property" is replaced with "Overall Net Debt Per Capita" and "Property Tax Revenues as a Percent of Full-Market Value of Taxable Property" is dropped. 2 If the community's employment rate is equal to the national average unemployment rate, plus or minus 1%, then the community's unemployment rate is assessed as being equal to the national rate. 3 If the community's median household income is equal to the state median, plus or minus 10%, then the community's median household income is assessed as being equal to the state's median household income. 4 If one of the debt or socioeconomic indicators is not available, the two financial management indicators are averaged and this averaged value is used as a single indicator with the remaining indicators. | K18: A2 | L18: C | N18: AA-
K19: A- | L19: BBB- | N19: A+
B20: Guidance Documentation | K20: A3 | L20: BB+ | N20: A
B21: Component | C21: Section | E21: Page | K21: BBB+ | L21: BB | N21: A-
B22: Calculating Secondary Test Score | C22: 5.2.b; 2.4 | E22: 5-6; 2-11 | K22: Baa1 | L22: BB- | N22: BBB+
B23: Interpreting Secondary Test Score | C23: 5.2.b; 2.4 | E23: 5-6; 2-11 | K23: BBB | L23: B+ | N23: Aa
B24: Missing Indicators | C24: 5.2.b; 2.4 | E24: 5-7; 2-12 | K24: Baa2 | L24: B
B25: Determining Interference with Development | C25: 5.2.d | E25: 5-7 | K25: Baa | L25: B-
K26: BBB- | L26: CCC+
K27: Baa3 | L27: CCC
K28: BB+ | L28: CCC-
K29: Ba1 | L29: CC
K30: BB | L30: D
K31: Ba2 | L31: Ba
K32: Ba | L32: Caa
K33: BB-
K34: Ba3
K35: B+
K36: B1
K37: B
K38: B2
K39: B-
K40: B3
K41: CCC+
...

Sheet 6. Substantial Impacts Matrix
B1: Conclusion for Community
B2: Description: This matrix evaluates the likelihood that maintaining high quality waters would cause substantial economic impacts that would interfere with development. See the Guidance documentation below for additional information. Instructions: Evaluate the combined results of the MPS and the secondary test by noting which cell in the Substantial Impacts Matrix below is highlighted in orange and marked with an asterisk (*). If the matrix indicates the pollution control project is not likely to impose a substantial economic impact on the community, then do not proceed with the analysis. If the matrix indicates the pollution control project is likely to impose a substantial economic impact that would interfere with development, continue to determine whether the development would be important. If the matrix indicates the pollution control project may or may not impose a substantial economic impact that would interfere with development, then continuing the analysis is optional.
B4: Assessment of Substantial Impacts Matrix (Table 5-2 from the Guidance)
B5: This is a blank cell used for formatting purposes.
B6: MPS (%): | F6: ='3. MPS'!J9 -> 0 | H6: This is a blank cell used for formatting purposes.
B7: Secondary Test Score: | F7: ='5. Secondary Test Score'!I17 -> 0 | H7: This is a blank cell used for formatting purposes.
B8: This is a blank cell used for formatting purposes.
B9: Secondary Test Score | D9: Municipal Preliminary Screener
D10: Less than 1.0 Percent | F10: Between 1.0 and 2.0 Percent | H10: Greater than 2.0 Percent
B11: Less than 1.5 | D11: ? | E11: * | F11: X | G11: * | H11: X | I11: *
B12: Between 1.5 and 2.5 | D12: ü | E12: * | F12: ? | G12: * | H12: X | I12: *
B13: Greater than 2.5 | D13: ü | E13: * | F13: ü | G13: * | H13: ? | I13: *
B15: Key:
B16: ü | C16: : Impact is not likely to be substantial
B17: X | C17: : Impact is likely to be substantial
B18: ? | C18: : Impact is unclear
B20: Guidance Documentation
B21: Component | D21: Section | F21: Page
B22: Using Substantial Impacts Matrix | D22: 5.2.d | F22: 5-7
B23: Determining Interference with Development | D23: 5.2.d | F23: 5-7

Sheet 7. Determine Whether Important
B1: Qualitative Description of Estimated Change in Socioeconomic Indicators Due to Pollution Control Costs (Worksheet AA in the Guidance)
B2: Description: This worksheet indicates whether the development is important. The use of the term "important" communicates a general sense of the level of economic and social development. The EPA intends for this provision to permit degradation of high-quality water bodies in only a few extraordinary cases where the benefits of the economic or social development unquestionably outweigh the cost of lowering water quality. Instructions: Enter information in the cells marked with an asterisk (*) to determine if the requirements would interfere with an important social and economic development. The affected community is most often the immediate municipality. While there are no explicit criteria, the EPA recommends that changes in the socioeconomic indicators listed on the worksheet be considered. For each indicator listed, estimate the potential change that would result from the development.
B4: Estimated change in Median Household Income (MHI) | E4: *
B5: Estimated change in the unemployment rate | E5: *
B6: Estimated change in overall net debt as a percent of full market value of taxable property | E6: *
B7: Estimated change in % of households below the poverty line | E7: *
B8: Impact on commercial development potential | E8: *
B9: Impact on property values | E9: *
B11: Guidance Documentation
B12: Component | C12: Section | D12: Page
B13: Determining Whether Development is Important | C13: 5.3 | D13: 5-11
B14: Defining Relevant Geographic Area | C14: 5.3.a | D14: 5-11
B15: Criteria for Determining Development Importance | C15: 5.3.b | D15: 5-11

Sheet Annualized Project Costs
B1: Calculation of Total Annualized Project Costs (Worksheet P in the Guidance)
B2: Description: This worksheet displays the total annualized project costs. This worksheet is for informational purposes only. No input is required.
B4: A. Capital Costs
B5: Capital Cost of Project | C5: ='2. MPS Inputs'!F5 -> 0
B6: Other One-Time Costs of Project (list, if any):
B7: =IF('2. MPS Inputs'!B8="","",'2. MPS Inputs'!B8) | C7: ='2. MPS Inputs'!F8 -> 0
B8: =IF('2. MPS Inputs'!B9="","",'2. MPS Inputs'!B9) | C8: ='2. MPS Inputs'!F9 -> 0
B9: =IF('2. MPS Inputs'!B10="","",'2. MPS Inputs'!B10) | C9: ='2. MPS Inputs'!F10 -> 0
B10: Total Capital Costs (sum column) | C10: =SUM(C5,C7:C9) -> 0 | E10: (1)
B11: Portion of Capital Costs to be Paid with Grant Monies | C11: ='2. MPS Inputs'!F12 -> 0 | E11: (2)
B12: Capital Costs to be Financed [(1) - (2)] | C12: =C10-C11 -> 0 | E12: (3)
B13: Type of Financing (e.g., G.O. bond, revenue bond, bank loan) | C13: =IF('2. MPS Inputs'!F13="","",'2. MPS Inputs'!F13)
B14: Interest Rate for Financing | C14: ='2. MPS Inputs'!F14 -> 0 | E14: (i)
B15: Time Period of Financing (in years) | C15: ='2. MPS Inputs'!F15 -> 0 | E15: (n)
B16: Annualization Factor = i/((1+i)n - 1) + i | C16: =IF(C15=0,1,IF(C14=0,1/C15,C14/((1+C14)^C15-1)+C14)) -> 1 | E16: (4)
B17: Annualized Capital Cost [(3) × (4)] | C17: =C12*C16 -> 0 | E17: (5)
B19: B. Operating and Maintenance Costs
B20: Annual Costs of Operation and Maintenance (including but not limited to: monitoring, inspection, permitting fees, waste disposal charges, repair, administration and replacement; list below).
B21: =IF('2. MPS Inputs'!B19="","",'2. MPS Inputs'!B19) | C21: ='2. MPS Inputs'!F19 -> 0
B22: =IF('2. MPS Inputs'!B20="","",'2. MPS Inputs'!B20) | C22: ='2. MPS Inputs'!F20 -> 0
B23: =IF('2. MPS Inputs'!B21="","",'2. MPS Inputs'!B21) | C23: ='2. MPS Inputs'!F21 -> 0
B24: =IF('2. MPS Inputs'!B22="","",'2. MPS Inputs'!B22) | C24: ='2. MPS Inputs'!F22 -> 0
B25: =IF('2. MPS Inputs'!B23="","",'2. MPS Inputs'!B23) | C25: ='2. MPS Inputs'!F23 -> 0
B26: Total Annual O & M Costs (sum column) | C26: =SUM(C21:C25) -> 0 | E26: (6)
B28: C. Total Annual Cost of Pollution Control Project
B29: Total Annual Cost of Pollution Control Project [(5) + (6)] | C29: =C17+C26 -> 0 | E29: (7)
B31: Guidance Documentation
B32: Component | C32: Section | D32: Page
B33: Capital Cost | C33: 5.1; 5.1.a | D33: 5-2; 5-3
B34: Total Annual Cost of Pollution Control (overview) | C34: 5.1.a | D34: 5-3
B35: Financing | C35: 5.1.a | D35: 5-3
B36: Interest Rate for Financing | C36: 5.1.a | D36: 5-3
B37: Operating and Maintenance Costs | C37: 5.1.a | D37: 5-3

Sheet Per-Household Costs
B1: Calculation of Total Annual Pollution Control Costs Per Household (Worksheet Q)
B2: Description: This worksheet displays the total annual pollution control costs per household. This worksheet is for informational purposes only. No input is required. If the option in the tab named "2. MPS Inputs" indicates that households will provide revenues for the pollution control project in the same or different proportion that they support existing pollution control (choice a or b), then the spreadsheet uses Worksheet Q parts A, B, and C. However, if households pay based on flow (choice c), then the spreadsheet uses Worksheet Q part A and Worksheet Q: Option A.
B4: A. Current Pollution Control Costs
B5: Total Annual Cost of Existing Pollution Control | D5: ='2. MPS Inputs'!F25 -> 0 | F5: (1)
B6: Amount of Existing Costs Paid by Households | D6: ='2. MPS Inputs'!F26 -> 0 | F6: (2)
B7: Percent of Existing Costs Paid by Households | D7: =IF(D5=0,0,D6/D5) -> 0 | F7: (3)
B8: Number of Households * | D8: ='2. MPS Inputs'!F27 -> 0 | F8: (4)
B9: Annual Cost Per Household [(2)/(4)] | D9: =IF(D8=0,0,D6/D8) -> 0 | F9: (5)
B10: * Do not use number of hook-ups.
B12: B. New Pollution Control Costs
B13: Will households provide revenues for the new pollution control project in the same proportion that they support existing pollution control?
B14: =IF('2. MPS Inputs'!I30=TRUE,"X","") -> X | C14: a) Yes [fill in percent from (3)] | D14: =D7 -> 0 | F14: (6a)
B15: =IF('2. MPS Inputs'!I31=TRUE,"X","") | C15: b) No, they will pay | D15: ='2. MPS Inputs'!F31 -> 0 | F15: (6b)
B16: =IF('2. MPS Inputs'!I32=TRUE,"X","") | C16: c) No, they will pay based on flow. (Continue on Calculation of Total Annual Pollution Control Costs Per Household Based on Flow.)
B17: Total Annual Cost of Pollution Control Project [Line (7), Worksheet P] | D17: ='Annualized Project Costs'!C29 -> 0 | F17: (7)
B18: Proportion of Costs Households will Pay [(6a) or (6b)] | D18: =IF('2. MPS Inputs'!I31=TRUE,D15,D14) -> 0 | F18: (8)
B19: Amount to be Paid by Households [(7) × (8)] | D19: =D17*D18 -> 0 | F19: (9)
B20: Annual Cost per Household [(9)/(4)] | D20: =IF(D8=0,0,D19/D8) -> 0 | F20: (10)
B22: C. Total Annual Pollution Control Cost per Household
B23: Total Annual Cost of Pollution Control Project per Household [(5) + (10)] | D23: =D9+D20 -> 0 | F23: (11)
B25: Calculation of Total Annual Pollution Control Costs Per Household Based on Flow (Worksheet Q: Option A)
B26: A. Calculating Project Costs Incurred by Households Based on Flow
B27: Total Usage of Project (e.g., MGD for wastewater treatment) | D27: ='2. MPS Inputs'!F32 -> 0 | F27: (1)
B28: Usage Due to Household Use (MGD of household wastewater) | D28: ='2. MPS Inputs'!F33 -> 0 | F28: (2)
B29: Percent of Usage Due to Household Use [(2)/(1)] | D29: =IF(D27=0,0,D28/D27) -> 0 | F29: (3)
B30: Total Annual Cost of Pollution Control Project | D30: ='Annualized Project Costs'!C29 -> 0 | F30: (4)
B31: Industrial Surcharges, if any | D31: ='2. MPS Inputs'!F34 -> 0 | F31: (5)
B32: Costs to be Allocated [(4) - (5)] | D32: =D30-D31 -> 0 | F32: (6)
B33: Amount to be Paid by Households [(3) × (6)] | D33: =D29*D32 -> 0 | F33: (7)
B34: Annual Project Cost per Household [(7) / Worksheet Q, (4)] | D34: =IF('Per-Household Costs'!D8=0,0,D33/'Per-Household Costs'!D8) -> 0 | F34: (8)
B36: C. Total Annual Pollution Control Cost per Household
B37: Annual Existing Costs per Household [Worksheet Q, (5)] | D37: ='Per-Household Costs'!D9 -> 0 | F37: (9)
B38: Total Annual Cost of Pollution Control per Household [(8) + (9)] | D38: =D34+D37 -> 0 | F38: (10)
B40: Guidance Documentation
B41: Component | D41: Section | E41: Page
B42: Total Annual Cost of Pollution Control | D42: 5.1.a | E42: 5-3
B43: Pollution Control Costs per Household | D43: 5.1.b | E43: 5-3
B44: Defining Affected Community | D44: 5.1.b | E44: 5-3
B45: Adjusting Previously Calculated Costs | D45: 5.1.b | E45: 5-3
B46: Approaches to Calculating Current Costs | D46: 5.1.b | E46: 5-4

Sheet Potential Data Sources
B1: Potential Data Sources for Secondary Test Inputs
B2: Description: This worksheet provides potential sources for the socioeconomic data required to perform the calculations in this spreadsheet. This worksheet is for informational purposes only. No input is required.
B4: Indicator | C4: Potential Data Source
B5: Direct Net Debt | C5: Community Financial Statements
B6: Overlapping Debt | C6: Community Financial Statements
B7: Market Value of Property | C7: Community Financial Statements. If community-specific information cannot be found, median property values by state can be found through American Community Survey Reports:
C8: http://www.census.gov/prod/2009pubs/acsbr08-6.pdf
C9: Combine data with the number of properties in the community.
B10: Bond Rating | C10: Standard and Poor's or Moody's
B11: Community Unemployment Rate | C11: U.S. Department of Labor, Bureau of Labor Statistics: Local Area Unemployment Statistics:
C12: http://www.bls.gov/lau/#tables
B13: National Unemployment Rate | C13: U.S. Department of Labor, Bureau of Labor Statistics: Labor Force Statistics from the Current Population Survey:
C14: http://data.bls.gov/timeseries/LNS14000000
B15: Community Median Household Income | C15: U.S. Census Bureau: State & County QuickFacts (select state, then county or city within state):
C16: http://quickfacts.census.gov/qfd/index.html
B17: State Median Household Income | C17: U.S. Census Bureau: State Median Income:
C18: http://www.census.gov/hhes/www/income/data/statemedian/
B19: Property Tax Collection Rate | C19: Community Financial Statements. If community-specific information cannot be found, statewide data can be found at the U.S. Census Bureau's Quarterly Summary of State & Local Taxes:
C20: http://www.census.gov/govs/qtax/
B21: Property Tax Revenues | C21: Community Financial Statements. If community-specific information cannot be found, statewide data can be found at the U.S. Census Bureau's Quarterly Summary of State & Local Taxes:
C22: http://www.census.gov/govs/qtax/
C23: Scale according to size of community relative to state.

Sheet Example Data Sources
B1: Example Data Sources for Secondary Test Inputs
B2: Description: This worksheet provides two examples of where socioeconomic data required to perform the calculations in this spreadsheet may be obtained for two communities. This worksheet is for informational purposes only. No input is required.
B4: Indicator | C4: Example Data Sources for Fairfax County, Virginia | D4: Example Data Sources for Brookings County, South Dakota
B5: Direct Net Debt | C5: Fairfax County's 2011 Comprehensive Annual Financial Report (CAFR) is available from the county's Finance website: | D5: The Community Financial Statement is not available online; however the financial statements were audited in 2010 for the year ending in December 2009, and the audit report is available online:
C6: http://www.fairfaxcounty.gov/finance/cafr.htm | D6: http://legislativeaudit.sd.gov/Reports/County/Brookings%20County%202009.pdf
C7: It provides detailed financial information for the county's primary government, including debt (page 20). | D7: As such, the 2009 financial data, including debt, from 2009 can be used.
B8: Overlapping Debt | C8: Fairfax County's 2011 Comprehensive Annual Financial Report (CAFR) is available from the county's Finance website: | D8: The Community Financial Statement is not available online; however the financial statements were audited in 2010 for the year ending in December 2009, and the audit report is available online:
C9: http://www.fairfaxcounty.gov/finance/cafr.htm | D9: http://legislativeaudit.sd.gov/Reports/County/Brookings%20County%202009.pdf
C10: It provides detailed financial information for "component units" such as public schools, park authorities, and others which may be counted as overlapping entities (page 21). | D10: This includes financial data on component units. As such, the 2009 financial data, including debt, from 2009 can be used.
B11: Market Value of Property | C11: Fairfax County's 2011 Comprehensive Annual Financial Report (CAFR) is available from the county's Finance website: | D11: The Community Financial Statement is not available online; however, the state of South Dakota provides a recapitulation of property tax statistical information, and Brookings County has links to those documents available on its property tax website:
C12: http://www.fairfaxcounty.gov/finance/cafr.htm | D12: http://www.state.sd.us/drr2/propspectax/property/publications.htm
C13: It provides detailed financial information for the county, including an additional statistical section which shows the assessed value of all taxable and nontaxable property in the county (page 246). | D13: (page 60 contains the relevant information on the market value of property, as well as the property tax collection).
B14: Bond Rating | C14: Fairfax County's 2011 Comprehensive Annual Financial Report (CAFR) is available from the county's Finance website: | D14: Standard and Poor's:
C15: http://www.fairfaxcounty.gov/finance/cafr.htm | D15: http://www.standardandpoors.com/ratings/en/us/
C16: Provides the county's credits cores from both Standard and Poor's and Moody's (page XVII). | D16: Allows a search of government entities (by state under "Public Finance U.S.) to registered users (at no cost) and provides a summary of credit issuances and their associated ratings.
B17: Community Unemployment Rate | C17: The American Factfinder: | D17: The American Factfinder:
C18: http://factfinder2.census.gov/faces/nav/jsf/pages/index.xhtml | D18: http://factfinder2.census.gov/faces/nav/jsf/pages/index.xhtml
C19: Allows the user to find specific census data sets. To identify the community unemployment rate for Fairfax County, select the topic "People:Income/Earnings (Households)"; narrow the geography to Fairfax County, Virginia; and within the Search results, search for: DP03: Selected Economic Characteristics. | D19: Allows the user to find specific census data sets. To identify the community unemployment rate for Brookings County, select the topic "People:Income/Earnings (Households)"; narrow the geography to Brookings County, South Dakota; and within the Search results, search for: DP03: Selected Economic Characteristics.
B20: National Unemployment Rate | C20: The Bureau of Labor Statistics provides national unemployment rate: | D20: The Bureau of Labor Statistics provides national unemployment rate:
C21: http://data.bls.gov/timeseries/LNS14000000 | D21: http://data.bls.gov/timeseries/LNS14000000
B22: Community Median Household Income | C22: The American Factfinder: | D22: The American Factfinder:
C23: http://factfinder2.census.gov/faces/nav/jsf/pages/index.xhtml | D23: http://factfinder2.census.gov/faces/nav/jsf/pages/index.xhtml
C24: Allows the user to find specific census data sets. To identify the community median household income for Fairfax County, select the topic "People:Income/Earnings (Households)"; narrow the geography to Fairfax County, Virginia; and within the Search results, search for: DP03: Selected Economic Characteristics. | D24: Allows the user to find specific census data sets. To identify the community median household income for Brookings County, select the topic "People:Income/Earnings (Households)"; narrow the geography to Brookings County, South Dakota; and within the Search results, search for: DP03: Selected Economic Characteristics.
B25: State Median Household Income | C25: The American Factfinder: | D25: The American Factfinder:
C26: http://factfinder2.census.gov/faces/nav/jsf/pages/index.xhtml | D26: http://factfinder2.census.gov/faces/nav/jsf/pages/index.xhtml
C27: Allows the user to find specific census data sets. To identify the community median household income for Virginia, select the topic "People:Income/Earnings (Households)"; narrow the geography to Virginia; and within the Search results, search for: DP03: Selected Economic Characteristics. | D27: Allows the user to find specific census data sets. To identify the community median household income for South Dakota, select the topic "People:Income/Earnings (Households)"; narrow the geography to South Dakota; and within the Search results, search for: DP03: Selected Economic Characteristics.
B28: Property Tax Collection Rate | C28: Fairfax County's 2011 Comprehensive Annual Financial Report (CAFR) is available from the county's Finance website: | D28: The Community Financial Statement is not available online; however the state of South Dakota provides a recapitulation of property tax statistical information, and Brookings County has links to those documents available on its property tax website:
C29: http://www.fairfaxcounty.gov/finance/cafr.htm | D29: http://www.state.sd.us/drr2/propspectax/property/publications.htm
C30: and provides the county's property tax collection rate on page 247. | D30: (page 60 contains the relevant information on the market value of property, as well as the property tax collection).
B31: Property Tax Revenues | C31: Fairfax County's 2011 Comprehensive Annual Financial Report (CAFR) available from the county's Finance website: | D31: The Community Financial Statement is not available online; however the state of South Dakota provides a recapitulation of property tax statistical information, and Brookings County has links to those documents available on its property tax website:
C32: http://www.fairfaxcounty.gov/finance/cafr.htm | D32: http://www.state.sd.us/drr2/propspectax/property/publications.htm
C33: and provides the county's property tax revenue data (page 8). | D33: (page 60 contains the relevant information on the market value of property, as well as the property tax collection).

Sheet Changelog
B1: Changelog
B2: Description: This worksheet describes bug fixes and other modifications that have been made since the original spreadsheet was posted to the EPA web site.
B5: June 2013 Fixed number formatting on F32 and F33 in “2. MPS Inputs” as well as border and row formatting Fixed minor border and row formatting issues on “2. MSP Inputs,” “3. MPS,” “5. Secondary Test Score,” and “7. Determine Whether Important” Fixed minor formatting issues for printer compatibility on several tabs Unlocked cell B17 (description of missing data) in “4. Secondary Test Inputs”
B6: July 2015 Changed calculation of average in "5. Secondary Test Score" to reflect replacement of two financial management indicators with a single average financial management indicator when one debt or socioeconomic indicator is unavailable.
