Workbook
Name Date: Summary!$A$12:$A$103
Name Date2: Summary!$F$12:$F$103
Name Days: Summary!$E$3:$E$6
Name Group: #REF!
Name Report: Summary!$E$12:$E$103

Sheet Overview
B2: UNITED STATES ENVIRONMENTAL PROTECTION AGENCY
B3: OFFICE OF TRANSPORTATION AND AIR QUALITY
B5: RIN Holdings Calculation Tool | G5: Version 1.0
G6: Updated: 11/25/2019
B8: This tool is meant to be a guide for assisting parties in calculating their aggregated separated D6 RIN holdings and comparing them to the applicable thresholds under 40 CFR 80.1435. While this tool is intended to help simplify the calculations, its accuracy cannot be guaranteed. Each regulated party is individually responsible for complying with the applicable regulations and this tool does not alter or eliminate any of those regulatory requirements. The use of this tool is not mandatory for demonstrating compliance with the applicable regulations.
B9: *Note: For display purposes, calculated values are rounded to two decimal points, as applicable. For purposes of determining whether the applicable RIN holding thresholds are exceeded, numbers are not rounded.
B12: Step 1: Enter the information on the "Informational Inputs" tab, as applicable. At a minimum, complete the section titled "Renewable Fuel Standards (Year i)" for the year in which the date of calculation is being performed.
B13: Step 2: For the applicable date, input the end-of-day separated D6 RIN holdings and the end-of-day separated D6 RIN holdings of all corporate affiliates.
B14: Step 3: Refer to the "Summary" tab to determine whether the applicable threshold has been exceeded and how to report the exceedance on the quarterly RFS activity report.*
B16: *As noted previously, this tool is meant only as a guide to assist stakeholders, and its accuracy cannot be guaranteed. Use of this tool does not alter the applicable regulatory requirements at 40 CFR 80.1435.

Sheet Informational Inputs
B2: Renewable Fuel Standards (Year i) | H2: 1
B3: Year: | C3: 2019 | H3: 2
B4: Total expected volume of conventional renewable fuels for compliance period i (gallons) | C4: 15000000000 | D4: CNV_VOLi | H4: 3
H5: 4
B6: The below inputs only apply if you are an obligated party or there is at least one obligated party in your corporate affiliate group | H6: 5
H7: 6
B8: Renewable Fuel Standards (Year i-1) | H8: 7
B9: Year: | C9: 2018 | H9: 8
B10: Renewable fuel standard for compliance period i-1 (%) | C10: 0.1067 | D10: RFSStdRF | H10: 9
B11: Advanced biofuel standard for compliance period i-1 (%) | C11: 0.0237 | D11: RFSStdAB | H11: 10
H12: 11
B13: Gasoline Production | H13: 12
B14: Gasoline production or import in year i-1 (gallons) | C14: 0 | D14: GVi-1 | H14: 13
B15: Corporate affiliate gasoline production or import in year i-1 (gallons) | C15: 0 | D15: GVi-1 | H15: 14
C16: 0 | D16: GVi-1 | H16: 15
C17: 0 | D17: GVi-1 | H17: 16
C18: 0 | D18: GVi-1 | H18: 17
C19: 0 | D19: GVi-1 | H19: 18
C20: 0 | D20: GVi-1 | H20: 19
C21: 0 | D21: GVi-1 | H21: 20
C22: 0 | D22: GVi-1 | H22: 21
C23: 0 | D23: GVi-1 | H23: 22
C24: 0 | D24: GVi-1 | H24: 23
B25: Sum gasoline production in year i-1 (gallons) | C25: =SUM(C14:C24) -> 0 | D25: ∑GVi-1 | H25: 24
H26: 25
B27: Diesel Production | H27: 26
B28: Diesel production or import in year i-1 (gallons) | C28: 0 | D28: DVi-1 | H28: 27
B29: Corporate affiliate diesel production or import in year i-1 (gallons) | C29: 0 | D29: DVi-1 | H29: 28
C30: 0 | D30: DVi-1 | H30: 29
C31: 0 | D31: DVi-1 | H31: 30
C32: 0 | D32: DVi-1 | H32: 31
C33: 0 | D33: DVi-1 | H33: 32
C34: 0 | D34: DVi-1 | H34: 33
C35: 0 | D35: DVi-1 | H35: 34
C36: 0 | D36: DVi-1 | H36: 35
C37: 0 | D37: DVi-1 | H37: 36
C38: 0 | D38: DVi-1 | H38: 37
B39: Sum diesel production in year i-1 (gallons) | C39: =SUM(C28:C38) -> 0 | D39: ∑DVi-1 | H39: 38
H40: 39
B41: Deficits | H41: 40
B42: Renewable fuel deficit carryover from compliance period i-1 (RIN-gallons) | C42: 0 | D42: DRF,i-1 | H42: 41
B43: Affiliate renewable fuel deficit carryover from compliance period i-1 (RIN-gallons) | C43: 0 | D43: DRF,i-1 | H43: 42
C44: 0 | D44: DRF,i-1 | H44: 43
C45: 0 | D45: DRF,i-1 | H45: 44
C46: 0 | D46: DRF,i-1 | H46: 45
B47: Advanced biofuel deficit carryover from compliance period i-1 (RIN-gallons) | C47: 0 | D47: DAB,i-1 | H47: 46
B48: Affiliate advanced biofuel deficit carryover from compliance period i-1 (RIN-gallons) | C48: 0 | D48: DAB,i-1 | H48: 47
C49: 0 | D49: DAB,i-1 | H49: 48
C50: 0 | D50: DAB,i-1 | H50: 49
C51: 0 | D51: DAB,i-1 | H51: 50
B52: Renewable fuel deficit carryover from compliance period i-2 (RIN-gallons) | C52: 0 | D52: DRF,i-2 | H52: 51
B53: Affiliate renewable fuel deficit carryover from compliance period i-2 (RIN-gallons) | C53: 0 | D53: DRF,i-2 | H53: 52
C54: 0 | D54: DRF,i-2 | H54: 53
C55: 0 | D55: DRF,i-2 | H55: 54
C56: 0 | D56: DRF,i-2 | H56: 55
B57: Advanced biofuel deficit carryover from compliance period i-2 (RIN-gallons) | C57: 0 | D57: DAB,i-2 | H57: 56
B58: Affiliate advanced biofuel deficit carryover from compliance period i-2 (RIN-gallons) | C58: 0 | D58: DAB,i-2 | H58: 57
C59: 0 | D59: DAB,i-2 | H59: 58
C60: 0 | D60: DAB,i-2 | H60: 59
C61: 0 | D61: DAB,i-2 | H61: 60
H62: 61
B63: Exports | H63: 62
B64: Renewable fuel volume obligation from exporting renewable fuels in compliance period i-1 (RIN-gallons) | C64: 0 | D64: ERVOi-1 | H64: 63
B65: Corporate affiliate renewable fuel volume obligations from exporting renewable fuels in compliance period i-1 (RIN-gallons) | C65: 0 | D65: ERVOi-1 | H65: 64
C66: 0 | D66: ERVOi-1 | H66: 65
C67: 0 | D67: ERVOi-1 | H67: 66
C68: 0 | D68: ERVOi-1 | H68: 67
C69: 0 | D69: ERVOi-1 | H69: 68
C70: 0 | D70: ERVOi-1 | H70: 69
B71: Sum exported renewable fuel obligation in compliance period i-1 (RIN-gallons) | C71: =SUM(C64:C70) -> 0 | D71: ∑ERVOi-1 | H71: 70
H72: 71
B73: Conventional Renewable Fuel RVO and Deficits | H73: 72
B74: Conventional renewable fuel RVO | C74: =(SUM(C25,C39)*C10)-(SUM(C25,C39)*C11)+C71 -> 0 | D74: ∑CNV_RVOi-1 | H74: 73
B75: Conventional renewable fuel deficit (for use in calculating HTOP for Q1) | C75: =SUM(C42:C46,C52:C56)-SUM(C47:C51,C57:C61) -> 0 | D75: ∑CNV_DEFi-1,i-2 | H75: 74
B76: Conventional renewable fuel deficit (for use in calculating HTOP for Q2, Q3, and Q4) | C76: =SUM(C42:C46)-SUM(C47:C51) -> 0 | D76: ∑CNV_DEFi-1 | H76: 75
H77: 76
H78: 77
H79: 78
H80: 79
H81: 80
H82: 81
H83: 82
H84: 83
H85: 84
H86: 85
H87: 86
H88: 87
... H389: 388

Sheet Q1 Holdings
B2: 43466 | C2: 43467 | D2: 43468 | E2: 43469 | F2: 43470 | G2: 43471 | H2: 43472 | I2: 43473 | J2: 43474 | K2: 43475 | L2: 43476 | M2: 43477 | N2: 43478 | O2: 43479 | P2: 43480 | Q2: 43481 | R2: 43482 | S2: 43483 | T2: 43484 | U2: 43485 | V2: 43486 | W2: 43487 | X2: 43488 | Y2: 43489 | Z2: 43490 | AA2: 43491 | AB2: 43492 | AC2: 43493 | AD2: 43494 | AE2: 43495 | AF2: 43496 | AG2: 43497 | AH2: 43498 | AI2: 43499 | AJ2: 43500 | AK2: 43501 | AL2: 43502 | AM2: 43503 | AN2: 43504 | AO2: 43505 | AP2: 43506 | AQ2: 43507 | AR2: 43508 | AS2: 43509 | AT2: 43510 | AU2: 43511 | AV2: 43512 | AW2: 43513 | AX2: 43514 | AY2: 43515 | AZ2: 43516 | BA2: 43517 | BB2: 43518 | BC2: 43519 | BD2: 43520 | BE2: 43521 | BF2: 43522 | BG2: 43523 | BH2: 43524 | BI2: 29-Feb | BJ2: 43525 | BK2: 43526 | BL2: 43527 | BM2: 43528 | BN2: 43529 | BO2: 43530 | BP2: 43531 | BQ2: 43532 | BR2: 43533 | BS2: 43534 | BT2: 43535 | BU2: 43536 | BV2: 43537 | BW2: 43538 | BX2: 43539 | BY2: 43540 | BZ2: 43541 | CA2: 43542 | CB2: 43543 | CC2: 43544 | CD2: 43545 | CE2: 43546 | CF2: 43547 | CG2: 43548 | CH2: 43549 | CI2: 43550 | CJ2: 43551 | CK2: 43552 | CL2: 43553 | CM2: 43554 | CN2: 43555
A3: End-of day separated D6 RIN holdings
A4: End-of day separated D6 RIN holdings for each corporate affiliate
A23: Total end-of-day separated D6 RIN holdings (∑D6RINd) | B23: =SUM(B3:B22) -> 0 | C23: =SUM(C3:C22) -> 0 | D23: =SUM(D3:D22) -> 0 | E23: =SUM(E3:E22) -> 0 | F23: =SUM(F3:F22) -> 0 | G23: =SUM(G3:G22) -> 0 | H23: =SUM(H3:H22) -> 0 | I23: =SUM(I3:I22) -> 0 | ... CN23: =SUM(CN3:CN22) -> 0
A25: Holdings-to-market percentage (HTMPd) | B25: =B23/('Informational Inputs'!$C$4*1.25) -> 0 | C25: =C23/('Informational Inputs'!$C$4*1.25) -> 0 | D25: =D23/('Informational Inputs'!$C$4*1.25) -> 0 | E25: =E23/('Informational Inputs'!$C$4*1.25) -> 0 | F25: =F23/('Informational Inputs'!$C$4*1.25) -> 0 | G25: =G23/('Informational Inputs'!$C$4*1.25) -> 0 | H25: =H23/('Informational Inputs'!$C$4*1.25) -> 0 | I25: =I23/('Informational Inputs'!$C$4*1.25) -> 0 | ... CN25: =CN23/('Informational Inputs'!$C$4*1.25) -> 0
A26: Holdings-to-obligation percentage (HTOPd) | B26: =IF((AND($B$29>0, SUM('Informational Inputs'!$C$74:$C$75)>0)), B23/(SUM('Informational Inputs'!$C$74,'Informational Inputs'!$C$75)*1.25), "N/A") -> N/A | C26: =IF((AND($B$29>0, SUM('Informational Inputs'!$C$74:$C$75)>0)), C23/(SUM('Informational Inputs'!$C$74,'Informational Inputs'!$C$75)*1.25), "N/A") -> N/A | D26: =IF((AND($B$29>0, SUM('Informational Inputs'!$C$74:$C$75)>0)), D23/(SUM('Informational Inputs'!$C$74,'Informational Inputs'!$C$75)*1.25), "N/A") -> N/A | E26: =IF((AND($B$29>0, SUM('Informational Inputs'!$C$74:$C$75)>0)), E23/(SUM('Informational Inputs'!$C$74,'Informational Inputs'!$C$75)*1.25), "N/A") -> N/A | F26: =IF((AND($B$29>0, SUM('Informational Inputs'!$C$74:$C$75)>0)), F23/(SUM('Informational Inputs'!$C$74,'Informational Inputs'!$C$75)*1.25), "N/A") -> N/A | G26: =IF((AND($B$29>0, SUM('Informational Inputs'!$C$74:$C$75)>0)), G23/(SUM('Informational Inputs'!$C$74,'Informational Inputs'!$C$75)*1.25), "N/A") -> N/A | H26: =IF((AND($B$29>0, SUM('Informational Inputs'!$C$74:$C$75)>0)), H23/(SUM('Informational Inputs'!$C$74,'Informational Inputs'!$C$75)*1.25), "N/A") -> N/A | I26: =IF((AND($B$29>0, SUM('Informational Inputs'!$C$74:$C$75)>0)), I23/(SUM('Informational Inputs'!$C$74,'Informational Inputs'!$C$75)*1.25), "N/A") -> N/A | ... CN26: =IF((AND($B$29>0, SUM('Informational Inputs'!$C$74:$C$75)>0)), CN23/(SUM('Informational Inputs'!$C$74,'Informational Inputs'!$C$75)*1.25), "N/A") -> N/A
B29: =COUNTIF(B25:CN25, ">0.03") -> 0

Sheet Q2 Holdings
B2: 43556 | C2: 43557 | D2: 43558 | E2: 43559 | F2: 43560 | G2: 43561 | H2: 43562 | I2: 43563 | J2: 43564 | K2: 43565 | L2: 43566 | M2: 43567 | N2: 43568 | O2: 43569 | P2: 43570 | Q2: 43571 | R2: 43572 | S2: 43573 | T2: 43574 | U2: 43575 | V2: 43576 | W2: 43577 | X2: 43578 | Y2: 43579 | Z2: 43580 | AA2: 43581 | AB2: 43582 | AC2: 43583 | AD2: 43584 | AE2: 43585 | AF2: 43586 | AG2: 43587 | AH2: 43588 | AI2: 43589 | AJ2: 43590 | AK2: 43591 | AL2: 43592 | AM2: 43593 | AN2: 43594 | AO2: 43595 | AP2: 43596 | AQ2: 43597 | AR2: 43598 | AS2: 43599 | AT2: 43600 | AU2: 43601 | AV2: 43602 | AW2: 43603 | AX2: 43604 | AY2: 43605 | AZ2: 43606 | BA2: 43607 | BB2: 43608 | BC2: 43609 | BD2: 43610 | BE2: 43611 | BF2: 43612 | BG2: 43613 | BH2: 43614 | BI2: 43615 | BJ2: 43616 | BK2: 43617 | BL2: 43618 | BM2: 43619 | BN2: 43620 | BO2: 43621 | BP2: 43622 | BQ2: 43623 | BR2: 43624 | BS2: 43625 | BT2: 43626 | BU2: 43627 | BV2: 43628 | BW2: 43629 | BX2: 43630 | BY2: 43631 | BZ2: 43632 | CA2: 43633 | CB2: 43634 | CC2: 43635 | CD2: 43636 | CE2: 43637 | CF2: 43638 | CG2: 43639 | CH2: 43640 | CI2: 43641 | CJ2: 43642 | CK2: 43643 | CL2: 43644 | CM2: 43645 | CN2: 43646
A3: End-of day separated D6 RIN holdings
A4: End-of day separated D6 RIN holdings for each corporate affiliate
A23: Total end-of-day separated D6 RIN holdings (∑D6RINd) | B23: =SUM(B3:B22) -> 0 | C23: =SUM(C3:C22) -> 0 | D23: =SUM(D3:D22) -> 0 | E23: =SUM(E3:E22) -> 0 | F23: =SUM(F3:F22) -> 0 | G23: =SUM(G3:G22) -> 0 | H23: =SUM(H3:H22) -> 0 | I23: =SUM(I3:I22) -> 0 | ... CN23: =SUM(CN3:CN22) -> 0
A25: Holdings-to-market percentage (HTMPd) | B25: =B23/('Informational Inputs'!$C$4*1) -> 0 | C25: =C23/('Informational Inputs'!$C$4*1) -> 0 | D25: =D23/('Informational Inputs'!$C$4*1) -> 0 | E25: =E23/('Informational Inputs'!$C$4*1) -> 0 | F25: =F23/('Informational Inputs'!$C$4*1) -> 0 | G25: =G23/('Informational Inputs'!$C$4*1) -> 0 | H25: =H23/('Informational Inputs'!$C$4*1) -> 0 | I25: =I23/('Informational Inputs'!$C$4*1) -> 0 | ... CN25: =CN23/('Informational Inputs'!$C$4*1) -> 0
A26: Holdings-to-obligation percentage (HTOPd) | B26: =IF((AND($B$29>0.03, SUM('Informational Inputs'!$C$74,$C$72)>0)), B23/(SUM('Informational Inputs'!$C$74,'Informational Inputs'!$C$76)*1), "N/A") -> N/A | C26: =IF((AND($B$29>0.03, SUM('Informational Inputs'!$C$74,$C$72)>0)), C23/(SUM('Informational Inputs'!$C$74,'Informational Inputs'!$C$76)*1), "N/A") -> N/A | D26: =IF((AND($B$29>0.03, SUM('Informational Inputs'!$C$74,$C$72)>0)), D23/(SUM('Informational Inputs'!$C$74,'Informational Inputs'!$C$76)*1), "N/A") -> N/A | E26: =IF((AND($B$29>0.03, SUM('Informational Inputs'!$C$74,$C$72)>0)), E23/(SUM('Informational Inputs'!$C$74,'Informational Inputs'!$C$76)*1), "N/A") -> N/A | F26: =IF((AND($B$29>0.03, SUM('Informational Inputs'!$C$74,$C$72)>0)), F23/(SUM('Informational Inputs'!$C$74,'Informational Inputs'!$C$76)*1), "N/A") -> N/A | G26: =IF((AND($B$29>0.03, SUM('Informational Inputs'!$C$74,$C$72)>0)), G23/(SUM('Informational Inputs'!$C$74,'Informational Inputs'!$C$76)*1), "N/A") -> N/A | H26: =IF((AND($B$29>0.03, SUM('Informational Inputs'!$C$74,$C$72)>0)), H23/(SUM('Informational Inputs'!$C$74,'Informational Inputs'!$C$76)*1), "N/A") -> N/A | I26: =IF((AND($B$29>0.03, SUM('Informational Inputs'!$C$74,$C$72)>0)), I23/(SUM('Informational Inputs'!$C$74,'Informational Inputs'!$C$76)*1), "N/A") -> N/A | ... CN26: =IF((AND($B$29>0.03, SUM('Informational Inputs'!$C$74,$C$72)>0)), CN23/(SUM('Informational Inputs'!$C$74,'Informational Inputs'!$C$76)*1), "N/A") -> N/A
B29: =COUNTIF(B25:CN25, ">0.03") -> 0

Sheet Q3 Holdings
B2: 43647 | C2: 43648 | D2: 43649 | E2: 43650 | F2: 43651 | G2: 43652 | H2: 43653 | I2: 43654 | J2: 43655 | K2: 43656 | L2: 43657 | M2: 43658 | N2: 43659 | O2: 43660 | P2: 43661 | Q2: 43662 | R2: 43663 | S2: 43664 | T2: 43665 | U2: 43666 | V2: 43667 | W2: 43668 | X2: 43669 | Y2: 43670 | Z2: 43671 | AA2: 43672 | AB2: 43673 | AC2: 43674 | AD2: 43675 | AE2: 43676 | AF2: 43677 | AG2: 43678 | AH2: 43679 | AI2: 43680 | AJ2: 43681 | AK2: 43682 | AL2: 43683 | AM2: 43684 | AN2: 43685 | AO2: 43686 | AP2: 43687 | AQ2: 43688 | AR2: 43689 | AS2: 43690 | AT2: 43691 | AU2: 43692 | AV2: 43693 | AW2: 43694 | AX2: 43695 | AY2: 43696 | AZ2: 43697 | BA2: 43698 | BB2: 43699 | BC2: 43700 | BD2: 43701 | BE2: 43702 | BF2: 43703 | BG2: 43704 | BH2: 43705 | BI2: 43706 | BJ2: 43707 | BK2: 43708 | BL2: 43709 | BM2: 43710 | BN2: 43711 | BO2: 43712 | BP2: 43713 | BQ2: 43714 | BR2: 43715 | BS2: 43716 | BT2: 43717 | BU2: 43718 | BV2: 43719 | BW2: 43720 | BX2: 43721 | BY2: 43722 | BZ2: 43723 | CA2: 43724 | CB2: 43725 | CC2: 43726 | CD2: 43727 | CE2: 43728 | CF2: 43729 | CG2: 43730 | CH2: 43731 | CI2: 43732 | CJ2: 43733 | CK2: 43734 | CL2: 43735 | CM2: 43736 | CN2: 43737 | CO2: 43738
A3: End-of day separated D6 RIN holdings
A4: End-of day separated D6 RIN holdings for each corporate affiliate
A23: Total end-of-day separated D6 RIN holdings (∑D6RINd) | B23: =SUM(B3:B22) -> 0 | C23: =SUM(C3:C22) -> 0 | D23: =SUM(D3:D22) -> 0 | E23: =SUM(E3:E22) -> 0 | F23: =SUM(F3:F22) -> 0 | G23: =SUM(G3:G22) -> 0 | H23: =SUM(H3:H22) -> 0 | I23: =SUM(I3:I22) -> 0 | ... CO23: =SUM(CO3:CO22) -> 0
A25: Holdings-to-market percentage (HTMPd) | B25: =B23/('Informational Inputs'!$C$4*1) -> 0 | C25: =C23/('Informational Inputs'!$C$4*1) -> 0 | D25: =D23/('Informational Inputs'!$C$4*1) -> 0 | E25: =E23/('Informational Inputs'!$C$4*1) -> 0 | F25: =F23/('Informational Inputs'!$C$4*1) -> 0 | G25: =G23/('Informational Inputs'!$C$4*1) -> 0 | H25: =H23/('Informational Inputs'!$C$4*1) -> 0 | I25: =I23/('Informational Inputs'!$C$4*1) -> 0 | ... CO25: =CO23/('Informational Inputs'!$C$4*1) -> 0
A26: Holdings-to-obligation percentage (HTOPd) | B26: =IF((AND($B$29>0.03, SUM('Informational Inputs'!$C$74,$C$72)>0)), B23/(SUM('Informational Inputs'!$C$74,'Informational Inputs'!$C$76)*1), "N/A") -> N/A | C26: =IF((AND($B$29>0.03, SUM('Informational Inputs'!$C$74,$C$72)>0)), C23/(SUM('Informational Inputs'!$C$74,'Informational Inputs'!$C$76)*1), "N/A") -> N/A | D26: =IF((AND($B$29>0.03, SUM('Informational Inputs'!$C$74,$C$72)>0)), D23/(SUM('Informational Inputs'!$C$74,'Informational Inputs'!$C$76)*1), "N/A") -> N/A | E26: =IF((AND($B$29>0.03, SUM('Informational Inputs'!$C$74,$C$72)>0)), E23/(SUM('Informational Inputs'!$C$74,'Informational Inputs'!$C$76)*1), "N/A") -> N/A | F26: =IF((AND($B$29>0.03, SUM('Informational Inputs'!$C$74,$C$72)>0)), F23/(SUM('Informational Inputs'!$C$74,'Informational Inputs'!$C$76)*1), "N/A") -> N/A | G26: =IF((AND($B$29>0.03, SUM('Informational Inputs'!$C$74,$C$72)>0)), G23/(SUM('Informational Inputs'!$C$74,'Informational Inputs'!$C$76)*1), "N/A") -> N/A | H26: =IF((AND($B$29>0.03, SUM('Informational Inputs'!$C$74,$C$72)>0)), H23/(SUM('Informational Inputs'!$C$74,'Informational Inputs'!$C$76)*1), "N/A") -> N/A | I26: =IF((AND($B$29>0.03, SUM('Informational Inputs'!$C$74,$C$72)>0)), I23/(SUM('Informational Inputs'!$C$74,'Informational Inputs'!$C$76)*1), "N/A") -> N/A | ... CO26: =IF((AND($B$29>0.03, SUM('Informational Inputs'!$C$74,$C$72)>0)), CO23/(SUM('Informational Inputs'!$C$74,'Informational Inputs'!$C$76)*1), "N/A") -> N/A
B29: =COUNTIF(B25:CN25, ">0.03") -> 0

Sheet Q4 Holdings
B2: 43739 | C2: 43740 | D2: 43741 | E2: 43742 | F2: 43743 | G2: 43744 | H2: 43745 | I2: 43746 | J2: 43747 | K2: 43748 | L2: 43749 | M2: 43750 | N2: 43751 | O2: 43752 | P2: 43753 | Q2: 43754 | R2: 43755 | S2: 43756 | T2: 43757 | U2: 43758 | V2: 43759 | W2: 43760 | X2: 43761 | Y2: 43762 | Z2: 43763 | AA2: 43764 | AB2: 43765 | AC2: 43766 | AD2: 43767 | AE2: 43768 | AF2: 43769 | AG2: 43770 | AH2: 43771 | AI2: 43772 | AJ2: 43773 | AK2: 43774 | AL2: 43775 | AM2: 43776 | AN2: 43777 | AO2: 43778 | AP2: 43779 | AQ2: 43780 | AR2: 43781 | AS2: 43782 | AT2: 43783 | AU2: 43784 | AV2: 43785 | AW2: 43786 | AX2: 43787 | AY2: 43788 | AZ2: 43789 | BA2: 43790 | BB2: 43791 | BC2: 43792 | BD2: 43793 | BE2: 43794 | BF2: 43795 | BG2: 43796 | BH2: 43797 | BI2: 43798 | BJ2: 43799 | BK2: 43800 | BL2: 43801 | BM2: 43802 | BN2: 43803 | BO2: 43804 | BP2: 43805 | BQ2: 43806 | BR2: 43807 | BS2: 43808 | BT2: 43809 | BU2: 43810 | BV2: 43811 | BW2: 43812 | BX2: 43813 | BY2: 43814 | BZ2: 43815 | CA2: 43816 | CB2: 43817 | CC2: 43818 | CD2: 43819 | CE2: 43820 | CF2: 43821 | CG2: 43822 | CH2: 43823 | CI2: 43824 | CJ2: 43825 | CK2: 43826 | CL2: 43827 | CM2: 43828 | CN2: 43829 | CO2: 43830
A3: End-of day separated D6 RIN holdings
A4: End-of day separated D6 RIN holdings for each corporate affiliate
A23: Total end-of-day separated D6 RIN holdings (∑D6RINd) | B23: =SUM(B3:B22) -> 0 | C23: =SUM(C3:C22) -> 0 | D23: =SUM(D3:D22) -> 0 | E23: =SUM(E3:E22) -> 0 | F23: =SUM(F3:F22) -> 0 | G23: =SUM(G3:G22) -> 0 | H23: =SUM(H3:H22) -> 0 | I23: =SUM(I3:I22) -> 0 | ... CO23: =SUM(CO3:CO22) -> 0
A25: Holdings-to-market percentage (HTMPd) | B25: =B23/('Informational Inputs'!$C$4*1) -> 0 | C25: =C23/('Informational Inputs'!$C$4*1) -> 0 | D25: =D23/('Informational Inputs'!$C$4*1) -> 0 | E25: =E23/('Informational Inputs'!$C$4*1) -> 0 | F25: =F23/('Informational Inputs'!$C$4*1) -> 0 | G25: =G23/('Informational Inputs'!$C$4*1) -> 0 | H25: =H23/('Informational Inputs'!$C$4*1) -> 0 | I25: =I23/('Informational Inputs'!$C$4*1) -> 0 | ... CO25: =CO23/('Informational Inputs'!$C$4*1) -> 0
A26: Holdings-to-obligation percentage (HTOPd) | B26: =IF((AND($B$29>0.03, SUM('Informational Inputs'!$C$74,$C$72)>0)), B23/(SUM('Informational Inputs'!$C$74,'Informational Inputs'!$C$76)*1), "N/A") -> N/A | C26: =IF((AND($B$29>0.03, SUM('Informational Inputs'!$C$74,$C$72)>0)), C23/(SUM('Informational Inputs'!$C$74,'Informational Inputs'!$C$76)*1), "N/A") -> N/A | D26: =IF((AND($B$29>0.03, SUM('Informational Inputs'!$C$74,$C$72)>0)), D23/(SUM('Informational Inputs'!$C$74,'Informational Inputs'!$C$76)*1), "N/A") -> N/A | E26: =IF((AND($B$29>0.03, SUM('Informational Inputs'!$C$74,$C$72)>0)), E23/(SUM('Informational Inputs'!$C$74,'Informational Inputs'!$C$76)*1), "N/A") -> N/A | F26: =IF((AND($B$29>0.03, SUM('Informational Inputs'!$C$74,$C$72)>0)), F23/(SUM('Informational Inputs'!$C$74,'Informational Inputs'!$C$76)*1), "N/A") -> N/A | G26: =IF((AND($B$29>0.03, SUM('Informational Inputs'!$C$74,$C$72)>0)), G23/(SUM('Informational Inputs'!$C$74,'Informational Inputs'!$C$76)*1), "N/A") -> N/A | H26: =IF((AND($B$29>0.03, SUM('Informational Inputs'!$C$74,$C$72)>0)), H23/(SUM('Informational Inputs'!$C$74,'Informational Inputs'!$C$76)*1), "N/A") -> N/A | I26: =IF((AND($B$29>0.03, SUM('Informational Inputs'!$C$74,$C$72)>0)), I23/(SUM('Informational Inputs'!$C$74,'Informational Inputs'!$C$76)*1), "N/A") -> N/A | ... CO26: =IF((AND($B$29>0.03, SUM('Informational Inputs'!$C$74,$C$72)>0)), CO23/(SUM('Informational Inputs'!$C$74,'Informational Inputs'!$C$76)*1), "N/A") -> N/A
B29: =COUNTIF(B25:CN25, ">0.03") -> 0

Sheet Summary
F2: How should I report on the RFS quarterly activity report? | L2: Dates on which the threshold was exceeded
A3: Days in Q1 that threshold was exceeded: | E3: =COUNTIF(Summary!E12:E101, "Yes") -> 0 | F3: =IF(AND('Informational Inputs'!$C$74=0,C$108>0),"PNO",IF(AND('Informational Inputs'!$C$74>0,C$108>0,D$108=0),"POP",IF(AND('Informational Inputs'!$C$74>0,C$108>0,D$108>0),"SOP","NPS"))) -> NPS | M3: {=_xlfn.TEXTJOIN(", ",TRUE,IF(E12:F101="Yes",TEXT(A12:A101,"mmm dd"),""))}
A4: Days in Q2 that threshold was exceeded: | E4: =COUNTIF(Summary!K12:K102, "Yes") -> 0 | F4: =IF(AND('Informational Inputs'!$C$74=0,I$108>0),"PNO",IF(AND('Informational Inputs'!$C$74>0,I$108>0,J$108=0),"POP",IF(AND('Informational Inputs'!$C$74>0,I$108>0,J$108>0),"SOP","NPS"))) -> NPS | M4: {=_xlfn.TEXTJOIN(", ",TRUE,IF(K12:L102="Yes",TEXT(G12:G102,"mmm dd"),""))}
A5: Days in Q3 that threshold was exceeded: | E5: =COUNTIF(Summary!Q12:Q103, "Yes") -> 0 | F5: =IF(AND('Informational Inputs'!$C$74=0,O$108>0),"PNO",IF(AND('Informational Inputs'!$C$74>0,O$108>0,P$108=0),"POP",IF(AND('Informational Inputs'!$C$74>0,O$108>0,P$108>0),"SOP","NPS"))) -> NPS | M5: {=_xlfn.TEXTJOIN(", ",TRUE,IF(Q12:R103="Yes",TEXT(M12:M103,"mmm dd"),""))}
A6: Days in Q4 that threshold was exceeded: | E6: =COUNTIF(Summary!W12:W103, "Yes") -> 0 | F6: =IF(AND('Informational Inputs'!$C$74=0,U$108>0),"PNO",IF(AND('Informational Inputs'!$C$74>0,U$108>0,V$108=0),"POP",IF(AND('Informational Inputs'!$C$74>0,U$108>0,V$108>0),"SOP","NPS"))) -> NPS | M6: {=_xlfn.TEXTJOIN(", ",TRUE,IF(W12:X103="Yes",TEXT(S12:S103,"mmm dd"),""))}
A10: Quarter 1 | G10: Quarter 2 | M10: Quarter 3 | S10: Quarter 4
A11: Date | B11: ∑D6RINd | C11: HTMPd | D11: HTOPd | E11: Threshold Exceeded? | G11: Date | H11: ∑D6RINd | I11: HTMPd | J11: HTOPd | K11: Threshold Exceeded? | M11: Date | N11: ∑D6RINd | O11: HTMPd | P11: HTOPd | Q11: Threshold Exceeded? | S11: Date | T11: ∑D6RINd | U11: HTMPd | V11: HTOPd | W11: Threshold Exceeded?
A12: 43466 | B12: =INDEX('Q1 Holdings'!B$23:CN$23,1,'Informational Inputs'!$H2) -> 0 | C12: =INDEX('Q1 Holdings'!B$25:CN$25,1,'Informational Inputs'!$H2) -> 0 | D12: =INDEX('Q1 Holdings'!B$26:CN$26,1,'Informational Inputs'!$H2) -> N/A | E12: =IF(OR((D12<1.3),AND(C12<0.03,D12="N/A")),"No","Yes") -> No | G12: 43556 | H12: =INDEX('Q2 Holdings'!B$23:CN$23,1,'Informational Inputs'!$H2) -> 0 | I12: =INDEX('Q2 Holdings'!B$25:CN$25,1,'Informational Inputs'!$H2) -> 0 | J12: =INDEX('Q2 Holdings'!B$26:CN$26,1,'Informational Inputs'!$H2) -> N/A | K12: =IF(OR((J12<1.3),AND(I12<0.03,J12="N/A")),"No","Yes") -> No | M12: 43647 | N12: =INDEX('Q3 Holdings'!B$23:CN$23,1,'Informational Inputs'!$H2) -> 0 | O12: =INDEX('Q3 Holdings'!B$25:CN$25,1,'Informational Inputs'!$H2) -> 0 | P12: =INDEX('Q3 Holdings'!B$26:CN$26,1,'Informational Inputs'!$H2) -> N/A | Q12: =IF(OR((P12<1.3),AND(O12<0.03,P12="N/A")),"No","Yes") -> No | S12: 43739 | T12: =INDEX('Q4 Holdings'!B$23:CN$23,1,'Informational Inputs'!$H2) -> 0 | U12: =INDEX('Q4 Holdings'!B$25:CN$25,1,'Informational Inputs'!$H2) -> 0 | V12: =INDEX('Q4 Holdings'!B$26:CN$26,1,'Informational Inputs'!$H2) -> N/A | W12: =IF(OR((V12<1.3),AND(U12<0.03,V12="N/A")),"No","Yes") -> No
A13: 43467 | B13: =INDEX('Q1 Holdings'!B$23:CN$23,1,'Informational Inputs'!$H3) -> 0 | C13: =INDEX('Q1 Holdings'!B$25:CN$25,1,'Informational Inputs'!$H3) -> 0 | D13: =INDEX('Q1 Holdings'!B$26:CN$26,1,'Informational Inputs'!$H3) -> N/A | E13: =IF(OR((D13<1.3),AND(C13<0.03,D13="N/A")),"No","Yes") -> No | G13: 43557 | H13: =INDEX('Q2 Holdings'!B$23:CN$23,1,'Informational Inputs'!$H3) -> 0 | I13: =INDEX('Q2 Holdings'!B$25:CN$25,1,'Informational Inputs'!$H3) -> 0 | J13: =INDEX('Q2 Holdings'!B$26:CN$26,1,'Informational Inputs'!$H3) -> N/A | K13: =IF(OR((J13<1.3),AND(I13<0.03,J13="N/A")),"No","Yes") -> No | M13: 43648 | N13: =INDEX('Q3 Holdings'!B$23:CN$23,1,'Informational Inputs'!$H3) -> 0 | O13: =INDEX('Q3 Holdings'!B$25:CN$25,1,'Informational Inputs'!$H3) -> 0 | P13: =INDEX('Q3 Holdings'!B$26:CN$26,1,'Informational Inputs'!$H3) -> N/A | Q13: =IF(OR((P13<1.3),AND(O13<0.03,P13="N/A")),"No","Yes") -> No | S13: 43740 | T13: =INDEX('Q4 Holdings'!B$23:CN$23,1,'Informational Inputs'!$H3) -> 0 | U13: =INDEX('Q4 Holdings'!B$25:CN$25,1,'Informational Inputs'!$H3) -> 0 | V13: =INDEX('Q4 Holdings'!B$26:CN$26,1,'Informational Inputs'!$H3) -> N/A | W13: =IF(OR((V13<1.3),AND(U13<0.03,V13="N/A")),"No","Yes") -> No
A14: 43468 | B14: =INDEX('Q1 Holdings'!B$23:CN$23,1,'Informational Inputs'!$H4) -> 0 | C14: =INDEX('Q1 Holdings'!B$25:CN$25,1,'Informational Inputs'!$H4) -> 0 | D14: =INDEX('Q1 Holdings'!B$26:CN$26,1,'Informational Inputs'!$H4) -> N/A | E14: =IF(OR((D14<1.3),AND(C14<0.03,D14="N/A")),"No","Yes") -> No | G14: 43558 | H14: =INDEX('Q2 Holdings'!B$23:CN$23,1,'Informational Inputs'!$H4) -> 0 | I14: =INDEX('Q2 Holdings'!B$25:CN$25,1,'Informational Inputs'!$H4) -> 0 | J14: =INDEX('Q2 Holdings'!B$26:CN$26,1,'Informational Inputs'!$H4) -> N/A | K14: =IF(OR((J14<1.3),AND(I14<0.03,J14="N/A")),"No","Yes") -> No | M14: 43649 | N14: =INDEX('Q3 Holdings'!B$23:CN$23,1,'Informational Inputs'!$H4) -> 0 | O14: =INDEX('Q3 Holdings'!B$25:CN$25,1,'Informational Inputs'!$H4) -> 0 | P14: =INDEX('Q3 Holdings'!B$26:CN$26,1,'Informational Inputs'!$H4) -> N/A | Q14: =IF(OR((P14<1.3),AND(O14<0.03,P14="N/A")),"No","Yes") -> No | S14: 43741 | T14: =INDEX('Q4 Holdings'!B$23:CN$23,1,'Informational Inputs'!$H4) -> 0 | U14: =INDEX('Q4 Holdings'!B$25:CN$25,1,'Informational Inputs'!$H4) -> 0 | V14: =INDEX('Q4 Holdings'!B$26:CN$26,1,'Informational Inputs'!$H4) -> N/A | W14: =IF(OR((V14<1.3),AND(U14<0.03,V14="N/A")),"No","Yes") -> No
A15: 43469 | B15: =INDEX('Q1 Holdings'!B$23:CN$23,1,'Informational Inputs'!$H5) -> 0 | C15: =INDEX('Q1 Holdings'!B$25:CN$25,1,'Informational Inputs'!$H5) -> 0 | D15: =INDEX('Q1 Holdings'!B$26:CN$26,1,'Informational Inputs'!$H5) -> N/A | E15: =IF(OR((D15<1.3),AND(C15<0.03,D15="N/A")),"No","Yes") -> No | G15: 43559 | H15: =INDEX('Q2 Holdings'!B$23:CN$23,1,'Informational Inputs'!$H5) -> 0 | I15: =INDEX('Q2 Holdings'!B$25:CN$25,1,'Informational Inputs'!$H5) -> 0 | J15: =INDEX('Q2 Holdings'!B$26:CN$26,1,'Informational Inputs'!$H5) -> N/A | K15: =IF(OR((J15<1.3),AND(I15<0.03,J15="N/A")),"No","Yes") -> No | M15: 43650 | N15: =INDEX('Q3 Holdings'!B$23:CN$23,1,'Informational Inputs'!$H5) -> 0 | O15: =INDEX('Q3 Holdings'!B$25:CN$25,1,'Informational Inputs'!$H5) -> 0 | P15: =INDEX('Q3 Holdings'!B$26:CN$26,1,'Informational Inputs'!$H5) -> N/A | Q15: =IF(OR((P15<1.3),AND(O15<0.03,P15="N/A")),"No","Yes") -> No | S15: 43742 | T15: =INDEX('Q4 Holdings'!B$23:CN$23,1,'Informational Inputs'!$H5) -> 0 | U15: =INDEX('Q4 Holdings'!B$25:CN$25,1,'Informational Inputs'!$H5) -> 0 | V15: =INDEX('Q4 Holdings'!B$26:CN$26,1,'Informational Inputs'!$H5) -> N/A | W15: =IF(OR((V15<1.3),AND(U15<0.03,V15="N/A")),"No","Yes") -> No
A16: 43470 | B16: =INDEX('Q1 Holdings'!B$23:CN$23,1,'Informational Inputs'!$H6) -> 0 | C16: =INDEX('Q1 Holdings'!B$25:CN$25,1,'Informational Inputs'!$H6) -> 0 | D16: =INDEX('Q1 Holdings'!B$26:CN$26,1,'Informational Inputs'!$H6) -> N/A | E16: =IF(OR((D16<1.3),AND(C16<0.03,D16="N/A")),"No","Yes") -> No | G16: 43560 | H16: =INDEX('Q2 Holdings'!B$23:CN$23,1,'Informational Inputs'!$H6) -> 0 | I16: =INDEX('Q2 Holdings'!B$25:CN$25,1,'Informational Inputs'!$H6) -> 0 | J16: =INDEX('Q2 Holdings'!B$26:CN$26,1,'Informational Inputs'!$H6) -> N/A | K16: =IF(OR((J16<1.3),AND(I16<0.03,J16="N/A")),"No","Yes") -> No | M16: 43651 | N16: =INDEX('Q3 Holdings'!B$23:CN$23,1,'Informational Inputs'!$H6) -> 0 | O16: =INDEX('Q3 Holdings'!B$25:CN$25,1,'Informational Inputs'!$H6) -> 0 | P16: =INDEX('Q3 Holdings'!B$26:CN$26,1,'Informational Inputs'!$H6) -> N/A | Q16: =IF(OR((P16<1.3),AND(O16<0.03,P16="N/A")),"No","Yes") -> No | S16: 43743 | T16: =INDEX('Q4 Holdings'!B$23:CN$23,1,'Informational Inputs'!$H6) -> 0 | U16: =INDEX('Q4 Holdings'!B$25:CN$25,1,'Informational Inputs'!$H6) -> 0 | V16: =INDEX('Q4 Holdings'!B$26:CN$26,1,'Informational Inputs'!$H6) -> N/A | W16: =IF(OR((V16<1.3),AND(U16<0.03,V16="N/A")),"No","Yes") -> No
A17: 43471 | B17: =INDEX('Q1 Holdings'!B$23:CN$23,1,'Informational Inputs'!$H7) -> 0 | C17: =INDEX('Q1 Holdings'!B$25:CN$25,1,'Informational Inputs'!$H7) -> 0 | D17: =INDEX('Q1 Holdings'!B$26:CN$26,1,'Informational Inputs'!$H7) -> N/A | E17: =IF(OR((D17<1.3),AND(C17<0.03,D17="N/A")),"No","Yes") -> No | G17: 43561 | H17: =INDEX('Q2 Holdings'!B$23:CN$23,1,'Informational Inputs'!$H7) -> 0 | I17: =INDEX('Q2 Holdings'!B$25:CN$25,1,'Informational Inputs'!$H7) -> 0 | J17: =INDEX('Q2 Holdings'!B$26:CN$26,1,'Informational Inputs'!$H7) -> N/A | K17: =IF(OR((J17<1.3),AND(I17<0.03,J17="N/A")),"No","Yes") -> No | M17: 43652 | N17: =INDEX('Q3 Holdings'!B$23:CN$23,1,'Informational Inputs'!$H7) -> 0 | O17: =INDEX('Q3 Holdings'!B$25:CN$25,1,'Informational Inputs'!$H7) -> 0 | P17: =INDEX('Q3 Holdings'!B$26:CN$26,1,'Informational Inputs'!$H7) -> N/A | Q17: =IF(OR((P17<1.3),AND(O17<0.03,P17="N/A")),"No","Yes") -> No | S17: 43744 | T17: =INDEX('Q4 Holdings'!B$23:CN$23,1,'Informational Inputs'!$H7) -> 0 | U17: =INDEX('Q4 Holdings'!B$25:CN$25,1,'Informational Inputs'!$H7) -> 0 | V17: =INDEX('Q4 Holdings'!B$26:CN$26,1,'Informational Inputs'!$H7) -> N/A | W17: =IF(OR((V17<1.3),AND(U17<0.03,V17="N/A")),"No","Yes") -> No
A18: 43472 | B18: =INDEX('Q1 Holdings'!B$23:CN$23,1,'Informational Inputs'!$H8) -> 0 | C18: =INDEX('Q1 Holdings'!B$25:CN$25,1,'Informational Inputs'!$H8) -> 0 | D18: =INDEX('Q1 Holdings'!B$26:CN$26,1,'Informational Inputs'!$H8) -> N/A | E18: =IF(OR((D18<1.3),AND(C18<0.03,D18="N/A")),"No","Yes") -> No | G18: 43562 | H18: =INDEX('Q2 Holdings'!B$23:CN$23,1,'Informational Inputs'!$H8) -> 0 | I18: =INDEX('Q2 Holdings'!B$25:CN$25,1,'Informational Inputs'!$H8) -> 0 | J18: =INDEX('Q2 Holdings'!B$26:CN$26,1,'Informational Inputs'!$H8) -> N/A | K18: =IF(OR((J18<1.3),AND(I18<0.03,J18="N/A")),"No","Yes") -> No | M18: 43653 | N18: =INDEX('Q3 Holdings'!B$23:CN$23,1,'Informational Inputs'!$H8) -> 0 | O18: =INDEX('Q3 Holdings'!B$25:CN$25,1,'Informational Inputs'!$H8) -> 0 | P18: =INDEX('Q3 Holdings'!B$26:CN$26,1,'Informational Inputs'!$H8) -> N/A | Q18: =IF(OR((P18<1.3),AND(O18<0.03,P18="N/A")),"No","Yes") -> No | S18: 43745 | T18: =INDEX('Q4 Holdings'!B$23:CN$23,1,'Informational Inputs'!$H8) -> 0 | U18: =INDEX('Q4 Holdings'!B$25:CN$25,1,'Informational Inputs'!$H8) -> 0 | V18: =INDEX('Q4 Holdings'!B$26:CN$26,1,'Informational Inputs'!$H8) -> N/A | W18: =IF(OR((V18<1.3),AND(U18<0.03,V18="N/A")),"No","Yes") -> No
A19: 43473 | B19: =INDEX('Q1 Holdings'!B$23:CN$23,1,'Informational Inputs'!$H9) -> 0 | C19: =INDEX('Q1 Holdings'!B$25:CN$25,1,'Informational Inputs'!$H9) -> 0 | D19: =INDEX('Q1 Holdings'!B$26:CN$26,1,'Informational Inputs'!$H9) -> N/A | E19: =IF(OR((D19<1.3),AND(C19<0.03,D19="N/A")),"No","Yes") -> No | G19: 43563 | H19: =INDEX('Q2 Holdings'!B$23:CN$23,1,'Informational Inputs'!$H9) -> 0 | I19: =INDEX('Q2 Holdings'!B$25:CN$25,1,'Informational Inputs'!$H9) -> 0 | J19: =INDEX('Q2 Holdings'!B$26:CN$26,1,'Informational Inputs'!$H9) -> N/A | K19: =IF(OR((J19<1.3),AND(I19<0.03,J19="N/A")),"No","Yes") -> No | M19: 43654 | N19: =INDEX('Q3 Holdings'!B$23:CN$23,1,'Informational Inputs'!$H9) -> 0 | O19: =INDEX('Q3 Holdings'!B$25:CN$25,1,'Informational Inputs'!$H9) -> 0 | P19: =INDEX('Q3 Holdings'!B$26:CN$26,1,'Informational Inputs'!$H9) -> N/A | Q19: =IF(OR((P19<1.3),AND(O19<0.03,P19="N/A")),"No","Yes") -> No | S19: 43746 | T19: =INDEX('Q4 Holdings'!B$23:CN$23,1,'Informational Inputs'!$H9) -> 0 | U19: =INDEX('Q4 Holdings'!B$25:CN$25,1,'Informational Inputs'!$H9) -> 0 | V19: =INDEX('Q4 Holdings'!B$26:CN$26,1,'Informational Inputs'!$H9) -> N/A | W19: =IF(OR((V19<1.3),AND(U19<0.03,V19="N/A")),"No","Yes") -> No
A20: 43474 | B20: =INDEX('Q1 Holdings'!B$23:CN$23,1,'Informational Inputs'!$H10) -> 0 | C20: =INDEX('Q1 Holdings'!B$25:CN$25,1,'Informational Inputs'!$H10) -> 0 | D20: =INDEX('Q1 Holdings'!B$26:CN$26,1,'Informational Inputs'!$H10) -> N/A | E20: =IF(OR((D20<1.3),AND(C20<0.03,D20="N/A")),"No","Yes") -> No | G20: 43564 | H20: =INDEX('Q2 Holdings'!B$23:CN$23,1,'Informational Inputs'!$H10) -> 0 | I20: =INDEX('Q2 Holdings'!B$25:CN$25,1,'Informational Inputs'!$H10) -> 0 | J20: =INDEX('Q2 Holdings'!B$26:CN$26,1,'Informational Inputs'!$H10) -> N/A | K20: =IF(OR((J20<1.3),AND(I20<0.03,J20="N/A")),"No","Yes") -> No | M20: 43655 | N20: =INDEX('Q3 Holdings'!B$23:CN$23,1,'Informational Inputs'!$H10) -> 0 | O20: =INDEX('Q3 Holdings'!B$25:CN$25,1,'Informational Inputs'!$H10) -> 0 | P20: =INDEX('Q3 Holdings'!B$26:CN$26,1,'Informational Inputs'!$H10) -> N/A | Q20: =IF(OR((P20<1.3),AND(O20<0.03,P20="N/A")),"No","Yes") -> No | S20: 43747 | T20: =INDEX('Q4 Holdings'!B$23:CN$23,1,'Informational Inputs'!$H10) -> 0 | U20: =INDEX('Q4 Holdings'!B$25:CN$25,1,'Informational Inputs'!$H10) -> 0 | V20: =INDEX('Q4 Holdings'!B$26:CN$26,1,'Informational Inputs'!$H10) -> N/A | W20: =IF(OR((V20<1.3),AND(U20<0.03,V20="N/A")),"No","Yes") -> No
A21: 43475 | B21: =INDEX('Q1 Holdings'!B$23:CN$23,1,'Informational Inputs'!$H11) -> 0 | C21: =INDEX('Q1 Holdings'!B$25:CN$25,1,'Informational Inputs'!$H11) -> 0 | D21: =INDEX('Q1 Holdings'!B$26:CN$26,1,'Informational Inputs'!$H11) -> N/A | E21: =IF(OR((D21<1.3),AND(C21<0.03,D21="N/A")),"No","Yes") -> No | G21: 43565 | H21: =INDEX('Q2 Holdings'!B$23:CN$23,1,'Informational Inputs'!$H11) -> 0 | I21: =INDEX('Q2 Holdings'!B$25:CN$25,1,'Informational Inputs'!$H11) -> 0 | J21: =INDEX('Q2 Holdings'!B$26:CN$26,1,'Informational Inputs'!$H11) -> N/A | K21: =IF(OR((J21<1.3),AND(I21<0.03,J21="N/A")),"No","Yes") -> No | M21: 43656 | N21: =INDEX('Q3 Holdings'!B$23:CN$23,1,'Informational Inputs'!$H11) -> 0 | O21: =INDEX('Q3 Holdings'!B$25:CN$25,1,'Informational Inputs'!$H11) -> 0 | P21: =INDEX('Q3 Holdings'!B$26:CN$26,1,'Informational Inputs'!$H11) -> N/A | Q21: =IF(OR((P21<1.3),AND(O21<0.03,P21="N/A")),"No","Yes") -> No | S21: 43748 | T21: =INDEX('Q4 Holdings'!B$23:CN$23,1,'Informational Inputs'!$H11) -> 0 | U21: =INDEX('Q4 Holdings'!B$25:CN$25,1,'Informational Inputs'!$H11) -> 0 | V21: =INDEX('Q4 Holdings'!B$26:CN$26,1,'Informational Inputs'!$H11) -> N/A | W21: =IF(OR((V21<1.3),AND(U21<0.03,V21="N/A")),"No","Yes") -> No
A22: 43476 | B22: =INDEX('Q1 Holdings'!B$23:CN$23,1,'Informational Inputs'!$H12) -> 0 | C22: =INDEX('Q1 Holdings'!B$25:CN$25,1,'Informational Inputs'!$H12) -> 0 | D22: =INDEX('Q1 Holdings'!B$26:CN$26,1,'Informational Inputs'!$H12) -> N/A | E22: =IF(OR((D22<1.3),AND(C22<0.03,D22="N/A")),"No","Yes") -> No | G22: 43566 | H22: =INDEX('Q2 Holdings'!B$23:CN$23,1,'Informational Inputs'!$H12) -> 0 | I22: =INDEX('Q2 Holdings'!B$25:CN$25,1,'Informational Inputs'!$H12) -> 0 | J22: =INDEX('Q2 Holdings'!B$26:CN$26,1,'Informational Inputs'!$H12) -> N/A | K22: =IF(OR((J22<1.3),AND(I22<0.03,J22="N/A")),"No","Yes") -> No | M22: 43657 | N22: =INDEX('Q3 Holdings'!B$23:CN$23,1,'Informational Inputs'!$H12) -> 0 | O22: =INDEX('Q3 Holdings'!B$25:CN$25,1,'Informational Inputs'!$H12) -> 0 | P22: =INDEX('Q3 Holdings'!B$26:CN$26,1,'Informational Inputs'!$H12) -> N/A | Q22: =IF(OR((P22<1.3),AND(O22<0.03,P22="N/A")),"No","Yes") -> No | S22: 43749 | T22: =INDEX('Q4 Holdings'!B$23:CN$23,1,'Informational Inputs'!$H12) -> 0 | U22: =INDEX('Q4 Holdings'!B$25:CN$25,1,'Informational Inputs'!$H12) -> 0 | V22: =INDEX('Q4 Holdings'!B$26:CN$26,1,'Informational Inputs'!$H12) -> N/A | W22: =IF(OR((V22<1.3),AND(U22<0.03,V22="N/A")),"No","Yes") -> No
A23: 43477 | B23: =INDEX('Q1 Holdings'!B$23:CN$23,1,'Informational Inputs'!$H13) -> 0 | C23: =INDEX('Q1 Holdings'!B$25:CN$25,1,'Informational Inputs'!$H13) -> 0 | D23: =INDEX('Q1 Holdings'!B$26:CN$26,1,'Informational Inputs'!$H13) -> N/A | E23: =IF(OR((D23<1.3),AND(C23<0.03,D23="N/A")),"No","Yes") -> No | G23: 43567 | H23: =INDEX('Q2 Holdings'!B$23:CN$23,1,'Informational Inputs'!$H13) -> 0 | I23: =INDEX('Q2 Holdings'!B$25:CN$25,1,'Informational Inputs'!$H13) -> 0 | J23: =INDEX('Q2 Holdings'!B$26:CN$26,1,'Informational Inputs'!$H13) -> N/A | K23: =IF(OR((J23<1.3),AND(I23<0.03,J23="N/A")),"No","Yes") -> No | M23: 43658 | N23: =INDEX('Q3 Holdings'!B$23:CN$23,1,'Informational Inputs'!$H13) -> 0 | O23: =INDEX('Q3 Holdings'!B$25:CN$25,1,'Informational Inputs'!$H13) -> 0 | P23: =INDEX('Q3 Holdings'!B$26:CN$26,1,'Informational Inputs'!$H13) -> N/A | Q23: =IF(OR((P23<1.3),AND(O23<0.03,P23="N/A")),"No","Yes") -> No | S23: 43750 | T23: =INDEX('Q4 Holdings'!B$23:CN$23,1,'Informational Inputs'!$H13) -> 0 | U23: =INDEX('Q4 Holdings'!B$25:CN$25,1,'Informational Inputs'!$H13) -> 0 | V23: =INDEX('Q4 Holdings'!B$26:CN$26,1,'Informational Inputs'!$H13) -> N/A | W23: =IF(OR((V23<1.3),AND(U23<0.03,V23="N/A")),"No","Yes") -> No
... A101: 43555 | B101: =INDEX('Q1 Holdings'!B$23:CN$23,1,'Informational Inputs'!$H91) -> 0 | C101: =INDEX('Q1 Holdings'!B$25:CN$25,1,'Informational Inputs'!$H91) -> 0 | D101: =INDEX('Q1 Holdings'!B$26:CN$26,1,'Informational Inputs'!$H91) -> N/A | E101: =IF(OR((D101<1.3),AND(C101<0.03,D101="N/A")),"No","Yes") -> No | G101: 43645 | H101: =INDEX('Q2 Holdings'!B$23:CN$23,1,'Informational Inputs'!$H91) -> 0 | I101: =INDEX('Q2 Holdings'!B$25:CN$25,1,'Informational Inputs'!$H91) -> 0 | J101: =INDEX('Q2 Holdings'!B$26:CN$26,1,'Informational Inputs'!$H91) -> N/A | K101: =IF(OR((J101<1.3),AND(I101<0.03,J101="N/A")),"No","Yes") -> No | M101: 43736 | N101: =INDEX('Q3 Holdings'!B$23:CN$23,1,'Informational Inputs'!$H91) -> 0 | O101: =INDEX('Q3 Holdings'!B$25:CN$25,1,'Informational Inputs'!$H91) -> 0 | P101: =INDEX('Q3 Holdings'!B$26:CN$26,1,'Informational Inputs'!$H91) -> N/A | Q101: =IF(OR((P101<1.3),AND(O101<0.03,P101="N/A")),"No","Yes") -> No | S101: 43828 | T101: =INDEX('Q4 Holdings'!B$23:CN$23,1,'Informational Inputs'!$H91) -> 0 | U101: =INDEX('Q4 Holdings'!B$25:CN$25,1,'Informational Inputs'!$H91) -> 0 | V101: =INDEX('Q4 Holdings'!B$26:CN$26,1,'Informational Inputs'!$H91) -> N/A | W101: =IF(OR((V101<1.3),AND(U101<0.03,V101="N/A")),"No","Yes") -> No
G102: 43646 | H102: =INDEX('Q2 Holdings'!B$23:CN$23,1,'Informational Inputs'!$H92) -> 0 | I102: =INDEX('Q2 Holdings'!B$25:CN$25,1,'Informational Inputs'!$H92) -> 0 | J102: =INDEX('Q2 Holdings'!B$26:CN$26,1,'Informational Inputs'!$H92) -> N/A | K102: =IF(OR((J102<1.3),AND(I102<0.03,J102="N/A")),"No","Yes") -> No | M102: 43737 | N102: =INDEX('Q3 Holdings'!B$23:CN$23,1,'Informational Inputs'!$H92) -> 0 | O102: =INDEX('Q3 Holdings'!B$25:CN$25,1,'Informational Inputs'!$H92) -> 0 | P102: =INDEX('Q3 Holdings'!B$26:CN$26,1,'Informational Inputs'!$H92) -> N/A | Q102: =IF(OR((P102<1.3),AND(O102<0.03,P102="N/A")),"No","Yes") -> No | S102: 43829 | T102: =INDEX('Q4 Holdings'!B$23:CN$23,1,'Informational Inputs'!$H92) -> 0 | U102: =INDEX('Q4 Holdings'!B$25:CN$25,1,'Informational Inputs'!$H92) -> 0 | V102: =INDEX('Q4 Holdings'!B$26:CN$26,1,'Informational Inputs'!$H92) -> N/A | W102: =IF(OR((V102<1.3),AND(U102<0.03,V102="N/A")),"No","Yes") -> No
M103: 43738 | N103: ='Q3 Holdings'!CO23 -> 0 | O103: ='Q3 Holdings'!CO25 -> 0 | P103: ='Q3 Holdings'!CO26 -> N/A | Q103: =IF(OR((P103<1.3),AND(O103<0.03,P103="N/A")),"No","Yes") -> No | S103: 43830 | T103: ='Q4 Holdings'!CO23 -> 0 | U103: ='Q4 Holdings'!CO25 -> 0 | V103: ='Q4 Holdings'!CO26 -> N/A | W103: =IF(OR((V103<1.3),AND(U103<0.03,V103="N/A")),"No","Yes") -> No
C108: =COUNTIF(C12:C101, ">0.03") -> 0 | D108: =COUNTIF(D12:D101, ">1.3") -> 0 | I108: =COUNTIF(I12:I102, ">0.03") -> 0 | J108: =COUNTIF(J12:J102, ">1.3") -> 0 | O108: =COUNTIF(O12:O103, ">0.03") -> 0 | P108: =COUNTIF(P12:P103, ">1.3") -> 0 | U108: =COUNTIF(U12:U103, ">0.03") -> 0 | V108: =COUNTIF(V12:V103, ">1.3") -> 0
