Workbook
Name AT: 'List Values'!$H$18
Name AT_ADC_high: 'List Values'!$H$25
Name AT_ADC_high_12: 'List Values'!$H$26
Name AT_ADC_high_8: 'List Values'!$H$25
Name AT_ADC_mid: 'List Values'!$H$23
Name AT_ADC_mid_12: 'List Values'!$H$24
Name AT_ADC_mid_8: 'List Values'!$H$23
Name AT_ADC_mid8: 'List Values'!$H$23
Name AT_LADC: 'List Values'!$H$27
Name ED_12: 'List Values'!$H$17
Name ED_8: 'List Values'!$H$16
Name EF: 'List Values'!$H$19
Name LT: 'List Values'!$H$22
Name Mol_Vol: 'List Values'!$G$13
Name MolVol: 'List Values'!$G$13
Name MolW: 'List Values'!$G$12
Name MW: 'List Values'!$G$12
Name WY_high: 'List Values'!$H$21
Name WY_mid: 'List Values'!$H$20

Sheet Cover Page
B8: Final Risk Evaluation for Carbon Tetrachloride
B9: Supplemental File Occupational Exposure Risk Calculator
B10: for Carbon Tetrachloride
B11: (Methane, Tetrachloro-)
B12: CASRN: 56-23-5

Sheet Table of Contents
A1: Table of Contents
A3: Worksheet | B3: Description
A4: Read Me | B4: This tab explains the key worksheets in this workbook.
A5: Dashboard | B5: This tab calculates and displays MOE values for the condition of use, type of worker, and type of respiratory protection selected by the user.
A6: RR | B6: This tab displays the risk reduction(RR)/management options for the inhalation route (based on user selection in "Dashboard" tab).
A7: Health Data | B7: This tab contains the health risk parameter values, which includes the benchmarch MOE values that are used in the "Dashboard" and "RR" tabs in order to estimate risk.
A8: Dermal Crosswalk | B8: This tab contains dermal exposure conditions for each condition of use which are used in the "Dermal Exposure" tab.
A9: Dermal Exposure | B9: This tab calculates the dermal exposure estimates (dose) for each condition of use.
A10: Inhalation Exposure | B10: This tab calculates the inhalation exposure estimates (dose) for each condition of use.
A11: List Values | B11: This tab contains the parameter values used to calculate the inhalation and dermal exposure calculations throughout the workbook.
A12: Exposure Factors | B12: This tab contains the exposure factors used to calculate dermal exposures for varying worker types in the "Dashboard" and "RR" tabs.
A13: Manufacture_raw data | B13: This tab contains the original sources and the associated inhalation data used to calculate 8-hr or 12-hr TWA exposure values for workers and ONUs during the manufacture of carbon tetrachloride.

Sheet Read Me
A2: Description of this workbook:
A3: The risk calculator contains the following spreadsheets: 1) Dashboard, 2) RR, 3) Health Data, 4) Dermal Exposure, 5) Dermal Crosswalk, 6) Inhalation Exposure, 7) List Values, 8) Exposure Factors, and 9) Manufacture Reactant Raw Data. The workbook is designed so that the user need only to use/change inputs the first two spreadsheets (i.e. the Dashboard and the RR), which have tabs colored green and contain the results of the risk calculator. The remaining spreadsheets contain data storage and calculation spreadsheets.
A5: Key Worksheets | B5: Description
A6: Dashboard | B6: This Dashboard is an interactive spreadsheet that allows a user to view exposure results for a selected COU and with a single PPE option of their choosing (i.e. respirator APF or Glove Protection Factor PF). The user can select a) the desired COU, b) PPE options, and c) dermal exposures for the worker type (either an average adult or a woman of childbearing age) from a drop-down menu. The exposure estimates are shown in the “Exposure Outputs” section for both inhalation and dermal routes and for high-end and central tendency exposures. For inhalation exposures the columns show results for both worker and ONU exposures. The “Risk Estimation” sections are separated into acute, chronic non-cancer and cancer sections. For each section there is a brief description of the hazard endpoint and the hazard value i.e. HEC for non-cancer effects from inhalation exposure, HED for non-cancer effects from dermal exposure or a slope factor for cancer and the benchmark MOEs or benchmark values for cancer risk are provided to the right of the hazard value. The risk estimations show two columns of risk estimates: one column for exposures without PPE and one column for the results of the user-selected PPE option. These two columns allow the user to compare with and without PPE results side-by-side. The Dashboard automatically shades the cancer risk and MOE cells when they exceed the cancer benchmark or the benchmark MOE value.
A7: RR | B7: The RR spreadsheet is an expanded version of the Dashboard. Similar to the Dashboard the RR allows the user to select a COU. However, the user also selected to see results for a worker or ONU and instead of requiring a user to select a single exposure reduction option, the Heat Map displays all the PPE options. The RR spreadsheet has a column each for no PPE and each PPE option (i.e. APF or PF). The RR spreadsheet has a row for each toxicity endpoint, and each row shows the cancer risk or MOE values. Similar to the Dashboard, the RR spreadsheet shades results if the MOE or cancer risk exceeds the benchmark MOE or cancer benchmark.
A8: Health Data, Dermal Exposure, Dermal Crosswalk, Inhalation Exposure, List Values and Exposure Factors | B8: As described above the remaining spreadsheets are data storage and calculation spreadsheets. These worksheets store the exposure estimates, health values and store some of the risk calculations. The user does not need to access these worksheets to use the Dashboard and RR spreadsheets as described above; all results are automatically loaded into the Dashboard and RR spreadsheets.
A10: Color Legends

Sheet Dashboard
C3: Condition of Use | D3: Inhalation Exposure | I3: Personal Protective Equipment (PPE) | M3: Dermal
C4: Select the Condition of Use (select) | D4: Data Type | F4: TWA | I4: Respirator Protection Factor (Select) | J4: Glove Protection Factor (Select) | M4: Worker Type (select)
C5: Manufacturing - 8-hr TWA | D5: =VLOOKUP($C$5,'Inhalation Exposure'!$C$5:$R$26,16,FALSE) -> Monitoring Data | F5: =VLOOKUP($C$5,'Inhalation Exposure'!$C$5:$R$26,2,FALSE) -> 8-hr | I5: 5 | J5: 5 | M5: Average Adult Worker
C7: Inhalation | D7: 8-hr and 12-hr TWA Exposures | M7: Dermal
C8: Exposure Outputs | M8: Exposure Outputs
C9: Category | D9: Exposure Level | E9: Full-Shift TWA Exposure | F9: Acute Exposures | G9: Chronic, Non-Cancer Exposures | H9: Chronic, Cancer Exposures | M9: Category | N9: Exposure Level | O9: Acute Potential Dose Rate | P9: Acute Retained Dose | Q9: Chronic Retained Dose, Non-Cancer | R9: Chronic Retained Dose, Cancer
E10: CCCl4, 8 or 12-hr TWA (mg/m3) | F10: ACCCl4, 8 or 12-hr TWA (mg/m3) | G10: ADCCCl4, 8 or 12-hr TWA (mg/m3) | H10: LADCCCl4 (mg/m3) | O10: APDRexp (mg/day) | P10: ARDCCl4 (mg/kg-day) | Q10: CRDCCl4 (mg/kg-day) | R10: CRDCCl4 (mg/kg-day)
C11: Worker | D11: High End | E11: =IF(SUMIFS('Inhalation Exposure'!$H:$H,'Inhalation Exposure'!$C:$C,$C$5,'Inhalation Exposure'!$E:$E,$C11,'Inhalation Exposure'!$R:$R,$D$5)>0, SUMIFS('Inhalation Exposure'!$H:$H,'Inhalation Exposure'!$C:$C,$C$5,'Inhalation Exposure'!$E:$E,$C11,'Inhalation Exposure'!$R:$R,$D$5), "No Data") -> 4.0379333 | F11: =IF(SUMIFS('Inhalation Exposure'!$J:$J,'Inhalation Exposure'!$C:$C,$C$5,'Inhalation Exposure'!$E:$E,$C11,'Inhalation Exposure'!$R:$R,$D$5)>0, SUMIFS('Inhalation Exposure'!$J:$J,'Inhalation Exposure'!$C:$C,$C$5,'Inhalation Exposure'!$E:$E,$C11,'Inhalation Exposure'!$R:$R,$D$5), "No Data") -> 4.0379333 | G11: =IF(SUMIFS('Inhalation Exposure'!$L:$L,'Inhalation Exposure'!$C:$C,$C$5,'Inhalation Exposure'!$E:$E,$C11,'Inhalation Exposure'!$R:$R,$D$5)>0, SUMIFS('Inhalation Exposure'!$L:$L,'Inhalation Exposure'!$C:$C,$C$5,'Inhalation Exposure'!$E:$E,$C11,'Inhalation Exposure'!$R:$R,$D$5), "No Data") -> 4.0379333 | H11: =IF(SUMIFS('Inhalation Exposure'!$N:$N,'Inhalation Exposure'!$C:$C,$C$5,'Inhalation Exposure'!$E:$E,$C11,'Inhalation Exposure'!$R:$R,$D$5)>0, SUMIFS('Inhalation Exposure'!$N:$N,'Inhalation Exposure'!$C:$C,$C$5,'Inhalation Exposure'!$E:$E,$C11,'Inhalation Exposure'!$R:$R,$D$5), "No Data") -> 0.47277055 | M11: Worker, No Gloves | N11: High End | O11: ='Dermal Exposure'!N6 -> 89.88 | P11: ='Dermal Exposure'!O6 -> 1.1235 | Q11: ='Dermal Exposure'!P6 -> 1.1235 | R11: ='Dermal Exposure'!Q6 -> 0.39462592
C12: ONU | E12: =IF(SUMIFS('Inhalation Exposure'!$H:$H,'Inhalation Exposure'!$C:$C,$C$5,'Inhalation Exposure'!$E:$E,$C12,'Inhalation Exposure'!$R:$R,$D$5)>0, SUMIFS('Inhalation Exposure'!$H:$H,'Inhalation Exposure'!$C:$C,$C$5,'Inhalation Exposure'!$E:$E,$C12, 'Inhalation Exposure'!$R:$R,$D$5), "No Data") -> 1.006593 | F12: =IF(SUMIFS('Inhalation Exposure'!$J:$J,'Inhalation Exposure'!$C:$C,$C$5,'Inhalation Exposure'!$E:$E,$C12,'Inhalation Exposure'!$R:$R,$D$5)>0, SUMIFS('Inhalation Exposure'!$J:$J,'Inhalation Exposure'!$C:$C,$C$5,'Inhalation Exposure'!$E:$E,$C12,'Inhalation Exposure'!$R:$R,$D$5), "No Data") -> 1.006593 | G12: =IF(SUMIFS('Inhalation Exposure'!$L:$L,'Inhalation Exposure'!$C:$C,$C$5,'Inhalation Exposure'!$E:$E,$C12,'Inhalation Exposure'!$R:$R,$D$5)>0, SUMIFS('Inhalation Exposure'!$L:$L,'Inhalation Exposure'!$C:$C,$C$5,'Inhalation Exposure'!$E:$E,$C12,'Inhalation Exposure'!$R:$R,$D$5), "No Data") -> 1.006593 | H12: =IF(SUMIFS('Inhalation Exposure'!$N:$N,'Inhalation Exposure'!$C:$C,$C$5,'Inhalation Exposure'!$E:$E,$C12,'Inhalation Exposure'!$R:$R,$D$5)>0, SUMIFS('Inhalation Exposure'!$N:$N,'Inhalation Exposure'!$C:$C,$C$5,'Inhalation Exposure'!$E:$E,$C12,'Inhalation Exposure'!$R:$R,$D$5), "No Data") -> 0.11785424 | N12: Central Tendency | O12: ='Dermal Exposure'!N7 -> 29.96 | P12: ='Dermal Exposure'!O7 -> 0.3745 | Q12: ='Dermal Exposure'!P7 -> 0.3745 | R12: ='Dermal Exposure'!Q7 -> 0.10194503
C13: Worker | D13: Central Tendency | E13: =IF(SUMIFS('Inhalation Exposure'!$I:$I,'Inhalation Exposure'!$C:$C,$C$5,'Inhalation Exposure'!$E:$E,$C13,'Inhalation Exposure'!$R:$R,$D$5)>0, SUMIFS('Inhalation Exposure'!$I:$I,'Inhalation Exposure'!$C:$C,$C$5,'Inhalation Exposure'!$E:$E,$C13,'Inhalation Exposure'!$R:$R,$D$5), "No Data") -> 0.75625432 | F13: =IF(SUMIFS('Inhalation Exposure'!$K:$K,'Inhalation Exposure'!$C:$C,$C$5,'Inhalation Exposure'!$E:$E,$C13,'Inhalation Exposure'!$R:$R,$D$5)>0, SUMIFS('Inhalation Exposure'!$K:$K,'Inhalation Exposure'!$C:$C,$C$5,'Inhalation Exposure'!$E:$E,$C13,'Inhalation Exposure'!$R:$R,$D$5), "No Data") -> 0.75625432 | G13: =IF(SUMIFS('Inhalation Exposure'!$M:$M,'Inhalation Exposure'!$C:$C,$C$5,'Inhalation Exposure'!$E:$E,$C13,'Inhalation Exposure'!$R:$R,$D$5)>0, SUMIFS('Inhalation Exposure'!$M:$M,'Inhalation Exposure'!$C:$C,$C$5,'Inhalation Exposure'!$E:$E,$C13,'Inhalation Exposure'!$R:$R,$D$5), "No Data") -> 0.75625432 | H13: =IF(SUMIFS('Inhalation Exposure'!$O:$O,'Inhalation Exposure'!$C:$C,$C$5,'Inhalation Exposure'!$E:$E,$C13,'Inhalation Exposure'!$R:$R,$D$5)>0, SUMIFS('Inhalation Exposure'!$O:$O,'Inhalation Exposure'!$C:$C,$C$5,'Inhalation Exposure'!$E:$E,$C13,'Inhalation Exposure'!$R:$R,$D$5), "No Data") -> 0.068621601 | M13: =_xlfn.CONCAT("Worker with Gloves; PF = ",J5) -> Worker with Gloves; PF = 5 | N13: High End | O13: =O11/$J$5 -> 17.976 | P13: =P11/$J$5 -> 0.2247 | Q13: =Q11/$J$5 -> 0.2247 | R13: =R11/$J$5 -> 0.078925184
C14: ONU | E14: =IF(SUMIFS('Inhalation Exposure'!$I:$I,'Inhalation Exposure'!$C:$C,$C$5,'Inhalation Exposure'!$E:$E,$C14,'Inhalation Exposure'!$R:$R,$D$5)>0, SUMIFS('Inhalation Exposure'!$I:$I,'Inhalation Exposure'!$C:$C,$C$5,'Inhalation Exposure'!$E:$E,$C14,'Inhalation Exposure'!$R:$R,$D$5), "No Data") -> 0.50329652 | F14: =IF(SUMIFS('Inhalation Exposure'!$K:$K,'Inhalation Exposure'!$C:$C,$C$5,'Inhalation Exposure'!$E:$E,$C14,'Inhalation Exposure'!$R:$R,$D$5)>0, SUMIFS('Inhalation Exposure'!$K:$K,'Inhalation Exposure'!$C:$C,$C$5,'Inhalation Exposure'!$E:$E,$C14,'Inhalation Exposure'!$R:$R,$D$5), "No Data") -> 0.50329652 | G14: =IF(SUMIFS('Inhalation Exposure'!$M:$M,'Inhalation Exposure'!$C:$C,$C$5,'Inhalation Exposure'!$E:$E,$C14,'Inhalation Exposure'!$R:$R,$D$5)>0, SUMIFS('Inhalation Exposure'!$M:$M,'Inhalation Exposure'!$C:$C,$C$5,'Inhalation Exposure'!$E:$E,$C14,'Inhalation Exposure'!$R:$R,$D$5), "No Data") -> 0.50329652 | H14: =IF(SUMIFS('Inhalation Exposure'!$O:$O,'Inhalation Exposure'!$C:$C,$C$5,'Inhalation Exposure'!$E:$E,$C14,'Inhalation Exposure'!$R:$R,$D$5)>0, SUMIFS('Inhalation Exposure'!$O:$O,'Inhalation Exposure'!$C:$C,$C$5,'Inhalation Exposure'!$E:$E,$C14,'Inhalation Exposure'!$R:$R,$D$5), "No Data") -> 0.045668517 | N14: Central Tendency | O14: =O12/$J$5 -> 5.992 | P14: =P12/$J$5 -> 0.0749 | Q14: =Q12/$J$5 -> 0.0749 | R14: =R12/$J$5 -> 0.020389006
M15: Worker, Occluded Exposure | N15: High End | O15: ='Dermal Exposure'!N8 -> Not Assessed | P15: ='Dermal Exposure'!O8 -> Not Assessed | Q15: ='Dermal Exposure'!P8 -> Not Assessed | R15: ='Dermal Exposure'!Q8 -> Not Assessed
N16: Central Tendency | O16: ='Dermal Exposure'!N9 -> Not Assessed | P16: ='Dermal Exposure'!O9 -> Not Assessed | Q16: ='Dermal Exposure'!P9 -> Not Assessed | R16: ='Dermal Exposure'!Q9 -> Not Assessed
C18: Risk Estimation for Acute Inhalation Exposures | M18: Risk Estimation for Acute Dermal Exposures
C19: Health Effect, Endpoint and Study | D19: HEC (mg/m3) | E19: Exposure Level | F19: Benchmark MOE (= Total UF) | G19: Chronic Exposure Estimates | I19: =_xlfn.CONCAT("Respirator Scenario: APF of ",$I$5) -> Respirator Scenario: APF of 5 | M19: Health Effect, Endpoint and Study | N19: HED (mg/kg-day) | O19: Exposure Level | P19: Benchmark MOE (= Total UF) | Q19: Chronic Exposure Estimates | R19: Gloved Scenarios
G20: Worker MOE | H20: ONU MOE | I20: Worker MOE | J20: ONU MOE | Q20: Worker MOE, No Gloves | R20: =_xlfn.CONCAT("Worker MOE with Gloves: ",$J$5) -> Worker MOE with Gloves: 5 | S20: Worker MOE, Occluded Exposure
B21: Tox01 | C21: CNS Temporarily disabling effects {Davis, 1934, 3611} | D21: =IF($F$5='List Values'!$D$23,VLOOKUP($B21,'Health Data'!$F$6:$I$8,2),VLOOKUP($B21,'Health Data'!$F$6:$I$8,3)) -> 360 | E21: High End | F21: =VLOOKUP($B$21,'Health Data'!$F$6:$K$9,4,FALSE) -> 10 | G21: =IFERROR($D21/$F$11, "") -> 89.154519 | H21: =IFERROR(D21/$F$12, "No Data") -> 357.64205 | I21: =IFERROR(D21/($F$11/$I$5),"") -> 445.77259 | J21: =IFERROR(D21/($F$12/$I$5), "No Data") -> 1788.2102 | L21: Tox05 | M21: Liver Liver toxicity - Histopathological changes in the liver (rats) {Nagano, 2007, 194127} | N21: =VLOOKUP($L21,'Health Data'!$F$14:$J$17,2,FALSE) -> 250 | O21: High End | P21: =VLOOKUP($L$21,'Health Data'!$F$14:$J$17,3,FALSE) -> 30 | Q21: =IFERROR(N21/$P$11, "No Data") -> 222.51891 | R21: =IFERROR(N21/$P$13, "No Data") -> 1112.5946 | S21: =IFERROR(N21/$P$15, "Not Assessed") -> Not Assessed
E22: Central Tendancy | F22: =VLOOKUP($B$21,'Health Data'!$F$6:$K$9,4,FALSE) -> 10 | G22: =IFERROR($D21/$F$13, "") -> 476.03034 | H22: =IFERROR(D21/$F$14, "No Data") -> 715.2841 | I22: =IFERROR(D21/($F$13/$I$5),"") -> 2380.1517 | J22: =IFERROR(D21/($F$14/$I$5), "No Data") -> 3576.4205 | O22: Central Tendancy | P22: =VLOOKUP($L$21,'Health Data'!$F$14:$J$17,3,FALSE) -> 30 | Q22: =IFERROR(N21/$P$12,"No Data") -> 667.55674 | R22: =IFERROR(N21/$P$14,"No Data") -> 3337.7837 | S22: =IFERROR(N21/$P$16,"Not Assessed") -> Not Assessed
C24: Risk Estimation for Chronic, Non-Cancer Inhalation Exposures | M24: Risk Estimation for Chronic, Non-Cancer Dermal Exposures
C25: Health Effect, Endpoint and Study | D25: HEC (mg/m3) | E25: Exposure Level | F25: Benchmark MOE (= Total UF) | G25: Chronic Exposure Estimates | I25: =_xlfn.CONCAT("Respirator Scenario: APF of ",$I$5) -> Respirator Scenario: APF of 5 | M25: Health Effect, Endpoint and Study | N25: HED (mg/kg-day) | O25: Exposure Level | P25: Benchmark MOE (= Total UF) | Q25: Chronic Exposure Estimates | R25: Gloved Scenarios
G26: Worker MOE | H26: ONU MOE | I26: Worker MOE | J26: ONU MOE | Q26: Worker MOE, No Gloves | R26: =_xlfn.CONCAT("Worker MOE with Gloves: ",$J$5) -> Worker MOE with Gloves: 5 | S26: Worker MOE, Occluded Exposure
B27: Tox02 | C27: Liver Liver toxicity - Fatty changes in the liver, chronic inhalation (rat) {Nagano, 2007, 194127} | D27: =IF($F$5='List Values'!$D$23,VLOOKUP($B27,'Health Data'!$F$6:$I$8,2),VLOOKUP($B27,'Health Data'!$F$6:$I$8,3)) -> 31.1 | E27: High End | F27: =VLOOKUP($B$27,'Health Data'!$F$6:$K$9,4,FALSE) -> 30 | G27: =IFERROR($D27/$G$11, "") -> 7.7019598 | H27: =IFERROR(D27/$G$12, "No Data") -> 30.896299 | I27: =IFERROR(D27/($G$11/$I$5),"") -> 38.509799 | J27: =IFERROR(D27/($G$12/$I$5), "No Data") -> 154.4815 | L27: Tox06 | M27: Liver Liver toxicity - Fatty changes in the liver, chronic inhalation (rat) {Nagano, 2007, 194127} | N27: =VLOOKUP($L27,'Health Data'!$F$14:$J$17,2,FALSE) -> 2.5 | O27: High End | P27: =VLOOKUP($L$27,'Health Data'!$F$14:$J$17,3,FALSE) -> 30 | Q27: =IFERROR(N27/$Q$11, "No Data") -> 2.2251891 | R27: =IFERROR(N27/$Q$13, "No Data") -> 11.125946 | S27: =IFERROR(N27/$Q$15, "Not Assessed") -> Not Assessed
E28: Central Tendancy | F28: =VLOOKUP($B$27,'Health Data'!$F$6:$K$9,4,FALSE) -> 30 | G28: =IFERROR($D27/$G$13, "") -> 41.123732 | H28: =IFERROR(D27/$G$14, "No Data") -> 61.792598 | I28: =IFERROR(D27/($G$13/$I$5),"") -> 205.61866 | J28: =IFERROR(D27/($G$14/$I$5), "No Data") -> 308.96299 | O28: Central Tendancy | P28: =VLOOKUP($L$27,'Health Data'!$F$14:$J$17,3,FALSE) -> 30 | Q28: =IFERROR(N27/$Q$12,"No Data") -> 6.6755674 | R28: =IFERROR(N27/$Q$14,"No Data") -> 33.377837 | S28: =IFERROR(N27/$Q$16,"Not Assessed") -> Not Assessed
C30: Chronic, Cancer Risks - Nonlinear | M30: Chronic, Cancer Risks - Nonlinear
C31: Health Effect, Endpoint and Study | D31: HEC (mg/m3) | E31: Exposure Level | F31: Benchmark MOE (= Total UF) | G31: Chronic Cancer Exposure Estimates | I31: =_xlfn.CONCAT("Respirator Scenario: APF of ",$I$5) -> Respirator Scenario: APF of 5 | M31: Health Effect, Endpoint and Study | N31: HED (mg/kg-day) | O31: Exposure Level | P31: Benchmark MOE (= Total UF) | Q31: Chronic Cancer Exposure Estimates | R31: Gloved Scenarios
G32: Worker | H32: ONU | I32: Worker | J32: ONU | Q32: No Gloves | R32: =_xlfn.CONCAT("Gloves: ",$J$5) -> Gloves: 5 | S32: Occluded Exposure
B33: Tox03 | C33: Cancer - Nonlinear {U.S. EPA, 2010, 3490869} | D33: =VLOOKUP($B$33,'Health Data'!$F$6:$K$9,2,FALSE) -> 6 | E33: High End | F33: =VLOOKUP($B$33,'Health Data'!$F$6:$K$9,4,FALSE) -> 300 | G33: =IFERROR($D33/$H$11,"") -> 12.691146 | H33: =IFERROR(D33/$H$12, "No Data") -> 50.910346 | I33: =IFERROR(D33/($H$11/$I$5),"") -> 63.455729 | J33: =IFERROR(D33/($H$12/$I$5),"No Data") -> 254.55173 | L33: Tox07 | M33: Cancer - Nonlinear {U.S. EPA, 2010, 3490869} | N33: =VLOOKUP($L$33,'Health Data'!$F$14:$J$17,2,FALSE) -> 1.4 | O33: High End | P33: =VLOOKUP($L$33,'Health Data'!$F$14:$J$17,3,FALSE) -> 300 | Q33: =IFERROR(N33/$R$11, "No Data") -> 3.5476636 | R33: =IFERROR(N33/$R$13, "No Data") -> 17.738318 | S33: =IFERROR($R$15/N33, "Not Assessed") -> Not Assessed
E34: Central Tendency | F34: =VLOOKUP($B$33,'Health Data'!$F$6:$K$9,4,FALSE) -> 300 | G34: =IFERROR($D33/$H$13,"") -> 87.436024 | H34: =IFERROR(D33/$H$14, "No Data") -> 131.38154 | I34: =IFERROR(D33/($H$13/$I$5),"") -> 437.18012 | J34: =IFERROR(D33/($H$14/$I$5), "No Data") -> 656.90769 | O34: Central Tendency | P34: =VLOOKUP($L$33,'Health Data'!$F$14:$J$17,3,FALSE) -> 300 | Q34: =IFERROR(N33/$R$12, "No Data") -> 13.732891 | R34: =IFERROR(N33/$R$14, "No Data") -> 68.664456 | S34: =IFERROR($R$16/N33, "Not Assessed") -> Not Assessed
C36: Chronic, Cancer Risks - Linear | M36: Chronic, Cancer Risks - Linear
C37: Risk Estimate | D37: IUR (m3/mg) | E37: Exposure Level | F37: Benchmark Cancer Risk Level | G37: Chronic Cancer Exposure Estimates | I37: =_xlfn.CONCAT("Respirator Scenario: APF of ",$I$5) -> Respirator Scenario: APF of 5 | M37: Risk Estimate | N37: Slope Factor (kg-d/mg) | O37: Exposure Level | P37: Benchmark Cancer Risk Level | Q37: Chronic Cancer Exposure Estimates | R37: Gloved Scenarios
G38: Worker | H38: ONU | I38: Worker | J38: ONU | Q38: No Gloves | R38: =_xlfn.CONCAT("Gloves: ",$J$5) -> Gloves: 5 | S38: Occluded Exposure
B39: Tox04 | C39: Cancer - Linear {U.S. EPA, 2010, 3490869} | D39: =VLOOKUP($B39,'Health Data'!$F$6:$K$9,6,FALSE) -> 0.006 | E39: High End | F39: =VLOOKUP(B39,'Health Data'!$F$6:$K$9,5,FALSE) -> 0.0001 | G39: =IF(H11="No Data", "No Data", H11*$D$39) -> 0.0028366233 | H39: =IF(H12="No Data", "No Data", H12*$D$39) -> 0.00070712543 | I39: =IF(H11="No Data", "No Data", (H11/$I$5)*$D$39) -> 0.00056732466 | J39: =IF(H12="No Data", "No Data", (H12/$I$5)*$D$39) -> 0.00014142509 | L39: Tox08 | M39: Cancer - Linear Dermal slope, {U.S. EPA, 2010, 3490869} | N39: =VLOOKUP($L39,'Health Data'!$F$14:$J$17,5,FALSE) -> 0.08 | O39: High End | P39: =VLOOKUP(L39,'Health Data'!$F$14:$J$17,4,FALSE) -> 0.0001 | Q39: =IFERROR($R$11*N39, "No Data") -> 0.031570074 | R39: =IFERROR($R$13*N39, "No Data") -> 0.0063140148 | S39: =IFERROR($R$15*N39, "Not Assessed") -> Not Assessed
E40: Central Tendency | G40: =IF(H13="No Data", "No Data", H13*$D$39) -> 0.00041172961 | H40: =IF(H14="No Data", "No Data", H14*$D$39) -> 0.0002740111 | I40: =IF(H13="No Data", "No Data", (H13/$I$5)*$D$39) -> 8.2345921e-05 | J40: =IF(H14="No Data", "No Data", (H14/$I$5)*$D$39) -> 5.4802221e-05 | O40: Central Tendency | Q40: =IFERROR($R$12*N39, "No Data") -> 0.0081556024 | R40: =IFERROR($R$14*N39, "No Data") -> 0.0016311205 | S40: =IFERROR($R$16*N39, "Not Assessed") -> Not Assessed
C71: Inhalation Cancer Risk Estimates | D71: Cancer Risk | E71: =_xlfn.CONCAT("Cancer Risk with APF of ",$I$5) -> Cancer Risk with APF of 5 | M71: Dermal Cancer Risk Estimates | N71: High End | O71: Central Tendency
C72: Worker: 50th Percentile | D72: =G40 -> 0.00041172961 | E72: =I40 -> 8.2345921e-05 | M72: =Q38 -> No Gloves | N72: =Q39 -> 0.031570074 | O72: =Q40 -> 0.0081556024
C73: Worker: 95th Percentile | D73: =G39 -> 0.0028366233 | E73: =I39 -> 0.00056732466 | M73: =R38 -> Gloves: 5 | N73: =R39 -> 0.0063140148 | O73: =R40 -> 0.0016311205
M74: =S38 -> Occluded Exposure | N74: =S39 -> Not Assessed | O74: =S40 -> Not Assessed

Sheet RR
H3: Condition of Use | I3: Inhalation Exposure | X3: Dermal
H4: Select the Condition of Use (select) | I4: Data Type | J4: Exposure Type (select) | L4: TWA | X4: Worker Type (select)
H5: Import/Repackaging | I5: =VLOOKUP($H$5,'Inhalation Exposure'!$C$5:$R$26,16,FALSE) -> Monitoring Data | J5: Worker | L5: =VLOOKUP($H$5,'Inhalation Exposure'!$C$5:$R$26,2,FALSE) -> 8-hr | X5: Average Adult Worker
H7: 8-hr and 12-hr TWA Exposures | X7: Dermal
H8: Exposure Outputs | X8: Exposure Outputs
H9: Category | I9: Exposure Level | J9: Full-Shift (Eight-Hour) TWA Exposure | K9: Acute Exposures | L9: Chronic, Non-Cancer Exposures | M9: Chronic, Cancer Exposures | X9: Category | Y9: Exposure Level | Z9: Acute Potential Dose Rate | AA9: Acute Retained Dose | AB9: Chronic Retained Dose, Non-Cancer | AC9: Chronic Retained Dose, Cancer
J10: CCCl4, 8 or 12-hr TWA (mg/m3) | K10: ACCCl4, 8 or 12-hr TWA (mg/m3) | L10: ADCCCl4, 8 or 12-hr TWA (mg/m3) | M10: LADCCCl4 (mg/m3) | Z10: APDRexp (mg/day) | AA10: ARDCCl4 (mg/kg-day) | AB10: CRDCCl4 (mg/kg-day) | AC10: CRDCCl4 (mg/kg-day)
H11: Worker | I11: High End | J11: =IF(SUMIFS('Inhalation Exposure'!$H:$H,'Inhalation Exposure'!$C:$C,$H$5,'Inhalation Exposure'!$E:$E,$H11,'Inhalation Exposure'!$R:$R,$I$5)>0, SUMIFS('Inhalation Exposure'!$H:$H,'Inhalation Exposure'!$C:$C,$H$5,'Inhalation Exposure'!$E:$E,$H11,'Inhalation Exposure'!$R:$R,$I$5), "No Data") -> 2.9186092 | K11: =IF(SUMIFS('Inhalation Exposure'!$J:$J,'Inhalation Exposure'!$C:$C,$H$5,'Inhalation Exposure'!$E:$E,$H11,'Inhalation Exposure'!$R:$R,$I$5)>0, SUMIFS('Inhalation Exposure'!$J:$J,'Inhalation Exposure'!$C:$C,$H$5,'Inhalation Exposure'!$E:$E,$H11,'Inhalation Exposure'!$R:$R,$I$5), "No Data") -> 2.9186092 | L11: =IF(SUMIFS('Inhalation Exposure'!$L:$L,'Inhalation Exposure'!$C:$C,$H$5,'Inhalation Exposure'!$E:$E,$H11,'Inhalation Exposure'!$R:$R,$I$5)>0, SUMIFS('Inhalation Exposure'!$L:$L,'Inhalation Exposure'!$C:$C,$H$5,'Inhalation Exposure'!$E:$E,$H11,'Inhalation Exposure'!$R:$R,$I$5), "No Data") -> 2.9186092 | M11: =IF(SUMIFS('Inhalation Exposure'!$N:$N,'Inhalation Exposure'!$C:$C,$H$5,'Inhalation Exposure'!$E:$E,$H11,'Inhalation Exposure'!$R:$R,$I$5)>0, SUMIFS('Inhalation Exposure'!$N:$N,'Inhalation Exposure'!$C:$C,$H$5,'Inhalation Exposure'!$E:$E,$H11,'Inhalation Exposure'!$R:$R,$I$5), "No Data") -> 0.3417175 | X11: Worker, No Gloves | Y11: High End | Z11: ='Dermal Exposure'!N11 -> 89.88 | AA11: ='Dermal Exposure'!O11 -> 1.1235 | AB11: ='Dermal Exposure'!P11 -> 1.1235 | AC11: ='Dermal Exposure'!Q11 -> 0.39462592
H12: ONU | J12: =IF(SUMIFS('Inhalation Exposure'!$H:$H,'Inhalation Exposure'!$C:$C,$H$5,'Inhalation Exposure'!$E:$E,$H12,'Inhalation Exposure'!$R:$R,$I$5)>0, SUMIFS('Inhalation Exposure'!$H:$H,'Inhalation Exposure'!$C:$C,$H$5,'Inhalation Exposure'!$E:$E,$H12,'Inhalation Exposure'!$R:$R,$I$5), "No Data") -> No Data | K12: =IF(SUMIFS('Inhalation Exposure'!$J:$J,'Inhalation Exposure'!$C:$C,$H$5,'Inhalation Exposure'!$E:$E,$H12,'Inhalation Exposure'!$R:$R,$I$5)>0, SUMIFS('Inhalation Exposure'!$J:$J,'Inhalation Exposure'!$C:$C,$H$5,'Inhalation Exposure'!$E:$E,$H12,'Inhalation Exposure'!$R:$R,$I$5), "No Data") -> No Data | L12: =IF(SUMIFS('Inhalation Exposure'!$L:$L,'Inhalation Exposure'!$C:$C,$H$5,'Inhalation Exposure'!$E:$E,$H12,'Inhalation Exposure'!$R:$R,$I$5)>0, SUMIFS('Inhalation Exposure'!$L:$L,'Inhalation Exposure'!$C:$C,$H$5,'Inhalation Exposure'!$E:$E,$H12,'Inhalation Exposure'!$R:$R,$I$5), "No Data") -> No Data | M12: =IF(SUMIFS('Inhalation Exposure'!$N:$N,'Inhalation Exposure'!$C:$C,$H$5,'Inhalation Exposure'!$E:$E,$H12,'Inhalation Exposure'!$R:$R,$I$5)>0, SUMIFS('Inhalation Exposure'!$N:$N,'Inhalation Exposure'!$C:$C,$H$5,'Inhalation Exposure'!$E:$E,$H12,'Inhalation Exposure'!$R:$R,$I$5), "No Data") -> No Data | Y12: Central Tendency | Z12: ='Dermal Exposure'!N12 -> 29.96 | AA12: ='Dermal Exposure'!O12 -> 0.3745 | AB12: ='Dermal Exposure'!P12 -> 0.3745 | AC12: ='Dermal Exposure'!Q12 -> 0.10194503
H13: Worker | I13: Central Tendency | J13: =IF(SUMIFS('Inhalation Exposure'!$I:$I,'Inhalation Exposure'!$C:$C,$H$5,'Inhalation Exposure'!$E:$E,$H13,'Inhalation Exposure'!$R:$R,$I$5)>0, SUMIFS('Inhalation Exposure'!$I:$I,'Inhalation Exposure'!$C:$C,$H$5,'Inhalation Exposure'!$E:$E,$H13,'Inhalation Exposure'!$R:$R,$I$5), "No Data") -> 0.88971096 | K13: =IF(SUMIFS('Inhalation Exposure'!$K:$K,'Inhalation Exposure'!$C:$C,$H$5,'Inhalation Exposure'!$E:$E,$H13,'Inhalation Exposure'!$R:$R,$I$5)>0, SUMIFS('Inhalation Exposure'!$K:$K,'Inhalation Exposure'!$C:$C,$H$5,'Inhalation Exposure'!$E:$E,$H13,'Inhalation Exposure'!$R:$R,$I$5), "No Data") -> 0.88971096 | L13: =IF(SUMIFS('Inhalation Exposure'!$M:$M,'Inhalation Exposure'!$C:$C,$H$5,'Inhalation Exposure'!$E:$E,$H13,'Inhalation Exposure'!$R:$R,$I$5)>0, SUMIFS('Inhalation Exposure'!$M:$M,'Inhalation Exposure'!$C:$C,$H$5,'Inhalation Exposure'!$E:$E,$H13,'Inhalation Exposure'!$R:$R,$I$5), "No Data") -> 0.88971096 | M13: =IF(SUMIFS('Inhalation Exposure'!$O:$O,'Inhalation Exposure'!$C:$C,$H$5,'Inhalation Exposure'!$E:$E,$H13,'Inhalation Exposure'!$R:$R,$I$5)>0, SUMIFS('Inhalation Exposure'!$O:$O,'Inhalation Exposure'!$C:$C,$H$5,'Inhalation Exposure'!$E:$E,$H13,'Inhalation Exposure'!$R:$R,$I$5), "No Data") -> 0.080731296 | X13: =_xlfn.CONCAT("Worker with Gloves; PF = ",'List Values'!F3) -> Worker with Gloves; PF = 5 | Y13: High End | Z13: =Z11/'List Values'!$F$3 -> 17.976 | AA13: =AA11/'List Values'!$F$3 -> 0.2247 | AB13: =AB11/'List Values'!$F$3 -> 0.2247 | AC13: =AC11/'List Values'!$F$3 -> 0.078925184
H14: ONU | J14: =IF(SUMIFS('Inhalation Exposure'!$I:$I,'Inhalation Exposure'!$C:$C,$H$5,'Inhalation Exposure'!$E:$E,$H14,'Inhalation Exposure'!$R:$R,$I$5)>0, SUMIFS('Inhalation Exposure'!$I:$I,'Inhalation Exposure'!$C:$C,$H$5,'Inhalation Exposure'!$E:$E,$H14,'Inhalation Exposure'!$R:$R,$I$5), "No Data") -> 0.88971096 | K14: =IF(SUMIFS('Inhalation Exposure'!$K:$K,'Inhalation Exposure'!$C:$C,$H$5,'Inhalation Exposure'!$E:$E,$H14,'Inhalation Exposure'!$R:$R,$I$5)>0, SUMIFS('Inhalation Exposure'!$K:$K,'Inhalation Exposure'!$C:$C,$H$5,'Inhalation Exposure'!$E:$E,$H14,'Inhalation Exposure'!$R:$R,$I$5), "No Data") -> 0.88971096 | L14: =IF(SUMIFS('Inhalation Exposure'!$M:$M,'Inhalation Exposure'!$C:$C,$H$5,'Inhalation Exposure'!$E:$E,$H14,'Inhalation Exposure'!$R:$R,$I$5)>0, SUMIFS('Inhalation Exposure'!$M:$M,'Inhalation Exposure'!$C:$C,$H$5,'Inhalation Exposure'!$E:$E,$H14,'Inhalation Exposure'!$R:$R,$I$5), "No Data") -> 0.88971096 | M14: =IF(SUMIFS('Inhalation Exposure'!$O:$O,'Inhalation Exposure'!$C:$C,$H$5,'Inhalation Exposure'!$E:$E,$H14,'Inhalation Exposure'!$R:$R,$I$5)>0, SUMIFS('Inhalation Exposure'!$O:$O,'Inhalation Exposure'!$C:$C,$H$5,'Inhalation Exposure'!$E:$E,$H14,'Inhalation Exposure'!$R:$R,$I$5), "No Data") -> 0.080731296 | Y14: Central Tendency | Z14: =Z12/'List Values'!$F$3 -> 5.992 | AA14: =AA12/'List Values'!$F$3 -> 0.0749 | AB14: =AB12/'List Values'!$F$3 -> 0.0749 | AC14: =AC12/'List Values'!$F$3 -> 0.020389006
X15: =_xlfn.CONCAT("Worker with Gloves; PF = ",'List Values'!F4) -> Worker with Gloves; PF = 10 | Y15: High End | Z15: =Z11/'List Values'!$F$4 -> 8.988 | AA15: =AA11/'List Values'!$F$4 -> 0.11235 | AB15: =AB11/'List Values'!$F$4 -> 0.11235 | AC15: =AC11/'List Values'!$F$4 -> 0.039462592
Y16: Central Tendency | Z16: =Z12/'List Values'!$F$4 -> 2.996 | AA16: =AA12/'List Values'!$F$4 -> 0.03745 | AB16: =AB12/'List Values'!$F$4 -> 0.03745 | AC16: =AC12/'List Values'!$F$4 -> 0.010194503
X17: =_xlfn.CONCAT("Worker with Gloves; PF = ",'List Values'!F5) -> Worker with Gloves; PF = 20 | Y17: High End | Z17: =Z11/'List Values'!$F$5 -> 4.494 | AA17: =AA11/'List Values'!$F$5 -> 0.056175 | AB17: =AB11/'List Values'!$F$5 -> 0.056175 | AC17: =AC11/'List Values'!$F$5 -> 0.019731296
Y18: Central Tendency | Z18: =Z12/'List Values'!$F$5 -> 1.498 | AA18: =AA12/'List Values'!$F$5 -> 0.018725 | AB18: =AB12/'List Values'!$F$5 -> 0.018725 | AC18: =AC12/'List Values'!$F$5 -> 0.0050972515
X19: Worker, Occluded Exposure | Y19: High End | Z19: ='Dermal Exposure'!N13 -> Not Assessed | AA19: ='Dermal Exposure'!O13 -> Not Assessed | AB19: ='Dermal Exposure'!P13 -> Not Assessed | AC19: ='Dermal Exposure'!Q13 -> Not Assessed
Y20: Central Tendency | Z20: ='Dermal Exposure'!N14 -> Not Assessed | AA20: ='Dermal Exposure'!O14 -> Not Assessed | AB20: ='Dermal Exposure'!P14 -> Not Assessed | AC20: ='Dermal Exposure'!Q14 -> Not Assessed
H22: Risk Estimation for Inhalation Exposures | X22: Risk Estimation for Dermal Exposures
C23: Risk Type | D23: Toxicity Endpoint | F23: Study | H23: HEC (mg/m3) | I23: Exposure Level | J23: Benchmark MOE (= Total UF)/Benchmark | K23: =CONCATENATE("Exposure Estimates: ",$J$5," MOE") -> Exposure Estimates: Worker MOE | S23: Risk Type | T23: Toxicity Endpoint | V23: Study | X23: HED (mg/kg-day) | Y23: Exposure Level | Z23: Benchmark MOE (= Total UF)/Benchmark | AA23: =CONCATENATE("Exposure Estimates: ",$J$5," MOE") -> Exposure Estimates: Worker MOE
K24: No Respirator | L24: APF = 10 | M24: APF = 25 | N24: APF = 50 | O24: APF = 1,000 | P24: APF = 10,000 | AA24: Occluded | AB24: No Gloves | AC24: PF = 5 | AD24: PF = 10 | AE24: PF = 20
B25: Tox01 | C25: Acute | D25: CNS | E25: Temporarily disabling effects | F25: {Davis, 1934, 3611} | H25: =IF($L$5='List Values'!$D$23,VLOOKUP($B25,'Health Data'!$F$6:$I$8,2),VLOOKUP($B25,'Health Data'!$F$6:$I$8,3)) -> 360 | I25: High End | J25: =VLOOKUP($B$25,'Health Data'!F6:K9,4,FALSE) -> 10 | K25: =IFERROR($H25/IF($J$5="Worker",$K$11, $K$12), "No Data") -> 123.34642 | L25: =IFERROR($H25/(IF($J$5="Worker",$K$11,$K$12)/'List Values'!$D$16), "No Data") -> 1233.4642 | M25: =IFERROR($H25/(IF($J$5="Worker",$K$11,$K$12)/'List Values'!$D$17), "No Data") -> 3083.6605 | N25: =IFERROR($H25/(IF($J$5="Worker",$K$11,$K$12)/'List Values'!$D$18), "No Data") -> 6167.3211 | O25: =IFERROR($H25/(IF($J$5="Worker",$K$11,$K$12)/'List Values'!$D$19), "No Data") -> 123346.42 | P25: =IFERROR($H25/(IF($J$5="Worker",$K$11,$K$12)/'List Values'!$D$20), "No Data") -> 1233464.2 | R25: Tox05 | S25: Acute | T25: Liver | U25: Histopathological changes in the liver, chronic inhalation (rat) | V25: {Nagano, 2007, 194127} | X25: =VLOOKUP($R25,'Health Data'!$F$14:$J$17,2,FALSE) -> 250 | Y25: High End | Z25: =VLOOKUP($R$25,'Health Data'!$F$14:$J$17,3,FALSE) -> 30 | AA25: =IFERROR($X25/AA$19, "Not Assessed") -> Not Assessed | AB25: =IFERROR($X25/AA$11, "") -> 222.51891 | AC25: =IFERROR($X25/AA$13, "") -> 1112.5946 | AD25: =IFERROR($X25/AA$15, "") -> 2225.1891 | AE25: =IFERROR($X25/AA$17, "") -> 4450.3783
I26: Central Tendancy | J26: =VLOOKUP($B$25,'Health Data'!F6:K9,4,FALSE) -> 10 | K26: =IFERROR($H25/IF($J$5="Worker",$K$13,$K$14), "No Data") -> 404.62579 | L26: =IFERROR($H25/(IF($J$5="Worker",$K$13,$K$14)/('List Values'!$D$16)), "No Data") -> 4046.2579 | M26: =IFERROR($H25/(IF($J$5="Worker",$K$13,$K$14)/'List Values'!$D$17), "No Data") -> 10115.645 | N26: =IFERROR($H25/(IF($J$5="Worker",$K$13,$K$14)/'List Values'!$D$18), "No Data") -> 20231.289 | O26: =IFERROR($H25/(IF($J$5="Worker",$K$13,$K$14)/'List Values'!$D$19), "No Data") -> 404625.79 | P26: =IFERROR($H25/(IF($J$5="Worker",$K$13,$K$14)/'List Values'!$D$20), "No Data") -> 4046257.9 | Y26: Central Tendency | Z26: =VLOOKUP($R$25,'Health Data'!$F$14:$J$17,3,FALSE) -> 30 | AA26: =IFERROR($X26/AA$20, "Not Assessed") -> Not Assessed | AB26: =IFERROR($X25/AA$12, "") -> 667.55674 | AC26: =IFERROR($X25/AA$14, "") -> 3337.7837 | AD26: =IFERROR($X25/AA$16, "") -> 6675.5674 | AE26: =IFERROR($X25/AA$18, "") -> 13351.135
B27: Tox02 | C27: Chronic, Non-Cancer | D27: Liver | E27: Liver toxicity - Fatty changes in the liver, chronic inhalation (rat) | F27: {Nagano, 2007, 194127} | H27: =IF($L$5='List Values'!$D$23,VLOOKUP($B27,'Health Data'!$F$6:$I$8,2),VLOOKUP($B27,'Health Data'!$F$6:$I$8,3)) -> 31.1 | I27: High End | J27: =VLOOKUP(B27,'Health Data'!F6:K9,4,FALSE) -> 30 | K27: =IFERROR($H27/IF($J$5="Worker",$L$11, $L$12), "No Data") -> 10.65576 | L27: =IFERROR($H27/(IF($J$5="Worker",$L$11,$L$12)/'List Values'!$D$16), "No Data") -> 106.5576 | M27: =IFERROR($H27/(IF($J$5="Worker",$L$11,$L$12)/'List Values'!$D$17), "No Data") -> 266.39401 | N27: =IFERROR($H27/(IF($J$5="Worker",$L$11,$L$12)/'List Values'!$D$18), "No Data") -> 532.78802 | O27: =IFERROR($H27/(IF($J$5="Worker",$L$11,$L$12)/'List Values'!$D$19), "No Data") -> 10655.76 | P27: =IFERROR($H27/(IF($J$5="Worker",$L$11,$L$12)/'List Values'!$D$20), "No Data") -> 106557.6 | R27: Tox06 | S27: Chronic, Non-Cancer | T27: Liver | U27: Liver toxicity - Fatty changes in the liver, chronic inhalation (rat) | V27: {Nagano, 2007, 194127} | X27: =VLOOKUP($R27,'Health Data'!$F$14:$J$17,2,FALSE) -> 2.5 | Y27: High End | Z27: =VLOOKUP($R$27,'Health Data'!$F$14:$J$17,3,FALSE) -> 30 | AA27: =IFERROR($X27/AB$19, "Not Assessed") -> Not Assessed | AB27: =IFERROR($X27/AB$11, "") -> 2.2251891 | AC27: =IFERROR($X27/AB$13, "") -> 11.125946 | AD27: =IFERROR($X27/AB$15, "") -> 22.251891 | AE27: =IFERROR($X27/AB$17, "") -> 44.503783
I28: Central Tendancy | J28: =VLOOKUP(B27,'Health Data'!F6:K9,4,FALSE) -> 30 | K28: =IFERROR($H27/IF($J$5="Worker",$L$13,$L$14), "No Data") -> 34.955172 | L28: =IFERROR($H27/(IF($J$5="Worker",$L$13,$L$14)/('List Values'!$D$16)), "No Data") -> 349.55172 | M28: =IFERROR($H27/(IF($J$5="Worker",$L$13,$L$14)/'List Values'!$D$17), "No Data") -> 873.87931 | N28: =IFERROR($H27/(IF($J$5="Worker",$L$13,$L$14)/'List Values'!$D$18), "No Data") -> 1747.7586 | O28: =IFERROR($H27/(IF($J$5="Worker",$L$13,$L$14)/'List Values'!$D$19), "No Data") -> 34955.172 | P28: =IFERROR($H27/(IF($J$5="Worker",$L$13,$L$14)/'List Values'!$D$20), "No Data") -> 349551.72 | Y28: Central Tendency | Z28: =VLOOKUP($R$27,'Health Data'!$F$14:$J$17,3,FALSE) -> 30 | AA28: =IFERROR($X27/AB$20, "Not Assessed") -> Not Assessed | AB28: =IFERROR($X27/AB$12, "") -> 6.6755674 | AC28: =IFERROR($X27/AB$14, "") -> 33.377837 | AD28: =IFERROR($X27/AB$16, "") -> 66.755674 | AE28: =IFERROR($X27/AB$18, "") -> 133.51135
B29: Tox03 | C29: Chronic, Cancer | D29: Cancer | E29: Cancer - Nonlinear | F29: {U.S. EPA, 2010, 3490869} | H29: =VLOOKUP($B29,'Health Data'!$F$6:$K$9,2) -> 6 | I29: High End | J29: =VLOOKUP(B29,'Health Data'!F6:K9,4,FALSE) -> 300 | K29: =IF($J$5="Worker",IFERROR($H$29/$M11, "No Data"), IFERROR($H$29/$M12, "No Data")) -> 17.558363 | L29: =IF($J$5="Worker", IFERROR($H$29/$M11/'List Values'!$D$16, "No Data"), IFERROR($H$29/$M12/'List Values'!$D$16, "No Data")) -> 1.7558363 | M29: =IF($J$5="Worker",IFERROR($H$29/$M11/'List Values'!$D$17, "No Data"), IFERROR($H$29/$M12/'List Values'!$D$17, "No Data")) -> 0.70233453 | N29: =IF($J$5="Worker", IFERROR($H$29/$M11/'List Values'!$D$18, "No Data"), IFERROR($H$29/$M12/'List Values'!$D$18, "No Data")) -> 0.35116726 | O29: =IF($J$5="Worker", IFERROR($H$29/$M11/'List Values'!$D$19, "No Data"), IFERROR($H$29/$M12/'List Values'!$D$19, "No Data")) -> 0.017558363 | P29: =IF($J$5="Worker", IFERROR($H$29/$M11/'List Values'!$D$20, "No Data"), IFERROR($H$29/$M12/'List Values'!$D$20, "No Data")) -> 0.0017558363 | R29: Tox07 | S29: Chronic, Cancer | T29: Cancer | U29: Cancer - Nonlinear | V29: {U.S. EPA, 2010, 3490869} | X29: =VLOOKUP(R29,'Health Data'!$F$14:$J$17,2,FALSE) -> 1.4 | Y29: High End | Z29: =VLOOKUP($R$29,'Health Data'!$F$14:$J$17,3,FALSE) -> 300 | AA29: =IFERROR($X$29/$AC19, "Not Assessed") -> Not Assessed | AB29: =IFERROR($X$29/$AC11, "Not Assessed") -> 3.5476636 | AC29: =IFERROR($X$29/$AC13, "Not Assessed") -> 17.738318 | AD29: =IFERROR($X$29/$AC15, "Not Assessed") -> 35.476636 | AE29: =IFERROR($X$29/$AC17, "Not Assessed") -> 70.953271
I30: Central Tendancy | J30: =VLOOKUP(B29,'Health Data'!F6:K9,4,FALSE) -> 300 | K30: =IF($J$5="Worker", IFERROR($H$29/$M13, "No Data"), IFERROR($H$29/$M14, "No Data")) -> 74.320621 | L30: =IF($J$5="Worker", IFERROR($H$29/$M13/'List Values'!$D$16, "No Data"), IFERROR($H$29/$M14/'List Values'!$D$16, "No Data")) -> 7.4320621 | M30: =IF($J$5="Worker", IFERROR($H$29/$M13/'List Values'!$D$17, "No Data"), IFERROR($H$29/$M14/'List Values'!$D$17, "No Data")) -> 2.9728248 | N30: =IF($J$5="Worker", IFERROR($H$29/$M13/'List Values'!$D$18, "No Data"), IFERROR($H$29/$M14/'List Values'!$D$18, "No Data")) -> 1.4864124 | O30: =IF($J$5="Worker", IFERROR($H$29/$M13/'List Values'!$D$19, "No Data"), IFERROR($H$29/$M14/'List Values'!$D$19, "No Data")) -> 0.074320621 | P30: =IF($J$5="Worker", IFERROR($H$29/$M13/'List Values'!$D$20, "No Data"), IFERROR($H$29/$M14/'List Values'!$D$20, "No Data")) -> 0.0074320621 | Y30: Central Tendency | Z30: =VLOOKUP($R$29,'Health Data'!$F$14:$J$17,3,FALSE) -> 300 | AA30: =IFERROR(X30/$AC20, "Not Assessed") -> Not Assessed | AB30: =IFERROR($X$29/$AC12, "Not Assessed") -> 13.732891 | AC30: =IFERROR($X$29/$AC14, "Not Assessed") -> 68.664456 | AD30: =IFERROR($X$29/$AC16, "Not Assessed") -> 137.32891 | AE30: =IFERROR($X$29/$AC18, "Not Assessed") -> 274.65782
B31: Tox04 | E31: Cancer - Linear | F31: {U.S. EPA, 2010, 3490869} | H31: =VLOOKUP(B31,'Health Data'!F6:K9,6) -> 0.006 | I31: High End | J31: =VLOOKUP(B31,'Health Data'!F6:K9,5,FALSE) -> 0.0001 | K31: =IF($J$5="Worker", IFERROR($M$11*$H$31, "No Data"), IFERROR($M$12*$H$31, "No Data")) -> 0.002050305 | L31: =IF($J$5="Worker", IFERROR($M$11*$H$31/('List Values'!$D16), "No Data"), IFERROR($M$12*$H$31/('List Values'!$D16), "No Data")) -> 0.0002050305 | M31: =IF($J$5="Worker", IFERROR($M$11*$H$31/('List Values'!$D17), "No Data"), IFERROR($M$12*$H$31/('List Values'!$D17), "No Data")) -> 8.20122e-05 | N31: =IF($J$5="Worker", IFERROR($M$11*$H$31/('List Values'!$D18), "No Data"), IFERROR($M$12*$H$31/('List Values'!$D18), "No Data")) -> 4.10061e-05 | O31: =IF($J$5="Worker", IFERROR($M$11*$H$31/('List Values'!$D19), "No Data"), IFERROR($M$12*$H$31/('List Values'!$D19), "No Data")) -> 2.050305e-06 | P31: =IF($J$5="Worker", IFERROR($M$11*$H$31/('List Values'!$D20), "No Data"), IFERROR($M$12*$H$31/('List Values'!$D20), "No Data")) -> 2.050305e-07 | R31: Tox08 | U31: Cancer Slope Factor | V31: {U.S. EPA, 2010, 3490869} | X31: =VLOOKUP($R31,'Health Data'!$F$14:$J$17,5,FALSE) -> 0.08 | Y31: High End | Z31: =VLOOKUP(R31,'Health Data'!$F$14:$J$17,4,FALSE) -> 0.0001 | AA31: =IFERROR($X31/AC$19, "Not Assessed") -> Not Assessed | AB31: =IFERROR($X31*$AC11, "") -> 0.031570074 | AC31: =IFERROR($X31*$AC13, "") -> 0.0063140148 | AD31: =IFERROR($X31*$AC15, "") -> 0.0031570074 | AE31: =IFERROR($X31*$AC17, "") -> 0.0015785037
I32: Central Tendency | J32: =VLOOKUP(B31,'Health Data'!F6:K9,5,FALSE) -> 0.0001 | K32: =IF($J$5="Worker", IFERROR($M$13*$H$31, "No Data"), IFERROR($M$14*$H$31, "No Data")) -> 0.00048438777 | L32: =IF($J$5="Worker", IFERROR($M$13*$H$31/('List Values'!$D$16), "No Data"), IFERROR($M$14*$H$31/('List Values'!$D$16), "No Data")) -> 4.8438777e-05 | M32: =IF($J$5="Worker", IFERROR($M$13*$H$31/('List Values'!$D$17), "No Data"), IFERROR($M$14*$H$31/('List Values'!$D$17), "No Data")) -> 1.9375511e-05 | N32: =IF($J$5="Worker", IFERROR($M$13*$H$31/('List Values'!$D$18), "No Data"), IFERROR($M$14*$H$31/('List Values'!$D$18), "No Data")) -> 9.6877555e-06 | O32: =IF($J$5="Worker", IFERROR($M$13*$H$31/('List Values'!$D$19), "No Data"), IFERROR($M$14*$H$31/('List Values'!$D$19), "No Data")) -> 4.8438777e-07 | P32: =IF($J$5="Worker", IFERROR($M$13*$H$31/('List Values'!$D$20), "No Data"), IFERROR($M$14*$H$31/('List Values'!$D$20), "No Data")) -> 4.8438777e-08 | Y32: Central Tendency | Z32: =VLOOKUP(R31,'Health Data'!$F$14:$J$17,4,FALSE) -> 0.0001 | AA32: =IFERROR($X32/AC$20, "Not Assessed") -> Not Assessed | AB32: =IFERROR($X31*$AC12, "") -> 0.0081556024 | AC32: =IFERROR($X31*$AC14, "") -> 0.0016311205 | AD32: =IFERROR($X31*$AC16, "") -> 0.00081556024 | AE32: =IFERROR($X31*$AC18, "") -> 0.00040778012
H56: Inhalation Cancer Risk Estimates | I56: =I31 -> High End | J56: =I32 -> Central Tendency
H57: No Respirator | I57: =K31 -> 0.002050305 | J57: =K32 -> 0.00048438777 | X57: Dermal Cancer Risk Estimates | Y57: =Y31 -> High End | Z57: =Y32 -> Central Tendency
H58: APF = 10 | I58: =L31 -> 0.0002050305 | J58: =L32 -> 4.8438777e-05 | X58: Occluded Exposure | Y58: =AA31 -> Not Assessed | Z58: =AA32 -> Not Assessed
H59: APF = 25 | I59: =M31 -> 8.20122e-05 | J59: =M32 -> 1.9375511e-05 | X59: No Gloves (PF = 1) | Y59: =AB31 -> 0.031570074 | Z59: =AB32 -> 0.0081556024
A60: = | H60: APF = 50 | I60: =N31 -> 4.10061e-05 | J60: =N32 -> 9.6877555e-06 | X60: Protective Gloves (PF = 5) | Y60: =AC31 -> 0.0063140148 | Z60: =AC32 -> 0.0016311205
H61: APF = 1,000 | I61: =O31 -> 2.050305e-06 | J61: =O32 -> 4.8438777e-07 | X61: Protective Gloves (Commercial uses, PF = 10) | Y61: =AD31 -> 0.0031570074 | Z61: =AD32 -> 0.00081556024
H62: APF = 10,000 | I62: =P31 -> 2.050305e-07 | J62: =P32 -> 4.8438777e-08 | X62: Protective Gloves (Industrial uses, PF = 20) | Y62: =AE31 -> 0.0015785037 | Z62: =AE32 -> 0.00040778012

Sheet Health Data
B2: Look-up Values and Risk Parameter Values
B4: Inhalation
C5: Toxicity Endpoint | E5: Study | F5: Code | G5: HEC 8-hr (mg/m3) | H5: HEC 12-hr (mg/m3) | I5: Benchmark MOE | J5: Benchmark | K5: IUR (m3/mg) | N5: Exposure Percentiles | O5: Target Cancer Risk Level
B6: Acute | C6: CNS | D6: Temporarily disabling effects | E6: {Davis, 1934, 3611} | F6: Tox01 | G6: 360 | H6: 310 | I6: 10 | K6: -- | N6: Central Tendancy | O6: =0.00001 -> 1e-05
B7: Chronic, Non-Cancer | C7: Liver | D7: Liver toxicity - Fatty changes in the liver, chronic inhalation (rat) | E7: {Nagano, 2007, 194127} | F7: Tox02 | G7: 31.1 | H7: 26.4 | I7: 30 | K7: --
B8: Chronic, Cancer | C8: Cancer | D8: Nonlinear approach | E8: {U.S. EPA, 2010, 3490869} | F8: Tox03 | G8: 6 | H8: -- | I8: 300 | K8: --
D9: Linear approach | E9: {U.S. EPA, 2010, 3490869} | F9: Tox04 | G9: -- | H9: -- | I9: -- | J9: =0.0001 -> 0.0001 | K9: =0.000006*1000 -> 0.006
N11: HEC conversion factor
B12: Dermal | N12: =O13/O14 -> 0.15895202 | P12: ppm/mg/m3
C13: Toxicity Endpoint | E13: Study | F13: Code | G13: HED (mg/kg-d) | H13: Benchmark MOE | I13: Benchmark | J13: IUR (kg-d/mg) | N13: Molar Volume | O13: 24.45 | P13: L/mol
B14: Acute | C14: Liver | D14: Histopathological changes in the liver, chronic inhalation (rat) | E14: {Nagano, 2007, 194127} | F14: Tox05 | G14: 250 | H14: 30 | J14: -- | N14: MW | O14: 153.82 | P14: g/mol
B15: Chronic, Non-Cancer | C15: Liver | D15: Liver toxicity - Fatty changes in the liver, chronic inhalation (rat) | E15: {Nagano, 2007, 194127} | F15: Tox06 | G15: 2.5 | H15: 30 | J15: --
B16: Chronic, Cancer | C16: Cancer | D16: Nonlinear approach | E16: {U.S. EPA, 2010, 3490869} | F16: Tox07 | G16: 1.4 | H16: 300 | J16: --
D17: Cancer Slope Factor | E17: {U.S. EPA, 2010, 3490869} | F17: Tox08 | G17: -- | H17: -- | I17: =0.0001 -> 0.0001 | J17: 0.08

Sheet Dermal Crosswalk
A3: Look-up Name | B3: Condition of Use | C3: Bin | D3: Max Yderm | E3: Occlusion Considered? | F3: Fraction Absorbed, fabs | G3: Occluded Fraction Absorbed
A4: Manufacturing - 8-hr TWA | B4: Manufacturing - 8-hr TWA | C4: 1 | D4: 1 | E4: No | F4: 0.04 | G4: =IF(E4="Yes",1,"N/A") -> N/A
A5: Manufacturing - 12-hr TWA | B5: Manufacturing - 12-hr TWA | C5: 1 | D5: 1 | E5: No | F5: 0.04 | G5: =IF(E5="Yes",1,"N/A") -> N/A
A6: Import/Repackaging | B6: Import/Repackaging | C6: 1 | D6: 1 | E6: No | F6: 0.04 | G6: =IF(E6="Yes",1,"N/A") -> N/A
A7: Processing as Reactant - 8-hr TWA | B7: Processing as Reactant - 8-hr TWA | C7: 1 | D7: 1 | E7: No | F7: 0.04 | G7: =IF(E7="Yes",1,"N/A") -> N/A
A8: Processing as Reactant - 12-hr TWA | B8: Processing as Reactant - 12-hr TWA | C8: 1 | D8: 1 | E8: No | F8: 0.04 | G8: =IF(E8="Yes",1,"N/A") -> N/A
A9: Industrial Processing Aid | B9: Industrial Processing Aid | C9: 1 | D9: 1 | E9: No | F9: 0.04 | G9: =IF(E9="Yes",1,"N/A") -> N/A
A10: Additive | B10: Additive | C10: 1 | D10: 1 | E10: No | F10: 0.04 | G10: =IF(E10="Yes",1,"N/A") -> N/A
A11: Waste Handling | B11: Waste Handling | C11: 1 | D11: 1 | E11: No | F11: 0.04 | G11: =IF(E11="Yes",1,"N/A") -> N/A
A12: Specialty Uses - DoD | B12: Specialty Uses - DoD | C12: 1 | D12: 1 | E12: No | F12: 0.04 | G12: =IF(E12="Yes",1,"N/A") -> N/A

Sheet Dermal Exposure
A2: For Dashboard | G2: Dermal Calculation Numbers | N2: Calculated Doses
D3: Exposure Category | E3: Exposure Level | G3: Max Yderm | H3: Calculated Fraction Absorbed, Fabs | I3: Exposure Frequency (EF) (days/yr) | J3: Exposure Frequency (FT) (event/day) | K3: 2-Hand Surface Area (cm2) | L3: Body Weight (kg) | M3: Quantity Remaining on Skin (Qu) (mg/cm2-event) | N3: Acute Potential Dose Rate | O3: Acute Retained Dose | P3: Chronic Retained Dose, Non-Cancer | Q3: Chronic Retained Dose, Cancer
A5: Look-up Name | B5: Condition of Use | C5: Worker Type | F5: Bin | N5: APDRexp (mg/day) | O5: ARDCCl4 (mg/kg-day) | P5: CRDCCl4 (mg/kg-day) | Q5: CRDCCl4 (mg/kg-day)
A6: =Dashboard!$C$5 -> Manufacturing - 8-hr TWA | B6: =VLOOKUP($A6,'Dermal Crosswalk'!$A$4:$G$12,2,FALSE) -> Manufacturing - 8-hr TWA | C6: =Dashboard!$M$5 -> Average Adult Worker | D6: No Gloves | E6: High End | F6: =VLOOKUP($A6,'Dermal Crosswalk'!$A$4:$G$12,3,FALSE) -> 1 | G6: =VLOOKUP($A6,'Dermal Crosswalk'!$A$4:$G$12,4,FALSE) -> 1 | H6: =IF($D6="No Gloves",VLOOKUP($A6,'Dermal Crosswalk'!$A$4:$G$12,6,FALSE),VLOOKUP($A6,'Dermal Crosswalk'!$A$4:$G$12,7,FALSE)) -> 0.04 | I6: =VLOOKUP(A6,'Inhalation Exposure'!$C$5:$R$26,MATCH($E6,'Inhalation Exposure'!$F$4:$G$4,0)+3,FALSE) -> 250 | J6: 1 | K6: =HLOOKUP($C6,'Exposure Factors'!$C$4:$D$10,MATCH($E6,'Exposure Factors'!$E$6:$E$7,0)+2,FALSE) -> 1070 | L6: =HLOOKUP($C6,'Exposure Factors'!$C$4:$D$10,2,FALSE) -> 80 | M6: 2.1 | N6: =IFERROR(K6*M6*H6*G6*J6,"Not Assessed") -> 89.88 | O6: =IFERROR($N6/L6,"Not Assessed") -> 1.1235 | P6: =IFERROR($O6*$I6*HLOOKUP($C6,'Exposure Factors'!$C$4:$D$10,MATCH($E6,'Exposure Factors'!$E$8:$E$9,0)+4,FALSE)/(250*HLOOKUP($C6,'Exposure Factors'!$C$4:$D$10,MATCH($E6,'Exposure Factors'!$E$8:$E$9,0)+4,FALSE)),"Not Assessed") -> 1.1235 | Q6: =IFERROR($O6*$I6*HLOOKUP($C6,'Exposure Factors'!$C$4:$D$10,MATCH($E6,'Exposure Factors'!$E$8:$E$9,0)+4,FALSE)/(365*HLOOKUP($C6,'Exposure Factors'!$C$4:$D$10,7,FALSE)),"Not Assessed") -> 0.39462592
A7: =Dashboard!$C$5 -> Manufacturing - 8-hr TWA | B7: =VLOOKUP($A7,'Dermal Crosswalk'!$A$4:$G$12,2,FALSE) -> Manufacturing - 8-hr TWA | C7: =Dashboard!$M$5 -> Average Adult Worker | D7: No Gloves | E7: Central Tendency | F7: =VLOOKUP($A7,'Dermal Crosswalk'!$A$4:$G$12,3,FALSE) -> 1 | G7: =VLOOKUP($A7,'Dermal Crosswalk'!$A$4:$G$12,4,FALSE) -> 1 | H7: =IF($D7="No Gloves",VLOOKUP($A7,'Dermal Crosswalk'!$A$4:$G$12,6,FALSE),VLOOKUP($A7,'Dermal Crosswalk'!$A$4:$G$12,7,FALSE)) -> 0.04 | I7: =VLOOKUP(A7,'Inhalation Exposure'!$C$5:$R$26,MATCH($E7,'Inhalation Exposure'!$F$4:$G$4,0)+3,FALSE) -> 250 | J7: 1 | K7: =HLOOKUP($C7,'Exposure Factors'!$C$4:$D$10,MATCH($E7,'Exposure Factors'!$E$6:$E$7,0)+2,FALSE) -> 535 | L7: =HLOOKUP($C7,'Exposure Factors'!$C$4:$D$10,2,FALSE) -> 80 | M7: 1.4 | N7: =IFERROR(K7*M7*H7*G7*J7,"Not Assessed") -> 29.96 | O7: =IFERROR($N7/L7,"Not Assessed") -> 0.3745 | P7: =IFERROR($O7*$I7*HLOOKUP($C7,'Exposure Factors'!$C$4:$D$10,MATCH($E7,'Exposure Factors'!$E$8:$E$9,0)+4,FALSE)/(250*HLOOKUP($C7,'Exposure Factors'!$C$4:$D$10,MATCH($E7,'Exposure Factors'!$E$8:$E$9,0)+4,FALSE)),"Not Assessed") -> 0.3745 | Q7: =IFERROR($O7*$I7*HLOOKUP($C7,'Exposure Factors'!$C$4:$D$10,MATCH($E7,'Exposure Factors'!$E$8:$E$9,0)+4,FALSE)/(365*HLOOKUP($C7,'Exposure Factors'!$C$4:$D$10,7,FALSE)),"Not Assessed") -> 0.10194503
A8: =Dashboard!$C$5 -> Manufacturing - 8-hr TWA | B8: =VLOOKUP($A8,'Dermal Crosswalk'!$A$4:$G$12,2,FALSE) -> Manufacturing - 8-hr TWA | C8: =Dashboard!$M$5 -> Average Adult Worker | D8: Occluded Exposure | E8: High End | F8: =VLOOKUP($A8,'Dermal Crosswalk'!$A$4:$G$12,3,FALSE) -> 1 | G8: =VLOOKUP($A8,'Dermal Crosswalk'!$A$4:$G$12,4,FALSE) -> 1 | H8: =IF($D8="No Gloves",VLOOKUP($A8,'Dermal Crosswalk'!$A$4:$G$12,6,FALSE),VLOOKUP($A8,'Dermal Crosswalk'!$A$4:$G$12,7,FALSE)) -> N/A | I8: =VLOOKUP(A8,'Inhalation Exposure'!$C$5:$R$26,MATCH($E8,'Inhalation Exposure'!$F$4:$G$4,0)+3,FALSE) -> 250 | J8: 1 | K8: =HLOOKUP($C8,'Exposure Factors'!$C$4:$D$10,MATCH($E8,'Exposure Factors'!$E$6:$E$7,0)+2,FALSE) -> 1070 | L8: =HLOOKUP($C8,'Exposure Factors'!$C$4:$D$10,2,FALSE) -> 80 | M8: 2.1 | N8: =IFERROR(K8*M8*H8*G8*J8,"Not Assessed") -> Not Assessed | O8: =IFERROR($N8/L8,"Not Assessed") -> Not Assessed | P8: =IFERROR($O8*$I8*HLOOKUP($C8,'Exposure Factors'!$C$4:$D$10,MATCH($E8,'Exposure Factors'!$E$8:$E$9,0)+4,FALSE)/(250*HLOOKUP($C8,'Exposure Factors'!$C$4:$D$10,MATCH($E8,'Exposure Factors'!$E$8:$E$9,0)+4,FALSE)),"Not Assessed") -> Not Assessed | Q8: =IFERROR($O8*$I8*HLOOKUP($C8,'Exposure Factors'!$C$4:$D$10,MATCH($E8,'Exposure Factors'!$E$8:$E$9,0)+4,FALSE)/(365*HLOOKUP($C8,'Exposure Factors'!$C$4:$D$10,7,FALSE)),"Not Assessed") -> Not Assessed
A9: =Dashboard!$C$5 -> Manufacturing - 8-hr TWA | B9: =VLOOKUP($A9,'Dermal Crosswalk'!$A$4:$G$12,2,FALSE) -> Manufacturing - 8-hr TWA | C9: =Dashboard!$M$5 -> Average Adult Worker | D9: Occluded Exposure | E9: Central Tendency | F9: =VLOOKUP($A9,'Dermal Crosswalk'!$A$4:$G$12,3,FALSE) -> 1 | G9: =VLOOKUP($A9,'Dermal Crosswalk'!$A$4:$G$12,4,FALSE) -> 1 | H9: =IF($D9="No Gloves",VLOOKUP($A9,'Dermal Crosswalk'!$A$4:$G$12,6,FALSE),VLOOKUP($A9,'Dermal Crosswalk'!$A$4:$G$12,7,FALSE)) -> N/A | I9: =VLOOKUP(A9,'Inhalation Exposure'!$C$5:$R$26,MATCH($E9,'Inhalation Exposure'!$F$4:$G$4,0)+3,FALSE) -> 250 | J9: 1 | K9: =HLOOKUP($C9,'Exposure Factors'!$C$4:$D$10,MATCH($E9,'Exposure Factors'!$E$6:$E$7,0)+2,FALSE) -> 535 | L9: =HLOOKUP($C9,'Exposure Factors'!$C$4:$D$10,2,FALSE) -> 80 | M9: 1.4 | N9: =IFERROR(K9*M9*H9*G9*J9,"Not Assessed") -> Not Assessed | O9: =IFERROR($N9/L9,"Not Assessed") -> Not Assessed | P9: =IFERROR($O9*$I9*HLOOKUP($C9,'Exposure Factors'!$C$4:$D$10,MATCH($E9,'Exposure Factors'!$E$8:$E$9,0)+4,FALSE)/(250*HLOOKUP($C9,'Exposure Factors'!$C$4:$D$10,MATCH($E9,'Exposure Factors'!$E$8:$E$9,0)+4,FALSE)),"Not Assessed") -> Not Assessed | Q9: =IFERROR($O9*$I9*HLOOKUP($C9,'Exposure Factors'!$C$4:$D$10,MATCH($E9,'Exposure Factors'!$E$8:$E$9,0)+4,FALSE)/(365*HLOOKUP($C9,'Exposure Factors'!$C$4:$D$10,7,FALSE)),"Not Assessed") -> Not Assessed
A10: For Risk Reduction (RR) Heat Map
A11: =RR!$H$5 -> Import/Repackaging | B11: =VLOOKUP($A11,'Dermal Crosswalk'!$A$4:$G$12,2,FALSE) -> Import/Repackaging | C11: =RR!$X$5 -> Average Adult Worker | D11: No Gloves | E11: High End | F11: =VLOOKUP($A11,'Dermal Crosswalk'!$A$4:$G$12,3,FALSE) -> 1 | G11: =VLOOKUP($A11,'Dermal Crosswalk'!$A$4:$G$12,4,FALSE) -> 1 | H11: =IF($D11="No Gloves",VLOOKUP($A11,'Dermal Crosswalk'!$A$4:$G$12,6,FALSE),VLOOKUP($A11,'Dermal Crosswalk'!$A$4:$G$12,7,FALSE)) -> 0.04 | I11: 250 | J11: 1 | K11: =HLOOKUP($C11,'Exposure Factors'!$C$4:$D$10,MATCH($E11,'Exposure Factors'!$E$6:$E$7,0)+2,FALSE) -> 1070 | L11: =HLOOKUP($C11,'Exposure Factors'!$C$4:$D$10,2,FALSE) -> 80 | M11: 2.1 | N11: =IFERROR(K11*M11*H11*G11*J11,"Not Assessed") -> 89.88 | O11: =IFERROR($N11/L11,"Not Assessed") -> 1.1235 | P11: =IFERROR($O11*$I11*HLOOKUP($C11,'Exposure Factors'!$C$4:$D$10,MATCH($E11,'Exposure Factors'!$E$8:$E$9,0)+4,FALSE)/(250*HLOOKUP($C11,'Exposure Factors'!$C$4:$D$10,MATCH($E11,'Exposure Factors'!$E$8:$E$9,0)+4,FALSE)),"Not Assessed") -> 1.1235 | Q11: =IFERROR($O11*$I11*HLOOKUP($C11,'Exposure Factors'!$C$4:$D$10,MATCH($E11,'Exposure Factors'!$E$8:$E$9,0)+4,FALSE)/(365*HLOOKUP($C11,'Exposure Factors'!$C$4:$D$10,7,FALSE)),"Not Assessed") -> 0.39462592
A12: =RR!$H$5 -> Import/Repackaging | B12: =VLOOKUP($A12,'Dermal Crosswalk'!$A$4:$G$12,2,FALSE) -> Import/Repackaging | C12: =RR!$X$5 -> Average Adult Worker | D12: No Gloves | E12: Central Tendency | F12: =VLOOKUP($A12,'Dermal Crosswalk'!$A$4:$G$12,3,FALSE) -> 1 | G12: =VLOOKUP($A12,'Dermal Crosswalk'!$A$4:$G$12,4,FALSE) -> 1 | H12: =IF($D12="No Gloves",VLOOKUP($A12,'Dermal Crosswalk'!$A$4:$G$12,6,FALSE),VLOOKUP($A12,'Dermal Crosswalk'!$A$4:$G$12,7,FALSE)) -> 0.04 | I12: 250 | J12: 1 | K12: =HLOOKUP($C12,'Exposure Factors'!$C$4:$D$10,MATCH($E12,'Exposure Factors'!$E$6:$E$7,0)+2,FALSE) -> 535 | L12: =HLOOKUP($C12,'Exposure Factors'!$C$4:$D$10,2,FALSE) -> 80 | M12: 1.4 | N12: =IFERROR(K12*M12*H12*G12*J12,"Not Assessed") -> 29.96 | O12: =IFERROR($N12/L12,"Not Assessed") -> 0.3745 | P12: =IFERROR($O12*$I12*HLOOKUP($C12,'Exposure Factors'!$C$4:$D$10,MATCH($E12,'Exposure Factors'!$E$8:$E$9,0)+4,FALSE)/(250*HLOOKUP($C12,'Exposure Factors'!$C$4:$D$10,MATCH($E12,'Exposure Factors'!$E$8:$E$9,0)+4,FALSE)),"Not Assessed") -> 0.3745 | Q12: =IFERROR($O12*$I12*HLOOKUP($C12,'Exposure Factors'!$C$4:$D$10,MATCH($E12,'Exposure Factors'!$E$8:$E$9,0)+4,FALSE)/(365*HLOOKUP($C12,'Exposure Factors'!$C$4:$D$10,7,FALSE)),"Not Assessed") -> 0.10194503
A13: =RR!$H$5 -> Import/Repackaging | B13: =VLOOKUP($A13,'Dermal Crosswalk'!$A$4:$G$12,2,FALSE) -> Import/Repackaging | C13: =RR!$X$5 -> Average Adult Worker | D13: Occluded Exposure | E13: High End | F13: =VLOOKUP($A13,'Dermal Crosswalk'!$A$4:$G$12,3,FALSE) -> 1 | G13: =VLOOKUP($A13,'Dermal Crosswalk'!$A$4:$G$12,4,FALSE) -> 1 | H13: =IF($D13="No Gloves",VLOOKUP($A13,'Dermal Crosswalk'!$A$4:$G$12,6,FALSE),VLOOKUP($A13,'Dermal Crosswalk'!$A$4:$G$12,7,FALSE)) -> N/A | I13: 250 | J13: 1 | K13: =HLOOKUP($C13,'Exposure Factors'!$C$4:$D$10,MATCH($E13,'Exposure Factors'!$E$6:$E$7,0)+2,FALSE) -> 1070 | L13: =HLOOKUP($C13,'Exposure Factors'!$C$4:$D$10,2,FALSE) -> 80 | M13: 2.1 | N13: =IFERROR(K13*M13*H13*G13*J13,"Not Assessed") -> Not Assessed | O13: =IFERROR($N13/L13,"Not Assessed") -> Not Assessed | P13: =IFERROR($O13*$I13*HLOOKUP($C13,'Exposure Factors'!$C$4:$D$10,MATCH($E13,'Exposure Factors'!$E$8:$E$9,0)+4,FALSE)/(250*HLOOKUP($C13,'Exposure Factors'!$C$4:$D$10,MATCH($E13,'Exposure Factors'!$E$8:$E$9,0)+4,FALSE)),"Not Assessed") -> Not Assessed | Q13: =IFERROR($O13*$I13*HLOOKUP($C13,'Exposure Factors'!$C$4:$D$10,MATCH($E13,'Exposure Factors'!$E$8:$E$9,0)+4,FALSE)/(365*HLOOKUP($C13,'Exposure Factors'!$C$4:$D$10,7,FALSE)),"Not Assessed") -> Not Assessed
A14: =RR!$H$5 -> Import/Repackaging | B14: =VLOOKUP($A14,'Dermal Crosswalk'!$A$4:$G$12,2,FALSE) -> Import/Repackaging | C14: =RR!$X$5 -> Average Adult Worker | D14: Occluded Exposure | E14: Central Tendency | F14: =VLOOKUP($A14,'Dermal Crosswalk'!$A$4:$G$12,3,FALSE) -> 1 | G14: =VLOOKUP($A14,'Dermal Crosswalk'!$A$4:$G$12,4,FALSE) -> 1 | H14: =IF($D14="No Gloves",VLOOKUP($A14,'Dermal Crosswalk'!$A$4:$G$12,6,FALSE),VLOOKUP($A14,'Dermal Crosswalk'!$A$4:$G$12,7,FALSE)) -> N/A | I14: 250 | J14: 1 | K14: =HLOOKUP($C14,'Exposure Factors'!$C$4:$D$10,MATCH($E14,'Exposure Factors'!$E$6:$E$7,0)+2,FALSE) -> 535 | L14: =HLOOKUP($C14,'Exposure Factors'!$C$4:$D$10,2,FALSE) -> 80 | M14: 1.4 | N14: =IFERROR(K14*M14*H14*G14*J14,"Not Assessed") -> Not Assessed | O14: =IFERROR($N14/L14,"Not Assessed") -> Not Assessed | P14: =IFERROR($O14*$I14*HLOOKUP($C14,'Exposure Factors'!$C$4:$D$10,MATCH($E14,'Exposure Factors'!$E$8:$E$9,0)+4,FALSE)/(250*HLOOKUP($C14,'Exposure Factors'!$C$4:$D$10,MATCH($E14,'Exposure Factors'!$E$8:$E$9,0)+4,FALSE)),"Not Assessed") -> Not Assessed | Q14: =IFERROR($O14*$I14*HLOOKUP($C14,'Exposure Factors'!$C$4:$D$10,MATCH($E14,'Exposure Factors'!$E$8:$E$9,0)+4,FALSE)/(365*HLOOKUP($C14,'Exposure Factors'!$C$4:$D$10,7,FALSE)),"Not Assessed") -> Not Assessed

Sheet Inhalation Exposure
D2: Exposure Scenario (if applicable) | F2: Exposure days | H2: Eight-Hour or Twelve-Hour TWA Exposures | J2: Acute Exposures | L2: Chronic, Non-Cancer Exposures | N2: Chronic, Cancer Exposures | P2: Data Points | Q2: Sources & Notes | R2: Data Type
H3: CCCl4, 8 or 12-hr TWA (mg/m3) | J3: ACCCl4, 8 or 12-hr TWA (mg/m3) | L3: ADCCCl4 (mg/m3) | N3: LADCCCl4 (mg/m3)
B4: OES Group | C4: Condition of Use | E4: Category | F4: High End | G4: Central Tendency | H4: High-End | I4: Central Tendency | J4: High-End | K4: Central Tendency | L4: High-End | M4: Central Tendency | N4: High-End | O4: Central Tendency
B5: 1 | C5: Manufacturing - 8-hr TWA | D5: 8-hr | E5: Worker | F5: 250 | G5: 250 | H5: =PERCENTILE('Manufacture_raw data'!$AE$12:$AE$384,0.95) -> 4.0379333 | I5: =PERCENTILE('Manufacture_raw data'!$AE$12:$AE$384,0.5) -> 0.75625432 | J5: =H5 -> 4.0379333 | K5: =I5 -> 0.75625432 | L5: =H5*ED_8*EF*WY_high/AT_ADC_high -> 4.0379333 | M5: =I5*ED_8*EF*WY_mid/AT_ADC_mid -> 0.75625432 | N5: =H5*ED_8*EF*WY_high/AT_LADC -> 0.47277055 | O5: =I5*ED_8*EF*WY_mid/AT_LADC -> 0.068621601 | P5: ='Manufacture_raw data'!$AR$7 -> 113 | Q5: HSIA, public comment EPA-HQ-OPPT-2016-0732-0027, 8-hr TWA discrete data | R5: Monitoring Data
B6: 1 | C6: Manufacturing - 8-hr TWA | D6: 8-hr | E6: ONU | F6: 250 | G6: 250 | H6: =MAX('Manufacture_raw data'!$AG$12:$AG$384) -> 1.006593 | I6: =H6/2 -> 0.50329652 | J6: =H6 -> 1.006593 | K6: =I6 -> 0.50329652 | L6: =H6*ED_8*EF*WY_high/AT_ADC_high -> 1.006593 | M6: =I6*ED_8*EF*WY_mid/AT_ADC_mid -> 0.50329652 | N6: =H6*ED_8*EF*WY_high/AT_LADC -> 0.11785424 | O6: =I6*ED_8*EF*WY_mid/AT_LADC -> 0.045668517 | P6: =COUNT('Manufacture_raw data'!AG11:AG383) -> 14 | Q6: HSIA, public comment EPA-HQ-OPPT-2019-0499-0022 | R6: Monitoring Data
B7: 1 | C7: Manufacturing - 12-hr TWA | D7: 12-hr | E7: Worker | F7: 250 | G7: 250 | H7: =PERCENTILE('Manufacture_raw data'!$AF$12:$AF$384,0.95) -> 4.8444912 | I7: =PERCENTILE('Manufacture_raw data'!$AF$12:$AF$384,0.5) -> 0.50329652 | J7: =H7 -> 4.8444912 | K7: =I7 -> 0.50329652 | L7: =H7*ED_12*EF*WY_high/AT_ADC_high_12 -> 4.8444912 | M7: =I7*ED_12*EF*WY_mid/AT_ADC_mid_12 -> 0.50329652 | N7: =H7*ED_12*EF*WY_high/AT_LADC -> 0.85080632 | O7: =I7*ED_12*EF*WY_mid/AT_LADC -> 0.068502776 | P7: ='Manufacture_raw data'!$AS7 -> 243 | Q7: HSIA, public comment EPA-HQ-OPPT-2016-0732-0027, 12-hr TWA discrete data | R7: Monitoring Data
B8: 1 | C8: Manufacturing - 12-hr TWA | D8: 12-hr | E8: ONU | F8: 250 | G8: 250 | H8: =MAX('Manufacture_raw data'!$AH$12:$AH$384) -> 1.3211534 | I8: =H8/2 -> 0.66057669 | J8: =H8 -> 1.3211534 | K8: =I8 -> 0.66057669 | L8: =H8*ED_12*EF*WY_high/AT_ADC_high_12 -> 1.3211534 | M8: =I8*ED_12*EF*WY_mid/AT_ADC_mid_12 -> 0.66057669 | N8: =H8*ED_12*EF*WY_high/AT_LADC -> 0.23202553 | O8: =I8*ED_12*EF*WY_mid/AT_LADC -> 0.089909893 | P8: =COUNT('Manufacture_raw data'!AH11:AH383) -> 3 | Q8: HSIA, public comment EPA-HQ-OPPT-2019-0499-0022 | R8: Monitoring Data
B9: 2 | C9: Processing as Reactant - 8-hr TWA | D9: 8-hr | E9: Worker | F9: 250 | G9: 250 | H9: =PERCENTILE('Manufacture_raw data'!$AE$12:$AE$384,0.95) -> 4.0379333 | I9: =PERCENTILE('Manufacture_raw data'!$AE$12:$AE$384,0.5) -> 0.75625432 | J9: =H9 -> 4.0379333 | K9: =I9 -> 0.75625432 | L9: =H9*ED_12*EF*WY_high/AT_ADC_high_12 -> 4.0379333 | M9: =I9*ED_12*EF*WY_mid/AT_ADC_mid_12 -> 0.75625432 | N9: =H9*ED_8*EF*WY_high/AT_LADC -> 0.47277055 | O9: =I9*ED_8*EF*WY_mid/AT_LADC -> 0.068621601 | P9: ='Manufacture_raw data'!$AR$7 -> 113 | Q9: HSIA, public comment EPA-HQ-OPPT-2016-0732-0027, 8-hr TWA discrete data | R9: Monitoring Data
B10: 2 | C10: Processing as Reactant - 8-hr TWA | D10: 8-hr | E10: ONU | F10: 250 | G10: 250 | H10: =MAX('Manufacture_raw data'!$AG$12:$AG$384) -> 1.006593 | I10: =H10/2 -> 0.50329652 | J10: =H10 -> 1.006593 | K10: =I10 -> 0.50329652 | L10: =H10*ED_12*EF*WY_high/AT_ADC_high_12 -> 1.006593 | M10: =I10*ED_12*EF*WY_mid/AT_ADC_mid_12 -> 0.50329652 | N10: =H10*ED_8*EF*WY_high/AT_LADC -> 0.11785424 | O10: =I10*ED_8*EF*WY_mid/AT_LADC -> 0.045668517 | P10: =COUNT('Manufacture_raw data'!AG11:AG383) -> 14 | Q10: HSIA, public comment EPA-HQ-OPPT-2019-0499-0022 | R10: Monitoring Data
B11: 2 | C11: Processing as Reactant - 12-hr TWA | D11: 12-hr | E11: Worker | F11: 250 | G11: 250 | H11: =PERCENTILE('Manufacture_raw data'!$AF$12:$AF$384,0.95) -> 4.8444912 | I11: =PERCENTILE('Manufacture_raw data'!$AF$12:$AF$384,0.5) -> 0.50329652 | J11: =H11 -> 4.8444912 | K11: =I11 -> 0.50329652 | L11: =H11*ED_12*EF*WY_high/AT_ADC_high_12 -> 4.8444912 | M11: =I11*ED_12*EF*WY_mid/AT_ADC_mid_12 -> 0.50329652 | N11: =H11*ED_12*EF*WY_high/AT_LADC -> 0.85080632 | O11: =I11*ED_12*EF*WY_mid/AT_LADC -> 0.068502776 | P11: ='Manufacture_raw data'!$AS7 -> 243 | Q11: HSIA, public comment EPA-HQ-OPPT-2016-0732-0027, 12-hr TWA discrete data | R11: Monitoring Data
B12: 2 | C12: Processing as Reactant - 12-hr TWA | D12: 12-hr | E12: ONU | F12: 250 | G12: 250 | H12: =MAX('Manufacture_raw data'!$AH$12:$AH$384) -> 1.3211534 | I12: =H12/2 -> 0.66057669 | J12: =H12 -> 1.3211534 | K12: =I12 -> 0.66057669 | L12: =H12*ED_12*EF*WY_high/AT_ADC_high_12 -> 1.3211534 | M12: =I12*ED_12*EF*WY_mid/AT_ADC_mid_12 -> 0.66057669 | N12: =H12*ED_12*EF*WY_high/AT_LADC -> 0.23202553 | O12: =I12*ED_12*EF*WY_mid/AT_LADC -> 0.089909893 | P12: =COUNT('Manufacture_raw data'!AH11:AH383) -> 3 | Q12: HSIA, public comment EPA-HQ-OPPT-2019-0499-0022 | R12: Monitoring Data
B13: 3,4,5,6 | C13: Specialty Uses - Aerospace | D13: Not assessing – no longer a condition of use
B14: 7 | C14: Import/Repackaging | D14: 8-hr | E14: Worker | F14: 250 | G14: 250 | H14: =PERCENTILE('Manufacture_raw data'!$AI$12:$AI$384,0.95) -> 2.9186092 | I14: =PERCENTILE('Manufacture_raw data'!$AI$12:$AI$384,0.5) -> 0.88971096 | J14: =H14 -> 2.9186092 | K14: =I14 -> 0.88971096 | L14: =H14*ED_8*EF*WY_high/AT_ADC_high -> 2.9186092 | M14: =I14*ED_8*EF*WY_mid/AT_ADC_mid -> 0.88971096 | N14: =H14*ED_8*EF*WY_high/AT_LADC -> 0.3417175 | O14: =I14*ED_8*EF*WY_mid/AT_LADC -> 0.080731296 | P14: =COUNT('Manufacture_raw data'!AI11:AI383) -> 15 | Q14: American Chemistry Council (ACC) public comment EPA-HQ-OPPT-2019-0499-0031 and HSIA public comment EPA-HQ-OPPT-2016-0733-0084, 8-hr TWA discrete data | R14: Monitoring Data
B15: 7 | C15: Import/Repackaging | D15: 8-hr | E15: ONU | F15: 250 | G15: 250 | H15: -- | I15: =I14 -> 0.88971096 | J15: =H15 -> -- | K15: =I15 -> 0.88971096 | L15: -- | M15: =M14 -> 0.88971096 | N15: -- | O15: =O14 -> 0.080731296 | P15: =COUNT('Manufacture_raw data'!AI11:AI383) -> 15 | Q15: In lieu of ONU-specific exposure data, EPA assessed ONU exposures at the worker central tendency. | R15: Monitoring Data
B16: 8 | C16: Processing: Reactive Ion Etching | D16: Negligible - Highly controlled work areas with small quantities applied
B17: 9 | C17: Incorporation into Formulation | D17: Not assessing – no longer a condition of use
B18: 10 | C18: Industrial Processing Aid | D18: 8-hr | E18: Worker | F18: 250 | G18: 250 | H18: =PERCENTILE('Manufacture_raw data'!$AI$12:$AI$384,0.95) -> 2.9186092 | I18: =PERCENTILE('Manufacture_raw data'!$AI$12:$AI$384,0.5) -> 0.88971096 | J18: =H18 -> 2.9186092 | K18: =I18 -> 0.88971096 | L18: =H18*ED_8*EF*WY_high/AT_ADC_high -> 2.9186092 | M18: =I18*ED_8*EF*WY_mid/AT_ADC_mid -> 0.88971096 | N18: =H18*ED_8*EF*WY_high/AT_LADC -> 0.3417175 | O18: =I18*ED_8*EF*WY_mid/AT_LADC -> 0.080731296 | P18: =COUNT('Manufacture_raw data'!AI11:AI383) -> 15 | Q18: American Chemistry Council (ACC) public comment EPA-HQ-OPPT-2019-0499-0031 and HSIA public comment EPA-HQ-OPPT-2016-0733-0084, 8-hr TWA discrete data | R18: Monitoring Data
B19: 10 | C19: Industrial Processing Aid | D19: 8-hr | E19: ONU | F19: 250 | G19: 250 | H19: -- | I19: =I18 -> 0.88971096 | J19: =H19 -> -- | K19: =I19 -> 0.88971096 | L19: -- | M19: =M18 -> 0.88971096 | N19: -- | O19: =O18 -> 0.080731296 | P19: =COUNT('Manufacture_raw data'!AI11:AI383) -> 15 | Q19: In lieu of ONU-specific exposure data, EPA assessed ONU exposures at the worker central tendency. | R19: Monitoring Data
B20: 11 | C20: Additive | D20: 8-hr | E20: Worker | F20: 250 | G20: 250 | H20: =PERCENTILE('Manufacture_raw data'!$AI$12:$AI$384,0.95) -> 2.9186092 | I20: =PERCENTILE('Manufacture_raw data'!$AI$12:$AI$384,0.5) -> 0.88971096 | J20: =H20 -> 2.9186092 | K20: =I20 -> 0.88971096 | L20: =H20*ED_8*EF*WY_high/AT_ADC_high -> 2.9186092 | M20: =I20*ED_8*EF*WY_mid/AT_ADC_mid -> 0.88971096 | N20: =H20*ED_8*EF*WY_high/AT_LADC -> 0.3417175 | O20: =I20*ED_8*EF*WY_mid/AT_LADC -> 0.080731296 | P20: =COUNT('Manufacture_raw data'!AI11:AI383) -> 15 | Q20: American Chemistry Council (ACC) public comment EPA-HQ-OPPT-2019-0499-0031 and HSIA public comment EPA-HQ-OPPT-2016-0733-0084, 8-hr TWA discrete data | R20: Monitoring Data
B21: 11 | C21: Additive | D21: 8-hr | E21: ONU | F21: 250 | G21: 250 | H21: -- | I21: -- | J21: =H21 -> -- | K21: =I21 -> -- | L21: -- | M21: -- | N21: -- | O21: -- | P21: =COUNT('Manufacture_raw data'!AI11:AI383) -> 15 | Q21: In lieu of ONU-specific exposure data, EPA assessed ONU exposures at the worker central tendency. | R21: Monitoring Data
B22: 12 | C22: Laboratory Chemical | D22: No data – exposure expected to be low as lab use will likely be in small quantities in a fume hood.
B23: 13 | C23: Waste Handling | D23: 8-hr | E23: Worker | F23: 250 | G23: 250 | H23: =PERCENTILE('Manufacture_raw data'!$AI$12:$AI$384,0.95) -> 2.9186092 | I23: =PERCENTILE('Manufacture_raw data'!$AI$12:$AI$384,0.5) -> 0.88971096 | J23: =H23 -> 2.9186092 | K23: =I23 -> 0.88971096 | L23: =H23*ED_8*EF*WY_high/AT_ADC_high -> 2.9186092 | M23: =I23*ED_8*EF*WY_mid/AT_ADC_mid -> 0.88971096 | N23: =H23*ED_8*EF*WY_high/AT_LADC -> 0.3417175 | O23: =I23*ED_8*EF*WY_mid/AT_LADC -> 0.080731296 | P23: =COUNT('Manufacture_raw data'!AI11:AI383) -> 15 | Q23: American Chemistry Council (ACC) public comment EPA-HQ-OPPT-2019-0499-0031 and HSIA public comment EPA-HQ-OPPT-2016-0733-0084, 8-hr TWA discrete data | R23: Monitoring Data
B24: 13 | C24: Waste Handling | D24: 8-hr | E24: ONU | F24: 250 | G24: 250 | H24: -- | I24: =I23 -> 0.88971096 | J24: =H24 -> -- | K24: =I24 -> 0.88971096 | L24: -- | M24: =M23 -> 0.88971096 | N24: -- | O24: =O23 -> 0.080731296 | P24: =COUNT('Manufacture_raw data'!AI11:AI383) -> 15 | Q24: In lieu of ONU-specific exposure data, EPA assessed ONU exposures at the worker central tendency. | R24: Monitoring Data
B25: 14 | C25: Specialty Uses - DoD | D25: 8-hr | E25: Worker | F25: 150 | G25: 125 | H25: 0.36698705 | I25: 0.18349352 | J25: =H25 -> 0.36698705 | K25: =I25 -> 0.18349352 | L25: =H25*ED_8*F25*WY_high/AT_ADC_high -> 0.22019223 | M25: =I25*ED_8*G25*WY_mid/AT_ADC_mid -> 0.091746762 | N25: =H25*ED_8*F25*WY_high/AT_LADC -> 0.025780615 | O25: =I25*ED_8*G25*WY_mid/AT_LADC -> 0.0083249901 | P25: 3 | Q25: DOD provided monitoring data | R25: Monitoring Data
B26: 14 | C26: Specialty Uses - DoD | D26: 8-hr | E26: ONU | F26: 150 | G26: 125 | H26: -- | I26: =I25 -> 0.18349352 | J26: =H26 -> -- | K26: =I26 -> 0.18349352 | L26: -- | M26: =M25 -> 0.091746762 | N26: -- | O26: =O25 -> 0.0083249901 | P26: --

Sheet List Values
B2: Conditions of Use | D2: Exposure Data Types | F2: Assigned Glove Protection Factor
B3: Manufacturing - 8-hr TWA | D3: Monitoring Data | F3: 5 | G3: General uses, PF = 5
B4: Manufacturing - 12-hr TWA | D4: Modeled Data | F4: 10 | G4: Commercial uses, PF = 10
B5: Import/Repackaging | F5: 20 | G5: Industrial uses, PF = 20
B6: Processing as Reactant - 8-hr TWA | D6: Worker Type
B7: Processing as Reactant - 12-hr TWA | D7: Average Adult Worker | F7: Exposure Type
B8: Industrial Processing Aid | D8: Woman of Childbearing Age | F8: Worker
B9: Additive | F9: ONU
B10: Waste Handling | D10: BMDL Percentile
B11: Specialty Uses - DoD | D11: 0.5 | F11: Carbon Tetrachloride | G11: Value | H11: Unit
D12: 0.99 | F12: MW | G12: 153.82 | H12: g/mol
F13: Molar Volume | G13: 24.45 | H13: L/mol
D14: Assigned Respirator Protection Factor
D15: 5 | F15: Parameter Name | G15: Symbol | H15: Value | I15: Unit
D16: 10 | F16: Exposure Duration (8-hr) | G16: ED_8 | H16: 8 | I16: hr/day
D17: 25 | F17: Exposure Duration (12-hr) | G17: ED_12 | H17: 12 | I17: hr/day
D18: 50 | F18: Acute Exposure Averaging Time | G18: AT | H18: 24 | I18: hr/day
D19: 1000 | F19: Exposure Frequency | G19: EF | H19: 250 | I19: day/yr
D20: 10000 | F20: Working Years Per Lifetime (Mid) | G20: WY_mid | H20: 31 | I20: yr
F21: Working Years Per Lifetime (High) | G21: WY_high | H21: 40 | I21: yr
D22: TWA Type | F22: Lifetime Years for LADC | G22: LT | H22: 78 | I22: yr
D23: 8-hr | F23: Averaging time For ADC (Mid) - 8-hr | G23: AT_ADC_mid_8 | H23: =WY_mid*250*8 -> 62000 | I23: hr
D24: 12-hr | F24: Averaging time For ADC (Mid) - 12-hr | G24: AT_ADC_mid_12 | H24: =WY_mid*250*12 -> 93000 | I24: hr
F25: Averaging time For ADC (High) - 8-hr | G25: AT_ADC_high_8 | H25: =WY_high*250*8 -> 80000 | I25: hr
D26: Cancer POD Inhalation (mg/m3) | F26: Averaging time For ADC (High) - 12-hr | G26: AT_ADC_high_12 | H26: =WY_high*250*12 -> 120000 | I26: hr
D27: 18 | F27: Averaging time For LADC | G27: AT_LADC | H27: =LT*365*24 -> 683280 | I27: hr

Sheet Exposure Factors
B2: Exposure Factors
C4: Average Adult Worker | D4: Woman of Childbearing Age | E4: Characterization of Value
B5: Body Weight, BW (kg) | C5: 80 | D5: =AVERAGE(65.9,71.9,74.8,77.1) -> 72.425
B6: 2 Hand Surface Area (cm2) - High End | C6: 1070 | D6: 890 | E6: High End
B7: 2 Hand Surface Area (cm2) - Central Tendency | C7: =C6/2 -> 535 | D7: =D6/2 -> 445 | E7: Central Tendency
B8: Working Years - High-End (yr) | C8: 40 | D8: 40 | E8: High End
B9: Working Years - Central Tendency (yr) | C9: 31 | D9: 31 | E9: Central Tendency
B10: Lifetime | C10: 78 | D10: 78
B13: Woman of Childbearing Age Exposure Factors:
B14: Body Weight:
B15: From the Exposure Factors Handbook Table 8-5: Mean and Percentile Body Weights (kg) for Females Derived from NHANES (1990-2006) (1)
B16: Age 16 to <21 years: 65.9 kg (mean)
B17: Age 21 to <30 years: 71.9 kg (mean)
B18: Age 30 to <40 years: 74.8 kg (mean)
B19: Age 40 to <50 years: 77.1 kg (mean)
B22: (1) U.S. Environmental Protection Agency (EPA). (2011) Exposure Factors Handbook: 2011 Edition. National Center for Environmental Assessment, Washington, DC; EPA/600/R-09/052F. Available from the National Technical Information Service, Springfield, VA, and online at http://www.epa.gov/ncea/efh.

Sheet Manufacture_raw data
A1: Note:
A2: Red Text Indicates ONU data
A3: Blue Text Indicates unloaing/loading data used as surrogate data for other CoUs
A4: HERO ID | B4: Author | C4: Year | D4: Country | E4: Process Description | F4: Engineering Controls Described | G4: Scenario Type (B or EC) | H4: Worker Job Description (as described in study) | I4: General Unloading/Loading Activity? | J4: Worker Classification (W or ONU) | K4: Measurement Type (TWA or Short-term) | L4: Sample Type (PBZ or Area) | M4: Sample Date (if known) | N4: Sample Duration (min) | O4: Number of Data Points | P4: CCl4 Airborne Concentration (ppm) | Z4: CCl4 Airborne Concentration (mg/m3) | AJ4: Data location in Document | AK4: ERG Notes | AL4: Geometric Standard Deviation Calculcation for 'W' LOD Data
P5: Min. | Q5: Max. | R5: Arithmetic Mean | S5: Standard Deviation | T5: Geometric Mean | U5: Geometric Standard Deviation | V5: Median | W5: Discrete Value | X5: 8-hr TWA | Y5: 12-hr TWA | Z5: Min.2` | AA5: Max.3 | AB5: Average4 | AC5: Median5 | AD5: Discrete Value | AE5: 8-hr TWA W | AF5: 12-hr TWA W | AG5: 8-hr TWA ONU | AH5: 12-hr TWA ONU | AI5: 8-hr TWA Load | AL5: 8-hr Detects | AM5: Ln(8-hr) | AN5: 12-hr Detects | AO5: Ln(12-hr) | AR5: 8-hr TWA | AS5: 12-hr TWA | AT5: Totals
A6: 3970550 | B6: Eun A Kim, M.D., Ph.D. Bruce P. Bernard, M.D., M.P.H. Eric J. Esswein, C.I.H., M.S.P.H. | C6: 2004 | D6: US | E6: Manufacture as a byproduct from magnesium production process | F6: Not described | H6: maintenance, electrolytics, and the reactor building | J6: W | K6: TWA | L6: PBZ | M6: November 1–4, 2004 | N6: 480 - 720 | O6: 13 | AD6: =0.001/15.3*1000 -> 0.065359477 | AI6: =IF($K6="8-hr TWA", IF(I6="Y",X6*MolW/MolVol,""),"") | AJ6: Table 12 (page 42) | AK6: Value listed as "trace" so was calculated based on the LOD and given sample volume, LOD = 0.001 millligrams per sample | AQ6: Total NDs | AR6: =COUNTIFS($AK$12:$AK$384, "ND",$K$12:$K$384,AR$5,$J$12:$J$384,"W") -> 91 | AS6: =COUNTIFS($AK$12:$AK$384, "ND",$K$12:$K$384,AS$5,$J$12:$J$384,"W") -> 173 | AT6: =+AR6+AS6 -> 264
A7: 3970550 | B7: Eun A Kim, M.D., Ph.D. Bruce P. Bernard, M.D., M.P.H. Eric J. Esswein, C.I.H., M.S.P.H. | C7: 2004 | D7: US | E7: Manufacture as a byproduct from magnesium production process | F7: Not described | H7: maintenance, electrolytics, and the reactor building | J7: W | K7: TWA | L7: PBZ | M7: November 1–4, 2004 | N7: 480 - 720 | O7: 13 | AD7: =0.001/39.7*1000 -> 0.025188917 | AI7: =IF($K7="8-hr TWA", IF(I7="Y",W7*MolW/MolVol,""),"") | AK7: Value listed as "trace" so was calculated based on the LOD and given sample volume, LOD = 0.001 millligrams per sample | AQ7: Total data points | AR7: =COUNTIFS($K$12:$K$384,AR$5, $J$12:$J$384,"W") -> 113 | AS7: =COUNTIFS($K$12:$K$384,AS$5, $J$12:$J$384,"W") -> 243 | AT7: =+AR7+AS7 -> 356
A8: 3970550 | B8: Eun A Kim, M.D., Ph.D. Bruce P. Bernard, M.D., M.P.H. Eric J. Esswein, C.I.H., M.S.P.H. | C8: 2004 | D8: US | E8: Manufacture as a byproduct from magnesium production process | F8: Not described | H8: maintenance, electrolytics, and the reactor building | J8: W | K8: TWA | L8: PBZ | M8: November 1–4, 2004 | N8: 480 - 720 | O8: 13 | AD8: 0.18 | AI8: =IF($K8="8-hr TWA", IF(I8="Y",W8*MolW/MolVol,""),"") | AQ8: % ND | AR8: =+AR6/AR7 -> 0.80530973 | AS8: =+AS6/AS7 -> 0.71193416 | AT8: =+AT6/AT7 -> 0.74157303
A9: 3970550 | B9: Eun A Kim, M.D., Ph.D. Bruce P. Bernard, M.D., M.P.H. Eric J. Esswein, C.I.H., M.S.P.H. | C9: 2004 | D9: US | E9: Manufacture as a byproduct from magnesium production process | F9: Not described | H9: maintenance, electrolytics, and the reactor building | J9: W | K9: TWA | L9: PBZ | M9: November 1–4, 2004 | N9: 480 - 720 | O9: 13 | AD9: =0.001/32.8*1000 -> 0.030487805 | AI9: =IF($K9="8-hr TWA", IF(I9="Y",W9*MolW/MolVol,""),"") | AK9: Value listed as "trace" so was calculated based on the LOD and given sample volume, LOD = 0.001 millligrams per sample | AQ9: Geo STD | AR9: =+EXP(_xlfn.STDEV.P(AM12:AM384)) -> 2.624412 | AS9: =+EXP(_xlfn.STDEV.P(AO12:AO384)) -> 3.2569459
A10: 3970550 | B10: Eun A Kim, M.D., Ph.D. Bruce P. Bernard, M.D., M.P.H. Eric J. Esswein, C.I.H., M.S.P.H. | C10: 2004 | D10: US | E10: Manufacture as a byproduct from magnesium production process | F10: Not described | H10: maintenance, electrolytics, and the reactor building | J10: W | K10: TWA | L10: PBZ | M10: November 1–4, 2004 | N10: 480 - 720 | O10: 13 | AD10: =0.001/23.5*1000 -> 0.042553191 | AI10: =IF($K10="8-hr TWA", IF(I10="Y",W10*MolW/MolVol,""),"") | AK10: Value listed as "trace" so was calculated based on the LOD and given sample volume, LOD = 0.001 millligrams per sample
A11: 3970550 | B11: Eun A Kim, M.D., Ph.D. Bruce P. Bernard, M.D., M.P.H. Eric J. Esswein, C.I.H., M.S.P.H. | C11: 2004 | D11: US | E11: Manufacture as a byproduct from magnesium production process | F11: Not described | H11: maintenance, electrolytics, and the reactor building | J11: W | K11: TWA | L11: PBZ | M11: November 1–4, 2004 | N11: 480 - 720 | O11: 13 | AD11: =0.001/23.9*1000 -> 0.041841004 | AI11: =IF($K11="8-hr TWA", IF(I11="Y",W11*MolW/MolVol,""),"") | AK11: Value listed as "trace" so was calculated based on the LOD and given sample volume, LOD = 0.001 millligrams per sample
A12: 5926010 | B12: HSIA | C12: 2018 | D12: US | E12: Company A | F12: Not described | H12: Operator | J12: W | K12: =+IF(N12<=540, "8-hr TWA", IF(N12>540, "12-hr TWA", "Error")) -> 8-hr TWA | L12: PBZ | M12: 43215 | N12: 506 | O12: 1 | W12: 0.065 | X12: =IF($K12="8-hr TWA", IF($N12<480,IF($AK12="ND",IF($AR$9<3,($W12/SQRT(2))*$N12/480, ($W12/2)*$N12/480),$W12*$N12/480),IF($AK12="ND",IF($AR$9<3,($W12/SQRT(2)), ($W12/2)),$W12)),"") -> 0.045961941 | Y12: =IF($K12="12-hr TWA", IF($N12<720,IF($AK12="ND",IF($AS$9<3,($W12/SQRT(2))*$N12/720, ($W12/2)*$N12/720),$W12*$N12/720),IF($AK12="ND",IF($AS$9<3,($W12/SQRT(2)), ($W12/2)),$W12)),"") | AD12: =+W12*MolW/MolVol -> 0.40892843 | AE12: =+IFERROR(X12*MolW/MolVol,"") -> 0.28915606 | AF12: =+IFERROR(Y12*MolW/MolVol,"") | AG12: =IF($K12="8-hr TWA", IF(J12="ONU",W12*MolW/MolVol,""),"") | AH12: =IF($K12="12-hr TWA", IF(J12="ONU",W12*MolW/MolVol,""),"") | AI12: =IF($K12="8-hr TWA", IF(I12="Y",X12*MolW/MolVol,""),"") | AK12: ND | AL12: =IF($K12="8-hr TWA", IF($AK12<>"ND", IF($N12<480, $W12*$N12/480,$W12),""),"") | AM12: =+IFERROR(LN(AL12), "") | AN12: =IF($K12="12-hr TWA", IF($AK12<>"ND", IF($N12<720, $W12*$N12/720,$W12),""),"") | AO12: =+IFERROR(LN(AN12), "")
A13: 5926010 | B13: HSIA | C13: 2018 | D13: US | E13: Company A | F13: Not described | H13: Operator | J13: W | K13: =+IF(N13<=540, "8-hr TWA", IF(N13>540, "12-hr TWA", "Error")) -> 8-hr TWA | L13: PBZ | M13: 43215 | N13: 511 | O13: 1 | W13: 0.066 | X13: =IF($K13="8-hr TWA", IF($N13<480,IF($AK13="ND",IF($AR$9<3,($W13/SQRT(2))*$N13/480, ($W13/2)*$N13/480),$W13*$N13/480),IF($AK13="ND",IF($AR$9<3,($W13/SQRT(2)), ($W13/2)),$W13)),"") -> 0.046669048 | Y13: =IF($K13="12-hr TWA", IF($N13<720,IF($AK13="ND",IF($AS$9<3,($W13/SQRT(2))*$N13/720, ($W13/2)*$N13/720),$W13*$N13/720),IF($AK13="ND",IF($AS$9<3,($W13/SQRT(2)), ($W13/2)),$W13)),"") | AD13: =+W13*MolW/MolVol -> 0.41521963 | AE13: =+IFERROR(X13*MolW/MolVol,"") -> 0.29360462 | AF13: =+IFERROR(Y13*MolW/MolVol,"") | AG13: =IF($K13="8-hr TWA", IF(J13="ONU",W13*MolW/MolVol,""),"") | AH13: =IF($K13="12-hr TWA", IF(J13="ONU",W13*MolW/MolVol,""),"") | AI13: =IF($K13="8-hr TWA", IF(I13="Y",X13*MolW/MolVol,""),"") | AK13: ND | AL13: =IF($K13="8-hr TWA", IF($AK13<>"ND", IF($N13<480, $W13*$N13/480,$W13),""),"") | AM13: =+IFERROR(LN(AL13), "") | AN13: =IF($K13="12-hr TWA", IF($AK13<>"ND", IF($N13<720, $W13*$N13/720,$W13),""),"") | AO13: =+IFERROR(LN(AN13), "")
A14: 5926010 | B14: HSIA | C14: 2018 | D14: US | E14: Company A | F14: Not described | H14: Distribution Operator | J14: W | K14: =+IF(N14<=540, "8-hr TWA", IF(N14>540, "12-hr TWA", "Error")) -> 8-hr TWA | L14: PBZ | M14: 43212 | N14: 525 | O14: 1 | W14: 0.63 | X14: =IF($K14="8-hr TWA", IF($N14<480,IF($AK14="ND",IF($AR$9<3,($W14/SQRT(2))*$N14/480, ($W14/2)*$N14/480),$W14*$N14/480),IF($AK14="ND",IF($AR$9<3,($W14/SQRT(2)), ($W14/2)),$W14)),"") -> 0.63 | Y14: =IF($K14="12-hr TWA", IF($N14<720,IF($AK14="ND",IF($AS$9<3,($W14/SQRT(2))*$N14/720, ($W14/2)*$N14/720),$W14*$N14/720),IF($AK14="ND",IF($AS$9<3,($W14/SQRT(2)), ($W14/2)),$W14)),"") | AD14: =+W14*MolW/MolVol -> 3.9634601 | AE14: =+IFERROR(X14*MolW/MolVol,"") -> 3.9634601 | AF14: =+IFERROR(Y14*MolW/MolVol,"") | AG14: =IF($K14="8-hr TWA", IF(J14="ONU",W14*MolW/MolVol,""),"") | AH14: =IF($K14="12-hr TWA", IF(J14="ONU",W14*MolW/MolVol,""),"") | AI14: =IF($K14="8-hr TWA", IF(I14="Y",X14*MolW/MolVol,""),"") | AL14: =IF($K14="8-hr TWA", IF($AK14<>"ND", IF($N14<480, $W14*$N14/480,$W14),""),"") -> 0.63 | AM14: =+IFERROR(LN(AL14), "") -> -0.46203546 | AN14: =IF($K14="12-hr TWA", IF($AK14<>"ND", IF($N14<720, $W14*$N14/720,$W14),""),"") | AO14: =+IFERROR(LN(AN14), "")
A15: 5926010 | B15: HSIA | C15: 2018 | D15: US | E15: Company A | F15: Not described | H15: Distribution Operator | J15: W | K15: 12-hr TWA | L15: PBZ | M15: 43212 | N15: 570 | O15: 1 | W15: 2.7 | X15: =IF($K15="8-hr TWA", IF($N15<480,IF($AK15="ND",IF($AR$9<3,($W15/SQRT(2))*$N15/480, ($W15/2)*$N15/480),$W15*$N15/480),IF($AK15="ND",IF($AR$9<3,($W15/SQRT(2)), ($W15/2)),$W15)),"") | Y15: =IF($K15="12-hr TWA", IF($N15<720,IF($AK15="ND",IF($AS$9<3,($W15/SQRT(2))*$N15/720, ($W15/2)*$N15/720),$W15*$N15/720),IF($AK15="ND",IF($AS$9<3,($W15/SQRT(2)), ($W15/2)),$W15)),"") -> 2.1375 | AD15: =+W15*MolW/MolVol -> 16.986258 | AE15: =+IFERROR(X15*MolW/MolVol,"") | AF15: =+IFERROR(Y15*MolW/MolVol,"") -> 13.447454 | AG15: =IF($K15="8-hr TWA", IF(J15="ONU",W15*MolW/MolVol,""),"") | AH15: =IF($K15="12-hr TWA", IF(J15="ONU",W15*MolW/MolVol,""),"") | AI15: =IF($K15="8-hr TWA", IF(I15="Y",X15*MolW/MolVol,""),"") | AL15: =IF($K15="8-hr TWA", IF($AK15<>"ND", IF($N15<480, $W15*$N15/480,$W15),""),"") | AM15: =+IFERROR(LN(AL15), "") | AN15: =IF($K15="12-hr TWA", IF($AK15<>"ND", IF($N15<720, $W15*$N15/720,$W15),""),"") -> 2.1375 | AO15: =+IFERROR(LN(AN15), "") -> 0.75963692
A16: 5926010 | B16: HSIA | C16: 2018 | D16: US | E16: Company A | F16: Not described | H16: Operator | J16: W | K16: 12-hr TWA | L16: PBZ | M16: 43216 | N16: 660 | O16: 1 | W16: 0.066 | X16: =IF($K16="8-hr TWA", IF($N16<480,IF($AK16="ND",IF($AR$9<3,($W16/SQRT(2))*$N16/480, ($W16/2)*$N16/480),$W16*$N16/480),IF($AK16="ND",IF($AR$9<3,($W16/SQRT(2)), ($W16/2)),$W16)),"") | Y16: =IF($K16="12-hr TWA", IF($N16<720,IF($AK16="ND",IF($AS$9<3,($W16/SQRT(2))*$N16/720, ($W16/2)*$N16/720),$W16*$N16/720),IF($AK16="ND",IF($AS$9<3,($W16/SQRT(2)), ($W16/2)),$W16)),"") -> 0.03025 | AD16: =+W16*MolW/MolVol -> 0.41521963 | AE16: =+IFERROR(X16*MolW/MolVol,"") | AF16: =+IFERROR(Y16*MolW/MolVol,"") -> 0.190309 | AG16: =IF($K16="8-hr TWA", IF(J16="ONU",W16*MolW/MolVol,""),"") | AH16: =IF($K16="12-hr TWA", IF(J16="ONU",W16*MolW/MolVol,""),"") | AI16: =IF($K16="8-hr TWA", IF(I16="Y",X16*MolW/MolVol,""),"") | AK16: ND | AL16: =IF($K16="8-hr TWA", IF($AK16<>"ND", IF($N16<480, $W16*$N16/480,$W16),""),"") | AM16: =+IFERROR(LN(AL16), "") | AN16: =IF($K16="12-hr TWA", IF($AK16<>"ND", IF($N16<720, $W16*$N16/720,$W16),""),"") | AO16: =+IFERROR(LN(AN16), "")
A17: 5926010 | B17: HSIA | C17: 2018 | D17: US | E17: Company A | F17: Not described | H17: Operator | J17: W | K17: 12-hr TWA | L17: PBZ | M17: 43216 | N17: 660 | O17: 1 | W17: 0.066 | X17: =IF($K17="8-hr TWA", IF($N17<480,IF($AK17="ND",IF($AR$9<3,($W17/SQRT(2))*$N17/480, ($W17/2)*$N17/480),$W17*$N17/480),IF($AK17="ND",IF($AR$9<3,($W17/SQRT(2)), ($W17/2)),$W17)),"") | Y17: =IF($K17="12-hr TWA", IF($N17<720,IF($AK17="ND",IF($AS$9<3,($W17/SQRT(2))*$N17/720, ($W17/2)*$N17/720),$W17*$N17/720),IF($AK17="ND",IF($AS$9<3,($W17/SQRT(2)), ($W17/2)),$W17)),"") -> 0.03025 | AD17: =+W17*MolW/MolVol -> 0.41521963 | AE17: =+IFERROR(X17*MolW/MolVol,"") | AF17: =+IFERROR(Y17*MolW/MolVol,"") -> 0.190309 | AG17: =IF($K17="8-hr TWA", IF(J17="ONU",W17*MolW/MolVol,""),"") | AH17: =IF($K17="12-hr TWA", IF(J17="ONU",W17*MolW/MolVol,""),"") | AI17: =IF($K17="8-hr TWA", IF(I17="Y",X17*MolW/MolVol,""),"") | AK17: ND | AL17: =IF($K17="8-hr TWA", IF($AK17<>"ND", IF($N17<480, $W17*$N17/480,$W17),""),"") | AM17: =+IFERROR(LN(AL17), "") | AN17: =IF($K17="12-hr TWA", IF($AK17<>"ND", IF($N17<720, $W17*$N17/720,$W17),""),"") | AO17: =+IFERROR(LN(AN17), "")
A18: 5926010 | B18: HSIA | C18: 2018 | D18: US | E18: Company A | F18: Not described | H18: Operator | J18: W | K18: 12-hr TWA | L18: PBZ | M18: 43264 | N18: 720 | O18: 1 | W18: 0.066 | X18: =IF($K18="8-hr TWA", IF($N18<480,IF($AK18="ND",IF($AR$9<3,($W18/SQRT(2))*$N18/480, ($W18/2)*$N18/480),$W18*$N18/480),IF($AK18="ND",IF($AR$9<3,($W18/SQRT(2)), ($W18/2)),$W18)),"") | Y18: =IF($K18="12-hr TWA", IF($N18<720,IF($AK18="ND",IF($AS$9<3,($W18/SQRT(2))*$N18/720, ($W18/2)*$N18/720),$W18*$N18/720),IF($AK18="ND",IF($AS$9<3,($W18/SQRT(2)), ($W18/2)),$W18)),"") -> 0.033 | AD18: =+W18*MolW/MolVol -> 0.41521963 | AE18: =+IFERROR(X18*MolW/MolVol,"") | AF18: =+IFERROR(Y18*MolW/MolVol,"") -> 0.20760982 | AG18: =IF($K18="8-hr TWA", IF(J18="ONU",W18*MolW/MolVol,""),"") | AH18: =IF($K18="12-hr TWA", IF(J18="ONU",W18*MolW/MolVol,""),"") | AI18: =IF($K18="8-hr TWA", IF(I18="Y",X18*MolW/MolVol,""),"") | AK18: ND | AL18: =IF($K18="8-hr TWA", IF($AK18<>"ND", IF($N18<480, $W18*$N18/480,$W18),""),"") | AM18: =+IFERROR(LN(AL18), "") | AN18: =IF($K18="12-hr TWA", IF($AK18<>"ND", IF($N18<720, $W18*$N18/720,$W18),""),"") | AO18: =+IFERROR(LN(AN18), "")
A19: 5926010 | B19: HSIA | C19: 2018 | D19: US | E19: Company A | F19: Not described | H19: Operator | J19: W | K19: 12-hr TWA | L19: PBZ | M19: 43264 | N19: 720 | O19: 1 | W19: 0.066 | X19: =IF($K19="8-hr TWA", IF($N19<480,IF($AK19="ND",IF($AR$9<3,($W19/SQRT(2))*$N19/480, ($W19/2)*$N19/480),$W19*$N19/480),IF($AK19="ND",IF($AR$9<3,($W19/SQRT(2)), ($W19/2)),$W19)),"") | Y19: =IF($K19="12-hr TWA", IF($N19<720,IF($AK19="ND",IF($AS$9<3,($W19/SQRT(2))*$N19/720, ($W19/2)*$N19/720),$W19*$N19/720),IF($AK19="ND",IF($AS$9<3,($W19/SQRT(2)), ($W19/2)),$W19)),"") -> 0.033 | AD19: =+W19*MolW/MolVol -> 0.41521963 | AE19: =+IFERROR(X19*MolW/MolVol,"") | AF19: =+IFERROR(Y19*MolW/MolVol,"") -> 0.20760982 | AG19: =IF($K19="8-hr TWA", IF(J19="ONU",W19*MolW/MolVol,""),"") | AH19: =IF($K19="12-hr TWA", IF(J19="ONU",W19*MolW/MolVol,""),"") | AI19: =IF($K19="8-hr TWA", IF(I19="Y",X19*MolW/MolVol,""),"") | AK19: ND | AL19: =IF($K19="8-hr TWA", IF($AK19<>"ND", IF($N19<480, $W19*$N19/480,$W19),""),"") | AM19: =+IFERROR(LN(AL19), "") | AN19: =IF($K19="12-hr TWA", IF($AK19<>"ND", IF($N19<720, $W19*$N19/720,$W19),""),"") | AO19: =+IFERROR(LN(AN19), "")
A20: 5926010 | B20: HSIA | C20: 2018 | D20: US | E20: Company A | F20: Not described | H20: general 8 hr exposure | J20: W | K20: =+IF(N20<=540, "8-hr TWA", IF(N20>540, "12-hr TWA", "Error")) -> 8-hr TWA | L20: PBZ | M20: 11.07.2011 | N20: 510 | O20: 1 | W20: 0.01 | X20: =IF($K20="8-hr TWA", IF($N20<480,IF($AK20="ND",IF($AR$9<3,($W20/SQRT(2))*$N20/480, ($W20/2)*$N20/480),$W20*$N20/480),IF($AK20="ND",IF($AR$9<3,($W20/SQRT(2)), ($W20/2)),$W20)),"") -> 0.0070710678 | Y20: =IF($K20="12-hr TWA", IF($N20<720,IF($AK20="ND",IF($AS$9<3,($W20/SQRT(2))*$N20/720, ($W20/2)*$N20/720),$W20*$N20/720),IF($AK20="ND",IF($AS$9<3,($W20/SQRT(2)), ($W20/2)),$W20)),"") | AD20: 0.01 | AE20: =+IFERROR(X20*MolW/MolVol,"") -> 0.044485548 | AF20: =+IFERROR(Y20*MolW/MolVol,"") | AG20: =IF($K20="8-hr TWA", IF(J20="ONU",W20*MolW/MolVol,""),"") | AH20: =IF($K20="12-hr TWA", IF(J20="ONU",W20*MolW/MolVol,""),"") | AI20: =IF($K20="8-hr TWA", IF(I20="Y",X20*MolW/MolVol,""),"") | AK20: ND | AL20: =IF($K20="8-hr TWA", IF($AK20<>"ND", IF($N20<480, $W20*$N20/480,$W20),""),"") | AM20: =+IFERROR(LN(AL20), "") | AN20: =IF($K20="12-hr TWA", IF($AK20<>"ND", IF($N20<720, $W20*$N20/720,$W20),""),"") | AO20: =+IFERROR(LN(AN20), "")
A21: 5926010 | B21: HSIA | C21: 2018 | D21: US | E21: Company A | F21: Not described | H21: general 8 hr exposure | J21: W | K21: =+IF(N21<=540, "8-hr TWA", IF(N21>540, "12-hr TWA", "Error")) -> 12-hr TWA | L21: PBZ | M21: 11.07.2011 | N21: 600 | O21: 1 | W21: 0.01 | X21: =IF($K21="8-hr TWA", IF($N21<480,IF($AK21="ND",IF($AR$9<3,($W21/SQRT(2))*$N21/480, ($W21/2)*$N21/480),$W21*$N21/480),IF($AK21="ND",IF($AR$9<3,($W21/SQRT(2)), ($W21/2)),$W21)),"") | Y21: =IF($K21="12-hr TWA", IF($N21<720,IF($AK21="ND",IF($AS$9<3,($W21/SQRT(2))*$N21/720, ($W21/2)*$N21/720),$W21*$N21/720),IF($AK21="ND",IF($AS$9<3,($W21/SQRT(2)), ($W21/2)),$W21)),"") -> 0.0041666667 | AD21: 0.01 | AE21: =+IFERROR(X21*MolW/MolVol,"") | AF21: =+IFERROR(Y21*MolW/MolVol,"") -> 0.026213361 | AG21: =IF($K21="8-hr TWA", IF(J21="ONU",W21*MolW/MolVol,""),"") | AH21: =IF($K21="12-hr TWA", IF(J21="ONU",W21*MolW/MolVol,""),"") | AI21: =IF($K21="8-hr TWA", IF(I21="Y",X21*MolW/MolVol,""),"") | AK21: ND | AL21: =IF($K21="8-hr TWA", IF($AK21<>"ND", IF($N21<480, $W21*$N21/480,$W21),""),"") | AM21: =+IFERROR(LN(AL21), "") | AN21: =IF($K21="12-hr TWA", IF($AK21<>"ND", IF($N21<720, $W21*$N21/720,$W21),""),"") | AO21: =+IFERROR(LN(AN21), "")
A22: 5926010 | B22: HSIA | C22: 2018 | D22: US | E22: Company A | F22: Not described | H22: Loading/unloading | I22: Y | J22: W | K22: =+IF(N22<=540, "8-hr TWA", IF(N22>540, "12-hr TWA", "Error")) -> 8-hr TWA | L22: PBZ | M22: 14.08.2014 | N22: 480 | O22: 1 | W22: 0.18 | X22: =IF($K22="8-hr TWA", IF($N22<480,IF($AK22="ND",IF($AR$9<3,($W22/SQRT(2))*$N22/480, ($W22/2)*$N22/480),$W22*$N22/480),IF($AK22="ND",IF($AR$9<3,($W22/SQRT(2)), ($W22/2)),$W22)),"") -> 0.18 | Y22: =IF($K22="12-hr TWA", IF($N22<720,IF($AK22="ND",IF($AS$9<3,($W22/SQRT(2))*$N22/720, ($W22/2)*$N22/720),$W22*$N22/720),IF($AK22="ND",IF($AS$9<3,($W22/SQRT(2)), ($W22/2)),$W22)),"") | AD22: =+W22*MolW/MolVol -> 1.1324172 | AE22: =+IFERROR(X22*MolW/MolVol,"") -> 1.1324172 | AF22: =+IFERROR(Y22*MolW/MolVol,"") | AG22: =IF($K22="8-hr TWA", IF(J22="ONU",W22*MolW/MolVol,""),"") | AH22: =IF($K22="12-hr TWA", IF(J22="ONU",W22*MolW/MolVol,""),"") | AI22: =IF($K22="8-hr TWA", IF(I22="Y",X22*MolW/MolVol,""),"") -> 1.1324172 | AL22: =IF($K22="8-hr TWA", IF($AK22<>"ND", IF($N22<480, $W22*$N22/480,$W22),""),"") -> 0.18 | AM22: =+IFERROR(LN(AL22), "") -> -1.7147984 | AN22: =IF($K22="12-hr TWA", IF($AK22<>"ND", IF($N22<720, $W22*$N22/720,$W22),""),"") | AO22: =+IFERROR(LN(AN22), "")
A23: 5926010 | B23: HSIA | C23: 2018 | D23: US | E23: Company A | F23: Not described | H23: Loading/unloading | I23: Y | J23: W | K23: =+IF(N23<=540, "8-hr TWA", IF(N23>540, "12-hr TWA", "Error")) -> 8-hr TWA | L23: PBZ | M23: 13.05.2013 | N23: 490 | O23: 1 | W23: 0.21 | X23: =IF($K23="8-hr TWA", IF($N23<480,IF($AK23="ND",IF($AR$9<3,($W23/SQRT(2))*$N23/480, ($W23/2)*$N23/480),$W23*$N23/480),IF($AK23="ND",IF($AR$9<3,($W23/SQRT(2)), ($W23/2)),$W23)),"") -> 0.21 | Y23: =IF($K23="12-hr TWA", IF($N23<720,IF($AK23="ND",IF($AS$9<3,($W23/SQRT(2))*$N23/720, ($W23/2)*$N23/720),$W23*$N23/720),IF($AK23="ND",IF($AS$9<3,($W23/SQRT(2)), ($W23/2)),$W23)),"") | AD23: =+W23*MolW/MolVol -> 1.3211534 | AE23: =+IFERROR(X23*MolW/MolVol,"") -> 1.3211534 | AF23: =+IFERROR(Y23*MolW/MolVol,"") | AG23: =IF($K23="8-hr TWA", IF(J23="ONU",W23*MolW/MolVol,""),"") | AH23: =IF($K23="12-hr TWA", IF(J23="ONU",W23*MolW/MolVol,""),"") | AI23: =IF($K23="8-hr TWA", IF(I23="Y",X23*MolW/MolVol,""),"") -> 1.3211534 | AL23: =IF($K23="8-hr TWA", IF($AK23<>"ND", IF($N23<480, $W23*$N23/480,$W23),""),"") -> 0.21 | AM23: =+IFERROR(LN(AL23), "") -> -1.5606477 | AN23: =IF($K23="12-hr TWA", IF($AK23<>"ND", IF($N23<720, $W23*$N23/720,$W23),""),"") | AO23: =+IFERROR(LN(AN23), "")
A24: 5926010 | B24: HSIA | C24: 2018 | D24: US | E24: Company A | F24: Not described | H24: Loading/unloading | I24: Y | J24: W | K24: =+IF(N24<=540, "8-hr TWA", IF(N24>540, "12-hr TWA", "Error")) -> 8-hr TWA | L24: PBZ | M24: 21.05.2013 | N24: 470 | O24: 1 | W24: 0.21 | X24: =IF($K24="8-hr TWA", IF($N24<480,IF($AK24="ND",IF($AR$9<3,($W24/SQRT(2))*$N24/480, ($W24/2)*$N24/480),$W24*$N24/480),IF($AK24="ND",IF($AR$9<3,($W24/SQRT(2)), ($W24/2)),$W24)),"") -> 0.205625 | Y24: =IF($K24="12-hr TWA", IF($N24<720,IF($AK24="ND",IF($AS$9<3,($W24/SQRT(2))*$N24/720, ($W24/2)*$N24/720),$W24*$N24/720),IF($AK24="ND",IF($AS$9<3,($W24/SQRT(2)), ($W24/2)),$W24)),"") | AD24: =+W24*MolW/MolVol -> 1.3211534 | AE24: =+IFERROR(X24*MolW/MolVol,"") -> 1.2936293 | AF24: =+IFERROR(Y24*MolW/MolVol,"") | AG24: =IF($K24="8-hr TWA", IF(J24="ONU",W24*MolW/MolVol,""),"") | AH24: =IF($K24="12-hr TWA", IF(J24="ONU",W24*MolW/MolVol,""),"") | AI24: =IF($K24="8-hr TWA", IF(I24="Y",X24*MolW/MolVol,""),"") -> 1.2936293 | AL24: =IF($K24="8-hr TWA", IF($AK24<>"ND", IF($N24<480, $W24*$N24/480,$W24),""),"") -> 0.205625 | AM24: =+IFERROR(LN(AL24), "") -> -1.5817012 | AN24: =IF($K24="12-hr TWA", IF($AK24<>"ND", IF($N24<720, $W24*$N24/720,$W24),""),"") | AO24: =+IFERROR(LN(AN24), "")
A25: 5926010 | B25: HSIA | C25: 2018 | D25: US | E25: Company A | F25: Not described | H25: Loading/unloading | I25: Y | J25: W | K25: =+IF(N25<=540, "8-hr TWA", IF(N25>540, "12-hr TWA", "Error")) -> 8-hr TWA | L25: PBZ | M25: 17.05.2013 | N25: 475 | O25: 1 | W25: 0.24 | X25: =IF($K25="8-hr TWA", IF($N25<480,IF($AK25="ND",IF($AR$9<3,($W25/SQRT(2))*$N25/480, ($W25/2)*$N25/480),$W25*$N25/480),IF($AK25="ND",IF($AR$9<3,($W25/SQRT(2)), ($W25/2)),$W25)),"") -> 0.2375 | Y25: =IF($K25="12-hr TWA", IF($N25<720,IF($AK25="ND",IF($AS$9<3,($W25/SQRT(2))*$N25/720, ($W25/2)*$N25/720),$W25*$N25/720),IF($AK25="ND",IF($AS$9<3,($W25/SQRT(2)), ($W25/2)),$W25)),"") | AD25: =+W25*MolW/MolVol -> 1.5098896 | AE25: =+IFERROR(X25*MolW/MolVol,"") -> 1.4941616 | AF25: =+IFERROR(Y25*MolW/MolVol,"") | AG25: =IF($K25="8-hr TWA", IF(J25="ONU",W25*MolW/MolVol,""),"") | AH25: =IF($K25="12-hr TWA", IF(J25="ONU",W25*MolW/MolVol,""),"") | AI25: =IF($K25="8-hr TWA", IF(I25="Y",X25*MolW/MolVol,""),"") -> 1.4941616 | AL25: =IF($K25="8-hr TWA", IF($AK25<>"ND", IF($N25<480, $W25*$N25/480,$W25),""),"") -> 0.2375 | AM25: =+IFERROR(LN(AL25), "") -> -1.4375877 | AN25: =IF($K25="12-hr TWA", IF($AK25<>"ND", IF($N25<720, $W25*$N25/720,$W25),""),"") | AO25: =+IFERROR(LN(AN25), "")
A26: 5926010 | B26: HSIA | C26: 2018 | D26: US | E26: Company A | F26: Not described | H26: Loading/unloading | I26: Y | J26: W | K26: =+IF(N26<=540, "8-hr TWA", IF(N26>540, "12-hr TWA", "Error")) -> 8-hr TWA | L26: PBZ | M26: 6.8.2014 | N26: 540 | O26: 1 | W26: 0.39 | X26: =IF($K26="8-hr TWA", IF($N26<480,IF($AK26="ND",IF($AR$9<3,($W26/SQRT(2))*$N26/480, ($W26/2)*$N26/480),$W26*$N26/480),IF($AK26="ND",IF($AR$9<3,($W26/SQRT(2)), ($W26/2)),$W26)),"") -> 0.39 | Y26: =IF($K26="12-hr TWA", IF($N26<720,IF($AK26="ND",IF($AS$9<3,($W26/SQRT(2))*$N26/720, ($W26/2)*$N26/720),$W26*$N26/720),IF($AK26="ND",IF($AS$9<3,($W26/SQRT(2)), ($W26/2)),$W26)),"") | AD26: =+W26*MolW/MolVol -> 2.4535706 | AE26: =+IFERROR(X26*MolW/MolVol,"") -> 2.4535706 | AF26: =+IFERROR(Y26*MolW/MolVol,"") | AG26: =IF($K26="8-hr TWA", IF(J26="ONU",W26*MolW/MolVol,""),"") | AH26: =IF($K26="12-hr TWA", IF(J26="ONU",W26*MolW/MolVol,""),"") | AI26: =IF($K26="8-hr TWA", IF(I26="Y",X26*MolW/MolVol,""),"") -> 2.4535706 | AL26: =IF($K26="8-hr TWA", IF($AK26<>"ND", IF($N26<480, $W26*$N26/480,$W26),""),"") -> 0.39 | AM26: =+IFERROR(LN(AL26), "") -> -0.94160854 | AN26: =IF($K26="12-hr TWA", IF($AK26<>"ND", IF($N26<720, $W26*$N26/720,$W26),""),"") | AO26: =+IFERROR(LN(AN26), "")
A27: 5926010 | B27: HSIA | C27: 2018 | D27: US | E27: Company A | F27: Not described | H27: General 8-12 hour exposure | J27: W | K27: =+IF(N27<=540, "8-hr TWA", IF(N27>540, "12-hr TWA", "Error")) -> 12-hr TWA | L27: PBZ | M27: 29.03.2011 | N27: 675 | O27: 1 | W27: 0.53 | X27: =IF($K27="8-hr TWA", IF($N27<480,IF($AK27="ND",IF($AR$9<3,($W27/SQRT(2))*$N27/480, ($W27/2)*$N27/480),$W27*$N27/480),IF($AK27="ND",IF($AR$9<3,($W27/SQRT(2)), ($W27/2)),$W27)),"") | Y27: =IF($K27="12-hr TWA", IF($N27<720,IF($AK27="ND",IF($AS$9<3,($W27/SQRT(2))*$N27/720, ($W27/2)*$N27/720),$W27*$N27/720),IF($AK27="ND",IF($AS$9<3,($W27/SQRT(2)), ($W27/2)),$W27)),"") -> 0.496875 | AD27: =+W27*MolW/MolVol -> 3.3343395 | AE27: =+IFERROR(X27*MolW/MolVol,"") | AF27: =+IFERROR(Y27*MolW/MolVol,"") -> 3.1259433 | AG27: =IF($K27="8-hr TWA", IF(J27="ONU",W27*MolW/MolVol,""),"") | AH27: =IF($K27="12-hr TWA", IF(J27="ONU",W27*MolW/MolVol,""),"") | AI27: =IF($K27="8-hr TWA", IF(I27="Y",X27*MolW/MolVol,""),"") | AL27: =IF($K27="8-hr TWA", IF($AK27<>"ND", IF($N27<480, $W27*$N27/480,$W27),""),"") | AM27: =+IFERROR(LN(AL27), "") | AN27: =IF($K27="12-hr TWA", IF($AK27<>"ND", IF($N27<720, $W27*$N27/720,$W27),""),"") -> 0.496875 | AO27: =+IFERROR(LN(AN27), "") -> -0.69941679
A28: 5926010 | B28: HSIA | C28: 2018 | D28: US | E28: Company A | F28: Not described | H28: Loading/unloading | I28: Y | J28: W | K28: =+IF(N28<=540, "8-hr TWA", IF(N28>540, "12-hr TWA", "Error")) -> 8-hr TWA | L28: PBZ | M28: 18.08.2014 | N28: 480 | O28: 1 | W28: 0.01 | X28: =IF($K28="8-hr TWA", IF($N28<480,IF($AK28="ND",IF($AR$9<3,($W28/SQRT(2))*$N28/480, ($W28/2)*$N28/480),$W28*$N28/480),IF($AK28="ND",IF($AR$9<3,($W28/SQRT(2)), ($W28/2)),$W28)),"") -> 0.0070710678 | Y28: =IF($K28="12-hr TWA", IF($N28<720,IF($AK28="ND",IF($AS$9<3,($W28/SQRT(2))*$N28/720, ($W28/2)*$N28/720),$W28*$N28/720),IF($AK28="ND",IF($AS$9<3,($W28/SQRT(2)), ($W28/2)),$W28)),"") | AD28: =+W28*MolW/MolVol -> 0.062912065 | AE28: =+IFERROR(X28*MolW/MolVol,"") -> 0.044485548 | AF28: =+IFERROR(Y28*MolW/MolVol,"") | AG28: =IF($K28="8-hr TWA", IF(J28="ONU",W28*MolW/MolVol,""),"") | AH28: =IF($K28="12-hr TWA", IF(J28="ONU",W28*MolW/MolVol,""),"") | AI28: =IF($K28="8-hr TWA", IF(I28="Y",X28*MolW/MolVol,""),"") -> 0.044485548 | AK28: ND | AL28: =IF($K28="8-hr TWA", IF($AK28<>"ND", IF($N28<480, $W28*$N28/480,$W28),""),"") | AM28: =+IFERROR(LN(AL28), "") | AN28: =IF($K28="12-hr TWA", IF($AK28<>"ND", IF($N28<720, $W28*$N28/720,$W28),""),"") | AO28: =+IFERROR(LN(AN28), "")
A29: 5926010 | B29: HSIA | C29: 2018 | D29: US | E29: Company A | F29: Not described | H29: general 8 hr exposure | J29: W | K29: =+IF(N29<=540, "8-hr TWA", IF(N29>540, "12-hr TWA", "Error")) -> 12-hr TWA | L29: PBZ | M29: 17.08.2011 | N29: 585 | O29: 1 | W29: 0.01 | X29: =IF($K29="8-hr TWA", IF($N29<480,IF($AK29="ND",IF($AR$9<3,($W29/SQRT(2))*$N29/480, ($W29/2)*$N29/480),$W29*$N29/480),IF($AK29="ND",IF($AR$9<3,($W29/SQRT(2)), ($W29/2)),$W29)),"") | Y29: =IF($K29="12-hr TWA", IF($N29<720,IF($AK29="ND",IF($AS$9<3,($W29/SQRT(2))*$N29/720, ($W29/2)*$N29/720),$W29*$N29/720),IF($AK29="ND",IF($AS$9<3,($W29/SQRT(2)), ($W29/2)),$W29)),"") -> 0.0040625 | AD29: =+W29*MolW/MolVol -> 0.062912065 | AE29: =+IFERROR(X29*MolW/MolVol,"") | AF29: =+IFERROR(Y29*MolW/MolVol,"") -> 0.025558027 | AG29: =IF($K29="8-hr TWA", IF(J29="ONU",W29*MolW/MolVol,""),"") | AH29: =IF($K29="12-hr TWA", IF(J29="ONU",W29*MolW/MolVol,""),"") | AI29: =IF($K29="8-hr TWA", IF(I29="Y",X29*MolW/MolVol,""),"") | AK29: ND | AL29: =IF($K29="8-hr TWA", IF($AK29<>"ND", IF($N29<480, $W29*$N29/480,$W29),""),"") | AM29: =+IFERROR(LN(AL29), "") | AN29: =IF($K29="12-hr TWA", IF($AK29<>"ND", IF($N29<720, $W29*$N29/720,$W29),""),"") | AO29: =+IFERROR(LN(AN29), "")
A30: 5926010 | B30: HSIA | C30: 2018 | D30: US | E30: Company A | F30: Not described | H30: general 8 hr exposure | J30: W | K30: =+IF(N30<=540, "8-hr TWA", IF(N30>540, "12-hr TWA", "Error")) -> 12-hr TWA | L30: PBZ | M30: 03.06.2015 | N30: 600 | O30: 1 | W30: 0.02 | X30: =IF($K30="8-hr TWA", IF($N30<480,IF($AK30="ND",IF($AR$9<3,($W30/SQRT(2))*$N30/480, ($W30/2)*$N30/480),$W30*$N30/480),IF($AK30="ND",IF($AR$9<3,($W30/SQRT(2)), ($W30/2)),$W30)),"") | Y30: =IF($K30="12-hr TWA", IF($N30<720,IF($AK30="ND",IF($AS$9<3,($W30/SQRT(2))*$N30/720, ($W30/2)*$N30/720),$W30*$N30/720),IF($AK30="ND",IF($AS$9<3,($W30/SQRT(2)), ($W30/2)),$W30)),"") -> 0.0083333333 | AD30: =+W30*MolW/MolVol -> 0.12582413 | AE30: =+IFERROR(X30*MolW/MolVol,"") | AF30: =+IFERROR(Y30*MolW/MolVol,"") -> 0.052426721 | AG30: =IF($K30="8-hr TWA", IF(J30="ONU",W30*MolW/MolVol,""),"") | AH30: =IF($K30="12-hr TWA", IF(J30="ONU",W30*MolW/MolVol,""),"") | AI30: =IF($K30="8-hr TWA", IF(I30="Y",X30*MolW/MolVol,""),"") | AK30: ND | AL30: =IF($K30="8-hr TWA", IF($AK30<>"ND", IF($N30<480, $W30*$N30/480,$W30),""),"") | AM30: =+IFERROR(LN(AL30), "") | AN30: =IF($K30="12-hr TWA", IF($AK30<>"ND", IF($N30<720, $W30*$N30/720,$W30),""),"") | AO30: =+IFERROR(LN(AN30), "")
A31: 5926010 | B31: HSIA | C31: 2018 | D31: US | E31: Company A | F31: Not described | H31: general 8 hr exposure | J31: W | K31: =+IF(N31<=540, "8-hr TWA", IF(N31>540, "12-hr TWA", "Error")) -> 12-hr TWA | L31: PBZ | M31: 03.06.2015 | N31: 600 | O31: 1 | W31: 0.02 | X31: =IF($K31="8-hr TWA", IF($N31<480,IF($AK31="ND",IF($AR$9<3,($W31/SQRT(2))*$N31/480, ($W31/2)*$N31/480),$W31*$N31/480),IF($AK31="ND",IF($AR$9<3,($W31/SQRT(2)), ($W31/2)),$W31)),"") | Y31: =IF($K31="12-hr TWA", IF($N31<720,IF($AK31="ND",IF($AS$9<3,($W31/SQRT(2))*$N31/720, ($W31/2)*$N31/720),$W31*$N31/720),IF($AK31="ND",IF($AS$9<3,($W31/SQRT(2)), ($W31/2)),$W31)),"") -> 0.0083333333 | AD31: =+W31*MolW/MolVol -> 0.12582413 | AE31: =+IFERROR(X31*MolW/MolVol,"") | AF31: =+IFERROR(Y31*MolW/MolVol,"") -> 0.052426721 | AG31: =IF($K31="8-hr TWA", IF(J31="ONU",W31*MolW/MolVol,""),"") | AH31: =IF($K31="12-hr TWA", IF(J31="ONU",W31*MolW/MolVol,""),"") | AI31: =IF($K31="8-hr TWA", IF(I31="Y",X31*MolW/MolVol,""),"") | AK31: ND | AL31: =IF($K31="8-hr TWA", IF($AK31<>"ND", IF($N31<480, $W31*$N31/480,$W31),""),"") | AM31: =+IFERROR(LN(AL31), "") | AN31: =IF($K31="12-hr TWA", IF($AK31<>"ND", IF($N31<720, $W31*$N31/720,$W31),""),"") | AO31: =+IFERROR(LN(AN31), "")
A32: 5926010 | B32: HSIA | C32: 2018 | D32: US | E32: Company A | F32: Not described | H32: general 8 hr exposure | J32: W | K32: =+IF(N32<=540, "8-hr TWA", IF(N32>540, "12-hr TWA", "Error")) -> 12-hr TWA | L32: PBZ | M32: 03.06.2015 | N32: 600 | O32: 1 | W32: 2 | X32: =IF($K32="8-hr TWA", IF($N32<480,IF($AK32="ND",IF($AR$9<3,($W32/SQRT(2))*$N32/480, ($W32/2)*$N32/480),$W32*$N32/480),IF($AK32="ND",IF($AR$9<3,($W32/SQRT(2)), ($W32/2)),$W32)),"") | Y32: =IF($K32="12-hr TWA", IF($N32<720,IF($AK32="ND",IF($AS$9<3,($W32/SQRT(2))*$N32/720, ($W32/2)*$N32/720),$W32*$N32/720),IF($AK32="ND",IF($AS$9<3,($W32/SQRT(2)), ($W32/2)),$W32)),"") -> 1.6666667 | AD32: =+W32*MolW/MolVol -> 12.582413 | AE32: =+IFERROR(X32*MolW/MolVol,"") | AF32: =+IFERROR(Y32*MolW/MolVol,"") -> 10.485344 | AG32: =IF($K32="8-hr TWA", IF(J32="ONU",W32*MolW/MolVol,""),"") | AH32: =IF($K32="12-hr TWA", IF(J32="ONU",W32*MolW/MolVol,""),"") | AI32: =IF($K32="8-hr TWA", IF(I32="Y",X32*MolW/MolVol,""),"") | AL32: =IF($K32="8-hr TWA", IF($AK32<>"ND", IF($N32<480, $W32*$N32/480,$W32),""),"") | AM32: =+IFERROR(LN(AL32), "") | AN32: =IF($K32="12-hr TWA", IF($AK32<>"ND", IF($N32<720, $W32*$N32/720,$W32),""),"") -> 1.6666667 | AO32: =+IFERROR(LN(AN32), "") -> 0.51082562
A33: 5926010 | B33: HSIA | C33: 2018 | D33: US | E33: Company A | F33: Not described | H33: general 8 hr exposure | J33: W | K33: =+IF(N33<=540, "8-hr TWA", IF(N33>540, "12-hr TWA", "Error")) -> 12-hr TWA | L33: PBZ | M33: 11.07.2011 | N33: 690 | O33: 1 | W33: 0.005 | X33: =IF($K33="8-hr TWA", IF($N33<480,IF($AK33="ND",IF($AR$9<3,($W33/SQRT(2))*$N33/480, ($W33/2)*$N33/480),$W33*$N33/480),IF($AK33="ND",IF($AR$9<3,($W33/SQRT(2)), ($W33/2)),$W33)),"") | Y33: =IF($K33="12-hr TWA", IF($N33<720,IF($AK33="ND",IF($AS$9<3,($W33/SQRT(2))*$N33/720, ($W33/2)*$N33/720),$W33*$N33/720),IF($AK33="ND",IF($AS$9<3,($W33/SQRT(2)), ($W33/2)),$W33)),"") -> 0.0023958333 | AD33: =+W33*MolW/MolVol -> 0.031456033 | AE33: =+IFERROR(X33*MolW/MolVol,"") | AF33: =+IFERROR(Y33*MolW/MolVol,"") -> 0.015072682 | AG33: =IF($K33="8-hr TWA", IF(J33="ONU",W33*MolW/MolVol,""),"") | AH33: =IF($K33="12-hr TWA", IF(J33="ONU",W33*MolW/MolVol,""),"") | AI33: =IF($K33="8-hr TWA", IF(I33="Y",X33*MolW/MolVol,""),"") | AK33: ND | AL33: =IF($K33="8-hr TWA", IF($AK33<>"ND", IF($N33<480, $W33*$N33/480,$W33),""),"") | AM33: =+IFERROR(LN(AL33), "") | AN33: =IF($K33="12-hr TWA", IF($AK33<>"ND", IF($N33<720, $W33*$N33/720,$W33),""),"") | AO33: =+IFERROR(LN(AN33), "")
A34: 5926010 | B34: HSIA | C34: 2018 | D34: US | E34: Company A | F34: Not described | H34: general 8 hr exposure | J34: W | K34: =+IF(N34<=540, "8-hr TWA", IF(N34>540, "12-hr TWA", "Error")) -> 12-hr TWA | L34: PBZ | M34: 11.07.2011 | N34: 690 | O34: 1 | W34: 0.005 | X34: =IF($K34="8-hr TWA", IF($N34<480,IF($AK34="ND",IF($AR$9<3,($W34/SQRT(2))*$N34/480, ($W34/2)*$N34/480),$W34*$N34/480),IF($AK34="ND",IF($AR$9<3,($W34/SQRT(2)), ($W34/2)),$W34)),"") | Y34: =IF($K34="12-hr TWA", IF($N34<720,IF($AK34="ND",IF($AS$9<3,($W34/SQRT(2))*$N34/720, ($W34/2)*$N34/720),$W34*$N34/720),IF($AK34="ND",IF($AS$9<3,($W34/SQRT(2)), ($W34/2)),$W34)),"") -> 0.0023958333 | AD34: =+W34*MolW/MolVol -> 0.031456033 | AE34: =+IFERROR(X34*MolW/MolVol,"") | AF34: =+IFERROR(Y34*MolW/MolVol,"") -> 0.015072682 | AG34: =IF($K34="8-hr TWA", IF(J34="ONU",W34*MolW/MolVol,""),"") | AH34: =IF($K34="12-hr TWA", IF(J34="ONU",W34*MolW/MolVol,""),"") | AI34: =IF($K34="8-hr TWA", IF(I34="Y",X34*MolW/MolVol,""),"") | AK34: ND | AL34: =IF($K34="8-hr TWA", IF($AK34<>"ND", IF($N34<480, $W34*$N34/480,$W34),""),"") | AM34: =+IFERROR(LN(AL34), "") | AN34: =IF($K34="12-hr TWA", IF($AK34<>"ND", IF($N34<720, $W34*$N34/720,$W34),""),"") | AO34: =+IFERROR(LN(AN34), "")
A35: 5926010 | B35: HSIA | C35: 2018 | D35: US | E35: Company A | F35: Not described | H35: general 8 hr exposure | J35: W | K35: =+IF(N35<=540, "8-hr TWA", IF(N35>540, "12-hr TWA", "Error")) -> 12-hr TWA | L35: PBZ | M35: 12.07.2011 | N35: 690 | O35: 1 | W35: 0.005 | X35: =IF($K35="8-hr TWA", IF($N35<480,IF($AK35="ND",IF($AR$9<3,($W35/SQRT(2))*$N35/480, ($W35/2)*$N35/480),$W35*$N35/480),IF($AK35="ND",IF($AR$9<3,($W35/SQRT(2)), ($W35/2)),$W35)),"") | Y35: =IF($K35="12-hr TWA", IF($N35<720,IF($AK35="ND",IF($AS$9<3,($W35/SQRT(2))*$N35/720, ($W35/2)*$N35/720),$W35*$N35/720),IF($AK35="ND",IF($AS$9<3,($W35/SQRT(2)), ($W35/2)),$W35)),"") -> 0.0023958333 | AD35: =+W35*MolW/MolVol -> 0.031456033 | AE35: =+IFERROR(X35*MolW/MolVol,"") | AF35: =+IFERROR(Y35*MolW/MolVol,"") -> 0.015072682 | AG35: =IF($K35="8-hr TWA", IF(J35="ONU",W35*MolW/MolVol,""),"") | AH35: =IF($K35="12-hr TWA", IF(J35="ONU",W35*MolW/MolVol,""),"") | AI35: =IF($K35="8-hr TWA", IF(I35="Y",X35*MolW/MolVol,""),"") | AK35: ND | AL35: =IF($K35="8-hr TWA", IF($AK35<>"ND", IF($N35<480, $W35*$N35/480,$W35),""),"") | AM35: =+IFERROR(LN(AL35), "") | AN35: =IF($K35="12-hr TWA", IF($AK35<>"ND", IF($N35<720, $W35*$N35/720,$W35),""),"") | AO35: =+IFERROR(LN(AN35), "")
A36: 5926010 | B36: HSIA | C36: 2018 | D36: US | E36: Company A | F36: Not described | H36: general 8 hr exposure | J36: W | K36: =+IF(N36<=540, "8-hr TWA", IF(N36>540, "12-hr TWA", "Error")) -> 12-hr TWA | L36: PBZ | M36: 29.05.2015 | N36: 720 | O36: 1 | W36: 0.11 | X36: =IF($K36="8-hr TWA", IF($N36<480,IF($AK36="ND",IF($AR$9<3,($W36/SQRT(2))*$N36/480, ($W36/2)*$N36/480),$W36*$N36/480),IF($AK36="ND",IF($AR$9<3,($W36/SQRT(2)), ($W36/2)),$W36)),"") | Y36: =IF($K36="12-hr TWA", IF($N36<720,IF($AK36="ND",IF($AS$9<3,($W36/SQRT(2))*$N36/720, ($W36/2)*$N36/720),$W36*$N36/720),IF($AK36="ND",IF($AS$9<3,($W36/SQRT(2)), ($W36/2)),$W36)),"") -> 0.11 | AD36: =+W36*MolW/MolVol -> 0.69203272 | AE36: =+IFERROR(X36*MolW/MolVol,"") | AF36: =+IFERROR(Y36*MolW/MolVol,"") -> 0.69203272 | AG36: =IF($K36="8-hr TWA", IF(J36="ONU",W36*MolW/MolVol,""),"") | AH36: =IF($K36="12-hr TWA", IF(J36="ONU",W36*MolW/MolVol,""),"") | AI36: =IF($K36="8-hr TWA", IF(I36="Y",X36*MolW/MolVol,""),"") | AL36: =IF($K36="8-hr TWA", IF($AK36<>"ND", IF($N36<480, $W36*$N36/480,$W36),""),"") | AM36: =+IFERROR(LN(AL36), "") | AN36: =IF($K36="12-hr TWA", IF($AK36<>"ND", IF($N36<720, $W36*$N36/720,$W36),""),"") -> 0.11 | AO36: =+IFERROR(LN(AN36), "") -> -2.2072749
A37: 5926010 | B37: HSIA | C37: 2018 | D37: US | E37: Company A | F37: Not described | H37: general 8 hr exposure | J37: W | K37: =+IF(N37<=540, "8-hr TWA", IF(N37>540, "12-hr TWA", "Error")) -> 12-hr TWA | L37: PBZ | M37: 29.05.2015 | N37: 720 | O37: 1 | W37: 0.02 | X37: =IF($K37="8-hr TWA", IF($N37<480,IF($AK37="ND",IF($AR$9<3,($W37/SQRT(2))*$N37/480, ($W37/2)*$N37/480),$W37*$N37/480),IF($AK37="ND",IF($AR$9<3,($W37/SQRT(2)), ($W37/2)),$W37)),"") | Y37: =IF($K37="12-hr TWA", IF($N37<720,IF($AK37="ND",IF($AS$9<3,($W37/SQRT(2))*$N37/720, ($W37/2)*$N37/720),$W37*$N37/720),IF($AK37="ND",IF($AS$9<3,($W37/SQRT(2)), ($W37/2)),$W37)),"") -> 0.01 | AD37: =+W37*MolW/MolVol -> 0.12582413 | AE37: =+IFERROR(X37*MolW/MolVol,"") | AF37: =+IFERROR(Y37*MolW/MolVol,"") -> 0.062912065 | AG37: =IF($K37="8-hr TWA", IF(J37="ONU",W37*MolW/MolVol,""),"") | AH37: =IF($K37="12-hr TWA", IF(J37="ONU",W37*MolW/MolVol,""),"") | AI37: =IF($K37="8-hr TWA", IF(I37="Y",X37*MolW/MolVol,""),"") | AK37: ND | AL37: =IF($K37="8-hr TWA", IF($AK37<>"ND", IF($N37<480, $W37*$N37/480,$W37),""),"") | AM37: =+IFERROR(LN(AL37), "") | AN37: =IF($K37="12-hr TWA", IF($AK37<>"ND", IF($N37<720, $W37*$N37/720,$W37),""),"") | AO37: =+IFERROR(LN(AN37), "")
A38: 5926010 | B38: HSIA | C38: 2018 | D38: US | E38: Company A | F38: Not described | H38: general 8 hr exposure | J38: W | K38: =+IF(N38<=540, "8-hr TWA", IF(N38>540, "12-hr TWA", "Error")) -> 12-hr TWA | L38: PBZ | M38: 03.06.2015 | N38: 720 | O38: 1 | W38: 0.1 | X38: =IF($K38="8-hr TWA", IF($N38<480,IF($AK38="ND",IF($AR$9<3,($W38/SQRT(2))*$N38/480, ($W38/2)*$N38/480),$W38*$N38/480),IF($AK38="ND",IF($AR$9<3,($W38/SQRT(2)), ($W38/2)),$W38)),"") | Y38: =IF($K38="12-hr TWA", IF($N38<720,IF($AK38="ND",IF($AS$9<3,($W38/SQRT(2))*$N38/720, ($W38/2)*$N38/720),$W38*$N38/720),IF($AK38="ND",IF($AS$9<3,($W38/SQRT(2)), ($W38/2)),$W38)),"") -> 0.1 | AD38: =+W38*MolW/MolVol -> 0.62912065 | AE38: =+IFERROR(X38*MolW/MolVol,"") | AF38: =+IFERROR(Y38*MolW/MolVol,"") -> 0.62912065 | AG38: =IF($K38="8-hr TWA", IF(J38="ONU",W38*MolW/MolVol,""),"") | AH38: =IF($K38="12-hr TWA", IF(J38="ONU",W38*MolW/MolVol,""),"") | AI38: =IF($K38="8-hr TWA", IF(I38="Y",X38*MolW/MolVol,""),"") | AL38: =IF($K38="8-hr TWA", IF($AK38<>"ND", IF($N38<480, $W38*$N38/480,$W38),""),"") | AM38: =+IFERROR(LN(AL38), "") | AN38: =IF($K38="12-hr TWA", IF($AK38<>"ND", IF($N38<720, $W38*$N38/720,$W38),""),"") -> 0.1 | AO38: =+IFERROR(LN(AN38), "") -> -2.3025851
A39: 5176376 | B39: HSIA | C39: 2018 | D39: US | E39: Company B | F39: Not described | H39: MCI Outside Equipment Technician | J39: W | K39: =+IF(N39<=540, "8-hr TWA", IF(N39>540, "12-hr TWA", "Error")) -> 12-hr TWA | L39: PBZ | M39: 40758 | N39: 720 | O39: 1 | W39: 0.017 | X39: =IF($K39="8-hr TWA", IF($N39<480,IF($AK39="ND",IF($AR$9<3,($W39/SQRT(2))*$N39/480, ($W39/2)*$N39/480),$W39*$N39/480),IF($AK39="ND",IF($AR$9<3,($W39/SQRT(2)), ($W39/2)),$W39)),"") | Y39: =IF($K39="12-hr TWA", IF($N39<720,IF($AK39="ND",IF($AS$9<3,($W39/SQRT(2))*$N39/720, ($W39/2)*$N39/720),$W39*$N39/720),IF($AK39="ND",IF($AS$9<3,($W39/SQRT(2)), ($W39/2)),$W39)),"") -> 0.0085 | AD39: =+W39*MolW/MolVol -> 0.10695051 | AE39: =+IFERROR(X39*MolW/MolVol,"") | AF39: =+IFERROR(Y39*MolW/MolVol,"") -> 0.053475256 | AG39: =IF($K39="8-hr TWA", IF(J39="ONU",W39*MolW/MolVol,""),"") | AH39: =IF($K39="12-hr TWA", IF(J39="ONU",W39*MolW/MolVol,""),"") | AI39: =IF($K39="8-hr TWA", IF(I39="Y",X39*MolW/MolVol,""),"") | AK39: ND | AL39: =IF($K39="8-hr TWA", IF($AK39<>"ND", IF($N39<480, $W39*$N39/480,$W39),""),"") | AM39: =+IFERROR(LN(AL39), "") | AN39: =IF($K39="12-hr TWA", IF($AK39<>"ND", IF($N39<720, $W39*$N39/720,$W39),""),"") | AO39: =+IFERROR(LN(AN39), "")
A40: 5176376 | B40: HSIA | C40: 2018 | D40: US | E40: Company B | F40: Not described | H40: Analyzer Technician | J40: W | K40: =+IF(N40<=540, "8-hr TWA", IF(N40>540, "12-hr TWA", "Error")) -> 8-hr TWA | L40: PBZ | M40: 40282 | N40: 480 | O40: 1 | W40: 0.039 | X40: =IF($K40="8-hr TWA", IF($N40<480,IF($AK40="ND",IF($AR$9<3,($W40/SQRT(2))*$N40/480, ($W40/2)*$N40/480),$W40*$N40/480),IF($AK40="ND",IF($AR$9<3,($W40/SQRT(2)), ($W40/2)),$W40)),"") -> 0.027577164 | Y40: =IF($K40="12-hr TWA", IF($N40<720,IF($AK40="ND",IF($AS$9<3,($W40/SQRT(2))*$N40/720, ($W40/2)*$N40/720),$W40*$N40/720),IF($AK40="ND",IF($AS$9<3,($W40/SQRT(2)), ($W40/2)),$W40)),"") | AD40: =+W40*MolW/MolVol -> 0.24535706 | AE40: =+IFERROR(X40*MolW/MolVol,"") -> 0.17349364 | AF40: =+IFERROR(Y40*MolW/MolVol,"") | AG40: =IF($K40="8-hr TWA", IF(J40="ONU",W40*MolW/MolVol,""),"") | AH40: =IF($K40="12-hr TWA", IF(J40="ONU",W40*MolW/MolVol,""),"") | AI40: =IF($K40="8-hr TWA", IF(I40="Y",X40*MolW/MolVol,""),"") | AK40: ND | AL40: =IF($K40="8-hr TWA", IF($AK40<>"ND", IF($N40<480, $W40*$N40/480,$W40),""),"") | AM40: =+IFERROR(LN(AL40), "") | AN40: =IF($K40="12-hr TWA", IF($AK40<>"ND", IF($N40<720, $W40*$N40/720,$W40),""),"") | AO40: =+IFERROR(LN(AN40), "")
A41: 5176376 | B41: HSIA | C41: 2018 | D41: US | E41: Company B | F41: Not described | H41: Shipping Day Technician | I41: Y | J41: W | K41: =+IF(N41<=540, "8-hr TWA", IF(N41>540, "12-hr TWA", "Error")) -> 8-hr TWA | L41: PBZ | M41: 41065 | N41: 480 | O41: 1 | W41: 0.04 | X41: =IF($K41="8-hr TWA", IF($N41<480,IF($AK41="ND",IF($AR$9<3,($W41/SQRT(2))*$N41/480, ($W41/2)*$N41/480),$W41*$N41/480),IF($AK41="ND",IF($AR$9<3,($W41/SQRT(2)), ($W41/2)),$W41)),"") -> 0.028284271 | Y41: =IF($K41="12-hr TWA", IF($N41<720,IF($AK41="ND",IF($AS$9<3,($W41/SQRT(2))*$N41/720, ($W41/2)*$N41/720),$W41*$N41/720),IF($AK41="ND",IF($AS$9<3,($W41/SQRT(2)), ($W41/2)),$W41)),"") | AD41: =+W41*MolW/MolVol -> 0.25164826 | AE41: =+IFERROR(X41*MolW/MolVol,"") -> 0.17794219 | AF41: =+IFERROR(Y41*MolW/MolVol,"") | AG41: =IF($K41="8-hr TWA", IF(J41="ONU",W41*MolW/MolVol,""),"") | AH41: =IF($K41="12-hr TWA", IF(J41="ONU",W41*MolW/MolVol,""),"") | AI41: =IF($K41="8-hr TWA", IF(I41="Y",X41*MolW/MolVol,""),"") -> 0.17794219 | AK41: ND | AL41: =IF($K41="8-hr TWA", IF($AK41<>"ND", IF($N41<480, $W41*$N41/480,$W41),""),"") | AM41: =+IFERROR(LN(AL41), "") | AN41: =IF($K41="12-hr TWA", IF($AK41<>"ND", IF($N41<720, $W41*$N41/720,$W41),""),"") | AO41: =+IFERROR(LN(AN41), "")
A42: 5176376 | B42: HSIA | C42: 2018 | D42: US | E42: Company B | F42: Not described | H42: 5CP Outside Equipment Technician | J42: W | K42: =+IF(N42<=540, "8-hr TWA", IF(N42>540, "12-hr TWA", "Error")) -> 12-hr TWA | L42: PBZ | M42: 40065 | N42: 720 | O42: 1 | W42: 0.041 | X42: =IF($K42="8-hr TWA", IF($N42<480,IF($AK42="ND",IF($AR$9<3,($W42/SQRT(2))*$N42/480, ($W42/2)*$N42/480),$W42*$N42/480),IF($AK42="ND",IF($AR$9<3,($W42/SQRT(2)), ($W42/2)),$W42)),"") | Y42: =IF($K42="12-hr TWA", IF($N42<720,IF($AK42="ND",IF($AS$9<3,($W42/SQRT(2))*$N42/720, ($W42/2)*$N42/720),$W42*$N42/720),IF($AK42="ND",IF($AS$9<3,($W42/SQRT(2)), ($W42/2)),$W42)),"") -> 0.0205 | AD42: =+W42*MolW/MolVol -> 0.25793947 | AE42: =+IFERROR(X42*MolW/MolVol,"") | AF42: =+IFERROR(Y42*MolW/MolVol,"") -> 0.12896973 | AG42: =IF($K42="8-hr TWA", IF(J42="ONU",W42*MolW/MolVol,""),"") | AH42: =IF($K42="12-hr TWA", IF(J42="ONU",W42*MolW/MolVol,""),"") | AI42: =IF($K42="8-hr TWA", IF(I42="Y",X42*MolW/MolVol,""),"") | AK42: ND | AL42: =IF($K42="8-hr TWA", IF($AK42<>"ND", IF($N42<480, $W42*$N42/480,$W42),""),"") | AM42: =+IFERROR(LN(AL42), "") | AN42: =IF($K42="12-hr TWA", IF($AK42<>"ND", IF($N42<720, $W42*$N42/720,$W42),""),"") | AO42: =+IFERROR(LN(AN42), "")
A43: 5176376 | B43: HSIA | C43: 2018 | D43: US | E43: Company B | F43: Not described | H43: 5CP Outside Equipment Technician | J43: W | K43: =+IF(N43<=540, "8-hr TWA", IF(N43>540, "12-hr TWA", "Error")) -> 12-hr TWA | L43: PBZ | M43: 40128 | N43: 720 | O43: 1 | W43: 0.041 | X43: =IF($K43="8-hr TWA", IF($N43<480,IF($AK43="ND",IF($AR$9<3,($W43/SQRT(2))*$N43/480, ($W43/2)*$N43/480),$W43*$N43/480),IF($AK43="ND",IF($AR$9<3,($W43/SQRT(2)), ($W43/2)),$W43)),"") | Y43: =IF($K43="12-hr TWA", IF($N43<720,IF($AK43="ND",IF($AS$9<3,($W43/SQRT(2))*$N43/720, ($W43/2)*$N43/720),$W43*$N43/720),IF($AK43="ND",IF($AS$9<3,($W43/SQRT(2)), ($W43/2)),$W43)),"") -> 0.0205 | AD43: =+W43*MolW/MolVol -> 0.25793947 | AE43: =+IFERROR(X43*MolW/MolVol,"") | AF43: =+IFERROR(Y43*MolW/MolVol,"") -> 0.12896973 | AG43: =IF($K43="8-hr TWA", IF(J43="ONU",W43*MolW/MolVol,""),"") | AH43: =IF($K43="12-hr TWA", IF(J43="ONU",W43*MolW/MolVol,""),"") | AI43: =IF($K43="8-hr TWA", IF(I43="Y",X43*MolW/MolVol,""),"") | AK43: ND | AL43: =IF($K43="8-hr TWA", IF($AK43<>"ND", IF($N43<480, $W43*$N43/480,$W43),""),"") | AM43: =+IFERROR(LN(AL43), "") | AN43: =IF($K43="12-hr TWA", IF($AK43<>"ND", IF($N43<720, $W43*$N43/720,$W43),""),"") | AO43: =+IFERROR(LN(AN43), "")
A44: 5176376 | B44: HSIA | C44: 2018 | D44: US | E44: Company B | F44: Not described | H44: Analyzer Technician | J44: W | K44: =+IF(N44<=540, "8-hr TWA", IF(N44>540, "12-hr TWA", "Error")) -> 8-hr TWA | L44: PBZ | M44: 40444 | N44: 480 | O44: 1 | W44: 0.041 | X44: =IF($K44="8-hr TWA", IF($N44<480,IF($AK44="ND",IF($AR$9<3,($W44/SQRT(2))*$N44/480, ($W44/2)*$N44/480),$W44*$N44/480),IF($AK44="ND",IF($AR$9<3,($W44/SQRT(2)), ($W44/2)),$W44)),"") -> 0.028991378 | Y44: =IF($K44="12-hr TWA", IF($N44<720,IF($AK44="ND",IF($AS$9<3,($W44/SQRT(2))*$N44/720, ($W44/2)*$N44/720),$W44*$N44/720),IF($AK44="ND",IF($AS$9<3,($W44/SQRT(2)), ($W44/2)),$W44)),"") | AD44: =+W44*MolW/MolVol -> 0.25793947 | AE44: =+IFERROR(X44*MolW/MolVol,"") -> 0.18239075 | AF44: =+IFERROR(Y44*MolW/MolVol,"") | AG44: =IF($K44="8-hr TWA", IF(J44="ONU",W44*MolW/MolVol,""),"") | AH44: =IF($K44="12-hr TWA", IF(J44="ONU",W44*MolW/MolVol,""),"") | AI44: =IF($K44="8-hr TWA", IF(I44="Y",X44*MolW/MolVol,""),"") | AK44: ND | AL44: =IF($K44="8-hr TWA", IF($AK44<>"ND", IF($N44<480, $W44*$N44/480,$W44),""),"") | AM44: =+IFERROR(LN(AL44), "") | AN44: =IF($K44="12-hr TWA", IF($AK44<>"ND", IF($N44<720, $W44*$N44/720,$W44),""),"") | AO44: =+IFERROR(LN(AN44), "")
A45: 5176376 | B45: HSIA | C45: 2018 | D45: US | E45: Company B | F45: Not described | H45: 5CP Outside Equipment Technician | J45: W | K45: =+IF(N45<=540, "8-hr TWA", IF(N45>540, "12-hr TWA", "Error")) -> 12-hr TWA | L45: PBZ | M45: 40066 | N45: 720 | O45: 1 | W45: 0.042 | X45: =IF($K45="8-hr TWA", IF($N45<480,IF($AK45="ND",IF($AR$9<3,($W45/SQRT(2))*$N45/480, ($W45/2)*$N45/480),$W45*$N45/480),IF($AK45="ND",IF($AR$9<3,($W45/SQRT(2)), ($W45/2)),$W45)),"") | Y45: =IF($K45="12-hr TWA", IF($N45<720,IF($AK45="ND",IF($AS$9<3,($W45/SQRT(2))*$N45/720, ($W45/2)*$N45/720),$W45*$N45/720),IF($AK45="ND",IF($AS$9<3,($W45/SQRT(2)), ($W45/2)),$W45)),"") -> 0.021 | AD45: =+W45*MolW/MolVol -> 0.26423067 | AE45: =+IFERROR(X45*MolW/MolVol,"") | AF45: =+IFERROR(Y45*MolW/MolVol,"") -> 0.13211534 | AG45: =IF($K45="8-hr TWA", IF(J45="ONU",W45*MolW/MolVol,""),"") | AH45: =IF($K45="12-hr TWA", IF(J45="ONU",W45*MolW/MolVol,""),"") | AI45: =IF($K45="8-hr TWA", IF(I45="Y",X45*MolW/MolVol,""),"") | AK45: ND | AL45: =IF($K45="8-hr TWA", IF($AK45<>"ND", IF($N45<480, $W45*$N45/480,$W45),""),"") | AM45: =+IFERROR(LN(AL45), "") | AN45: =IF($K45="12-hr TWA", IF($AK45<>"ND", IF($N45<720, $W45*$N45/720,$W45),""),"") | AO45: =+IFERROR(LN(AN45), "")
A46: 5176376 | B46: HSIA | C46: 2018 | D46: US | E46: Company B | F46: Not described | H46: 5CP Outside Equipment Technician | J46: W | K46: =+IF(N46<=540, "8-hr TWA", IF(N46>540, "12-hr TWA", "Error")) -> 12-hr TWA | L46: PBZ | M46: 40072 | N46: 720 | O46: 1 | W46: 0.043 | X46: =IF($K46="8-hr TWA", IF($N46<480,IF($AK46="ND",IF($AR$9<3,($W46/SQRT(2))*$N46/480, ($W46/2)*$N46/480),$W46*$N46/480),IF($AK46="ND",IF($AR$9<3,($W46/SQRT(2)), ($W46/2)),$W46)),"") | Y46: =IF($K46="12-hr TWA", IF($N46<720,IF($AK46="ND",IF($AS$9<3,($W46/SQRT(2))*$N46/720, ($W46/2)*$N46/720),$W46*$N46/720),IF($AK46="ND",IF($AS$9<3,($W46/SQRT(2)), ($W46/2)),$W46)),"") -> 0.0215 | AD46: =+W46*MolW/MolVol -> 0.27052188 | AE46: =+IFERROR(X46*MolW/MolVol,"") | AF46: =+IFERROR(Y46*MolW/MolVol,"") -> 0.13526094 | AG46: =IF($K46="8-hr TWA", IF(J46="ONU",W46*MolW/MolVol,""),"") | AH46: =IF($K46="12-hr TWA", IF(J46="ONU",W46*MolW/MolVol,""),"") | AI46: =IF($K46="8-hr TWA", IF(I46="Y",X46*MolW/MolVol,""),"") | AK46: ND | AL46: =IF($K46="8-hr TWA", IF($AK46<>"ND", IF($N46<480, $W46*$N46/480,$W46),""),"") | AM46: =+IFERROR(LN(AL46), "") | AN46: =IF($K46="12-hr TWA", IF($AK46<>"ND", IF($N46<720, $W46*$N46/720,$W46),""),"") | AO46: =+IFERROR(LN(AN46), "")
A47: 5176376 | B47: HSIA | C47: 2018 | D47: US | E47: Company B | F47: Not described | H47: Utilities Boiler Technician | J47: W | K47: =+IF(N47<=540, "8-hr TWA", IF(N47>540, "12-hr TWA", "Error")) -> 12-hr TWA | L47: PBZ | M47: 41065 | N47: 720 | O47: 1 | W47: 0.044 | X47: =IF($K47="8-hr TWA", IF($N47<480,IF($AK47="ND",IF($AR$9<3,($W47/SQRT(2))*$N47/480, ($W47/2)*$N47/480),$W47*$N47/480),IF($AK47="ND",IF($AR$9<3,($W47/SQRT(2)), ($W47/2)),$W47)),"") | Y47: =IF($K47="12-hr TWA", IF($N47<720,IF($AK47="ND",IF($AS$9<3,($W47/SQRT(2))*$N47/720, ($W47/2)*$N47/720),$W47*$N47/720),IF($AK47="ND",IF($AS$9<3,($W47/SQRT(2)), ($W47/2)),$W47)),"") -> 0.022 | AD47: =+W47*MolW/MolVol -> 0.27681309 | AE47: =+IFERROR(X47*MolW/MolVol,"") | AF47: =+IFERROR(Y47*MolW/MolVol,"") -> 0.13840654 | AG47: =IF($K47="8-hr TWA", IF(J47="ONU",W47*MolW/MolVol,""),"") | AH47: =IF($K47="12-hr TWA", IF(J47="ONU",W47*MolW/MolVol,""),"") | AI47: =IF($K47="8-hr TWA", IF(I47="Y",X47*MolW/MolVol,""),"") | AK47: ND | AL47: =IF($K47="8-hr TWA", IF($AK47<>"ND", IF($N47<480, $W47*$N47/480,$W47),""),"") | AM47: =+IFERROR(LN(AL47), "") | AN47: =IF($K47="12-hr TWA", IF($AK47<>"ND", IF($N47<720, $W47*$N47/720,$W47),""),"") | AO47: =+IFERROR(LN(AN47), "")
A48: 5176376 | B48: HSIA | C48: 2018 | D48: US | E48: Company B | F48: Not described | H48: MCI Outside Equipment Technician | J48: W | K48: =+IF(N48<=540, "8-hr TWA", IF(N48>540, "12-hr TWA", "Error")) -> 12-hr TWA | L48: PBZ | M48: 40234 | N48: 720 | O48: 1 | W48: 0.045 | X48: =IF($K48="8-hr TWA", IF($N48<480,IF($AK48="ND",IF($AR$9<3,($W48/SQRT(2))*$N48/480, ($W48/2)*$N48/480),$W48*$N48/480),IF($AK48="ND",IF($AR$9<3,($W48/SQRT(2)), ($W48/2)),$W48)),"") | Y48: =IF($K48="12-hr TWA", IF($N48<720,IF($AK48="ND",IF($AS$9<3,($W48/SQRT(2))*$N48/720, ($W48/2)*$N48/720),$W48*$N48/720),IF($AK48="ND",IF($AS$9<3,($W48/SQRT(2)), ($W48/2)),$W48)),"") -> 0.0225 | AD48: =+W48*MolW/MolVol -> 0.28310429 | AE48: =+IFERROR(X48*MolW/MolVol,"") | AF48: =+IFERROR(Y48*MolW/MolVol,"") -> 0.14155215 | AG48: =IF($K48="8-hr TWA", IF(J48="ONU",W48*MolW/MolVol,""),"") | AH48: =IF($K48="12-hr TWA", IF(J48="ONU",W48*MolW/MolVol,""),"") | AI48: =IF($K48="8-hr TWA", IF(I48="Y",X48*MolW/MolVol,""),"") | AK48: ND | AL48: =IF($K48="8-hr TWA", IF($AK48<>"ND", IF($N48<480, $W48*$N48/480,$W48),""),"") | AM48: =+IFERROR(LN(AL48), "") | AN48: =IF($K48="12-hr TWA", IF($AK48<>"ND", IF($N48<720, $W48*$N48/720,$W48),""),"") | AO48: =+IFERROR(LN(AN48), "")
A49: 5176376 | B49: HSIA | C49: 2018 | D49: US | E49: Company B | F49: Not described | H49: MCI Outside Equipment Technician | J49: W | K49: =+IF(N49<=540, "8-hr TWA", IF(N49>540, "12-hr TWA", "Error")) -> 12-hr TWA | L49: PBZ | M49: 40437 | N49: 720 | O49: 1 | W49: 0.045 | X49: =IF($K49="8-hr TWA", IF($N49<480,IF($AK49="ND",IF($AR$9<3,($W49/SQRT(2))*$N49/480, ($W49/2)*$N49/480),$W49*$N49/480),IF($AK49="ND",IF($AR$9<3,($W49/SQRT(2)), ($W49/2)),$W49)),"") | Y49: =IF($K49="12-hr TWA", IF($N49<720,IF($AK49="ND",IF($AS$9<3,($W49/SQRT(2))*$N49/720, ($W49/2)*$N49/720),$W49*$N49/720),IF($AK49="ND",IF($AS$9<3,($W49/SQRT(2)), ($W49/2)),$W49)),"") -> 0.0225 | AD49: =+W49*MolW/MolVol -> 0.28310429 | AE49: =+IFERROR(X49*MolW/MolVol,"") | AF49: =+IFERROR(Y49*MolW/MolVol,"") -> 0.14155215 | AG49: =IF($K49="8-hr TWA", IF(J49="ONU",W49*MolW/MolVol,""),"") | AH49: =IF($K49="12-hr TWA", IF(J49="ONU",W49*MolW/MolVol,""),"") | AI49: =IF($K49="8-hr TWA", IF(I49="Y",X49*MolW/MolVol,""),"") | AK49: ND | AL49: =IF($K49="8-hr TWA", IF($AK49<>"ND", IF($N49<480, $W49*$N49/480,$W49),""),"") | AM49: =+IFERROR(LN(AL49), "") | AN49: =IF($K49="12-hr TWA", IF($AK49<>"ND", IF($N49<720, $W49*$N49/720,$W49),""),"") | AO49: =+IFERROR(LN(AN49), "")
A50: 5176376 | B50: HSIA | C50: 2018 | D50: US | E50: Company B | F50: Not described | H50: MCI Outside Equipment Technician | J50: W | K50: =+IF(N50<=540, "8-hr TWA", IF(N50>540, "12-hr TWA", "Error")) -> 12-hr TWA | L50: PBZ | M50: 40793 | N50: 720 | O50: 1 | W50: 0.045 | X50: =IF($K50="8-hr TWA", IF($N50<480,IF($AK50="ND",IF($AR$9<3,($W50/SQRT(2))*$N50/480, ($W50/2)*$N50/480),$W50*$N50/480),IF($AK50="ND",IF($AR$9<3,($W50/SQRT(2)), ($W50/2)),$W50)),"") | Y50: =IF($K50="12-hr TWA", IF($N50<720,IF($AK50="ND",IF($AS$9<3,($W50/SQRT(2))*$N50/720, ($W50/2)*$N50/720),$W50*$N50/720),IF($AK50="ND",IF($AS$9<3,($W50/SQRT(2)), ($W50/2)),$W50)),"") -> 0.0225 | AD50: =+W50*MolW/MolVol -> 0.28310429 | AE50: =+IFERROR(X50*MolW/MolVol,"") | AF50: =+IFERROR(Y50*MolW/MolVol,"") -> 0.14155215 | AG50: =IF($K50="8-hr TWA", IF(J50="ONU",W50*MolW/MolVol,""),"") | AH50: =IF($K50="12-hr TWA", IF(J50="ONU",W50*MolW/MolVol,""),"") | AI50: =IF($K50="8-hr TWA", IF(I50="Y",X50*MolW/MolVol,""),"") | AK50: ND | AL50: =IF($K50="8-hr TWA", IF($AK50<>"ND", IF($N50<480, $W50*$N50/480,$W50),""),"") | AM50: =+IFERROR(LN(AL50), "") | AN50: =IF($K50="12-hr TWA", IF($AK50<>"ND", IF($N50<720, $W50*$N50/720,$W50),""),"") | AO50: =+IFERROR(LN(AN50), "")
A51: 5176376 | B51: HSIA | C51: 2018 | D51: US | E51: Company B | F51: Not described | H51: Shipping Shift Technician | J51: W | K51: =+IF(N51<=540, "8-hr TWA", IF(N51>540, "12-hr TWA", "Error")) -> 12-hr TWA | L51: PBZ | M51: 40308 | N51: 720 | O51: 1 | W51: 0.045 | X51: =IF($K51="8-hr TWA", IF($N51<480,IF($AK51="ND",IF($AR$9<3,($W51/SQRT(2))*$N51/480, ($W51/2)*$N51/480),$W51*$N51/480),IF($AK51="ND",IF($AR$9<3,($W51/SQRT(2)), ($W51/2)),$W51)),"") | Y51: =IF($K51="12-hr TWA", IF($N51<720,IF($AK51="ND",IF($AS$9<3,($W51/SQRT(2))*$N51/720, ($W51/2)*$N51/720),$W51*$N51/720),IF($AK51="ND",IF($AS$9<3,($W51/SQRT(2)), ($W51/2)),$W51)),"") -> 0.0225 | AD51: =+W51*MolW/MolVol -> 0.28310429 | AE51: =+IFERROR(X51*MolW/MolVol,"") | AF51: =+IFERROR(Y51*MolW/MolVol,"") -> 0.14155215 | AG51: =IF($K51="8-hr TWA", IF(J51="ONU",W51*MolW/MolVol,""),"") | AH51: =IF($K51="12-hr TWA", IF(J51="ONU",W51*MolW/MolVol,""),"") | AI51: =IF($K51="8-hr TWA", IF(I51="Y",X51*MolW/MolVol,""),"") | AK51: ND | AL51: =IF($K51="8-hr TWA", IF($AK51<>"ND", IF($N51<480, $W51*$N51/480,$W51),""),"") | AM51: =+IFERROR(LN(AL51), "") | AN51: =IF($K51="12-hr TWA", IF($AK51<>"ND", IF($N51<720, $W51*$N51/720,$W51),""),"") | AO51: =+IFERROR(LN(AN51), "")
A52: 5176376 | B52: HSIA | C52: 2018 | D52: US | E52: Company B | F52: Not described | H52: Utilities Boiler Technician | J52: W | K52: =+IF(N52<=540, "8-hr TWA", IF(N52>540, "12-hr TWA", "Error")) -> 12-hr TWA | L52: PBZ | M52: 41193 | N52: 720 | O52: 1 | W52: 0.045 | X52: =IF($K52="8-hr TWA", IF($N52<480,IF($AK52="ND",IF($AR$9<3,($W52/SQRT(2))*$N52/480, ($W52/2)*$N52/480),$W52*$N52/480),IF($AK52="ND",IF($AR$9<3,($W52/SQRT(2)), ($W52/2)),$W52)),"") | Y52: =IF($K52="12-hr TWA", IF($N52<720,IF($AK52="ND",IF($AS$9<3,($W52/SQRT(2))*$N52/720, ($W52/2)*$N52/720),$W52*$N52/720),IF($AK52="ND",IF($AS$9<3,($W52/SQRT(2)), ($W52/2)),$W52)),"") -> 0.0225 | AD52: =+W52*MolW/MolVol -> 0.28310429 | AE52: =+IFERROR(X52*MolW/MolVol,"") | AF52: =+IFERROR(Y52*MolW/MolVol,"") -> 0.14155215 | AG52: =IF($K52="8-hr TWA", IF(J52="ONU",W52*MolW/MolVol,""),"") | AH52: =IF($K52="12-hr TWA", IF(J52="ONU",W52*MolW/MolVol,""),"") | AI52: =IF($K52="8-hr TWA", IF(I52="Y",X52*MolW/MolVol,""),"") | AK52: ND | AL52: =IF($K52="8-hr TWA", IF($AK52<>"ND", IF($N52<480, $W52*$N52/480,$W52),""),"") | AM52: =+IFERROR(LN(AL52), "") | AN52: =IF($K52="12-hr TWA", IF($AK52<>"ND", IF($N52<720, $W52*$N52/720,$W52),""),"") | AO52: =+IFERROR(LN(AN52), "")
A53: 5176376 | B53: HSIA | C53: 2018 | D53: US | E53: Company B | F53: Not described | H53: EDC Outside Equipment Technician | J53: W | K53: =+IF(N53<=540, "8-hr TWA", IF(N53>540, "12-hr TWA", "Error")) -> 12-hr TWA | L53: PBZ | M53: 41933 | N53: 720 | O53: 1 | W53: 0.046 | X53: =IF($K53="8-hr TWA", IF($N53<480,IF($AK53="ND",IF($AR$9<3,($W53/SQRT(2))*$N53/480, ($W53/2)*$N53/480),$W53*$N53/480),IF($AK53="ND",IF($AR$9<3,($W53/SQRT(2)), ($W53/2)),$W53)),"") | Y53: =IF($K53="12-hr TWA", IF($N53<720,IF($AK53="ND",IF($AS$9<3,($W53/SQRT(2))*$N53/720, ($W53/2)*$N53/720),$W53*$N53/720),IF($AK53="ND",IF($AS$9<3,($W53/SQRT(2)), ($W53/2)),$W53)),"") -> 0.023 | AD53: =+W53*MolW/MolVol -> 0.2893955 | AE53: =+IFERROR(X53*MolW/MolVol,"") | AF53: =+IFERROR(Y53*MolW/MolVol,"") -> 0.14469775 | AG53: =IF($K53="8-hr TWA", IF(J53="ONU",W53*MolW/MolVol,""),"") | AH53: =IF($K53="12-hr TWA", IF(J53="ONU",W53*MolW/MolVol,""),"") | AI53: =IF($K53="8-hr TWA", IF(I53="Y",X53*MolW/MolVol,""),"") | AK53: ND | AL53: =IF($K53="8-hr TWA", IF($AK53<>"ND", IF($N53<480, $W53*$N53/480,$W53),""),"") | AM53: =+IFERROR(LN(AL53), "") | AN53: =IF($K53="12-hr TWA", IF($AK53<>"ND", IF($N53<720, $W53*$N53/720,$W53),""),"") | AO53: =+IFERROR(LN(AN53), "")
... A57: 5176376 | B57: HSIA | C57: 2018 | D57: US | E57: Company B | F57: Not described | H57: EDC Outside Equipment Technician | J57: W | K57: =+IF(N57<=540, "8-hr TWA", IF(N57>540, "12-hr TWA", "Error")) -> 12-hr TWA | L57: PBZ | M57: 41877 | N57: 660 | O57: 1 | W57: 0.048 | X57: =IF($K57="8-hr TWA", IF($N57<480,IF($AK57="ND",IF($AR$9<3,($W57/SQRT(2))*$N57/480, ($W57/2)*$N57/480),$W57*$N57/480),IF($AK57="ND",IF($AR$9<3,($W57/SQRT(2)), ($W57/2)),$W57)),"") | Y57: =IF($K57="12-hr TWA", IF($N57<720,IF($AK57="ND",IF($AS$9<3,($W57/SQRT(2))*$N57/720, ($W57/2)*$N57/720),$W57*$N57/720),IF($AK57="ND",IF($AS$9<3,($W57/SQRT(2)), ($W57/2)),$W57)),"") -> 0.022 | AD57: =+W57*MolW/MolVol -> 0.30197791 | AE57: =+IFERROR(X57*MolW/MolVol,"") | AF57: =+IFERROR(Y57*MolW/MolVol,"") -> 0.13840654 | AG57: =IF($K57="8-hr TWA", IF(J57="ONU",W57*MolW/MolVol,""),"") | AH57: =IF($K57="12-hr TWA", IF(J57="ONU",W57*MolW/MolVol,""),"") | AI57: =IF($K57="8-hr TWA", IF(I57="Y",X57*MolW/MolVol,""),"") | AK57: ND | AL57: =IF($K57="8-hr TWA", IF($AK57<>"ND", IF($N57<480, $W57*$N57/480,$W57),""),"") | AM57: =+IFERROR(LN(AL57), "") | AN57: =IF($K57="12-hr TWA", IF($AK57<>"ND", IF($N57<720, $W57*$N57/720,$W57),""),"") | AO57: =+IFERROR(LN(AN57), "")
A58: 5176376 | B58: HSIA | C58: 2018 | D58: US | E58: Company B | F58: Not described | H58: MCI Outside Equipment Technician | J58: W | K58: =+IF(N58<=540, "8-hr TWA", IF(N58>540, "12-hr TWA", "Error")) -> 12-hr TWA | L58: PBZ | M58: 40822 | N58: 720 | O58: 1 | W58: 0.052 | X58: =IF($K58="8-hr TWA", IF($N58<480,IF($AK58="ND",IF($AR$9<3,($W58/SQRT(2))*$N58/480, ($W58/2)*$N58/480),$W58*$N58/480),IF($AK58="ND",IF($AR$9<3,($W58/SQRT(2)), ($W58/2)),$W58)),"") | Y58: =IF($K58="12-hr TWA", IF($N58<720,IF($AK58="ND",IF($AS$9<3,($W58/SQRT(2))*$N58/720, ($W58/2)*$N58/720),$W58*$N58/720),IF($AK58="ND",IF($AS$9<3,($W58/SQRT(2)), ($W58/2)),$W58)),"") -> 0.052 | AD58: =+W58*MolW/MolVol -> 0.32714274 | AE58: =+IFERROR(X58*MolW/MolVol,"") | AF58: =+IFERROR(Y58*MolW/MolVol,"") -> 0.32714274 | AG58: =IF($K58="8-hr TWA", IF(J58="ONU",W58*MolW/MolVol,""),"") | AH58: =IF($K58="12-hr TWA", IF(J58="ONU",W58*MolW/MolVol,""),"") | AI58: =IF($K58="8-hr TWA", IF(I58="Y",X58*MolW/MolVol,""),"") | AL58: =IF($K58="8-hr TWA", IF($AK58<>"ND", IF($N58<480, $W58*$N58/480,$W58),""),"") | AM58: =+IFERROR(LN(AL58), "") | AN58: =IF($K58="12-hr TWA", IF($AK58<>"ND", IF($N58<720, $W58*$N58/720,$W58),""),"") -> 0.052 | AO58: =+IFERROR(LN(AN58), "") -> -2.9565116
A59: 5176376 | B59: HSIA | C59: 2018 | D59: US | E59: Company B | F59: Not described | H59: MCI Outside Equipment Technician | J59: W | K59: =+IF(N59<=540, "8-hr TWA", IF(N59>540, "12-hr TWA", "Error")) -> 12-hr TWA | L59: PBZ | M59: 40371 | N59: 720 | O59: 1 | W59: 0.054 | X59: =IF($K59="8-hr TWA", IF($N59<480,IF($AK59="ND",IF($AR$9<3,($W59/SQRT(2))*$N59/480, ($W59/2)*$N59/480),$W59*$N59/480),IF($AK59="ND",IF($AR$9<3,($W59/SQRT(2)), ($W59/2)),$W59)),"") | Y59: =IF($K59="12-hr TWA", IF($N59<720,IF($AK59="ND",IF($AS$9<3,($W59/SQRT(2))*$N59/720, ($W59/2)*$N59/720),$W59*$N59/720),IF($AK59="ND",IF($AS$9<3,($W59/SQRT(2)), ($W59/2)),$W59)),"") -> 0.054 | AD59: =+W59*MolW/MolVol -> 0.33972515 | AE59: =+IFERROR(X59*MolW/MolVol,"") | AF59: =+IFERROR(Y59*MolW/MolVol,"") -> 0.33972515 | AG59: =IF($K59="8-hr TWA", IF(J59="ONU",W59*MolW/MolVol,""),"") | AH59: =IF($K59="12-hr TWA", IF(J59="ONU",W59*MolW/MolVol,""),"") | AI59: =IF($K59="8-hr TWA", IF(I59="Y",X59*MolW/MolVol,""),"") | AL59: =IF($K59="8-hr TWA", IF($AK59<>"ND", IF($N59<480, $W59*$N59/480,$W59),""),"") | AN59: =IF($K59="12-hr TWA", IF($AK59<>"ND", IF($N59<720, $W59*$N59/720,$W59),""),"") -> 0.054 | AO59: =+IFERROR(LN(AN59), "") -> -2.9187712
A60: 5176376 | B60: HSIA | C60: 2018 | D60: US | E60: Company B | F60: Not described | H60: Administration II (Process Supervisor) | J60: ONU | K60: =+IF(N60<=540, "8-hr TWA", IF(N60>540, "12-hr TWA", "Error")) -> 8-hr TWA | L60: PBZ | M60: 42537 | N60: 500 | O60: 1 | W60: 0.063 | AD60: =+W60*MolW/MolVol -> 0.39634601 | AG60: =IF($K60="8-hr TWA", IF(J60="ONU",W60*MolW/MolVol,""),"") -> 0.39634601 | AH60: =IF($K60="12-hr TWA", IF(J60="ONU",W60*MolW/MolVol,""),"") | AI60: =IF($K60="8-hr TWA", IF(I60="Y",X60*MolW/MolVol,""),"") | AK60: ND
A61: 5176376 | B61: HSIA | C61: 2018 | D61: US | E61: Company B | F61: Not described | H61: Administration II (Process Supervisor) | J61: ONU | K61: =+IF(N61<=540, "8-hr TWA", IF(N61>540, "12-hr TWA", "Error")) -> 8-hr TWA | L61: PBZ | M61: 42557 | N61: 480 | O61: 1 | W61: 0.063 | AD61: =+W61*MolW/MolVol -> 0.39634601 | AG61: =IF($K61="8-hr TWA", IF(J61="ONU",W61*MolW/MolVol,""),"") -> 0.39634601 | AH61: =IF($K61="12-hr TWA", IF(J61="ONU",W61*MolW/MolVol,""),"") | AI61: =IF($K61="8-hr TWA", IF(I61="Y",X61*MolW/MolVol,""),"") | AK61: ND
A62: 5176376 | B62: HSIA | C62: 2018 | D62: US | E62: Company B | F62: Not described | H62: Administration II (Process Supervisor) | J62: ONU | K62: =+IF(N62<=540, "8-hr TWA", IF(N62>540, "12-hr TWA", "Error")) -> 8-hr TWA | L62: PBZ | M62: 42516 | N62: 480 | O62: 1 | W62: 0.066 | AD62: =+W62*MolW/MolVol -> 0.41521963 | AG62: =IF($K62="8-hr TWA", IF(J62="ONU",W62*MolW/MolVol,""),"") -> 0.41521963 | AH62: =IF($K62="12-hr TWA", IF(J62="ONU",W62*MolW/MolVol,""),"") | AI62: =IF($K62="8-hr TWA", IF(I62="Y",X62*MolW/MolVol,""),"") | AK62: ND
A63: 5176376 | B63: HSIA | C63: 2018 | D63: US | E63: Company B | F63: Not described | H63: Administration II (Process Supervisor) | J63: ONU | K63: =+IF(N63<=540, "8-hr TWA", IF(N63>540, "12-hr TWA", "Error")) -> 8-hr TWA | L63: PBZ | M63: 42529 | N63: 480 | O63: 1 | W63: 0.066 | AD63: =+W63*MolW/MolVol -> 0.41521963 | AG63: =IF($K63="8-hr TWA", IF(J63="ONU",W63*MolW/MolVol,""),"") -> 0.41521963 | AH63: =IF($K63="12-hr TWA", IF(J63="ONU",W63*MolW/MolVol,""),"") | AI63: =IF($K63="8-hr TWA", IF(I63="Y",X63*MolW/MolVol,""),"") | AK63: ND
A64: 5176376 | B64: HSIA | C64: 2018 | D64: US | E64: Company B | F64: Not described | H64: Administration II (Process Supervisor) | J64: ONU | K64: =+IF(N64<=540, "8-hr TWA", IF(N64>540, "12-hr TWA", "Error")) -> 8-hr TWA | L64: PBZ | M64: 42557 | N64: 480 | O64: 1 | W64: 0.066 | AD64: =+W64*MolW/MolVol -> 0.41521963 | AG64: =IF($K64="8-hr TWA", IF(J64="ONU",W64*MolW/MolVol,""),"") -> 0.41521963 | AH64: =IF($K64="12-hr TWA", IF(J64="ONU",W64*MolW/MolVol,""),"") | AI64: =IF($K64="8-hr TWA", IF(I64="Y",X64*MolW/MolVol,""),"") | AK64: ND
A65: 5176376 | B65: HSIA | C65: 2018 | D65: US | E65: Company B | F65: Not described | H65: Administration II (Process Supervisor) | J65: ONU | K65: =+IF(N65<=540, "8-hr TWA", IF(N65>540, "12-hr TWA", "Error")) -> 8-hr TWA | L65: PBZ | M65: 42585 | N65: 480 | O65: 1 | W65: 0.066 | AD65: =+W65*MolW/MolVol -> 0.41521963 | AG65: =IF($K65="8-hr TWA", IF(J65="ONU",W65*MolW/MolVol,""),"") -> 0.41521963 | AH65: =IF($K65="12-hr TWA", IF(J65="ONU",W65*MolW/MolVol,""),"") | AI65: =IF($K65="8-hr TWA", IF(I65="Y",X65*MolW/MolVol,""),"") | AK65: ND
A66: 5176376 | B66: HSIA | C66: 2018 | D66: US | E66: Company B | F66: Not described | H66: 5CP Outside Equipment Technician | J66: W | K66: =+IF(N66<=540, "8-hr TWA", IF(N66>540, "12-hr TWA", "Error")) -> 12-hr TWA | L66: PBZ | M66: 40133 | N66: 720 | O66: 1 | W66: 0.079 | X66: =IF($K66="8-hr TWA", IF($N66<480,IF($AK66="ND",IF($AR$9<3,($W66/SQRT(2))*$N66/480, ($W66/2)*$N66/480),$W66*$N66/480),IF($AK66="ND",IF($AR$9<3,($W66/SQRT(2)), ($W66/2)),$W66)),"") | Y66: =IF($K66="12-hr TWA", IF($N66<720,IF($AK66="ND",IF($AS$9<3,($W66/SQRT(2))*$N66/720, ($W66/2)*$N66/720),$W66*$N66/720),IF($AK66="ND",IF($AS$9<3,($W66/SQRT(2)), ($W66/2)),$W66)),"") -> 0.079 | AD66: =+W66*MolW/MolVol -> 0.49700532 | AE66: =+IFERROR(X66*MolW/MolVol,"") | AF66: =+IFERROR(Y66*MolW/MolVol,"") -> 0.49700532 | AG66: =IF($K66="8-hr TWA", IF(J66="ONU",W66*MolW/MolVol,""),"") | AH66: =IF($K66="12-hr TWA", IF(J66="ONU",W66*MolW/MolVol,""),"") | AI66: =IF($K66="8-hr TWA", IF(I66="Y",X66*MolW/MolVol,""),"") | AL66: =IF($K66="8-hr TWA", IF($AK66<>"ND", IF($N66<480, $W66*$N66/480,$W66),""),"") | AM66: =+IFERROR(LN(AL66), "") | AN66: =IF($K66="12-hr TWA", IF($AK66<>"ND", IF($N66<720, $W66*$N66/720,$W66),""),"") -> 0.079 | AO66: =+IFERROR(LN(AN66), "") -> -2.5383074
A67: 5176376 | B67: HSIA | C67: 2018 | D67: US | E67: Company B | F67: Not described | H67: Perc Outside Equipment Technician | J67: W | K67: =+IF(N67<=540, "8-hr TWA", IF(N67>540, "12-hr TWA", "Error")) -> 12-hr TWA | L67: PBZ | M67: 41002 | N67: 720 | O67: 1 | W67: 0.081 | X67: =IF($K67="8-hr TWA", IF($N67<480,IF($AK67="ND",IF($AR$9<3,($W67/SQRT(2))*$N67/480, ($W67/2)*$N67/480),$W67*$N67/480),IF($AK67="ND",IF($AR$9<3,($W67/SQRT(2)), ($W67/2)),$W67)),"") | Y67: =IF($K67="12-hr TWA", IF($N67<720,IF($AK67="ND",IF($AS$9<3,($W67/SQRT(2))*$N67/720, ($W67/2)*$N67/720),$W67*$N67/720),IF($AK67="ND",IF($AS$9<3,($W67/SQRT(2)), ($W67/2)),$W67)),"") -> 0.081 | AD67: =+W67*MolW/MolVol -> 0.50958773 | AE67: =+IFERROR(X67*MolW/MolVol,"") | AF67: =+IFERROR(Y67*MolW/MolVol,"") -> 0.50958773 | AG67: =IF($K67="8-hr TWA", IF(J67="ONU",W67*MolW/MolVol,""),"") | AH67: =IF($K67="12-hr TWA", IF(J67="ONU",W67*MolW/MolVol,""),"") | AI67: =IF($K67="8-hr TWA", IF(I67="Y",X67*MolW/MolVol,""),"") | AL67: =IF($K67="8-hr TWA", IF($AK67<>"ND", IF($N67<480, $W67*$N67/480,$W67),""),"") | AM67: =+IFERROR(LN(AL67), "") | AN67: =IF($K67="12-hr TWA", IF($AK67<>"ND", IF($N67<720, $W67*$N67/720,$W67),""),"") -> 0.081 | AO67: =+IFERROR(LN(AN67), "") -> -2.5133061
A68: 5176376 | B68: HSIA | C68: 2018 | D68: US | E68: Company B | F68: Not described | H68: Utilities Boiler Technician | J68: W | K68: =+IF(N68<=540, "8-hr TWA", IF(N68>540, "12-hr TWA", "Error")) -> 12-hr TWA | L68: PBZ | M68: 39637 | N68: 720 | O68: 1 | W68: 0.089 | X68: =IF($K68="8-hr TWA", IF($N68<480,IF($AK68="ND",IF($AR$9<3,($W68/SQRT(2))*$N68/480, ($W68/2)*$N68/480),$W68*$N68/480),IF($AK68="ND",IF($AR$9<3,($W68/SQRT(2)), ($W68/2)),$W68)),"") | Y68: =IF($K68="12-hr TWA", IF($N68<720,IF($AK68="ND",IF($AS$9<3,($W68/SQRT(2))*$N68/720, ($W68/2)*$N68/720),$W68*$N68/720),IF($AK68="ND",IF($AS$9<3,($W68/SQRT(2)), ($W68/2)),$W68)),"") -> 0.0445 | AD68: =+W68*MolW/MolVol -> 0.55991738 | AE68: =+IFERROR(X68*MolW/MolVol,"") | AF68: =+IFERROR(Y68*MolW/MolVol,"") -> 0.27995869 | AG68: =IF($K68="8-hr TWA", IF(J68="ONU",W68*MolW/MolVol,""),"") | AH68: =IF($K68="12-hr TWA", IF(J68="ONU",W68*MolW/MolVol,""),"") | AI68: =IF($K68="8-hr TWA", IF(I68="Y",X68*MolW/MolVol,""),"") | AK68: ND | AL68: =IF($K68="8-hr TWA", IF($AK68<>"ND", IF($N68<480, $W68*$N68/480,$W68),""),"") | AM68: =+IFERROR(LN(AL68), "") | AN68: =IF($K68="12-hr TWA", IF($AK68<>"ND", IF($N68<720, $W68*$N68/720,$W68),""),"") | AO68: =+IFERROR(LN(AN68), "")
A69: 5176376 | B69: HSIA | C69: 2018 | D69: US | E69: Company B | F69: Not described | H69: Utilities Incinerator Technician | J69: W | K69: =+IF(N69<=540, "8-hr TWA", IF(N69>540, "12-hr TWA", "Error")) -> 12-hr TWA | L69: PBZ | M69: 39638 | N69: 720 | O69: 1 | W69: 0.093 | X69: =IF($K69="8-hr TWA", IF($N69<480,IF($AK69="ND",IF($AR$9<3,($W69/SQRT(2))*$N69/480, ($W69/2)*$N69/480),$W69*$N69/480),IF($AK69="ND",IF($AR$9<3,($W69/SQRT(2)), ($W69/2)),$W69)),"") | Y69: =IF($K69="12-hr TWA", IF($N69<720,IF($AK69="ND",IF($AS$9<3,($W69/SQRT(2))*$N69/720, ($W69/2)*$N69/720),$W69*$N69/720),IF($AK69="ND",IF($AS$9<3,($W69/SQRT(2)), ($W69/2)),$W69)),"") -> 0.0465 | AD69: =+W69*MolW/MolVol -> 0.58508221 | AE69: =+IFERROR(X69*MolW/MolVol,"") | AF69: =+IFERROR(Y69*MolW/MolVol,"") -> 0.2925411 | AG69: =IF($K69="8-hr TWA", IF(J69="ONU",W69*MolW/MolVol,""),"") | AH69: =IF($K69="12-hr TWA", IF(J69="ONU",W69*MolW/MolVol,""),"") | AI69: =IF($K69="8-hr TWA", IF(I69="Y",X69*MolW/MolVol,""),"") | AK69: ND | AL69: =IF($K69="8-hr TWA", IF($AK69<>"ND", IF($N69<480, $W69*$N69/480,$W69),""),"") | AM69: =+IFERROR(LN(AL69), "") | AN69: =IF($K69="12-hr TWA", IF($AK69<>"ND", IF($N69<720, $W69*$N69/720,$W69),""),"") | AO69: =+IFERROR(LN(AN69), "")
A70: 5176376 | B70: HSIA | C70: 2018 | D70: US | E70: Company B | F70: Not described | H70: Utilities Boiler Technician | J70: W | K70: =+IF(N70<=540, "8-hr TWA", IF(N70>540, "12-hr TWA", "Error")) -> 12-hr TWA | L70: PBZ | M70: 39639 | N70: 720 | O70: 1 | W70: 0.11 | X70: =IF($K70="8-hr TWA", IF($N70<480,IF($AK70="ND",IF($AR$9<3,($W70/SQRT(2))*$N70/480, ($W70/2)*$N70/480),$W70*$N70/480),IF($AK70="ND",IF($AR$9<3,($W70/SQRT(2)), ($W70/2)),$W70)),"") | Y70: =IF($K70="12-hr TWA", IF($N70<720,IF($AK70="ND",IF($AS$9<3,($W70/SQRT(2))*$N70/720, ($W70/2)*$N70/720),$W70*$N70/720),IF($AK70="ND",IF($AS$9<3,($W70/SQRT(2)), ($W70/2)),$W70)),"") -> 0.055 | AD70: =+W70*MolW/MolVol -> 0.69203272 | AE70: =+IFERROR(X70*MolW/MolVol,"") | AF70: =+IFERROR(Y70*MolW/MolVol,"") -> 0.34601636 | AG70: =IF($K70="8-hr TWA", IF(J70="ONU",W70*MolW/MolVol,""),"") | AH70: =IF($K70="12-hr TWA", IF(J70="ONU",W70*MolW/MolVol,""),"") | AI70: =IF($K70="8-hr TWA", IF(I70="Y",X70*MolW/MolVol,""),"") | AK70: ND | AL70: =IF($K70="8-hr TWA", IF($AK70<>"ND", IF($N70<480, $W70*$N70/480,$W70),""),"") | AM70: =+IFERROR(LN(AL70), "") | AN70: =IF($K70="12-hr TWA", IF($AK70<>"ND", IF($N70<720, $W70*$N70/720,$W70),""),"") | AO70: =+IFERROR(LN(AN70), "")
A71: 5176376 | B71: HSIA | C71: 2018 | D71: US | E71: Company B | F71: Not described | H71: Utilities Incinerator Technician | J71: W | K71: =+IF(N71<=540, "8-hr TWA", IF(N71>540, "12-hr TWA", "Error")) -> 12-hr TWA | L71: PBZ | M71: 39637 | N71: 720 | O71: 1 | W71: 0.11 | X71: =IF($K71="8-hr TWA", IF($N71<480,IF($AK71="ND",IF($AR$9<3,($W71/SQRT(2))*$N71/480, ($W71/2)*$N71/480),$W71*$N71/480),IF($AK71="ND",IF($AR$9<3,($W71/SQRT(2)), ($W71/2)),$W71)),"") | Y71: =IF($K71="12-hr TWA", IF($N71<720,IF($AK71="ND",IF($AS$9<3,($W71/SQRT(2))*$N71/720, ($W71/2)*$N71/720),$W71*$N71/720),IF($AK71="ND",IF($AS$9<3,($W71/SQRT(2)), ($W71/2)),$W71)),"") -> 0.055 | AD71: =+W71*MolW/MolVol -> 0.69203272 | AE71: =+IFERROR(X71*MolW/MolVol,"") | AF71: =+IFERROR(Y71*MolW/MolVol,"") -> 0.34601636 | AG71: =IF($K71="8-hr TWA", IF(J71="ONU",W71*MolW/MolVol,""),"") | AH71: =IF($K71="12-hr TWA", IF(J71="ONU",W71*MolW/MolVol,""),"") | AI71: =IF($K71="8-hr TWA", IF(I71="Y",X71*MolW/MolVol,""),"") | AK71: ND | AL71: =IF($K71="8-hr TWA", IF($AK71<>"ND", IF($N71<480, $W71*$N71/480,$W71),""),"") | AM71: =+IFERROR(LN(AL71), "") | AN71: =IF($K71="12-hr TWA", IF($AK71<>"ND", IF($N71<720, $W71*$N71/720,$W71),""),"") | AO71: =+IFERROR(LN(AN71), "")
A72: 5176376 | B72: HSIA | C72: 2018 | D72: US | E72: Company B | F72: Not described | H72: Perc Outside Equipment Technician | J72: W | K72: =+IF(N72<=540, "8-hr TWA", IF(N72>540, "12-hr TWA", "Error")) -> 12-hr TWA | L72: PBZ | M72: 40437 | N72: 720 | O72: 1 | W72: 0.12 | X72: =IF($K72="8-hr TWA", IF($N72<480,IF($AK72="ND",IF($AR$9<3,($W72/SQRT(2))*$N72/480, ($W72/2)*$N72/480),$W72*$N72/480),IF($AK72="ND",IF($AR$9<3,($W72/SQRT(2)), ($W72/2)),$W72)),"") | Y72: =IF($K72="12-hr TWA", IF($N72<720,IF($AK72="ND",IF($AS$9<3,($W72/SQRT(2))*$N72/720, ($W72/2)*$N72/720),$W72*$N72/720),IF($AK72="ND",IF($AS$9<3,($W72/SQRT(2)), ($W72/2)),$W72)),"") -> 0.12 | AD72: =+W72*MolW/MolVol -> 0.75494479 | AE72: =+IFERROR(X72*MolW/MolVol,"") | AF72: =+IFERROR(Y72*MolW/MolVol,"") -> 0.75494479 | AG72: =IF($K72="8-hr TWA", IF(J72="ONU",W72*MolW/MolVol,""),"") | AH72: =IF($K72="12-hr TWA", IF(J72="ONU",W72*MolW/MolVol,""),"") | AI72: =IF($K72="8-hr TWA", IF(I72="Y",X72*MolW/MolVol,""),"") | AL72: =IF($K72="8-hr TWA", IF($AK72<>"ND", IF($N72<480, $W72*$N72/480,$W72),""),"") | AM72: =+IFERROR(LN(AL72), "") | AN72: =IF($K72="12-hr TWA", IF($AK72<>"ND", IF($N72<720, $W72*$N72/720,$W72),""),"") -> 0.12 | AO72: =+IFERROR(LN(AN72), "") -> -2.1202635
A73: 5176376 | B73: HSIA | C73: 2018 | D73: US | E73: Company B | F73: Not described | H73: 5CP Outside Equipment Technician | J73: W | K73: =+IF(N73<=540, "8-hr TWA", IF(N73>540, "12-hr TWA", "Error")) -> 12-hr TWA | L73: PBZ | M73: 39763 | N73: 720 | O73: 1 | W73: 0.12 | X73: =IF($K73="8-hr TWA", IF($N73<480,IF($AK73="ND",IF($AR$9<3,($W73/SQRT(2))*$N73/480, ($W73/2)*$N73/480),$W73*$N73/480),IF($AK73="ND",IF($AR$9<3,($W73/SQRT(2)), ($W73/2)),$W73)),"") | Y73: =IF($K73="12-hr TWA", IF($N73<720,IF($AK73="ND",IF($AS$9<3,($W73/SQRT(2))*$N73/720, ($W73/2)*$N73/720),$W73*$N73/720),IF($AK73="ND",IF($AS$9<3,($W73/SQRT(2)), ($W73/2)),$W73)),"") -> 0.06 | AD73: =+W73*MolW/MolVol -> 0.75494479 | AE73: =+IFERROR(X73*MolW/MolVol,"") | AF73: =+IFERROR(Y73*MolW/MolVol,"") -> 0.37747239 | AG73: =IF($K73="8-hr TWA", IF(J73="ONU",W73*MolW/MolVol,""),"") | AH73: =IF($K73="12-hr TWA", IF(J73="ONU",W73*MolW/MolVol,""),"") | AI73: =IF($K73="8-hr TWA", IF(I73="Y",X73*MolW/MolVol,""),"") | AK73: ND | AL73: =IF($K73="8-hr TWA", IF($AK73<>"ND", IF($N73<480, $W73*$N73/480,$W73),""),"") | AM73: =+IFERROR(LN(AL73), "") | AN73: =IF($K73="12-hr TWA", IF($AK73<>"ND", IF($N73<720, $W73*$N73/720,$W73),""),"") | AO73: =+IFERROR(LN(AN73), "")
A74: 5176376 | B74: HSIA | C74: 2018 | D74: US | E74: Company B | F74: Not described | H74: 5CP Outside Equipment Technician | J74: W | K74: =+IF(N74<=540, "8-hr TWA", IF(N74>540, "12-hr TWA", "Error")) -> 12-hr TWA | L74: PBZ | M74: 39765 | N74: 720 | O74: 1 | W74: 0.12 | X74: =IF($K74="8-hr TWA", IF($N74<480,IF($AK74="ND",IF($AR$9<3,($W74/SQRT(2))*$N74/480, ($W74/2)*$N74/480),$W74*$N74/480),IF($AK74="ND",IF($AR$9<3,($W74/SQRT(2)), ($W74/2)),$W74)),"") | Y74: =IF($K74="12-hr TWA", IF($N74<720,IF($AK74="ND",IF($AS$9<3,($W74/SQRT(2))*$N74/720, ($W74/2)*$N74/720),$W74*$N74/720),IF($AK74="ND",IF($AS$9<3,($W74/SQRT(2)), ($W74/2)),$W74)),"") -> 0.06 | AD74: =+W74*MolW/MolVol -> 0.75494479 | AE74: =+IFERROR(X74*MolW/MolVol,"") | AF74: =+IFERROR(Y74*MolW/MolVol,"") -> 0.37747239 | AG74: =IF($K74="8-hr TWA", IF(J74="ONU",W74*MolW/MolVol,""),"") | AH74: =IF($K74="12-hr TWA", IF(J74="ONU",W74*MolW/MolVol,""),"") | AI74: =IF($K74="8-hr TWA", IF(I74="Y",X74*MolW/MolVol,""),"") | AK74: ND | AL74: =IF($K74="8-hr TWA", IF($AK74<>"ND", IF($N74<480, $W74*$N74/480,$W74),""),"") | AM74: =+IFERROR(LN(AL74), "") | AN74: =IF($K74="12-hr TWA", IF($AK74<>"ND", IF($N74<720, $W74*$N74/720,$W74),""),"") | AO74: =+IFERROR(LN(AN74), "")
A75: 5176376 | B75: HSIA | C75: 2018 | D75: US | E75: Company B | F75: Not described | H75: 5CP Outside Equipment Technician | J75: W | K75: =+IF(N75<=540, "8-hr TWA", IF(N75>540, "12-hr TWA", "Error")) -> 12-hr TWA | L75: PBZ | M75: 39769 | N75: 720 | O75: 1 | W75: 0.12 | X75: =IF($K75="8-hr TWA", IF($N75<480,IF($AK75="ND",IF($AR$9<3,($W75/SQRT(2))*$N75/480, ($W75/2)*$N75/480),$W75*$N75/480),IF($AK75="ND",IF($AR$9<3,($W75/SQRT(2)), ($W75/2)),$W75)),"") | Y75: =IF($K75="12-hr TWA", IF($N75<720,IF($AK75="ND",IF($AS$9<3,($W75/SQRT(2))*$N75/720, ($W75/2)*$N75/720),$W75*$N75/720),IF($AK75="ND",IF($AS$9<3,($W75/SQRT(2)), ($W75/2)),$W75)),"") -> 0.06 | AD75: =+W75*MolW/MolVol -> 0.75494479 | AE75: =+IFERROR(X75*MolW/MolVol,"") | AF75: =+IFERROR(Y75*MolW/MolVol,"") -> 0.37747239 | AG75: =IF($K75="8-hr TWA", IF(J75="ONU",W75*MolW/MolVol,""),"") | AH75: =IF($K75="12-hr TWA", IF(J75="ONU",W75*MolW/MolVol,""),"") | AI75: =IF($K75="8-hr TWA", IF(I75="Y",X75*MolW/MolVol,""),"") | AK75: ND | AL75: =IF($K75="8-hr TWA", IF($AK75<>"ND", IF($N75<480, $W75*$N75/480,$W75),""),"") | AM75: =+IFERROR(LN(AL75), "") | AN75: =IF($K75="12-hr TWA", IF($AK75<>"ND", IF($N75<720, $W75*$N75/720,$W75),""),"") | AO75: =+IFERROR(LN(AN75), "")
A76: 5176376 | B76: HSIA | C76: 2018 | D76: US | E76: Company B | F76: Not described | H76: EDC Outside Equipment Technician | J76: W | K76: =+IF(N76<=540, "8-hr TWA", IF(N76>540, "12-hr TWA", "Error")) -> 12-hr TWA | L76: PBZ | M76: 39734 | N76: 720 | O76: 1 | W76: 0.12 | X76: =IF($K76="8-hr TWA", IF($N76<480,IF($AK76="ND",IF($AR$9<3,($W76/SQRT(2))*$N76/480, ($W76/2)*$N76/480),$W76*$N76/480),IF($AK76="ND",IF($AR$9<3,($W76/SQRT(2)), ($W76/2)),$W76)),"") | Y76: =IF($K76="12-hr TWA", IF($N76<720,IF($AK76="ND",IF($AS$9<3,($W76/SQRT(2))*$N76/720, ($W76/2)*$N76/720),$W76*$N76/720),IF($AK76="ND",IF($AS$9<3,($W76/SQRT(2)), ($W76/2)),$W76)),"") -> 0.06 | AD76: =+W76*MolW/MolVol -> 0.75494479 | AE76: =+IFERROR(X76*MolW/MolVol,"") | AF76: =+IFERROR(Y76*MolW/MolVol,"") -> 0.37747239 | AG76: =IF($K76="8-hr TWA", IF(J76="ONU",W76*MolW/MolVol,""),"") | AH76: =IF($K76="12-hr TWA", IF(J76="ONU",W76*MolW/MolVol,""),"") | AI76: =IF($K76="8-hr TWA", IF(I76="Y",X76*MolW/MolVol,""),"") | AK76: ND | AL76: =IF($K76="8-hr TWA", IF($AK76<>"ND", IF($N76<480, $W76*$N76/480,$W76),""),"") | AM76: =+IFERROR(LN(AL76), "") | AN76: =IF($K76="12-hr TWA", IF($AK76<>"ND", IF($N76<720, $W76*$N76/720,$W76),""),"") | AO76: =+IFERROR(LN(AN76), "")
A77: 5176376 | B77: HSIA | C77: 2018 | D77: US | E77: Company B | F77: Not described | H77: MCI Outside Equipment Technician | J77: W | K77: =+IF(N77<=540, "8-hr TWA", IF(N77>540, "12-hr TWA", "Error")) -> 12-hr TWA | L77: PBZ | M77: 39729 | N77: 720 | O77: 1 | W77: 0.12 | X77: =IF($K77="8-hr TWA", IF($N77<480,IF($AK77="ND",IF($AR$9<3,($W77/SQRT(2))*$N77/480, ($W77/2)*$N77/480),$W77*$N77/480),IF($AK77="ND",IF($AR$9<3,($W77/SQRT(2)), ($W77/2)),$W77)),"") | Y77: =IF($K77="12-hr TWA", IF($N77<720,IF($AK77="ND",IF($AS$9<3,($W77/SQRT(2))*$N77/720, ($W77/2)*$N77/720),$W77*$N77/720),IF($AK77="ND",IF($AS$9<3,($W77/SQRT(2)), ($W77/2)),$W77)),"") -> 0.06 | AD77: =+W77*MolW/MolVol -> 0.75494479 | AE77: =+IFERROR(X77*MolW/MolVol,"") | AF77: =+IFERROR(Y77*MolW/MolVol,"") -> 0.37747239 | AG77: =IF($K77="8-hr TWA", IF(J77="ONU",W77*MolW/MolVol,""),"") | AH77: =IF($K77="12-hr TWA", IF(J77="ONU",W77*MolW/MolVol,""),"") | AI77: =IF($K77="8-hr TWA", IF(I77="Y",X77*MolW/MolVol,""),"") | AK77: ND | AL77: =IF($K77="8-hr TWA", IF($AK77<>"ND", IF($N77<480, $W77*$N77/480,$W77),""),"") | AM77: =+IFERROR(LN(AL77), "") | AN77: =IF($K77="12-hr TWA", IF($AK77<>"ND", IF($N77<720, $W77*$N77/720,$W77),""),"") | AO77: =+IFERROR(LN(AN77), "")
A78: 5176376 | B78: HSIA | C78: 2018 | D78: US | E78: Company B | F78: Not described | H78: MCI Outside Equipment Technician | J78: W | K78: =+IF(N78<=540, "8-hr TWA", IF(N78>540, "12-hr TWA", "Error")) -> 12-hr TWA | L78: PBZ | M78: 39730 | N78: 720 | O78: 1 | W78: 0.12 | X78: =IF($K78="8-hr TWA", IF($N78<480,IF($AK78="ND",IF($AR$9<3,($W78/SQRT(2))*$N78/480, ($W78/2)*$N78/480),$W78*$N78/480),IF($AK78="ND",IF($AR$9<3,($W78/SQRT(2)), ($W78/2)),$W78)),"") | Y78: =IF($K78="12-hr TWA", IF($N78<720,IF($AK78="ND",IF($AS$9<3,($W78/SQRT(2))*$N78/720, ($W78/2)*$N78/720),$W78*$N78/720),IF($AK78="ND",IF($AS$9<3,($W78/SQRT(2)), ($W78/2)),$W78)),"") -> 0.06 | AD78: =+W78*MolW/MolVol -> 0.75494479 | AE78: =+IFERROR(X78*MolW/MolVol,"") | AF78: =+IFERROR(Y78*MolW/MolVol,"") -> 0.37747239 | AG78: =IF($K78="8-hr TWA", IF(J78="ONU",W78*MolW/MolVol,""),"") | AH78: =IF($K78="12-hr TWA", IF(J78="ONU",W78*MolW/MolVol,""),"") | AI78: =IF($K78="8-hr TWA", IF(I78="Y",X78*MolW/MolVol,""),"") | AK78: ND | AL78: =IF($K78="8-hr TWA", IF($AK78<>"ND", IF($N78<480, $W78*$N78/480,$W78),""),"") | AM78: =+IFERROR(LN(AL78), "") | AN78: =IF($K78="12-hr TWA", IF($AK78<>"ND", IF($N78<720, $W78*$N78/720,$W78),""),"") | AO78: =+IFERROR(LN(AN78), "")
A79: 5176376 | B79: HSIA | C79: 2018 | D79: US | E79: Company B | F79: Not described | H79: Methanes Distillation Technician | J79: W | K79: =+IF(N79<=540, "8-hr TWA", IF(N79>540, "12-hr TWA", "Error")) -> 12-hr TWA | L79: PBZ | M79: 39744 | N79: 720 | O79: 1 | W79: 0.12 | X79: =IF($K79="8-hr TWA", IF($N79<480,IF($AK79="ND",IF($AR$9<3,($W79/SQRT(2))*$N79/480, ($W79/2)*$N79/480),$W79*$N79/480),IF($AK79="ND",IF($AR$9<3,($W79/SQRT(2)), ($W79/2)),$W79)),"") | Y79: =IF($K79="12-hr TWA", IF($N79<720,IF($AK79="ND",IF($AS$9<3,($W79/SQRT(2))*$N79/720, ($W79/2)*$N79/720),$W79*$N79/720),IF($AK79="ND",IF($AS$9<3,($W79/SQRT(2)), ($W79/2)),$W79)),"") -> 0.06 | AD79: =+W79*MolW/MolVol -> 0.75494479 | AE79: =+IFERROR(X79*MolW/MolVol,"") | AF79: =+IFERROR(Y79*MolW/MolVol,"") -> 0.37747239 | AG79: =IF($K79="8-hr TWA", IF(J79="ONU",W79*MolW/MolVol,""),"") | AH79: =IF($K79="12-hr TWA", IF(J79="ONU",W79*MolW/MolVol,""),"") | AI79: =IF($K79="8-hr TWA", IF(I79="Y",X79*MolW/MolVol,""),"") | AK79: ND | AL79: =IF($K79="8-hr TWA", IF($AK79<>"ND", IF($N79<480, $W79*$N79/480,$W79),""),"") | AM79: =+IFERROR(LN(AL79), "") | AN79: =IF($K79="12-hr TWA", IF($AK79<>"ND", IF($N79<720, $W79*$N79/720,$W79),""),"") | AO79: =+IFERROR(LN(AN79), "")
A80: 5176376 | B80: HSIA | C80: 2018 | D80: US | E80: Company B | F80: Not described | H80: Perc Outside Equipment Technician | J80: W | K80: =+IF(N80<=540, "8-hr TWA", IF(N80>540, "12-hr TWA", "Error")) -> 12-hr TWA | L80: PBZ | M80: 39730 | N80: 720 | O80: 1 | W80: 0.12 | X80: =IF($K80="8-hr TWA", IF($N80<480,IF($AK80="ND",IF($AR$9<3,($W80/SQRT(2))*$N80/480, ($W80/2)*$N80/480),$W80*$N80/480),IF($AK80="ND",IF($AR$9<3,($W80/SQRT(2)), ($W80/2)),$W80)),"") | Y80: =IF($K80="12-hr TWA", IF($N80<720,IF($AK80="ND",IF($AS$9<3,($W80/SQRT(2))*$N80/720, ($W80/2)*$N80/720),$W80*$N80/720),IF($AK80="ND",IF($AS$9<3,($W80/SQRT(2)), ($W80/2)),$W80)),"") -> 0.06 | AD80: =+W80*MolW/MolVol -> 0.75494479 | AE80: =+IFERROR(X80*MolW/MolVol,"") | AF80: =+IFERROR(Y80*MolW/MolVol,"") -> 0.37747239 | AG80: =IF($K80="8-hr TWA", IF(J80="ONU",W80*MolW/MolVol,""),"") | AH80: =IF($K80="12-hr TWA", IF(J80="ONU",W80*MolW/MolVol,""),"") | AI80: =IF($K80="8-hr TWA", IF(I80="Y",X80*MolW/MolVol,""),"") | AK80: ND | AL80: =IF($K80="8-hr TWA", IF($AK80<>"ND", IF($N80<480, $W80*$N80/480,$W80),""),"") | AM80: =+IFERROR(LN(AL80), "") | AN80: =IF($K80="12-hr TWA", IF($AK80<>"ND", IF($N80<720, $W80*$N80/720,$W80),""),"") | AO80: =+IFERROR(LN(AN80), "")
A81: 5176376 | B81: HSIA | C81: 2018 | D81: US | E81: Company B | F81: Not described | H81: Utilities Boiler Technician | J81: W | K81: =+IF(N81<=540, "8-hr TWA", IF(N81>540, "12-hr TWA", "Error")) -> 12-hr TWA | L81: PBZ | M81: 39638 | N81: 720 | O81: 1 | W81: 0.12 | X81: =IF($K81="8-hr TWA", IF($N81<480,IF($AK81="ND",IF($AR$9<3,($W81/SQRT(2))*$N81/480, ($W81/2)*$N81/480),$W81*$N81/480),IF($AK81="ND",IF($AR$9<3,($W81/SQRT(2)), ($W81/2)),$W81)),"") | Y81: =IF($K81="12-hr TWA", IF($N81<720,IF($AK81="ND",IF($AS$9<3,($W81/SQRT(2))*$N81/720, ($W81/2)*$N81/720),$W81*$N81/720),IF($AK81="ND",IF($AS$9<3,($W81/SQRT(2)), ($W81/2)),$W81)),"") -> 0.06 | AD81: =+W81*MolW/MolVol -> 0.75494479 | AE81: =+IFERROR(X81*MolW/MolVol,"") | AF81: =+IFERROR(Y81*MolW/MolVol,"") -> 0.37747239 | AG81: =IF($K81="8-hr TWA", IF(J81="ONU",W81*MolW/MolVol,""),"") | AH81: =IF($K81="12-hr TWA", IF(J81="ONU",W81*MolW/MolVol,""),"") | AI81: =IF($K81="8-hr TWA", IF(I81="Y",X81*MolW/MolVol,""),"") | AK81: ND | AL81: =IF($K81="8-hr TWA", IF($AK81<>"ND", IF($N81<480, $W81*$N81/480,$W81),""),"") | AM81: =+IFERROR(LN(AL81), "") | AN81: =IF($K81="12-hr TWA", IF($AK81<>"ND", IF($N81<720, $W81*$N81/720,$W81),""),"") | AO81: =+IFERROR(LN(AN81), "")
A82: 5176376 | B82: HSIA | C82: 2018 | D82: US | E82: Company B | F82: Not described | H82: 5CP Outside Equipment Technician | J82: W | K82: =+IF(N82<=540, "8-hr TWA", IF(N82>540, "12-hr TWA", "Error")) -> 12-hr TWA | L82: PBZ | M82: 39505 | N82: 720 | O82: 1 | W82: 0.13 | X82: =IF($K82="8-hr TWA", IF($N82<480,IF($AK82="ND",IF($AR$9<3,($W82/SQRT(2))*$N82/480, ($W82/2)*$N82/480),$W82*$N82/480),IF($AK82="ND",IF($AR$9<3,($W82/SQRT(2)), ($W82/2)),$W82)),"") | Y82: =IF($K82="12-hr TWA", IF($N82<720,IF($AK82="ND",IF($AS$9<3,($W82/SQRT(2))*$N82/720, ($W82/2)*$N82/720),$W82*$N82/720),IF($AK82="ND",IF($AS$9<3,($W82/SQRT(2)), ($W82/2)),$W82)),"") -> 0.065 | AD82: =+W82*MolW/MolVol -> 0.81785685 | AE82: =+IFERROR(X82*MolW/MolVol,"") | AF82: =+IFERROR(Y82*MolW/MolVol,"") -> 0.40892843 | AG82: =IF($K82="8-hr TWA", IF(J82="ONU",W82*MolW/MolVol,""),"") | AH82: =IF($K82="12-hr TWA", IF(J82="ONU",W82*MolW/MolVol,""),"") | AI82: =IF($K82="8-hr TWA", IF(I82="Y",X82*MolW/MolVol,""),"") | AK82: ND | AL82: =IF($K82="8-hr TWA", IF($AK82<>"ND", IF($N82<480, $W82*$N82/480,$W82),""),"") | AM82: =+IFERROR(LN(AL82), "") | AN82: =IF($K82="12-hr TWA", IF($AK82<>"ND", IF($N82<720, $W82*$N82/720,$W82),""),"") | AO82: =+IFERROR(LN(AN82), "")
A83: 5176376 | B83: HSIA | C83: 2018 | D83: US | E83: Company B | F83: Not described | H83: 5CP Outside Equipment Technician | J83: W | K83: =+IF(N83<=540, "8-hr TWA", IF(N83>540, "12-hr TWA", "Error")) -> 12-hr TWA | L83: PBZ | M83: 39506 | N83: 720 | O83: 1 | W83: 0.13 | X83: =IF($K83="8-hr TWA", IF($N83<480,IF($AK83="ND",IF($AR$9<3,($W83/SQRT(2))*$N83/480, ($W83/2)*$N83/480),$W83*$N83/480),IF($AK83="ND",IF($AR$9<3,($W83/SQRT(2)), ($W83/2)),$W83)),"") | Y83: =IF($K83="12-hr TWA", IF($N83<720,IF($AK83="ND",IF($AS$9<3,($W83/SQRT(2))*$N83/720, ($W83/2)*$N83/720),$W83*$N83/720),IF($AK83="ND",IF($AS$9<3,($W83/SQRT(2)), ($W83/2)),$W83)),"") -> 0.065 | AD83: =+W83*MolW/MolVol -> 0.81785685 | AE83: =+IFERROR(X83*MolW/MolVol,"") | AF83: =+IFERROR(Y83*MolW/MolVol,"") -> 0.40892843 | AG83: =IF($K83="8-hr TWA", IF(J83="ONU",W83*MolW/MolVol,""),"") | AH83: =IF($K83="12-hr TWA", IF(J83="ONU",W83*MolW/MolVol,""),"") | AI83: =IF($K83="8-hr TWA", IF(I83="Y",X83*MolW/MolVol,""),"") | AK83: ND | AL83: =IF($K83="8-hr TWA", IF($AK83<>"ND", IF($N83<480, $W83*$N83/480,$W83),""),"") | AM83: =+IFERROR(LN(AL83), "") | AN83: =IF($K83="12-hr TWA", IF($AK83<>"ND", IF($N83<720, $W83*$N83/720,$W83),""),"") | AO83: =+IFERROR(LN(AN83), "")
A84: 5176376 | B84: HSIA | C84: 2018 | D84: US | E84: Company B | F84: Not described | H84: Analyzer Technician | J84: W | K84: =+IF(N84<=540, "8-hr TWA", IF(N84>540, "12-hr TWA", "Error")) -> 8-hr TWA | L84: PBZ | M84: 39422 | N84: 480 | O84: 1 | W84: 0.13 | X84: =IF($K84="8-hr TWA", IF($N84<480,IF($AK84="ND",IF($AR$9<3,($W84/SQRT(2))*$N84/480, ($W84/2)*$N84/480),$W84*$N84/480),IF($AK84="ND",IF($AR$9<3,($W84/SQRT(2)), ($W84/2)),$W84)),"") -> 0.091923882 | Y84: =IF($K84="12-hr TWA", IF($N84<720,IF($AK84="ND",IF($AS$9<3,($W84/SQRT(2))*$N84/720, ($W84/2)*$N84/720),$W84*$N84/720),IF($AK84="ND",IF($AS$9<3,($W84/SQRT(2)), ($W84/2)),$W84)),"") | AD84: =+W84*MolW/MolVol -> 0.81785685 | AE84: =+IFERROR(X84*MolW/MolVol,"") -> 0.57831213 | AF84: =+IFERROR(Y84*MolW/MolVol,"") | AG84: =IF($K84="8-hr TWA", IF(J84="ONU",W84*MolW/MolVol,""),"") | AH84: =IF($K84="12-hr TWA", IF(J84="ONU",W84*MolW/MolVol,""),"") | AI84: =IF($K84="8-hr TWA", IF(I84="Y",X84*MolW/MolVol,""),"") | AK84: ND | AL84: =IF($K84="8-hr TWA", IF($AK84<>"ND", IF($N84<480, $W84*$N84/480,$W84),""),"") | AM84: =+IFERROR(LN(AL84), "") | AN84: =IF($K84="12-hr TWA", IF($AK84<>"ND", IF($N84<720, $W84*$N84/720,$W84),""),"") | AO84: =+IFERROR(LN(AN84), "")
... A96: 5176376 | B96: HSIA | C96: 2018 | D96: US | E96: Company B | F96: Not described | H96: Utilities Incinerator Technician | J96: W | K96: =+IF(N96<=540, "8-hr TWA", IF(N96>540, "12-hr TWA", "Error")) -> 12-hr TWA | L96: PBZ | M96: 39639 | N96: 720 | O96: 1 | W96: 0.13 | X96: =IF($K96="8-hr TWA", IF($N96<480,IF($AK96="ND",IF($AR$9<3,($W96/SQRT(2))*$N96/480, ($W96/2)*$N96/480),$W96*$N96/480),IF($AK96="ND",IF($AR$9<3,($W96/SQRT(2)), ($W96/2)),$W96)),"") | Y96: =IF($K96="12-hr TWA", IF($N96<720,IF($AK96="ND",IF($AS$9<3,($W96/SQRT(2))*$N96/720, ($W96/2)*$N96/720),$W96*$N96/720),IF($AK96="ND",IF($AS$9<3,($W96/SQRT(2)), ($W96/2)),$W96)),"") -> 0.065 | AD96: =+W96*MolW/MolVol -> 0.81785685 | AE96: =+IFERROR(X96*MolW/MolVol,"") | AF96: =+IFERROR(Y96*MolW/MolVol,"") -> 0.40892843 | AG96: =IF($K96="8-hr TWA", IF(J96="ONU",W96*MolW/MolVol,""),"") | AH96: =IF($K96="12-hr TWA", IF(J96="ONU",W96*MolW/MolVol,""),"") | AI96: =IF($K96="8-hr TWA", IF(I96="Y",X96*MolW/MolVol,""),"") | AK96: ND | AL96: =IF($K96="8-hr TWA", IF($AK96<>"ND", IF($N96<480, $W96*$N96/480,$W96),""),"") | AM96: =+IFERROR(LN(AL96), "") | AN96: =IF($K96="12-hr TWA", IF($AK96<>"ND", IF($N96<720, $W96*$N96/720,$W96),""),"") | AO96: =+IFERROR(LN(AN96), "")
A97: 5176376 | B97: HSIA | C97: 2018 | D97: US | E97: Company B | F97: Not described | H97: 5CP Outside Equipment Technician | J97: W | K97: =+IF(N97<=540, "8-hr TWA", IF(N97>540, "12-hr TWA", "Error")) -> 12-hr TWA | L97: PBZ | M97: 39593 | N97: 720 | O97: 1 | W97: 0.14 | X97: =IF($K97="8-hr TWA", IF($N97<480,IF($AK97="ND",IF($AR$9<3,($W97/SQRT(2))*$N97/480, ($W97/2)*$N97/480),$W97*$N97/480),IF($AK97="ND",IF($AR$9<3,($W97/SQRT(2)), ($W97/2)),$W97)),"") | Y97: =IF($K97="12-hr TWA", IF($N97<720,IF($AK97="ND",IF($AS$9<3,($W97/SQRT(2))*$N97/720, ($W97/2)*$N97/720),$W97*$N97/720),IF($AK97="ND",IF($AS$9<3,($W97/SQRT(2)), ($W97/2)),$W97)),"") -> 0.14 | AD97: =+W97*MolW/MolVol -> 0.88076892 | AE97: =+IFERROR(X97*MolW/MolVol,"") | AF97: =+IFERROR(Y97*MolW/MolVol,"") -> 0.88076892 | AG97: =IF($K97="8-hr TWA", IF(J97="ONU",W97*MolW/MolVol,""),"") | AH97: =IF($K97="12-hr TWA", IF(J97="ONU",W97*MolW/MolVol,""),"") | AI97: =IF($K97="8-hr TWA", IF(I97="Y",X97*MolW/MolVol,""),"") | AL97: =IF($K97="8-hr TWA", IF($AK97<>"ND", IF($N97<480, $W97*$N97/480,$W97),""),"") | AM97: =+IFERROR(LN(AL97), "") | AN97: =IF($K97="12-hr TWA", IF($AK97<>"ND", IF($N97<720, $W97*$N97/720,$W97),""),"") -> 0.14 | AO97: =+IFERROR(LN(AN97), "") -> -1.9661129
A98: 5176376 | B98: HSIA | C98: 2018 | D98: US | E98: Company B | F98: Not described | H98: 5CP Outside Equipment Technician | J98: W | K98: =+IF(N98<=540, "8-hr TWA", IF(N98>540, "12-hr TWA", "Error")) -> 12-hr TWA | L98: PBZ | M98: 39680 | N98: 720 | O98: 1 | W98: 0.14 | X98: =IF($K98="8-hr TWA", IF($N98<480,IF($AK98="ND",IF($AR$9<3,($W98/SQRT(2))*$N98/480, ($W98/2)*$N98/480),$W98*$N98/480),IF($AK98="ND",IF($AR$9<3,($W98/SQRT(2)), ($W98/2)),$W98)),"") | Y98: =IF($K98="12-hr TWA", IF($N98<720,IF($AK98="ND",IF($AS$9<3,($W98/SQRT(2))*$N98/720, ($W98/2)*$N98/720),$W98*$N98/720),IF($AK98="ND",IF($AS$9<3,($W98/SQRT(2)), ($W98/2)),$W98)),"") -> 0.07 | AD98: =+W98*MolW/MolVol -> 0.88076892 | AE98: =+IFERROR(X98*MolW/MolVol,"") | AF98: =+IFERROR(Y98*MolW/MolVol,"") -> 0.44038446 | AG98: =IF($K98="8-hr TWA", IF(J98="ONU",W98*MolW/MolVol,""),"") | AH98: =IF($K98="12-hr TWA", IF(J98="ONU",W98*MolW/MolVol,""),"") | AI98: =IF($K98="8-hr TWA", IF(I98="Y",X98*MolW/MolVol,""),"") | AK98: ND | AL98: =IF($K98="8-hr TWA", IF($AK98<>"ND", IF($N98<480, $W98*$N98/480,$W98),""),"") | AM98: =+IFERROR(LN(AL98), "") | AN98: =IF($K98="12-hr TWA", IF($AK98<>"ND", IF($N98<720, $W98*$N98/720,$W98),""),"") | AO98: =+IFERROR(LN(AN98), "")
A99: 5176376 | B99: HSIA | C99: 2018 | D99: US | E99: Company B | F99: Not described | H99: 5CP Outside Equipment Technician | J99: W | K99: =+IF(N99<=540, "8-hr TWA", IF(N99>540, "12-hr TWA", "Error")) -> 12-hr TWA | L99: PBZ | M99: 39847 | N99: 720 | O99: 1 | W99: 0.14 | X99: =IF($K99="8-hr TWA", IF($N99<480,IF($AK99="ND",IF($AR$9<3,($W99/SQRT(2))*$N99/480, ($W99/2)*$N99/480),$W99*$N99/480),IF($AK99="ND",IF($AR$9<3,($W99/SQRT(2)), ($W99/2)),$W99)),"") | Y99: =IF($K99="12-hr TWA", IF($N99<720,IF($AK99="ND",IF($AS$9<3,($W99/SQRT(2))*$N99/720, ($W99/2)*$N99/720),$W99*$N99/720),IF($AK99="ND",IF($AS$9<3,($W99/SQRT(2)), ($W99/2)),$W99)),"") -> 0.07 | AD99: =+W99*MolW/MolVol -> 0.88076892 | AE99: =+IFERROR(X99*MolW/MolVol,"") | AF99: =+IFERROR(Y99*MolW/MolVol,"") -> 0.44038446 | AG99: =IF($K99="8-hr TWA", IF(J99="ONU",W99*MolW/MolVol,""),"") | AH99: =IF($K99="12-hr TWA", IF(J99="ONU",W99*MolW/MolVol,""),"") | AI99: =IF($K99="8-hr TWA", IF(I99="Y",X99*MolW/MolVol,""),"") | AK99: ND | AL99: =IF($K99="8-hr TWA", IF($AK99<>"ND", IF($N99<480, $W99*$N99/480,$W99),""),"") | AM99: =+IFERROR(LN(AL99), "") | AN99: =IF($K99="12-hr TWA", IF($AK99<>"ND", IF($N99<720, $W99*$N99/720,$W99),""),"") | AO99: =+IFERROR(LN(AN99), "")
A100: 5176376 | B100: HSIA | C100: 2018 | D100: US | E100: Company B | F100: Not described | H100: Analyzer Technician | J100: W | K100: =+IF(N100<=540, "8-hr TWA", IF(N100>540, "12-hr TWA", "Error")) -> 8-hr TWA | L100: PBZ | M100: 39756 | N100: 480 | O100: 1 | W100: 0.14 | X100: =IF($K100="8-hr TWA", IF($N100<480,IF($AK100="ND",IF($AR$9<3,($W100/SQRT(2))*$N100/480, ($W100/2)*$N100/480),$W100*$N100/480),IF($AK100="ND",IF($AR$9<3,($W100/SQRT(2)), ($W100/2)),$W100)),"") -> 0.098994949 | Y100: =IF($K100="12-hr TWA", IF($N100<720,IF($AK100="ND",IF($AS$9<3,($W100/SQRT(2))*$N100/720, ($W100/2)*$N100/720),$W100*$N100/720),IF($AK100="ND",IF($AS$9<3,($W100/SQRT(2)), ($W100/2)),$W100)),"") | AD100: =+W100*MolW/MolVol -> 0.88076892 | AE100: =+IFERROR(X100*MolW/MolVol,"") -> 0.62279767 | AF100: =+IFERROR(Y100*MolW/MolVol,"") | AG100: =IF($K100="8-hr TWA", IF(J100="ONU",W100*MolW/MolVol,""),"") | AH100: =IF($K100="12-hr TWA", IF(J100="ONU",W100*MolW/MolVol,""),"") | AI100: =IF($K100="8-hr TWA", IF(I100="Y",X100*MolW/MolVol,""),"") | AK100: ND | AL100: =IF($K100="8-hr TWA", IF($AK100<>"ND", IF($N100<480, $W100*$N100/480,$W100),""),"") | AM100: =+IFERROR(LN(AL100), "") | AN100: =IF($K100="12-hr TWA", IF($AK100<>"ND", IF($N100<720, $W100*$N100/720,$W100),""),"") | AO100: =+IFERROR(LN(AN100), "")
A101: 5176376 | B101: HSIA | C101: 2018 | D101: US | E101: Company B | F101: Not described | H101: Instrument Technician | J101: W | K101: =+IF(N101<=540, "8-hr TWA", IF(N101>540, "12-hr TWA", "Error")) -> 8-hr TWA | L101: PBZ | M101: 39756 | N101: 480 | O101: 1 | W101: 0.14 | X101: =IF($K101="8-hr TWA", IF($N101<480,IF($AK101="ND",IF($AR$9<3,($W101/SQRT(2))*$N101/480, ($W101/2)*$N101/480),$W101*$N101/480),IF($AK101="ND",IF($AR$9<3,($W101/SQRT(2)), ($W101/2)),$W101)),"") -> 0.098994949 | Y101: =IF($K101="12-hr TWA", IF($N101<720,IF($AK101="ND",IF($AS$9<3,($W101/SQRT(2))*$N101/720, ($W101/2)*$N101/720),$W101*$N101/720),IF($AK101="ND",IF($AS$9<3,($W101/SQRT(2)), ($W101/2)),$W101)),"") | AD101: =+W101*MolW/MolVol -> 0.88076892 | AE101: =+IFERROR(X101*MolW/MolVol,"") -> 0.62279767 | AF101: =+IFERROR(Y101*MolW/MolVol,"") | AG101: =IF($K101="8-hr TWA", IF(J101="ONU",W101*MolW/MolVol,""),"") | AH101: =IF($K101="12-hr TWA", IF(J101="ONU",W101*MolW/MolVol,""),"") | AI101: =IF($K101="8-hr TWA", IF(I101="Y",X101*MolW/MolVol,""),"") | AK101: ND | AL101: =IF($K101="8-hr TWA", IF($AK101<>"ND", IF($N101<480, $W101*$N101/480,$W101),""),"") | AM101: =+IFERROR(LN(AL101), "") | AN101: =IF($K101="12-hr TWA", IF($AK101<>"ND", IF($N101<720, $W101*$N101/720,$W101),""),"") | AO101: =+IFERROR(LN(AN101), "")
A102: 5176376 | B102: HSIA | C102: 2018 | D102: US | E102: Company B | F102: Not described | H102: Lab Day Technician | J102: W | K102: =+IF(N102<=540, "8-hr TWA", IF(N102>540, "12-hr TWA", "Error")) -> 8-hr TWA | L102: PBZ | M102: 39552 | N102: 480 | O102: 1 | W102: 0.14 | X102: =IF($K102="8-hr TWA", IF($N102<480,IF($AK102="ND",IF($AR$9<3,($W102/SQRT(2))*$N102/480, ($W102/2)*$N102/480),$W102*$N102/480),IF($AK102="ND",IF($AR$9<3,($W102/SQRT(2)), ($W102/2)),$W102)),"") -> 0.098994949 | Y102: =IF($K102="12-hr TWA", IF($N102<720,IF($AK102="ND",IF($AS$9<3,($W102/SQRT(2))*$N102/720, ($W102/2)*$N102/720),$W102*$N102/720),IF($AK102="ND",IF($AS$9<3,($W102/SQRT(2)), ($W102/2)),$W102)),"") | AD102: =+W102*MolW/MolVol -> 0.88076892 | AE102: =+IFERROR(X102*MolW/MolVol,"") -> 0.62279767 | AF102: =+IFERROR(Y102*MolW/MolVol,"") | AG102: =IF($K102="8-hr TWA", IF(J102="ONU",W102*MolW/MolVol,""),"") | AH102: =IF($K102="12-hr TWA", IF(J102="ONU",W102*MolW/MolVol,""),"") | AI102: =IF($K102="8-hr TWA", IF(I102="Y",X102*MolW/MolVol,""),"") | AK102: ND | AL102: =IF($K102="8-hr TWA", IF($AK102<>"ND", IF($N102<480, $W102*$N102/480,$W102),""),"") | AM102: =+IFERROR(LN(AL102), "") | AN102: =IF($K102="12-hr TWA", IF($AK102<>"ND", IF($N102<720, $W102*$N102/720,$W102),""),"") | AO102: =+IFERROR(LN(AN102), "")
A103: 5176376 | B103: HSIA | C103: 2018 | D103: US | E103: Company B | F103: Not described | H103: Lab Shift Technician | J103: W | K103: =+IF(N103<=540, "8-hr TWA", IF(N103>540, "12-hr TWA", "Error")) -> 12-hr TWA | L103: PBZ | M103: 39552 | N103: 720 | O103: 1 | W103: 0.14 | X103: =IF($K103="8-hr TWA", IF($N103<480,IF($AK103="ND",IF($AR$9<3,($W103/SQRT(2))*$N103/480, ($W103/2)*$N103/480),$W103*$N103/480),IF($AK103="ND",IF($AR$9<3,($W103/SQRT(2)), ($W103/2)),$W103)),"") | Y103: =IF($K103="12-hr TWA", IF($N103<720,IF($AK103="ND",IF($AS$9<3,($W103/SQRT(2))*$N103/720, ($W103/2)*$N103/720),$W103*$N103/720),IF($AK103="ND",IF($AS$9<3,($W103/SQRT(2)), ($W103/2)),$W103)),"") -> 0.07 | AD103: =+W103*MolW/MolVol -> 0.88076892 | AE103: =+IFERROR(X103*MolW/MolVol,"") | AF103: =+IFERROR(Y103*MolW/MolVol,"") -> 0.44038446 | AG103: =IF($K103="8-hr TWA", IF(J103="ONU",W103*MolW/MolVol,""),"") | AH103: =IF($K103="12-hr TWA", IF(J103="ONU",W103*MolW/MolVol,""),"") | AI103: =IF($K103="8-hr TWA", IF(I103="Y",X103*MolW/MolVol,""),"") | AK103: ND | AL103: =IF($K103="8-hr TWA", IF($AK103<>"ND", IF($N103<480, $W103*$N103/480,$W103),""),"") | AM103: =+IFERROR(LN(AL103), "") | AN103: =IF($K103="12-hr TWA", IF($AK103<>"ND", IF($N103<720, $W103*$N103/720,$W103),""),"") | AO103: =+IFERROR(LN(AN103), "")
A104: 5176376 | B104: HSIA | C104: 2018 | D104: US | E104: Company B | F104: Not described | H104: MCI Outside Equipment Technician | J104: W | K104: =+IF(N104<=540, "8-hr TWA", IF(N104>540, "12-hr TWA", "Error")) -> 12-hr TWA | L104: PBZ | M104: 39734 | N104: 720 | O104: 1 | W104: 0.14 | X104: =IF($K104="8-hr TWA", IF($N104<480,IF($AK104="ND",IF($AR$9<3,($W104/SQRT(2))*$N104/480, ($W104/2)*$N104/480),$W104*$N104/480),IF($AK104="ND",IF($AR$9<3,($W104/SQRT(2)), ($W104/2)),$W104)),"") | Y104: =IF($K104="12-hr TWA", IF($N104<720,IF($AK104="ND",IF($AS$9<3,($W104/SQRT(2))*$N104/720, ($W104/2)*$N104/720),$W104*$N104/720),IF($AK104="ND",IF($AS$9<3,($W104/SQRT(2)), ($W104/2)),$W104)),"") -> 0.07 | AD104: =+W104*MolW/MolVol -> 0.88076892 | AE104: =+IFERROR(X104*MolW/MolVol,"") | AF104: =+IFERROR(Y104*MolW/MolVol,"") -> 0.44038446 | AG104: =IF($K104="8-hr TWA", IF(J104="ONU",W104*MolW/MolVol,""),"") | AH104: =IF($K104="12-hr TWA", IF(J104="ONU",W104*MolW/MolVol,""),"") | AI104: =IF($K104="8-hr TWA", IF(I104="Y",X104*MolW/MolVol,""),"") | AK104: ND | AL104: =IF($K104="8-hr TWA", IF($AK104<>"ND", IF($N104<480, $W104*$N104/480,$W104),""),"") | AM104: =+IFERROR(LN(AL104), "") | AN104: =IF($K104="12-hr TWA", IF($AK104<>"ND", IF($N104<720, $W104*$N104/720,$W104),""),"") | AO104: =+IFERROR(LN(AN104), "")
A105: 5176376 | B105: HSIA | C105: 2018 | D105: US | E105: Company B | F105: Not described | H105: Methanes Distillation Technician | J105: W | K105: =+IF(N105<=540, "8-hr TWA", IF(N105>540, "12-hr TWA", "Error")) -> 12-hr TWA | L105: PBZ | M105: 39394 | N105: 720 | O105: 1 | W105: 0.14 | X105: =IF($K105="8-hr TWA", IF($N105<480,IF($AK105="ND",IF($AR$9<3,($W105/SQRT(2))*$N105/480, ($W105/2)*$N105/480),$W105*$N105/480),IF($AK105="ND",IF($AR$9<3,($W105/SQRT(2)), ($W105/2)),$W105)),"") | Y105: =IF($K105="12-hr TWA", IF($N105<720,IF($AK105="ND",IF($AS$9<3,($W105/SQRT(2))*$N105/720, ($W105/2)*$N105/720),$W105*$N105/720),IF($AK105="ND",IF($AS$9<3,($W105/SQRT(2)), ($W105/2)),$W105)),"") -> 0.07 | AD105: =+W105*MolW/MolVol -> 0.88076892 | AE105: =+IFERROR(X105*MolW/MolVol,"") | AF105: =+IFERROR(Y105*MolW/MolVol,"") -> 0.44038446 | AG105: =IF($K105="8-hr TWA", IF(J105="ONU",W105*MolW/MolVol,""),"") | AH105: =IF($K105="12-hr TWA", IF(J105="ONU",W105*MolW/MolVol,""),"") | AI105: =IF($K105="8-hr TWA", IF(I105="Y",X105*MolW/MolVol,""),"") | AK105: ND | AL105: =IF($K105="8-hr TWA", IF($AK105<>"ND", IF($N105<480, $W105*$N105/480,$W105),""),"") | AM105: =+IFERROR(LN(AL105), "") | AN105: =IF($K105="12-hr TWA", IF($AK105<>"ND", IF($N105<720, $W105*$N105/720,$W105),""),"") | AO105: =+IFERROR(LN(AN105), "")
A106: 5176376 | B106: HSIA | C106: 2018 | D106: US | E106: Company B | F106: Not described | H106: Methanes Hydrochlor Technician | J106: W | K106: =+IF(N106<=540, "8-hr TWA", IF(N106>540, "12-hr TWA", "Error")) -> 12-hr TWA | L106: PBZ | M106: 39742 | N106: 720 | O106: 1 | W106: 0.14 | X106: =IF($K106="8-hr TWA", IF($N106<480,IF($AK106="ND",IF($AR$9<3,($W106/SQRT(2))*$N106/480, ($W106/2)*$N106/480),$W106*$N106/480),IF($AK106="ND",IF($AR$9<3,($W106/SQRT(2)), ($W106/2)),$W106)),"") | Y106: =IF($K106="12-hr TWA", IF($N106<720,IF($AK106="ND",IF($AS$9<3,($W106/SQRT(2))*$N106/720, ($W106/2)*$N106/720),$W106*$N106/720),IF($AK106="ND",IF($AS$9<3,($W106/SQRT(2)), ($W106/2)),$W106)),"") -> 0.07 | AD106: =+W106*MolW/MolVol -> 0.88076892 | AE106: =+IFERROR(X106*MolW/MolVol,"") | AF106: =+IFERROR(Y106*MolW/MolVol,"") -> 0.44038446 | AG106: =IF($K106="8-hr TWA", IF(J106="ONU",W106*MolW/MolVol,""),"") | AH106: =IF($K106="12-hr TWA", IF(J106="ONU",W106*MolW/MolVol,""),"") | AI106: =IF($K106="8-hr TWA", IF(I106="Y",X106*MolW/MolVol,""),"") | AK106: ND | AL106: =IF($K106="8-hr TWA", IF($AK106<>"ND", IF($N106<480, $W106*$N106/480,$W106),""),"") | AM106: =+IFERROR(LN(AL106), "") | AN106: =IF($K106="12-hr TWA", IF($AK106<>"ND", IF($N106<720, $W106*$N106/720,$W106),""),"") | AO106: =+IFERROR(LN(AN106), "")
A107: 5176376 | B107: HSIA | C107: 2018 | D107: US | E107: Company B | F107: Not described | H107: Methanes Hydrochlor Technician | J107: W | K107: =+IF(N107<=540, "8-hr TWA", IF(N107>540, "12-hr TWA", "Error")) -> 12-hr TWA | L107: PBZ | M107: 39743 | N107: 720 | O107: 1 | W107: 0.14 | X107: =IF($K107="8-hr TWA", IF($N107<480,IF($AK107="ND",IF($AR$9<3,($W107/SQRT(2))*$N107/480, ($W107/2)*$N107/480),$W107*$N107/480),IF($AK107="ND",IF($AR$9<3,($W107/SQRT(2)), ($W107/2)),$W107)),"") | Y107: =IF($K107="12-hr TWA", IF($N107<720,IF($AK107="ND",IF($AS$9<3,($W107/SQRT(2))*$N107/720, ($W107/2)*$N107/720),$W107*$N107/720),IF($AK107="ND",IF($AS$9<3,($W107/SQRT(2)), ($W107/2)),$W107)),"") -> 0.07 | AD107: =+W107*MolW/MolVol -> 0.88076892 | AE107: =+IFERROR(X107*MolW/MolVol,"") | AF107: =+IFERROR(Y107*MolW/MolVol,"") -> 0.44038446 | AG107: =IF($K107="8-hr TWA", IF(J107="ONU",W107*MolW/MolVol,""),"") | AH107: =IF($K107="12-hr TWA", IF(J107="ONU",W107*MolW/MolVol,""),"") | AI107: =IF($K107="8-hr TWA", IF(I107="Y",X107*MolW/MolVol,""),"") | AK107: ND | AL107: =IF($K107="8-hr TWA", IF($AK107<>"ND", IF($N107<480, $W107*$N107/480,$W107),""),"") | AM107: =+IFERROR(LN(AL107), "") | AN107: =IF($K107="12-hr TWA", IF($AK107<>"ND", IF($N107<720, $W107*$N107/720,$W107),""),"") | AO107: =+IFERROR(LN(AN107), "")
A108: 5176376 | B108: HSIA | C108: 2018 | D108: US | E108: Company B | F108: Not described | H108: Methanes Hydrochlor Technician | J108: W | K108: =+IF(N108<=540, "8-hr TWA", IF(N108>540, "12-hr TWA", "Error")) -> 12-hr TWA | L108: PBZ | M108: 39744 | N108: 720 | O108: 1 | W108: 0.14 | X108: =IF($K108="8-hr TWA", IF($N108<480,IF($AK108="ND",IF($AR$9<3,($W108/SQRT(2))*$N108/480, ($W108/2)*$N108/480),$W108*$N108/480),IF($AK108="ND",IF($AR$9<3,($W108/SQRT(2)), ($W108/2)),$W108)),"") | Y108: =IF($K108="12-hr TWA", IF($N108<720,IF($AK108="ND",IF($AS$9<3,($W108/SQRT(2))*$N108/720, ($W108/2)*$N108/720),$W108*$N108/720),IF($AK108="ND",IF($AS$9<3,($W108/SQRT(2)), ($W108/2)),$W108)),"") -> 0.07 | AD108: =+W108*MolW/MolVol -> 0.88076892 | AE108: =+IFERROR(X108*MolW/MolVol,"") | AF108: =+IFERROR(Y108*MolW/MolVol,"") -> 0.44038446 | AG108: =IF($K108="8-hr TWA", IF(J108="ONU",W108*MolW/MolVol,""),"") | AH108: =IF($K108="12-hr TWA", IF(J108="ONU",W108*MolW/MolVol,""),"") | AI108: =IF($K108="8-hr TWA", IF(I108="Y",X108*MolW/MolVol,""),"") | AK108: ND | AL108: =IF($K108="8-hr TWA", IF($AK108<>"ND", IF($N108<480, $W108*$N108/480,$W108),""),"") | AM108: =+IFERROR(LN(AL108), "") | AN108: =IF($K108="12-hr TWA", IF($AK108<>"ND", IF($N108<720, $W108*$N108/720,$W108),""),"") | AO108: =+IFERROR(LN(AN108), "")
A109: 5176376 | B109: HSIA | C109: 2018 | D109: US | E109: Company B | F109: Not described | H109: 5CP Outside Equipment Technician | J109: W | K109: =+IF(N109<=540, "8-hr TWA", IF(N109>540, "12-hr TWA", "Error")) -> 12-hr TWA | L109: PBZ | M109: 39848 | N109: 720 | O109: 1 | W109: 0.15 | X109: =IF($K109="8-hr TWA", IF($N109<480,IF($AK109="ND",IF($AR$9<3,($W109/SQRT(2))*$N109/480, ($W109/2)*$N109/480),$W109*$N109/480),IF($AK109="ND",IF($AR$9<3,($W109/SQRT(2)), ($W109/2)),$W109)),"") | Y109: =IF($K109="12-hr TWA", IF($N109<720,IF($AK109="ND",IF($AS$9<3,($W109/SQRT(2))*$N109/720, ($W109/2)*$N109/720),$W109*$N109/720),IF($AK109="ND",IF($AS$9<3,($W109/SQRT(2)), ($W109/2)),$W109)),"") -> 0.075 | AD109: =+W109*MolW/MolVol -> 0.94368098 | AE109: =+IFERROR(X109*MolW/MolVol,"") | AF109: =+IFERROR(Y109*MolW/MolVol,"") -> 0.47184049 | AG109: =IF($K109="8-hr TWA", IF(J109="ONU",W109*MolW/MolVol,""),"") | AH109: =IF($K109="12-hr TWA", IF(J109="ONU",W109*MolW/MolVol,""),"") | AI109: =IF($K109="8-hr TWA", IF(I109="Y",X109*MolW/MolVol,""),"") | AK109: ND | AL109: =IF($K109="8-hr TWA", IF($AK109<>"ND", IF($N109<480, $W109*$N109/480,$W109),""),"") | AM109: =+IFERROR(LN(AL109), "") | AN109: =IF($K109="12-hr TWA", IF($AK109<>"ND", IF($N109<720, $W109*$N109/720,$W109),""),"") | AO109: =+IFERROR(LN(AN109), "")
... A112: 5176376 | B112: HSIA | C112: 2018 | D112: US | E112: Company B | F112: Not described | H112: Analyzer Technician | J112: W | K112: =+IF(N112<=540, "8-hr TWA", IF(N112>540, "12-hr TWA", "Error")) -> 8-hr TWA | L112: PBZ | M112: 39056 | N112: 480 | O112: 1 | W112: 0.15 | X112: =IF($K112="8-hr TWA", IF($N112<480,IF($AK112="ND",IF($AR$9<3,($W112/SQRT(2))*$N112/480, ($W112/2)*$N112/480),$W112*$N112/480),IF($AK112="ND",IF($AR$9<3,($W112/SQRT(2)), ($W112/2)),$W112)),"") -> 0.10606602 | Y112: =IF($K112="12-hr TWA", IF($N112<720,IF($AK112="ND",IF($AS$9<3,($W112/SQRT(2))*$N112/720, ($W112/2)*$N112/720),$W112*$N112/720),IF($AK112="ND",IF($AS$9<3,($W112/SQRT(2)), ($W112/2)),$W112)),"") | AD112: =+W112*MolW/MolVol -> 0.94368098 | AE112: =+IFERROR(X112*MolW/MolVol,"") -> 0.66728322 | AF112: =+IFERROR(Y112*MolW/MolVol,"") | AG112: =IF($K112="8-hr TWA", IF(J112="ONU",W112*MolW/MolVol,""),"") | AH112: =IF($K112="12-hr TWA", IF(J112="ONU",W112*MolW/MolVol,""),"") | AI112: =IF($K112="8-hr TWA", IF(I112="Y",X112*MolW/MolVol,""),"") | AK112: ND | AL112: =IF($K112="8-hr TWA", IF($AK112<>"ND", IF($N112<480, $W112*$N112/480,$W112),""),"") | AM112: =+IFERROR(LN(AL112), "") | AN112: =IF($K112="12-hr TWA", IF($AK112<>"ND", IF($N112<720, $W112*$N112/720,$W112),""),"") | AO112: =+IFERROR(LN(AN112), "")
A113: 5176376 | B113: HSIA | C113: 2018 | D113: US | E113: Company B | F113: Not described | H113: Electrician | J113: ONU | K113: =+IF(N113<=540, "8-hr TWA", IF(N113>540, "12-hr TWA", "Error")) -> 8-hr TWA | L113: PBZ | M113: 39055 | N113: 480 | O113: 1 | W113: 0.15 | AD113: =+W113*MolW/MolVol -> 0.94368098 | AG113: =IF($K113="8-hr TWA", IF(J113="ONU",W113*MolW/MolVol,""),"") -> 0.94368098 | AH113: =IF($K113="12-hr TWA", IF(J113="ONU",W113*MolW/MolVol,""),"") | AI113: =IF($K113="8-hr TWA", IF(I113="Y",X113*MolW/MolVol,""),"") | AK113: ND
A114: 5176376 | B114: HSIA | C114: 2018 | D114: US | E114: Company B | F114: Not described | H114: Electrician | J114: ONU | K114: =+IF(N114<=540, "8-hr TWA", IF(N114>540, "12-hr TWA", "Error")) -> 8-hr TWA | L114: PBZ | M114: 39056 | N114: 480 | O114: 1 | W114: 0.15 | AD114: =+W114*MolW/MolVol -> 0.94368098 | AG114: =IF($K114="8-hr TWA", IF(J114="ONU",W114*MolW/MolVol,""),"") -> 0.94368098 | AH114: =IF($K114="12-hr TWA", IF(J114="ONU",W114*MolW/MolVol,""),"") | AI114: =IF($K114="8-hr TWA", IF(I114="Y",X114*MolW/MolVol,""),"") | AK114: ND
A115: 5176376 | B115: HSIA | C115: 2018 | D115: US | E115: Company B | F115: Not described | H115: Electrician | J115: ONU | K115: =+IF(N115<=540, "8-hr TWA", IF(N115>540, "12-hr TWA", "Error")) -> 8-hr TWA | L115: PBZ | M115: 39757 | N115: 480 | O115: 1 | W115: 0.15 | AD115: =+W115*MolW/MolVol -> 0.94368098 | AG115: =IF($K115="8-hr TWA", IF(J115="ONU",W115*MolW/MolVol,""),"") -> 0.94368098 | AH115: =IF($K115="12-hr TWA", IF(J115="ONU",W115*MolW/MolVol,""),"") | AI115: =IF($K115="8-hr TWA", IF(I115="Y",X115*MolW/MolVol,""),"") | AK115: ND
A116: 5176376 | B116: HSIA | C116: 2018 | D116: US | E116: Company B | F116: Not described | H116: Instrument Technician | J116: W | K116: =+IF(N116<=540, "8-hr TWA", IF(N116>540, "12-hr TWA", "Error")) -> 8-hr TWA | L116: PBZ | M116: 39055 | N116: 480 | O116: 1 | W116: 0.15 | X116: =IF($K116="8-hr TWA", IF($N116<480,IF($AK116="ND",IF($AR$9<3,($W116/SQRT(2))*$N116/480, ($W116/2)*$N116/480),$W116*$N116/480),IF($AK116="ND",IF($AR$9<3,($W116/SQRT(2)), ($W116/2)),$W116)),"") -> 0.10606602 | Y116: =IF($K116="12-hr TWA", IF($N116<720,IF($AK116="ND",IF($AS$9<3,($W116/SQRT(2))*$N116/720, ($W116/2)*$N116/720),$W116*$N116/720),IF($AK116="ND",IF($AS$9<3,($W116/SQRT(2)), ($W116/2)),$W116)),"") | AD116: =+W116*MolW/MolVol -> 0.94368098 | AE116: =+IFERROR(X116*MolW/MolVol,"") -> 0.66728322 | AF116: =+IFERROR(Y116*MolW/MolVol,"") | AG116: =IF($K116="8-hr TWA", IF(J116="ONU",W116*MolW/MolVol,""),"") | AH116: =IF($K116="12-hr TWA", IF(J116="ONU",W116*MolW/MolVol,""),"") | AI116: =IF($K116="8-hr TWA", IF(I116="Y",X116*MolW/MolVol,""),"") | AK116: ND | AL116: =IF($K116="8-hr TWA", IF($AK116<>"ND", IF($N116<480, $W116*$N116/480,$W116),""),"") | AM116: =+IFERROR(LN(AL116), "") | AN116: =IF($K116="12-hr TWA", IF($AK116<>"ND", IF($N116<720, $W116*$N116/720,$W116),""),"") | AO116: =+IFERROR(LN(AN116), "")
...
