Workbook
Name AT: 'List Values'!$H$18
Name AT_ADC_high: 'List Values'!$H$25
Name AT_ADC_high_12: 'List Values'!$H$26
Name AT_ADC_high_8: 'List Values'!$H$25
Name AT_ADC_mid: 'List Values'!$H$23
Name AT_ADC_mid_12: 'List Values'!$H$24
Name AT_ADC_mid_8: 'List Values'!$H$23
Name AT_ADC_mid8: 'List Values'!$H$23
Name AT_LADC: 'List Values'!$H$27
Name ED_12: 'List Values'!$H$17
Name ED_8: 'List Values'!$H$16
Name EF: 'List Values'!$H$19
Name LT: 'List Values'!$H$22
Name Mol_Vol: 'List Values'!$G$13
Name MolVol: 'List Values'!$G$13
Name MolW: 'List Values'!$G$12
Name MW: 'List Values'!$G$12
Name WY_high: 'List Values'!$H$21
Name WY_mid: 'List Values'!$H$20

Sheet Cover Page
B8: Final Risk Evaluation for Carbon Tetrachloride
B9: Supplemental File Occupational Exposure Risk Calculator
B10: for Carbon Tetrachloride
B11: (Methane, Tetrachloro-)
B12: CASRN: 56-23-5

Sheet Table of Contents
A1: Table of Contents
A3: Worksheet | B3: Description
A4: Read Me | B4: This tab explains the key worksheets in this workbook.
A5: Dashboard | B5: This tab calculates and displays MOE values for the condition of use, type of worker, and type of respiratory protection selected by the user.
A6: RR | B6: This tab displays the risk reduction(RR)/management options for the inhalation route (based on user selection in "Dashboard" tab).
A7: Health Data | B7: This tab contains the health risk parameter values, which includes the benchmarch MOE values that are used in the "Dashboard" and "RR" tabs in order to estimate risk.
A8: Dermal Crosswalk | B8: This tab contains dermal exposure conditions for each condition of use which are used in the "Dermal Exposure" tab.
A9: Dermal Exposure | B9: This tab calculates the dermal exposure estimates (dose) for each condition of use.
A10: Inhalation Exposure | B10: This tab calculates the inhalation exposure estimates (dose) for each condition of use.
A11: List Values | B11: This tab contains the parameter values used to calculate the inhalation and dermal exposure calculations throughout the workbook.
A12: Exposure Factors | B12: This tab contains the exposure factors used to calculate dermal exposures for varying worker types in the "Dashboard" and "RR" tabs.
A13: Manufacture_raw data | B13: This tab contains the original sources and the associated inhalation data used to calculate 8-hr or 12-hr TWA exposure values for workers and ONUs during the manufacture of carbon tetrachloride.

Sheet Read Me
A2: Description of this workbook:
A3: The risk calculator contains the following spreadsheets: 1) Dashboard, 2) RR, 3) Health Data, 4) Dermal Exposure, 5) Dermal Crosswalk, 6) Inhalation Exposure, 7) List Values, 8) Exposure Factors, and 9) Manufacture Reactant Raw Data. The workbook is designed so that the user need only to use/change inputs the first two spreadsheets (i.e. the Dashboard and the RR), which have tabs colored green and contain the results of the risk calculator. The remaining spreadsheets contain data storage and calculation spreadsheets.
A5: Key Worksheets | B5: Description
A6: Dashboard | B6: This Dashboard is an interactive spreadsheet that allows a user to view exposure results for a selected COU and with a single PPE option of their choosing (i.e. respirator APF or Glove Protection Factor PF). The user can select a) the desired COU, b) PPE options, and c) dermal exposures for the worker type (either an average adult or a woman of childbearing age) from a drop-down menu. The exposure estimates are shown in the “Exposure Outputs” section for both inhalation and dermal routes and for high-end and central tendency exposures. For inhalation exposures the columns show results for both worker and ONU exposures. The “Risk Estimation” sections are separated into acute, chronic non-cancer and cancer sections. For each section there is a brief description of the hazard endpoint and the hazard value i.e. HEC for non-cancer effects from inhalation exposure, HED for non-cancer effects from dermal exposure or a slope factor for cancer and the benchmark MOEs or benchmark values for cancer risk are provided to the right of the hazard value. The risk estimations show two columns of risk estimates: one column for exposures without PPE and one column for the results of the user-selected PPE option. These two columns allow the user to compare with and without PPE results side-by-side. The Dashboard automatically shades the cancer risk and MOE cells when they exceed the cancer benchmark or the benchmark MOE value.
A7: RR | B7: The RR spreadsheet is an expanded version of the Dashboard. Similar to the Dashboard the RR allows the user to select a COU. However, the user also selected to see results for a worker or ONU and instead of requiring a user to select a single exposure reduction option, the Heat Map displays all the PPE options. The RR spreadsheet has a column each for no PPE and each PPE option (i.e. APF or PF). The RR spreadsheet has a row for each toxicity endpoint, and each row shows the cancer risk or MOE values. Similar to the Dashboard, the RR spreadsheet shades results if the MOE or cancer risk exceeds the benchmark MOE or cancer benchmark.
A8: Health Data, Dermal Exposure, Dermal Crosswalk, Inhalation Exposure, List Values and Exposure Factors | B8: As described above the remaining spreadsheets are data storage and calculation spreadsheets. These worksheets store the exposure estimates, health values and store some of the risk calculations. The user does not need to access these worksheets to use the Dashboard and RR spreadsheets as described above; all results are automatically loaded into the Dashboard and RR spreadsheets.
A10: Color Legends

Sheet Dashboard
C3: Condition of Use | D3: Inhalation Exposure | I3: Personal Protective Equipment (PPE) | M3: Dermal
C4: Select the Condition of Use (select) | D4: Data Type | F4: TWA | I4: Respirator Protection Factor (Select) | J4: Glove Protection Factor (Select) | M4: Worker Type (select)
C5: Manufacturing - 8-hr TWA | D5: =VLOOKUP($C$5,'Inhalation Exposure'!$C$5:$R$26,16,FALSE) -> Monitoring Data | F5: =VLOOKUP($C$5,'Inhalation Exposure'!$C$5:$R$26,2,FALSE) -> 8-hr | I5: 5 | J5: 5 | M5: Average Adult Worker
C7: Inhalation | D7: 8-hr and 12-hr TWA Exposures | M7: Dermal
C8: Exposure Outputs | M8: Exposure Outputs
C9: Category | D9: Exposure Level | E9: Full-Shift TWA Exposure | F9: Acute Exposures | G9: Chronic, Non-Cancer Exposures | H9: Chronic, Cancer Exposures | M9: Category | N9: Exposure Level | O9: Acute Potential Dose Rate | P9: Acute Retained Dose | Q9: Chronic Retained Dose, Non-Cancer | R9: Chronic Retained Dose, Cancer
E10: CCCl4, 8 or 12-hr TWA (mg/m3) | F10: ACCCl4, 8 or 12-hr TWA (mg/m3) | G10: ADCCCl4, 8 or 12-hr TWA (mg/m3) | H10: LADCCCl4 (mg/m3) | O10: APDRexp (mg/day) | P10: ARDCCl4 (mg/kg-day) | Q10: CRDCCl4 (mg/kg-day) | R10: CRDCCl4 (mg/kg-day)
C11: Worker | D11: High End | E11: =IF(SUMIFS('Inhalation Exposure'!$H:$H,'Inhalation Exposure'!$C:$C,$C$5,'Inhalation Exposure'!$E:$E,$C11,'Inhalation Exposure'!$R:$R,$D$5)>0, SUMIFS('Inhalation Exposure'!$H:$H,'Inhalation Exposure'!$C:$C,$C$5,'Inhalation Exposure'!$E:$E,$C11,'Inhalation Exposure'!$R:$R,$D$5), "No Data") -> 4.0379333 | F11: =IF(SUMIFS('Inhalation Exposure'!$J:$J,'Inhalation Exposure'!$C:$C,$C$5,'Inhalation Exposure'!$E:$E,$C11,'Inhalation Exposure'!$R:$R,$D$5)>0, SUMIFS('Inhalation Exposure'!$J:$J,'Inhalation Exposure'!$C:$C,$C$5,'Inhalation Exposure'!$E:$E,$C11,'Inhalation Exposure'!$R:$R,$D$5), "No Data") -> 4.0379333 | G11: =IF(SUMIFS('Inhalation Exposure'!$L:$L,'Inhalation Exposure'!$C:$C,$C$5,'Inhalation Exposure'!$E:$E,$C11,'Inhalation Exposure'!$R:$R,$D$5)>0, SUMIFS('Inhalation Exposure'!$L:$L,'Inhalation Exposure'!$C:$C,$C$5,'Inhalation Exposure'!$E:$E,$C11,'Inhalation Exposure'!$R:$R,$D$5), "No Data") -> 4.0379333 | H11: =IF(SUMIFS('Inhalation Exposure'!$N:$N,'Inhalation Exposure'!$C:$C,$C$5,'Inhalation Exposure'!$E:$E,$C11,'Inhalation Exposure'!$R:$R,$D$5)>0, SUMIFS('Inhalation Exposure'!$N:$N,'Inhalation Exposure'!$C:$C,$C$5,'Inhalation Exposure'!$E:$E,$C11,'Inhalation Exposure'!$R:$R,$D$5), "No Data") -> 0.47277055 | M11: Worker, No Gloves | N11: High End | O11: ='Dermal Exposure'!N6 -> 89.88 | P11: ='Dermal Exposure'!O6 -> 1.1235 | Q11: ='Dermal Exposure'!P6 -> 1.1235 | R11: ='Dermal Exposure'!Q6 -> 0.39462592
C12: ONU | E12: =IF(SUMIFS('Inhalation Exposure'!$H:$H,'Inhalation Exposure'!$C:$C,$C$5,'Inhalation Exposure'!$E:$E,$C12,'Inhalation Exposure'!$R:$R,$D$5)>0, SUMIFS('Inhalation Exposure'!$H:$H,'Inhalation Exposure'!$C:$C,$C$5,'Inhalation Exposure'!$E:$E,$C12, 'Inhalation Exposure'!$R:$R,$D$5), "No Data") -> 1.006593 | F12: =IF(SUMIFS('Inhalation Exposure'!$J:$J,'Inhalation Exposure'!$C:$C,$C$5,'Inhalation Exposure'!$E:$E,$C12,'Inhalation Exposure'!$R:$R,$D$5)>0, SUMIFS('Inhalation Exposure'!$J:$J,'Inhalation Exposure'!$C:$C,$C$5,'Inhalation Exposure'!$E:$E,$C12,'Inhalation Exposure'!$R:$R,$D$5), "No Data") -> 1.006593 | G12: =IF(SUMIFS('Inhalation Exposure'!$L:$L,'Inhalation Exposure'!$C:$C,$C$5,'Inhalation Exposure'!$E:$E,$C12,'Inhalation Exposure'!$R:$R,$D$5)>0, SUMIFS('Inhalation Exposure'!$L:$L,'Inhalation Exposure'!$C:$C,$C$5,'Inhalation Exposure'!$E:$E,$C12,'Inhalation Exposure'!$R:$R,$D$5), "No Data") -> 1.006593 | H12: =IF(SUMIFS('Inhalation Exposure'!$N:$N,'Inhalation Exposure'!$C:$C,$C$5,'Inhalation Exposure'!$E:$E,$C12,'Inhalation Exposure'!$R:$R,$D$5)>0, SUMIFS('Inhalation Exposure'!$N:$N,'Inhalation Exposure'!$C:$C,$C$5,'Inhalation Exposure'!$E:$E,$C12,'Inhalation Exposure'!$R:$R,$D$5), "No Data") -> 0.11785424 | N12: Central Tendency | O12: ='Dermal Exposure'!N7 -> 29.96 | P12: ='Dermal Exposure'!O7 -> 0.3745 | Q12: ='Dermal Exposure'!P7 -> 0.3745 | R12: ='Dermal Exposure'!Q7 -> 0.10194503
C13: Worker | D13: Central Tendency | E13: =IF(SUMIFS('Inhalation Exposure'!$I:$I,'Inhalation Exposure'!$C:$C,$C$5,'Inhalation Exposure'!$E:$E,$C13,'Inhalation Exposure'!$R:$R,$D$5)>0, SUMIFS('Inhalation Exposure'!$I:$I,'Inhalation Exposure'!$C:$C,$C$5,'Inhalation Exposure'!$E:$E,$C13,'Inhalation Exposure'!$R:$R,$D$5), "No Data") -> 0.75625432 | F13: =IF(SUMIFS('Inhalation Exposure'!$K:$K,'Inhalation Exposure'!$C:$C,$C$5,'Inhalation Exposure'!$E:$E,$C13,'Inhalation Exposure'!$R:$R,$D$5)>0, SUMIFS('Inhalation Exposure'!$K:$K,'Inhalation Exposure'!$C:$C,$C$5,'Inhalation Exposure'!$E:$E,$C13,'Inhalation Exposure'!$R:$R,$D$5), "No Data") -> 0.75625432 | G13: =IF(SUMIFS('Inhalation Exposure'!$M:$M,'Inhalation Exposure'!$C:$C,$C$5,'Inhalation Exposure'!$E:$E,$C13,'Inhalation Exposure'!$R:$R,$D$5)>0, SUMIFS('Inhalation Exposure'!$M:$M,'Inhalation Exposure'!$C:$C,$C$5,'Inhalation Exposure'!$E:$E,$C13,'Inhalation Exposure'!$R:$R,$D$5), "No Data") -> 0.75625432 | H13: =IF(SUMIFS('Inhalation Exposure'!$O:$O,'Inhalation Exposure'!$C:$C,$C$5,'Inhalation Exposure'!$E:$E,$C13,'Inhalation Exposure'!$R:$R,$D$5)>0, SUMIFS('Inhalation Exposure'!$O:$O,'Inhalation Exposure'!$C:$C,$C$5,'Inhalation Exposure'!$E:$E,$C13,'Inhalation Exposure'!$R:$R,$D$5), "No Data") -> 0.068621601 | M13: =_xlfn.CONCAT("Worker with Gloves; PF = ",J5) -> Worker with Gloves; PF = 5 | N13: High End | O13: =O11/$J$5 -> 17.976 | P13: =P11/$J$5 -> 0.2247 | Q13: =Q11/$J$5 -> 0.2247 | R13: =R11/$J$5 -> 0.078925184
C14: ONU | E14: =IF(SUMIFS('Inhalation Exposure'!$I:$I,'Inhalation Exposure'!$C:$C,$C$5,'Inhalation Exposure'!$E:$E,$C14,'Inhalation Exposure'!$R:$R,$D$5)>0, SUMIFS('Inhalation Exposure'!$I:$I,'Inhalation Exposure'!$C:$C,$C$5,'Inhalation Exposure'!$E:$E,$C14,'Inhalation Exposure'!$R:$R,$D$5), "No Data") -> 0.50329652 | F14: =IF(SUMIFS('Inhalation Exposure'!$K:$K,'Inhalation Exposure'!$C:$C,$C$5,'Inhalation Exposure'!$E:$E,$C14,'Inhalation Exposure'!$R:$R,$D$5)>0, SUMIFS('Inhalation Exposure'!$K:$K,'Inhalation Exposure'!$C:$C,$C$5,'Inhalation Exposure'!$E:$E,$C14,'Inhalation Exposure'!$R:$R,$D$5), "No Data") -> 0.50329652 | G14: =IF(SUMIFS('Inhalation Exposure'!$M:$M,'Inhalation Exposure'!$C:$C,$C$5,'Inhalation Exposure'!$E:$E,$C14,'Inhalation Exposure'!$R:$R,$D$5)>0, SUMIFS('Inhalation Exposure'!$M:$M,'Inhalation Exposure'!$C:$C,$C$5,'Inhalation Exposure'!$E:$E,$C14,'Inhalation Exposure'!$R:$R,$D$5), "No Data") -> 0.50329652 | H14: =IF(SUMIFS('Inhalation Exposure'!$O:$O,'Inhalation Exposure'!$C:$C,$C$5,'Inhalation Exposure'!$E:$E,$C14,'Inhalation Exposure'!$R:$R,$D$5)>0, SUMIFS('Inhalation Exposure'!$O:$O,'Inhalation Exposure'!$C:$C,$C$5,'Inhalation Exposure'!$E:$E,$C14,'Inhalation Exposure'!$R:$R,$D$5), "No Data") -> 0.045668517 | N14: Central Tendency | O14: =O12/$J$5 -> 5.992 | P14: =P12/$J$5 -> 0.0749 | Q14: =Q12/$J$5 -> 0.0749 | R14: =R12/$J$5 -> 0.020389006
M15: Worker, Occluded Exposure | N15: High End | O15: ='Dermal Exposure'!N8 -> Not Assessed | P15: ='Dermal Exposure'!O8 -> Not Assessed | Q15: ='Dermal Exposure'!P8 -> Not Assessed | R15: ='Dermal Exposure'!Q8 -> Not Assessed
N16: Central Tendency | O16: ='Dermal Exposure'!N9 -> Not Assessed | P16: ='Dermal Exposure'!O9 -> Not Assessed | Q16: ='Dermal Exposure'!P9 -> Not Assessed | R16: ='Dermal Exposure'!Q9 -> Not Assessed
C18: Risk Estimation for Acute Inhalation Exposures | M18: Risk Estimation for Acute Dermal Exposures
C19: Health Effect, Endpoint and Study | D19: HEC (mg/m3) | E19: Exposure Level | F19: Benchmark MOE (= Total UF) | G19: Chronic Exposure Estimates | I19: =_xlfn.CONCAT("Respirator Scenario: APF of ",$I$5) -> Respirator Scenario: APF of 5 | M19: Health Effect, Endpoint and Study | N19: HED (mg/kg-day) | O19: Exposure Level | P19: Benchmark MOE (= Total UF) | Q19: Chronic Exposure Estimates | R19: Gloved Scenarios
G20: Worker MOE | H20: ONU MOE | I20: Worker MOE | J20: ONU MOE | Q20: Worker MOE, No Gloves | R20: =_xlfn.CONCAT("Worker MOE with Gloves: ",$J$5) -> Worker MOE with Gloves: 5 | S20: Worker MOE, Occluded Exposure
B21: Tox01 | C21: CNS Temporarily disabling effects {Davis, 1934, 3611} | D21: =IF($F$5='List Values'!$D$23,VLOOKUP($B21,'Health Data'!$F$6:$I$8,2),VLOOKUP($B21,'Health Data'!$F$6:$I$8,3)) -> 360 | E21: High End | F21: =VLOOKUP($B$21,'Health Data'!$F$6:$K$9,4,FALSE) -> 10 | G21: =IFERROR($D21/$F$11, "") -> 89.154519 | H21: =IFERROR(D21/$F$12, "No Data") -> 357.64205 | I21: =IFERROR(D21/($F$11/$I$5),"") -> 445.77259 | J21: =IFERROR(D21/($F$12/$I$5), "No Data") -> 1788.2102 | L21: Tox05 | M21: Liver Liver toxicity - Histopathological changes in the liver (rats) {Nagano, 2007, 194127} | N21: =VLOOKUP($L21,'Health Data'!$F$14:$J$17,2,FALSE) -> 250 | O21: High End | P21: =VLOOKUP($L$21,'Health Data'!$F$14:$J$17,3,FALSE) -> 30 | Q21: =IFERROR(N21/$P$11, "No Data") -> 222.51891 | R21: =IFERROR(N21/$P$13, "No Data") -> 1112.5946 | S21: =IFERROR(N21/$P$15, "Not Assessed") -> Not Assessed
E22: Central Tendancy | F22: =VLOOKUP($B$21,'Health Data'!$F$6:$K$9,4,FALSE) -> 10 | G22: =IFERROR($D21/$F$13, "") -> 476.03034 | H22: =IFERROR(D21/$F$14, "No Data") -> 715.2841 | I22: =IFERROR(D21/($F$13/$I$5),"") -> 2380.1517 | J22: =IFERROR(D21/($F$14/$I$5), "No Data") -> 3576.4205 | O22: Central Tendancy | P22: =VLOOKUP($L$21,'Health Data'!$F$14:$J$17,3,FALSE) -> 30 | Q22: =IFERROR(N21/$P$12,"No Data") -> 667.55674 | R22: =IFERROR(N21/$P$14,"No Data") -> 3337.7837 | S22: =IFERROR(N21/$P$16,"Not Assessed") -> Not Assessed
C24: Risk Estimation for Chronic, Non-Cancer Inhalation Exposures | M24: Risk Estimation for Chronic, Non-Cancer Dermal Exposures
C25: Health Effect, Endpoint and Study | D25: HEC (mg/m3) | E25: Exposure Level | F25: Benchmark MOE (= Total UF) | G25: Chronic Exposure Estimates | I25: =_xlfn.CONCAT("Respirator Scenario: APF of ",$I$5) -> Respirator Scenario: APF of 5 | M25: Health Effect, Endpoint and Study | N25: HED (mg/kg-day) | O25: Exposure Level | P25: Benchmark MOE (= Total UF) | Q25: Chronic Exposure Estimates | R25: Gloved Scenarios
G26: Worker MOE | H26: ONU MOE | I26: Worker MOE | J26: ONU MOE | Q26: Worker MOE, No Gloves | R26: =_xlfn.CONCAT("Worker MOE with Gloves: ",$J$5) -> Worker MOE with Gloves: 5 | S26: Worker MOE, Occluded Exposure
B27: Tox02 | C27: Liver Liver toxicity - Fatty changes in the liver, chronic inhalation (rat) {Nagano, 2007, 194127} | D27: =IF($F$5='List Values'!$D$23,VLOOKUP($B27,'Health Data'!$F$6:$I$8,2),VLOOKUP($B27,'Health Data'!$F$6:$I$8,3)) -> 31.1 | E27: High End | F27: =VLOOKUP($B$27,'Health Data'!$F$6:$K$9,4,FALSE) -> 30 | G27: =IFERROR($D27/$G$11, "") -> 7.7019598 | H27: =IFERROR(D27/$G$12, "No Data") -> 30.896299 | I27: =IFERROR(D27/($G$11/$I$5),"") -> 38.509799 | J27: =IFERROR(D27/($G$12/$I$5), "No Data") -> 154.4815 | L27: Tox06 | M27: Liver Liver toxicity - Fatty changes in the liver, chronic inhalation (rat) {Nagano, 2007, 194127} | N27: =VLOOKUP($L27,'Health Data'!$F$14:$J$17,2,FALSE) -> 2.5 | O27: High End | P27: =VLOOKUP($L$27,'Health Data'!$F$14:$J$17,3,FALSE) -> 30 | Q27: =IFERROR(N27/$Q$11, "No Data") -> 2.2251891 | R27: =IFERROR(N27/$Q$13, "No Data") -> 11.125946 | S27: =IFERROR(N27/$Q$15, "Not Assessed") -> Not Assessed
E28: Central Tendancy | F28: =VLOOKUP($B$27,'Health Data'!$F$6:$K$9,4,FALSE) -> 30 | G28: =IFERROR($D27/$G$13, "") -> 41.123732 | H28: =IFERROR(D27/$G$14, "No Data") -> 61.792598 | I28: =IFERROR(D27/($G$13/$I$5),"") -> 205.61866 | J28: =IFERROR(D27/($G$14/$I$5), "No Data") -> 308.96299 | O28: Central Tendancy | P28: =VLOOKUP($L$27,'Health Data'!$F$14:$J$17,3,FALSE) -> 30 | Q28: =IFERROR(N27/$Q$12,"No Data") -> 6.6755674 | R28: =IFERROR(N27/$Q$14,"No Data") -> 33.377837 | S28: =IFERROR(N27/$Q$16,"Not Assessed") -> Not Assessed
C30: Chronic, Cancer Risks - Nonlinear | M30: Chronic, Cancer Risks - Nonlinear
C31: Health Effect, Endpoint and Study | D31: HEC (mg/m3) | E31: Exposure Level | F31: Benchmark MOE (= Total UF) | G31: Chronic Cancer Exposure Estimates | I31: =_xlfn.CONCAT("Respirator Scenario: APF of ",$I$5) -> Respirator Scenario: APF of 5 | M31: Health Effect, Endpoint and Study | N31: HED (mg/kg-day) | O31: Exposure Level | P31: Benchmark MOE (= Total UF) | Q31: Chronic Cancer Exposure Estimates | R31: Gloved Scenarios
G32: Worker | H32: ONU | I32: Worker | J32: ONU | Q32: No Gloves | R32: =_xlfn.CONCAT("Gloves: ",$J$5) -> Gloves: 5 | S32: Occluded Exposure
B33: Tox03 | C33: Cancer - Nonlinear {U.S. EPA, 2010, 3490869} | D33: =VLOOKUP($B$33,'Health Data'!$F$6:$K$9,2,FALSE) -> 6 | E33: High End | F33: =VLOOKUP($B$33,'Health Data'!$F$6:$K$9,4,FALSE) -> 300 | G33: =IFERROR($D33/$H$11,"") -> 12.691146 | H33: =IFERROR(D33/$H$12, "No Data") -> 50.910346 | I33: =IFERROR(D33/($H$11/$I$5),"") -> 63.455729 | J33: =IFERROR(D33/($H$12/$I$5),"No Data") -> 254.55173 | L33: Tox07 | M33: Cancer - Nonlinear {U.S. EPA, 2010, 3490869} | N33: =VLOOKUP($L$33,'Health Data'!$F$14:$J$17,2,FALSE) -> 1.4 | O33: High End | P33: =VLOOKUP($L$33,'Health Data'!$F$14:$J$17,3,FALSE) -> 300 | Q33: =IFERROR(N33/$R$11, "No Data") -> 3.5476636 | R33: =IFERROR(N33/$R$13, "No Data") -> 17.738318 | S33: =IFERROR($R$15/N33, "Not Assessed") -> Not Assessed
E34: Central Tendency | F34: =VLOOKUP($B$33,'Health Data'!$F$6:$K$9,4,FALSE) -> 300 | G34: =IFERROR($D33/$H$13,"") -> 87.436024 | H34: =IFERROR(D33/$H$14, "No Data") -> 131.38154 | I34: =IFERROR(D33/($H$13/$I$5),"") -> 437.18012 | J34: =IFERROR(D33/($H$14/$I$5), "No Data") -> 656.90769 | O34: Central Tendency | P34: =VLOOKUP($L$33,'Health Data'!$F$14:$J$17,3,FALSE) -> 300 | Q34: =IFERROR(N33/$R$12, "No Data") -> 13.732891 | R34: =IFERROR(N33/$R$14, "No Data") -> 68.664456 | S34: =IFERROR($R$16/N33, "Not Assessed") -> Not Assessed
C36: Chronic, Cancer Risks - Linear | M36: Chronic, Cancer Risks - Linear
C37: Risk Estimate | D37: IUR (m3/mg) | E37: Exposure Level | F37: Benchmark Cancer Risk Level | G37: Chronic Cancer Exposure Estimates | I37: =_xlfn.CONCAT("Respirator Scenario: APF of ",$I$5) -> Respirator Scenario: APF of 5 | M37: Risk Estimate | N37: Slope Factor (kg-d/mg) | O37: Exposure Level | P37: Benchmark Cancer Risk Level | Q37: Chronic Cancer Exposure Estimates | R37: Gloved Scenarios
G38: Worker | H38: ONU | I38: Worker | J38: ONU | Q38: No Gloves | R38: =_xlfn.CONCAT("Gloves: ",$J$5) -> Gloves: 5 | S38: Occluded Exposure
B39: Tox04 | C39: Cancer - Linear {U.S. EPA, 2010, 3490869} | D39: =VLOOKUP($B39,'Health Data'!$F$6:$K$9,6,FALSE) -> 0.006 | E39: High End | F39: =VLOOKUP(B39,'Health Data'!$F$6:$K$9,5,FALSE) -> 0.0001 | G39: =IF(H11="No Data", "No Data", H11*$D$39) -> 0.0028366233 | H39: =IF(H12="No Data", "No Data", H12*$D$39) -> 0.00070712543 | I39: =IF(H11="No Data", "No Data", (H11/$I$5)*$D$39) -> 0.00056732466 | J39: =IF(H12="No Data", "No Data", (H12/$I$5)*$D$39) -> 0.00014142509 | L39: Tox08 | M39: Cancer - Linear Dermal slope, {U.S. EPA, 2010, 3490869} | N39: =VLOOKUP($L39,'Health Data'!$F$14:$J$17,5,FALSE) -> 0.08 | O39: High End | P39: =VLOOKUP(L39,'Health Data'!$F$14:$J$17,4,FALSE) -> 0.0001 | Q39: =IFERROR($R$11*N39, "No Data") -> 0.031570074 | R39: =IFERROR($R$13*N39, "No Data") -> 0.0063140148 | S39: =IFERROR($R$15*N39, "Not Assessed") -> Not Assessed
E40: Central Tendency | G40: =IF(H13="No Data", "No Data", H13*$D$39) -> 0.00041172961 | H40: =IF(H14="No Data", "No Data", H14*$D$39) -> 0.0002740111 | I40: =IF(H13="No Data", "No Data", (H13/$I$5)*$D$39) -> 8.2345921e-05 | J40: =IF(H14="No Data", "No Data", (H14/$I$5)*$D$39) -> 5.4802221e-05 | O40: Central Tendency | Q40: =IFERROR($R$12*N39, "No Data") -> 0.0081556024 | R40: =IFERROR($R$14*N39, "No Data") -> 0.0016311205 | S40: =IFERROR($R$16*N39, "Not Assessed") -> Not Assessed
C71: Inhalation Cancer Risk Estimates | D71: Cancer Risk | E71: =_xlfn.CONCAT("Cancer Risk with APF of ",$I$5) -> Cancer Risk with APF of 5 | M71: Dermal Cancer Risk Estimates | N71: High End | O71: Central Tendency
C72: Worker: 50th Percentile | D72: =G40 -> 0.00041172961 | E72: =I40 -> 8.2345921e-05 | M72: =Q38 -> No Gloves | N72: =Q39 -> 0.031570074 | O72: =Q40 -> 0.0081556024
C73: Worker: 95th Percentile | D73: =G39 -> 0.0028366233 | E73: =I39 -> 0.00056732466 | M73: =R38 -> Gloves: 5 | N73: =R39 -> 0.0063140148 | O73: =R40 -> 0.0016311205
M74: =S38 -> Occluded Exposure | N74: =S39 -> Not Assessed | O74: =S40 -> Not Assessed

Sheet RR
H3: Condition of Use | I3: Inhalation Exposure | X3: Dermal
H4: Select the Condition of Use (select) | I4: Data Type | J4: Exposure Type (select) | L4: TWA | X4: Worker Type (select)
H5: Import/Repackaging | I5: =VLOOKUP($H$5,'Inhalation Exposure'!$C$5:$R$26,16,FALSE) -> Monitoring Data | J5: Worker | L5: =VLOOKUP($H$5,'Inhalation Exposure'!$C$5:$R$26,2,FALSE) -> 8-hr | X5: Average Adult Worker
H7: 8-hr and 12-hr TWA Exposures | X7: Dermal
H8: Exposure Outputs | X8: Exposure Outputs
H9: Category | I9: Exposure Level | J9: Full-Shift (Eight-Hour) TWA Exposure | K9: Acute Exposures | L9: Chronic, Non-Cancer Exposures | M9: Chronic, Cancer Exposures | X9: Category | Y9: Exposure Level | Z9: Acute Potential Dose Rate | AA9: Acute Retained Dose | AB9: Chronic Retained Dose, Non-Cancer | AC9: Chronic Retained Dose, Cancer
J10: CCCl4, 8 or 12-hr TWA (mg/m3) | K10: ACCCl4, 8 or 12-hr TWA (mg/m3) | L10: ADCCCl4, 8 or 12-hr TWA (mg/m3) | M10: LADCCCl4 (mg/m3) | Z10: APDRexp (mg/day) | AA10: ARDCCl4 (mg/kg-day) | AB10: CRDCCl4 (mg/kg-day) | AC10: CRDCCl4 (mg/kg-day)
H11: Worker | I11: High End | J11: =IF(SUMIFS('Inhalation Exposure'!$H:$H,'Inhalation Exposure'!$C:$C,$H$5,'Inhalation Exposure'!$E:$E,$H11,'Inhalation Exposure'!$R:$R,$I$5)>0, SUMIFS('Inhalation Exposure'!$H:$H,'Inhalation Exposure'!$C:$C,$H$5,'Inhalation Exposure'!$E:$E,$H11,'Inhalation Exposure'!$R:$R,$I$5), "No Data") -> 2.9186092 | K11: =IF(SUMIFS('Inhalation Exposure'!$J:$J,'Inhalation Exposure'!$C:$C,$H$5,'Inhalation Exposure'!$E:$E,$H11,'Inhalation Exposure'!$R:$R,$I$5)>0, SUMIFS('Inhalation Exposure'!$J:$J,'Inhalation Exposure'!$C:$C,$H$5,'Inhalation Exposure'!$E:$E,$H11,'Inhalation Exposure'!$R:$R,$I$5), "No Data") -> 2.9186092 | L11: =IF(SUMIFS('Inhalation Exposure'!$L:$L,'Inhalation Exposure'!$C:$C,$H$5,'Inhalation Exposure'!$E:$E,$H11,'Inhalation Exposure'!$R:$R,$I$5)>0, SUMIFS('Inhalation Exposure'!$L:$L,'Inhalation Exposure'!$C:$C,$H$5,'Inhalation Exposure'!$E:$E,$H11,'Inhalation Exposure'!$R:$R,$I$5), "No Data") -> 2.9186092 | M11: =IF(SUMIFS('Inhalation Exposure'!$N:$N,'Inhalation Exposure'!$C:$C,$H$5,'Inhalation Exposure'!$E:$E,$H11,'Inhalation Exposure'!$R:$R,$I$5)>0, SUMIFS('Inhalation Exposure'!$N:$N,'Inhalation Exposure'!$C:$C,$H$5,'Inhalation Exposure'!$E:$E,$H11,'Inhalation Exposure'!$R:$R,$I$5), "No Data") -> 0.3417175 | X11: Worker, No Gloves | Y11: High End | Z11: ='Dermal Exposure'!N11 -> 89.88 | AA11: ='Dermal Exposure'!O11 -> 1.1235 | AB11: ='Dermal Exposure'!P11 -> 1.1235 | AC11: ='Dermal Exposure'!Q11 -> 0.39462592
H12: ONU | J12: =IF(SUMIFS('Inhalation Exposure'!$H:$H,'Inhalation Exposure'!$C:$C,$H$5,'Inhalation Exposure'!$E:$E,$H12,'Inhalation Exposure'!$R:$R,$I$5)>0, SUMIFS('Inhalation Exposure'!$H:$H,'Inhalation Exposure'!$C:$C,$H$5,'Inhalation Exposure'!$E:$E,$H12,'Inhalation Exposure'!$R:$R,$I$5), "No Data") -> No Data | K12: =IF(SUMIFS('Inhalation Exposure'!$J:$J,'Inhalation Exposure'!$C:$C,$H$5,'Inhalation Exposure'!$E:$E,$H12,'Inhalation Exposure'!$R:$R,$I$5)>0, SUMIFS('Inhalation Exposure'!$J:$J,'Inhalation Exposure'!$C:$C,$H$5,'Inhalation Exposure'!$E:$E,$H12,'Inhalation Exposure'!$R:$R,$I$5), "No Data") -> No Data | L12: =IF(SUMIFS('Inhalation Exposure'!$L:$L,'Inhalation Exposure'!$C:$C,$H$5,'Inhalation Exposure'!$E:$E,$H12,'Inhalation Exposure'!$R:$R,$I$5)>0, SUMIFS('Inhalation Exposure'!$L:$L,'Inhalation Exposure'!$C:$C,$H$5,'Inhalation Exposure'!$E:$E,$H12,'Inhalation Exposure'!$R:$R,$I$5), "No Data") -> No Data | M12: =IF(SUMIFS('Inhalation Exposure'!$N:$N,'Inhalation Exposure'!$C:$C,$H$5,'Inhalation Exposure'!$E:$E,$H12,'Inhalation Exposure'!$R:$R,$I$5)>0, SUMIFS('Inhalation Exposure'!$N:$N,'Inhalation Exposure'!$C:$C,$H$5,'Inhalation Exposure'!$E:$E,$H12,'Inhalation Exposure'!$R:$R,$I$5), "No Data") -> No Data | Y12: Central Tendency | Z12: ='Dermal Exposure'!N12 -> 29.96 | AA12: ='Dermal Exposure'!O12 -> 0.3745 | AB12: ='Dermal Exposure'!P12 -> 0.3745 | AC12: ='Dermal Exposure'!Q12 -> 0.10194503
H13: Worker | I13: Central Tendency | J13: =IF(SUMIFS('Inhalation Exposure'!$I:$I,'Inhalation Exposure'!$C:$C,$H$5,'Inhalation Exposure'!$E:$E,$H13,'Inhalation Exposure'!$R:$R,$I$5)>0, SUMIFS('Inhalation Exposure'!$I:$I,'Inhalation Exposure'!$C:$C,$H$5,'Inhalation Exposure'!$E:$E,$H13,'Inhalation Exposure'!$R:$R,$I$5), "No Data") -> 0.88971096 | K13: =IF(SUMIFS('Inhalation Exposure'!$K:$K,'Inhalation Exposure'!$C:$C,$H$5,'Inhalation Exposure'!$E:$E,$H13,'Inhalation Exposure'!$R:$R,$I$5)>0, SUMIFS('Inhalation Exposure'!$K:$K,'Inhalation Exposure'!$C:$C,$H$5,'Inhalation Exposure'!$E:$E,$H13,'Inhalation Exposure'!$R:$R,$I$5), "No Data") -> 0.88971096 | L13: =IF(SUMIFS('Inhalation Exposure'!$M:$M,'Inhalation Exposure'!$C:$C,$H$5,'Inhalation Exposure'!$E:$E,$H13,'Inhalation Exposure'!$R:$R,$I$5)>0, SUMIFS('Inhalation Exposure'!$M:$M,'Inhalation Exposure'!$C:$C,$H$5,'Inhalation Exposure'!$E:$E,$H13,'Inhalation Exposure'!$R:$R,$I$5), "No Data") -> 0.88971096 | M13: =IF(SUMIFS('Inhalation Exposure'!$O:$O,'Inhalation Exposure'!$C:$C,$H$5,'Inhalation Exposure'!$E:$E,$H13,'Inhalation Exposure'!$R:$R,$I$5)>0, SUMIFS('Inhalation Exposure'!$O:$O,'Inhalation Exposure'!$C:$C,$H$5,'Inhalation Exposure'!$E:$E,$H13,'Inhalation Exposure'!$R:$R,$I$5), "No Data") -> 0.080731296 | X13: =_xlfn.CONCAT("Worker with Gloves; PF = ",'List Values'!F3) -> Worker with Gloves; PF = 5 | Y13: High End | Z13: =Z11/'List Values'!$F$3 -> 17.976 | AA13: =AA11/'List Values'!$F$3 -> 0.2247 | AB13: =AB11/'List Values'!$F$3 -> 0.2247 | AC13: =AC11/'List Values'!$F$3 -> 0.078925184
H14: ONU | J14: =IF(SUMIFS('Inhalation Exposure'!$I:$I,'Inhalation Exposure'!$C:$C,$H$5,'Inhalation Exposure'!$E:$E,$H14,'Inhalation Exposure'!$R:$R,$I$5)>0, SUMIFS('Inhalation Exposure'!$I:$I,'Inhalation Exposure'!$C:$C,$H$5,'Inhalation Exposure'!$E:$E,$H14,'Inhalation Exposure'!$R:$R,$I$5), "No Data") -> 0.88971096 | K14: =IF(SUMIFS('Inhalation Exposure'!$K:$K,'Inhalation Exposure'!$C:$C,$H$5,'Inhalation Exposure'!$E:$E,$H14,'Inhalation Exposure'!$R:$R,$I$5)>0, SUMIFS('Inhalation Exposure'!$K:$K,'Inhalation Exposure'!$C:$C,$H$5,'Inhalation Exposure'!$E:$E,$H14,'Inhalation Exposure'!$R:$R,$I$5), "No Data") -> 0.88971096 | L14: =IF(SUMIFS('Inhalation Exposure'!$M:$M,'Inhalation Exposure'!$C:$C,$H$5,'Inhalation Exposure'!$E:$E,$H14,'Inhalation Exposure'!$R:$R,$I$5)>0, SUMIFS('Inhalation Exposure'!$M:$M,'Inhalation Exposure'!$C:$C,$H$5,'Inhalation Exposure'!$E:$E,$H14,'Inhalation Exposure'!$R:$R,$I$5), "No Data") -> 0.88971096 | M14: =IF(SUMIFS('Inhalation Exposure'!$O:$O,'Inhalation Exposure'!$C:$C,$H$5,'Inhalation Exposure'!$E:$E,$H14,'Inhalation Exposure'!$R:$R,$I$5)>0, SUMIFS('Inhalation Exposure'!$O:$O,'Inhalation Exposure'!$C:$C,$H$5,'Inhalation Exposure'!$E:$E,$H14,'Inhalation Exposure'!$R:$R,$I$5), "No Data") -> 0.080731296 | Y14: Central Tendency | Z14: =Z12/'List Values'!$F$3 -> 5.992 | AA14: =AA12/'List Values'!$F$3 -> 0.0749 | AB14: =AB12/'List Values'!$F$3 -> 0.0749 | AC14: =AC12/'List Values'!$F$3 -> 0.020389006
X15: =_xlfn.CONCAT("Worker with Gloves; PF = ",'List Values'!F4) -> Worker with Gloves; PF = 10 | Y15: High End | Z15: =Z11/'List Values'!$F$4 -> 8.988 | AA15: =AA11/'List Values'!$F$4 -> 0.11235 | AB15: =AB11/'List Values'!$F$4 -> 0.11235 | AC15: =AC11/'List Values'!$F$4 -> 0.039462592
Y16: Central Tendency | Z16: =Z12/'List Values'!$F$4 -> 2.996 | AA16: =AA12/'List Values'!$F$4 -> 0.03745 | AB16: =AB12/'List Values'!$F$4 -> 0.03745 | AC16: =AC12/'List Values'!$F$4 -> 0.010194503
X17: =_xlfn.CONCAT("Worker with Gloves; PF = ",'List Values'!F5) -> Worker with Gloves; PF = 20 | Y17: High End | Z17: =Z11/'List Values'!$F$5 -> 4.494 | AA17: =AA11/'List Values'!$F$5 -> 0.056175 | AB17: =AB11/'List Values'!$F$5 -> 0.056175 | AC17: =AC11/'List Values'!$F$5 -> 0.019731296
Y18: Central Tendency | Z18: =Z12/'List Values'!$F$5 -> 1.498 | AA18: =AA12/'List Values'!$F$5 -> 0.018725 | AB18: =AB12/'List Values'!$F$5 -> 0.018725 | AC18: =AC12/'List Values'!$F$5 -> 0.0050972515
X19: Worker, Occluded Exposure | Y19: High End | Z19: ='Dermal Exposure'!N13 -> Not Assessed | AA19: ='Dermal Exposure'!O13 -> Not Assessed | AB19: ='Dermal Exposure'!P13 -> Not Assessed | AC19: ='Dermal Exposure'!Q13 -> Not Assessed
Y20: Central Tendency | Z20: ='Dermal Exposure'!N14 -> Not Assessed | AA20: ='Dermal Exposure'!O14 -> Not Assessed | AB20: ='Dermal Exposure'!P14 -> Not Assessed | AC20: ='Dermal Exposure'!Q14 -> Not Assessed
H22: Risk Estimation for Inhalation Exposures | X22: Risk Estimation for Dermal Exposures
C23: Risk Type | D23: Toxicity Endpoint | F23: Study | H23: HEC (mg/m3) | I23: Exposure Level | J23: Benchmark MOE (= Total UF)/Benchmark | K23: =CONCATENATE("Exposure Estimates: ",$J$5," MOE") -> Exposure Estimates: Worker MOE | S23: Risk Type | T23: Toxicity Endpoint | V23: Study | X23: HED (mg/kg-day) | Y23: Exposure Level | Z23: Benchmark MOE (= Total UF)/Benchmark | AA23: =CONCATENATE("Exposure Estimates: ",$J$5," MOE") -> Exposure Estimates: Worker MOE
K24: No Respirator | L24: APF = 10 | M24: APF = 25 | N24: APF = 50 | O24: APF = 1,000 | P24: APF = 10,000 | AA24: Occluded | AB24: No Gloves | AC24: PF = 5 | AD24: PF = 10 | AE24: PF = 20
B25: Tox01 | C25: Acute | D25: CNS | E25: Temporarily disabling effects | F25: {Davis, 1934, 3611} | H25: =IF($L$5='List Values'!$D$23,VLOOKUP($B25,'Health Data'!$F$6:$I$8,2),VLOOKUP($B25,'Health Data'!$F$6:$I$8,3)) -> 360 | I25: High End | J25: =VLOOKUP($B$25,'Health Data'!F6:K9,4,FALSE) -> 10 | K25: =IFERROR($H25/IF($J$5="Worker",$K$11, $K$12), "No Data") -> 123.34642 | L25: =IFERROR($H25/(IF($J$5="Worker",$K$11,$K$12)/'List Values'!$D$16), "No Data") -> 1233.4642 | M25: =IFERROR($H25/(IF($J$5="Worker",$K$11,$K$12)/'List Values'!$D$17), "No Data") -> 3083.6605 | N25: =IFERROR($H25/(IF($J$5="Worker",$K$11,$K$12)/'List Values'!$D$18), "No Data") -> 6167.3211 | O25: =IFERROR($H25/(IF($J$5="Worker",$K$11,$K$12)/'List Values'!$D$19), "No Data") -> 123346.42 | P25: =IFERROR($H25/(IF($J$5="Worker",$K$11,$K$12)/'List Values'!$D$20), "No Data") -> 1233464.2 | R25: Tox05 | S25: Acute | T25: Liver | U25: Histopathological changes in the liver, chronic inhalation (rat) | V25: {Nagano, 2007, 194127} | X25: =VLOOKUP($R25,'Health Data'!$F$14:$J$17,2,FALSE) -> 250 | Y25: High End | Z25: =VLOOKUP($R$25,'Health Data'!$F$14:$J$17,3,FALSE) -> 30 | AA25: =IFERROR($X25/AA$19, "Not Assessed") -> Not Assessed | AB25: =IFERROR($X25/AA$11, "") -> 222.51891 | AC25: =IFERROR($X25/AA$13, "") -> 1112.5946 | AD25: =IFERROR($X25/AA$15, "") -> 2225.1891 | AE25: =IFERROR($X25/AA$17, "") -> 4450.3783
I26: Central Tendancy | J26: =VLOOKUP($B$25,'Health Data'!F6:K9,4,FALSE) -> 10 | K26: =IFERROR($H25/IF($J$5="Worker",$K$13,$K$14), "No Data") -> 404.62579 | L26: =IFERROR($H25/(IF($J$5="Worker",$K$13,$K$14)/('List Values'!$D$16)), "No Data") -> 4046.2579 | M26: =IFERROR($H25/(IF($J$5="Worker",$K$13,$K$14)/'List Values'!$D$17), "No Data") -> 10115.645 | N26: =IFERROR($H25/(IF($J$5="Worker",$K$13,$K$14)/'List Values'!$D$18), "No Data") -> 20231.289 | O26: =IFERROR($H25/(IF($J$5="Worker",$K$13,$K$14)/'List Values'!$D$19), "No Data") -> 404625.79 | P26: =IFERROR($H25/(IF($J$5="Worker",$K$13,$K$14)/'List Values'!$D$20), "No Data") -> 4046257.9 | Y26: Central Tendency | Z26: =VLOOKUP($R$25,'Health Data'!$F$14:$J$17,3,FALSE) -> 30 | AA26: =IFERROR($X26/AA$20, "Not Assessed") -> Not Assessed | AB26: =IFERROR($X25/AA$12, "") -> 667.55674 | AC26: =IFERROR($X25/AA$14, "") -> 3337.7837 | AD26: =IFERROR($X25/AA$16, "") -> 6675.5674 | AE26: =IFERROR($X25/AA$18, "") -> 13351.135
B27: Tox02 | C27: Chronic, Non-Cancer | D27: Liver | E27: Liver toxicity - Fatty changes in the liver, chronic inhalation (rat) | F27: {Nagano, 2007, 194127} | H27: =IF($L$5='List Values'!$D$23,VLOOKUP($B27,'Health Data'!$F$6:$I$8,2),VLOOKUP($B27,'Health Data'!$F$6:$I$8,3)) -> 31.1 | I27: High End | J27: =VLOOKUP(B27,'Health Data'!F6:K9,4,FALSE) -> 30 | K27: =IFERROR($H27/IF($J$5="Worker",$L$11, $L$12), "No Data") -> 10.65576 | L27: =IFERROR($H27/(IF($J$5="Worker",$L$11,$L$12)/'List Values'!$D$16), "No Data") -> 106.5576 | M27: =IFERROR($H27/(IF($J$5="Worker",$L$11,$L$12)/'List Values'!$D$17), "No Data") -> 266.39401 | N27: =IFERROR($H27/(IF($J$5="Worker",$L$11,$L$12)/'List Values'!$D$18), "No Data") -> 532.78802 | O27: =IFERROR($H27/(IF($J$5="Worker",$L$11,$L$12)/'List Values'!$D$19), "No Data") -> 10655.76 | P27: =IFERROR($H27/(IF($J$5="Worker",$L$11,$L$12)/'List Values'!$D$20), "No Data") -> 106557.6 | R27: Tox06 | S27: Chronic, Non-Cancer | T27: Liver | U27: Liver toxicity - Fatty changes in the liver, chronic inhalation (rat) | V27: {Nagano, 2007, 194127} | X27: =VLOOKUP($R27,'Health Data'!$F$14:$J$17,2,FALSE) -> 2.5 | Y27: High End | Z27: =VLOOKUP($R$27,'Health Data'!$F$14:$J$17,3,FALSE) -> 30 | AA27: =IFERROR($X27/AB$19, "Not Assessed") -> Not Assessed | AB27: =IFERROR($X27/AB$11, "") -> 2.2251891 | AC27: =IFERROR($X27/AB$13, "") -> 11.125946 | AD27: =IFERROR($X27/AB$15, "") -> 22.251891 | AE27: =IFERROR($X27/AB$17, "") -> 44.503783
I28: Central Tendancy | J28: =VLOOKUP(B27,'Health Data'!F6:K9,4,FALSE) -> 30 | K28: =IFERROR($H27/IF($J$5="Worker",$L$13,$L$14), "No Data") -> 34.955172 | L28: =IFERROR($H27/(IF($J$5="Worker",$L$13,$L$14)/('List Values'!$D$16)), "No Data") -> 349.55172 | M28: =IFERROR($H27/(IF($J$5="Worker",$L$13,$L$14)/'List Values'!$D$17), "No Data") -> 873.87931 | N28: =IFERROR($H27/(IF($J$5="Worker",$L$13,$L$14)/'List Values'!$D$18), "No Data") -> 1747.7586 | O28: =IFERROR($H27/(IF($J$5="Worker",$L$13,$L$14)/'List Values'!$D$19), "No Data") -> 34955.172 | P28: =IFERROR($H27/(IF($J$5="Worker",$L$13,$L$14)/'List Values'!$D$20), "No Data") -> 349551.72 | Y28: Central Tendency | Z28: =VLOOKUP($R$27,'Health Data'!$F$14:$J$17,3,FALSE) -> 30 | AA28: =IFERROR($X27/AB$20, "Not Assessed") -> Not Assessed | AB28: =IFERROR($X27/AB$12, "") -> 6.6755674 | AC28: =IFERROR($X27/AB$14, "") -> 33.377837 | AD28: =IFERROR($X27/AB$16, "") -> 66.755674 | AE28: =IFERROR($X27/AB$18, "") -> 133.51135
B29: Tox03 | C29: Chronic, Cancer | D29: Cancer | E29: Cancer - Nonlinear | F29: {U.S. EPA, 2010, 3490869} | H29: =VLOOKUP($B29,'Health Data'!$F$6:$K$9,2) -> 6 | I29: High End | J29: =VLOOKUP(B29,'Health Data'!F6:K9,4,FALSE) -> 300 | K29: =IF($J$5="Worker",IFERROR($H$29/$M11, "No Data"), IFERROR($H$29/$M12, "No Data")) -> 17.558363 | L29: =IF($J$5="Worker", IFERROR($H$29/$M11/'List Values'!$D$16, "No Data"), IFERROR($H$29/$M12/'List Values'!$D$16, "No Data")) -> 1.7558363 | M29: =IF($J$5="Worker",IFERROR($H$29/$M11/'List Values'!$D$17, "No Data"), IFERROR($H$29/$M12/'List Values'!$D$17, "No Data")) -> 0.70233453 | N29: =IF($J$5="Worker", IFERROR($H$29/$M11/'List Values'!$D$18, "No Data"), IFERROR($H$29/$M12/'List Values'!$D$18, "No Data")) -> 0.35116726 | O29: =IF($J$5="Worker", IFERROR($H$29/$M11/'List Values'!$D$19, "No Data"), IFERROR($H$29/$M12/'List Values'!$D$19, "No Data")) -> 0.017558363 | P29: =IF($J$5="Worker", IFERROR($H$29/$M11/'List Values'!$D$20, "No Data"), IFERROR($H$29/$M12/'List Values'!$D$20, "No Data")) -> 0.0017558363 | R29: Tox07 | S29: Chronic, Cancer | T29: Cancer | U29: Cancer - Nonlinear | V29: {U.S. EPA, 2010, 3490869} | X29: =VLOOKUP(R29,'Health Data'!$F$14:$J$17,2,FALSE) -> 1.4 | Y29: High End | Z29: =VLOOKUP($R$29,'Health Data'!$F$14:$J$17,3,FALSE) -> 300 | AA29: =IFERROR($X$29/$AC19, "Not Assessed") -> Not Assessed | AB29: =IFERROR($X$29/$AC11, "Not Assessed") -> 3.5476636 | AC29: =IFERROR($X$29/$AC13, "Not Assessed") -> 17.738318 | AD29: =IFERROR($X$29/$AC15, "Not Assessed") -> 35.476636 | AE29: =IFERROR($X$29/$AC17, "Not Assessed") -> 70.953271
I30: Central Tendancy | J30: =VLOOKUP(B29,'Health Data'!F6:K9,4,FALSE) -> 300 | K30: =IF($J$5="Worker", IFERROR($H$29/$M13, "No Data"), IFERROR($H$29/$M14, "No Data")) -> 74.320621 | L30: =IF($J$5="Worker", IFERROR($H$29/$M13/'List Values'!$D$16, "No Data"), IFERROR($H$29/$M14/'List Values'!$D$16, "No Data")) -> 7.4320621 | M30: =IF($J$5="Worker", IFERROR($H$29/$M13/'List Values'!$D$17, "No Data"), IFERROR($H$29/$M14/'List Values'!$D$17, "No Data")) -> 2.9728248 | N30: =IF($J$5="Worker", IFERROR($H$29/$M13/'List Values'!$D$18, "No Data"), IFERROR($H$29/$M14/'List Values'!$D$18, "No Data")) -> 1.4864124 | O30: =IF($J$5="Worker", IFERROR($H$29/$M13/'List Values'!$D$19, "No Data"), IFERROR($H$29/$M14/'List Values'!$D$19, "No Data")) -> 0.074320621 | P30: =IF($J$5="Worker", IFERROR($H$29/$M13/'List Values'!$D$20, "No Data"), IFERROR($H$29/$M14/'List Values'!$D$20, "No Data")) -> 0.0074320621 | Y30: Central Tendency | Z30: =VLOOKUP($R$29,'Health Data'!$F$14:$J$17,3,FALSE) -> 300 | AA30: =IFERROR(X30/$AC20, "Not Assessed") -> Not Assessed | AB30: =IFERROR($X$29/$AC12, "Not Assessed") -> 13.732891 | AC30: =IFERROR($X$29/$AC14, "Not Assessed") -> 68.664456 | AD30: =IFERROR($X$29/$AC16, "Not Assessed") -> 137.32891 | AE30: =IFERROR($X$29/$AC18, "Not Assessed") -> 274.65782
B31: Tox04 | E31: Cancer - Linear | F31: {U.S. EPA, 2010, 3490869} | H31: =VLOOKUP(B31,'Health Data'!F6:K9,6) -> 0.006 | I31: High End | J31: =VLOOKUP(B31,'Health Data'!F6:K9,5,FALSE) -> 0.0001 | K31: =IF($J$5="Worker", IFERROR($M$11*$H$31, "No Data"), IFERROR($M$12*$H$31, "No Data")) -> 0.002050305 | L31: =IF($J$5="Worker", IFERROR($M$11*$H$31/('List Values'!$D16), "No Data"), IFERROR($M$12*$H$31/('List Values'!$D16), "No Data")) -> 0.0002050305 | M31: =IF($J$5="Worker", IFERROR($M$11*$H$31/('List Values'!$D17), "No Data"), IFERROR($M$12*$H$31/('List Values'!$D17), "No Data")) -> 8.20122e-05 | N31: =IF($J$5="Worker", IFERROR($M$11*$H$31/('List Values'!$D18), "No Data"), IFERROR($M$12*$H$31/('List Values'!$D18), "No Data")) -> 4.10061e-05 | O31: =IF($J$5="Worker", IFERROR($M$11*$H$31/('List Values'!$D19), "No Data"), IFERROR($M$12*$H$31/('List Values'!$D19), "No Data")) -> 2.050305e-06 | P31: =IF($J$5="Worker", IFERROR($M$11*$H$31/('List Values'!$D20), "No Data"), IFERROR($M$12*$H$31/('List Values'!$D20), "No Data")) -> 2.050305e-07 | R31: Tox08 | U31: Cancer Slope Factor | V31: {U.S. EPA, 2010, 3490869} | X31: =VLOOKUP($R31,'Health Data'!$F$14:$J$17,5,FALSE) -> 0.08 | Y31: High End | Z31: =VLOOKUP(R31,'Health Data'!$F$14:$J$17,4,FALSE) -> 0.0001 | AA31: =IFERROR($X31/AC$19, "Not Assessed") -> Not Assessed | AB31: =IFERROR($X31*$AC11, "") -> 0.031570074 | AC31: =IFERROR($X31*$AC13, "") -> 0.0063140148 | AD31: =IFERROR($X31*$AC15, "") -> 0.0031570074 | AE31: =IFERROR($X31*$AC17, "") -> 0.0015785037
I32: Central Tendency | J32: =VLOOKUP(B31,'Health Data'!F6:K9,5,FALSE) -> 0.0001 | K32: =IF($J$5="Worker", IFERROR($M$13*$H$31, "No Data"), IFERROR($M$14*$H$31, "No Data")) -> 0.00048438777 | L32: =IF($J$5="Worker", IFERROR($M$13*$H$31/('List Values'!$D$16), "No Data"), IFERROR($M$14*$H$31/('List Values'!$D$16), "No Data")) -> 4.8438777e-05 | M32: =IF($J$5="Worker", IFERROR($M$13*$H$31/('List Values'!$D$17), "No Data"), IFERROR($M$14*$H$31/('List Values'!$D$17), "No Data")) -> 1.9375511e-05 | N32: =IF($J$5="Worker", IFERROR($M$13*$H$31/('List Values'!$D$18), "No Data"), IFERROR($M$14*$H$31/('List Values'!$D$18), "No Data")) -> 9.6877555e-06 | O32: =IF($J$5="Worker", IFERROR($M$13*$H$31/('List Values'!$D$19), "No Data"), IFERROR($M$14*$H$31/('List Values'!$D$19), "No Data")) -> 4.8438777e-07 | P32: =IF($J$5="Worker", IFERROR($M$13*$H$31/('List Values'!$D$20), "No Data"), IFERROR($M$14*$H$31/('List Values'!$D$20), "No Data")) -> 4.8438777e-08 | Y32: Central Tendency | Z32: =VLOOKUP(R31,'Health Data'!$F$14:$J$17,4,FALSE) -> 0.0001 | AA32: =IFERROR($X32/AC$20, "Not Assessed") -> Not Assessed | AB32: =IFERROR($X31*$AC12, "") -> 0.0081556024 | AC32: =IFERROR($X31*$AC14, "") -> 0.0016311205 | AD32: =IFERROR($X31*$AC16, "") -> 0.00081556024 | AE32: =IFERROR($X31*$AC18, "") -> 0.00040778012
H56: Inhalation Cancer Risk Estimates | I56: =I31 -> High End | J56: =I32 -> Central Tendency
H57: No Respirator | I57: =K31 -> 0.002050305 | J57: =K32 -> 0.00048438777 | X57: Dermal Cancer Risk Estimates | Y57: =Y31 -> High End | Z57: =Y32 -> Central Tendency
H58: APF = 10 | I58: =L31 -> 0.0002050305 | J58: =L32 -> 4.8438777e-05 | X58: Occluded Exposure | Y58: =AA31 -> Not Assessed | Z58: =AA32 -> Not Assessed
H59: APF = 25 | I59: =M31 -> 8.20122e-05 | J59: =M32 -> 1.9375511e-05 | X59: No Gloves (PF = 1) | Y59: =AB31 -> 0.031570074 | Z59: =AB32 -> 0.0081556024
A60: = | H60: APF = 50 | I60: =N31 -> 4.10061e-05 | J60: =N32 -> 9.6877555e-06 | X60: Protective Gloves (PF = 5) | Y60: =AC31 -> 0.0063140148 | Z60: =AC32 -> 0.0016311205
H61: APF = 1,000 | I61: =O31 -> 2.050305e-06 | J61: =O32 -> 4.8438777e-07 | X61: Protective Gloves (Commercial uses, PF = 10) | Y61: =AD31 -> 0.0031570074 | Z61: =AD32 -> 0.00081556024
H62: APF = 10,000 | I62: =P31 -> 2.050305e-07 | J62: =P32 -> 4.8438777e-08 | X62: Protective Gloves (Industrial uses, PF = 20) | Y62: =AE31 -> 0.0015785037 | Z62: =AE32 -> 0.00040778012

Sheet Health Data
B2: Look-up Values and Risk Parameter Values
B4: Inhalation
C5: Toxicity Endpoint | E5: Study | F5: Code | G5: HEC 8-hr (mg/m3) | H5: HEC 12-hr (mg/m3) | I5: Benchmark MOE | J5: Benchmark | K5: IUR (m3/mg) | N5: Exposure Percentiles | O5: Target Cancer Risk Level
B6: Acute | C6: CNS | D6: Temporarily disabling effects | E6: {Davis, 1934, 3611} | F6: Tox01 | G6: 360 | H6: 310 | I6: 10 | K6: -- | N6: Central Tendancy | O6: =0.00001 -> 1e-05
B7: Chronic, Non-Cancer | C7: Liver | D7: Liver toxicity - Fatty changes in the liver, chronic inhalation (rat) | E7: {Nagano, 2007, 194127} | F7: Tox02 | G7: 31.1 | H7: 26.4 | I7: 30 | K7: --
B8: Chronic, Cancer | C8: Cancer | D8: Nonlinear approach | E8: {U.S. EPA, 2010, 3490869} | F8: Tox03 | G8: 6 | H8: -- | I8: 300 | K8: --
D9: Linear approach | E9: {U.S. EPA, 2010, 3490869} | F9: Tox04 | G9: -- | H9: -- | I9: -- | J9: =0.0001 -> 0.0001 | K9: =0.000006*1000 -> 0.006
N11: HEC conversion factor
B12: Dermal | N12: =O13/O14 -> 0.15895202 | P12: ppm/mg/m3
C13: Toxicity Endpoint | E13: Study | F13: Code | G13: HED (mg/kg-d) | H13: Benchmark MOE | I13: Benchmark | J13: IUR (kg-d/mg) | N13: Molar Volume | O13: 24.45 | P13: L/mol
B14: Acute | C14: Liver | D14: Histopathological changes in the liver, chronic inhalation (rat) | E14: {Nagano, 2007, 194127} | F14: Tox05 | G14: 250 | H14: 30 | J14: -- | N14: MW | O14: 153.82 | P14: g/mol
B15: Chronic, Non-Cancer | C15: Liver | D15: Liver toxicity - Fatty changes in the liver, chronic inhalation (rat) | E15: {Nagano, 2007, 194127} | F15: Tox06 | G15: 2.5 | H15: 30 | J15: --
B16: Chronic, Cancer | C16: Cancer | D16: Nonlinear approach | E16: {U.S. EPA, 2010, 3490869} | F16: Tox07 | G16: 1.4 | H16: 300 | J16: --
D17: Cancer Slope Factor | E17: {U.S. EPA, 2010, 3490869} | F17: Tox08 | G17: -- | H17: -- | I17: =0.0001 -> 0.0001 | J17: 0.08

Sheet Dermal Crosswalk
A3: Look-up Name | B3: Condition of Use | C3: Bin | D3: Max Yderm | E3: Occlusion Considered? | F3: Fraction Absorbed, fabs | G3: Occluded Fraction Absorbed
A4: Manufacturing - 8-hr TWA | B4: Manufacturing - 8-hr TWA | C4: 1 | D4: 1 | E4: No | F4: 0.04 | G4: =IF(E4="Yes",1,"N/A") -> N/A
A5: Manufacturing - 12-hr TWA | B5: Manufacturing - 12-hr TWA | C5: 1 | D5: 1 | E5: No | F5: 0.04 | G5: =IF(E5="Yes",1,"N/A") -> N/A
A6: Import/Repackaging | B6: Import/Repackaging | C6: 1 | D6: 1 | E6: No | F6: 0.04 | G6: =IF(E6="Yes",1,"N/A") -> N/A
A7: Processing as Reactant - 8-hr TWA | B7: Processing as Reactant - 8-hr TWA | C7: 1 | D7: 1 | E7: No | F7: 0.04 | G7: =IF(E7="Yes",1,"N/A") -> N/A
A8: Processing as Reactant - 12-hr TWA | B8: Processing as Reactant - 12-hr TWA | C8: 1 | D8: 1 | E8: No | F8: 0.04 | G8: =IF(E8="Yes",1,"N/A") -> N/A
A9: Industrial Processing Aid | B9: Industrial Processing Aid | C9: 1 | D9: 1 | E9: No | F9: 0.04 | G9: =IF(E9="Yes",1,"N/A") -> N/A
A10: Additive | B10: Additive | C10: 1 | D10: 1 | E10: No | F10: 0.04 | G10: =IF(E10="Yes",1,"N/A") -> N/A
A11: Waste Handling | B11: Waste Handling | C11: 1 | D11: 1 | E11: No | F11: 0.04 | G11: =IF(E11="Yes",1,"N/A") -> N/A
A12: Specialty Uses - DoD | B12: Specialty Uses - DoD | C12: 1 | D12: 1 | E12: No | F12: 0.04 | G12: =IF(E12="Yes",1,"N/A") -> N/A

Sheet Dermal Exposure
A2: For Dashboard | G2: Dermal Calculation Numbers | N2: Calculated Doses
D3: Exposure Category | E3: Exposure Level | G3: Max Yderm | H3: Calculated Fraction Absorbed, Fabs | I3: Exposure Frequency (EF) (days/yr) | J3: Exposure Frequency (FT) (event/day) | K3: 2-Hand Surface Area (cm2) | L3: Body Weight (kg) | M3: Quantity Remaining on Skin (Qu) (mg/cm2-event) | N3: Acute Potential Dose Rate | O3: Acute Retained Dose | P3: Chronic Retained Dose, Non-Cancer | Q3: Chronic Retained Dose, Cancer
A5: Look-up Name | B5: Condition of Use | C5: Worker Type | F5: Bin | N5: APDRexp (mg/day) | O5: ARDCCl4 (mg/kg-day) | P5: CRDCCl4 (mg/kg-day) | Q5: CRDCCl4 (mg/kg-day)
A6: =Dashboard!$C$5 -> Manufacturing - 8-hr TWA | B6: =VLOOKUP($A6,'Dermal Crosswalk'!$A$4:$G$12,2,FALSE) -> Manufacturing - 8-hr TWA | C6: =Dashboard!$M$5 -> Average Adult Worker | D6: No Gloves | E6: High End | F6: =VLOOKUP($A6,'Dermal Crosswalk'!$A$4:$G$12,3,FALSE) -> 1 | G6: =VLOOKUP($A6,'Dermal Crosswalk'!$A$4:$G$12,4,FALSE) -> 1 | H6: =IF($D6="No Gloves",VLOOKUP($A6,'Dermal Crosswalk'!$A$4:$G$12,6,FALSE),VLOOKUP($A6,'Dermal Crosswalk'!$A$4:$G$12,7,FALSE)) -> 0.04 | I6: =VLOOKUP(A6,'Inhalation Exposure'!$C$5:$R$26,MATCH($E6,'Inhalation Exposure'!$F$4:$G$4,0)+3,FALSE) -> 250 | J6: 1 | K6: =HLOOKUP($C6,'Exposure Factors'!$C$4:$D$10,MATCH($E6,'Exposure Factors'!$E$6:$E$7,0)+2,FALSE) -> 1070 | L6: =HLOOKUP($C6,'Exposure Factors'!$C$4:$D$10,2,FALSE) -> 80 | M6: 2.1 | N6: =IFERROR(K6*M6*H6*G6*J6,"Not Assessed") -> 89.88 | O6: =IFERROR($N6/L6,"Not Assessed") -> 1.1235 | P6: =IFERROR($O6*$I6*HLOOKUP($C6,'Exposure Factors'!$C$4:$D$10,MATCH($E6,'Exposure Factors'!$E$8:$E$9,0)+4,FALSE)/(250*HLOOKUP($C6,'Exposure Factors'!$C$4:$D$10,MATCH($E6,'Exposure Factors'!$E$8:$E$9,0)+4,FALSE)),"Not Assessed") -> 1.1235 | Q6: =IFERROR($O6*$I6*HLOOKUP($C6,'Exposure Factors'!$C$4:$D$10,MATCH($E6,'Exposure Factors'!$E$8:$E$9,0)+4,FALSE)/(365*HLOOKUP($C6,'Exposure Factors'!$C$4:$D$10,7,FALSE)),"Not Assessed") -> 0.39462592
A7: =Dashboard!$C$5 -> Manufacturing - 8-hr TWA | B7: =VLOOKUP($A7,'Dermal Crosswalk'!$A$4:$G$12,2,FALSE) -> Manufacturing - 8-hr TWA | C7: =Dashboard!$M$5 -> Average Adult Worker | D7: No Gloves | E7: Central Tendency | F7: =VLOOKUP($A7,'Dermal Crosswalk'!$A$4:$G$12,3,FALSE) -> 1 | G7: =VLOOKUP($A7,'Dermal Crosswalk'!$A$4:$G$12,4,FALSE) -> 1 | H7: =IF($D7="No Gloves",VLOOKUP($A7,'Dermal Crosswalk'!$A$4:$G$12,6,FALSE),VLOOKUP($A7,'Dermal Crosswalk'!$A$4:$G$12,7,FALSE)) -> 0.04 | I7: =VLOOKUP(A7,'Inhalation Exposure'!$C$5:$R$26,MATCH($E7,'Inhalation Exposure'!$F$4:$G$4,0)+3,FALSE) -> 250 | J7: 1 | K7: =HLOOKUP($C7,'Exposure Factors'!$C$4:$D$10,MATCH($E7,'Exposure Factors'!$E$6:$E$7,0)+2,FALSE) -> 535 | L7: =HLOOKUP($C7,'Exposure Factors'!$C$4:$D$10,2,FALSE) -> 80 | M7: 1.4 | N7: =IFERROR(K7*M7*H7*G7*J7,"Not Assessed") -> 29.96 | O7: =IFERROR($N7/L7,"Not Assessed") -> 0.3745 | P7: =IFERROR($O7*$I7*HLOOKUP($C7,'Exposure Factors'!$C$4:$D$10,MATCH($E7,'Exposure Factors'!$E$8:$E$9,0)+4,FALSE)/(250*HLOOKUP($C7,'Exposure Factors'!$C$4:$D$10,MATCH($E7,'Exposure Factors'!$E$8:$E$9,0)+4,FALSE)),"Not Assessed") -> 0.3745 | Q7: =IFERROR($O7*$I7*HLOOKUP($C7,'Exposure Factors'!$C$4:$D$10,MATCH($E7,'Exposure Factors'!$E$8:$E$9,0)+4,FALSE)/(365*HLOOKUP($C7,'Exposure Factors'!$C$4:$D$10,7,FALSE)),"Not Assessed") -> 0.10194503
A8: =Dashboard!$C$5 -> Manufacturing - 8-hr TWA | B8: =VLOOKUP($A8,'Dermal Crosswalk'!$A$4:$G$12,2,FALSE) -> Manufacturing - 8-hr TWA | C8: =Dashboard!$M$5 -> Average Adult Worker | D8: Occluded Exposure | E8: High End | F8: =VLOOKUP($A8,'Dermal Crosswalk'!$A$4:$G$12,3,FALSE) -> 1 | G8: =VLOOKUP($A8,'Dermal Crosswalk'!$A$4:$G$12,4,FALSE) -> 1 | H8: =IF($D8="No Gloves",VLOOKUP($A8,'Dermal Crosswalk'!$A$4:$G$12,6,FALSE),VLOOKUP($A8,'Dermal Crosswalk'!$A$4:$G$12,7,FALSE)) -> N/A | I8: =VLOOKUP(A8,'Inhalation Exposure'!$C$5:$R$26,MATCH($E8,'Inhalation Exposure'!$F$4:$G$4,0)+3,FALSE) -> 250 | J8: 1 | K8: =HLOOKUP($C8,'Exposure Factors'!$C$4:$D$10,MATCH($E8,'Exposure Factors'!$E$6:$E$7,0)+2,FALSE) -> 1070 | L8: =HLOOKUP($C8,'Exposure Factors'!$C$4:$D$10,2,FALSE) -> 80 | M8: 2.1 | N8: =IFERROR(K8*M8*H8*G8*J8,"Not Assessed") -> Not Assessed | O8: =IFERROR($N8/L8,"Not Assessed") -> Not Assessed | P8: =IFERROR($O8*$I8*HLOOKUP($C8,'Exposure Factors'!$C$4:$D$10,MATCH($E8,'Exposure Factors'!$E$8:$E$9,0)+4,FALSE)/(250*HLOOKUP($C8,'Exposure Factors'!$C$4:$D$10,MATCH($E8,'Exposure Factors'!$E$8:$E$9,0)+4,FALSE)),"Not Assessed") -> Not Assessed | Q8: =IFERROR($O8*$I8*HLOOKUP($C8,'Exposure Factors'!$C$4:$D$10,MATCH($E8,'Exposure Factors'!$E$8:$E$9,0)+4,FALSE)/(365*HLOOKUP($C8,'Exposure Factors'!$C$4:$D$10,7,FALSE)),"Not Assessed") -> Not Assessed
A9: =Dashboard!$C$5 -> Manufacturing - 8-hr TWA | B9: =VLOOKUP($A9,'Dermal Crosswalk'!$A$4:$G$12,2,FALSE) -> Manufacturing - 8-hr TWA | C9: =Dashboard!$M$5 -> Average Adult Worker | D9: Occluded Exposure | E9: Central Tendency | F9: =VLOOKUP($A9,'Dermal Crosswalk'!$A$4:$G$12,3,FALSE) -> 1 | G9: =VLOOKUP($A9,'Dermal Crosswalk'!$A$4:$G$12,4,FALSE) -> 1 | H9: =IF($D9="No Gloves",VLOOKUP($A9,'Dermal Crosswalk'!$A$4:$G$12,6,FALSE),VLOOKUP($A9,'Dermal Crosswalk'!$A$4:$G$12,7,FALSE)) -> N/A | I9: =VLOOKUP(A9,'Inhalation Exposure'!$C$5:$R$26,MATCH($E9,'Inhalation Exposure'!$F$4:$G$4,0)+3,FALSE) -> 250 | J9: 1 | K9: =HLOOKUP($C9,'Exposure Factors'!$C$4:$D$10,MATCH($E9,'Exposure Factors'!$E$6:$E$7,0)+2,FALSE) -> 535 | L9: =HLOOKUP($C9,'Exposure Factors'!$C$4:$D$10,2,FALSE) -> 80 | M9: 1.4 | N9: =IFERROR(K9*M9*H9*G9*J9,"Not Assessed") -> Not Assessed | O9: =IFERROR($N9/L9,"Not Assessed") -> Not Assessed | P9: =IFERROR($O9*$I9*HLOOKUP($C9,'Exposure Factors'!$C$4:$D$10,MATCH($E9,'Exposure Factors'!$E$8:$E$9,0)+4,FALSE)/(250*HLOOKUP($C9,'Exposure Factors'!$C$4:$D$10,MATCH($E9,'Exposure Factors'!$E$8:$E$9,0)+4,FALSE)),"Not Assessed") -> Not Assessed | Q9: =IFERROR($O9*$I9*HLOOKUP($C9,'Exposure Factors'!$C$4:$D$10,MATCH($E9,'Exposure Factors'!$E$8:$E$9,0)+4,FALSE)/(365*HLOOKUP($C9,'Exposure Factors'!$C$4:$D$10,7,FALSE)),"Not Assessed") -> Not Assessed
A10: For Risk Reduction (RR) Heat Map
A11: =RR!$H$5 -> Import/Repackaging | B11: =VLOOKUP($A11,'Dermal Crosswalk'!$A$4:$G$12,2,FALSE) -> Import/Repackaging | C11: =RR!$X$5 -> Average Adult Worker | D11: No Gloves | E11: High End | F11: =VLOOKUP($A11,'Dermal Crosswalk'!$A$4:$G$12,3,FALSE) -> 1 | G11: =VLOOKUP($A11,'Dermal Crosswalk'!$A$4:$G$12,4,FALSE) -> 1 | H11: =IF($D11="No Gloves",VLOOKUP($A11,'Dermal Crosswalk'!$A$4:$G$12,6,FALSE),VLOOKUP($A11,'Dermal Crosswalk'!$A$4:$G$12,7,FALSE)) -> 0.04 | I11: 250 | J11: 1 | K11: =HLOOKUP($C11,'Exposure Factors'!$C$4:$D$10,MATCH($E11,'Exposure Factors'!$E$6:$E$7,0)+2,FALSE) -> 1070 | L11: =HLOOKUP($C11,'Exposure Factors'!$C$4:$D$10,2,FALSE) -> 80 | M11: 2.1 | N11: =IFERROR(K11*M11*H11*G11*J11,"Not Assessed") -> 89.88 | O11: =IFERROR($N11/L11,"Not Assessed") -> 1.1235 | P11: =IFERROR($O11*$I11*HLOOKUP($C11,'Exposure Factors'!$C$4:$D$10,MATCH($E11,'Exposure Factors'!$E$8:$E$9,0)+4,FALSE)/(250*HLOOKUP($C11,'Exposure Factors'!$C$4:$D$10,MATCH($E11,'Exposure Factors'!$E$8:$E$9,0)+4,FALSE)),"Not Assessed") -> 1.1235 | Q11: =IFERROR($O11*$I11*HLOOKUP($C11,'Exposure Factors'!$C$4:$D$10,MATCH($E11,'Exposure Factors'!$E$8:$E$9,0)+4,FALSE)/(365*HLOOKUP($C11,'Exposure Factors'!$C$4:$D$10,7,FALSE)),"Not Assessed") -> 0.39462592
A12: =RR!$H$5 -> Import/Repackaging | B12: =VLOOKUP($A12,'Dermal Crosswalk'!$A$4:$G$12,2,FALSE) -> Import/Repackaging | C12: =RR!$X$5 -> Average Adult Worker | D12: No Gloves | E12: Central Tendency | F12: =VLOOKUP($A12,'Dermal Crosswalk'!$A$4:$G$12,3,FALSE) -> 1 | G12: =VLOOKUP($A12,'Dermal Crosswalk'!$A$4:$G$12,4,FALSE) -> 1 | H12: =IF($D12="No Gloves",VLOOKUP($A12,'Dermal Crosswalk'!$A$4:$G$12,6,FALSE),VLOOKUP($A12,'Dermal Crosswalk'!$A$4:$G$12,7,FALSE)) -> 0.04 | I12: 250 | J12: 1 | K12: =HLOOKUP($C12,'Exposure Factors'!$C$4:$D$10,MATCH($E12,'Exposure Factors'!$E$6:$E$7,0)+2,FALSE) -> 535 | L12: =HLOOKUP($C12,'Exposure Factors'!$C$4:$D$10,2,FALSE) -> 80 | M12: 1.4 | N12: =IFERROR(K12*M12*H12*G12*J12,"Not Assessed") -> 29.96 | O12: =IFERROR($N12/L12,"Not Assessed") -> 0.3745 | P12: =IFERROR($O12*$I12*HLOOKUP($C12,'Exposure Factors'!$C$4:$D$10,MATCH($E12,'Exposure Factors'!$E$8:$E$9,0)+4,FALSE)/(250*HLOOKUP($C12,'Exposure Factors'!$C$4:$D$10,MATCH($E12,'Exposure Factors'!$E$8:$E$9,0)+4,FALSE)),"Not Assessed") -> 0.3745 | Q12: =IFERROR($O12*$I12*HLOOKUP($C12,'Exposure Factors'!$C$4:$D$10,MATCH($E12,'Exposure Factors'!$E$8:$E$9,0)+4,FALSE)/(365*HLOOKUP($C12,'Exposure Factors'!$C$4:$D$10,7,FALSE)),"Not Assessed") -> 0.10194503
A13: =RR!$H$5 -> Import/Repackaging | B13: =VLOOKUP($A13,'Dermal Crosswalk'!$A$4:$G$12,2,FALSE) -> Import/Repackaging | C13: =RR!$X$5 -> Average Adult Worker | D13: Occluded Exposure | E13: High End | F13: =VLOOKUP($A13,'Dermal Crosswalk'!$A$4:$G$12,3,FALSE) -> 1 | G13: =VLOOKUP($A13,'Dermal Crosswalk'!$A$4:$G$12,4,FALSE) -> 1 | H13: =IF($D13="No Gloves",VLOOKUP($A13,'Dermal Crosswalk'!$A$4:$G$12,6,FALSE),VLOOKUP($A13,'Dermal Crosswalk'!$A$4:$G$12,7,FALSE)) -> N/A | I13: 250 | J13: 1 | K13: =HLOOKUP($C13,'Exposure Factors'!$C$4:$D$10,MATCH($E13,'Exposure Factors'!$E$6:$E$7,0)+2,FALSE) -> 1070 | L13: =HLOOKUP($C13,'Exposure Factors'!$C$4:$D$10,2,FALSE) -> 80 | M13: 2.1 | N13: =IFERROR(K13*M13*H13*G13*J13,"Not Assessed") -> Not Assessed | O13: =IFERROR($N13/L13,"Not Assessed") -> Not Assessed | P13: =IFERROR($O13*$I13*HLOOKUP($C13,'Exposure Factors'!$C$4:$D$10,MATCH($E13,'Exposure Factors'!$E$8:$E$9,0)+4,FALSE)/(250*HLOOKUP($C13,'Exposure Factors'!$C$4:$D$10,MATCH($E13,'Exposure Factors'!$E$8:$E$9,0)+4,FALSE)),"Not Assessed") -> Not Assessed | Q13: =IFERROR($O13*$I13*HLOOKUP($C13,'Exposure Factors'!$C$4:$D$10,MATCH($E13,'Exposure Factors'!$E$8:$E$9,0)+4,FALSE)/(365*HLOOKUP($C13,'Exposure Factors'!$C$4:$D$10,7,FALSE)),"Not Assessed") -> Not Assessed
A14: =RR!$H$5 -> Import/Repackaging | B14: =VLOOKUP($A14,'Dermal Crosswalk'!$A$4:$G$12,2,FALSE) -> Import/Repackaging | C14: =RR!$X$5 -> Average Adult Worker | D14: Occluded Exposure | E14: Central Tendency | F14: =VLOOKUP($A14,'Dermal Crosswalk'!$A$4:$G$12,3,FALSE) -> 1 | G14: =VLOOKUP($A14,'Dermal Crosswalk'!$A$4:$G$12,4,FALSE) -> 1 | H14: =IF($D14="No Gloves",VLOOKUP($A14,'Dermal Crosswalk'!$A$4:$G$12,6,FALSE),VLOOKUP($A14,'Dermal Crosswalk'!$A$4:$G$12,7,FALSE)) -> N/A | I14: 250 | J14: 1 | K14: =HLOOKUP($C14,'Exposure Factors'!$C$4:$D$10,MATCH($E14,'Exposure Factors'!$E$6:$E$7,0)+2,FALSE) -> 535 | L14: =HLOOKUP($C14,'Exposure Factors'!$C$4:$D$10,2,FALSE) -> 80 | M14: 1.4 | N14: =IFERROR(K14*M14*H14*G14*J14,"Not Assessed") -> Not Assessed | O14: =IFERROR($N14/L14,"Not Assessed") -> Not Assessed | P14: =IFERROR($O14*$I14*HLOOKUP($C14,'Exposure Factors'!$C$4:$D$10,MATCH($E14,'Exposure Factors'!$E$8:$E$9,0)+4,FALSE)/(250*HLOOKUP($C14,'Exposure Factors'!$C$4:$D$10,MATCH($E14,'Exposure Factors'!$E$8:$E$9,0)+4,FALSE)),"Not Assessed") -> Not Assessed | Q14: =IFERROR($O14*$I14*HLOOKUP($C14,'Exposure Factors'!$C$4:$D$10,MATCH($E14,'Exposure Factors'!$E$8:$E$9,0)+4,FALSE)/(365*HLOOKUP($C14,'Exposure Factors'!$C$4:$D$10,7,FALSE)),"Not Assessed") -> Not Assessed

Sheet Inhalation Exposure
D2: Exposure Scenario (if applicable) | F2: Exposure days | H2: Eight-Hour or Twelve-Hour TWA Exposures | J2: Acute Exposures | L2: Chronic, Non-Cancer Exposures | N2: Chronic, Cancer Exposures | P2: Data Points | Q2: Sources & Notes | R2: Data Type
H3: CCCl4, 8 or 12-hr TWA (mg/m3) | J3: ACCCl4, 8 or 12-hr TWA (mg/m3) | L3: ADCCCl4 (mg/m3) | N3: LADCCCl4 (mg/m3)
B4: OES Group | C4: Condition of Use | E4: Category | F4: High End | G4: Central Tendency | H4: High-End | I4: Central Tendency | J4: High-End | K4: Central Tendency | L4: High-End | M4: Central Tendency | N4: High-End | O4: Central Tendency
B5: 1 | C5: Manufacturing - 8-hr TWA | D5: 8-hr | E5: Worker | F5: 250 | G5: 250 | H5: =PERCENTILE('Manufacture_raw data'!$AE$12:$AE$384,0.95) -> 4.0379333 | I5: =PERCENTILE('Manufacture_raw data'!$AE$12:$AE$384,0.5) -> 0.75625432 | J5: =H5 -> 4.0379333 | K5: =I5 -> 0.75625432 | L5: =H5*ED_8*EF*WY_high/AT_ADC_high -> 4.0379333 | M5: =I5*ED_8*EF*WY_mid/AT_ADC_mid -> 0.75625432 | N5: =H5*ED_8*EF*WY_high/AT_LADC -> 0.47277055 | O5: =I5*ED_8*EF*WY_mid/AT_LADC -> 0.068621601 | P5: ='Manufacture_raw data'!$AR$7 -> 113 | Q5: HSIA, public comment EPA-HQ-OPPT-2016-0732-0027, 8-hr TWA discrete data | R5: Monitoring Data
B6: 1 | C6: Manufacturing - 8-hr TWA | D6: 8-hr | E6: ONU | F6: 250 | G6: 250 | H6: =MAX('Manufacture_raw data'!$AG$12:$AG$384) -> 1.006593 | I6: =H6/2 -> 0.50329652 | J6: =H6 -> 1.006593 | K6: =I6 -> 0.50329652 | L6: =H6*ED_8*EF*WY_high/AT_ADC_high -> 1.006593 | M6: =I6*ED_8*EF*WY_mid/AT_ADC_mid -> 0.50329652 | N6: =H6*ED_8*EF*WY_high/AT_LADC -> 0.11785424 | O6: =I6*ED_8*EF*WY_mid/AT_LADC -> 0.045668517 | P6: =COUNT('Manufacture_raw data'!AG11:AG383) -> 14 | Q6: HSIA, public comment EPA-HQ-OPPT-2019-0499-0022 | R6: Monitoring Data
B7: 1 | C7: Manufacturing - 12-hr TWA | D7: 12-hr | E7: Worker | F7: 250 | G7: 250 | H7: =PERCENTILE('Manufacture_raw data'!$AF$12:$AF$384,0.95) -> 4.8444912 | I7: =PERCENTILE('Manufacture_raw data'!$AF$12:$AF$384,0.5) -> 0.50329652 | J7: =H7 -> 4.8444912 | K7: =I7 -> 0.50329652 | L7: =H7*ED_12*EF*WY_high/AT_ADC_high_12 -> 4.8444912 | M7: =I7*ED_12*EF*WY_mid/AT_ADC_mid_12 -> 0.50329652 | N7: =H7*ED_12*EF*WY_high/AT_LADC -> 0.85080632 | O7: =I7*ED_12*EF*WY_mid/AT_LADC -> 0.068502776 | P7: ='Manufacture_raw data'!$AS7 -> 243 | Q7: HSIA, public comment EPA-HQ-OPPT-2016-0732-0027, 12-hr TWA discrete data | R7: Monitoring Data
