Workbook
Name ACI: 'Part I Introduction & CBI'!$S$82:$S$84
Name Aerosols: 'Part I Introduction & CBI'!$Q$82:$Q$83
Name Fire: 'Part I Introduction & CBI'!$P$82:$P$83
Name Foams: 'Part I Introduction & CBI'!$N$82:$N$95
Name RefAC: 'Part I Introduction & CBI'!$M$82:$M$99
Name Sectors: 'Part I Introduction & CBI'!$K$82:$K$89
Name Solvents: 'Part I Introduction & CBI'!$O$82:$O$84
Name Sterilants: 'Part I Introduction & CBI'!$R$82
Name Tobacco: 'Part I Introduction & CBI'!$T$82
Name YN: 'Part III General Information'!$N$218:$N$219

Sheet Part I Introduction & CBI
F3: AGENCY USE ONLY
C4: United States ENVIRONMENTAL PROTECTION AGENCY Washington, DC 20460 | F4: OMB Control No. 2060-0226 EPA Form No. 1265-14 (Rev. July 2020) | P4: X | Q4: Yes
C5: TSCA/SNAP ADDENDUM for Significant New Alternatives | F5: Expires: August 31, 2023 | Q5: No
C6: When completed send CBI and public versions of this form and attachments electronically via CD or USB drive (preferred), or print to: | F6: Date of Receipt:
F8: Case Number:
C10: Via US Postal Service: SNAP Document Control Officer U.S. EPA Mail Code: 6205T 1200 Pennsylvania Ave, NW Washington DC 20460 | E10: Via Delivery Service: SNAP Document Control Officer U.S. EPA Stratospheric Protection Division 4th Floor, 4355FF (MC 6205T) 1201 Constitution Ave., NW Washington, DC 20004
C13: Part I: Introduction and CBI Information
C14: Section A: Introduction
C16: GENERAL INSTRUCTIONS This form may be used in conjunction with the Premanufacture Notice (PMN) for new chemical substances (EPA Form 7710-25 (Rev. 1-19)) to submit chemicals for review under the Significant New Alternatives Policy (SNAP) program as alternatives to Class I and II ozone-depleting substances. In addition to the information provided in the Premanufacture Notice, the Agency is requesting submitters provide information on the following topics. This information will assist EPA in assessing the acceptability of the chemical as an alternative to ozone-depleting substances as required by Section 612 of the Clean Air Act. Please see the Instructions for the TSCA/SNAP Addendum (“Instructions”) for guidance on completing this form. The Instructions document is available at https://www.epa.gov/snap/submit-snap-substitute. To facilitate Agency review of alternatives, both this form and the complete PMN form (including the physical and chemical properties worksheet) must be filled out as completely as possible. Please provide all information requested to the extent that it is known or reasonably ascertainable. Make reasonable estimates if actual data are unavailable. Be sure to provide the PMN form as an attachment when submitting the TSCA/SNAP Addendum. This form contains a Response Checker that identifies questions that are missing responses. Please review the questions that are missing responses carefully to ensure that all required information is provided before submitting this form to EPA. Please note that this checker is not an indicator of whether EPA will consider the submission complete, but rather, this checker is an indicator of whether all questions have been answered prior to submission.
C18: Section B: Identification of Alternatives
C20: 1. Name of Alternative. Note: Additional information about the proposed substitute must be provided in Part III, Section A. | G20: CBI
J21: =IF(G21="X","[Bracket] the information you claim as confidential","")
C23: 2. Indicate the sector and end-use for which you are submitting this TSCA/SNAP Addendum.
C24: Sector(s) | D24: End-Use(s) | F24: If you chose "Other" as an end-use, please specify here. | G24: CBI
J25: =IF(G25="X","[Bracket] the information you claim as confidential","")
J26: =IF(G26="X","[Bracket] the information you claim as confidential","")
J27: =IF(G27="X","[Bracket] the information you claim as confidential","")
J28: =IF(G28="X","[Bracket] the information you claim as confidential","")
J29: =IF(G29="X","[Bracket] the information you claim as confidential","")
J30: =IF(G30="X","[Bracket] the information you claim as confidential","")
C32: 3. PMN Form. Is the PMN form provided as an attachment to this TSCA/SNAP Addendum? | G32: CBI
J33: =IF(G33="X","[Bracket] the information you claim as confidential","") | AZ33: Yes
C34: If no, please provide an explanation. | J34: =IF(G34="X","[Bracket] the information you claim as confidential","") | AZ34: No
C36: Section C: CONFIDENTIALITY CLAIMS | J36: =IF(G36="X","[Bracket] the information you claim as confidential","")
J37: =IF(G37="X","[Bracket] the information you claim as confidential","")
C38: Anyone submitting data which are to be treated as Clean Air Act Confidential Business Information (CBI), must assert and substantiate a claim of confidentiality at the time of the initial submission. All information claimed as CBI will be treated in a manner consistent with 40 CFR Part 2, Subpart B. Failure to assert and substantiate a claim of confidentiality at the time of submission may result in disclosure of information by the Agency without further notice. To assert a claim on this form, [bracket] the information you claim as confidential and mark the confidential box in the column on the right-side of the corresponding row. If any information is claimed as confidential, you must substantiate those claims below and provide both the confidential version and a “sanitized” version of this notice, including attachments, to EPA at the time of the initial submission. Information submitted as CBI may be accessed by companies designated as Authorized Representatives of the United States Environmental Protection Agency (EPA) under an EPA contract for the purpose of assisting EPA in the development and implementation of national regulations for the protection of stratospheric ozone, including the evaluation of SNAP Information Notices. These Authorized Representatives may have access to any information received by the Stratospheric Protection Division within the EPA’s Office of the Atmospheric Programs. Access to such information is necessary to ensure that these companies can complete the work required by the contract. Such Authorized Representatives of the Administrator are subject to the provisions of 42 U.S.C. 7414(c) respecting confidential business information as implemented by 40 CFR 2.301(h). | J38: =IF(G38="X","[Bracket] the information you claim as confidential","")
J39: =IF(G39="X","[Bracket] the information you claim as confidential","")
J40: =IF(G40="X","[Bracket] the information you claim as confidential","")
J41: =IF(G41="X","[Bracket] the information you claim as confidential","")
J42: =IF(G42="X","[Bracket] the information you claim as confidential","")
C51: For any portion of a submission that you claim as confidential, please provide the following information as part of the Statement of Data Confidentiality Claims.
C53: 1. Please provide the reasons why the cited passages qualify for confidential treatment.
C57: 2. If you assert that disclosure of this information would be likely to result in substantial harmful effects to you, describe those harmful effects and explain why they should be viewed as substantial.
C61: 3. Indicate the length of time—until a specific date or event, or permanently—for which the information should be treated as confidential.
C64: 4. Identify the measures you have taken to guard against undesired disclosure of this information.
C68: 5. Describe the extent to which the information has been disclosed, and what precautions have been taken in connection with these disclosures.
C72: 6. Are copies of any determinations of confidentiality previously made by EPA, other Federal agencies, or courts concerning this information enclosed?
C75: ADDITIONAL STATEMENT OF DATA CONFIDENTIALITY CLAIMS Please provide any additional information on confidentiality claims below.
K81: Sector | L81: Named Range | M81: Refrigeration and Air Conditioning | N81: Foam Blowing | O81: Cleaning Solvents | P81: Fire Suppression and Explosion Protection | Q81: Aerosols | R81: Sterilants | S81: Adhesives, Coatings, and Inks | T81: Tobacco Expansion | V81: Refrigeration and Air Conditioning | W81: Foam Blowing | X81: Cleaning Solvents | Y81: Fire Suppression and Explosion Protection | Z81: Aerosols | AA81: Sterilants | AB81: Adhesives, Coatings, and Inks | AC81: Tobacco Expansion
K82: Refrigeration and Air Conditioning | L82: RefAC | M82: Chillers (Commercial Comfort AC) | N82: Flexible Polyurethane | O82: Metals Cleaning | P82: Total Flooding Agents | Q82: Propellants | R82: Sterilants | S82: Adhesives | T82: Tobacco Expansion | V82: =COUNTIF($D$25:$E$30,M82) -> 0 | W82: =COUNTIF($D$25:$E$30,N82) -> 0 | X82: =COUNTIF($D$25:$E$30,O82) -> 0 | Y82: =COUNTIF($D$25:$E$30,P82) -> 0 | Z82: =COUNTIF($D$25:$E$30,Q82) -> 0 | AA82: =COUNTIF($D$25:$E$30,R82) -> 0 | AB82: =COUNTIF($D$25:$E$30,S82) -> 0 | AC82: =COUNTIF($D$25:$E$30,T82) -> 0
K83: Foam Blowing | L83: Foams | M83: Cold Storage Warehouses | N83: Integral Skin Polyurethane | O83: Electronics Cleaning | P83: Streaming Agents | Q83: Solvents | S83: Coatings | V83: =COUNTIF($D$25:$E$30,M83) -> 0 | W83: =COUNTIF($D$25:$E$30,N83) -> 0 | X83: =COUNTIF($D$25:$E$30,O83) -> 0 | Y83: =COUNTIF($D$25:$E$30,P83) -> 0 | Z83: =COUNTIF($D$25:$E$30,Q83) -> 0 | AB83: =COUNTIF($D$25:$E$30,S83) -> 0
K84: Cleaning Solvents | L84: Solvents | M84: Commercial Ice Machines | N84: Phenolic Insulation Board & Bunstock | O84: Precision Cleaning | S84: Inks | V84: =COUNTIF($D$25:$E$30,M84) -> 0 | W84: =COUNTIF($D$25:$E$30,N84) -> 0 | X84: =COUNTIF($D$25:$E$30,O84) -> 0 | AB84: =COUNTIF($D$25:$E$30,S84) -> 0
K85: Fire Suppression and Explosion Protection | L85: Fire | M85: Household Refrigerators and Freezers | N85: Polyolefin | V85: =COUNTIF($D$25:$E$30,M85) -> 0 | W85: =COUNTIF($D$25:$E$30,N85) -> 0
K86: Aerosols | L86: Aerosols | M86: Ice Skating Rinks | N86: Polystyrene: Extruded Boardstock & Billet | V86: =COUNTIF($D$25:$E$30,M86) -> 0 | W86: =COUNTIF($D$25:$E$30,N86) -> 0
K87: Sterilants | L87: Sterilants | M87: Industrial Process Air Conditioning | N87: Polystyrene: Extruded Sheet | V87: =COUNTIF($D$25:$E$30,M87) -> 0 | W87: =COUNTIF($D$25:$E$30,N87) -> 0
K88: Adhesives, Coatings, and Inks | L88: ACI | M88: Industrial Process Refrigeration (IPR) | N88: Rigid Polyurethane & Polyisocyanurate Laminated Boardstock | V88: =COUNTIF($D$25:$E$30,M88) -> 0 | W88: =COUNTIF($D$25:$E$30,N88) -> 0
K89: Tobacco Expansion | L89: Tobacco | M89: Mechanical Heat Transfer | N89: Rigid Polyurethane: Appliance | V89: =COUNTIF($D$25:$E$30,M89) -> 0 | W89: =COUNTIF($D$25:$E$30,N89) -> 0
C90: Paperwork Reduction Act Notice | M90: Motor Vehicle Air Conditioning | N90: Rigid Polyurethane: Commercial Refrigeration | V90: =COUNTIF($D$25:$E$30,M90) -> 0 | W90: =COUNTIF($D$25:$E$30,N90) -> 0
M91: Non-mechanical Heat Transfer | N91: Rigid Polyurethane: Marine Flotation Foam | V91: =COUNTIF($D$25:$E$30,M91) -> 0 | W91: =COUNTIF($D$25:$E$30,N91) -> 0
C92: OMB Control No. 2060-0226 | M92: Refrigerated Transport | N92: Rigid Polyurethane: Sandwich Panels | V92: =COUNTIF($D$25:$E$30,M92) -> 0 | W92: =COUNTIF($D$25:$E$30,N92) -> 0
C93: Approval expires August 31, 2023 | M93: Residential and Light Commercial Air Conditioning and Heat Pumps | N93: Rigid Polyurethane: Slabstock and Other | V93: =COUNTIF($D$25:$E$30,M93) -> 0 | W93: =COUNTIF($D$25:$E$30,N93) -> 0
M94: Residential Dehumidifiers | N94: Rigid Polyurethane: Spray | V94: =COUNTIF($D$25:$E$30,M94) -> 0 | W94: =COUNTIF($D$25:$E$30,N94) -> 0
C95: This collection of information is approved by OMB under the Paperwork Reduction Act, 44 U.S.C. 3501 et seq. (OMB Control No. 2060-0226). Responses to this collection of information are mandatory (40 CFR part 82, subpart G). An agency may not conduct or sponsor, and a person is not required to respond to, a collection of information unless it displays a currently valid OMB control number. The public reporting and recordkeeping burden for this collection of information is estimated to be 31 hours per response. Send comments on the Agency’s need this formation, the accuracy of the provided burden estimates and any suggested methods for minimizing respondent burden including through the use of automated collection techniques to the Director, Regulatory Support Division, U.S. Environmental Protection Agency (2821T), 1200 Pennsylvania Ave., NW, Washington, D.C. 20460. Include the OMB control number in any correspondence. Do not send the completed form to this address. | M95: Retail Food Refrigeration | N95: Other (specify) | V95: =COUNTIF($D$25:$E$30,M95) -> 0 | W95: =COUNTIF($D$25:$E$30,N95) -> 0
M96: Vending Machines | V96: =COUNTIF($D$25:$E$30,M96) -> 0
M97: Very Low Temperature Refrigeration | V97: =COUNTIF($D$25:$E$30,M97) -> 0
M98: Water Coolers | V98: =COUNTIF($D$25:$E$30,M98) -> 0
M99: Other (specify) | V99: =COUNTIF($D$25:$E$30,M99) -> 0

Sheet Part II Contact Information
J2: X
C3: United States ENVIRONMENTAL PROTECTION AGENCY Washington, DC 20460
C4: TSCA/SNAP ADDENDUM
C5: Part II: Contact Information
C7: Section A - Submitter Contact Information
C9: 1. Person Submitting Notice (in U.S.): Enter information for the official who signs the certification in Part VII Certification.
C10: Name of Authorized Official | D10: Title | E10: CBI
H11: =IF(E11="X","[Bracket] the information you claim as confidential","")
C12: Company/Organization | E12: CBI
H13: =IF(E13="X","[Bracket] the information you claim as confidential","")
C14: Mailing Address | D14: Telephone Number | E14: CBI
H15: =IF(E15="X","[Bracket] the information you claim as confidential","")
C16: Email Address | E16: CBI
H17: =IF(E17="X","[Bracket] the information you claim as confidential","")
C19: 2. Agent (if applicable): Complete only if you authorize an agent to assist you in preparing this notice. The agent must also sign the certification.
C20: Name of Authorized Official | D20: Title | E20: CBI
H21: =IF(E21="X","[Bracket] the information you claim as confidential","")
C22: Company/Organization | E22: CBI | I22: Yes
H23: =IF(E23="X","[Bracket] the information you claim as confidential","") | I23: No
C24: Mailing Address | D24: Telephone Number | E24: CBI
H25: =IF(E25="X","[Bracket] the information you claim as confidential","")
C26: Email Address | E26: CBI
H27: =IF(E27="X","[Bracket] the information you claim as confidential","")
C28: Is this person granted full access to Confidential Business Information?
C30: 3. Technical Contact (in U.S.): If applicable and if the technical contact is not the authorized agent, identify a person who can provide EPA with additional technical information on the substitute during the review period.
C31: Name of Authorized Official | D31: Title | E31: CBI
H32: =IF(E32="X","[Bracket] the information you claim as confidential","")
C33: Company/Organization | E33: CBI
H34: =IF(E34="X","[Bracket] the information you claim as confidential","")
C35: Mailing Address | D35: Telephone Number | E35: CBI
H36: =IF(E36="X","[Bracket] the information you claim as confidential","")
C37: Email Address | E37: CBI
H38: =IF(E38="X","[Bracket] the information you claim as confidential","")
C39: Is this person granted full access to Confidential Business Information?
C41: 4. Joint Submitter (if applicable): Identify the joint submitter, if any, who is authorized by the primary submitter to provide some of the information required in the notice.
C42: Name of Authorized Official | D42: Title | E42: CBI
H43: =IF(E43="X","[Bracket] the information you claim as confidential","")
C44: Company/Organization | E44: CBI
H45: =IF(E45="X","[Bracket] the information you claim as confidential","")
C46: Mailing Address | D46: Telephone Number | E46: CBI
H47: =IF(E47="X","[Bracket] the information you claim as confidential","")
C48: Email Address | E48: CBI
H49: =IF(E49="X","[Bracket] the information you claim as confidential","")
C50: Is this person granted full access to Confidential Business Information?
C53: CONFIDENTIALITY CLAIMS: All contacts listed on this page will be granted access to CBI, unless otherwise noted.

Sheet Part III General Information
O2: Yes
C3: United States ENVIRONMENTAL PROTECTION AGENCY Washington, DC 20460 | O3: No | T3: N | U3: Yes | V3: X
C4: TSCA/SNAP ADDENDUM | N4: X | T4: R | U4: No
C5: Part III: General Information | T5: N, R
C7: Section A: Alternative-Specific Information
C9: 1. Identify Proposed Substitute
C10: (a) Chemical name (preferably IUPAC nomenclature) | G10: (b) Percent composition (by weight) | H10: (c) Chemical Abstracts Service (CAS) registry number | I10: (d) Molecular formula | J10: CBI
M11: =IF(J11="X","[Bracket] the information you claim as confidential","")
M12: =IF(J12="X","[Bracket] the information you claim as confidential","")
M13: =IF(J13="X","[Bracket] the information you claim as confidential","")
M14: =IF(J14="X","[Bracket] the information you claim as confidential","")
M15: =IF(J15="X","[Bracket] the information you claim as confidential","")
M16: =IF(J16="X","[Bracket] the information you claim as confidential","")
C17: 2. Commercial/trade name(s) of alternative: | J17: CBI | M17: =IF(J17="X","[Bracket] the information you claim as confidential","")
M18: =IF(J18="X","[Bracket] the information you claim as confidential","")
M19: =IF(J19="X","[Bracket] the information you claim as confidential","")
C20: 3. Generic name: Provide a generic name that is specific enough to identify the substance uniquely and could potentially be used for listing the substitute in the Federal Register. | M20: =IF(J20="X","[Bracket] the information you claim as confidential","")
M21: =IF(J21="X","[Bracket] the information you claim as confidential","")
M22: =IF(J22="X","[Bracket] the information you claim as confidential","")
C23: 4. Ozone-depletion potential (ODP): Provide the 100-year ODP of the proposed substitute relative to CFC-11. If the substitute is a blend, provide the ODPs of the individual constituents. Reference the source for each ODP. | M23: =IF(J23="X","[Bracket] the information you claim as confidential","")
C24: Proposed substitute (If blend, include ODP of each constituent) | E24: (a) ODP relative to CFC-11 | G24: Information sources | J24: CBI | M24: =IF(J24="X","[Bracket] the information you claim as confidential","")
M25: =IF(J25="X","[Bracket] the information you claim as confidential","")
M26: =IF(J26="X","[Bracket] the information you claim as confidential","")
M27: =IF(J27="X","[Bracket] the information you claim as confidential","")
C28: (b) Provide any additional data on the ODP of the proposed substitute (e.g. chlorine or bromine loading potentials). Reference the source of this information and attach any supporting documentation. | G28: Supporting documentation attached? | H28: Attachment name | J28: CBI | M28: =IF(J28="X","[Bracket] the information you claim as confidential","")
M29: =IF(J29="X","[Bracket] the information you claim as confidential","")
M30: =IF(J30="X","[Bracket] the information you claim as confidential","")
C31: 5. Global Warming Characteristics: Provide the alternative's global warming potential relative to carbon dioxide over a 100-year time horizon and atmospheric lifetime. Reference the Fourth Assessment Report of the Intergovernmental Panel on Climate Change (IPCC AR4). Alternate sources may include the 2010 World Meteorological Organization (WMO) Scientific Assessment of Ozone Depletion or the peer-reviewed literature. If the substitute is a blend, provide the GWPs of the individual constituents and an estimate of the blend at its nominal composition. | M31: =IF(J31="X","[Bracket] the information you claim as confidential","")
C32: Proposed substitute (If blend, include GWP of each constituent) | D32: (a) 100-year GWP (Relative to carbon dioxide) | F32: (b) Atmospheric lifetime | H32: Information sources | J32: CBI | M32: =IF(J32="X","[Bracket] the information you claim as confidential","")
M33: =IF(J33="X","[Bracket] the information you claim as confidential","")
M34: =IF(J34="X","[Bracket] the information you claim as confidential","")
M35: =IF(J35="X","[Bracket] the information you claim as confidential","")
C36: (c) Provide any additional data on the GWP of the alternative, including infrared absorption spectrum and infrared absorption capacity. | E36: Supporting documentation attached? | F36: (d) If the proposed substitute or any components of a blend is captured as a byproduct of another manufacturing or industrial process, indicate the source of the alternative. | I36: Supporting documentation attached? | J36: CBI | M36: =IF(J36="X","[Bracket] the information you claim as confidential","")
M37: =IF(J37="X","[Bracket] the information you claim as confidential","")
C39: 6. VOC Status Information: | J39: CBI | M39: =IF(J39="X","[Bracket] the information you claim as confidential","")
C40: (a) Is the substitute exempt from the definition of volatile organic compound (VOC) under CAA regulations (see 40 CFR 51.100(s)) addressing the development of State Implementation Plans (SIPs) to attain and maintain the national ambient air quality standards? | M40: =IF(J40="X","[Bracket] the information you claim as confidential","") | P40: Yes
C41: (b) For blends, which components, if any, are exempt from the definition of VOC at 40 CFR 51.100(s)? | J41: CBI | M41: =IF(J41="X","[Bracket] the information you claim as confidential","") | P41: No
M42: =IF(J42="X","[Bracket] the information you claim as confidential","")
C43: (c) Has a petition for VOC exemption been submitted? If so, provide details below (e.g., date of submission). | J43: CBI | M43: =IF(J43="X","[Bracket] the information you claim as confidential","")
M44: =IF(J44="X","[Bracket] the information you claim as confidential","")
C45: (d) For compounds that are not VOC exempt, provide information on the reactivity of the compound(s) in the atmosphere, including the maximum incremental reactivity in grams of O3 per gram of VOC and the kOH (298 K) value. | J45: CBI | M45: =IF(J45="X","[Bracket] the information you claim as confidential","")
C46: Proposed Substitute/Component | F46: MIR (g O3/g VOC) | G46: kOH (298 K) value | H46: Other | I46: References | M46: =IF(J46="X","[Bracket] the information you claim as confidential","")
M47: =IF(J47="X","[Bracket] the information you claim as confidential","")
M48: =IF(J48="X","[Bracket] the information you claim as confidential","")
M49: =IF(J49="X","[Bracket] the information you claim as confidential","")
M50: =IF(J50="X","[Bracket] the information you claim as confidential","")
M51: =IF(J51="X","[Bracket] the information you claim as confidential","")
M52: =IF(I52="X","[Bracket] the information you claim as confidential","")
C53: 7. Byproducts: Describe any byproducts resulting from the manufacture or processing of the chemical alternative or chemicals used in the new alternative. If there are unidentified byproducts enter “unidentified.” Indicate when the byproduct is formed (e.g., during manufacturing, during processing) and the amount formed.
C54: (a) Byproduct Chemical Name | F54: (b) Percent Composition (by weight) | G54: (c) CAS registry number | H54: (d) When is product formed? | I54: (e) Amount Formed (g) | J54: CBI
M55: =IF(J55="X","[Bracket] the information you claim as confidential","")
M56: =IF(J56="X","[Bracket] the information you claim as confidential","")
M57: =IF(J57="X","[Bracket] the information you claim as confidential","")
M58: =IF(J58="X","[Bracket] the information you claim as confidential","")
M59: =IF(J59="X","[Bracket] the information you claim as confidential","")
M60: =IF(J60="X","[Bracket] the information you claim as confidential","")
M61: =IF(J61="X","[Bracket] the information you claim as confidential","")
M62: =IF(J62="X","[Bracket] the information you claim as confidential","")
M63: =IF(J63="X","[Bracket] the information you claim as confidential","")
M64: =IF(J64="X","[Bracket] the information you claim as confidential","")
C66: 8. Degradation Products: Describe any degradation products resulting from the use or disposal of the chemical alternative or chemicals used in the new alternative. If there are unidentified degradation products enter “unidentified.” Indicate when the degradation product is formed (e.g., during use, in contact with fire, following disposal) and the rate at which it is formed.
C67: (a) Degradation Product Chemical Name | F67: (b) Percent Composition (by weight) | G67: (c) CAS registry number | H67: (d) When is product formed? | I67: (e) Rate of Formation (g/s) | J67: CBI
M68: =IF(J68="X","[Bracket] the information you claim as confidential","")
M69: =IF(J69="X","[Bracket] the information you claim as confidential","")
M70: =IF(J70="X","[Bracket] the information you claim as confidential","")
M71: =IF(J71="X","[Bracket] the information you claim as confidential","")
M72: =IF(J72="X","[Bracket] the information you claim as confidential","")
C74: Section B: End-Use and Application Information | M74: =IF(J74="X","[Bracket] the information you claim as confidential","")
M75: =IF(J75="X","[Bracket] the information you claim as confidential","")
C76: 1. Specific End-Use(s): Identify each end-use that may be reasonably anticipated for the alternative. If the alternative is a refrigerant, indicate whether the refrigerant is a candidate for use in retrofits of existing equipment, for use in new equipment only, or both. Identify the ODS and other alternatives used in the end-use or application and the quantity of proposed substitute needed to replace it for each end use (i.e., the replacement ratio). For an explanation of each end-use and application visit the SNAP website: https://www.epa.gov/snap/snap-substitutes-sector. Note: If the proposed substitute can be used both as a retrofit and in new equipment, these uses should be treated as separate end-uses throughout this form. The applications listed below are not meant to be all-inclusive and do not reflect regulatory requirements. The purpose of defining these applications is to inform the Agency's understanding of how the alternative being submitted to SNAP will be used. | M76: =IF(J76="X","[Bracket] the information you claim as confidential","")
C77: Sector | D77: End-Use | E77: Application | F77: Mark all end-uses and applications that apply | G77: (a) New (N) Equipment, Retrofit (R)Equipment, or both (N,R)? Please disregard if proposed substitute is not a refrigerant. | H77: (b) ODS (and/or other substances) being replaced | I77: (c) Replacement ratio (lb: lb) | J77: CBI | M77: =IF(J77="X","[Bracket] the information you claim as confidential","")
C78: Refrigeration and Air Conditioning | D78: Chillers (Commercial Comfort AC) | E78: Centrifugal | M78: =IF(J78="X","[Bracket] the information you claim as confidential","")
E79: Positive Displacement Chillers (includes Reciprocating, Screw, Scroll, Rotary Compressors) | M79: =IF(J79="X","[Bracket] the information you claim as confidential","")
D80: Industrial Process Refrigeration (IPR) | M80: =IF(J80="X","[Bracket] the information you claim as confidential","")
D81: Industrial Process Air Conditioning | M81: =IF(J81="X","[Bracket] the information you claim as confidential","")
D82: Ice Skating Rinks | M82: =IF(J82="X","[Bracket] the information you claim as confidential","")
D83: Cold Storage Warehouses | E83: Food Refrigeration | M83: =IF(J83="X","[Bracket] the information you claim as confidential","")
E84: Non-Food Refrigeration | M84: =IF(J84="X","[Bracket] the information you claim as confidential","")
D85: Refrigerated Transport | E85: Refrigerated Trailers (Reefers) | M85: =IF(J85="X","[Bracket] the information you claim as confidential","")
E86: Refrigerated Shipping Containers | M86: =IF(J86="X","[Bracket] the information you claim as confidential","")
E87: Refrigeration Equipment within Ship holds | M87: =IF(J87="X","[Bracket] the information you claim as confidential","")
E88: Refrigeration Equipment within Light-Duty Vehicle (e.g., food delivery, ice cream truck) | M88: =IF(J88="X","[Bracket] the information you claim as confidential","")
D89: Retail Food Refrigeration | E89: Supermarket System, Direct | M89: =IF(J89="X","[Bracket] the information you claim as confidential","")
E90: Supermarket System, Indirect | M90: =IF(J90="X","[Bracket] the information you claim as confidential","")
E91: Low Temperature Stand-alone Units (< 0 °C) (e.g., self-contained equipment such as individual reach-in coolers, glass door merchandisers) | M91: =IF(J91="X","[Bracket] the information you claim as confidential","")
E92: Medium Temperature Stand-alone Units (>0 °C) (e.g., self-contained equipment such as individual reach-in coolers, glass door merchandisers) | M92: =IF(J92="X","[Bracket] the information you claim as confidential","")
E93: Remote Condensing Units for Walk-in Coolers or Multiple Reach-in Coolers | M93: =IF(J93="X","[Bracket] the information you claim as confidential","")
E94: Refrigerated Food Processing and Dispensing Equipment (e.g., ice cream makers, chilled beverage dispensers, frozen beverage dispensers) | M94: =IF(J94="X","[Bracket] the information you claim as confidential","")
D95: Vending Machines | M95: =IF(J95="X","[Bracket] the information you claim as confidential","")
D96: Drinking Water Coolers | E96: Water Fountain affixed to wall or ground | M96: =IF(J96="X","[Bracket] the information you claim as confidential","")
E97: Stand-alone Water Coolers | M97: =IF(J97="X","[Bracket] the information you claim as confidential","")
D98: Commercial Ice Machines | E98: Self-contained Ice Machines | M98: =IF(J98="X","[Bracket] the information you claim as confidential","")
E99: Ice Machines with remote condenser | M99: =IF(J99="X","[Bracket] the information you claim as confidential","")
D100: Household Refrigerators and Freezers | E100: Household Refrigerator and Freezers | M100: =IF(J100="X","[Bracket] the information you claim as confidential","")
E101: Small Refrigerators (e.g., chilled kitchen drawers, wine coolers, home beverage centers, and mini-fridges) | M101: =IF(J101="X","[Bracket] the information you claim as confidential","")
D102: Residential and Light Commercial Air Conditioning and Heat Pumps | E102: Room Air Conditioners (such as window units, packaged terminal air conditioners (PTAC) and heat pumps (PTHP), and portable self-contained air conditioners) | M102: =IF(J102="X","[Bracket] the information you claim as confidential","")
E103: Mini-Splits, Non-Ducted | M103: =IF(J103="X","[Bracket] the information you claim as confidential","")
E104: Multi-Splits, Non-Ducted | M104: =IF(J104="X","[Bracket] the information you claim as confidential","")
E105: Split-Systems, Ducted, Household (Central A/C) | M105: =IF(J105="X","[Bracket] the information you claim as confidential","")
E106: Split-Systems, Ducted, Light Commercial (Central A/C) | M106: =IF(J106="X","[Bracket] the information you claim as confidential","")
...

Sheet Part IV Sector-Specific
C3: United States ENVIRONMENTAL PROTECTION AGENCY Washington, DC 20460 | O3: N | T3: Yes
C4: TSCA/SNAP ADDENDUM | O4: R | T4: No
C5: Part IV: Sector-Specific Information
C7: Section A: Refrigeration and Air Conditioning | M7: yes | N7: X | O7: N/A
C9: 1. Application of Proposed Substitute. If the substitute is proposed for use in the refrigeration and air-conditioning sector (as specified in Part III, Section B, Number 1), please provide information on the equipment lifetime, charge size, associated room size, and associated equipment size anticipated. Note: If personal monitoring data is provided, you are not required to respond to questions (d) through (f) below.
C10: End-Use | D10: Application | E10: (a) Equipment Lifetime (years) | F10: (b) Typical charge size (kg) | G10: (c) Maximum charge size (kg) | H10: (d) Equipment capacity (kWh, tons) | I10: CBI
L11: =IF(I11="X","[Bracket] the information you claim as confidential","")
L12: =IF(I12="X","[Bracket] the information you claim as confidential","")
L13: =IF(I13="X","[Bracket] the information you claim as confidential","")
L14: =IF(I14="X","[Bracket] the information you claim as confidential","")
L15: =IF(I15="X","[Bracket] the information you claim as confidential","")
L16: =IF(I16="X","[Bracket] the information you claim as confidential","")
L17: =IF(I17="X","[Bracket] the information you claim as confidential","")
L18: =IF(I18="X","[Bracket] the information you claim as confidential","")
C19: End-Use | D19: Application | F19: (e) Typical room size (m3) | G19: (f) Minimum room size (m3) | H19: (g) Anticipated room air exchange rate (ACH) | I19: CBI
C20: =IF(C11="", "", C11) | D20: =IF(D11="","",D11) | L20: =IF(I20="X","[Bracket] the information you claim as confidential","")
C21: =IF(C12="", "", C12) | D21: =IF(D12="","",D12) | L21: =IF(I21="X","[Bracket] the information you claim as confidential","")
C22: =IF(C13="", "", C13) | D22: =IF(D13="","",D13) | L22: =IF(I22="X","[Bracket] the information you claim as confidential","")
C23: =IF(C14="", "", C14) | D23: =IF(D14="","",D14) | L23: =IF(I23="X","[Bracket] the information you claim as confidential","")
C24: =IF(C15="", "", C15) | D24: =IF(D15="","",D15) | L24: =IF(I24="X","[Bracket] the information you claim as confidential","")
C25: =IF(C16="", "", C16) | D25: =IF(D16="","",D16) | L25: =IF(I25="X","[Bracket] the information you claim as confidential","")
C26: =IF(C17="", "", C17) | D26: =IF(D17="","",D17) | L26: =IF(I26="X","[Bracket] the information you claim as confidential","")
C27: =IF(C18="", "", C18) | D27: =IF(D18="","",D18) | L27: =IF(I27="X","[Bracket] the information you claim as confidential","")
C29: 2. Additional End-Use Description: Please describe the specific uses for which you are applying. For example, what is the equipment layout and where is the refrigerant located? Is it a direct expansion unit and/or does it use a secondary loop? In what types of locations will the equipment be used (e.g., for refrigeration this could include supermarkets, convenience stores, and/or restaurants)? Is the equipment for low, medium or high temperature refrigeration or air conditioning? Is air conditioning for the purpose of human comfort cooling or another application? | I29: CBI | L29: =IF(I29="X","[Bracket] the information you claim as confidential","")
L30: =IF(I30="X","[Bracket] the information you claim as confidential","")
C32: 3. Compressor Oil: If the proposed substitute is a refrigerant, provide information on the chemical class of refrigerant oil you anticipate will be used (e.g., polyalkylene glycol, polyolester, mineral oil, etc.) and information on refrigerant/oil solubility. | I32: CBI | M32: =IF(I32="X","[Bracket] the information you claim as confidential","")
L33: =IF(I33="X","[Bracket] the information you claim as confidential","") | M33: =IF(I33="X","[Bracket] the information you claim as confidential","")
M34: =IF(J34="X","[Bracket] the information you claim as confidential","")
C35: Section B: Foam Blowing
C37: 1. Application of Proposed Substitute. If the substitute is proposed for use in the foam blowing sector (as specified in Part III, Section B, Number 1), please provide information on the amount of blowing agent, associated room size, and associated equipment size anticipated. Note: If you provide personal monitoring data, you are not required to respond to questions (c) through (e) below.
C38: End-Use | D38: (a) Typical amount of blowing agent (kg) | E38: (b) Maximum amount of blowing agent (kg) | F38: (c) Typical room size (m3) | G38: (d) Minimum room size (m3) | H38: (e) Anticipated room air exchange rate (ACH) | I38: CBI
L39: =IF(I39="X","[Bracket] the information you claim as confidential","")
L40: =IF(I40="X","[Bracket] the information you claim as confidential","")
L41: =IF(I41="X","[Bracket] the information you claim as confidential","")
L42: =IF(I42="X","[Bracket] the information you claim as confidential","")
L43: =IF(I43="X","[Bracket] the information you claim as confidential","")
L44: =IF(I44="X","[Bracket] the information you claim as confidential","")
L45: =IF(I45="X","[Bracket] the information you claim as confidential","")
L46: =IF(I46="X","[Bracket] the information you claim as confidential","")
C48: 2. Additional End-Use Description: Please describe the specific uses for which you are applying. For example, what type of material will be blown? What method or type of equipment is used for foam blowing? Who will be using the foam blowing agent/equipment? Will the foam blowing agent be used by consumers or restricted to commercial use? For spray foams, how many components are used? Will the alternative be used in high or low pressure spray foam? | I48: CBI
L49: =IF(I49="X","[Bracket] the information you claim as confidential","")
C51: Section C: Cleaning Solvents
C53: 1. Application of Proposed Substitute. If the substitute is proposed for use the cleaning solvent sector (as specified in Part III, Section B, Number 1), please provide information on the following. Note: If you provide personal monitoring data, you are not required to respond to questions (a) through (b) below.
C54: End-Use | D54: (a) Provide information on the leak-tightness of the equipment (e.g., typical and maximum leak rate of equipment) | G54: (b) Anticipated room air exchange rate (ACH) | I54: CBI
L55: =IF(I55="X","[Bracket] the information you claim as confidential","")
L56: =IF(I56="X","[Bracket] the information you claim as confidential","")
L57: =IF(I57="X","[Bracket] the information you claim as confidential","")
C58: 2. Additional End-Use Description: Please describe the specific uses for which you are applying. For example, what type of work pieces will be cleaned? What type of equipment will be used to perform cleaning (e.g., open top vapor degreaser, vacuum sealed equipment, conveyorized equipment)? Where will the cleaning occur (e.g., commercial or industrial setting)? Please note that this end-use does not include manual cleaning or textile cleaning. | I58: CBI | L58: =IF(I58="X","[Bracket] the information you claim as confidential","")
L59: =IF(I59="X","[Bracket] the information you claim as confidential","")
C61: 3. Compatibility: Provide information on the compatibility of the proposed substitute with metals and plastics. | I61: CBI
L62: =IF(I62="X","[Bracket] the information you claim as confidential","")
C64: Section D: Fire Suppression
C66: 1. Application of Proposed Substitute. If the substitute is proposed for use in the fire suppression and explosion protection sector (as specified in Part III, Section B, Number 1), please provide information on the charge size, associated room size, and associated equipment size anticipated. Note: If personal monitoring data is provided, you are not required to respond to questions (d) through (f) below.
C67: End-Use | D67: Application | F67: (a) Typical charge size (kg) | G67: (b) Maximum charge size (kg) | H67: (c) Identify the discharge rate (g/s) of the fire extinguishing device | I67: CBI
L68: =IF(I68="X","[Bracket] the information you claim as confidential","")
L69: =IF(I69="X","[Bracket] the information you claim as confidential","")
L70: =IF(I70="X","[Bracket] the information you claim as confidential","")
C71: End-Use | D71: Application | F71: (d) Typical room size (m3) | G71: (e) Minimum room size (m3) | H71: (f) Anticipated room air exchange rate (ACH) | I71: CBI
C72: =IF(C68="","",C68) | D72: =IF(D68="","",D68) | L72: =IF(I72="X","[Bracket] the information you claim as confidential","")
C73: =IF(C69="","",C69) | D73: =IF(D69="","",D69) | L73: =IF(I73="X","[Bracket] the information you claim as confidential","")
C74: =IF(C70="","",C70) | D74: =IF(D70="","",D70) | L74: =IF(I74="X","[Bracket] the information you claim as confidential","")
C76: 2. Additional End-Use Description: Please describe the specific uses for which you are applying. For example, what is the method of distribution (e.g., localized, sprinkler system, handheld, gaseous)? Is it a clean agent? Is the agent aerosolized? Where will the fire suppression system be installed (e.g., marine, aviation, data center)? Where will handheld extinguishers be intended for use (e.g., residential, commercial, aviation)? | I76: CBI
L77: =IF(I77="X","[Bracket] the information you claim as confidential","")
C79: Section E: Aerosols
C81: 1. Application of Proposed Substitute. If the substitute is proposed for use in the aerosols sector (as specified in Part III, Section B, Number 1), please provide information on the charge size and associated aerosols can size anticipated.
C82: End-Use | D82: Application | E82: (a) Typical amount of substitute per can (g) | F82: (b) Maximum amount of substitute per can (g) | G82: (c) Typical total weight of aerosol Can (g) | H82: (d) Maximum total weight of aerosol can (g) | I82: CBI
L83: =IF(I83="X","[Bracket] the information you claim as confidential","")
L84: =IF(I84="X","[Bracket] the information you claim as confidential","")
L85: =IF(I85="X","[Bracket] the information you claim as confidential","")
C87: 2. Additional End-Use Description: Please describe the specific uses for which you are applying. For example, in what type of products will the substitute be used (e.g., personal care, automotive, electrical contact cleaner, degreaser, medical adhesive spray, MDI)? | I87: CBI | L87: =IF(I87="X","[Bracket] the information you claim as confidential","")
L88: =IF(I88="X","[Bracket] the information you claim as confidential","")
L89: =IF(I89="X","[Bracket] the information you claim as confidential","")
C90: 3. Consumer Use: Please indicate whether the proposed substitute will be used for consumer use. If yes, describe the anticipated consumer applications. | I90: CBI
L91: =IF(I91="X","[Bracket] the information you claim as confidential","")
C93: Section F: Sterilants
C95: 1. Application of Proposed Substitute. If the substitute is proposed for use in the sterilants sector (as specified in Part III, Section B, Number 1), please provide information on the amount and associated room size anticipated.
C96: End-Use | D96: (a) Provide information on the leak-tightness of the equipment (e.g., maximum and typical leak rate of equipment) | G96: (b) Anticipated room air exchange rate (ACH) | I96: CBI
L97: =IF(I97="X","[Bracket] the information you claim as confidential","")
L98: =IF(I98="X","[Bracket] the information you claim as confidential","")
L99: =IF(I99="X","[Bracket] the information you claim as confidential","")
C101: 2. Additional End-Use Description: Please describe the specific uses for which you are applying. For example, how is the sterilant applied (e.g., sterilization chambers)? | I101: CBI
L102: =IF(I102="X","[Bracket] the information you claim as confidential","")
C104: Section G: Adhesives, Coatings & Inks
C106: 1. Application of Proposed Substitute. If the substitute is proposed for the adhesives, coatings, and inks sector (as specified in Part III, Section B, Number I), please provide information on the associated dispenser size anticipated for the proposed substitute in the proposed end-use(s).
C107: End-Use | D107: Application | E107: (a) Typical amount per dispenser (g or %) | F107: (b) Maximum amount per dispenser (g or %) | G107: (c) Typical total weight of dispenser (g) | H107: (d) Maximum total weight of dispenser (g) | I107: CBI
L108: =IF(I108="X","[Bracket] the information you claim as confidential","")
L109: =IF(I109="X","[Bracket] the information you claim as confidential","")
L110: =IF(I110="X","[Bracket] the information you claim as confidential","")
C112: 2. Additional End-Use Description: Please describe the specific use for which you are applying. For example, in what type of products will the substitute be used for adhesives (e.g., laminate, hardwood flooring, flexible foam, tire patch, metal to rubber, marine); coatings (e.g., metal coatings, wood stains, aerospace coating), or inks (e.g., flexographic printing, rotogravure printing)? What is the application method (e.g., spray gun, aerosol can, dip tank)? | I112: CBI
L113: =IF(I113="X","[Bracket] the information you claim as confidential","")
C115: 3. Consumer Use: Please indicate whether the proposed substitute will be used for consumer use. If yes, describe the anticipated consumer applications. | I115: CBI
L116: =IF(I116="X","[Bracket] the information you claim as confidential","")
C118: Note: Information claimed as confidential should be placed in [brackets] and marked as CBI. If information is claimed as CBI, then a public version of the submission must be submitted with the bracketed information redacted or removed.

Sheet Part V Additional Information
M2: X
C3: United States ENVIRONMENTAL PROTECTION AGENCY Washington, DC 20460
C4: Part V: Additional Information
C5: Please provide any additional information in this section.
C25: Note: Information claimed as confidential should be placed in [brackets] and marked as CBI. If information is claimed as CBI, then a public version of the submission must be submitted with the bracketed information redacted or removed.

Sheet Part VI Attachments
M2: X
C3: United States ENVIRONMENTAL PROTECTION AGENCY Washington, DC 20460
C4: TSCA/SNAP ADDENDUM
C5: Part VI: Attachments
C6: Identify attachments below. Select (X) in the CBI box next to any attachment that contains information you claim as confidential. The public version of the submission form must include the attachment name/citation at a minimum. All claims of confidentiality must be substantiated in Part I, Section C.
C7: # | D7: Attachment Name/Citation | E7: Associated Section of TSCA/SNAP Addendum (Part/Section/Question) | F7: Number of Pages | G7: CBI
D8: Pre-manufacture Notice or Significant New Use Notice
D9: Claim of TSCA CBI information as "Clean Air Act Confidential Business Information"
C35: Note: Information claimed as confidential should be placed in [brackets] and marked as CBI. If information is claimed as CBI, then a public version of the submission must be submitted with the bracketed information redacted or removed.

Sheet Response Checker
G2: Status Formulas | I2: Part I: INTRODUCTION AND CBI INFORMATION | K2: Refrigeration and Air Conditioning | L2: Foam Blowing | M2: Cleaning Solvents | N2: Fire Suppression and Explosion Protection | O2: Aerosols | P2: Sterilants | Q2: Adhesives, Coatings, and Inks | R2: Tobacco Expansion
C3: United States ENVIRONMENTAL PROTECTION AGENCY Washington, DC 20460 | K3: =COUNTIF('Part I Introduction & CBI'!$C$25:$C$30,K$2) -> 0 | L3: =COUNTIF('Part I Introduction & CBI'!$C$25:$C$30,L$2) -> 0 | M3: =COUNTIF('Part I Introduction & CBI'!$C$25:$C$30,M$2) -> 0 | N3: =COUNTIF('Part I Introduction & CBI'!$C$25:$C$30,N$2) -> 0 | O3: =COUNTIF('Part I Introduction & CBI'!$C$25:$C$30,O$2) -> 0 | P3: =COUNTIF('Part I Introduction & CBI'!$C$25:$C$30,P$2) -> 0 | Q3: =COUNTIF('Part I Introduction & CBI'!$C$25:$C$30,Q$2) -> 0 | R3: =COUNTIF('Part I Introduction & CBI'!$C$25:$C$30,R$2) -> 0
C4: RESPONSE CHECKER
C5: This checker identifies questions that are missing responses. Please review the questions that are missing responses carefully to ensure that all required information is provided before submitting this form to EPA. Please note that this checker is not an indicator of whether EPA will consider the submission complete, but rather, this checker is an indicator of whether all applicable questions have been answered prior to submission. You may determine that some questions are not applicable to your application, in which case it may be appropriate for the response checker to determine such questions to be incomplete. | I5: Part I: INTRODUCTION AND CBI INFORMATION
H6: =IF(O6=0,"Please fill out: "&O8&" "&O9&" "&O18,O6) -> Please fill out: 1. Name of Alternative 2. Indicate the sector and end-use for which you are submitting this TSCA/SNAP Addendum. 3. PMN Form. | I6: Section B: Identification of Alternatives | O6: =IF((COUNTIF(O8,"")+COUNTIF(O9,"")+COUNTIF(O18,""))=3,"Responses have been provided for all sections.",0) -> 0
C7: Part I: Introduction and CBI Information | K7: Number of cells | O7: Final Checker Incomplete sections?
C8: Section B: Identification of Alternatives | D8: =G8 -> Please fill out: 1. Name of Alternative 2. Indicate the sector and end-use for which you are submitting this TSCA/SNAP Addendum. 3. PMN Form. | G8: =H6 -> Please fill out: 1. Name of Alternative 2. Indicate the sector and end-use for which you are submitting this TSCA/SNAP Addendum. 3. PMN Form. | I8: 1. Name of Alternative | J8: =IF(COUNTA('Part I Introduction & CBI'!C21:F21)<K8,1,0) -> 1 | K8: 1 | O8: =IF(J8>0,I8,"") -> 1. Name of Alternative
C9: Section C: CONFIDENTIALITY CLAIMS | D9: =G9 -> Please fill out: 1. Please provide the reasons why the cited passages qualify for confidential treatment. 2. If you assert that disclosure of this information would be likely to result in substantial harmful effects to you, describe those harmful effects and explain why they should be viewed as substantial. 3. Indicate the length of time—until a specific date or event, or permanently—for which the information should be treated as confidential. 4. Identify the measures you have taken to guard against undesired disclosure of this information. 5. Describe the extent to which the information has been disclosed, and what precautions have been taken in connection with these disclosures.6. Are copies of any determinations of confidentiality previously made by EPA, other Federal agencies, or courts concerning this information enclosed? | G9: =H19 -> Please fill out: 1. Please provide the reasons why the cited passages qualify for confidential treatment. 2. If you assert that disclosure of this information would be likely to result in substantial harmful effects to you, describe those harmful effects and explain why they should be viewed as substantial. 3. Indicate the length of time—until a specific date or event, or permanently—for which the information should be treated as confidential. 4. Identify the measures you have taken to guard against undesired disclosure of this information. 5. Describe the extent to which the information has been disclosed, and what precautions have been taken in connection with these disclosures.6. Are copies of any determinations of confidentiality previously made by EPA, other Federal agencies, or courts concerning this information enclosed? | I9: 2. Indicate the sector and end-use for which you are submitting this TSCA/SNAP Addendum. | O9: =IF(SUM(I11,$N$11:$N$16)>0,I9,"") -> 2. Indicate the sector and end-use for which you are submitting this TSCA/SNAP Addendum.
I10: Counts if all cells in section are blank | J10: Counter "n" for each end use/application | K10: Finds nth instance of marked application | L10: Counts if blank: (b) End-Use | M10: Counts if blank: (c) If you chose "Other" as an end-use, please specify here.
C11: Part II: Contact Information | I11: =IF(COUNTA('Part I Introduction & CBI'!C25:F30)=0,1,0) -> 1 | J11: 1 | K11: =IFERROR(IF('Part I Introduction & CBI'!C25="",1,0),"") -> 1 | L11: =IFERROR(IF('Part I Introduction & CBI'!D25="",1,0),"") -> 1 | M11: =IFERROR(IF((COUNTA('Part I Introduction & CBI'!F25)=0),1,0),"") -> 1 | N11: =COUNTIFS(K11,0,L11,1,M11,1) -> 0
C12: Section A - Submitter Contact Information | D12: =G12 -> Please fill out: 1. Person Submitting Notice (in U.S.) 2. Agent (if applicable) 3. Technical Contact (in U.S.) 4. Joint Submitter (if applicable) | G12: =H29 -> Please fill out: 1. Person Submitting Notice (in U.S.) 2. Agent (if applicable) 3. Technical Contact (in U.S.) 4. Joint Submitter (if applicable) | J12: 2 | K12: =IFERROR(IF('Part I Introduction & CBI'!C26="",1,0),"") -> 1 | L12: =IFERROR(IF('Part I Introduction & CBI'!D26="",1,0),"") -> 1 | M12: =IFERROR(IF((COUNTA('Part I Introduction & CBI'!F26)=0),1,0),"") -> 1 | N12: =COUNTIFS(K12,0,L12,1,M12,1) -> 0
J13: 3 | K13: =IFERROR(IF('Part I Introduction & CBI'!C27="",1,0),"") -> 1 | L13: =IFERROR(IF('Part I Introduction & CBI'!D27="",1,0),"") -> 1 | M13: =IFERROR(IF((COUNTA('Part I Introduction & CBI'!F27)=0),1,0),"") -> 1 | N13: =COUNTIFS(K13,0,L13,1,M13,1) -> 0
C14: Part III: General Information | J14: 4 | K14: =IFERROR(IF('Part I Introduction & CBI'!C28="",1,0),"") -> 1 | L14: =IFERROR(IF('Part I Introduction & CBI'!D28="",1,0),"") -> 1 | M14: =IFERROR(IF((COUNTA('Part I Introduction & CBI'!F28)=0),1,0),"") -> 1 | N14: =COUNTIFS(K14,0,L14,1,M14,1) -> 0
C15: Section A: Alternative-Specific Information | D15: =G15 -> Please fill out: 1. Identify Proposed Substitute 2. Commercial/trade name(s) of alternative 3. Generic name 4. Ozone-depletion potential (ODP) 5. Global Warming Characteristics 6. VOC Status Information 7. Byproducts 8. Degradation Products | G15: =H37 -> Please fill out: 1. Identify Proposed Substitute 2. Commercial/trade name(s) of alternative 3. Generic name 4. Ozone-depletion potential (ODP) 5. Global Warming Characteristics 6. VOC Status Information 7. Byproducts 8. Degradation Products | J15: 5 | K15: =IFERROR(IF('Part I Introduction & CBI'!C29="",1,0),"") -> 1 | L15: =IFERROR(IF('Part I Introduction & CBI'!D29="",1,0),"") -> 1 | M15: =IFERROR(IF((COUNTA('Part I Introduction & CBI'!F29)=0),1,0),"") -> 1 | N15: =COUNTIFS(K15,0,L15,1,M15,1) -> 0
C16: Section B: End-Use and Application Information | D16: =G16 -> Please fill out: 2. End-Use Specific Standards 3. Technology Changes and Costs 4. Production and Market Share 5. Energy Efficiency | G16: =IF(O55=0,"Please fill out: "&H20&" "&H20&" "&H22&" "&H23&" "&H24&" "&H25&" "&H26&" "&H27&" "&O156&" "&O157&" "&O158&" "&O159,O55) -> Please fill out: 2. End-Use Specific Standards 3. Technology Changes and Costs 4. Production and Market Share 5. Energy Efficiency | J16: 6 | K16: =IFERROR(IF('Part I Introduction & CBI'!C30="",1,0),"") -> 1 | L16: =IFERROR(IF('Part I Introduction & CBI'!D30="",1,0),"") -> 1 | M16: =IFERROR(IF((COUNTA('Part I Introduction & CBI'!F30)=0),1,0),"") -> 1 | N16: =COUNTIFS(K16,0,L16,1,M16,1) -> 0
C17: Section C: Flammability | D17: =G17 -> Please fill out: 1. Flammability-Related Physical and Chemical Properties 2. Flammability Assessments and Test Data. For All Flammable Substitutes 2. Flammability Assessments and Test Data. For Refrigerants Only 3. Flammability Concerns and Mitigation | G17: =H161 -> Please fill out: 1. Flammability-Related Physical and Chemical Properties 2. Flammability Assessments and Test Data. For All Flammable Substitutes 2. Flammability Assessments and Test Data. For Refrigerants Only 3. Flammability Concerns and Mitigation | J17: Total | K17: =IF(COUNTIF(K11:K16,">"&0)=0,1,COUNTIF(K11:K16,">"&0)) -> 6
I18: 3. PMN Form. | J18: =IF((COUNTA('Part I Introduction & CBI'!C33:F33,'Part I Introduction & CBI'!E34:F34))<K18,1,0) -> 1 | K18: =IF('Part I Introduction & CBI'!C33="Yes",1,2) -> 2 | O18: =IF(J18>0,I18,"") -> 3. PMN Form.
C19: Part IV: Sector-Specific Information | G19: =IF(K3>0,"This sector was selected for the proposed substitute in Part I, Section B, Number 2. Please review the checker below.","This sector was not selected for the proposed substitute in Part I, Section B, Number 2.") -> This sector was not selected for the proposed substitute in Part I, Section B, Number 2. | H19: =IF(O19=0,"Please fill out: "&O21&" "&O22&" "&O23&" "&O24&" "&O25&""&O26,O19) -> Please fill out: 1. Please provide the reasons why the cited passages qualify for confidential treatment. 2. If you assert that disclosure of this information would be likely to result in substantial harmful effects to you, describe those harmful effects and explain why they should be viewed as substantial. 3. Indicate the length of time—until a specific date or event, or permanently—for which the information should be treated as confidential. 4. Identify the measures you have taken to guard against undesired disclosure of this information. 5. Describe the extent to which the information has been disclosed, and what precautions have been taken in connection with these disclosures.6. Are copies of any determinations of confidentiality previously made by EPA, other Federal agencies, or courts concerning this information enclosed? | I19: Section C: CONFIDENTIALITY CLAIMS | O19: =IF(COUNTIF(O21:O26,"")=6,"Responses have been provided for all sections.",0) -> 0
C20: Section A: Refrigeration and Air Conditioning | D20: =IF(K$3>0,$G$20,"This sector was not selected for the proposed substitute in Part I, Section B, Number 2.") -> This sector was not selected for the proposed substitute in Part I, Section B, Number 2. | G20: =H169 -> Please fill out: 1. Application of Proposed Substitute 2. Additional End-Use Description 3. Compressor Oil | H20: =IF(K$3>0,O57,"") | K20: Number of cells | O20: Final Checker Incomplete sections?
C21: Section B: Foam Blowing | D21: =IF(L$3>0,$G$21,"This sector was not selected for the proposed substitute in Part I, Section B, Number 2.") -> This sector was not selected for the proposed substitute in Part I, Section B, Number 2. | G21: =H175 -> Please fill out: 1. Application of Proposed Substitute 2. Additional End-Use Description | H21: =IF(L$3>0,O104,"") | I21: 1. Please provide the reasons why the cited passages qualify for confidential treatment. | J21: =IF((COUNTA('Part I Introduction & CBI'!C54:G55))<K21,1,0) -> 1 | K21: 1 | O21: =IF(J21>0,I21,"") -> 1. Please provide the reasons why the cited passages qualify for confidential treatment.
C22: Section C: Cleaning Solvents | D22: =IF(M$3>0,G22,"This sector was not selected for the proposed substitute in Part I, Section B, Number 2.") -> This sector was not selected for the proposed substitute in Part I, Section B, Number 2. | G22: =H180 -> Please fill out: 1. Application of Proposed Substitute 2. Additional End-Use Description 3. Compatibility | H22: =IF(M$3>0,O120,"") | I22: 2. If you assert that disclosure of this information would be likely to result in substantial harmful effects to you, describe those harmful effects and explain why they should be viewed as substantial. | J22: =IF(COUNTA('Part I Introduction & CBI'!C58:G59)=0,1,0) -> 1 | K22: NA | O22: =IF(J22>0,I22,"") -> 2. If you assert that disclosure of this information would be likely to result in substantial harmful effects to you, describe those harmful effects and explain why they should be viewed as substantial.
C23: Section D: Fire Suppression | D23: =IF(N$3>0,G23,"This sector was not selected for the proposed substitute in Part I, Section B, Number 2.") -> This sector was not selected for the proposed substitute in Part I, Section B, Number 2. | G23: =H185 -> Please fill out: 1. Application of Proposed Substitute 2. Additional End-Use Description | H23: =IF(N$3>0,O126,"") | I23: 3. Indicate the length of time—until a specific date or event, or permanently—for which the information should be treated as confidential. | J23: =IF(COUNTA('Part I Introduction & CBI'!C62:G62)=0,1,0) -> 1 | K23: NA | O23: =IF(J23>0,I23,"") -> 3. Indicate the length of time—until a specific date or event, or permanently—for which the information should be treated as confidential.
C24: Section E: Aerosols | D24: =IF(O$3>0,G24,"This sector was not selected for the proposed substitute in Part I, Section B, Number 2.") -> This sector was not selected for the proposed substitute in Part I, Section B, Number 2. | G24: =H189 -> Please fill out: 1. Application of Proposed Substitute 2. Additional End-Use Description 3. Consumer Use | H24: =IF(O$3>0,O132,"") | I24: 4. Identify the measures you have taken to guard against undesired disclosure of this information. | J24: =IF(COUNTA('Part I Introduction & CBI'!C65:G66)=0,1,0) -> 1 | K24: NA | O24: =IF(J24>0,I24,"") -> 4. Identify the measures you have taken to guard against undesired disclosure of this information.
C25: Section F: Sterilants | D25: =IF(P$3>0,G25,"This sector was not selected for the proposed substitute in Part I, Section B, Number 2.") -> This sector was not selected for the proposed substitute in Part I, Section B, Number 2. | G25: =H194 -> Please fill out: 1. Application of Proposed Substitute 2. Additional End-Use Description | H25: =IF(P$3>0,O141,"") | I25: 5. Describe the extent to which the information has been disclosed, and what precautions have been taken in connection with these disclosures. | J25: =IF(COUNTA('Part I Introduction & CBI'!C69:G70)=0,1,0) -> 1 | K25: NA | O25: =IF(J25>0,I25,"") -> 5. Describe the extent to which the information has been disclosed, and what precautions have been taken in connection with these disclosures.
C26: Section G: Adhesives, Coatings & Inks | D26: =IF(Q$3>0,G26,"This sector was not selected for the proposed substitute in Part I, Section B, Number 2.") -> This sector was not selected for the proposed substitute in Part I, Section B, Number 2. | G26: =H198 -> Please fill out: 1. Application of Proposed Substitute 2. Additional End-Use Description 3. Consumer Use | H26: =IF(Q$3>0,O145,"") | I26: 6. Are copies of any determinations of confidentiality previously made by EPA, other Federal agencies, or courts concerning this information enclosed? | J26: =IF(COUNTA('Part I Introduction & CBI'!C73)=0,1,0) -> 1 | K26: NA | O26: =IF(J26>0,I26,"") -> 6. Are copies of any determinations of confidentiality previously made by EPA, other Federal agencies, or courts concerning this information enclosed?
H27: =IF(R$3>0,O151,"")
I28: Part II: Contact Information
H29: =IF(O29=0,"Please fill out: "&O31&" "&O32&" "&O33&" "&O34,O29) -> Please fill out: 1. Person Submitting Notice (in U.S.) 2. Agent (if applicable) 3. Technical Contact (in U.S.) 4. Joint Submitter (if applicable) | I29: Section A - Submitter Contact Information | O29: =IF(COUNTIF(O31:O34,"")=4,"Responses have been provided for all sections.",0) -> 0
J30: Counts if number of empty cells is less than the number of columns per end use | K30: Number of columns in section | O30: Final Checker Incomplete sections?
I31: 1. Person Submitting Notice (in U.S.) | J31: =IF(COUNTA('Part II Contact Information'!C11:D11,'Part II Contact Information'!C13:D13,'Part II Contact Information'!C15:D15,'Part II Contact Information'!C17:D17)<($K31),1,0) -> 1 | K31: 6 | O31: =IF(J31>0,I31,"") -> 1. Person Submitting Notice (in U.S.)
I32: 2. Agent (if applicable) | J32: =IF(COUNTA('Part II Contact Information'!C21:D21,'Part II Contact Information'!C23:D23,'Part II Contact Information'!C25:D25,'Part II Contact Information'!C27:D27,'Part II Contact Information'!D28:E28)<($K32),1,0) -> 1 | K32: 7 | O32: =IF(J32>0,I32,"") -> 2. Agent (if applicable)
I33: 3. Technical Contact (in U.S.) | J33: =IF(COUNTA('Part II Contact Information'!C32:D32,'Part II Contact Information'!C34:D34,'Part II Contact Information'!C36:D36,'Part II Contact Information'!C38:D38,'Part II Contact Information'!D39:E39)<($K33),1,0) -> 1 | K33: 7 | O33: =IF(J33>0,I33,"") -> 3. Technical Contact (in U.S.)
I34: 4. Joint Submitter (if applicable) | J34: =IF(COUNTA('Part II Contact Information'!C43:D43,'Part II Contact Information'!C45:D45,'Part II Contact Information'!C47:D47,'Part II Contact Information'!C49:D49,'Part II Contact Information'!D50:E50)<($K34),1,0) -> 1 | K34: 7 | O34: =IF(J34>0,I34,"") -> 4. Joint Submitter (if applicable)
I36: Part III: General Information
H37: =IF(O37=0,"Please fill out: "&O38&" "&O47&" "&O48&" "&O49&" "&O50&" "&O51&" "&O52&" "&O53,O37) -> Please fill out: 1. Identify Proposed Substitute 2. Commercial/trade name(s) of alternative 3. Generic name 4. Ozone-depletion potential (ODP) 5. Global Warming Characteristics 6. VOC Status Information 7. Byproducts 8. Degradation Products | I37: Section A: Alternative-Specific Information | O37: =IF((COUNTIF(O38,"")+COUNTIF(O47:O53,""))=8,"Responses have been provided for all sections.",0) -> 0
I38: 1. Identify Proposed Substitute | O38: =IF(SUM(I40,$L$40:$N$44)>0,I38,"") -> 1. Identify Proposed Substitute
I39: Counts if all cells in section are blank | J39: Counter "n" for each end use/application | K39: Finds nth instance of marked application | L39: Counts if blank: (b) Percent composition (by weight) | M39: Counts if blank: (c) Chemical Abstracts Service (CAS) registry number | N39: Counts if blank: (d) Molecular formula
I40: =IF(COUNTA('Part III General Information'!C11:I15)<4,1,0) -> 1 | J40: 1 | K40: =IFERROR(SMALL(IF('Part III General Information'!$C$11:$F$15="X",ROW('Part III General Information'!$C$11:$F$15)-ROW('Part III General Information'!$C$10:$F$10),""),J40),"") | L40: =IFERROR(IF(INDEX('Part III General Information'!$G$11:$G$15,$K40)="",1,0),"") | M40: =IFERROR(IF(INDEX('Part III General Information'!$H$11:$H$15,$K40)="",1,0),"") | N40: =IFERROR(IF(INDEX('Part III General Information'!$I$11:$I$15,$K40)="",1,0),"")
J41: 2 | K41: =IFERROR(SMALL(IF('Part III General Information'!$C$11:$F$15="X",ROW('Part III General Information'!$C$11:$F$15)-ROW('Part III General Information'!$C$10:$F$10),""),J41),"") | L41: =IFERROR(IF(INDEX('Part III General Information'!$G$11:$G$15,$K41)="",1,0),"") | M41: =IFERROR(IF(INDEX('Part III General Information'!$H$11:$H$15,$K41)="",1,0),"") | N41: =IFERROR(IF(INDEX('Part III General Information'!$I$11:$I$15,$K41)="",1,0),"")
J42: 3 | K42: =IFERROR(SMALL(IF('Part III General Information'!$C$11:$F$15="X",ROW('Part III General Information'!$C$11:$F$15)-ROW('Part III General Information'!$C$10:$F$10),""),J42),"") | L42: =IFERROR(IF(INDEX('Part III General Information'!$G$11:$G$15,$K42)="",1,0),"") | M42: =IFERROR(IF(INDEX('Part III General Information'!$H$11:$H$15,$K42)="",1,0),"") | N42: =IFERROR(IF(INDEX('Part III General Information'!$I$11:$I$15,$K42)="",1,0),"")
J43: 4 | K43: =IFERROR(SMALL(IF('Part III General Information'!$C$11:$F$15="X",ROW('Part III General Information'!$C$11:$F$15)-ROW('Part III General Information'!$C$10:$F$10),""),J43),"") | L43: =IFERROR(IF(INDEX('Part III General Information'!$G$11:$G$15,$K43)="",1,0),"") | M43: =IFERROR(IF(INDEX('Part III General Information'!$H$11:$H$15,$K43)="",1,0),"") | N43: =IFERROR(IF(INDEX('Part III General Information'!$I$11:$I$15,$K43)="",1,0),"")
J44: 5 | K44: =IFERROR(SMALL(IF('Part III General Information'!$C$11:$F$15="X",ROW('Part III General Information'!$C$11:$F$15)-ROW('Part III General Information'!$C$10:$F$10),""),J44),"") | L44: =IFERROR(IF(INDEX('Part III General Information'!$G$11:$G$15,$K44)="",1,0),"") | M44: =IFERROR(IF(INDEX('Part III General Information'!$H$11:$H$15,$K44)="",1,0),"") | N44: =IFERROR(IF(INDEX('Part III General Information'!$I$11:$I$15,$K44)="",1,0),"")
J45: Total | K45: =IF(COUNTIF(K40:K44,">"&0)=0,1,COUNTIF(K40:K44,">"&0)) -> 1 | L45: =IFERROR(IF(INDEX('Part I Introduction & CBI'!$D$25:$E$30,#REF!)="",1,0),"") | M45: =IFERROR(IF(INDEX('Part I Introduction & CBI'!$F$25:$F$30,#REF!)="",1,0),"")
K46: Number of cells | O46: Final Checker Incomplete sections?
I47: 2. Commercial/trade name(s) of alternative | J47: =IF((COUNTA('Part III General Information'!C18:I18))<K47,1,0) -> 1 | K47: 1 | O47: =IF(J47>0,I47,"") -> 2. Commercial/trade name(s) of alternative
I48: 3. Generic name | J48: =IF((COUNTA('Part III General Information'!C21:J21))<K48,1,0) -> 1 | K48: 1 | O48: =IF(J48>0,I48,"") -> 3. Generic name
I49: 4. Ozone-depletion potential (ODP) | J49: =IF((COUNTA('Part III General Information'!C25:I25,'Part III General Information'!C29:I29))<K49,1,0) -> 1 | K49: 6 | O49: =IF(J49>0,I49,"") -> 4. Ozone-depletion potential (ODP)
I50: 5. Global Warming Characteristics | J50: =IF((COUNTA('Part III General Information'!C33:I33,'Part III General Information'!C37:I37))<K50,1,0) -> 1 | K50: 8 | O50: =IF(J50>0,I50,"") -> 5. Global Warming Characteristics
I51: 6. VOC Status Information | J51: =IF((COUNTA('Part III General Information'!I40,'Part III General Information'!C42:I42,'Part III General Information'!I43,'Part III General Information'!C44:I44,'Part III General Information'!C47:I47))<K51,1,0) -> 1 | K51: 9 | O51: =IF(J51>0,I51,"") -> 6. VOC Status Information
I52: 7. Byproducts | J52: =IF((COUNTA('Part III General Information'!C55:I55))<K52,1,0) -> 1 | K52: 5 | O52: =IF(J52>0,I52,"") -> 7. Byproducts
I53: 8. Degradation Products | J53: =IF((COUNTA('Part III General Information'!C68:I68))<K53,1,0) -> 1 | K53: 5 | O53: =IF(J53>0,I53,"") -> 8. Degradation Products
H55: =IF(O55=0,"Please fill out: "&O56&" "&O156&" "&O157&" "&O158&" "&P159,O55) -> Please fill out: 2. End-Use Specific Standards 3. Technology Changes and Costs 4. Production and Market Share | I55: Section B: End-Use and Application Information | O55: =IF((COUNTIF(O56,"")+COUNTIF(O156:O158,"")+COUNTIF(O159,"")=5),"Responses have been provided for all sections.",0) -> 0
I56: 1. Specific End-Use(s) | O56: =IF((COUNTIF(O57,"")+COUNTIF(O104,"")+COUNTIF(O120,"")+COUNTIF(O126, "")+COUNTIF(O132,"")+COUNTIF(O141,"")+COUNTIF(O145,"")+COUNTIF(O151,""))<8,I56,"")
I57: 1. Specific End-Use(s) Refrigeration and Air Conditioning | O57: =IF(K3>0, IF(SUM(I59,L59:N102)>0,I57,""), "")
I58: Counts if all cells in section are blank | J58: Counter "n" for each end use/application | K58: Finds nth instance of marked application | L58: Counts if blank: (a) New (N) Equipment, Retrofit (R)Equipment, or both (N,R)? Please disregard if proposed substitute is not a refrigerant. | M58: Counts if blank: (b) ODS (and/or other substances) being replaced | N58: Counts if blank: Replacement ratio (lb: lb)
I59: =IF(COUNTA('Part III General Information'!F78:I125)=0,1,0) -> 1 | J59: 1 | K59: {=IFERROR(SMALL(IF('Part III General Information'!$F$78:$F$125="X",ROW('Part III General Information'!$F$78:$F$125)-ROW('Part III General Information'!$F$77),""),J59),"")} | L59: =IFERROR(IF(INDEX('Part III General Information'!$G$78:$G$125,$K59)="",1,0),"") | M59: =IFERROR(IF(INDEX('Part III General Information'!$H$78:$H$125,$K59)="",1,0),"") | N59: =IFERROR(IF(INDEX('Part III General Information'!$I$78:$I$125,$K59)="",1,0),"")
J60: 2 | K60: {=IFERROR(SMALL(IF('Part III General Information'!$F$78:$F$125="X",ROW('Part III General Information'!$F$78:$F$125)-ROW('Part III General Information'!$F$77),""),J60),"")} | L60: =IFERROR(IF(INDEX('Part III General Information'!$G$78:$G$125,$K60)="",1,0),"") | M60: =IFERROR(IF(INDEX('Part III General Information'!$H$78:$H$125,$K60)="",1,0),"") | N60: =IFERROR(IF(INDEX('Part III General Information'!$I$78:$I$125,$K60)="",1,0),"")
J61: 3 | K61: {=IFERROR(SMALL(IF('Part III General Information'!$F$78:$F$125="X",ROW('Part III General Information'!$F$78:$F$125)-ROW('Part III General Information'!$F$77),""),J61),"")} | L61: =IFERROR(IF(INDEX('Part III General Information'!$G$78:$G$125,$K61)="",1,0),"") | M61: =IFERROR(IF(INDEX('Part III General Information'!$H$78:$H$125,$K61)="",1,0),"") | N61: =IFERROR(IF(INDEX('Part III General Information'!$I$78:$I$125,$K61)="",1,0),"")
J62: 4 | K62: {=IFERROR(SMALL(IF('Part III General Information'!$F$78:$F$125="X",ROW('Part III General Information'!$F$78:$F$125)-ROW('Part III General Information'!$F$77),""),J62),"")} | L62: =IFERROR(IF(INDEX('Part III General Information'!$G$78:$G$125,$K62)="",1,0),"") | M62: =IFERROR(IF(INDEX('Part III General Information'!$H$78:$H$125,$K62)="",1,0),"") | N62: =IFERROR(IF(INDEX('Part III General Information'!$I$78:$I$125,$K62)="",1,0),"")
J63: 5 | K63: {=IFERROR(SMALL(IF('Part III General Information'!$F$78:$F$125="X",ROW('Part III General Information'!$F$78:$F$125)-ROW('Part III General Information'!$F$77),""),J63),"")} | L63: =IFERROR(IF(INDEX('Part III General Information'!$G$78:$G$125,$K63)="",1,0),"") | M63: =IFERROR(IF(INDEX('Part III General Information'!$H$78:$H$125,$K63)="",1,0),"") | N63: =IFERROR(IF(INDEX('Part III General Information'!$I$78:$I$125,$K63)="",1,0),"")
J64: 6 | K64: {=IFERROR(SMALL(IF('Part III General Information'!$F$78:$F$125="X",ROW('Part III General Information'!$F$78:$F$125)-ROW('Part III General Information'!$F$77),""),J64),"")} | L64: =IFERROR(IF(INDEX('Part III General Information'!$G$78:$G$125,$K64)="",1,0),"") | M64: =IFERROR(IF(INDEX('Part III General Information'!$H$78:$H$125,$K64)="",1,0),"") | N64: =IFERROR(IF(INDEX('Part III General Information'!$I$78:$I$125,$K64)="",1,0),"")
J65: 7 | K65: {=IFERROR(SMALL(IF('Part III General Information'!$F$78:$F$125="X",ROW('Part III General Information'!$F$78:$F$125)-ROW('Part III General Information'!$F$77),""),J65),"")} | L65: =IFERROR(IF(INDEX('Part III General Information'!$G$78:$G$125,$K65)="",1,0),"") | M65: =IFERROR(IF(INDEX('Part III General Information'!$H$78:$H$125,$K65)="",1,0),"") | N65: =IFERROR(IF(INDEX('Part III General Information'!$I$78:$I$125,$K65)="",1,0),"")
J66: 8 | K66: {=IFERROR(SMALL(IF('Part III General Information'!$F$78:$F$125="X",ROW('Part III General Information'!$F$78:$F$125)-ROW('Part III General Information'!$F$77),""),J66),"")} | L66: =IFERROR(IF(INDEX('Part III General Information'!$G$78:$G$125,$K66)="",1,0),"") | M66: =IFERROR(IF(INDEX('Part III General Information'!$H$78:$H$125,$K66)="",1,0),"") | N66: =IFERROR(IF(INDEX('Part III General Information'!$I$78:$I$125,$K66)="",1,0),"")
J67: 9 | K67: {=IFERROR(SMALL(IF('Part III General Information'!$F$78:$F$125="X",ROW('Part III General Information'!$F$78:$F$125)-ROW('Part III General Information'!$F$77),""),J67),"")} | L67: =IFERROR(IF(INDEX('Part III General Information'!$G$78:$G$125,$K67)="",1,0),"") | M67: =IFERROR(IF(INDEX('Part III General Information'!$H$78:$H$125,$K67)="",1,0),"") | N67: =IFERROR(IF(INDEX('Part III General Information'!$I$78:$I$125,$K67)="",1,0),"")
J68: 10 | K68: {=IFERROR(SMALL(IF('Part III General Information'!$F$78:$F$125="X",ROW('Part III General Information'!$F$78:$F$125)-ROW('Part III General Information'!$F$77),""),J68),"")} | L68: =IFERROR(IF(INDEX('Part III General Information'!$G$78:$G$125,$K68)="",1,0),"") | M68: =IFERROR(IF(INDEX('Part III General Information'!$H$78:$H$125,$K68)="",1,0),"") | N68: =IFERROR(IF(INDEX('Part III General Information'!$I$78:$I$125,$K68)="",1,0),"")
J69: 11 | K69: {=IFERROR(SMALL(IF('Part III General Information'!$F$78:$F$125="X",ROW('Part III General Information'!$F$78:$F$125)-ROW('Part III General Information'!$F$77),""),J69),"")} | L69: =IFERROR(IF(INDEX('Part III General Information'!$G$78:$G$125,$K69)="",1,0),"") | M69: =IFERROR(IF(INDEX('Part III General Information'!$H$78:$H$125,$K69)="",1,0),"") | N69: =IFERROR(IF(INDEX('Part III General Information'!$I$78:$I$125,$K69)="",1,0),"")
J70: 12 | K70: {=IFERROR(SMALL(IF('Part III General Information'!$F$78:$F$125="X",ROW('Part III General Information'!$F$78:$F$125)-ROW('Part III General Information'!$F$77),""),J70),"")} | L70: =IFERROR(IF(INDEX('Part III General Information'!$G$78:$G$125,$K70)="",1,0),"") | M70: =IFERROR(IF(INDEX('Part III General Information'!$H$78:$H$125,$K70)="",1,0),"") | N70: =IFERROR(IF(INDEX('Part III General Information'!$I$78:$I$125,$K70)="",1,0),"")
J71: 13 | K71: {=IFERROR(SMALL(IF('Part III General Information'!$F$78:$F$125="X",ROW('Part III General Information'!$F$78:$F$125)-ROW('Part III General Information'!$F$77),""),J71),"")} | L71: =IFERROR(IF(INDEX('Part III General Information'!$G$78:$G$125,$K71)="",1,0),"") | M71: =IFERROR(IF(INDEX('Part III General Information'!$H$78:$H$125,$K71)="",1,0),"") | N71: =IFERROR(IF(INDEX('Part III General Information'!$I$78:$I$125,$K71)="",1,0),"")
... J102: 44 | K102: {=IFERROR(SMALL(IF('Part III General Information'!$F$78:$F$125="X",ROW('Part III General Information'!$F$78:$F$125)-ROW('Part III General Information'!$F$77),""),J102),"")} | L102: =IFERROR(IF(INDEX('Part III General Information'!$G$78:$G$125,$K102)="",1,0),"") | M102: =IFERROR(IF(INDEX('Part III General Information'!$H$78:$H$125,$K102)="",1,0),"") | N102: =IFERROR(IF(INDEX('Part III General Information'!$I$78:$I$125,$K102)="",1,0),"")
J103: Total | K103: =IF(COUNTIF(K59:K102,">"&0)=0,1,COUNTIF(K59:K102,">"&0)) -> 1
I104: 1. Specific End-Use(s) Foam Blowing | O104: =IF(L3>0,IF(SUM(I106,M106:N118)>0,I104,""), "")
I105: Counts if all cells in section are blank | J105: Counter "n" for each end use/application | K105: Finds nth instance of marked application | M105: Counts if blank: (b) ODS (and/or other substances) being replaced | N105: Counts if blank: Replacement ratio (lb: lb)
I106: =IF(COUNTA('Part III General Information'!F126:F139,'Part III General Information'!H126:I139)=0,1,0) -> 1 | J106: 1 | K106: {=IFERROR(SMALL(IF('Part III General Information'!$F$126:$F$139="X",ROW('Part III General Information'!$F$126:$F$139)-ROW('Part III General Information'!$F$125),""),J106),"")} | M106: =IFERROR(IF(INDEX('Part III General Information'!$H$126:$H$139,$K106)="",1,0),"") | N106: =IFERROR(IF(INDEX('Part III General Information'!$I$126:$I$139,$K106)="",1,0),"")
J107: 2 | K107: {=IFERROR(SMALL(IF('Part III General Information'!$F$126:$F$139="X",ROW('Part III General Information'!$F$126:$F$139)-ROW('Part III General Information'!$F$125),""),J107),"")} | M107: =IFERROR(IF(INDEX('Part III General Information'!$H$126:$H$139,$K107)="",1,0),"") | N107: =IFERROR(IF(INDEX('Part III General Information'!$I$126:$I$139,$K107)="",1,0),"")
J108: 3 | K108: {=IFERROR(SMALL(IF('Part III General Information'!$F$126:$F$139="X",ROW('Part III General Information'!$F$126:$F$139)-ROW('Part III General Information'!$F$125),""),J108),"")} | M108: =IFERROR(IF(INDEX('Part III General Information'!$H$126:$H$139,$K108)="",1,0),"") | N108: =IFERROR(IF(INDEX('Part III General Information'!$I$126:$I$139,$K108)="",1,0),"")
J109: 4 | K109: {=IFERROR(SMALL(IF('Part III General Information'!$F$126:$F$139="X",ROW('Part III General Information'!$F$126:$F$139)-ROW('Part III General Information'!$F$125),""),J109),"")} | M109: =IFERROR(IF(INDEX('Part III General Information'!$H$126:$H$139,$K109)="",1,0),"") | N109: =IFERROR(IF(INDEX('Part III General Information'!$I$126:$I$139,$K109)="",1,0),"")
J110: 5 | K110: {=IFERROR(SMALL(IF('Part III General Information'!$F$126:$F$139="X",ROW('Part III General Information'!$F$126:$F$139)-ROW('Part III General Information'!$F$125),""),J110),"")} | M110: =IFERROR(IF(INDEX('Part III General Information'!$H$126:$H$139,$K110)="",1,0),"") | N110: =IFERROR(IF(INDEX('Part III General Information'!$I$126:$I$139,$K110)="",1,0),"")
J111: 6 | K111: {=IFERROR(SMALL(IF('Part III General Information'!$F$126:$F$139="X",ROW('Part III General Information'!$F$126:$F$139)-ROW('Part III General Information'!$F$125),""),J111),"")} | M111: =IFERROR(IF(INDEX('Part III General Information'!$H$126:$H$139,$K111)="",1,0),"") | N111: =IFERROR(IF(INDEX('Part III General Information'!$I$126:$I$139,$K111)="",1,0),"")
J112: 7 | K112: {=IFERROR(SMALL(IF('Part III General Information'!$F$126:$F$139="X",ROW('Part III General Information'!$F$126:$F$139)-ROW('Part III General Information'!$F$125),""),J112),"")} | M112: =IFERROR(IF(INDEX('Part III General Information'!$H$126:$H$139,$K112)="",1,0),"") | N112: =IFERROR(IF(INDEX('Part III General Information'!$I$126:$I$139,$K112)="",1,0),"")
J113: 8 | K113: {=IFERROR(SMALL(IF('Part III General Information'!$F$126:$F$139="X",ROW('Part III General Information'!$F$126:$F$139)-ROW('Part III General Information'!$F$125),""),J113),"")} | M113: =IFERROR(IF(INDEX('Part III General Information'!$H$126:$H$139,$K113)="",1,0),"") | N113: =IFERROR(IF(INDEX('Part III General Information'!$I$126:$I$139,$K113)="",1,0),"")
J114: 9 | K114: {=IFERROR(SMALL(IF('Part III General Information'!$F$126:$F$139="X",ROW('Part III General Information'!$F$126:$F$139)-ROW('Part III General Information'!$F$125),""),J114),"")} | M114: =IFERROR(IF(INDEX('Part III General Information'!$H$126:$H$139,$K114)="",1,0),"") | N114: =IFERROR(IF(INDEX('Part III General Information'!$I$126:$I$139,$K114)="",1,0),"")
J115: 10 | K115: {=IFERROR(SMALL(IF('Part III General Information'!$F$126:$F$139="X",ROW('Part III General Information'!$F$126:$F$139)-ROW('Part III General Information'!$F$125),""),J115),"")} | M115: =IFERROR(IF(INDEX('Part III General Information'!$H$126:$H$139,$K115)="",1,0),"") | N115: =IFERROR(IF(INDEX('Part III General Information'!$I$126:$I$139,$K115)="",1,0),"")
J116: 11 | K116: {=IFERROR(SMALL(IF('Part III General Information'!$F$126:$F$139="X",ROW('Part III General Information'!$F$126:$F$139)-ROW('Part III General Information'!$F$125),""),J116),"")} | M116: =IFERROR(IF(INDEX('Part III General Information'!$H$126:$H$139,$K116)="",1,0),"") | N116: =IFERROR(IF(INDEX('Part III General Information'!$I$126:$I$139,$K116)="",1,0),"")
J117: 12 | K117: {=IFERROR(SMALL(IF('Part III General Information'!$F$126:$F$139="X",ROW('Part III General Information'!$F$126:$F$139)-ROW('Part III General Information'!$F$125),""),J117),"")} | M117: =IFERROR(IF(INDEX('Part III General Information'!$H$126:$H$139,$K117)="",1,0),"") | N117: =IFERROR(IF(INDEX('Part III General Information'!$I$126:$I$139,$K117)="",1,0),"")
J118: 13 | K118: {=IFERROR(SMALL(IF('Part III General Information'!$F$126:$F$139="X",ROW('Part III General Information'!$F$126:$F$139)-ROW('Part III General Information'!$F$125),""),J118),"")} | M118: =IFERROR(IF(INDEX('Part III General Information'!$H$126:$H$139,$K118)="",1,0),"") | N118: =IFERROR(IF(INDEX('Part III General Information'!$I$126:$I$139,$K118)="",1,0),"")
J119: Total | K119: =IF(COUNTIF(K106:K118,">"&0)=0,1,COUNTIF(K106:K118,">"&0)) -> 1
I120: 1. Specific End-Use(s) Cleaning Solvents | O120: =IF(M3>0,IF(SUM(I122,M122:N124)>0,I120,""), "")
I121: Counts if all cells in section are blank | J121: Counter "n" for each end use/application | K121: Finds nth instance of marked application | M121: Counts if blank: (b) ODS (and/or other substances) being replaced | N121: Counts if blank: Replacement ratio (lb: lb)
I122: =IF(COUNTA('Part III General Information'!F140:F142,'Part III General Information'!H140:I142)=0,1,0) -> 1 | J122: 1 | K122: {=IFERROR(SMALL(IF('Part III General Information'!$F$140:$F$142="X",ROW('Part III General Information'!$F$140:$F$142)-ROW('Part III General Information'!$F$139),""),J122),"")} | M122: =IFERROR(IF(INDEX('Part III General Information'!$H$140:$H$142,$K122)="",1,0),"") | N122: =IFERROR(IF(INDEX('Part III General Information'!$I$140:$I$142,$K122)="",1,0),"")
J123: 2 | K123: {=IFERROR(SMALL(IF('Part III General Information'!$F$140:$F$142="X",ROW('Part III General Information'!$F$140:$F$142)-ROW('Part III General Information'!$F$139),""),J123),"")} | M123: =IFERROR(IF(INDEX('Part III General Information'!$H$140:$H$142,$K123)="",1,0),"") | N123: =IFERROR(IF(INDEX('Part III General Information'!$I$140:$I$142,$K123)="",1,0),"")
J124: 3 | K124: {=IFERROR(SMALL(IF('Part III General Information'!$F$140:$F$142="X",ROW('Part III General Information'!$F$140:$F$142)-ROW('Part III General Information'!$F$139),""),J124),"")} | M124: =IFERROR(IF(INDEX('Part III General Information'!$H$140:$H$142,$K124)="",1,0),"") | N124: =IFERROR(IF(INDEX('Part III General Information'!$I$140:$I$142,$K124)="",1,0),"")
J125: Total | K125: =IF(COUNTIF(K122:K124,">"&0)=0,1,COUNTIF(K122:K124,">"&0)) -> 1
I126: 1. Specific End-Use(s) Fire Suppression and Explosion Protection | O126: =IF(N3>0, IF(SUM(I128,M128:N130)>0,I126,""), "")
I127: Counts if all cells in section are blank | J127: Counter "n" for each end use/application | K127: Finds nth instance of marked application | M127: Counts if blank: (b) ODS (and/or other substances) being replaced | N127: Counts if blank: Replacement ratio (lb: lb)
I128: =IF(COUNTA('Part III General Information'!F143:F145,'Part III General Information'!H143:I145)=0,1,0) -> 1 | J128: 1 | K128: {=IFERROR(SMALL(IF('Part III General Information'!$F$143:$F$145="X",ROW('Part III General Information'!$F$143:$F$145)-ROW('Part III General Information'!$F$142),""),J128),"")} | M128: =IFERROR(IF(INDEX('Part III General Information'!$H$143:$H$145,$K128)="",1,0),"") | N128: =IFERROR(IF(INDEX('Part III General Information'!$I$143:$I$145,$K128)="",1,0),"")
J129: 2 | K129: {=IFERROR(SMALL(IF('Part III General Information'!$F$143:$F$145="X",ROW('Part III General Information'!$F$143:$F$145)-ROW('Part III General Information'!$F$142),""),J129),"")} | M129: =IFERROR(IF(INDEX('Part III General Information'!$H$143:$H$145,$K129)="",1,0),"") | N129: =IFERROR(IF(INDEX('Part III General Information'!$I$143:$I$145,$K129)="",1,0),"")
J130: 3 | K130: {=IFERROR(SMALL(IF('Part III General Information'!$F$143:$F$145="X",ROW('Part III General Information'!$F$143:$F$145)-ROW('Part III General Information'!$F$142),""),J130),"")} | M130: =IFERROR(IF(INDEX('Part III General Information'!$H$143:$H$145,$K130)="",1,0),"") | N130: =IFERROR(IF(INDEX('Part III General Information'!$I$143:$I$145,$K130)="",1,0),"")
J131: Total | K131: =IF(COUNTIF(K128:K130,">"&0)=0,1,COUNTIF(K128:K130,">"&0)) -> 1
I132: 1. Specific End-Use(s) Aerosols | O132: =IF(O3>0, IF(SUM(I134,M134:N139)>0,I132,""), "")
I133: Counts if all cells in section are blank | J133: Counter "n" for each end use/application | K133: Finds nth instance of marked application | M133: Counts if blank: (b) ODS (and/or other substances) being replaced | N133: Counts if blank: Replacement ratio (lb: lb)
...

Sheet Part VII Certification
C3: United States ENVIRONMENTAL PROTECTION AGENCY Washington, DC 20460
C4: TSCA/SNAP ADDENDUM
C5: Part VII: Certification
C6: I certify to the best of my knowledge and belief that: 1. All information provided in this notice is complete and truthful as of the date of the submission. 2. I am submitting with this notice all test data in my possession or control and a description of all other data known to or reasonably ascertainable by me. 3. If this is a submission of a new alternative, the company named in Part I, Question 1a of this notice: (a) intends to manufacture, formulate, import, market, or use a new alternative to a Class I or Class II ozone-depleting substance which is identified in Part I, Section B, Question 2. (b) seeks an acceptability determination on a new alternative(s) to a Class I or Class II ozone-depleting substance, which is identified in Part I, Section B, Question 2. 4. The accuracy of the statements made in this notice reflects my best prediction of the anticipated facts regarding the alternative described herein. Any knowing and willful misinterpretation is subject to criminal penalty pursuant to section 113(c) of the Clean Air Act and 18 U.S.C.§1001.
C7: A printed copy of this signature page, with original signature, must be submitted with CD, USB drive, or paper submission.
C9: Signature of Authorized Official (Original Signature Required): | D9: Date
C11: Print Name and Title of Authorized Official: | D11: Date
C13: Signature of Agent (Where Applicable): | D13: Date
C15: Print Name and Title of Authorized Official: | D15: Date
