Workbook

Sheet OVERVIEW -->
B1: ATP TOOL FOR PARTIAL-YEAR DATA FOR BUSINESSES
B3: [This tab is intentionally blank; it is merely a placeholder to indicate the following group of "OVERVIEW" tabs in this workbook.]

Sheet Introduction
B1: ATP TOOL FOR PARTIAL-YEAR DATA FOR BUSINESSES
B3: Introduction
B5: > | C5: Purpose: This "ATP Tool for Partial-Year Data for Businesses" evaluates whether there are differences in a business' financial data between the current partial-year period and the same partial-year periods in prior years, on a monthly and/or year-to-date basis. This tool is generally only used for settlement purposes, and a case team is not required to use it.
B9: > | C9: Relationship to ABEL: This tool is designed to be used in conjunction with the ABEL model. ABEL uses three to five years of a business' full-year tax return data to develop a statistical extrapolation of the business' future after-tax cash flows, generally assuming that the future will be like the recent past. ABEL compares the present value of its predicted after-tax cash flows across different probability levels to any required compliance costs and the proposed penalty amount. Based on that comparison, ABEL estimates a percentage probability that the business can afford the proposed penalty after meeting any required compliance costs. This percentage probability level serves as the model's ability-to-pay (ATP) conclusion. It is then up to the case team on a case-by-case basis to consider the ABEL model outputs and then determine the appropriate probability level cutoff when developing its ultimate ATP conclusion.
B16: > | C16: When and How to Use This Partial-Year Tool: If a business asserts that it has experienced significant changes in financial performance since the latest period of historical annual tax return data, this tool can help the case team evaluate that assertion pending availability of full-year data for the current year. This tool is designed to indicate whether there are differences between the current partial-year period and prior partial-year periods (i.e., for a given line item, has the business’ financial performance declined, improved, or remained constant?). It is the case team's responsibility to interpret any changes the tool identifies; the tool makes no causality assessments, nor does it return any ATP conclusions. To assess the partial-year data, the case team should:
C22: > | D22: Review the "Financial Profile Monthly" tab: This tab shows monthly financial statements for the current partial-year period relative to historical full-year periods. The historical monthly data for full years can assist the case team with evaluating factors such as the monthly seasonality of the business, which may suggest that the business typically does better in certain months of the year compared to other months.
C26: > | D26: Review the "Financial Profile YTD" tab: This tab shows year-to-date (YTD) financial statements for the current partial-year period relative to prior year-to-date periods. Analysis columns to the right indicate the numeric and percentage changes from the current year-to-date period relative to the immediately preceding year-to-date period, and relative to an average of the year-to-date periods across all historical years provided.
C30: > | D30: Review the "Financial Charts" tab: This tab shows year-to-date and monthly charts for three key line items: revenues, net income, and pre-tax cash flow. The year-to-date charts provide a graphical representation of how the current partial-year period compares to the same partial-year periods in prior years, and the monthly charts provide a visual of the business' seasonality by month for all years of data provided. The three line items depicted in the charts can help the case team understand how the business' sales (i.e., revenues), net income (i.e., revenues minus expenses), and cash flow may have changed in the current partial year.
C36: > | D36: Across all three of these tabs: Pay particular attention to the pre-tax cash flow from the current partial-year period relative to prior periods. Recall that the ABEL model bases its ATP conclusion on predicted after-tax cash flows, generally assuming that the future will be like the recent past. If the current partial-year data suggest that there are significant differences in pre-tax cash flows relative to prior periods, adjusting the ABEL ATP conclusion (which is based on historical full-year data) may be warranted. As ABEL output reminds the user, however, be sure to examine ability to pay potential beyond cash flow (e.g., from unnecessary expenses, assets unrelated to business operations, loans to shareholders, and/or other sources).

Sheet Instructions
B1: ATP TOOL FOR PARTIAL-YEAR DATA FOR BUSINESSES
B3: Instructions
B5: Key:
C7: Users can enter inputs/information only in the cells highlighted in yellow.
B9: First, the case team should enter data inputs from the Data Request Form into the ATP Tool: *,**
B11: A) | C11: Transfer the busness' entries from the "General Inputs" tab in the "Data Request Form" workbook to the "General Inputs" tab of this workbook.
C12: i) | D12: Transfer the information about the business (#1-4).
C13: ii) | D13: Transfer the information about the time period covered by the financial data included in this response (#5-7).
C14: iii) | D14: Transfer the information about the individual providing this response (#8-9).
C15: iv) | D15: Indicate whether the business provided a signed certification asserting the veracity of the information provided (#10).
B16: B) | C16: Transfer the business' entries from the "Financial Inputs" tab in the "Data Request Form" workbook to the "Financial Inputs" tab of this workbook.
C17: i) | D17: Copy/paste the year-to-date monthly financial data for 2020 for all select line items in the "Financial Inputs" tab.
C18: ii) | D18: Copy/paste the historical monthly financial data for the last one to five years for all line items in the “Financial Inputs” tab.
C20: *When entering financial data in the "Financial Inputs" tab, enter any negative numbers as negative numbers.
C21: **The "Line References" tab contains definitions for each line item in the "Financial Inputs" tab.
B23: Then, the case team should review the ATP Tool analysis:
B25: C) | C25: Review the "Financial Profile Monthly" tab for monthly summary-level financial statements for the business (Columns B:BV).
B26: D) | C26: Review the "Financial Profile YTD" tab for:
C27: i) | D27: Year-to-date ("YTD") summary-level financial statements for the business (Columns B:H).
C28: ii) | D28: Comparisons of the 2020 YTD results to the 2019 YTD results and to the annual average YTD results over the last one to five years (Columns J:K).
B29: E) | C29: Review the "Financial Charts" tab for graphical displays of monthly and year-to-date results for key line items (Columns B:O).
B31: In addition, outside the ATP Tool, the case team should:
B33: F) | C33: Review any separate written response(s) by the business describing the current partial-year impacts on the business' finances.

Sheet Line References
B1: ATP TOOL FOR PARTIAL-YEAR DATA FOR BUSINESSES
B3: Line References
B5: Definitions for Line Items Requested in the "Financial Inputs" Tab:
B7: Line | C7: Definition
B8: a. Total Revenues Less Returns and Allowances | C8: The sum of a business' gross sales (i.e., revenues), minus returns, allowances, and discounts.
B9: b. Cost of Goods Sold | C9: The sum of the direct materials and labor costs associated with producing the goods sold by a business.
B10: c. Depreciation, Depletion, and Amortization | C10: These are accounting mechanisms that allow businesses to spread the costs, or allocate the values, of different types of assets over time. Generally, depreciation applies to fixed assets, depletion to natural resource assets, and amortization to intangible assets.
B11: d. Net Income Before Taxes | C11: Calculated as a business' total revenues less returns and allowances, minus total expenses excluding taxes.
B12: e. Total Current Assets | C12: The sum of a business' assets that are expected to be sold or used in the course of normal business operations within the next year (or within the next operating cycle of the business, whichever period is longer).
B13: f. Total Current Liabilities | C13: The sum of a business' short-term debts and financial obligations that are due within the next year (or within the next operating cycle of the business, whichever period is longer).
B14: g. Total Liabilities | C14: The sum of all debts and financial obligations that are owed by a business.
B15: h. Total Liabilities and Stockholders' Equity | C15: The sum of all debts and financial obligations that are owed by a business, plus the residual value left to shareholders after total liabilities have been subtracted from total assets.

Sheet INPUTS -->
B1: ATP TOOL FOR PARTIAL-YEAR DATA FOR BUSINESSES
B3: [This tab is intentionally blank; it is a merely placeholder to indicate the following group of "INPUTS" tabs in this workbook.]

Sheet General Inputs
B1: ATP TOOL FOR PARTIAL-YEAR DATA FOR BUSINESSES
B3: General Inputs
B5: Business:
B7: 1. Name of Business:
B8: 2. Primary Address of Business:
B9: 3. Business Activity:
B10: 4. Tax Return Form Filed by Business (e.g., Form 1120, Form 1120S, etc.): | I10: *Select from dropdown menu.
B12: Financial Data Provided in "Financial Inputs" Tab:
B14: 5. Most Recent Year of Partial-Year Financial Data Provided (e.g., 2020): | I14: *Enter in YYYY format.
B15: 6. Most Recent Month of 2020 Financial Data Provided (e.g., June): | I15: *Select from dropdown menu.
B16: 7. Years of Historical Monthly Financial Data Provided (Minimum 1 Year): | I16: *Select from dropdown menu.
B18: Individual Providing Response:
B20: 8. Name of Individual Providing Response:
B21: 9. Role or Title of Individual Providing Response:
B22: 10. Certification Signature of Individual Provided:
B23: Certification: I certify under penalty of law that this information is true, correct, and complete to the best of my knowledge and belief. I have personally examined and am familiar with the information contained in this submittal, including any and all documents accompanying this certification statement. Based on my inquiry of those individuals responsible for obtaining the information, the information contained in this submittal is to the best of my knowledge and belief, true, accurate, and complete. I further understand that I may be subject to prosecution under federal and/or state law should I provide any information that is not true, correct, and complete to the best of my knowledge. I am authorized and empowered to act on behalf of the claimant.

Sheet Financial Inputs
B1: ATP TOOL FOR PARTIAL-YEAR DATA FOR BUSINESSES
B3: Financial Data Inputs
B5: Year-to-Date Monthly Financial Data in Dollars for: | C5: =IF(ISBLANK('General Inputs'!$C$14),"--",'General Inputs'!$C$14) -> --
B7: Year | C7: =$C5 -> -- | D7: =$C5 -> -- | E7: =$C5 -> -- | F7: =$C5 -> -- | G7: =$C5 -> -- | H7: =$C5 -> -- | I7: =$C5 -> -- | J7: =$C5 -> -- | ... N7: =$C5 -> --
B8: Month | C8: 1 | D8: 2 | E8: 3 | F8: 4 | G8: 5 | H8: 6 | I8: 7 | J8: 8 | K8: 9 | L8: 10 | M8: 11 | N8: 12
B9: a. Total Revenues Less Returns and Allowances
B10: b. Cost of Goods Sold
B11: c. Depreciation, Depletion, and Amortization
B12: d. Net Income Before Taxes
B13: e. Total Current Assets
B14: f. Total Current Liabilities
B15: g. Total Liabilities
B16: h. Total Liabilities and Stockholders' Equity
B18: Historical Monthly Financial Data in Dollars for: | C18: =IF(ISBLANK('General Inputs'!$C$14),"--",'General Inputs'!$C$14-1) -> --
B20: Year | C20: =$C18 -> -- | D20: =$C18 -> -- | E20: =$C18 -> -- | F20: =$C18 -> -- | G20: =$C18 -> -- | H20: =$C18 -> -- | I20: =$C18 -> -- | J20: =$C18 -> -- | ... N20: =$C18 -> --
B21: Month | C21: 1 | D21: 2 | E21: 3 | F21: 4 | G21: 5 | H21: 6 | I21: 7 | J21: 8 | K21: 9 | L21: 10 | M21: 11 | N21: 12
B22: =B9 -> a. Total Revenues Less Returns and Allowances
B23: =B10 -> b. Cost of Goods Sold
B24: =B11 -> c. Depreciation, Depletion, and Amortization
B25: =B12 -> d. Net Income Before Taxes
B26: =B13 -> e. Total Current Assets
B27: =B14 -> f. Total Current Liabilities
B28: =B15 -> g. Total Liabilities
B29: =B16 -> h. Total Liabilities and Stockholders' Equity
B31: Historical Monthly Financial Data in Dollars for: | C31: =IF(ISBLANK('General Inputs'!$C$14),"--",'General Inputs'!$C$14-2) -> --
B33: Year | C33: =$C31 -> -- | D33: =$C31 -> -- | E33: =$C31 -> -- | F33: =$C31 -> -- | G33: =$C31 -> -- | H33: =$C31 -> -- | I33: =$C31 -> -- | J33: =$C31 -> -- | ... N33: =$C31 -> --
B34: Month | C34: 1 | D34: 2 | E34: 3 | F34: 4 | G34: 5 | H34: 6 | I34: 7 | J34: 8 | K34: 9 | L34: 10 | M34: 11 | N34: 12
B35: =B22 -> a. Total Revenues Less Returns and Allowances
B36: =B23 -> b. Cost of Goods Sold
B37: =B24 -> c. Depreciation, Depletion, and Amortization
B38: =B25 -> d. Net Income Before Taxes
B39: =B26 -> e. Total Current Assets
B40: =B27 -> f. Total Current Liabilities
B41: =B28 -> g. Total Liabilities
B42: =B29 -> h. Total Liabilities and Stockholders' Equity
B44: Historical Monthly Financial Data in Dollars for: | C44: =IF(ISBLANK('General Inputs'!$C$14),"--",'General Inputs'!$C$14-3) -> --
B46: Year | C46: =$C44 -> -- | D46: =$C44 -> -- | E46: =$C44 -> -- | F46: =$C44 -> -- | G46: =$C44 -> -- | H46: =$C44 -> -- | I46: =$C44 -> -- | J46: =$C44 -> -- | ... N46: =$C44 -> --
B47: Month | C47: 1 | D47: 2 | E47: 3 | F47: 4 | G47: 5 | H47: 6 | I47: 7 | J47: 8 | K47: 9 | L47: 10 | M47: 11 | N47: 12
B48: =B35 -> a. Total Revenues Less Returns and Allowances
B49: =B36 -> b. Cost of Goods Sold
...

Sheet Financial Inputs Clean
B1: ATP TOOL FOR PARTIAL-YEAR DATA FOR BUSINESSES
B3: Financial Data Inputs - Clean Formatted Version for Tool Analysis
B5: Year-to-Date Monthly Financial Data in Dollars for: | C5: =IF(ISBLANK('General Inputs'!$C$14),"--",'General Inputs'!$C$14) -> --
B7: Year | C7: =$C5 -> -- | D7: =$C5 -> -- | E7: =$C5 -> -- | F7: =$C5 -> -- | G7: =$C5 -> -- | H7: =$C5 -> -- | I7: =$C5 -> -- | J7: =$C5 -> -- | ... N7: =$C5 -> --
B8: Month | C8: 1 | D8: 2 | E8: 3 | F8: 4 | G8: 5 | H8: 6 | I8: 7 | J8: 8 | K8: 9 | L8: 10 | M8: 11 | N8: 12
B9: a. Total Revenues Less Returns and Allowances | C9: =IF(ISBLANK('Financial Inputs'!C9),"",'Financial Inputs'!C9) | D9: =IF(ISBLANK('Financial Inputs'!D9),"",'Financial Inputs'!D9) | E9: =IF(ISBLANK('Financial Inputs'!E9),"",'Financial Inputs'!E9) | F9: =IF(ISBLANK('Financial Inputs'!F9),"",'Financial Inputs'!F9) | G9: =IF(ISBLANK('Financial Inputs'!G9),"",'Financial Inputs'!G9) | H9: =IF(ISBLANK('Financial Inputs'!H9),"",'Financial Inputs'!H9) | I9: =IF(ISBLANK('Financial Inputs'!I9),"",'Financial Inputs'!I9) | J9: =IF(ISBLANK('Financial Inputs'!J9),"",'Financial Inputs'!J9) | ... N9: =IF(ISBLANK('Financial Inputs'!N9),"",'Financial Inputs'!N9)
B10: b. Cost of Goods Sold | C10: =IF(ISBLANK('Financial Inputs'!C10),"",'Financial Inputs'!C10) | D10: =IF(ISBLANK('Financial Inputs'!D10),"",'Financial Inputs'!D10) | E10: =IF(ISBLANK('Financial Inputs'!E10),"",'Financial Inputs'!E10) | F10: =IF(ISBLANK('Financial Inputs'!F10),"",'Financial Inputs'!F10) | G10: =IF(ISBLANK('Financial Inputs'!G10),"",'Financial Inputs'!G10) | H10: =IF(ISBLANK('Financial Inputs'!H10),"",'Financial Inputs'!H10) | I10: =IF(ISBLANK('Financial Inputs'!I10),"",'Financial Inputs'!I10) | J10: =IF(ISBLANK('Financial Inputs'!J10),"",'Financial Inputs'!J10) | ... N10: =IF(ISBLANK('Financial Inputs'!N10),"",'Financial Inputs'!N10)
B11: c. Depreciation, Depletion, and Amortization | C11: =IF(ISBLANK('Financial Inputs'!C11),"",'Financial Inputs'!C11) | D11: =IF(ISBLANK('Financial Inputs'!D11),"",'Financial Inputs'!D11) | E11: =IF(ISBLANK('Financial Inputs'!E11),"",'Financial Inputs'!E11) | F11: =IF(ISBLANK('Financial Inputs'!F11),"",'Financial Inputs'!F11) | G11: =IF(ISBLANK('Financial Inputs'!G11),"",'Financial Inputs'!G11) | H11: =IF(ISBLANK('Financial Inputs'!H11),"",'Financial Inputs'!H11) | I11: =IF(ISBLANK('Financial Inputs'!I11),"",'Financial Inputs'!I11) | J11: =IF(ISBLANK('Financial Inputs'!J11),"",'Financial Inputs'!J11) | ... N11: =IF(ISBLANK('Financial Inputs'!N11),"",'Financial Inputs'!N11)
B12: d. Net Income Before Taxes | C12: =IF(ISBLANK('Financial Inputs'!C12),"",'Financial Inputs'!C12) | D12: =IF(ISBLANK('Financial Inputs'!D12),"",'Financial Inputs'!D12) | E12: =IF(ISBLANK('Financial Inputs'!E12),"",'Financial Inputs'!E12) | F12: =IF(ISBLANK('Financial Inputs'!F12),"",'Financial Inputs'!F12) | G12: =IF(ISBLANK('Financial Inputs'!G12),"",'Financial Inputs'!G12) | H12: =IF(ISBLANK('Financial Inputs'!H12),"",'Financial Inputs'!H12) | I12: =IF(ISBLANK('Financial Inputs'!I12),"",'Financial Inputs'!I12) | J12: =IF(ISBLANK('Financial Inputs'!J12),"",'Financial Inputs'!J12) | ... N12: =IF(ISBLANK('Financial Inputs'!N12),"",'Financial Inputs'!N12)
B13: e. Total Current Assets | C13: =IF(ISBLANK('Financial Inputs'!C13),"",'Financial Inputs'!C13) | D13: =IF(ISBLANK('Financial Inputs'!D13),"",'Financial Inputs'!D13) | E13: =IF(ISBLANK('Financial Inputs'!E13),"",'Financial Inputs'!E13) | F13: =IF(ISBLANK('Financial Inputs'!F13),"",'Financial Inputs'!F13) | G13: =IF(ISBLANK('Financial Inputs'!G13),"",'Financial Inputs'!G13) | H13: =IF(ISBLANK('Financial Inputs'!H13),"",'Financial Inputs'!H13) | I13: =IF(ISBLANK('Financial Inputs'!I13),"",'Financial Inputs'!I13) | J13: =IF(ISBLANK('Financial Inputs'!J13),"",'Financial Inputs'!J13) | ... N13: =IF(ISBLANK('Financial Inputs'!N13),"",'Financial Inputs'!N13)
B14: f. Total Current Liabilities | C14: =IF(ISBLANK('Financial Inputs'!C14),"",'Financial Inputs'!C14) | D14: =IF(ISBLANK('Financial Inputs'!D14),"",'Financial Inputs'!D14) | E14: =IF(ISBLANK('Financial Inputs'!E14),"",'Financial Inputs'!E14) | F14: =IF(ISBLANK('Financial Inputs'!F14),"",'Financial Inputs'!F14) | G14: =IF(ISBLANK('Financial Inputs'!G14),"",'Financial Inputs'!G14) | H14: =IF(ISBLANK('Financial Inputs'!H14),"",'Financial Inputs'!H14) | I14: =IF(ISBLANK('Financial Inputs'!I14),"",'Financial Inputs'!I14) | J14: =IF(ISBLANK('Financial Inputs'!J14),"",'Financial Inputs'!J14) | ... N14: =IF(ISBLANK('Financial Inputs'!N14),"",'Financial Inputs'!N14)
B15: g. Total Liabilities | C15: =IF(ISBLANK('Financial Inputs'!C15),"",'Financial Inputs'!C15) | D15: =IF(ISBLANK('Financial Inputs'!D15),"",'Financial Inputs'!D15) | E15: =IF(ISBLANK('Financial Inputs'!E15),"",'Financial Inputs'!E15) | F15: =IF(ISBLANK('Financial Inputs'!F15),"",'Financial Inputs'!F15) | G15: =IF(ISBLANK('Financial Inputs'!G15),"",'Financial Inputs'!G15) | H15: =IF(ISBLANK('Financial Inputs'!H15),"",'Financial Inputs'!H15) | I15: =IF(ISBLANK('Financial Inputs'!I15),"",'Financial Inputs'!I15) | J15: =IF(ISBLANK('Financial Inputs'!J15),"",'Financial Inputs'!J15) | ... N15: =IF(ISBLANK('Financial Inputs'!N15),"",'Financial Inputs'!N15)
B16: h. Total Liabilities and Stockholders' Equity | C16: =IF(ISBLANK('Financial Inputs'!C16),"",'Financial Inputs'!C16) | D16: =IF(ISBLANK('Financial Inputs'!D16),"",'Financial Inputs'!D16) | E16: =IF(ISBLANK('Financial Inputs'!E16),"",'Financial Inputs'!E16) | F16: =IF(ISBLANK('Financial Inputs'!F16),"",'Financial Inputs'!F16) | G16: =IF(ISBLANK('Financial Inputs'!G16),"",'Financial Inputs'!G16) | H16: =IF(ISBLANK('Financial Inputs'!H16),"",'Financial Inputs'!H16) | I16: =IF(ISBLANK('Financial Inputs'!I16),"",'Financial Inputs'!I16) | J16: =IF(ISBLANK('Financial Inputs'!J16),"",'Financial Inputs'!J16) | ... N16: =IF(ISBLANK('Financial Inputs'!N16),"",'Financial Inputs'!N16)
B18: Historical Monthly Financial Data in Dollars for: | C18: =IF(ISBLANK('General Inputs'!$C$14),"--",'General Inputs'!$C$14-1) -> --
B20: Year | C20: =$C18 -> -- | D20: =$C18 -> -- | E20: =$C18 -> -- | F20: =$C18 -> -- | G20: =$C18 -> -- | H20: =$C18 -> -- | I20: =$C18 -> -- | J20: =$C18 -> -- | ... N20: =$C18 -> --
B21: Month | C21: 1 | D21: 2 | E21: 3 | F21: 4 | G21: 5 | H21: 6 | I21: 7 | J21: 8 | K21: 9 | L21: 10 | M21: 11 | N21: 12
B22: =B9 -> a. Total Revenues Less Returns and Allowances | C22: =IF(ISBLANK('Financial Inputs'!C22),"",'Financial Inputs'!C22) | D22: =IF(ISBLANK('Financial Inputs'!D22),"",'Financial Inputs'!D22) | E22: =IF(ISBLANK('Financial Inputs'!E22),"",'Financial Inputs'!E22) | F22: =IF(ISBLANK('Financial Inputs'!F22),"",'Financial Inputs'!F22) | G22: =IF(ISBLANK('Financial Inputs'!G22),"",'Financial Inputs'!G22) | H22: =IF(ISBLANK('Financial Inputs'!H22),"",'Financial Inputs'!H22) | I22: =IF(ISBLANK('Financial Inputs'!I22),"",'Financial Inputs'!I22) | J22: =IF(ISBLANK('Financial Inputs'!J22),"",'Financial Inputs'!J22) | ... N22: =IF(ISBLANK('Financial Inputs'!N22),"",'Financial Inputs'!N22)
B23: =B10 -> b. Cost of Goods Sold | C23: =IF(ISBLANK('Financial Inputs'!C23),"",'Financial Inputs'!C23) | D23: =IF(ISBLANK('Financial Inputs'!D23),"",'Financial Inputs'!D23) | E23: =IF(ISBLANK('Financial Inputs'!E23),"",'Financial Inputs'!E23) | F23: =IF(ISBLANK('Financial Inputs'!F23),"",'Financial Inputs'!F23) | G23: =IF(ISBLANK('Financial Inputs'!G23),"",'Financial Inputs'!G23) | H23: =IF(ISBLANK('Financial Inputs'!H23),"",'Financial Inputs'!H23) | I23: =IF(ISBLANK('Financial Inputs'!I23),"",'Financial Inputs'!I23) | J23: =IF(ISBLANK('Financial Inputs'!J23),"",'Financial Inputs'!J23) | ... N23: =IF(ISBLANK('Financial Inputs'!N23),"",'Financial Inputs'!N23)
B24: =B11 -> c. Depreciation, Depletion, and Amortization | C24: =IF(ISBLANK('Financial Inputs'!C24),"",'Financial Inputs'!C24) | D24: =IF(ISBLANK('Financial Inputs'!D24),"",'Financial Inputs'!D24) | E24: =IF(ISBLANK('Financial Inputs'!E24),"",'Financial Inputs'!E24) | F24: =IF(ISBLANK('Financial Inputs'!F24),"",'Financial Inputs'!F24) | G24: =IF(ISBLANK('Financial Inputs'!G24),"",'Financial Inputs'!G24) | H24: =IF(ISBLANK('Financial Inputs'!H24),"",'Financial Inputs'!H24) | I24: =IF(ISBLANK('Financial Inputs'!I24),"",'Financial Inputs'!I24) | J24: =IF(ISBLANK('Financial Inputs'!J24),"",'Financial Inputs'!J24) | ... N24: =IF(ISBLANK('Financial Inputs'!N24),"",'Financial Inputs'!N24)
B25: =B12 -> d. Net Income Before Taxes | C25: =IF(ISBLANK('Financial Inputs'!C25),"",'Financial Inputs'!C25) | D25: =IF(ISBLANK('Financial Inputs'!D25),"",'Financial Inputs'!D25) | E25: =IF(ISBLANK('Financial Inputs'!E25),"",'Financial Inputs'!E25) | F25: =IF(ISBLANK('Financial Inputs'!F25),"",'Financial Inputs'!F25) | G25: =IF(ISBLANK('Financial Inputs'!G25),"",'Financial Inputs'!G25) | H25: =IF(ISBLANK('Financial Inputs'!H25),"",'Financial Inputs'!H25) | I25: =IF(ISBLANK('Financial Inputs'!I25),"",'Financial Inputs'!I25) | J25: =IF(ISBLANK('Financial Inputs'!J25),"",'Financial Inputs'!J25) | ... N25: =IF(ISBLANK('Financial Inputs'!N25),"",'Financial Inputs'!N25)
B26: =B13 -> e. Total Current Assets | C26: =IF(ISBLANK('Financial Inputs'!C26),"",'Financial Inputs'!C26) | D26: =IF(ISBLANK('Financial Inputs'!D26),"",'Financial Inputs'!D26) | E26: =IF(ISBLANK('Financial Inputs'!E26),"",'Financial Inputs'!E26) | F26: =IF(ISBLANK('Financial Inputs'!F26),"",'Financial Inputs'!F26) | G26: =IF(ISBLANK('Financial Inputs'!G26),"",'Financial Inputs'!G26) | H26: =IF(ISBLANK('Financial Inputs'!H26),"",'Financial Inputs'!H26) | I26: =IF(ISBLANK('Financial Inputs'!I26),"",'Financial Inputs'!I26) | J26: =IF(ISBLANK('Financial Inputs'!J26),"",'Financial Inputs'!J26) | ... N26: =IF(ISBLANK('Financial Inputs'!N26),"",'Financial Inputs'!N26)
B27: =B14 -> f. Total Current Liabilities | C27: =IF(ISBLANK('Financial Inputs'!C27),"",'Financial Inputs'!C27) | D27: =IF(ISBLANK('Financial Inputs'!D27),"",'Financial Inputs'!D27) | E27: =IF(ISBLANK('Financial Inputs'!E27),"",'Financial Inputs'!E27) | F27: =IF(ISBLANK('Financial Inputs'!F27),"",'Financial Inputs'!F27) | G27: =IF(ISBLANK('Financial Inputs'!G27),"",'Financial Inputs'!G27) | H27: =IF(ISBLANK('Financial Inputs'!H27),"",'Financial Inputs'!H27) | I27: =IF(ISBLANK('Financial Inputs'!I27),"",'Financial Inputs'!I27) | J27: =IF(ISBLANK('Financial Inputs'!J27),"",'Financial Inputs'!J27) | ... N27: =IF(ISBLANK('Financial Inputs'!N27),"",'Financial Inputs'!N27)
B28: =B15 -> g. Total Liabilities | C28: =IF(ISBLANK('Financial Inputs'!C28),"",'Financial Inputs'!C28) | D28: =IF(ISBLANK('Financial Inputs'!D28),"",'Financial Inputs'!D28) | E28: =IF(ISBLANK('Financial Inputs'!E28),"",'Financial Inputs'!E28) | F28: =IF(ISBLANK('Financial Inputs'!F28),"",'Financial Inputs'!F28) | G28: =IF(ISBLANK('Financial Inputs'!G28),"",'Financial Inputs'!G28) | H28: =IF(ISBLANK('Financial Inputs'!H28),"",'Financial Inputs'!H28) | I28: =IF(ISBLANK('Financial Inputs'!I28),"",'Financial Inputs'!I28) | J28: =IF(ISBLANK('Financial Inputs'!J28),"",'Financial Inputs'!J28) | ... N28: =IF(ISBLANK('Financial Inputs'!N28),"",'Financial Inputs'!N28)
B29: =B16 -> h. Total Liabilities and Stockholders' Equity | C29: =IF(ISBLANK('Financial Inputs'!C29),"",'Financial Inputs'!C29) | D29: =IF(ISBLANK('Financial Inputs'!D29),"",'Financial Inputs'!D29) | E29: =IF(ISBLANK('Financial Inputs'!E29),"",'Financial Inputs'!E29) | F29: =IF(ISBLANK('Financial Inputs'!F29),"",'Financial Inputs'!F29) | G29: =IF(ISBLANK('Financial Inputs'!G29),"",'Financial Inputs'!G29) | H29: =IF(ISBLANK('Financial Inputs'!H29),"",'Financial Inputs'!H29) | I29: =IF(ISBLANK('Financial Inputs'!I29),"",'Financial Inputs'!I29) | J29: =IF(ISBLANK('Financial Inputs'!J29),"",'Financial Inputs'!J29) | ... N29: =IF(ISBLANK('Financial Inputs'!N29),"",'Financial Inputs'!N29)
B31: Historical Monthly Financial Data in Dollars for: | C31: =IF(ISBLANK('General Inputs'!$C$14),"--",'General Inputs'!$C$14-2) -> --
B33: Year | C33: =$C31 -> -- | D33: =$C31 -> -- | E33: =$C31 -> -- | F33: =$C31 -> -- | G33: =$C31 -> -- | H33: =$C31 -> -- | I33: =$C31 -> -- | J33: =$C31 -> -- | ... N33: =$C31 -> --
B34: Month | C34: 1 | D34: 2 | E34: 3 | F34: 4 | G34: 5 | H34: 6 | I34: 7 | J34: 8 | K34: 9 | L34: 10 | M34: 11 | N34: 12
B35: =B22 -> a. Total Revenues Less Returns and Allowances | C35: =IF(ISBLANK('Financial Inputs'!C35),"",'Financial Inputs'!C35) | D35: =IF(ISBLANK('Financial Inputs'!D35),"",'Financial Inputs'!D35) | E35: =IF(ISBLANK('Financial Inputs'!E35),"",'Financial Inputs'!E35) | F35: =IF(ISBLANK('Financial Inputs'!F35),"",'Financial Inputs'!F35) | G35: =IF(ISBLANK('Financial Inputs'!G35),"",'Financial Inputs'!G35) | H35: =IF(ISBLANK('Financial Inputs'!H35),"",'Financial Inputs'!H35) | I35: =IF(ISBLANK('Financial Inputs'!I35),"",'Financial Inputs'!I35) | J35: =IF(ISBLANK('Financial Inputs'!J35),"",'Financial Inputs'!J35) | ... N35: =IF(ISBLANK('Financial Inputs'!N35),"",'Financial Inputs'!N35)
B36: =B23 -> b. Cost of Goods Sold | C36: =IF(ISBLANK('Financial Inputs'!C36),"",'Financial Inputs'!C36) | D36: =IF(ISBLANK('Financial Inputs'!D36),"",'Financial Inputs'!D36) | E36: =IF(ISBLANK('Financial Inputs'!E36),"",'Financial Inputs'!E36) | F36: =IF(ISBLANK('Financial Inputs'!F36),"",'Financial Inputs'!F36) | G36: =IF(ISBLANK('Financial Inputs'!G36),"",'Financial Inputs'!G36) | H36: =IF(ISBLANK('Financial Inputs'!H36),"",'Financial Inputs'!H36) | I36: =IF(ISBLANK('Financial Inputs'!I36),"",'Financial Inputs'!I36) | J36: =IF(ISBLANK('Financial Inputs'!J36),"",'Financial Inputs'!J36) | ... N36: =IF(ISBLANK('Financial Inputs'!N36),"",'Financial Inputs'!N36)
B37: =B24 -> c. Depreciation, Depletion, and Amortization | C37: =IF(ISBLANK('Financial Inputs'!C37),"",'Financial Inputs'!C37) | D37: =IF(ISBLANK('Financial Inputs'!D37),"",'Financial Inputs'!D37) | E37: =IF(ISBLANK('Financial Inputs'!E37),"",'Financial Inputs'!E37) | F37: =IF(ISBLANK('Financial Inputs'!F37),"",'Financial Inputs'!F37) | G37: =IF(ISBLANK('Financial Inputs'!G37),"",'Financial Inputs'!G37) | H37: =IF(ISBLANK('Financial Inputs'!H37),"",'Financial Inputs'!H37) | I37: =IF(ISBLANK('Financial Inputs'!I37),"",'Financial Inputs'!I37) | J37: =IF(ISBLANK('Financial Inputs'!J37),"",'Financial Inputs'!J37) | ... N37: =IF(ISBLANK('Financial Inputs'!N37),"",'Financial Inputs'!N37)
B38: =B25 -> d. Net Income Before Taxes | C38: =IF(ISBLANK('Financial Inputs'!C38),"",'Financial Inputs'!C38) | D38: =IF(ISBLANK('Financial Inputs'!D38),"",'Financial Inputs'!D38) | E38: =IF(ISBLANK('Financial Inputs'!E38),"",'Financial Inputs'!E38) | F38: =IF(ISBLANK('Financial Inputs'!F38),"",'Financial Inputs'!F38) | G38: =IF(ISBLANK('Financial Inputs'!G38),"",'Financial Inputs'!G38) | H38: =IF(ISBLANK('Financial Inputs'!H38),"",'Financial Inputs'!H38) | I38: =IF(ISBLANK('Financial Inputs'!I38),"",'Financial Inputs'!I38) | J38: =IF(ISBLANK('Financial Inputs'!J38),"",'Financial Inputs'!J38) | ... N38: =IF(ISBLANK('Financial Inputs'!N38),"",'Financial Inputs'!N38)
B39: =B26 -> e. Total Current Assets | C39: =IF(ISBLANK('Financial Inputs'!C39),"",'Financial Inputs'!C39) | D39: =IF(ISBLANK('Financial Inputs'!D39),"",'Financial Inputs'!D39) | E39: =IF(ISBLANK('Financial Inputs'!E39),"",'Financial Inputs'!E39) | F39: =IF(ISBLANK('Financial Inputs'!F39),"",'Financial Inputs'!F39) | G39: =IF(ISBLANK('Financial Inputs'!G39),"",'Financial Inputs'!G39) | H39: =IF(ISBLANK('Financial Inputs'!H39),"",'Financial Inputs'!H39) | I39: =IF(ISBLANK('Financial Inputs'!I39),"",'Financial Inputs'!I39) | J39: =IF(ISBLANK('Financial Inputs'!J39),"",'Financial Inputs'!J39) | ... N39: =IF(ISBLANK('Financial Inputs'!N39),"",'Financial Inputs'!N39)
B40: =B27 -> f. Total Current Liabilities | C40: =IF(ISBLANK('Financial Inputs'!C40),"",'Financial Inputs'!C40) | D40: =IF(ISBLANK('Financial Inputs'!D40),"",'Financial Inputs'!D40) | E40: =IF(ISBLANK('Financial Inputs'!E40),"",'Financial Inputs'!E40) | F40: =IF(ISBLANK('Financial Inputs'!F40),"",'Financial Inputs'!F40) | G40: =IF(ISBLANK('Financial Inputs'!G40),"",'Financial Inputs'!G40) | H40: =IF(ISBLANK('Financial Inputs'!H40),"",'Financial Inputs'!H40) | I40: =IF(ISBLANK('Financial Inputs'!I40),"",'Financial Inputs'!I40) | J40: =IF(ISBLANK('Financial Inputs'!J40),"",'Financial Inputs'!J40) | ... N40: =IF(ISBLANK('Financial Inputs'!N40),"",'Financial Inputs'!N40)
B41: =B28 -> g. Total Liabilities | C41: =IF(ISBLANK('Financial Inputs'!C41),"",'Financial Inputs'!C41) | D41: =IF(ISBLANK('Financial Inputs'!D41),"",'Financial Inputs'!D41) | E41: =IF(ISBLANK('Financial Inputs'!E41),"",'Financial Inputs'!E41) | F41: =IF(ISBLANK('Financial Inputs'!F41),"",'Financial Inputs'!F41) | G41: =IF(ISBLANK('Financial Inputs'!G41),"",'Financial Inputs'!G41) | H41: =IF(ISBLANK('Financial Inputs'!H41),"",'Financial Inputs'!H41) | I41: =IF(ISBLANK('Financial Inputs'!I41),"",'Financial Inputs'!I41) | J41: =IF(ISBLANK('Financial Inputs'!J41),"",'Financial Inputs'!J41) | ... N41: =IF(ISBLANK('Financial Inputs'!N41),"",'Financial Inputs'!N41)
B42: =B29 -> h. Total Liabilities and Stockholders' Equity | C42: =IF(ISBLANK('Financial Inputs'!C42),"",'Financial Inputs'!C42) | D42: =IF(ISBLANK('Financial Inputs'!D42),"",'Financial Inputs'!D42) | E42: =IF(ISBLANK('Financial Inputs'!E42),"",'Financial Inputs'!E42) | F42: =IF(ISBLANK('Financial Inputs'!F42),"",'Financial Inputs'!F42) | G42: =IF(ISBLANK('Financial Inputs'!G42),"",'Financial Inputs'!G42) | H42: =IF(ISBLANK('Financial Inputs'!H42),"",'Financial Inputs'!H42) | I42: =IF(ISBLANK('Financial Inputs'!I42),"",'Financial Inputs'!I42) | J42: =IF(ISBLANK('Financial Inputs'!J42),"",'Financial Inputs'!J42) | ... N42: =IF(ISBLANK('Financial Inputs'!N42),"",'Financial Inputs'!N42)
B44: Historical Monthly Financial Data in Dollars for: | C44: =IF(ISBLANK('General Inputs'!$C$14),"--",'General Inputs'!$C$14-3) -> --
B46: Year | C46: =$C44 -> -- | D46: =$C44 -> -- | E46: =$C44 -> -- | F46: =$C44 -> -- | G46: =$C44 -> -- | H46: =$C44 -> -- | I46: =$C44 -> -- | J46: =$C44 -> -- | ... N46: =$C44 -> --
B47: Month | C47: 1 | D47: 2 | E47: 3 | F47: 4 | G47: 5 | H47: 6 | I47: 7 | J47: 8 | K47: 9 | L47: 10 | M47: 11 | N47: 12
B48: =B35 -> a. Total Revenues Less Returns and Allowances | C48: =IF(ISBLANK('Financial Inputs'!C48),"",'Financial Inputs'!C48) | D48: =IF(ISBLANK('Financial Inputs'!D48),"",'Financial Inputs'!D48) | E48: =IF(ISBLANK('Financial Inputs'!E48),"",'Financial Inputs'!E48) | F48: =IF(ISBLANK('Financial Inputs'!F48),"",'Financial Inputs'!F48) | G48: =IF(ISBLANK('Financial Inputs'!G48),"",'Financial Inputs'!G48) | H48: =IF(ISBLANK('Financial Inputs'!H48),"",'Financial Inputs'!H48) | I48: =IF(ISBLANK('Financial Inputs'!I48),"",'Financial Inputs'!I48) | J48: =IF(ISBLANK('Financial Inputs'!J48),"",'Financial Inputs'!J48) | ... N48: =IF(ISBLANK('Financial Inputs'!N48),"",'Financial Inputs'!N48)
B49: =B36 -> b. Cost of Goods Sold | C49: =IF(ISBLANK('Financial Inputs'!C49),"",'Financial Inputs'!C49) | D49: =IF(ISBLANK('Financial Inputs'!D49),"",'Financial Inputs'!D49) | E49: =IF(ISBLANK('Financial Inputs'!E49),"",'Financial Inputs'!E49) | F49: =IF(ISBLANK('Financial Inputs'!F49),"",'Financial Inputs'!F49) | G49: =IF(ISBLANK('Financial Inputs'!G49),"",'Financial Inputs'!G49) | H49: =IF(ISBLANK('Financial Inputs'!H49),"",'Financial Inputs'!H49) | I49: =IF(ISBLANK('Financial Inputs'!I49),"",'Financial Inputs'!I49) | J49: =IF(ISBLANK('Financial Inputs'!J49),"",'Financial Inputs'!J49) | ... N49: =IF(ISBLANK('Financial Inputs'!N49),"",'Financial Inputs'!N49)
...

Sheet OUTPUTS -->
B1: ATP TOOL FOR PARTIAL-YEAR DATA FOR BUSINESSES
B3: [This tab is intentioanlly blank; it is merely a placeholder to indicate the following group of "OUTPUTS" tabs in this workbook.]

Sheet Financial Profile Monthly
B1: ATP TOOL FOR PARTIAL-YEAR DATA FOR BUSINESSES
B3: Financial Profile: Monthly Financial Statements
C5: ='Financial Inputs'!$C$70 -> -- | D5: ='Financial Inputs'!$C$70 -> -- | E5: ='Financial Inputs'!$C$70 -> -- | F5: ='Financial Inputs'!$C$70 -> -- | G5: ='Financial Inputs'!$C$70 -> -- | H5: ='Financial Inputs'!$C$70 -> -- | I5: ='Financial Inputs'!$C$70 -> -- | J5: ='Financial Inputs'!$C$70 -> -- | ... N5: ='Financial Inputs'!$C$70 -> -- | O5: ='Financial Inputs'!$C$57 -> -- | P5: ='Financial Inputs'!$C$57 -> -- | Q5: ='Financial Inputs'!$C$57 -> -- | R5: ='Financial Inputs'!$C$57 -> -- | S5: ='Financial Inputs'!$C$57 -> -- | T5: ='Financial Inputs'!$C$57 -> -- | U5: ='Financial Inputs'!$C$57 -> -- | V5: ='Financial Inputs'!$C$57 -> -- | ... Z5: ='Financial Inputs'!$C$57 -> -- | AA5: ='Financial Inputs'!$C$44 -> -- | AB5: ='Financial Inputs'!$C$44 -> -- | AC5: ='Financial Inputs'!$C$44 -> -- | AD5: ='Financial Inputs'!$C$44 -> -- | AE5: ='Financial Inputs'!$C$44 -> -- | AF5: ='Financial Inputs'!$C$44 -> -- | AG5: ='Financial Inputs'!$C$44 -> -- | AH5: ='Financial Inputs'!$C$44 -> -- | ... AL5: ='Financial Inputs'!$C$44 -> -- | AM5: ='Financial Inputs'!$C$31 -> -- | AN5: ='Financial Inputs'!$C$31 -> -- | AO5: ='Financial Inputs'!$C$31 -> -- | AP5: ='Financial Inputs'!$C$31 -> -- | AQ5: ='Financial Inputs'!$C$31 -> -- | AR5: ='Financial Inputs'!$C$31 -> -- | AS5: ='Financial Inputs'!$C$31 -> -- | AT5: ='Financial Inputs'!$C$31 -> -- | ... AX5: ='Financial Inputs'!$C$31 -> -- | AY5: ='Financial Inputs'!$C$18 -> -- | AZ5: ='Financial Inputs'!$C$18 -> -- | BA5: ='Financial Inputs'!$C$18 -> -- | BB5: ='Financial Inputs'!$C$18 -> -- | BC5: ='Financial Inputs'!$C$18 -> -- | BD5: ='Financial Inputs'!$C$18 -> -- | BE5: ='Financial Inputs'!$C$18 -> -- | BF5: ='Financial Inputs'!$C$18 -> -- | ... BJ5: ='Financial Inputs'!$C$18 -> -- | BK5: ='Financial Inputs'!$C$5 -> -- | BL5: ='Financial Inputs'!$C$5 -> -- | BM5: ='Financial Inputs'!$C$5 -> -- | BN5: ='Financial Inputs'!$C$5 -> -- | BO5: ='Financial Inputs'!$C$5 -> -- | BP5: ='Financial Inputs'!$C$5 -> -- | BQ5: ='Financial Inputs'!$C$5 -> -- | BR5: ='Financial Inputs'!$C$5 -> -- | ... BV5: ='Financial Inputs'!$C$5 -> --
B6: Monthly results in dollars as of | C6: 1 | D6: 2 | E6: 3 | F6: 4 | G6: 5 | H6: 6 | I6: 7 | J6: 8 | K6: 9 | L6: 10 | M6: 11 | N6: 12 | O6: 1 | P6: 2 | Q6: 3 | R6: 4 | S6: 5 | T6: 6 | U6: 7 | V6: 8 | W6: 9 | X6: 10 | Y6: 11 | Z6: 12 | AA6: 1 | AB6: 2 | AC6: 3 | AD6: 4 | AE6: 5 | AF6: 6 | AG6: 7 | AH6: 8 | AI6: 9 | AJ6: 10 | AK6: 11 | AL6: 12 | AM6: 1 | AN6: 2 | AO6: 3 | AP6: 4 | AQ6: 5 | AR6: 6 | AS6: 7 | AT6: 8 | AU6: 9 | AV6: 10 | AW6: 11 | AX6: 12 | AY6: 1 | AZ6: 2 | BA6: 3 | BB6: 4 | BC6: 5 | BD6: 6 | BE6: 7 | BF6: 8 | BG6: 9 | BH6: 10 | BI6: 11 | BJ6: 12 | BK6: 1 | BL6: 2 | BM6: 3 | BN6: 4 | BO6: 5 | BP6: 6 | BQ6: 7 | BR6: 8 | BS6: 9 | BT6: 10 | BU6: 11 | BV6: 12
B8: Balance Sheet
B10: Assets
B11: Total Current Assets | C11: ='Financial Inputs Clean'!C78 | D11: ='Financial Inputs Clean'!D78 | E11: ='Financial Inputs Clean'!E78 | F11: ='Financial Inputs Clean'!F78 | G11: ='Financial Inputs Clean'!G78 | H11: ='Financial Inputs Clean'!H78 | I11: ='Financial Inputs Clean'!I78 | J11: ='Financial Inputs Clean'!J78 | ... N11: ='Financial Inputs Clean'!N78 | O11: ='Financial Inputs Clean'!C65 | P11: ='Financial Inputs Clean'!D65 | Q11: ='Financial Inputs Clean'!E65 | R11: ='Financial Inputs Clean'!F65 | S11: ='Financial Inputs Clean'!G65 | T11: ='Financial Inputs Clean'!H65 | U11: ='Financial Inputs Clean'!I65 | V11: ='Financial Inputs Clean'!J65 | ... Z11: ='Financial Inputs Clean'!N65 | AA11: ='Financial Inputs Clean'!C52 | AB11: ='Financial Inputs Clean'!D52 | AC11: ='Financial Inputs Clean'!E52 | AD11: ='Financial Inputs Clean'!F52 | AE11: ='Financial Inputs Clean'!G52 | AF11: ='Financial Inputs Clean'!H52 | AG11: ='Financial Inputs Clean'!I52 | AH11: ='Financial Inputs Clean'!J52 | ... AL11: ='Financial Inputs Clean'!N52 | AM11: ='Financial Inputs Clean'!C39 | AN11: ='Financial Inputs Clean'!D39 | AO11: ='Financial Inputs Clean'!E39 | AP11: ='Financial Inputs Clean'!F39 | AQ11: ='Financial Inputs Clean'!G39 | AR11: ='Financial Inputs Clean'!H39 | AS11: ='Financial Inputs Clean'!I39 | AT11: ='Financial Inputs Clean'!J39 | ... AX11: ='Financial Inputs Clean'!N39 | AY11: ='Financial Inputs Clean'!C26 | AZ11: ='Financial Inputs Clean'!D26 | BA11: ='Financial Inputs Clean'!E26 | BB11: ='Financial Inputs Clean'!F26 | BC11: ='Financial Inputs Clean'!G26 | BD11: ='Financial Inputs Clean'!H26 | BE11: ='Financial Inputs Clean'!I26 | BF11: ='Financial Inputs Clean'!J26 | ... BJ11: ='Financial Inputs Clean'!N26 | BK11: ='Financial Inputs Clean'!C13 | BL11: ='Financial Inputs Clean'!D13 | BM11: ='Financial Inputs Clean'!E13 | BN11: ='Financial Inputs Clean'!F13 | BO11: ='Financial Inputs Clean'!G13 | BP11: ='Financial Inputs Clean'!H13 | BQ11: ='Financial Inputs Clean'!I13 | BR11: ='Financial Inputs Clean'!J13 | ... BV11: ='Financial Inputs Clean'!N13
B12: Total Other Assets | C12: =IFERROR(C13-C11,"") | D12: =IFERROR(D13-D11,"") | E12: =IFERROR(E13-E11,"") | F12: =IFERROR(F13-F11,"") | G12: =IFERROR(G13-G11,"") | H12: =IFERROR(H13-H11,"") | I12: =IFERROR(I13-I11,"") | J12: =IFERROR(J13-J11,"") | ... BV12: =IFERROR(BV13-BV11,"")
B13: Total Assets | C13: =C20 | D13: =D20 | E13: =E20 | F13: =F20 | G13: =G20 | H13: =H20 | I13: =I20 | J13: =J20 | ... BV13: =BV20
B15: Liabilities and Stockholders' Equity
B16: Total Current Liabilities | C16: ='Financial Inputs Clean'!C79 | D16: ='Financial Inputs Clean'!D79 | E16: ='Financial Inputs Clean'!E79 | F16: ='Financial Inputs Clean'!F79 | G16: ='Financial Inputs Clean'!G79 | H16: ='Financial Inputs Clean'!H79 | I16: ='Financial Inputs Clean'!I79 | J16: ='Financial Inputs Clean'!J79 | ... N16: ='Financial Inputs Clean'!N79 | O16: ='Financial Inputs Clean'!C66 | P16: ='Financial Inputs Clean'!D66 | Q16: ='Financial Inputs Clean'!E66 | R16: ='Financial Inputs Clean'!F66 | S16: ='Financial Inputs Clean'!G66 | T16: ='Financial Inputs Clean'!H66 | U16: ='Financial Inputs Clean'!I66 | V16: ='Financial Inputs Clean'!J66 | ... Z16: ='Financial Inputs Clean'!N66 | AA16: ='Financial Inputs Clean'!C53 | AB16: ='Financial Inputs Clean'!D53 | AC16: ='Financial Inputs Clean'!E53 | AD16: ='Financial Inputs Clean'!F53 | AE16: ='Financial Inputs Clean'!G53 | AF16: ='Financial Inputs Clean'!H53 | AG16: ='Financial Inputs Clean'!I53 | AH16: ='Financial Inputs Clean'!J53 | ... AL16: ='Financial Inputs Clean'!N53 | AM16: ='Financial Inputs Clean'!C40 | AN16: ='Financial Inputs Clean'!D40 | AO16: ='Financial Inputs Clean'!E40 | AP16: ='Financial Inputs Clean'!F40 | AQ16: ='Financial Inputs Clean'!G40 | AR16: ='Financial Inputs Clean'!H40 | AS16: ='Financial Inputs Clean'!I40 | AT16: ='Financial Inputs Clean'!J40 | ... AX16: ='Financial Inputs Clean'!N40 | AY16: ='Financial Inputs Clean'!C27 | AZ16: ='Financial Inputs Clean'!D27 | BA16: ='Financial Inputs Clean'!E27 | BB16: ='Financial Inputs Clean'!F27 | BC16: ='Financial Inputs Clean'!G27 | BD16: ='Financial Inputs Clean'!H27 | BE16: ='Financial Inputs Clean'!I27 | BF16: ='Financial Inputs Clean'!J27 | ... BJ16: ='Financial Inputs Clean'!N27 | BK16: ='Financial Inputs Clean'!C14 | BL16: ='Financial Inputs Clean'!D14 | BM16: ='Financial Inputs Clean'!E14 | BN16: ='Financial Inputs Clean'!F14 | BO16: ='Financial Inputs Clean'!G14 | BP16: ='Financial Inputs Clean'!H14 | BQ16: ='Financial Inputs Clean'!I14 | BR16: ='Financial Inputs Clean'!J14 | ... BV16: ='Financial Inputs Clean'!N14
B17: Total Non-Current Liabilities | C17: =IFERROR(C18-C16,"") | D17: =IFERROR(D18-D16,"") | E17: =IFERROR(E18-E16,"") | F17: =IFERROR(F18-F16,"") | G17: =IFERROR(G18-G16,"") | H17: =IFERROR(H18-H16,"") | I17: =IFERROR(I18-I16,"") | J17: =IFERROR(J18-J16,"") | ... BV17: =IFERROR(BV18-BV16,"")
B18: Total Liabilities | C18: ='Financial Inputs Clean'!C80 | D18: ='Financial Inputs Clean'!D80 | E18: ='Financial Inputs Clean'!E80 | F18: ='Financial Inputs Clean'!F80 | G18: ='Financial Inputs Clean'!G80 | H18: ='Financial Inputs Clean'!H80 | I18: ='Financial Inputs Clean'!I80 | J18: ='Financial Inputs Clean'!J80 | ... N18: ='Financial Inputs Clean'!N80 | O18: ='Financial Inputs Clean'!C67 | P18: ='Financial Inputs Clean'!D67 | Q18: ='Financial Inputs Clean'!E67 | R18: ='Financial Inputs Clean'!F67 | S18: ='Financial Inputs Clean'!G67 | T18: ='Financial Inputs Clean'!H67 | U18: ='Financial Inputs Clean'!I67 | V18: ='Financial Inputs Clean'!J67 | ... Z18: ='Financial Inputs Clean'!N67 | AA18: ='Financial Inputs Clean'!C54 | AB18: ='Financial Inputs Clean'!D54 | AC18: ='Financial Inputs Clean'!E54 | AD18: ='Financial Inputs Clean'!F54 | AE18: ='Financial Inputs Clean'!G54 | AF18: ='Financial Inputs Clean'!H54 | AG18: ='Financial Inputs Clean'!I54 | AH18: ='Financial Inputs Clean'!J54 | ... AL18: ='Financial Inputs Clean'!N54 | AM18: ='Financial Inputs Clean'!C41 | AN18: ='Financial Inputs Clean'!D41 | AO18: ='Financial Inputs Clean'!E41 | AP18: ='Financial Inputs Clean'!F41 | AQ18: ='Financial Inputs Clean'!G41 | AR18: ='Financial Inputs Clean'!H41 | AS18: ='Financial Inputs Clean'!I41 | AT18: ='Financial Inputs Clean'!J41 | ... AX18: ='Financial Inputs Clean'!N41 | AY18: ='Financial Inputs Clean'!C28 | AZ18: ='Financial Inputs Clean'!D28 | BA18: ='Financial Inputs Clean'!E28 | BB18: ='Financial Inputs Clean'!F28 | BC18: ='Financial Inputs Clean'!G28 | BD18: ='Financial Inputs Clean'!H28 | BE18: ='Financial Inputs Clean'!I28 | BF18: ='Financial Inputs Clean'!J28 | ... BJ18: ='Financial Inputs Clean'!N28 | BK18: ='Financial Inputs Clean'!C15 | BL18: ='Financial Inputs Clean'!D15 | BM18: ='Financial Inputs Clean'!E15 | BN18: ='Financial Inputs Clean'!F15 | BO18: ='Financial Inputs Clean'!G15 | BP18: ='Financial Inputs Clean'!H15 | BQ18: ='Financial Inputs Clean'!I15 | BR18: ='Financial Inputs Clean'!J15 | ... BV18: ='Financial Inputs Clean'!N15
B19: Total Stockholders' Equity | C19: =IFERROR(C20-C18,"") | D19: =IFERROR(D20-D18,"") | E19: =IFERROR(E20-E18,"") | F19: =IFERROR(F20-F18,"") | G19: =IFERROR(G20-G18,"") | H19: =IFERROR(H20-H18,"") | I19: =IFERROR(I20-I18,"") | J19: =IFERROR(J20-J18,"") | ... BV19: =IFERROR(BV20-BV18,"")
B20: Total Liabilities and Stockholders' Equity | C20: ='Financial Inputs Clean'!C81 | D20: ='Financial Inputs Clean'!D81 | E20: ='Financial Inputs Clean'!E81 | F20: ='Financial Inputs Clean'!F81 | G20: ='Financial Inputs Clean'!G81 | H20: ='Financial Inputs Clean'!H81 | I20: ='Financial Inputs Clean'!I81 | J20: ='Financial Inputs Clean'!J81 | ... N20: ='Financial Inputs Clean'!N81 | O20: ='Financial Inputs Clean'!C68 | P20: ='Financial Inputs Clean'!D68 | Q20: ='Financial Inputs Clean'!E68 | R20: ='Financial Inputs Clean'!F68 | S20: ='Financial Inputs Clean'!G68 | T20: ='Financial Inputs Clean'!H68 | U20: ='Financial Inputs Clean'!I68 | V20: ='Financial Inputs Clean'!J68 | ... Z20: ='Financial Inputs Clean'!N68 | AA20: ='Financial Inputs Clean'!C55 | AB20: ='Financial Inputs Clean'!D55 | AC20: ='Financial Inputs Clean'!E55 | AD20: ='Financial Inputs Clean'!F55 | AE20: ='Financial Inputs Clean'!G55 | AF20: ='Financial Inputs Clean'!H55 | AG20: ='Financial Inputs Clean'!I55 | AH20: ='Financial Inputs Clean'!J55 | ... AL20: ='Financial Inputs Clean'!N55 | AM20: ='Financial Inputs Clean'!C42 | AN20: ='Financial Inputs Clean'!D42 | AO20: ='Financial Inputs Clean'!E42 | AP20: ='Financial Inputs Clean'!F42 | AQ20: ='Financial Inputs Clean'!G42 | AR20: ='Financial Inputs Clean'!H42 | AS20: ='Financial Inputs Clean'!I42 | AT20: ='Financial Inputs Clean'!J42 | ... AX20: ='Financial Inputs Clean'!N42 | AY20: ='Financial Inputs Clean'!C29 | AZ20: ='Financial Inputs Clean'!D29 | BA20: ='Financial Inputs Clean'!E29 | BB20: ='Financial Inputs Clean'!F29 | BC20: ='Financial Inputs Clean'!G29 | BD20: ='Financial Inputs Clean'!H29 | BE20: ='Financial Inputs Clean'!I29 | BF20: ='Financial Inputs Clean'!J29 | ... BJ20: ='Financial Inputs Clean'!N29 | BK20: ='Financial Inputs Clean'!C16 | BL20: ='Financial Inputs Clean'!D16 | BM20: ='Financial Inputs Clean'!E16 | BN20: ='Financial Inputs Clean'!F16 | BO20: ='Financial Inputs Clean'!G16 | BP20: ='Financial Inputs Clean'!H16 | BQ20: ='Financial Inputs Clean'!I16 | BR20: ='Financial Inputs Clean'!J16 | ... BV20: ='Financial Inputs Clean'!N16
B22: Income Statement
B24: Total Revenues Less Returns and Allowances | C24: ='Financial Inputs Clean'!C74 | D24: ='Financial Inputs Clean'!D74 | E24: ='Financial Inputs Clean'!E74 | F24: ='Financial Inputs Clean'!F74 | G24: ='Financial Inputs Clean'!G74 | H24: ='Financial Inputs Clean'!H74 | I24: ='Financial Inputs Clean'!I74 | J24: ='Financial Inputs Clean'!J74 | ... N24: ='Financial Inputs Clean'!N74 | O24: ='Financial Inputs Clean'!C61 | P24: ='Financial Inputs Clean'!D61 | Q24: ='Financial Inputs Clean'!E61 | R24: ='Financial Inputs Clean'!F61 | S24: ='Financial Inputs Clean'!G61 | T24: ='Financial Inputs Clean'!H61 | U24: ='Financial Inputs Clean'!I61 | V24: ='Financial Inputs Clean'!J61 | ... Z24: ='Financial Inputs Clean'!N61 | AA24: ='Financial Inputs Clean'!C48 | AB24: ='Financial Inputs Clean'!D48 | AC24: ='Financial Inputs Clean'!E48 | AD24: ='Financial Inputs Clean'!F48 | AE24: ='Financial Inputs Clean'!G48 | AF24: ='Financial Inputs Clean'!H48 | AG24: ='Financial Inputs Clean'!I48 | AH24: ='Financial Inputs Clean'!J48 | ... AL24: ='Financial Inputs Clean'!N48 | AM24: ='Financial Inputs Clean'!C35 | AN24: ='Financial Inputs Clean'!D35 | AO24: ='Financial Inputs Clean'!E35 | AP24: ='Financial Inputs Clean'!F35 | AQ24: ='Financial Inputs Clean'!G35 | AR24: ='Financial Inputs Clean'!H35 | AS24: ='Financial Inputs Clean'!I35 | AT24: ='Financial Inputs Clean'!J35 | ... AX24: ='Financial Inputs Clean'!N35 | AY24: ='Financial Inputs Clean'!C22 | AZ24: ='Financial Inputs Clean'!D22 | BA24: ='Financial Inputs Clean'!E22 | BB24: ='Financial Inputs Clean'!F22 | BC24: ='Financial Inputs Clean'!G22 | BD24: ='Financial Inputs Clean'!H22 | BE24: ='Financial Inputs Clean'!I22 | BF24: ='Financial Inputs Clean'!J22 | ... BJ24: ='Financial Inputs Clean'!N22 | BK24: ='Financial Inputs Clean'!C9 | BL24: ='Financial Inputs Clean'!D9 | BM24: ='Financial Inputs Clean'!E9 | BN24: ='Financial Inputs Clean'!F9 | BO24: ='Financial Inputs Clean'!G9 | BP24: ='Financial Inputs Clean'!H9 | BQ24: ='Financial Inputs Clean'!I9 | BR24: ='Financial Inputs Clean'!J9 | ... BV24: ='Financial Inputs Clean'!N9
B25: Cost of Goods Sold | C25: ='Financial Inputs Clean'!C75 | D25: ='Financial Inputs Clean'!D75 | E25: ='Financial Inputs Clean'!E75 | F25: ='Financial Inputs Clean'!F75 | G25: ='Financial Inputs Clean'!G75 | H25: ='Financial Inputs Clean'!H75 | I25: ='Financial Inputs Clean'!I75 | J25: ='Financial Inputs Clean'!J75 | ... N25: ='Financial Inputs Clean'!N75 | O25: ='Financial Inputs Clean'!C62 | P25: ='Financial Inputs Clean'!D62 | Q25: ='Financial Inputs Clean'!E62 | R25: ='Financial Inputs Clean'!F62 | S25: ='Financial Inputs Clean'!G62 | T25: ='Financial Inputs Clean'!H62 | U25: ='Financial Inputs Clean'!I62 | V25: ='Financial Inputs Clean'!J62 | ... Z25: ='Financial Inputs Clean'!N62 | AA25: ='Financial Inputs Clean'!C49 | AB25: ='Financial Inputs Clean'!D49 | AC25: ='Financial Inputs Clean'!E49 | AD25: ='Financial Inputs Clean'!F49 | AE25: ='Financial Inputs Clean'!G49 | AF25: ='Financial Inputs Clean'!H49 | AG25: ='Financial Inputs Clean'!I49 | AH25: ='Financial Inputs Clean'!J49 | ... AL25: ='Financial Inputs Clean'!N49 | AM25: ='Financial Inputs Clean'!C36 | AN25: ='Financial Inputs Clean'!D36 | AO25: ='Financial Inputs Clean'!E36 | AP25: ='Financial Inputs Clean'!F36 | AQ25: ='Financial Inputs Clean'!G36 | AR25: ='Financial Inputs Clean'!H36 | AS25: ='Financial Inputs Clean'!I36 | AT25: ='Financial Inputs Clean'!J36 | ... AX25: ='Financial Inputs Clean'!N36 | AY25: ='Financial Inputs Clean'!C23 | AZ25: ='Financial Inputs Clean'!D23 | BA25: ='Financial Inputs Clean'!E23 | BB25: ='Financial Inputs Clean'!F23 | BC25: ='Financial Inputs Clean'!G23 | BD25: ='Financial Inputs Clean'!H23 | BE25: ='Financial Inputs Clean'!I23 | BF25: ='Financial Inputs Clean'!J23 | ... BJ25: ='Financial Inputs Clean'!N23 | BK25: ='Financial Inputs Clean'!C10 | BL25: ='Financial Inputs Clean'!D10 | BM25: ='Financial Inputs Clean'!E10 | BN25: ='Financial Inputs Clean'!F10 | BO25: ='Financial Inputs Clean'!G10 | BP25: ='Financial Inputs Clean'!H10 | BQ25: ='Financial Inputs Clean'!I10 | BR25: ='Financial Inputs Clean'!J10 | ... BV25: ='Financial Inputs Clean'!N10
B26: Gross Profit | C26: =IFERROR(C24-C25,"") | D26: =IFERROR(D24-D25,"") | E26: =IFERROR(E24-E25,"") | F26: =IFERROR(F24-F25,"") | G26: =IFERROR(G24-G25,"") | H26: =IFERROR(H24-H25,"") | I26: =IFERROR(I24-I25,"") | J26: =IFERROR(J24-J25,"") | ... BV26: =IFERROR(BV24-BV25,"")
B27: Other Expenses and Income
B28: Depreciation, Depletion, and Amortization | C28: ='Financial Inputs Clean'!C76 | D28: ='Financial Inputs Clean'!D76 | E28: ='Financial Inputs Clean'!E76 | F28: ='Financial Inputs Clean'!F76 | G28: ='Financial Inputs Clean'!G76 | H28: ='Financial Inputs Clean'!H76 | I28: ='Financial Inputs Clean'!I76 | J28: ='Financial Inputs Clean'!J76 | ... N28: ='Financial Inputs Clean'!N76 | O28: ='Financial Inputs Clean'!C63 | P28: ='Financial Inputs Clean'!D63 | Q28: ='Financial Inputs Clean'!E63 | R28: ='Financial Inputs Clean'!F63 | S28: ='Financial Inputs Clean'!G63 | T28: ='Financial Inputs Clean'!H63 | U28: ='Financial Inputs Clean'!I63 | V28: ='Financial Inputs Clean'!J63 | ... Z28: ='Financial Inputs Clean'!N63 | AA28: ='Financial Inputs Clean'!C50 | AB28: ='Financial Inputs Clean'!D50 | AC28: ='Financial Inputs Clean'!E50 | AD28: ='Financial Inputs Clean'!F50 | AE28: ='Financial Inputs Clean'!G50 | AF28: ='Financial Inputs Clean'!H50 | AG28: ='Financial Inputs Clean'!I50 | AH28: ='Financial Inputs Clean'!J50 | ... AL28: ='Financial Inputs Clean'!N50 | AM28: ='Financial Inputs Clean'!C37 | AN28: ='Financial Inputs Clean'!D37 | AO28: ='Financial Inputs Clean'!E37 | AP28: ='Financial Inputs Clean'!F37 | AQ28: ='Financial Inputs Clean'!G37 | AR28: ='Financial Inputs Clean'!H37 | AS28: ='Financial Inputs Clean'!I37 | AT28: ='Financial Inputs Clean'!J37 | ... AX28: ='Financial Inputs Clean'!N37 | AY28: ='Financial Inputs Clean'!C24 | AZ28: ='Financial Inputs Clean'!D24 | BA28: ='Financial Inputs Clean'!E24 | BB28: ='Financial Inputs Clean'!F24 | BC28: ='Financial Inputs Clean'!G24 | BD28: ='Financial Inputs Clean'!H24 | BE28: ='Financial Inputs Clean'!I24 | BF28: ='Financial Inputs Clean'!J24 | ... BJ28: ='Financial Inputs Clean'!N24 | BK28: ='Financial Inputs Clean'!C11 | BL28: ='Financial Inputs Clean'!D11 | BM28: ='Financial Inputs Clean'!E11 | BN28: ='Financial Inputs Clean'!F11 | BO28: ='Financial Inputs Clean'!G11 | BP28: ='Financial Inputs Clean'!H11 | BQ28: ='Financial Inputs Clean'!I11 | BR28: ='Financial Inputs Clean'!J11 | ... BV28: ='Financial Inputs Clean'!N11
B29: Other Expenses (Income) | C29: =IFERROR(C30-C28,"") | D29: =IFERROR(D30-D28,"") | E29: =IFERROR(E30-E28,"") | F29: =IFERROR(F30-F28,"") | G29: =IFERROR(G30-G28,"") | H29: =IFERROR(H30-H28,"") | I29: =IFERROR(I30-I28,"") | J29: =IFERROR(J30-J28,"") | ... BV29: =IFERROR(BV30-BV28,"")
B30: Total Expenses (Income) | C30: =IFERROR(C26-C31,"") | D30: =IFERROR(D26-D31,"") | E30: =IFERROR(E26-E31,"") | F30: =IFERROR(F26-F31,"") | G30: =IFERROR(G26-G31,"") | H30: =IFERROR(H26-H31,"") | I30: =IFERROR(I26-I31,"") | J30: =IFERROR(J26-J31,"") | ... BV30: =IFERROR(BV26-BV31,"")
B31: Net Income Before Taxes | C31: ='Financial Inputs Clean'!C77 | D31: ='Financial Inputs Clean'!D77 | E31: ='Financial Inputs Clean'!E77 | F31: ='Financial Inputs Clean'!F77 | G31: ='Financial Inputs Clean'!G77 | H31: ='Financial Inputs Clean'!H77 | I31: ='Financial Inputs Clean'!I77 | J31: ='Financial Inputs Clean'!J77 | ... N31: ='Financial Inputs Clean'!N77 | O31: ='Financial Inputs Clean'!C64 | P31: ='Financial Inputs Clean'!D64 | Q31: ='Financial Inputs Clean'!E64 | R31: ='Financial Inputs Clean'!F64 | S31: ='Financial Inputs Clean'!G64 | T31: ='Financial Inputs Clean'!H64 | U31: ='Financial Inputs Clean'!I64 | V31: ='Financial Inputs Clean'!J64 | ... Z31: ='Financial Inputs Clean'!N64 | AA31: ='Financial Inputs Clean'!C51 | AB31: ='Financial Inputs Clean'!D51 | AC31: ='Financial Inputs Clean'!E51 | AD31: ='Financial Inputs Clean'!F51 | AE31: ='Financial Inputs Clean'!G51 | AF31: ='Financial Inputs Clean'!H51 | AG31: ='Financial Inputs Clean'!I51 | AH31: ='Financial Inputs Clean'!J51 | ... AL31: ='Financial Inputs Clean'!N51 | AM31: ='Financial Inputs Clean'!C38 | AN31: ='Financial Inputs Clean'!D38 | AO31: ='Financial Inputs Clean'!E38 | AP31: ='Financial Inputs Clean'!F38 | AQ31: ='Financial Inputs Clean'!G38 | AR31: ='Financial Inputs Clean'!H38 | AS31: ='Financial Inputs Clean'!I38 | AT31: ='Financial Inputs Clean'!J38 | ... AX31: ='Financial Inputs Clean'!N38 | AY31: ='Financial Inputs Clean'!C25 | AZ31: ='Financial Inputs Clean'!D25 | BA31: ='Financial Inputs Clean'!E25 | BB31: ='Financial Inputs Clean'!F25 | BC31: ='Financial Inputs Clean'!G25 | BD31: ='Financial Inputs Clean'!H25 | BE31: ='Financial Inputs Clean'!I25 | BF31: ='Financial Inputs Clean'!J25 | ... BJ31: ='Financial Inputs Clean'!N25 | BK31: ='Financial Inputs Clean'!C12 | BL31: ='Financial Inputs Clean'!D12 | BM31: ='Financial Inputs Clean'!E12 | BN31: ='Financial Inputs Clean'!F12 | BO31: ='Financial Inputs Clean'!G12 | BP31: ='Financial Inputs Clean'!H12 | BQ31: ='Financial Inputs Clean'!I12 | BR31: ='Financial Inputs Clean'!J12 | ... BV31: ='Financial Inputs Clean'!N12
B33: Summary of Estimated Cash Flow
B35: Net Income Before Taxes | C35: =C31 | D35: =D31 | E35: =E31 | F35: =F31 | G35: =G31 | H35: =H31 | I35: =I31 | J35: =J31 | ... BV35: =BV31
B36: Depreciation, Depletion, and Amortization | C36: =C28 | D36: =D28 | E36: =E28 | F36: =F28 | G36: =G28 | H36: =H28 | I36: =I28 | J36: =J28 | ... BV36: =BV28
B37: Estimated Pre-Tax Cash Flow | C37: =IFERROR(C36+C35,"") | D37: =IFERROR(D36+D35,"") | E37: =IFERROR(E36+E35,"") | F37: =IFERROR(F36+F35,"") | G37: =IFERROR(G36+G35,"") | H37: =IFERROR(H36+H35,"") | I37: =IFERROR(I36+I35,"") | J37: =IFERROR(J36+J35,"") | ... BV37: =IFERROR(BV36+BV35,"")

Sheet Financial Profile YTD
B1: ATP TOOL FOR PARTIAL-YEAR DATA FOR BUSINESSES
B3: ="Financial Profile: Year-to-Date (YTD) Financial Statements through "&'General Inputs'!C15 -> Financial Profile: Year-to-Date (YTD) Financial Statements through | J3: =IF(ISBLANK('General Inputs'!$C$14),"Current Year YTD Compared to Prior Year(s):",'General Inputs'!$C$14&" YTD Compared to Prior Year(s):") -> Current Year YTD Compared to Prior Year(s):
J5: =IF(ISBLANK('General Inputs'!$C$14),"Current Year YTD less",'General Inputs'!$C$14&" YTD less") -> Current Year YTD less | M5: =IF(ISBLANK('General Inputs'!$C$14),"Current Year YTD less",'General Inputs'!$C$14&" YTD less") -> Current Year YTD less
C6: ='Financial Inputs'!$C$70 -> -- | D6: ='Financial Inputs'!$C$57 -> -- | E6: ='Financial Inputs'!$C$44 -> -- | F6: ='Financial Inputs'!$C$31 -> -- | G6: ='Financial Inputs'!$C$18 -> -- | H6: ='Financial Inputs'!$C$5 -> -- | J6: =IF(ISBLANK('General Inputs'!$C$14),"Prior Year YTD",'General Inputs'!$C$14-1&" YTD") -> Prior Year YTD | M6: =IF(ISBLANK('General Inputs'!$C$14),"Average of Historical YTD Data",IF(OR(ISBLANK('General Inputs'!$C$16),'General Inputs'!$C$16='Background Data'!$L$8),"Historical Average YTD", "Average of "&VLOOKUP('General Inputs'!$C$16,'Background Data'!$L$8:$M$12,2,FALSE)&" YTD")) -> Average of Historical YTD Data
B7: Year-to-date results in dollars through | C7: =IF(ISBLANK('General Inputs'!$C$15),"--",'General Inputs'!$C$15) -> -- | D7: =IF(ISBLANK('General Inputs'!$C$15),"--",'General Inputs'!$C$15) -> -- | E7: =IF(ISBLANK('General Inputs'!$C$15),"--",'General Inputs'!$C$15) -> -- | F7: =IF(ISBLANK('General Inputs'!$C$15),"--",'General Inputs'!$C$15) -> -- | G7: =IF(ISBLANK('General Inputs'!$C$15),"--",'General Inputs'!$C$15) -> -- | H7: =IF(ISBLANK('General Inputs'!$C$15),"--",'General Inputs'!$C$15) -> -- | J7: $ Change | K7: % Change | M7: Average | N7: $ Change | O7: % Change
B9: Balance Sheet
B11: Assets
B12: Total Current Assets | C12: {=IFERROR(INDEX('Financial Profile Monthly'!$C$7:$BV$38,MATCH($B12,'Financial Profile Monthly'!$B$7:$B$38,0), MATCH(1,('Financial Profile Monthly'!$C$5:$BV$5=C$6)*('Financial Profile Monthly'!$C$6:$BV$6=VLOOKUP(C$7,'Background Data'!$D$8:$E$19,2,FALSE)),0)),"")} | D12: {=IFERROR(INDEX('Financial Profile Monthly'!$C$7:$BV$38,MATCH($B12,'Financial Profile Monthly'!$B$7:$B$38,0), MATCH(1,('Financial Profile Monthly'!$C$5:$BV$5=D$6)*('Financial Profile Monthly'!$C$6:$BV$6=VLOOKUP(D$7,'Background Data'!$D$8:$E$19,2,FALSE)),0)),"")} | E12: {=IFERROR(INDEX('Financial Profile Monthly'!$C$7:$BV$38,MATCH($B12,'Financial Profile Monthly'!$B$7:$B$38,0), MATCH(1,('Financial Profile Monthly'!$C$5:$BV$5=E$6)*('Financial Profile Monthly'!$C$6:$BV$6=VLOOKUP(E$7,'Background Data'!$D$8:$E$19,2,FALSE)),0)),"")} | F12: {=IFERROR(INDEX('Financial Profile Monthly'!$C$7:$BV$38,MATCH($B12,'Financial Profile Monthly'!$B$7:$B$38,0), MATCH(1,('Financial Profile Monthly'!$C$5:$BV$5=F$6)*('Financial Profile Monthly'!$C$6:$BV$6=VLOOKUP(F$7,'Background Data'!$D$8:$E$19,2,FALSE)),0)),"")} | G12: {=IFERROR(INDEX('Financial Profile Monthly'!$C$7:$BV$38,MATCH($B12,'Financial Profile Monthly'!$B$7:$B$38,0), MATCH(1,('Financial Profile Monthly'!$C$5:$BV$5=G$6)*('Financial Profile Monthly'!$C$6:$BV$6=VLOOKUP(G$7,'Background Data'!$D$8:$E$19,2,FALSE)),0)),"")} | H12: {=IFERROR(INDEX('Financial Profile Monthly'!$C$7:$BV$38,MATCH($B12,'Financial Profile Monthly'!$B$7:$B$38,0), MATCH(1,('Financial Profile Monthly'!$C$5:$BV$5=H$6)*('Financial Profile Monthly'!$C$6:$BV$6=VLOOKUP(H$7,'Background Data'!$D$8:$E$19,2,FALSE)),0)),"")} | J12: =IF(OR(ISBLANK('General Inputs'!$C$14),AND(ISBLANK($H12),ISBLANK(G12))),"",IFERROR($H12-G12,"")) | K12: =IF(ISBLANK('General Inputs'!$C$14),"",IF(AND(H12=0,G12=0),"N/A*",IFERROR(IF(MIN(H12,G12)<=0,IF((H12-G12)>0,"P*","N*"),(H12/G12)-1),""))) | M12: =IFERROR(IF('General Inputs'!$C$16='Background Data'!$L$12,AVERAGE(C12:G12), IF('General Inputs'!$C$16='Background Data'!$L$11,AVERAGE(D12:G12), IF('General Inputs'!$C$16='Background Data'!$L$10,AVERAGE(E12:G12), IF('General Inputs'!$C$16='Background Data'!$L$9,AVERAGE(F12:G12),"")))),"") | N12: =IFERROR(H12-M12,"") | O12: =IF(AND(H12=0,M12=0),"N/A*",IFERROR(IF(MIN(H12,M12)<=0,IF((H12-M12)>0,"P*","N*"),(H12/M12)-1),""))
