Workbook

Sheet AIM Level Calculator
A1: 2021 Multi-Sector General Permit Additional Implementation Measures (AIM) Requirements Calculator
A2: NOTE:
A3: This tool is intended to help operators determine their AIM level status in accordance with Part 5.2 of EPA's 2021 Multi-Sector General Permit. Use of the tool is optional. Operators should review Part 5.2 of the MSGP prior to using the tool. If you have sugestions on improvements to this tool, email msgp@epa.gov.
A4: KEY:
A5: User Input:
A6: Results:
A7: DIRECTIONS:
A8: Hardness-based Benchmark Thresholds: If you are subject to benchmark thresholds for a hardness-based metal(s), enter your hardness in Cell B14 (shaded light blue), below. Once you have entered the hardness, the applicable benchmark threshold(s) for each pollutant listed in Column A will populate in Column C.
A9: Entering Monitoring Results: Once you receive discharge authorization, you are in baseline status for each of your benchmark pollutants. Starting in the 1st quarter of baseline, enter your quarterly monitoring results in the input cells (light blue) for each quarterly monitoring period in which a sample is taken.
A10: AIM Triggering Events: If AIM requirements are triggered for a pollutant (per part 5.2.2 of the permit), the AIM Status column will denote the AIM Level for that pollutant. Once you trigger an AIM Level, enter your next quarterly monitoring result in the 1st Quarter column of the corresponding AIM Level. For example, if your first quarterly monitoring result while in AIM Level 1 is greater than four times the benchmark threshold, you would trigger AIM Level 2 and enter your next quarterly monitoring result in the 1st Quarter column of AIM Level 2. Note that you may be in different AIM Levels for different benchmark pollutants at the same time.
A11: AIM Responses: If an AIM triggering event occurs, you must follow the response procedures described in Parts 5.2.3 (AIM Level 1), 5.2.4 (AIM Level 2), and 5.2.5 (AIM Level 3) and continue quarterly benchmark monitoring.
A12: Return to Baseline Status: You will return to baseline status if the AIM Level responses have been met and continued quarterly benchmark monitoring results indicate that an AIM triggering event per Part 5.2.2 has not occurred after four quarters of monitoring for that parameter. The AIM Status column will change to denote "Baseline" when the average of four quarterly monitoring results is below the applicable benchmark threshold. If you return to baseline status in the first 3 years after discharge authorization, you may discontinue quarterly monitoring until Year 4. In such instances, you are encouraged enter your Year 4 quarterly monitoring results in a clean version of the tool, starting in the 1st quarter of baseline.
A14: Enter Hardness (in mg/L):
A15: Pollutant | B15: Freshwater / Saltwater | C15: Benchmark Threshold (Table 4-2 2021 MSGP Benchmark Thresholds) | D15: Units | E15: Baseline: 1st Quarter | F15: Baseline: 2nd Quarter | G15: Baseline: 3rd Quarter | H15: Baseline: 4th Quarter | I15: AIM Status | J15: AIM Level 1: 1st Quarter | K15: AIM Level 1: 2nd Quarter | L15: AIM Level 1: 3rd Quarter | M15: AIM Level 1: 4th Quarter | N15: AIM Status | O15: AIM Level 2: 1st Quarter | P15: AIM Level 2: 2nd Quarter | Q15: AIM Level 2: 3rd Quarter | R15: AIM Level 2: 4th Quarter | S15: AIM Status | T15: AIM Level 3: 1st Quarter | U15: AIM Level 3: 2nd Quarter | V15: AIM Level 3: 3rd Quarter | W15: AIM Level 3: 4th Quarter | X15: AIM Status | Y15: AIM Level 3 (continued): 1st Quarter | Z15: AIM Level 3 (continued): 2nd Quarter | AA15: AIM Level 3 (continued): 3rd Quarter | AB15: AIM Level 3 (continued): 4th Quarter | AC15: AIM Status
A16: Total Recoverable Aluminum | C16: 1100 | D16: µg/L | I16: =IF(COUNTA(E16:H16)=4,(IF(AVERAGE(E16:H16)>$C16,"AIM Level 1","Baseline")),(IF((SUM(E16:H16))>($C16*4),"AIM Level 1","Baseline"))) -> Baseline | N16: =IF(COUNTA(J16:M16)=0,"",(IF(COUNTA(J16:M16)=4,(IF(AVERAGE(J16:M16)>$C16,"AIM Level 2","Baseline")),(IF((SUM(J16:M16))>($C16*4),"AIM Level 2",I16))))) | S16: =IF(COUNTA(O16:R16)=0,"",(IF(COUNTA(O16:R16)=4,(IF(AVERAGE(O16:R16)>$C16,"AIM Level 3","Baseline")),(IF((SUM(O16:R16))>($C16*4),"AIM Level 3",N16))))) | X16: =IF(COUNTA(T16:W16)=0,"",(IF(COUNTA(T16:W16)=4,(IF(AVERAGE(T16:W16)>$C16,"AIM Level 3 (continued)","Baseline")),(IF((SUM(T16:W16))>($C16*4),"AIM Level 3 (continued)",S16))))) | AC16: =IF(COUNTA(Y16:AB16)=0,"",(IF(COUNTA(Y16:AB16)=4,(IF(AVERAGE(Y16:AB16)>$C16,"AIM Level 3 (continued)","Baseline")),(IF((SUM(Y16:AB16))>($C16*4),"AIM Level 3 (continued)",X16)))))
A17: Total Recoverable Beryllium | C17: 130 | D17: µg/L | I17: =IF(COUNTA(E17:H17)=4,(IF(AVERAGE(E17:H17)>$C17,"AIM Level 1","Baseline")),(IF((SUM(E17:H17))>($C17*4),"AIM Level 1","Baseline"))) -> Baseline | N17: =IF(COUNTA(J17:M17)=0,"",(IF(COUNTA(J17:M17)=4,(IF(AVERAGE(J17:M17)>$C17,"AIM Level 2","Baseline")),(IF((SUM(J17:M17))>($C17*4),"AIM Level 2",I17))))) | S17: =IF(COUNTA(O17:R17)=0,"",(IF(COUNTA(O17:R17)=4,(IF(AVERAGE(O17:R17)>$C17,"AIM Level 3","Baseline")),(IF((SUM(O17:R17))>($C17*4),"AIM Level 3",N17))))) | X17: =IF(COUNTA(T17:W17)=0,"",(IF(COUNTA(T17:W17)=4,(IF(AVERAGE(T17:W17)>$C17,"AIM Level 3 (continued)","Baseline")),(IF((SUM(T17:W17))>($C17*4),"AIM Level 3 (continued)",S17))))) | AC17: =IF(COUNTA(Y17:AB17)=0,"",(IF(COUNTA(Y17:AB17)=4,(IF(AVERAGE(Y17:AB17)>$C17,"AIM Level 3 (continued)","Baseline")),(IF((SUM(Y17:AB17))>($C17*4),"AIM Level 3 (continued)",X17)))))
A18: Biochemical Oxygen Demand (5-day) | C18: 30 | D18: mg/L | I18: =IF(COUNTA(E18:H18)=4,(IF(AVERAGE(E18:H18)>$C18,"AIM Level 1","Baseline")),(IF((SUM(E18:H18))>($C18*4),"AIM Level 1","Baseline"))) -> Baseline | N18: =IF(COUNTA(J18:M18)=0,"",(IF(COUNTA(J18:M18)=4,(IF(AVERAGE(J18:M18)>$C18,"AIM Level 2","Baseline")),(IF((SUM(J18:M18))>($C18*4),"AIM Level 2",I18))))) | S18: =IF(COUNTA(O18:R18)=0,"",(IF(COUNTA(O18:R18)=4,(IF(AVERAGE(O18:R18)>$C18,"AIM Level 3","Baseline")),(IF((SUM(O18:R18))>($C18*4),"AIM Level 3",N18))))) | X18: =IF(COUNTA(T18:W18)=0,"",(IF(COUNTA(T18:W18)=4,(IF(AVERAGE(T18:W18)>$C18,"AIM Level 3 (continued)","Baseline")),(IF((SUM(T18:W18))>($C18*4),"AIM Level 3 (continued)",S18))))) | AC18: =IF(COUNTA(Y18:AB18)=0,"",(IF(COUNTA(Y18:AB18)=4,(IF(AVERAGE(Y18:AB18)>$C18,"AIM Level 3 (continued)","Baseline")),(IF((SUM(Y18:AB18))>($C18*4),"AIM Level 3 (continued)",X18)))))
A19: pH* | C19: 6.0-9.0 | D19: s.u. | I19: =IF(COUNTA(E19:H19)=4,(IF(OR(I20<6,I20>9),"AIM Level 1","Baseline")),"Baseline") -> Baseline | N19: =IF(COUNTA(J19:M19)=0,"",(IF(COUNTA(J19:M19)=4,(IF(OR(N20<6,N20>9),"AIM Level 2","Baseline")),"AIM Level 1"))) | S19: =IF(COUNTA(O19:R19)=0,"",(IF(COUNTA(O19:R19)=4,(IF(OR(S20<6,S20>9),"AIM Level 2","Baseline")),"AIM Level 1"))) | X19: =IF(COUNTA(T19:W19)=0,"",(IF(COUNTA(T19:W19)=4,(IF(OR(X20<6,X20>9),"AIM Level 2","Baseline")),"AIM Level 1"))) | AC19: =IF(COUNTA(Y19:AB19)=0,"",(IF(COUNTA(Y19:AB19)=4,(IF(OR(AC20<6,AC20>9),"AIM Level 2","Baseline")),"AIM Level 1")))
A20: H+ | E20: =IF(ISNUMBER(E19),10^(-E19),"") | F20: =IF(ISNUMBER(F19),10^(-F19),"") | G20: =IF(ISNUMBER(G19),10^(-G19),"") | H20: =IF(ISNUMBER(H19),10^(-H19),"") | I20: =-LOG(SUBTOTAL(1,E20:H20)) -> #DIV/0! | J20: =IF(ISNUMBER(J19),10^(-J19),"") | K20: =IF(ISNUMBER(K19),10^(-K19),"") | L20: =IF(ISNUMBER(L19),10^(-L19),"") | M20: =IF(ISNUMBER(M19),10^(-M19),"") | N20: =-LOG(SUBTOTAL(1,J20:M20)) -> #DIV/0! | O20: =IF(ISNUMBER(O19),10^(-O19),"") | P20: =IF(ISNUMBER(P19),10^(-P19),"") | Q20: =IF(ISNUMBER(Q19),10^(-Q19),"") | R20: =IF(ISNUMBER(R19),10^(-R19),"") | S20: =-LOG(SUBTOTAL(1,O20:R20)) -> #DIV/0! | T20: =IF(ISNUMBER(T19),10^(-T19),"") | U20: =IF(ISNUMBER(U19),10^(-U19),"") | V20: =IF(ISNUMBER(V19),10^(-V19),"") | W20: =IF(ISNUMBER(W19),10^(-W19),"") | X20: =-LOG(SUBTOTAL(1,T20:W20)) -> #DIV/0! | Y20: =IF(ISNUMBER(Y19),10^(-Y19),"") | Z20: =IF(ISNUMBER(Z19),10^(-Z19),"") | AA20: =IF(ISNUMBER(AA19),10^(-AA19),"") | AB20: =IF(ISNUMBER(AB19),10^(-AB19),"") | AC20: =-LOG(SUBTOTAL(1,Y20:AB20)) -> #DIV/0!
A21: Chemical Oxygen Demand (COD) | C21: 120 | D21: mg/L | I21: =IF(COUNTA(E21:H21)=4,(IF(AVERAGE(E21:H21)>$C21,"AIM Level 1","Baseline")),(IF((SUM(E21:H21))>($C21*4),"AIM Level 1","Baseline"))) -> Baseline | N21: =IF(COUNTA(J21:M21)=0,"",(IF(COUNTA(J21:M21)=4,(IF(AVERAGE(J21:M21)>$C21,"AIM Level 2","Baseline")),(IF((SUM(J21:M21))>($C21*4),"AIM Level 2",I21))))) | S21: =IF(COUNTA(O21:R21)=0,"",(IF(COUNTA(O21:R21)=4,(IF(AVERAGE(O21:R21)>$C21,"AIM Level 3","Baseline")),(IF((SUM(O21:R21))>($C21*4),"AIM Level 3",N21))))) | X21: =IF(COUNTA(T21:W21)=0,"",(IF(COUNTA(T21:W21)=4,(IF(AVERAGE(T21:W21)>$C21,"AIM Level 3 (continued)","Baseline")),(IF((SUM(T21:W21))>($C21*4),"AIM Level 3 (continued)",S21))))) | AC21: =IF(COUNTA(Y21:AB21)=0,"",(IF(COUNTA(Y21:AB21)=4,(IF(AVERAGE(Y21:AB21)>$C21,"AIM Level 3 (continued)","Baseline")),(IF((SUM(Y21:AB21))>($C21*4),"AIM Level 3 (continued)",X21)))))
A22: Total Phosphorus | C22: 2 | D22: mg/L | I22: =IF(COUNTA(E22:H22)=4,(IF(AVERAGE(E22:H22)>$C22,"AIM Level 1","Baseline")),(IF((SUM(E22:H22))>($C22*4),"AIM Level 1","Baseline"))) -> Baseline | N22: =IF(COUNTA(J22:M22)=0,"",(IF(COUNTA(J22:M22)=4,(IF(AVERAGE(J22:M22)>$C22,"AIM Level 2","Baseline")),(IF((SUM(J22:M22))>($C22*4),"AIM Level 2",I22))))) | S22: =IF(COUNTA(O22:R22)=0,"",(IF(COUNTA(O22:R22)=4,(IF(AVERAGE(O22:R22)>$C22,"AIM Level 3","Baseline")),(IF((SUM(O22:R22))>($C22*4),"AIM Level 3",N22))))) | X22: =IF(COUNTA(T22:W22)=0,"",(IF(COUNTA(T22:W22)=4,(IF(AVERAGE(T22:W22)>$C22,"AIM Level 3 (continued)","Baseline")),(IF((SUM(T22:W22))>($C22*4),"AIM Level 3 (continued)",S22))))) | AC22: =IF(COUNTA(Y22:AB22)=0,"",(IF(COUNTA(Y22:AB22)=4,(IF(AVERAGE(Y22:AB22)>$C22,"AIM Level 3 (continued)","Baseline")),(IF((SUM(Y22:AB22))>($C22*4),"AIM Level 3 (continued)",X22)))))
A23: Total Suspended Solids (TSS) | C23: 100 | D23: mg/L | I23: =IF(COUNTA(E23:H23)=4,(IF(AVERAGE(E23:H23)>$C23,"AIM Level 1","Baseline")),(IF((SUM(E23:H23))>($C23*4),"AIM Level 1","Baseline"))) -> Baseline | N23: =IF(COUNTA(J23:M23)=0,"",(IF(COUNTA(J23:M23)=4,(IF(AVERAGE(J23:M23)>$C23,"AIM Level 2","Baseline")),(IF((SUM(J23:M23))>($C23*4),"AIM Level 2",I23))))) | S23: =IF(COUNTA(O23:R23)=0,"",(IF(COUNTA(O23:R23)=4,(IF(AVERAGE(O23:R23)>$C23,"AIM Level 3","Baseline")),(IF((SUM(O23:R23))>($C23*4),"AIM Level 3",N23))))) | X23: =IF(COUNTA(T23:W23)=0,"",(IF(COUNTA(T23:W23)=4,(IF(AVERAGE(T23:W23)>$C23,"AIM Level 3 (continued)","Baseline")),(IF((SUM(T23:W23))>($C23*4),"AIM Level 3 (continued)",S23))))) | AC23: =IF(COUNTA(Y23:AB23)=0,"",(IF(COUNTA(Y23:AB23)=4,(IF(AVERAGE(Y23:AB23)>$C23,"AIM Level 3 (continued)","Baseline")),(IF((SUM(Y23:AB23))>($C23*4),"AIM Level 3 (continued)",X23)))))
A24: Nitrate and Nitrite Nitrogen | C24: 0.68 | D24: mg/L | I24: =IF(COUNTA(E24:H24)=4,(IF(AVERAGE(E24:H24)>$C24,"AIM Level 1","Baseline")),(IF((SUM(E24:H24))>($C24*4),"AIM Level 1","Baseline"))) -> Baseline | N24: =IF(COUNTA(J24:M24)=0,"",(IF(COUNTA(J24:M24)=4,(IF(AVERAGE(J24:M24)>$C24,"AIM Level 2","Baseline")),(IF((SUM(J24:M24))>($C24*4),"AIM Level 2",I24))))) | S24: =IF(COUNTA(O24:R24)=0,"",(IF(COUNTA(O24:R24)=4,(IF(AVERAGE(O24:R24)>$C24,"AIM Level 3","Baseline")),(IF((SUM(O24:R24))>($C24*4),"AIM Level 3",N24))))) | X24: =IF(COUNTA(T24:W24)=0,"",(IF(COUNTA(T24:W24)=4,(IF(AVERAGE(T24:W24)>$C24,"AIM Level 3 (continued)","Baseline")),(IF((SUM(T24:W24))>($C24*4),"AIM Level 3 (continued)",S24))))) | AC24: =IF(COUNTA(Y24:AB24)=0,"",(IF(COUNTA(Y24:AB24)=4,(IF(AVERAGE(Y24:AB24)>$C24,"AIM Level 3 (continued)","Baseline")),(IF((SUM(Y24:AB24))>($C24*4),"AIM Level 3 (continued)",X24)))))
A25: Turbidity | C25: 50 | D25: NTU | I25: =IF(COUNTA(E25:H25)=4,(IF(AVERAGE(E25:H25)>$C25,"AIM Level 1","Baseline")),(IF((SUM(E25:H25))>($C25*4),"AIM Level 1","Baseline"))) -> Baseline | N25: =IF(COUNTA(J25:M25)=0,"",(IF(COUNTA(J25:M25)=4,(IF(AVERAGE(J25:M25)>$C25,"AIM Level 2","Baseline")),(IF((SUM(J25:M25))>($C25*4),"AIM Level 2",I25))))) | S25: =IF(COUNTA(O25:R25)=0,"",(IF(COUNTA(O25:R25)=4,(IF(AVERAGE(O25:R25)>$C25,"AIM Level 3","Baseline")),(IF((SUM(O25:R25))>($C25*4),"AIM Level 3",N25))))) | X25: =IF(COUNTA(T25:W25)=0,"",(IF(COUNTA(T25:W25)=4,(IF(AVERAGE(T25:W25)>$C25,"AIM Level 3 (continued)","Baseline")),(IF((SUM(T25:W25))>($C25*4),"AIM Level 3 (continued)",S25))))) | AC25: =IF(COUNTA(Y25:AB25)=0,"",(IF(COUNTA(Y25:AB25)=4,(IF(AVERAGE(Y25:AB25)>$C25,"AIM Level 3 (continued)","Baseline")),(IF((SUM(Y25:AB25))>($C25*4),"AIM Level 3 (continued)",X25)))))
A26: Total Recoverable Antimony | C26: 640 | D26: µg/L | I26: =IF(COUNTA(E26:H26)=4,(IF(AVERAGE(E26:H26)>$C26,"AIM Level 1","Baseline")),(IF((SUM(E26:H26))>($C26*4),"AIM Level 1","Baseline"))) -> Baseline | N26: =IF(COUNTA(J26:M26)=0,"",(IF(COUNTA(J26:M26)=4,(IF(AVERAGE(J26:M26)>$C26,"AIM Level 2","Baseline")),(IF((SUM(J26:M26))>($C26*4),"AIM Level 2",I26))))) | S26: =IF(COUNTA(O26:R26)=0,"",(IF(COUNTA(O26:R26)=4,(IF(AVERAGE(O26:R26)>$C26,"AIM Level 3","Baseline")),(IF((SUM(O26:R26))>($C26*4),"AIM Level 3",N26))))) | X26: =IF(COUNTA(T26:W26)=0,"",(IF(COUNTA(T26:W26)=4,(IF(AVERAGE(T26:W26)>$C26,"AIM Level 3 (continued)","Baseline")),(IF((SUM(T26:W26))>($C26*4),"AIM Level 3 (continued)",S26))))) | AC26: =IF(COUNTA(Y26:AB26)=0,"",(IF(COUNTA(Y26:AB26)=4,(IF(AVERAGE(Y26:AB26)>$C26,"AIM Level 3 (continued)","Baseline")),(IF((SUM(Y26:AB26))>($C26*4),"AIM Level 3 (continued)",X26)))))
A27: Ammonia | C27: 2.14 | D27: mg/L | I27: =IF(COUNTA(E27:H27)=4,(IF(AVERAGE(E27:H27)>$C27,"AIM Level 1","Baseline")),(IF((SUM(E27:H27))>($C27*4),"AIM Level 1","Baseline"))) -> Baseline | N27: =IF(COUNTA(J27:M27)=0,"",(IF(COUNTA(J27:M27)=4,(IF(AVERAGE(J27:M27)>$C27,"AIM Level 2","Baseline")),(IF((SUM(J27:M27))>($C27*4),"AIM Level 2",I27))))) | S27: =IF(COUNTA(O27:R27)=0,"",(IF(COUNTA(O27:R27)=4,(IF(AVERAGE(O27:R27)>$C27,"AIM Level 3","Baseline")),(IF((SUM(O27:R27))>($C27*4),"AIM Level 3",N27))))) | X27: =IF(COUNTA(T27:W27)=0,"",(IF(COUNTA(T27:W27)=4,(IF(AVERAGE(T27:W27)>$C27,"AIM Level 3 (continued)","Baseline")),(IF((SUM(T27:W27))>($C27*4),"AIM Level 3 (continued)",S27))))) | AC27: =IF(COUNTA(Y27:AB27)=0,"",(IF(COUNTA(Y27:AB27)=4,(IF(AVERAGE(Y27:AB27)>$C27,"AIM Level 3 (continued)","Baseline")),(IF((SUM(Y27:AB27))>($C27*4),"AIM Level 3 (continued)",X27)))))
A28: Total Recoverable Cadmium | B28: Freshwater** | C28: =Hardness!D20 -> Enter Hardness in B14 | D28: µg/L | I28: =IF(COUNTA(E28:H28)=4,(IF(AVERAGE(E28:H28)>$C28,"AIM Level 1","Baseline")),(IF((SUM(E28:H28))>($C28*4),"AIM Level 1","Baseline"))) -> #VALUE! | N28: =IF(COUNTA(J28:M28)=0,"",(IF(COUNTA(J28:M28)=4,(IF(AVERAGE(J28:M28)>$C28,"AIM Level 2","Baseline")),(IF((SUM(J28:M28))>($C28*4),"AIM Level 2",I28))))) | S28: =IF(COUNTA(O28:R28)=0,"",(IF(COUNTA(O28:R28)=4,(IF(AVERAGE(O28:R28)>$C28,"AIM Level 3","Baseline")),(IF((SUM(O28:R28))>($C28*4),"AIM Level 3",N28))))) | X28: =IF(COUNTA(T28:W28)=0,"",(IF(COUNTA(T28:W28)=4,(IF(AVERAGE(T28:W28)>$C28,"AIM Level 3 (continued)","Baseline")),(IF((SUM(T28:W28))>($C28*4),"AIM Level 3 (continued)",S28))))) | AC28: =IF(COUNTA(Y28:AB28)=0,"",(IF(COUNTA(Y28:AB28)=4,(IF(AVERAGE(Y28:AB28)>$C28,"AIM Level 3 (continued)","Baseline")),(IF((SUM(Y28:AB28))>($C28*4),"AIM Level 3 (continued)",X28)))))
A29: Total Recoverable Cadmium | B29: Saltwater | C29: 33 | D29: µg/L | I29: =IF(COUNTA(E29:H29)=4,(IF(AVERAGE(E29:H29)>$C29,"AIM Level 1","Baseline")),(IF((SUM(E29:H29))>($C29*4),"AIM Level 1","Baseline"))) -> Baseline | N29: =IF(COUNTA(J29:M29)=0,"",(IF(COUNTA(J29:M29)=4,(IF(AVERAGE(J29:M29)>$C29,"AIM Level 2","Baseline")),(IF((SUM(J29:M29))>($C29*4),"AIM Level 2",I29))))) | S29: =IF(COUNTA(O29:R29)=0,"",(IF(COUNTA(O29:R29)=4,(IF(AVERAGE(O29:R29)>$C29,"AIM Level 3","Baseline")),(IF((SUM(O29:R29))>($C29*4),"AIM Level 3",N29))))) | X29: =IF(COUNTA(T29:W29)=0,"",(IF(COUNTA(T29:W29)=4,(IF(AVERAGE(T29:W29)>$C29,"AIM Level 3 (continued)","Baseline")),(IF((SUM(T29:W29))>($C29*4),"AIM Level 3 (continued)",S29))))) | AC29: =IF(COUNTA(Y29:AB29)=0,"",(IF(COUNTA(Y29:AB29)=4,(IF(AVERAGE(Y29:AB29)>$C29,"AIM Level 3 (continued)","Baseline")),(IF((SUM(Y29:AB29))>($C29*4),"AIM Level 3 (continued)",X29)))))
A30: Total Recoverable Copper | B30: Freshwater | C30: 5.19 | D30: µg/L | I30: =IF(COUNTA(E30:H30)=4,(IF(AVERAGE(E30:H30)>$C30,"AIM Level 1","Baseline")),(IF((SUM(E30:H30))>($C30*4),"AIM Level 1","Baseline"))) -> Baseline | N30: =IF(COUNTA(J30:M30)=0,"",(IF(COUNTA(J30:M30)=4,(IF(AVERAGE(J30:M30)>$C30,"AIM Level 2","Baseline")),(IF((SUM(J30:M30))>($C30*4),"AIM Level 2",I30))))) | S30: =IF(COUNTA(O30:R30)=0,"",(IF(COUNTA(O30:R30)=4,(IF(AVERAGE(O30:R30)>$C30,"AIM Level 3","Baseline")),(IF((SUM(O30:R30))>($C30*4),"AIM Level 3",N30))))) | X30: =IF(COUNTA(T30:W30)=0,"",(IF(COUNTA(T30:W30)=4,(IF(AVERAGE(T30:W30)>$C30,"AIM Level 3 (continued)","Baseline")),(IF((SUM(T30:W30))>($C30*4),"AIM Level 3 (continued)",S30))))) | AC30: =IF(COUNTA(Y30:AB30)=0,"",(IF(COUNTA(Y30:AB30)=4,(IF(AVERAGE(Y30:AB30)>$C30,"AIM Level 3 (continued)","Baseline")),(IF((SUM(Y30:AB30))>($C30*4),"AIM Level 3 (continued)",X30)))))
A31: Total Recoverable Copper | B31: Saltwater | C31: 4.8 | D31: µg/L | I31: =IF(COUNTA(E31:H31)=4,(IF(AVERAGE(E31:H31)>$C31,"AIM Level 1","Baseline")),(IF((SUM(E31:H31))>($C31*4),"AIM Level 1","Baseline"))) -> Baseline | N31: =IF(COUNTA(J31:M31)=0,"",(IF(COUNTA(J31:M31)=4,(IF(AVERAGE(J31:M31)>$C31,"AIM Level 2","Baseline")),(IF((SUM(J31:M31))>($C31*4),"AIM Level 2",I31))))) | S31: =IF(COUNTA(O31:R31)=0,"",(IF(COUNTA(O31:R31)=4,(IF(AVERAGE(O31:R31)>$C31,"AIM Level 3","Baseline")),(IF((SUM(O31:R31))>($C31*4),"AIM Level 3",N31))))) | X31: =IF(COUNTA(T31:W31)=0,"",(IF(COUNTA(T31:W31)=4,(IF(AVERAGE(T31:W31)>$C31,"AIM Level 3 (continued)","Baseline")),(IF((SUM(T31:W31))>($C31*4),"AIM Level 3 (continued)",S31))))) | AC31: =IF(COUNTA(Y31:AB31)=0,"",(IF(COUNTA(Y31:AB31)=4,(IF(AVERAGE(Y31:AB31)>$C31,"AIM Level 3 (continued)","Baseline")),(IF((SUM(Y31:AB31))>($C31*4),"AIM Level 3 (continued)",X31)))))
A32: Total Recoverable Cyanide | B32: Freshwater | C32: 22 | D32: µg/L | I32: =IF(COUNTA(E32:H32)=4,(IF(AVERAGE(E32:H32)>$C32,"AIM Level 1","Baseline")),(IF((SUM(E32:H32))>($C32*4),"AIM Level 1","Baseline"))) -> Baseline | N32: =IF(COUNTA(J32:M32)=0,"",(IF(COUNTA(J32:M32)=4,(IF(AVERAGE(J32:M32)>$C32,"AIM Level 2","Baseline")),(IF((SUM(J32:M32))>($C32*4),"AIM Level 2",I32))))) | S32: =IF(COUNTA(O32:R32)=0,"",(IF(COUNTA(O32:R32)=4,(IF(AVERAGE(O32:R32)>$C32,"AIM Level 3","Baseline")),(IF((SUM(O32:R32))>($C32*4),"AIM Level 3",N32))))) | X32: =IF(COUNTA(T32:W32)=0,"",(IF(COUNTA(T32:W32)=4,(IF(AVERAGE(T32:W32)>$C32,"AIM Level 3 (continued)","Baseline")),(IF((SUM(T32:W32))>($C32*4),"AIM Level 3 (continued)",S32))))) | AC32: =IF(COUNTA(Y32:AB32)=0,"",(IF(COUNTA(Y32:AB32)=4,(IF(AVERAGE(Y32:AB32)>$C32,"AIM Level 3 (continued)","Baseline")),(IF((SUM(Y32:AB32))>($C32*4),"AIM Level 3 (continued)",X32)))))
A33: Total Recoverable Cyanide | B33: Saltwater | C33: 1 | D33: µg/L | I33: =IF(COUNTA(E33:H33)=4,(IF(AVERAGE(E33:H33)>$C33,"AIM Level 1","Baseline")),(IF((SUM(E33:H33))>($C33*4),"AIM Level 1","Baseline"))) -> Baseline | N33: =IF(COUNTA(J33:M33)=0,"",(IF(COUNTA(J33:M33)=4,(IF(AVERAGE(J33:M33)>$C33,"AIM Level 2","Baseline")),(IF((SUM(J33:M33))>($C33*4),"AIM Level 2",I33))))) | S33: =IF(COUNTA(O33:R33)=0,"",(IF(COUNTA(O33:R33)=4,(IF(AVERAGE(O33:R33)>$C33,"AIM Level 3","Baseline")),(IF((SUM(O33:R33))>($C33*4),"AIM Level 3",N33))))) | X33: =IF(COUNTA(T33:W33)=0,"",(IF(COUNTA(T33:W33)=4,(IF(AVERAGE(T33:W33)>$C33,"AIM Level 3 (continued)","Baseline")),(IF((SUM(T33:W33))>($C33*4),"AIM Level 3 (continued)",S33))))) | AC33: =IF(COUNTA(Y33:AB33)=0,"",(IF(COUNTA(Y33:AB33)=4,(IF(AVERAGE(Y33:AB33)>$C33,"AIM Level 3 (continued)","Baseline")),(IF((SUM(Y33:AB33))>($C33*4),"AIM Level 3 (continued)",X33)))))
A34: Total Recoverable Mercury | B34: Freshwater | C34: 1.4 | D34: µg/L | I34: =IF(COUNTA(E34:H34)=4,(IF(AVERAGE(E34:H34)>$C34,"AIM Level 1","Baseline")),(IF((SUM(E34:H34))>($C34*4),"AIM Level 1","Baseline"))) -> Baseline | N34: =IF(COUNTA(J34:M34)=0,"",(IF(COUNTA(J34:M34)=4,(IF(AVERAGE(J34:M34)>$C34,"AIM Level 2","Baseline")),(IF((SUM(J34:M34))>($C34*4),"AIM Level 2",I34))))) | S34: =IF(COUNTA(O34:R34)=0,"",(IF(COUNTA(O34:R34)=4,(IF(AVERAGE(O34:R34)>$C34,"AIM Level 3","Baseline")),(IF((SUM(O34:R34))>($C34*4),"AIM Level 3",N34))))) | X34: =IF(COUNTA(T34:W34)=0,"",(IF(COUNTA(T34:W34)=4,(IF(AVERAGE(T34:W34)>$C34,"AIM Level 3 (continued)","Baseline")),(IF((SUM(T34:W34))>($C34*4),"AIM Level 3 (continued)",S34))))) | AC34: =IF(COUNTA(Y34:AB34)=0,"",(IF(COUNTA(Y34:AB34)=4,(IF(AVERAGE(Y34:AB34)>$C34,"AIM Level 3 (continued)","Baseline")),(IF((SUM(Y34:AB34))>($C34*4),"AIM Level 3 (continued)",X34)))))
A35: Total Recoverable Mercury | B35: Saltwater | C35: 1.8 | D35: µg/L | I35: =IF(COUNTA(E35:H35)=4,(IF(AVERAGE(E35:H35)>$C35,"AIM Level 1","Baseline")),(IF((SUM(E35:H35))>($C35*4),"AIM Level 1","Baseline"))) -> Baseline | N35: =IF(COUNTA(J35:M35)=0,"",(IF(COUNTA(J35:M35)=4,(IF(AVERAGE(J35:M35)>$C35,"AIM Level 2","Baseline")),(IF((SUM(J35:M35))>($C35*4),"AIM Level 2",I35))))) | S35: =IF(COUNTA(O35:R35)=0,"",(IF(COUNTA(O35:R35)=4,(IF(AVERAGE(O35:R35)>$C35,"AIM Level 3","Baseline")),(IF((SUM(O35:R35))>($C35*4),"AIM Level 3",N35))))) | X35: =IF(COUNTA(T35:W35)=0,"",(IF(COUNTA(T35:W35)=4,(IF(AVERAGE(T35:W35)>$C35,"AIM Level 3 (continued)","Baseline")),(IF((SUM(T35:W35))>($C35*4),"AIM Level 3 (continued)",S35))))) | AC35: =IF(COUNTA(Y35:AB35)=0,"",(IF(COUNTA(Y35:AB35)=4,(IF(AVERAGE(Y35:AB35)>$C35,"AIM Level 3 (continued)","Baseline")),(IF((SUM(Y35:AB35))>($C35*4),"AIM Level 3 (continued)",X35)))))
A36: Total Recoverable Nickel | B36: Freshwater** | C36: =Hardness!F20 -> Enter Hardness in B14 | D36: µg/L | I36: =IF(COUNTA(E36:H36)=4,(IF(AVERAGE(E36:H36)>$C36,"AIM Level 1","Baseline")),(IF((SUM(E36:H36))>($C36*4),"AIM Level 1","Baseline"))) -> #VALUE! | N36: =IF(COUNTA(J36:M36)=0,"",(IF(COUNTA(J36:M36)=4,(IF(AVERAGE(J36:M36)>$C36,"AIM Level 2","Baseline")),(IF((SUM(J36:M36))>($C36*4),"AIM Level 2",I36))))) | S36: =IF(COUNTA(O36:R36)=0,"",(IF(COUNTA(O36:R36)=4,(IF(AVERAGE(O36:R36)>$C36,"AIM Level 3","Baseline")),(IF((SUM(O36:R36))>($C36*4),"AIM Level 3",N36))))) | X36: =IF(COUNTA(T36:W36)=0,"",(IF(COUNTA(T36:W36)=4,(IF(AVERAGE(T36:W36)>$C36,"AIM Level 3 (continued)","Baseline")),(IF((SUM(T36:W36))>($C36*4),"AIM Level 3 (continued)",S36))))) | AC36: =IF(COUNTA(Y36:AB36)=0,"",(IF(COUNTA(Y36:AB36)=4,(IF(AVERAGE(Y36:AB36)>$C36,"AIM Level 3 (continued)","Baseline")),(IF((SUM(Y36:AB36))>($C36*4),"AIM Level 3 (continued)",X36)))))
A37: Total Recoverable Nickel | B37: Saltwater | C37: 74 | D37: µg/L | I37: =IF(COUNTA(E37:H37)=4,(IF(AVERAGE(E37:H37)>$C37,"AIM Level 1","Baseline")),(IF((SUM(E37:H37))>($C37*4),"AIM Level 1","Baseline"))) -> Baseline | N37: =IF(COUNTA(J37:M37)=0,"",(IF(COUNTA(J37:M37)=4,(IF(AVERAGE(J37:M37)>$C37,"AIM Level 2","Baseline")),(IF((SUM(J37:M37))>($C37*4),"AIM Level 2",I37))))) | S37: =IF(COUNTA(O37:R37)=0,"",(IF(COUNTA(O37:R37)=4,(IF(AVERAGE(O37:R37)>$C37,"AIM Level 3","Baseline")),(IF((SUM(O37:R37))>($C37*4),"AIM Level 3",N37))))) | X37: =IF(COUNTA(T37:W37)=0,"",(IF(COUNTA(T37:W37)=4,(IF(AVERAGE(T37:W37)>$C37,"AIM Level 3 (continued)","Baseline")),(IF((SUM(T37:W37))>($C37*4),"AIM Level 3 (continued)",S37))))) | AC37: =IF(COUNTA(Y37:AB37)=0,"",(IF(COUNTA(Y37:AB37)=4,(IF(AVERAGE(Y37:AB37)>$C37,"AIM Level 3 (continued)","Baseline")),(IF((SUM(Y37:AB37))>($C37*4),"AIM Level 3 (continued)",X37)))))
A38: Total Recoverable Selenium | B38: Freshwater - still/standing | C38: 135 | D38: µg/L | I38: =IF(COUNTA(E38:H38)=4,(IF(AVERAGE(E38:H38)>$C38,"AIM Level 1","Baseline")),(IF((SUM(E38:H38))>($C38*4),"AIM Level 1","Baseline"))) -> Baseline | N38: =IF(COUNTA(J38:M38)=0,"",(IF(COUNTA(J38:M38)=4,(IF(AVERAGE(J38:M38)>$C38,"AIM Level 2","Baseline")),(IF((SUM(J38:M38))>($C38*4),"AIM Level 2",I38))))) | S38: =IF(COUNTA(O38:R38)=0,"",(IF(COUNTA(O38:R38)=4,(IF(AVERAGE(O38:R38)>$C38,"AIM Level 3","Baseline")),(IF((SUM(O38:R38))>($C38*4),"AIM Level 3",N38))))) | X38: =IF(COUNTA(T38:W38)=0,"",(IF(COUNTA(T38:W38)=4,(IF(AVERAGE(T38:W38)>$C38,"AIM Level 3 (continued)","Baseline")),(IF((SUM(T38:W38))>($C38*4),"AIM Level 3 (continued)",S38))))) | AC38: =IF(COUNTA(Y38:AB38)=0,"",(IF(COUNTA(Y38:AB38)=4,(IF(AVERAGE(Y38:AB38)>$C38,"AIM Level 3 (continued)","Baseline")),(IF((SUM(Y38:AB38))>($C38*4),"AIM Level 3 (continued)",X38)))))
A39: Total Recoverable Selenium | B39: Freshwater - flowing | C39: 3.1 | D39: µg/L | I39: =IF(COUNTA(E39:H39)=4,(IF(AVERAGE(E39:H39)>$C39,"AIM Level 1","Baseline")),(IF((SUM(E39:H39))>($C39*4),"AIM Level 1","Baseline"))) -> Baseline | N39: =IF(COUNTA(J39:M39)=0,"",(IF(COUNTA(J39:M39)=4,(IF(AVERAGE(J39:M39)>$C39,"AIM Level 2","Baseline")),(IF((SUM(J39:M39))>($C39*4),"AIM Level 2",I39))))) | S39: =IF(COUNTA(O39:R39)=0,"",(IF(COUNTA(O39:R39)=4,(IF(AVERAGE(O39:R39)>$C39,"AIM Level 3","Baseline")),(IF((SUM(O39:R39))>($C39*4),"AIM Level 3",N39))))) | X39: =IF(COUNTA(T39:W39)=0,"",(IF(COUNTA(T39:W39)=4,(IF(AVERAGE(T39:W39)>$C39,"AIM Level 3 (continued)","Baseline")),(IF((SUM(T39:W39))>($C39*4),"AIM Level 3 (continued)",S39))))) | AC39: =IF(COUNTA(Y39:AB39)=0,"",(IF(COUNTA(Y39:AB39)=4,(IF(AVERAGE(Y39:AB39)>$C39,"AIM Level 3 (continued)","Baseline")),(IF((SUM(Y39:AB39))>($C39*4),"AIM Level 3 (continued)",X39)))))
A40: Total Recoverable Selenium | B40: Saltwater | C40: 290 | D40: µg/L | I40: =IF(COUNTA(E40:H40)=4,(IF(AVERAGE(E40:H40)>$C40,"AIM Level 1","Baseline")),(IF((SUM(E40:H40))>($C40*4),"AIM Level 1","Baseline"))) -> Baseline | N40: =IF(COUNTA(J40:M40)=0,"",(IF(COUNTA(J40:M40)=4,(IF(AVERAGE(J40:M40)>$C40,"AIM Level 2","Baseline")),(IF((SUM(J40:M40))>($C40*4),"AIM Level 2",I40))))) | S40: =IF(COUNTA(O40:R40)=0,"",(IF(COUNTA(O40:R40)=4,(IF(AVERAGE(O40:R40)>$C40,"AIM Level 3","Baseline")),(IF((SUM(O40:R40))>($C40*4),"AIM Level 3",N40))))) | X40: =IF(COUNTA(T40:W40)=0,"",(IF(COUNTA(T40:W40)=4,(IF(AVERAGE(T40:W40)>$C40,"AIM Level 3 (continued)","Baseline")),(IF((SUM(T40:W40))>($C40*4),"AIM Level 3 (continued)",S40))))) | AC40: =IF(COUNTA(Y40:AB40)=0,"",(IF(COUNTA(Y40:AB40)=4,(IF(AVERAGE(Y40:AB40)>$C40,"AIM Level 3 (continued)","Baseline")),(IF((SUM(Y40:AB40))>($C40*4),"AIM Level 3 (continued)",X40)))))
A41: Total Recoverable Silver | B41: Freshwater** | C41: =Hardness!G20 -> Enter Hardness in B14 | D41: µg/L | I41: =IF(COUNTA(E41:H41)=4,(IF(AVERAGE(E41:H41)>$C41,"AIM Level 1","Baseline")),(IF((SUM(E41:H41))>($C41*4),"AIM Level 1","Baseline"))) -> #VALUE! | N41: =IF(COUNTA(J41:M41)=0,"",(IF(COUNTA(J41:M41)=4,(IF(AVERAGE(J41:M41)>$C41,"AIM Level 2","Baseline")),(IF((SUM(J41:M41))>($C41*4),"AIM Level 2",I41))))) | S41: =IF(COUNTA(O41:R41)=0,"",(IF(COUNTA(O41:R41)=4,(IF(AVERAGE(O41:R41)>$C41,"AIM Level 3","Baseline")),(IF((SUM(O41:R41))>($C41*4),"AIM Level 3",N41))))) | X41: =IF(COUNTA(T41:W41)=0,"",(IF(COUNTA(T41:W41)=4,(IF(AVERAGE(T41:W41)>$C41,"AIM Level 3 (continued)","Baseline")),(IF((SUM(T41:W41))>($C41*4),"AIM Level 3 (continued)",S41))))) | AC41: =IF(COUNTA(Y41:AB41)=0,"",(IF(COUNTA(Y41:AB41)=4,(IF(AVERAGE(Y41:AB41)>$C41,"AIM Level 3 (continued)","Baseline")),(IF((SUM(Y41:AB41))>($C41*4),"AIM Level 3 (continued)",X41)))))
A42: Total Recoverable Silver | B42: Saltwater | C42: 1.9 | D42: µg/L | I42: =IF(COUNTA(E42:H42)=4,(IF(AVERAGE(E42:H42)>$C42,"AIM Level 1","Baseline")),(IF((SUM(E42:H42))>($C42*4),"AIM Level 1","Baseline"))) -> Baseline | N42: =IF(COUNTA(J42:M42)=0,"",(IF(COUNTA(J42:M42)=4,(IF(AVERAGE(J42:M42)>$C42,"AIM Level 2","Baseline")),(IF((SUM(J42:M42))>($C42*4),"AIM Level 2",I42))))) | S42: =IF(COUNTA(O42:R42)=0,"",(IF(COUNTA(O42:R42)=4,(IF(AVERAGE(O42:R42)>$C42,"AIM Level 3","Baseline")),(IF((SUM(O42:R42))>($C42*4),"AIM Level 3",N42))))) | X42: =IF(COUNTA(T42:W42)=0,"",(IF(COUNTA(T42:W42)=4,(IF(AVERAGE(T42:W42)>$C42,"AIM Level 3 (continued)","Baseline")),(IF((SUM(T42:W42))>($C42*4),"AIM Level 3 (continued)",S42))))) | AC42: =IF(COUNTA(Y42:AB42)=0,"",(IF(COUNTA(Y42:AB42)=4,(IF(AVERAGE(Y42:AB42)>$C42,"AIM Level 3 (continued)","Baseline")),(IF((SUM(Y42:AB42))>($C42*4),"AIM Level 3 (continued)",X42)))))
A43: Total Recoverable Zinc | B43: Freshwater** | C43: =Hardness!H20 -> Enter Hardness in B14 | D43: µg/L | I43: =IF(COUNTA(E43:H43)=4,(IF(AVERAGE(E43:H43)>$C43,"AIM Level 1","Baseline")),(IF((SUM(E43:H43))>($C43*4),"AIM Level 1","Baseline"))) -> #VALUE! | N43: =IF(COUNTA(J43:M43)=0,"",(IF(COUNTA(J43:M43)=4,(IF(AVERAGE(J43:M43)>$C43,"AIM Level 2","Baseline")),(IF((SUM(J43:M43))>($C43*4),"AIM Level 2",I43))))) | S43: =IF(COUNTA(O43:R43)=0,"",(IF(COUNTA(O43:R43)=4,(IF(AVERAGE(O43:R43)>$C43,"AIM Level 3","Baseline")),(IF((SUM(O43:R43))>($C43*4),"AIM Level 3",N43))))) | X43: =IF(COUNTA(T43:W43)=0,"",(IF(COUNTA(T43:W43)=4,(IF(AVERAGE(T43:W43)>$C43,"AIM Level 3 (continued)","Baseline")),(IF((SUM(T43:W43))>($C43*4),"AIM Level 3 (continued)",S43))))) | AC43: =IF(COUNTA(Y43:AB43)=0,"",(IF(COUNTA(Y43:AB43)=4,(IF(AVERAGE(Y43:AB43)>$C43,"AIM Level 3 (continued)","Baseline")),(IF((SUM(Y43:AB43))>($C43*4),"AIM Level 3 (continued)",X43)))))
A44: Total Recoverable Zinc | B44: Saltwater | C44: 90 | D44: µg/L | I44: =IF(COUNTA(E44:H44)=4,(IF(AVERAGE(E44:H44)>$C44,"AIM Level 1","Baseline")),(IF((SUM(E44:H44))>($C44*4),"AIM Level 1","Baseline"))) -> Baseline | N44: =IF(COUNTA(J44:M44)=0,"",(IF(COUNTA(J44:M44)=4,(IF(AVERAGE(J44:M44)>$C44,"AIM Level 2","Baseline")),(IF((SUM(J44:M44))>($C44*4),"AIM Level 2",I44))))) | S44: =IF(COUNTA(O44:R44)=0,"",(IF(COUNTA(O44:R44)=4,(IF(AVERAGE(O44:R44)>$C44,"AIM Level 3","Baseline")),(IF((SUM(O44:R44))>($C44*4),"AIM Level 3",N44))))) | X44: =IF(COUNTA(T44:W44)=0,"",(IF(COUNTA(T44:W44)=4,(IF(AVERAGE(T44:W44)>$C44,"AIM Level 3 (continued)","Baseline")),(IF((SUM(T44:W44))>($C44*4),"AIM Level 3 (continued)",S44))))) | AC44: =IF(COUNTA(Y44:AB44)=0,"",(IF(COUNTA(Y44:AB44)=4,(IF(AVERAGE(Y44:AB44)>$C44,"AIM Level 3 (continued)","Baseline")),(IF((SUM(Y44:AB44))>($C44*4),"AIM Level 3 (continued)",X44)))))
A45: Total Recoverable Arsenic | B45: Freshwater | C45: 150 | D45: µg/L | I45: =IF(COUNTA(E45:H45)=4,(IF(AVERAGE(E45:H45)>$C45,"AIM Level 1","Baseline")),(IF((SUM(E45:H45))>($C45*4),"AIM Level 1","Baseline"))) -> Baseline | N45: =IF(COUNTA(J45:M45)=0,"",(IF(COUNTA(J45:M45)=4,(IF(AVERAGE(J45:M45)>$C45,"AIM Level 2","Baseline")),(IF((SUM(J45:M45))>($C45*4),"AIM Level 2",I45))))) | S45: =IF(COUNTA(O45:R45)=0,"",(IF(COUNTA(O45:R45)=4,(IF(AVERAGE(O45:R45)>$C45,"AIM Level 3","Baseline")),(IF((SUM(O45:R45))>($C45*4),"AIM Level 3",N45))))) | X45: =IF(COUNTA(T45:W45)=0,"",(IF(COUNTA(T45:W45)=4,(IF(AVERAGE(T45:W45)>$C45,"AIM Level 3 (continued)","Baseline")),(IF((SUM(T45:W45))>($C45*4),"AIM Level 3 (continued)",S45))))) | AC45: =IF(COUNTA(Y45:AB45)=0,"",(IF(COUNTA(Y45:AB45)=4,(IF(AVERAGE(Y45:AB45)>$C45,"AIM Level 3 (continued)","Baseline")),(IF((SUM(Y45:AB45))>($C45*4),"AIM Level 3 (continued)",X45)))))
A46: Total Recoverable Arsenic | B46: Saltwater | C46: 69 | D46: µg/L | I46: =IF(COUNTA(E46:H46)=4,(IF(AVERAGE(E46:H46)>$C46,"AIM Level 1","Baseline")),(IF((SUM(E46:H46))>($C46*4),"AIM Level 1","Baseline"))) -> Baseline | N46: =IF(COUNTA(J46:M46)=0,"",(IF(COUNTA(J46:M46)=4,(IF(AVERAGE(J46:M46)>$C46,"AIM Level 2","Baseline")),(IF((SUM(J46:M46))>($C46*4),"AIM Level 2",I46))))) | S46: =IF(COUNTA(O46:R46)=0,"",(IF(COUNTA(O46:R46)=4,(IF(AVERAGE(O46:R46)>$C46,"AIM Level 3","Baseline")),(IF((SUM(O46:R46))>($C46*4),"AIM Level 3",N46))))) | X46: =IF(COUNTA(T46:W46)=0,"",(IF(COUNTA(T46:W46)=4,(IF(AVERAGE(T46:W46)>$C46,"AIM Level 3 (continued)","Baseline")),(IF((SUM(T46:W46))>($C46*4),"AIM Level 3 (continued)",S46))))) | AC46: =IF(COUNTA(Y46:AB46)=0,"",(IF(COUNTA(Y46:AB46)=4,(IF(AVERAGE(Y46:AB46)>$C46,"AIM Level 3 (continued)","Baseline")),(IF((SUM(Y46:AB46))>($C46*4),"AIM Level 3 (continued)",X46)))))
A47: Total Recoverable Lead | B47: Freshwater** | C47: =Hardness!E20 -> Enter Hardness in B14 | D47: µg/L | I47: =IF(COUNTA(E47:H47)=4,(IF(AVERAGE(E47:H47)>$C47,"AIM Level 1","Baseline")),(IF((SUM(E47:H47))>($C47*4),"AIM Level 1","Baseline"))) -> #VALUE! | N47: =IF(COUNTA(J47:M47)=0,"",(IF(COUNTA(J47:M47)=4,(IF(AVERAGE(J47:M47)>$C47,"AIM Level 2","Baseline")),(IF((SUM(J47:M47))>($C47*4),"AIM Level 2",I47))))) | S47: =IF(COUNTA(O47:R47)=0,"",(IF(COUNTA(O47:R47)=4,(IF(AVERAGE(O47:R47)>$C47,"AIM Level 3","Baseline")),(IF((SUM(O47:R47))>($C47*4),"AIM Level 3",N47))))) | X47: =IF(COUNTA(T47:W47)=0,"",(IF(COUNTA(T47:W47)=4,(IF(AVERAGE(T47:W47)>$C47,"AIM Level 3 (continued)","Baseline")),(IF((SUM(T47:W47))>($C47*4),"AIM Level 3 (continued)",S47))))) | AC47: =IF(COUNTA(Y47:AB47)=0,"",(IF(COUNTA(Y47:AB47)=4,(IF(AVERAGE(Y47:AB47)>$C47,"AIM Level 3 (continued)","Baseline")),(IF((SUM(Y47:AB47))>($C47*4),"AIM Level 3 (continued)",X47)))))
A48: Total Recoverable Lead | B48: Saltwater | C48: 210 | D48: µg/L | I48: =IF(COUNTA(E48:H48)=4,(IF(AVERAGE(E48:H48)>$C48,"AIM Level 1","Baseline")),(IF((SUM(E48:H48))>($C48*4),"AIM Level 1","Baseline"))) -> Baseline | N48: =IF(COUNTA(J48:M48)=0,"",(IF(COUNTA(J48:M48)=4,(IF(AVERAGE(J48:M48)>$C48,"AIM Level 2","Baseline")),(IF((SUM(J48:M48))>($C48*4),"AIM Level 2",I48))))) | S48: =IF(COUNTA(O48:R48)=0,"",(IF(COUNTA(O48:R48)=4,(IF(AVERAGE(O48:R48)>$C48,"AIM Level 3","Baseline")),(IF((SUM(O48:R48))>($C48*4),"AIM Level 3",N48))))) | X48: =IF(COUNTA(T48:W48)=0,"",(IF(COUNTA(T48:W48)=4,(IF(AVERAGE(T48:W48)>$C48,"AIM Level 3 (continued)","Baseline")),(IF((SUM(T48:W48))>($C48*4),"AIM Level 3 (continued)",S48))))) | AC48: =IF(COUNTA(Y48:AB48)=0,"",(IF(COUNTA(Y48:AB48)=4,(IF(AVERAGE(Y48:AB48)>$C48,"AIM Level 3 (continued)","Baseline")),(IF((SUM(Y48:AB48))>($C48*4),"AIM Level 3 (continued)",X48)))))
A49: *For pH, an annual average exceedance can only occur if the four-quarter annual average exceeds the benchmark threshold.
A50: **The benchmark thresholds for these pollutants are dependent on water hardness where discharged into freshwaters.

Sheet Hardness
B2: Measured Hardness | C2: =IF(ISBLANK('AIM Level Calculator'!B14),"",'AIM Level Calculator'!B14)
B4: Hardness Range (mg/L) | D4: Benchmark Values (µg/L, total)
B5: Lower Bound | C5: Upper Bound | D5: Cadmium | E5: Lead | F5: Nickel | G5: Silver | H5: Zinc
B6: 0 | C6: 24.99 | D6: 0.49 | E6: 14 | F6: 145 | G6: 0.37 | H6: 37
B7: 25 | C7: 49.99 | D7: 0.73 | E7: 24 | F7: 203 | G7: 0.8 | H7: 52
B8: 50 | C8: 74.99 | D8: 1.2 | E8: 45 | F8: 314 | G8: 1.9 | H8: 80
B9: 75 | C9: 99.99 | D9: 1.7 | E9: 69 | F9: 418 | G9: 3.3 | H9: 107
B10: 100 | C10: 124.99 | D10: 2.1 | E10: 95 | F10: 518 | G10: 5 | H10: 132
B11: 125 | C11: 149.99 | D11: 2.6 | E11: 123 | F11: 614 | G11: 7.1 | H11: 157
B12: 150 | C12: 174.99 | D12: 3.1 | E12: 152 | F12: 707 | G12: 9.4 | H12: 181
B13: 175 | C13: 199.99 | D13: 3.5 | E13: 182 | F13: 798 | G13: 12 | H13: 204
B14: 200 | C14: 224.99 | D14: 4 | E14: 213 | F14: 888 | G14: 15 | H14: 227
B15: 255 | C15: 249.99 | D15: 4.4 | E15: 246 | F15: 975 | G15: 18 | H15: 249
B16: 250 | D16: 4.7 | E16: 262 | F16: 1019 | G16: 20 | H16: 260
D18: Applicable Benchmark Values (ug/L, total)
D19: Cadmium | E19: Lead | F19: Nickel | G19: Silver | H19: Zinc
D20: =IF(ISBLANK('AIM Level Calculator'!B14),"Enter Hardness in B14",(VLOOKUP($C$2,$B$6:$H$16,3,TRUE))) -> Enter Hardness in B14 | E20: =IF(ISBLANK('AIM Level Calculator'!B14),"Enter Hardness in B14",(VLOOKUP($C$2,$B$6:$H$16,4,TRUE))) -> Enter Hardness in B14 | F20: =IF(ISBLANK('AIM Level Calculator'!B14),"Enter Hardness in B14",(VLOOKUP($C$2,$B$6:$H$16,5,TRUE))) -> Enter Hardness in B14 | G20: =IF(ISBLANK('AIM Level Calculator'!B14),"Enter Hardness in B14",(VLOOKUP($C$2,$B$6:$H$16,6,TRUE))) -> Enter Hardness in B14 | H20: =IF(ISBLANK('AIM Level Calculator'!B14),"Enter Hardness in B14",(VLOOKUP($C$2,$B$6:$H$16,7,TRUE))) -> Enter Hardness in B14
C21: Note to reviewers: Ignore this part below.
C22: Hardness | D22: 75
C25: Lead BM | D25: =IF(AND(D22>B6,D22<C6),E6, IF(AND(D22>B7,D22<C7),E7, IF(AND(D22>B8, D22<C8),E8,E16))) -> 262
