Workbook
Name CMSCauses: Lists!$P$17:$P$21
Name CompanyID: OFFSET(Lists!$C$2,0,0,SUMPRODUCT(--(Lists!$C$2:$C$11<>"")),1)
Name complianceoptions: Lists!$P$3:$P$5
Name CompliantID: OFFSET(Lists!$BI$2,0,0,SUMPRODUCT(--(Lists!$BI$2:$BI$78<>"")),1)
Name CPMSName: OFFSET(Lists!$M$2,0,0,SUMPRODUCT(--(Lists!$M$2:$M$478<>"")),1)
Name DeviationCause: Lists!$P$11:$P$14
Name IDOPCPMS: OFFSET(Lists!$CA$2,0,0,SUMPRODUCT(--(Lists!$CA$2:$CA$500<>"")),1)
Name Operationname: OFFSET(Lists!$H$2,0,0,SUMPRODUCT(--(Lists!$H$2:$H$101<>"")),1)
Name OpLimits: Lists!$P$24:$P$38
Name With: OFFSET(Lists!$BB$2,0,0,SUMPRODUCT(--(Lists!$BB$2:$BB$78<>"")),1)
Name without: OFFSET(Lists!$AR$2,0,0,SUMPRODUCT(--(Lists!$AR$2:$AR$78<>"")),1)

Sheet Welcome
A1: DO NOT REMOVE OR EDIT INFORMATION IN THIS SECTION FOR INTERNAL USE ONLY
A2: Template Name | B2: 63.4520(f) Semiannual Compliance Report (Spreadsheet Template)
A3: CitationID | B3: 63.4520(f)
A4: Template Version | B4: v1.02
A5: Last Updated Date | B5: 45554
B6: OMB Control Number: 2060-0518 Expiration Date: 04/30/2019
B7: For further Paperwork Reduction Act information see: https://www.epa.gov/electronic-reporting-air-emissions/paperwork-reduction-act-pra-cedri-and-ert
B8: 40 CFR Part 63, Subpart PPPP National Emission Standards for Hazardous Air Pollutants: Surface Coating of Plastic Parts and Products - §63.4520(f) Semiannual Compliance Report Spreadsheet Template
B9: Welcome and Instructions
B10: Purpose:
B11: This spreadsheet template was designed by the U.S. EPA to facilitate Semiannual Compliance reporting for facilities subject under the 40 CFR part 63, subpart PPPP regulation. CEDRI is accessed through the EPA's Central Data Exchange (https://cdx.epa.gov).
B12: Electronic reporting:
B13: Electronic submission of Semiannual Compliance reports through the EPA's Compliance and Emissions Data Reporting (CEDRI) is required under §63.4520(f).
B14: CEDRI is accessed through the EPA's Central Data Exchange: https://cdx.epa.gov
B15: This spreadsheet template may be uploaded to CEDRI to fulfill the electronic reporting requirement under §63.4520.
B16: Do not submit information you claim as confidential business information (CBI) to EPA via CEDRI. EPA will make all the information submitted through CEDRI available to the public without further notice to you. Anything submitted using CEDRI cannot later be claimed to be CBI. Furthermore, under CAA section 114(c) emissions data is not entitled to confidential treatment and requires EPA to make emissions data available to the public. Thus, emissions data will not be protected as CBI and will be made publicly available.
B17: Although we do not expect persons to assert a claim of CBI, if persons wish to assert a CBI claim, you must submit the report via CEDRI with the CBI omitted and mail a complete report, including any information claimed to be CBI, to EPA on a compact disc, flash drive, or other commonly used electronic storage media via U.S. postal service. You must mark the outside of the digital storage media as CBI and then identify electronically within the digital storage media the specific information that is claimed as CBI. Mail the media to the address in the referencing federal regulation. If no address is specified, mail the media to: U.S. EPA/OAQPS/CORE CBI Office Attention: Group Leader, Measurement Policy Group MD C404-02 4930 Old Page Rd Durham, North Carolina 27703
... B27: Certification: The certification of truth and accuracy per §63.4520(a)(3)(ii) is completed through the process of submission to CEDRI.

Sheet Company_Information
B1: DO NOT REMOVE OR EDIT INFORMATION IN THIS SECTION FOR INTERNAL USE ONLY
B2: Template Name | C2: =+Welcome!B2 -> 63.4520(f) Semiannual Compliance Report (Spreadsheet Template)
B3: CitationID | C3: =+Welcome!B3 -> 63.4520(f)
B4: Template Version | C4: =+Welcome!B4 -> v1.02
B5: Last Updated Date | C5: =+Welcome!B5 -> 45554
B6: =+Welcome!B6 -> OMB Control Number: 2060-0518 Expiration Date: 04/30/2019
B7: 40 CFR Part 63, Subpart PPPP National Emission Standards for Hazardous Air Pollutants: Surface Coating of Miscellaneous Plastic Parts and Products - §63.4520(f) Semiannual Compliance Report Spreadsheet Template
C11: SITE INFORMATION | K11: REPORTING PERIOD | N11: ADDITIONAL INFORMATION
B12: Company Record No. (Field value will automatically generate if a value is not entered.) | C12: Company Name (§63.4520(a)(3)(i)) | D12: Address (§63.4520(a)(3)(i)) | E12: Address 2 | F12: City (§63.4520(a)(3)(i)) | G12: County | H12: State Abbreviation (§63.4520(a)(3)(i)) | I12: Zip Code (§63.4520(a)(3)(i)) | J12: Responsible Agency Facility ID (State Facility Identifier) | K12: Date of Report (§63.4520(a)(3)(iii)) | L12: Beginning Date of Reporting Period (§63.4520(a)(3)(iii)) | M12: Ending Date of Reporting Period (§63.4520(a)(3)(iii)) | N12: If the predominant activity alternative (§63.4490(c)(1)) was used, the filename of the attached annual determination of predominant activity if not include in previous periodic report (§63.4520(a)(3)(vi)) | O12: If the facility-specific emission limit alternative (§63.4490(c)(2)) was used, the filename containing the facility-specific emission limits for each 12-month compliance period during the reporting period (§63.3920(a)(3)(vii)) | P12: Please enter any additional information. | Q12: Enter associated file name reference.
B13: RecordId | C13: CompanyName | D13: AddressLine1 | E13: AddressLine2 | F13: CityName | G13: CountyName | H13: StateName | I13: ZIPCode | J13: StateFacID | K13: ReportDate | L13: PeriodStartDate | M13: PeriodEndDate | N13: ActivityFile | O13: EmissionLimit | P13: AddInfo | Q13: AddFile
B14: e.g.: 1 | C14: e.g.: ABC Company | D14: e.g.: 123 Main Street | E14: e.g.: Suite 100 | F14: e.g.: Brooklyn | G14: e.g.: Kings | H14: e.g.: NY | I14: e.g.: 11221 | J14: e.g.: 9145555555 | K14: e.g.: 7/2/2017 | L14: e.g.: 1/1/2017 | M14: e.g.: 6/30/2017 | N14: e.g.: PedominantActivity.pdf | O14: e.g.: ELAlternative.pdf | P14: e.g.: | Q14: e.g.: addlinfo.zip
B15: e.g.: | C15: e.g.: | D15: e.g.: | E15: e.g.: | F15: e.g.: | G15: e.g.: | H15: e.g.: | I15: e.g.: | J15: e.g.: | K15: e.g.: | L15: e.g.: | M15: e.g.: | N15: e.g.: | O15: e.g.: | P15: e.g.: | Q15: e.g.:
B16: e.g.: | C16: e.g.: | D16: e.g.: | E16: e.g.: | F16: e.g.: | G16: e.g.: | H16: e.g.: | I16: e.g.: | J16: e.g.: | K16: e.g.: | L16: e.g.: | M16: e.g.: | N16: e.g.: | O16: e.g.: | P16: e.g.: | Q16: e.g.:
B17: e.g.: | C17: e.g.: | D17: e.g.: | E17: e.g.: | F17: e.g.: | G17: e.g.: | H17: e.g.: | I17: e.g.: | J17: e.g.: | K17: e.g.: | L17: e.g.: | M17: e.g.: | N17: e.g.: | O17: e.g.: | P17: e.g.: | Q17: e.g.:
B18: e.g.: | C18: e.g.: | D18: e.g.: | E18: e.g.: | F18: e.g.: | G18: e.g.: | H18: e.g.: | I18: e.g.: | J18: e.g.: | K18: e.g.: | L18: e.g.: | M18: e.g.: | N18: e.g.: | O18: e.g.: | P18: e.g.: | Q18: e.g.:
B19: e.g.: | C19: e.g.: | D19: e.g.: | E19: e.g.: | F19: e.g.: | G19: e.g.: | H19: e.g.: | I19: e.g.: | J19: e.g.: | K19: e.g.: | L19: e.g.: | M19: e.g.: | N19: e.g.: | O19: e.g.: | P19: e.g.: | Q19: e.g.:
B20: e.g.: | C20: e.g.: | D20: e.g.: | E20: e.g.: | F20: e.g.: | G20: e.g.: | H20: e.g.: | I20: e.g.: | J20: e.g.: | K20: e.g.: | L20: e.g.: | M20: e.g.: | N20: e.g.: | O20: e.g.: | P20: e.g.: | Q20: e.g.:
B21: e.g.: | C21: e.g.: | D21: e.g.: | E21: e.g.: | F21: e.g.: | G21: e.g.: | H21: e.g.: | I21: e.g.: | J21: e.g.: | K21: e.g.: | L21: e.g.: | M21: e.g.: | N21: e.g.: | O21: e.g.: | P21: e.g.: | Q21: e.g.:
B22: e.g.: | C22: e.g.: | D22: e.g.: | E22: e.g.: | F22: e.g.: | G22: e.g.: | H22: e.g.: | I22: e.g.: | J22: e.g.: | K22: e.g.: | L22: e.g.: | M22: e.g.: | N22: e.g.: | O22: e.g.: | P22: e.g.: | Q22: e.g.:
B23: e.g.: | C23: e.g.: | D23: e.g.: | E23: e.g.: | F23: e.g.: | G23: e.g.: | H23: e.g.: | I23: e.g.: | J23: e.g.: | K23: e.g.: | L23: e.g.: | M23: e.g.: | N23: e.g.: | O23: e.g.: | P23: e.g.: | Q23: e.g.:
B24: =+IF(C24="","",MAX(B$23:B23)+1)
B25: =+IF(C25="","",MAX(B$23:B24)+1)
B26: =+IF(C26="","",MAX(B$23:B25)+1)
B27: =+IF(C27="","",MAX(B$23:B26)+1)
B28: =+IF(C28="","",MAX(B$23:B27)+1)
B29: =+IF(C29="","",MAX(B$23:B28)+1)
B30: =+IF(C30="","",MAX(B$23:B29)+1)
B31: =+IF(C31="","",MAX(B$23:B30)+1)
B32: =+IF(C32="","",MAX(B$23:B31)+1)
B33: =+IF(C33="","",MAX(B$23:B32)+1)

Sheet Compliance_Options
B1: DO NOT REMOVE OR EDIT INFORMATION IN THIS SECTION FOR INTERNAL USE ONLY
B2: Template Name | C2: =+Welcome!B2 -> 63.4520(f) Semiannual Compliance Report (Spreadsheet Template)
B3: CitationID | C3: =+Welcome!B3 -> 63.4520(f)
B4: Template Version | C4: =+Welcome!B4 -> v1.02
B5: Last Updated Date | C5: =+Welcome!B5 -> 45554
B6: =+Welcome!B6 -> OMB Control Number: 2060-0518 Expiration Date: 04/30/2019
B7: 40 CFR Part 63, Subpart PPPP National Emission Standards for Hazardous Air Pollutants: Surface Coating of Plastic Parts and Products -
B8: §63.4520(f) Semiannual Compliance Report Spreadsheet Template
B12: Company Record No. (Select from dropdown) | C12: Name of Operation (§63.4520(a)(3)(iv)) | D12: Identification of the compliance option or options used on each plastic parts and products surface coating operation during the reporting period (§63.4520(a)(3)(iv)) (Select from dropdown) | E12: If options switched during reporting period, provide beginning date * (§63.4520(a)(3)(iv)) | F12: If options switched during reporting period, provide ending date* (§63.4520(a)(3)(iv))
B13: RecordId | C13: OperationName_CO | D13: ComplianceOptions_CO | E13: SwitchStartDate_CO | F13: SwitchEndDate_CO
B14: e.g.: 1 | C14: e.g.: West Coating | D14: e.g.: Emission Rate Without Add-on Controls 63.3981(b) | E14: e.g.:1/1/2017 | F14: e.g.:3/1/2017
B15: e.g.: 1 | C15: e.g.: West Coating | D15: e.g.: Emission Rate With Add-on Controls 63.3981(c) | E15: e.g.:3/1/2017 | F15: e.g.:6/30/2017
B16: e.g.: | C16: e.g.: | D16: e.g.: | E16: e.g.: | F16: e.g.:
B17: e.g.: | C17: e.g.: | D17: e.g.: | E17: e.g.: | F17: e.g.:
B18: e.g.: | C18: e.g.: | D18: e.g.: | E18: e.g.: | F18: e.g.:
B19: e.g.: | C19: e.g.: | D19: e.g.: | E19: e.g.: | F19: e.g.:
B20: e.g.: | C20: e.g.: | D20: e.g.: | E20: e.g.: | F20: e.g.:
B21: e.g.: | C21: e.g.: | D21: e.g.: | E21: e.g.: | F21: e.g.:
B22: e.g.: | C22: e.g.: | D22: e.g.: | E22: e.g.: | F22: e.g.:
B23: e.g.: | C23: e.g.: | D23: e.g.: | E23: e.g.: | F23: e.g.:

Sheet Description_of_Changes
B1: DO NOT REMOVE OR EDIT INFORMATION IN THIS SECTION FOR INTERNAL USE ONLY
B2: Template Name | C2: =+Welcome!B2 -> 63.4520(f) Semiannual Compliance Report (Spreadsheet Template)
B3: CitationID | C3: =+Welcome!B3 -> 63.4520(f)
B4: Template Version | C4: =+Welcome!B4 -> v1.02
B5: Last Updated Date | C5: =+Welcome!B5 -> 45554
B6: =+Welcome!B6 -> OMB Control Number: 2060-0518 Expiration Date: 04/30/2019
B7: 40 CFR Part 63, Subpart PPPP National Emission Standards for Hazardous Air Pollutants: Surface Coating of Plastic Parts and Products -
B8: §63.4520(f) Semiannual Compliance Report Spreadsheet Template
B12: Company Record No. (Select from dropdown) | C12: Describe any CPMS, coating operation, emission capture system, or add-on control device which have occurred since the last reporting period. (§63.4520(a)(7)(xii))
B13: RecordId | C13: PeriodChangeDesc
B14: e.g.: 1 | C14: e.g.
B15: e.g. | C15: e.g.
B16: e.g. | C16: e.g.
B17: e.g. | C17: e.g.
B18: e.g. | C18: e.g.
B19: e.g. | C19: e.g.
B20: e.g. | C20: e.g.
B21: e.g. | C21: e.g.
B22: e.g. | C22: e.g.
B23: e.g. | C23: e.g.

Sheet Certification
B1: DO NOT REMOVE OR EDIT INFORMATION IN THIS SECTION FOR INTERNAL USE ONLY
B2: Template Name | C2: =+Welcome!B2 -> 63.4520(f) Semiannual Compliance Report (Spreadsheet Template)
B3: CitationID | C3: =+Welcome!B3 -> 63.4520(f)
B4: Template Version | C4: =+Welcome!B4 -> v1.02
B5: Last Updated Date | C5: =+Welcome!B5 -> 45554
B6: =+Welcome!B6 -> OMB Control Number: 2060-0518 Expiration Date: 04/30/2019
B7: 40 CFR Part 63, Subpart PPPP National Emission Standards for Hazardous Air Pollutants: Surface Coating of Plastic Parts and Products -
B8: §63.4520(f) Semiannual Compliance Report Spreadsheet Template
B12: Company Record No. (Autocompleted) | C12: Is the statement "There were no deviations from the emission limitations in §63.4490, §63.4492, and §63.4493 during this reporting period." applicable to this reporting period? (§63.4520(a)(4)) | D12: If you used the emission rate with add-on controls option, is the statement "There were no periods during which the continuous parameter monitoring system (CPMS) were out-of-control as specified in §63.8(c)(7) duing this reporting period." applicable? (§63.4520(a)(4))
B13: RecordId | C13: PeriodDeviationFlag | D13: CpmsAddonComplianceFlag
B14: e.g.: 1 | C14: e.g.: Yes | D14: e.g.: Yes
B15: e.g.: | C15: e.g.: | D15: e.g.:
B16: e.g.: | C16: e.g.: | D16: e.g.:
B17: e.g.: | C17: e.g.: | D17: e.g.:
B18: e.g.: | C18: e.g.: | D18: e.g.:
B19: e.g.: | C19: e.g.: | D19: e.g.:
B20: e.g.: | C20: e.g.: | D20: e.g.:
B21: e.g.: | C21: e.g.: | D21: e.g.:
B22: e.g.: | C22: e.g.: | D22: e.g.:
B23: e.g.: | C23: e.g.: | D23: e.g.:
B24: =IF(Lists!C2="","",Lists!C2)
B25: =IF(Lists!C3="","",Lists!C3)
B26: =IF(Lists!C4="","",Lists!C4)
B27: =IF(Lists!C5="","",Lists!C5)
B28: =IF(Lists!C6="","",Lists!C6)
B29: =IF(Lists!C7="","",Lists!C7)
B30: =IF(Lists!C8="","",Lists!C8)
B31: =IF(Lists!C9="","",Lists!C9)
B32: =IF(Lists!C10="","",Lists!C10)
B33: =IF(Lists!C11="","",Lists!C11)

Sheet Compliant_Material
B1: DO NOT REMOVE OR EDIT INFORMATION IN THIS SECTION FOR INTERNAL USE ONLY
B2: Template Name | C2: =+Welcome!B2 -> 63.4520(f) Semiannual Compliance Report (Spreadsheet Template)
B3: CitationID | C3: =+Welcome!B3 -> 63.4520(f)
B4: Template Version | C4: =+Welcome!B4 -> v1.02
B5: Last Updated Date | C5: =+Welcome!B5 -> 45554
B6: =+Welcome!B6 -> OMB Control Number: 2060-0518 Expiration Date: 04/30/2019
B7: 40 CFR Part 63, Subpart PPPP National Emission Standards for Hazardous Air Pollutants: Surface Coating of Plastic Parts and Products - §63.4520(f) Semiannual Compliance Report Spreadsheet Template
B12: Company Record No. (Select from dropdown) | C12: Affected Sources or Equipment (§63.4520(a)(5)(v)) | D12: Identification of each coating that deviated from the emission limit and each organic HAP containing thinner and/or additive and cleaning material (§63.4520(a)(5)(i)) | E12: Starting Date of Use (§63.4520(a)(5)(i)) | F12: Starting Time of Use (§63.4520(a)(5)(i)) | G12: Ending Date of Use (§63.4520(a)(5)(i)) | H12: Ending Time of Use (§63.4520(a)(5)(i)) | I12: Duration of Use (hours) (§63.4520(a)(5)(i)) (Calculated value) | J12: Calculation of Organic HAP content for each coating by Equation 1 of §63.4541 (kg Organic HAP/kg Coatings Solids Used) (§63.4520(a)(5)(ii)) | K12: Mass fraction of organic HAP for each thinner, and/or other additive, and cleaning material identified (§63.4520(a)(5)(iii)) | L12: Cause of deviation (§63.4520(a)(5)(iv)) | M12: Estimate of Quantity of Organic HAP Emitted over the Emission Limit (kg) (§63.4520(a)(5)(v)) | N12: Method Used to Estimate Emissions (§63.4520(a)(5)(v)) | O12: Actions Taken to Minimize Emissions (§63.4520(a)(5)(v))
B13: RecordId | C13: OperationName_CM | D13: CoatingName_CM | E13: UseStartDate_CM | F13: UseStartTime_CM | G13: UseEndDate_CM | H13: UseEndTime_CM | I13: UseDuration_CM | J13: CoatingHapContent_CM | K13: HapMassFraction_CM | L13: DeviationCause_CM | M13: OrganicHAPQuantity_CM | N13: EstimationMethod_CM | O13: ActionTaken_CM
B14: e.g.: 1 | C14: e.g.: West Coating | D14: e.g.: Coating 351 | E14: e.g.: 2/1/2017 | F14: e.g.: 13:05 | G14: e.g.: 2/1/2017 | H14: e.g.: 13:05 | I14: e.g.: 36.25 | J14: e.g.: 150 | K14: e.g.: 0.30 | L14: e.g.: Process Problems | M14: e.g.: 5.25 | N14: e.g.: engineering calculations | O14: e.g.:
B15: e.g.: | C15: e.g.: | D15: e.g.: | E15: e.g.: | F15: e.g.: | G15: e.g.: | H15: e.g.: | I15: e.g.: | J15: e.g.: | K15: e.g.: | L15: e.g.: | M15: e.g.: | N15: e.g.: | O15: e.g.:
B16: e.g.: | C16: e.g.: | D16: e.g.: | E16: e.g.: | F16: e.g.: | G16: e.g.: | H16: e.g.: | I16: e.g.: | J16: e.g.: | K16: e.g.: | L16: e.g.: | M16: e.g.: | N16: e.g.: | O16: e.g.:
B17: e.g.: | C17: e.g.: | D17: e.g.: | E17: e.g.: | F17: e.g.: | G17: e.g.: | H17: e.g.: | I17: e.g.: | J17: e.g.: | K17: e.g.: | L17: e.g.: | M17: e.g.: | N17: e.g.: | O17: e.g.:
B18: e.g.: | C18: e.g.: | D18: e.g.: | E18: e.g.: | F18: e.g.: | G18: e.g.: | H18: e.g.: | I18: e.g.: | J18: e.g.: | K18: e.g.: | L18: e.g.: | M18: e.g.: | N18: e.g.: | O18: e.g.:
B19: e.g.: | C19: e.g.: | D19: e.g.: | E19: e.g.: | F19: e.g.: | G19: e.g.: | H19: e.g.: | I19: e.g.: | J19: e.g.: | K19: e.g.: | L19: e.g.: | M19: e.g.: | N19: e.g.: | O19: e.g.:
B20: e.g.: | C20: e.g.: | D20: e.g.: | E20: e.g.: | F20: e.g.: | G20: e.g.: | H20: e.g.: | I20: e.g.: | J20: e.g.: | K20: e.g.: | L20: e.g.: | M20: e.g.: | N20: e.g.: | O20: e.g.:
B21: e.g.: | C21: e.g.: | D21: e.g.: | E21: e.g.: | F21: e.g.: | G21: e.g.: | H21: e.g.: | I21: e.g.: | J21: e.g.: | K21: e.g.: | L21: e.g.: | M21: e.g.: | N21: e.g.: | O21: e.g.:
B22: e.g.: | C22: e.g.: | D22: e.g.: | E22: e.g.: | F22: e.g.: | G22: e.g.: | H22: e.g.: | I22: e.g.: | J22: e.g.: | K22: e.g.: | L22: e.g.: | M22: e.g.: | N22: e.g.: | O22: e.g.:
B23: e.g.: | C23: e.g.: | D23: e.g.: | E23: e.g.: | F23: e.g.: | G23: e.g.: | H23: e.g.: | I23: e.g.: | J23: e.g.: | K23: e.g.: | L23: e.g.: | M23: e.g.: | N23: e.g.: | O23: e.g.:
I24: =IF(H24="","",(VALUE(TEXT(G24,"m/dd/yy ")&TEXT(H24,"hh:mm:ss"))-(VALUE(TEXT(E24,"m/dd/yy ")&TEXT(F24,"hh:mm:ss"))))*24)
I25: =IF(H25="","",(VALUE(TEXT(G25,"m/dd/yy ")&TEXT(H25,"hh:mm:ss"))-(VALUE(TEXT(E25,"m/dd/yy ")&TEXT(F25,"hh:mm:ss"))))*24)
I26: =IF(H26="","",(VALUE(TEXT(G26,"m/dd/yy ")&TEXT(H26,"hh:mm:ss"))-(VALUE(TEXT(E26,"m/dd/yy ")&TEXT(F26,"hh:mm:ss"))))*24)
I27: =IF(H27="","",(VALUE(TEXT(G27,"m/dd/yy ")&TEXT(H27,"hh:mm:ss"))-(VALUE(TEXT(E27,"m/dd/yy ")&TEXT(F27,"hh:mm:ss"))))*24)
I28: =IF(H28="","",(VALUE(TEXT(G28,"m/dd/yy ")&TEXT(H28,"hh:mm:ss"))-(VALUE(TEXT(E28,"m/dd/yy ")&TEXT(F28,"hh:mm:ss"))))*24)
I29: =IF(H29="","",(VALUE(TEXT(G29,"m/dd/yy ")&TEXT(H29,"hh:mm:ss"))-(VALUE(TEXT(E29,"m/dd/yy ")&TEXT(F29,"hh:mm:ss"))))*24)
I30: =IF(H30="","",(VALUE(TEXT(G30,"m/dd/yy ")&TEXT(H30,"hh:mm:ss"))-(VALUE(TEXT(E30,"m/dd/yy ")&TEXT(F30,"hh:mm:ss"))))*24)
I31: =IF(H31="","",(VALUE(TEXT(G31,"m/dd/yy ")&TEXT(H31,"hh:mm:ss"))-(VALUE(TEXT(E31,"m/dd/yy ")&TEXT(F31,"hh:mm:ss"))))*24)
I32: =IF(H32="","",(VALUE(TEXT(G32,"m/dd/yy ")&TEXT(H32,"hh:mm:ss"))-(VALUE(TEXT(E32,"m/dd/yy ")&TEXT(F32,"hh:mm:ss"))))*24)
I33: =IF(H33="","",(VALUE(TEXT(G33,"m/dd/yy ")&TEXT(H33,"hh:mm:ss"))-(VALUE(TEXT(E33,"m/dd/yy ")&TEXT(F33,"hh:mm:ss"))))*24)
I34: =IF(H34="","",(VALUE(TEXT(G34,"m/dd/yy ")&TEXT(H34,"hh:mm:ss"))-(VALUE(TEXT(E34,"m/dd/yy ")&TEXT(F34,"hh:mm:ss"))))*24)
I35: =IF(H35="","",(VALUE(TEXT(G35,"m/dd/yy ")&TEXT(H35,"hh:mm:ss"))-(VALUE(TEXT(E35,"m/dd/yy ")&TEXT(F35,"hh:mm:ss"))))*24)
... I500: =IF(H500="","",(VALUE(TEXT(G500,"m/dd/yy ")&TEXT(H500,"hh:mm:ss"))-(VALUE(TEXT(E500,"m/dd/yy ")&TEXT(F500,"hh:mm:ss"))))*24)

Sheet Number_of_Deviations_Compliant
B1: DO NOT REMOVE OR EDIT INFORMATION IN THIS SECTION FOR INTERNAL USE ONLY
B2: Template Name | C2: =+Welcome!B2 -> 63.4520(f) Semiannual Compliance Report (Spreadsheet Template)
B3: CitationID | C3: =+Welcome!B3 -> 63.4520(f)
B4: Template Version | C4: =+Welcome!B4 -> v1.02
B5: Last Updated Date | C5: =+Welcome!B5 -> 45554
B6: =+Welcome!B6 -> OMB Control Number: 2060-0518 Expiration Date: 04/30/2019
B7: 40 CFR Part 63, Subpart PPPP National Emission Standards for Hazardous Air Pollutants:
B8: Surface Coating of Plastic Parts and Products - §63.4520(f) Semiannual Compliance Report Spreadsheet Template
B12: Company Record No. (Autocompleted) | C12: Number of Deviations for Compliant Material Option (§63.4520(a)(3)(v)) (Autocompleted)
B13: RecordId | C13: DeviationsCount_CMO
B14: e.g.: 1 | C14: e.g.: 2
B15: e.g.: 2 | C15: e.g.: 1
B16: e.g.: | C16: e.g.:
B17: e.g.: | C17: e.g.:
B18: e.g.: | C18: e.g.:
B19: e.g.: | C19: e.g.:
B20: e.g.: | C20: e.g.:
B21: e.g.: | C21: e.g.:
B22: e.g.: | C22: e.g.:
B23: e.g.: | C23: e.g.:
B24: =IF(Lists!BI2="","",Lists!BI2) | C24: =IF(B24="","",COUNTIF(Compliant_Material!$B$24:'Compliant_Material'!$B$500,B24))
B25: =IF(Lists!BI3="","",Lists!BI3) | C25: =IF(B25="","",COUNTIF(Compliant_Material!$B$24:'Compliant_Material'!$B$500,B25))
B26: =IF(Lists!BI4="","",Lists!BI4) | C26: =IF(B26="","",COUNTIF(Compliant_Material!$B$24:'Compliant_Material'!$B$500,B26))
B27: =IF(Lists!BI5="","",Lists!BI5) | C27: =IF(B27="","",COUNTIF(Compliant_Material!$B$24:'Compliant_Material'!$B$500,B27))
B28: =IF(Lists!BI6="","",Lists!BI6) | C28: =IF(B28="","",COUNTIF(Compliant_Material!$B$24:'Compliant_Material'!$B$500,B28))
B29: =IF(Lists!BI7="","",Lists!BI7) | C29: =IF(B29="","",COUNTIF(Compliant_Material!$B$24:'Compliant_Material'!$B$500,B29))
B30: =IF(Lists!BI8="","",Lists!BI8) | C30: =IF(B30="","",COUNTIF(Compliant_Material!$B$24:'Compliant_Material'!$B$500,B30))
B31: =IF(Lists!BI9="","",Lists!BI9) | C31: =IF(B31="","",COUNTIF(Compliant_Material!$B$24:'Compliant_Material'!$B$500,B31))
B32: =IF(Lists!BI10="","",Lists!BI10) | C32: =IF(B32="","",COUNTIF(Compliant_Material!$B$24:'Compliant_Material'!$B$500,B32))
B33: =IF(Lists!BI11="","",Lists!BI11) | C33: =IF(B33="","",COUNTIF(Compliant_Material!$B$24:'Compliant_Material'!$B$500,B33))

Sheet Emission_Rate
B1: DO NOT REMOVE OR EDIT INFORMATION IN THIS SECTION FOR INTERNAL USE ONLY
B2: Template Name | C2: =+Welcome!B2 -> 63.4520(f) Semiannual Compliance Report (Spreadsheet Template)
B3: CitationID | C3: =+Welcome!B3 -> 63.4520(f)
B4: Template Version | C4: =+Welcome!B4 -> v1.02
B5: Last Updated Date | C5: =+Welcome!B5 -> 45554
B6: =+Welcome!B6 -> OMB Control Number: 2060-0518 Expiration Date: 04/30/2019
B7: 40 CFR Part 63, Subpart PPPP National Emission Standards for Hazardous Air Pollutants: Surface Coating of Plastic Parts and Products - §63.4520(f) Semiannual Compliance Report Spreadsheet Template
B12: Company Record No. (Autocompleted) | C12: Affected Source or Equipment (§63.4520(a)(6)(iv)) (Autocompleted) | D12: 12-month rolling average organic HAP emission rate during month 1 of reporting period (kg/kg) (§63.4520(a)(3)(v)) | E12: 12-month rolling average organic HAP emission rate during month 2 of reporting period (kg/kg) (§63.4520(a)(3)(v)) | F12: 12-month rolling average organic HAP emission rate during month 3 of reporting period (kg/kg) (§63.4520(a)(3)(v)) | G12: 12-month rolling average organic HAP emission rate during month 4 of reporting period (kg/kg) (§63.4520(a)(3)(v)) | H12: 12-month rolling average organic HAP emission rate during month 5 of reporting period (kg/kg) (§63.4520(a)(3)(v)) | I12: 12-month rolling average organic HAP emission rate during month 6 of reporting period (kg/kg) (§63.4520(a)(3)(v))
B13: RecordId | C13: OperationName_ER | D13: EmissionRateMonth1_ER | E13: EmissionRateMonth2_ER | F13: EmissionRateMonth3_ER | G13: EmissionRateMonth4_ER | H13: EmissionRateMonth5_ER | I13: EmissionRateMonth6_ER
B14: e.g.: 1 | C14: e.g.: West Coating | D14: e.g.: 0.51 | E14: e.g.: 0.51 | F14: e.g.: 0.51 | G14: e.g.: 0.51 | H14: e.g.: 0.51 | I14: e.g.: 0.51
B15: e.g.: | C15: e.g.: | D15: e.g.: | E15: e.g.: | F15: e.g.: | G15: e.g.: | H15: e.g.: | I15: e.g.:
B16: e.g.: | C16: e.g.: | D16: e.g.: | E16: e.g.: | F16: e.g.: | G16: e.g.: | H16: e.g.: | I16: e.g.:
B17: e.g.: | C17: e.g.: | D17: e.g.: | E17: e.g.: | F17: e.g.: | G17: e.g.: | H17: e.g.: | I17: e.g.:
B18: e.g.: | C18: e.g.: | D18: e.g.: | E18: e.g.: | F18: e.g.: | G18: e.g.: | H18: e.g.: | I18: e.g.:
B19: e.g.: | C19: e.g.: | D19: e.g.: | E19: e.g.: | F19: e.g.: | G19: e.g.: | H19: e.g.: | I19: e.g.:
B20: e.g.: | C20: e.g.: | D20: e.g.: | E20: e.g.: | F20: e.g.: | G20: e.g.: | H20: e.g.: | I20: e.g.:
B21: e.g.: | C21: e.g.: | D21: e.g.: | E21: e.g.: | F21: e.g.: | G21: e.g.: | H21: e.g.: | I21: e.g.:
B22: e.g.: | C22: e.g.: | D22: e.g.: | E22: e.g.: | F22: e.g.: | G22: e.g.: | H22: e.g.: | I22: e.g.:
B23: e.g.: | C23: e.g.: | D23: e.g.: | E23: e.g.: | F23: e.g.: | G23: e.g.: | H23: e.g.: | I23: e.g.:
B24: =IF(Lists!BR2="","",Lists!BR2) | C24: =IF(Lists!BS2="","",Lists!BS2)
B25: =IF(Lists!BR3="","",Lists!BR3) | C25: =IF(Lists!BS3="","",Lists!BS3)
B26: =IF(Lists!BR4="","",Lists!BR4) | C26: =IF(Lists!BS4="","",Lists!BS4)
B27: =IF(Lists!BR5="","",Lists!BR5) | C27: =IF(Lists!BS5="","",Lists!BS5)
B28: =IF(Lists!BR6="","",Lists!BR6) | C28: =IF(Lists!BS6="","",Lists!BS6)
B29: =IF(Lists!BR7="","",Lists!BR7) | C29: =IF(Lists!BS7="","",Lists!BS7)
B30: =IF(Lists!BR8="","",Lists!BR8) | C30: =IF(Lists!BS8="","",Lists!BS8)
B31: =IF(Lists!BR9="","",Lists!BR9) | C31: =IF(Lists!BS9="","",Lists!BS9)
B32: =IF(Lists!BR10="","",Lists!BR10) | C32: =IF(Lists!BS10="","",Lists!BS10)
B33: =IF(Lists!BR11="","",Lists!BR11) | C33: =IF(Lists!BS11="","",Lists!BS11)
B34: =IF(Lists!BR12="","",Lists!BR12) | C34: =IF(Lists!BS12="","",Lists!BS12)
B35: =IF(Lists!BR13="","",Lists!BR13) | C35: =IF(Lists!BS13="","",Lists!BS13)
... B500: =IF(Lists!BR478="","",Lists!BR478) | C500: =IF(Lists!BS478="","",Lists!BS478)

Sheet Without_Addon
B1: DO NOT REMOVE OR EDIT INFORMATION IN THIS SECTION FOR INTERNAL USE ONLY
B2: Template Name | C2: =Welcome!B2 -> 63.4520(f) Semiannual Compliance Report (Spreadsheet Template)
B3: CitationID | C3: =Welcome!B3 -> 63.4520(f)
B4: Template Version | C4: =Welcome!B4 -> v1.02
B5: Last Updated Date | C5: =Welcome!B5 -> 45554
B6: =Welcome!B6 -> OMB Control Number: 2060-0518 Expiration Date: 04/30/2019
B7: 40 CFR Part 63, Subpart PPPP National Emission Standards for Hazardous Air Pollutants: Surface Coating of Plastic Parts and Products - §63.4520(f) Semiannual Compliance Report Spreadsheet Template
B12: Company Record No. (Autocompleted) | C12: Affected Source or Equipment (§63.4520(a)(6)(iv)) (Autocompleted) | D12: Company Record No. and Affected Source or Equipment (§63.4520(a)(6)(iv)) (Select from dropdown) | E12: Starting Date Compliance Period Which Exceeded Organic HAP Emission Rate (§63.4520(a)(6)(i)) | F12: Ending Date Compliance Period Which Exceeded Organic HAP Emission Rate (§63.4520(a)(6)(i)) | G12: 12-month organic HAP emission rate (kg/kg) (§63.4520(a)(6)(ii)) | H12: Name of Attached file containing Calculations (§63.3920(a)(6)(ii)) | I12: Mass of Organic HAP in waste materials per §63.4551(e)(4) (§63.4520(a)(6)(ii)) | J12: Cause of Deviation (§63.4520(a)(6)(iii)) | K12: Estimate of quantity of organic HAP emitted over the emission limit (kg) (§63.4520(a)(6)(iv)) | L12: Method Used to Estimate Emissions (§63.4520(a)(6)(iv)) | M12: Actions Taken to Minimize Emissions (§63.4520(a)(6)(iv))
B13: RecordId | C13: OperationName_NoAddon | D13: AffectedSouce_NoAddon | E13: PeriodStartDate_NoAddon | F13: PeriodEndDate_NoAddon | G13: TotalEmission12month_NoAddon | H13: CalculationsFile_NoAddon | I13: HapMass_NoAddon | J13: DeviationCause_NoAddon | K13: OrganicHAPQuantity_NoAddon | L13: EstimationMethod_NoAddon | M13: ActionTaken_NoAddon
B14: e.g.: 1 | C14: e.g.: West Coating | D14: e.g.: 1 West Coating | E14: e.g.: 3/1/2017 | F14: e.g.: 3/30/2017 | G14: e.g.: 0.25 | H14: e.g.: calculations.xlsx | I14: e.g.: 5.0 | J14: e.g.: Other Unknown Causes | K14: e.g.: 5.25 | L14: e.g.: engineering calculations | M14: e.g.:
B15: e.g.: | C15: e.g.: | D15: e.g.: | E15: e.g.: | F15: e.g.: | G15: e.g.: | H15: e.g.: | I15: e.g.: | J15: e.g.: | K15: e.g.: | L15: e.g.: | M15: e.g.:
B16: e.g.: | C16: e.g.: | D16: e.g.: | E16: e.g.: | F16: e.g.: | G16: e.g.: | H16: e.g.: | I16: e.g.: | J16: e.g.: | K16: e.g.: | L16: e.g.: | M16: e.g.:
B17: e.g.: | C17: e.g.: | D17: e.g.: | E17: e.g.: | F17: e.g.: | G17: e.g.: | H17: e.g.: | I17: e.g.: | J17: e.g.: | K17: e.g.: | L17: e.g.: | M17: e.g.:
B18: e.g.: | C18: e.g.: | D18: e.g.: | E18: e.g.: | F18: e.g.: | G18: e.g.: | H18: e.g.: | I18: e.g.: | J18: e.g.: | K18: e.g.: | L18: e.g.: | M18: e.g.:
B19: e.g.: | C19: e.g.: | D19: e.g.: | E19: e.g.: | F19: e.g.: | G19: e.g.: | H19: e.g.: | I19: e.g.: | J19: e.g.: | K19: e.g.: | L19: e.g.: | M19: e.g.:
B20: e.g.: | C20: e.g.: | D20: e.g.: | E20: e.g.: | F20: e.g.: | G20: e.g.: | H20: e.g.: | I20: e.g.: | J20: e.g.: | K20: e.g.: | L20: e.g.: | M20: e.g.:
B21: e.g.: | C21: e.g.: | D21: e.g.: | E21: e.g.: | F21: e.g.: | G21: e.g.: | H21: e.g.: | I21: e.g.: | J21: e.g.: | K21: e.g.: | L21: e.g.: | M21: e.g.:
B22: e.g.: | C22: e.g.: | D22: e.g.: | E22: e.g.: | F22: e.g.: | G22: e.g.: | H22: e.g.: | I22: e.g.: | J22: e.g.: | K22: e.g.: | L22: e.g.: | M22: e.g.:
B23: e.g.: | C23: e.g.: | D23: e.g.: | E23: e.g.: | F23: e.g.: | G23: e.g.: | H23: e.g.: | I23: e.g.: | J23: e.g.: | K23: e.g.: | L23: e.g.: | M23: e.g.:
B24: =IF($D24="","",VLOOKUP($D24,Lists!$AR$2:$AT$955,COLUMN(),FALSE)) | C24: =IF($D24="","",VLOOKUP($D24,Lists!$AR$2:$AT$955,COLUMN(),FALSE))
B25: =IF($D25="","",VLOOKUP($D25,Lists!$AR$2:$AT$955,COLUMN(),FALSE)) | C25: =IF($D25="","",VLOOKUP($D25,Lists!$AR$2:$AT$955,COLUMN(),FALSE))
B26: =IF($D26="","",VLOOKUP($D26,Lists!$AR$2:$AT$955,COLUMN(),FALSE)) | C26: =IF($D26="","",VLOOKUP($D26,Lists!$AR$2:$AT$955,COLUMN(),FALSE))
B27: =IF($D27="","",VLOOKUP($D27,Lists!$AR$2:$AT$955,COLUMN(),FALSE)) | C27: =IF($D27="","",VLOOKUP($D27,Lists!$AR$2:$AT$955,COLUMN(),FALSE))
B28: =IF($D28="","",VLOOKUP($D28,Lists!$AR$2:$AT$955,COLUMN(),FALSE)) | C28: =IF($D28="","",VLOOKUP($D28,Lists!$AR$2:$AT$955,COLUMN(),FALSE))
B29: =IF($D29="","",VLOOKUP($D29,Lists!$AR$2:$AT$955,COLUMN(),FALSE)) | C29: =IF($D29="","",VLOOKUP($D29,Lists!$AR$2:$AT$955,COLUMN(),FALSE))
B30: =IF($D30="","",VLOOKUP($D30,Lists!$AR$2:$AT$955,COLUMN(),FALSE)) | C30: =IF($D30="","",VLOOKUP($D30,Lists!$AR$2:$AT$955,COLUMN(),FALSE))
B31: =IF($D31="","",VLOOKUP($D31,Lists!$AR$2:$AT$955,COLUMN(),FALSE)) | C31: =IF($D31="","",VLOOKUP($D31,Lists!$AR$2:$AT$955,COLUMN(),FALSE))
B32: =IF($D32="","",VLOOKUP($D32,Lists!$AR$2:$AT$955,COLUMN(),FALSE)) | C32: =IF($D32="","",VLOOKUP($D32,Lists!$AR$2:$AT$955,COLUMN(),FALSE))
B33: =IF($D33="","",VLOOKUP($D33,Lists!$AR$2:$AT$955,COLUMN(),FALSE)) | C33: =IF($D33="","",VLOOKUP($D33,Lists!$AR$2:$AT$955,COLUMN(),FALSE))
B34: =IF($D34="","",VLOOKUP($D34,Lists!$AR$2:$AT$955,COLUMN(),FALSE)) | C34: =IF($D34="","",VLOOKUP($D34,Lists!$AR$2:$AT$955,COLUMN(),FALSE))
B35: =IF($D35="","",VLOOKUP($D35,Lists!$AR$2:$AT$955,COLUMN(),FALSE)) | C35: =IF($D35="","",VLOOKUP($D35,Lists!$AR$2:$AT$955,COLUMN(),FALSE))
... B500: =IF($D500="","",VLOOKUP($D500,Lists!$AR$2:$AT$955,COLUMN(),FALSE)) | C500: =IF($D500="","",VLOOKUP($D500,Lists!$AR$2:$AT$955,COLUMN(),FALSE))

Sheet Number_of_Deviations_Without
B1: DO NOT REMOVE OR EDIT INFORMATION IN THIS SECTION FOR INTERNAL USE ONLY
B2: Template Name | C2: =+Welcome!B2 -> 63.4520(f) Semiannual Compliance Report (Spreadsheet Template)
B3: CitationID | C3: =+Welcome!B3 -> 63.4520(f)
B4: Template Version | C4: =+Welcome!B4 -> v1.02
B5: Last Updated Date | C5: =+Welcome!B5 -> 45554
B6: =+Welcome!B6 -> OMB Control Number: 2060-0518 Expiration Date: 04/30/2019
B7: 40 CFR Part 63, Subpart PPPP National Emission Standards for Hazardous Air Pollutants:
B8: Surface Coating of Plastic Parts and Products -
B9: §63.4520(f) Semiannual Compliance Report Spreadsheet Template
B12: Company Record No. (Autocompleted) | C12: Name of Operation (§63.4520(a)(6)(iv)) (Autocompleted) | D12: Number of Deviations Without an Addon Control Device (§63.4520(a)(6)(iv)) (Autocompleted)
B13: RecordId | C13: OperationName_NDWO | D13: DeviationsCount_NDWO
B14: e.g.: 1 | C14: e.g.: West Coating | D14: e.g.: 5
B15: e.g.: | C15: e.g.: | D15: e.g.:
B16: e.g.: | C16: e.g.: | D16: e.g.:
B17: e.g.: | C17: e.g.: | D17: e.g.:
B18: e.g.: | C18: e.g.: | D18: e.g.:
B19: e.g.: | C19: e.g.: | D19: e.g.:
B20: e.g.: | C20: e.g.: | D20: e.g.:
B21: e.g.: | C21: e.g.: | D21: e.g.:
B22: e.g.: | C22: e.g.: | D22: e.g.:
B23: e.g.: | C23: e.g.: | D23: e.g.:
B24: =IF(Lists!AS2="","",Lists!AS2) | C24: =IF(Lists!AT2="","",Lists!AT2) | D24: =IF(C24="","",COUNTIFS(Without_Addon!$B$24:$B$500,B24,Without_Addon!$C$24:$C$500,C24))
B25: =IF(Lists!AS3="","",Lists!AS3) | C25: =IF(Lists!AT3="","",Lists!AT3) | D25: =IF(C25="","",COUNTIFS(Without_Addon!$B$24:$B$500,B25,Without_Addon!$C$24:$C$500,C25))
B26: =IF(Lists!AS4="","",Lists!AS4) | C26: =IF(Lists!AT4="","",Lists!AT4) | D26: =IF(C26="","",COUNTIFS(Without_Addon!$B$24:$B$500,B26,Without_Addon!$C$24:$C$500,C26))
B27: =IF(Lists!AS5="","",Lists!AS5) | C27: =IF(Lists!AT5="","",Lists!AT5) | D27: =IF(C27="","",COUNTIFS(Without_Addon!$B$24:$B$500,B27,Without_Addon!$C$24:$C$500,C27))
B28: =IF(Lists!AS6="","",Lists!AS6) | C28: =IF(Lists!AT6="","",Lists!AT6) | D28: =IF(C28="","",COUNTIFS(Without_Addon!$B$24:$B$500,B28,Without_Addon!$C$24:$C$500,C28))
B29: =IF(Lists!AS7="","",Lists!AS7) | C29: =IF(Lists!AT7="","",Lists!AT7) | D29: =IF(C29="","",COUNTIFS(Without_Addon!$B$24:$B$500,B29,Without_Addon!$C$24:$C$500,C29))
B30: =IF(Lists!AS8="","",Lists!AS8) | C30: =IF(Lists!AT8="","",Lists!AT8) | D30: =IF(C30="","",COUNTIFS(Without_Addon!$B$24:$B$500,B30,Without_Addon!$C$24:$C$500,C30))
B31: =IF(Lists!AS9="","",Lists!AS9) | C31: =IF(Lists!AT9="","",Lists!AT9) | D31: =IF(C31="","",COUNTIFS(Without_Addon!$B$24:$B$500,B31,Without_Addon!$C$24:$C$500,C31))
B32: =IF(Lists!AS10="","",Lists!AS10) | C32: =IF(Lists!AT10="","",Lists!AT10) | D32: =IF(C32="","",COUNTIFS(Without_Addon!$B$24:$B$500,B32,Without_Addon!$C$24:$C$500,C32))
B33: =IF(Lists!AS11="","",Lists!AS11) | C33: =IF(Lists!AT11="","",Lists!AT11) | D33: =IF(C33="","",COUNTIFS(Without_Addon!$B$24:$B$500,B33,Without_Addon!$C$24:$C$500,C33))
B34: =IF(Lists!AS12="","",Lists!AS12) | C34: =IF(Lists!AT12="","",Lists!AT12) | D34: =IF(C34="","",COUNTIFS(Without_Addon!$B$24:$B$500,B34,Without_Addon!$C$24:$C$500,C34))
B35: =IF(Lists!AS13="","",Lists!AS13) | C35: =IF(Lists!AT13="","",Lists!AT13) | D35: =IF(C35="","",COUNTIFS(Without_Addon!$B$24:$B$500,B35,Without_Addon!$C$24:$C$500,C35))
... B100: =IF(Lists!AS78="","",Lists!AS78) | C100: =IF(Lists!AT78="","",Lists!AT78) | D100: =IF(C100="","",COUNTIFS(Without_Addon!$B$24:$B$500,B100,Without_Addon!$C$24:$C$500,C100))

Sheet With_Addon_EmisLimit
B1: DO NOT REMOVE OR EDIT INFORMATION IN THIS SECTION FOR INTERNAL USE ONLY
B2: Template Name | C2: =+Welcome!B2 -> 63.4520(f) Semiannual Compliance Report (Spreadsheet Template)
B3: CitationID | C3: =+Welcome!B3 -> 63.4520(f)
B4: Template Version | C4: =+Welcome!B4 -> v1.02
B5: Last Updated Date | C5: =+Welcome!B5 -> 45554
B6: =+Welcome!B6 -> OMB Control Number: 2060-0518 Expiration Date: 04/30/2019
B7: 40 CFR Part 63, Subpart PPPP National Emission Standards for Hazardous Air Pollutants: Surface Coating of Plastic Parts and Products - §63.4520(f) Semiannual Compliance Report Spreadsheet Template
B12: Company Record No. (Autocompleted) | C12: Affected Source or Equipment (§63.4520(a)(7)(iv)) (Autocompleted) | D12: Company Record No. and Affected Source or Equipment (§63.4520(a)(7)(iv)) (Select from dropdown) | E12: Starting Date Compliance Period Where Organic HAP Emission Rate Exceeded the Emission Limit (§63.4520(a)(7)(i)) | F12: Ending Date Compliance Period Where Organic HAP Emission Rate Exceeded the Emission Limit (§63.4520(a)(7)(i)) | G12: 12-month organic HAP emission rate for Compliance Period Where Organic HAP Emission Rate Exceeded the Emission Limit (kg/kg) (§63.4520(a)(7)(ii)) | H12: Name of Attached file containing Calculations (§63.3920(a)(7)(ii)) | I12: Cause of Deviation (§63.4520(a)(7)(xiv)) (Select from dropdown) | J12: Actions Taken to Minimize Emissions (§63.4520(a)(7)(xiv)) | K12: Estimate of quantity of organic HAP emitted over the emission limit (kg) (§63.4520(a)(7)(xv)) | L12: Method Used to Estimate Emissions (§63.4520(a)(7)(xv))
B13: RecordId | C13: OperationName_AddonEL | D13: AffectedSource_AddonEL | E13: PeriodStartDate_AddonEL | F13: PeriodEndDate_AddonEL | G13: TotalEmission12month_AddonEL | H13: CalculationsFile_AddonEL | I13: DeviationCause_AddonEL | J13: ActionsTaken_AddonEL | K13: OrganicHAPQuantity_AddonEL | L13: EstimationMethod_AddonEL
B14: e.g.: 1 | C14: e.g.: East Coating | D14: e.g.: 1 East Coating | E14: e.g.: 3/1/2017 | F14: e.g.: 3/30/2017 | G14: e.g.: 0.25 | H14: e.g.: calculations.xlsx | I14: e.g.: Other Unknown Causes | J14: e.g.: | K14: e.g.: 5.25 | L14: e.g.: engineering calculations
B15: e.g.: | C15: e.g.: | D15: e.g.: | E15: e.g.: | F15: e.g.: | G15: e.g.: | H15: e.g.: | I15: e.g.: | J15: e.g.: | K15: e.g.: | L15: e.g.:
B16: e.g.: | C16: e.g.: | D16: e.g.: | E16: e.g.: | F16: e.g.: | G16: e.g.: | H16: e.g.: | I16: e.g.: | J16: e.g.: | K16: e.g.: | L16: e.g.:
B17: e.g.: | C17: e.g.: | D17: e.g.: | E17: e.g.: | F17: e.g.: | G17: e.g.: | H17: e.g.: | I17: e.g.: | J17: e.g.: | K17: e.g.: | L17: e.g.:
B18: e.g.: | C18: e.g.: | D18: e.g.: | E18: e.g.: | F18: e.g.: | G18: e.g.: | H18: e.g.: | I18: e.g.: | J18: e.g.: | K18: e.g.: | L18: e.g.:
B19: e.g.: | C19: e.g.: | D19: e.g.: | E19: e.g.: | F19: e.g.: | G19: e.g.: | H19: e.g.: | I19: e.g.: | J19: e.g.: | K19: e.g.: | L19: e.g.:
B20: e.g.: | C20: e.g.: | D20: e.g.: | E20: e.g.: | F20: e.g.: | G20: e.g.: | H20: e.g.: | I20: e.g.: | J20: e.g.: | K20: e.g.: | L20: e.g.:
B21: e.g.: | C21: e.g.: | D21: e.g.: | E21: e.g.: | F21: e.g.: | G21: e.g.: | H21: e.g.: | I21: e.g.: | J21: e.g.: | K21: e.g.: | L21: e.g.:
B22: e.g.: | C22: e.g.: | D22: e.g.: | E22: e.g.: | F22: e.g.: | G22: e.g.: | H22: e.g.: | I22: e.g.: | J22: e.g.: | K22: e.g.: | L22: e.g.:
B23: e.g.: | C23: e.g.: | D23: e.g.: | E23: e.g.: | F23: e.g.: | G23: e.g.: | H23: e.g.: | I23: e.g.: | J23: e.g.: | K23: e.g.: | L23: e.g.:
B24: =IF($D24="","",VLOOKUP($D24,Lists!$BB$2:$BD$78,COLUMN(),FALSE)) | C24: =IF($D24="","",VLOOKUP($D24,Lists!$BB$2:$BD$78,COLUMN(),FALSE))
B25: =IF($D25="","",VLOOKUP($D25,Lists!$BB$2:$BD$78,COLUMN(),FALSE)) | C25: =IF($D25="","",VLOOKUP($D25,Lists!$BB$2:$BD$78,COLUMN(),FALSE))
B26: =IF($D26="","",VLOOKUP($D26,Lists!$BB$2:$BD$78,COLUMN(),FALSE)) | C26: =IF($D26="","",VLOOKUP($D26,Lists!$BB$2:$BD$78,COLUMN(),FALSE))
B27: =IF($D27="","",VLOOKUP($D27,Lists!$BB$2:$BD$78,COLUMN(),FALSE)) | C27: =IF($D27="","",VLOOKUP($D27,Lists!$BB$2:$BD$78,COLUMN(),FALSE))
B28: =IF($D28="","",VLOOKUP($D28,Lists!$BB$2:$BD$78,COLUMN(),FALSE)) | C28: =IF($D28="","",VLOOKUP($D28,Lists!$BB$2:$BD$78,COLUMN(),FALSE))
B29: =IF($D29="","",VLOOKUP($D29,Lists!$BB$2:$BD$78,COLUMN(),FALSE)) | C29: =IF($D29="","",VLOOKUP($D29,Lists!$BB$2:$BD$78,COLUMN(),FALSE))
B30: =IF($D30="","",VLOOKUP($D30,Lists!$BB$2:$BD$78,COLUMN(),FALSE)) | C30: =IF($D30="","",VLOOKUP($D30,Lists!$BB$2:$BD$78,COLUMN(),FALSE))
B31: =IF($D31="","",VLOOKUP($D31,Lists!$BB$2:$BD$78,COLUMN(),FALSE)) | C31: =IF($D31="","",VLOOKUP($D31,Lists!$BB$2:$BD$78,COLUMN(),FALSE))
B32: =IF($D32="","",VLOOKUP($D32,Lists!$BB$2:$BD$78,COLUMN(),FALSE)) | C32: =IF($D32="","",VLOOKUP($D32,Lists!$BB$2:$BD$78,COLUMN(),FALSE))
B33: =IF($D33="","",VLOOKUP($D33,Lists!$BB$2:$BD$78,COLUMN(),FALSE)) | C33: =IF($D33="","",VLOOKUP($D33,Lists!$BB$2:$BD$78,COLUMN(),FALSE))
B34: =IF($D34="","",VLOOKUP($D34,Lists!$BB$2:$BD$78,COLUMN(),FALSE)) | C34: =IF($D34="","",VLOOKUP($D34,Lists!$BB$2:$BD$78,COLUMN(),FALSE))
B35: =IF($D35="","",VLOOKUP($D35,Lists!$BB$2:$BD$78,COLUMN(),FALSE)) | C35: =IF($D35="","",VLOOKUP($D35,Lists!$BB$2:$BD$78,COLUMN(),FALSE))
... B500: =IF($D500="","",VLOOKUP($D500,Lists!$BB$2:$BD$78,COLUMN(),FALSE)) | C500: =IF($D500="","",VLOOKUP($D500,Lists!$BB$2:$BD$78,COLUMN(),FALSE))

Sheet With_Addon_Malfunction
B1: DO NOT REMOVE OR EDIT INFORMATION IN THIS SECTION FOR INTERNAL USE ONLY
B2: Template Name | C2: =+Welcome!B2 -> 63.4520(f) Semiannual Compliance Report (Spreadsheet Template)
B3: CitationID | C3: =+Welcome!B3 -> 63.4520(f)
B4: Template Version | C4: =+Welcome!B4 -> v1.02
B5: Last Updated Date | C5: =+Welcome!B5 -> 45554
B6: =+Welcome!B6 -> OMB Control Number: 2060-0518 Expiration Date: 04/30/2019
B7: 40 CFR Part 63, Subpart PPPP National Emission Standards for Hazardous Air Pollutants: Surface Coating of Plastic Parts and Products
B8: §63.4520(f) Semiannual Compliance Report Spreadsheet Template
B12: Company Record No. (Autocompleted) | C12: Affected Source or Equipment (§63.4520(a)(7)(iv)) (Autocompleted) | D12: Company Record No. and Affected Source or Equipment (§63.4520(a)(7)(iv)) (Select from dropdown) | E12: Starting Date of Malfunction of Capture System or Addon Control (§63.4520(a)(7)(iii)) | F12: Starting Time of Malfunction of Capture System or Addon Control (§63.4520(a)(7)(iii)) | G12: Ending Date of Malfunction of Capture System or Addon Control (§63.4520(a)(7)(iii)) | H12: Ending Time of Malfunction of Capture System or Addon Control (§63.4520(a)(7)(iii))
B13: RecordId | C13: OperationName_Malfunction | D13: AffectedSource_Malfunction | E13: MalfunctionStartDate_Malfunction | F13: MalfunctionStartTime_Malfunction | G13: MalfunctionEndDate_Malfunction | H13: MalfunctionEndTime_Malfunction
B14: e.g.: 1 | C14: e.g.: East Coating | D14: e.g.: 1 East Coating | E14: e.g.: 2/1/2017 | F14: e.g.: 13:15 | G14: e.g.: 2/3/2017 | H14: e.g.: 08:02
B15: e.g.: | C15: e.g.: | D15: e.g.: | E15: e.g.: | F15: e.g.: | G15: e.g.: | H15: e.g.:
B16: e.g.: | C16: e.g.: | D16: e.g.: | E16: e.g.: | F16: e.g.: | G16: e.g.: | H16: e.g.:
B17: e.g.: | C17: e.g.: | D17: e.g.: | E17: e.g.: | F17: e.g.: | G17: e.g.: | H17: e.g.:
B18: e.g.: | C18: e.g.: | D18: e.g.: | E18: e.g.: | F18: e.g.: | G18: e.g.: | H18: e.g.:
B19: e.g.: | C19: e.g.: | D19: e.g.: | E19: e.g.: | F19: e.g.: | G19: e.g.: | H19: e.g.:
B20: e.g.: | C20: e.g.: | D20: e.g.: | E20: e.g.: | F20: e.g.: | G20: e.g.: | H20: e.g.:
B21: e.g.: | C21: e.g.: | D21: e.g.: | E21: e.g.: | F21: e.g.: | G21: e.g.: | H21: e.g.:
B22: e.g.: | C22: e.g.: | D22: e.g.: | E22: e.g.: | F22: e.g.: | G22: e.g.: | H22: e.g.:
B23: e.g.: | C23: e.g.: | D23: e.g.: | E23: e.g.: | F23: e.g.: | G23: e.g.: | H23: e.g.:
B24: =IF($D24="","",VLOOKUP($D24,Lists!$BB$2:$BD$78,COLUMN(),FALSE)) | C24: =IF($D24="","",VLOOKUP($D24,Lists!$BB$2:$BD$78,COLUMN(),FALSE))
B25: =IF($D25="","",VLOOKUP($D25,Lists!$BB$2:$BD$78,COLUMN(),FALSE)) | C25: =IF($D25="","",VLOOKUP($D25,Lists!$BB$2:$BD$78,COLUMN(),FALSE))
B26: =IF($D26="","",VLOOKUP($D26,Lists!$BB$2:$BD$78,COLUMN(),FALSE)) | C26: =IF($D26="","",VLOOKUP($D26,Lists!$BB$2:$BD$78,COLUMN(),FALSE))
B27: =IF($D27="","",VLOOKUP($D27,Lists!$BB$2:$BD$78,COLUMN(),FALSE)) | C27: =IF($D27="","",VLOOKUP($D27,Lists!$BB$2:$BD$78,COLUMN(),FALSE))
B28: =IF($D28="","",VLOOKUP($D28,Lists!$BB$2:$BD$78,COLUMN(),FALSE)) | C28: =IF($D28="","",VLOOKUP($D28,Lists!$BB$2:$BD$78,COLUMN(),FALSE))
B29: =IF($D29="","",VLOOKUP($D29,Lists!$BB$2:$BD$78,COLUMN(),FALSE)) | C29: =IF($D29="","",VLOOKUP($D29,Lists!$BB$2:$BD$78,COLUMN(),FALSE))
B30: =IF($D30="","",VLOOKUP($D30,Lists!$BB$2:$BD$78,COLUMN(),FALSE)) | C30: =IF($D30="","",VLOOKUP($D30,Lists!$BB$2:$BD$78,COLUMN(),FALSE))
B31: =IF($D31="","",VLOOKUP($D31,Lists!$BB$2:$BD$78,COLUMN(),FALSE)) | C31: =IF($D31="","",VLOOKUP($D31,Lists!$BB$2:$BD$78,COLUMN(),FALSE))
B32: =IF($D32="","",VLOOKUP($D32,Lists!$BB$2:$BD$78,COLUMN(),FALSE)) | C32: =IF($D32="","",VLOOKUP($D32,Lists!$BB$2:$BD$78,COLUMN(),FALSE))
B33: =IF($D33="","",VLOOKUP($D33,Lists!$BB$2:$BD$78,COLUMN(),FALSE)) | C33: =IF($D33="","",VLOOKUP($D33,Lists!$BB$2:$BD$78,COLUMN(),FALSE))
B34: =IF($D34="","",VLOOKUP($D34,Lists!$BB$2:$BD$78,COLUMN(),FALSE)) | C34: =IF($D34="","",VLOOKUP($D34,Lists!$BB$2:$BD$78,COLUMN(),FALSE))
B35: =IF($D35="","",VLOOKUP($D35,Lists!$BB$2:$BD$78,COLUMN(),FALSE)) | C35: =IF($D35="","",VLOOKUP($D35,Lists!$BB$2:$BD$78,COLUMN(),FALSE))
... B500: =IF($D500="","",VLOOKUP($D500,Lists!$BB$2:$BD$78,COLUMN(),FALSE)) | C500: =IF($D500="","",VLOOKUP($D500,Lists!$BB$2:$BD$78,COLUMN(),FALSE))

Sheet With_Addon_CPMS1
B1: DO NOT REMOVE OR EDIT INFORMATION IN THIS SECTION FOR INTERNAL USE ONLY
B2: Template Name | C2: =+Welcome!B2 -> 63.4520(f) Semiannual Compliance Report (Spreadsheet Template)
B3: CitationID | C3: =+Welcome!B3 -> 63.4520(f)
B4: Template Version | C4: =+Welcome!B4 -> v1.02
B5: Last Updated Date | C5: =+Welcome!B5 -> 45554
B6: =+Welcome!B6 -> OMB Control Number: 2060-0518 Expiration Date: 04/30/2019
B7: 40 CFR Part 63, Subpart PPPP National Emission Standards for Hazardous Air Pollutants: Surface Coating of Plastic Parts and Products -
B8: §63.4520(f) Semiannual Compliance Report Spreadsheet Template
B12: Company Record No. (Autocompleted) | C12: Affected Source or Equipment (§63.4520(a)(7)(iv)) (Autocompleted) | D12: Company Record No. and Affected Source or Equipment (§63.4520(a)(7)(iv)) (Select from dropdown) | E12: CPMS Description (§63.4520(a)(7)(iv)) | F12: For Emission Rate with Addon Control, Date of Last CPMS Certification or Audit (§63.4520(a)(7)(v))
B13: RecordId | C13: OperationName_AddonCPMS1 | D13: AffectedSource_AddonCPMS1 | E13: CpmsDescription_AddonCPMS1 | F13: CpmsAuditDate_AddonCPMS1
B14: e.g.: 1 | C14: e.g.: East Coating | D14: e.g.: 1 East Coating | E14: e.g.: Combustion Temperature | F14: e.g.: 2/1/2017
B15: e.g.: | C15: e.g.: | D15: e.g.: | E15: e.g.: | F15: e.g.:
B16: e.g.: | C16: e.g.: | D16: e.g.: | E16: e.g.: | F16: e.g.:
B17: e.g.: | C17: e.g.: | D17: e.g.: | E17: e.g.: | F17: e.g.:
B18: e.g.: | C18: e.g.: | D18: e.g.: | E18: e.g.: | F18: e.g.:
B19: e.g.: | C19: e.g.: | D19: e.g.: | E19: e.g.: | F19: e.g.:
B20: e.g.: | C20: e.g.: | D20: e.g.: | E20: e.g.: | F20: e.g.:
B21: e.g.: | C21: e.g.: | D21: e.g.: | E21: e.g.: | F21: e.g.:
B22: e.g.: | C22: e.g.: | D22: e.g.: | E22: e.g.: | F22: e.g.:
B23: e.g.: | C23: e.g.: | D23: e.g.: | E23: e.g.: | F23: e.g.:
B24: =IF($D24="","",VLOOKUP($D24,Lists!$BB$2:$BD$78,COLUMN(),FALSE)) | C24: =IF($D24="","",VLOOKUP($D24,Lists!$BB$2:$BD$78,COLUMN(),FALSE))
B25: =IF($D25="","",VLOOKUP($D25,Lists!$BB$2:$BD$78,COLUMN(),FALSE)) | C25: =IF($D25="","",VLOOKUP($D25,Lists!$BB$2:$BD$78,COLUMN(),FALSE))
B26: =IF($D26="","",VLOOKUP($D26,Lists!$BB$2:$BD$78,COLUMN(),FALSE)) | C26: =IF($D26="","",VLOOKUP($D26,Lists!$BB$2:$BD$78,COLUMN(),FALSE))
B27: =IF($D27="","",VLOOKUP($D27,Lists!$BB$2:$BD$78,COLUMN(),FALSE)) | C27: =IF($D27="","",VLOOKUP($D27,Lists!$BB$2:$BD$78,COLUMN(),FALSE))
B28: =IF($D28="","",VLOOKUP($D28,Lists!$BB$2:$BD$78,COLUMN(),FALSE)) | C28: =IF($D28="","",VLOOKUP($D28,Lists!$BB$2:$BD$78,COLUMN(),FALSE))
B29: =IF($D29="","",VLOOKUP($D29,Lists!$BB$2:$BD$78,COLUMN(),FALSE)) | C29: =IF($D29="","",VLOOKUP($D29,Lists!$BB$2:$BD$78,COLUMN(),FALSE))
B30: =IF($D30="","",VLOOKUP($D30,Lists!$BB$2:$BD$78,COLUMN(),FALSE)) | C30: =IF($D30="","",VLOOKUP($D30,Lists!$BB$2:$BD$78,COLUMN(),FALSE))
B31: =IF($D31="","",VLOOKUP($D31,Lists!$BB$2:$BD$78,COLUMN(),FALSE)) | C31: =IF($D31="","",VLOOKUP($D31,Lists!$BB$2:$BD$78,COLUMN(),FALSE))
B32: =IF($D32="","",VLOOKUP($D32,Lists!$BB$2:$BD$78,COLUMN(),FALSE)) | C32: =IF($D32="","",VLOOKUP($D32,Lists!$BB$2:$BD$78,COLUMN(),FALSE))
B33: =IF($D33="","",VLOOKUP($D33,Lists!$BB$2:$BD$78,COLUMN(),FALSE)) | C33: =IF($D33="","",VLOOKUP($D33,Lists!$BB$2:$BD$78,COLUMN(),FALSE))
B34: =IF($D34="","",VLOOKUP($D34,Lists!$BB$2:$BD$78,COLUMN(),FALSE)) | C34: =IF($D34="","",VLOOKUP($D34,Lists!$BB$2:$BD$78,COLUMN(),FALSE))
B35: =IF($D35="","",VLOOKUP($D35,Lists!$BB$2:$BD$78,COLUMN(),FALSE)) | C35: =IF($D35="","",VLOOKUP($D35,Lists!$BB$2:$BD$78,COLUMN(),FALSE))
... B500: =IF($D500="","",VLOOKUP($D500,Lists!$BB$2:$BD$78,COLUMN(),FALSE)) | C500: =IF($D500="","",VLOOKUP($D500,Lists!$BB$2:$BD$78,COLUMN(),FALSE))

Sheet With_Addon_CPMS2
B1: DO NOT REMOVE OR EDIT INFORMATION IN THIS SECTION FOR INTERNAL USE ONLY
B2: Template Name | C2: =+Welcome!B2 -> 63.4520(f) Semiannual Compliance Report (Spreadsheet Template)
B3: CitationID | C3: =+Welcome!B3 -> 63.4520(f)
B4: Template Version | C4: =+Welcome!B4 -> v1.02
B5: Last Updated Date | C5: =+Welcome!B5 -> 45554
B6: =+Welcome!B6 -> OMB Control Number: 2060-0518 Expiration Date: 04/30/2019
B7: 40 CFR Part 63, Subpart PPPP National Emission Standards for Hazardous Air Pollutants: Surface Coating of Plastic Parts and Products - §63.4520(f) Semiannual Compliance Report Spreadsheet Template
B12: Company Record No. (Autocompleted) | C12: Affected Source or Equipment (§63.4520(a)(7)(iv)) (Autocompleted) | D12: CPMS Description (§63. 4520(a)(7)(iv) (Autocompleted) | E12: Company Record No., Affected Source or Equipment, and CPMS Description (§63.4520(a)(7)(iv)) (Select from dropdown) | F12: CPMS Inoperative or Out of Control (Select from dropdown) | G12: Starting Date CPMS Inoperative or Out of Control (§63. 4520(a)(7)(vi) or (vii)) | H12: Starting Time CPMS Inoperative or Out of Control (§63. 4520(a)(7)(vi) or (vii)) | I12: Ending Date CPMS Inoperative or Out of Control (§63. 4520(a)(7)(vi) or (vii)) | J12: Ending Time CPMS Inoperative or Out of Control (§63. 4520(a)(7)(vi) or (vii)) | K12: Duration CPMS Out of Control (hours) (§63. 4520(a)(7)(vii)) (Calculated Value) | L12: Cause of Deviation (§63. 4520(a)(7)(vi) or (vii)) | M12: Actions Taken to Minimize Emissions (§63. 4520(a)(7)(vii) per §63.8 (c)(8))
B13: RecordId | C13: OperationName_AddonCPMS2 | D13: CpmsDescription_AddonCPMS2 | E13: AffectedSource_AddonCPMS2 | F13: Cpmsfunction_AddonCPMS2 | G13: CpmsOutageStartDate_AddonCMPS2 | H13: CpmsOutageStartTime_AddonCPMS2 | I13: CpmsOutageEndDate_AddonCPMS2 | J13: CpmsOutageEndTime_AddonCPMS2 | K13: CpmsOutageDuration_AddonCPMS2 | L13: DeviationCause_AddonCPMS2 | M13: CorrectiveAction_AddonCPMS2
B14: e.g.: 1 | C14: e.g.: East Coating | D14: e.g.: Combustion Temperature | E14: e.g.: 1 East Coating | F14: e.g.: Inoperative | G14: e.g.: 3/2/2017 | H14: e.g.: 15:52 | I14: e.g.: 3/2/2017 | J14: e.g.: 18:15 | K14: e.g.: 2.38 | L14: e.g.: Corroded TC tip | M14: e.g.: replaced thermocouple
B15: e.g.: | C15: e.g.: | D15: e.g.: | E15: e.g.: | F15: e.g.: | G15: e.g.: | H15: e.g.: | I15: e.g.: | J15: e.g.: | K15: e.g.: | L15: e.g.: | M15: e.g.:
B16: e.g.: | C16: e.g.: | D16: e.g.: | E16: e.g.: | F16: e.g.: | G16: e.g.: | H16: e.g.: | I16: e.g.: | J16: e.g.: | K16: e.g.: | L16: e.g.: | M16: e.g.:
B17: e.g.: | C17: e.g.: | D17: e.g.: | E17: e.g.: | F17: e.g.: | G17: e.g.: | H17: e.g.: | I17: e.g.: | J17: e.g.: | K17: e.g.: | L17: e.g.: | M17: e.g.:
B18: e.g.: | C18: e.g.: | D18: e.g.: | E18: e.g.: | F18: e.g.: | G18: e.g.: | H18: e.g.: | I18: e.g.: | J18: e.g.: | K18: e.g.: | L18: e.g.: | M18: e.g.:
B19: e.g.: | C19: e.g.: | D19: e.g.: | E19: e.g.: | F19: e.g.: | G19: e.g.: | H19: e.g.: | I19: e.g.: | J19: e.g.: | K19: e.g.: | L19: e.g.: | M19: e.g.:
B20: e.g.: | C20: e.g.: | D20: e.g.: | E20: e.g.: | F20: e.g.: | G20: e.g.: | H20: e.g.: | I20: e.g.: | J20: e.g.: | K20: e.g.: | L20: e.g.: | M20: e.g.:
B21: e.g.: | C21: e.g.: | D21: e.g.: | E21: e.g.: | F21: e.g.: | G21: e.g.: | H21: e.g.: | I21: e.g.: | J21: e.g.: | K21: e.g.: | L21: e.g.: | M21: e.g.:
B22: e.g.: | C22: e.g.: | D22: e.g.: | E22: e.g.: | F22: e.g.: | G22: e.g.: | H22: e.g.: | I22: e.g.: | J22: e.g.: | K22: e.g.: | L22: e.g.: | M22: e.g.:
B23: e.g.: | C23: e.g.: | D23: e.g.: | E23: e.g.: | F23: e.g.: | G23: e.g.: | H23: e.g.: | I23: e.g.: | J23: e.g.: | K23: e.g.: | L23: e.g.: | M23: e.g.:
B24: =IF($E24="","",VLOOKUP($E24,Lists!$CA$2:$CD$500,COLUMN(),FALSE)) | C24: =IF($E24="","",VLOOKUP($E24,Lists!$CA$2:$CD$500,COLUMN(),FALSE)) | D24: =IF($E24="","",VLOOKUP($E24,Lists!$CA$2:$CD$500,COLUMN(),FALSE)) | K24: =IF(J24="","",(VALUE(TEXT(I24,"m/dd/yy ")&TEXT(J24,"hh:mm:ss"))-(VALUE(TEXT(G24,"m/dd/yy ")&TEXT(H24,"hh:mm:ss"))))*24)
B25: =IF($E25="","",VLOOKUP($E25,Lists!$CA$2:$CD$500,COLUMN(),FALSE)) | C25: =IF($E25="","",VLOOKUP($E25,Lists!$CA$2:$CD$500,COLUMN(),FALSE)) | D25: =IF($E25="","",VLOOKUP($E25,Lists!$CA$2:$CD$500,COLUMN(),FALSE)) | K25: =IF(J25="","",(VALUE(TEXT(I25,"m/dd/yy ")&TEXT(J25,"hh:mm:ss"))-(VALUE(TEXT(G25,"m/dd/yy ")&TEXT(H25,"hh:mm:ss"))))*24)
B26: =IF($E26="","",VLOOKUP($E26,Lists!$CA$2:$CD$500,COLUMN(),FALSE)) | C26: =IF($E26="","",VLOOKUP($E26,Lists!$CA$2:$CD$500,COLUMN(),FALSE)) | D26: =IF($E26="","",VLOOKUP($E26,Lists!$CA$2:$CD$500,COLUMN(),FALSE)) | K26: =IF(J26="","",(VALUE(TEXT(I26,"m/dd/yy ")&TEXT(J26,"hh:mm:ss"))-(VALUE(TEXT(G26,"m/dd/yy ")&TEXT(H26,"hh:mm:ss"))))*24)
B27: =IF($E27="","",VLOOKUP($E27,Lists!$CA$2:$CD$500,COLUMN(),FALSE)) | C27: =IF($E27="","",VLOOKUP($E27,Lists!$CA$2:$CD$500,COLUMN(),FALSE)) | D27: =IF($E27="","",VLOOKUP($E27,Lists!$CA$2:$CD$500,COLUMN(),FALSE)) | K27: =IF(J27="","",(VALUE(TEXT(I27,"m/dd/yy ")&TEXT(J27,"hh:mm:ss"))-(VALUE(TEXT(G27,"m/dd/yy ")&TEXT(H27,"hh:mm:ss"))))*24)
B28: =IF($E28="","",VLOOKUP($E28,Lists!$CA$2:$CD$500,COLUMN(),FALSE)) | C28: =IF($E28="","",VLOOKUP($E28,Lists!$CA$2:$CD$500,COLUMN(),FALSE)) | D28: =IF($E28="","",VLOOKUP($E28,Lists!$CA$2:$CD$500,COLUMN(),FALSE)) | K28: =IF(J28="","",(VALUE(TEXT(I28,"m/dd/yy ")&TEXT(J28,"hh:mm:ss"))-(VALUE(TEXT(G28,"m/dd/yy ")&TEXT(H28,"hh:mm:ss"))))*24)
B29: =IF($E29="","",VLOOKUP($E29,Lists!$CA$2:$CD$500,COLUMN(),FALSE)) | C29: =IF($E29="","",VLOOKUP($E29,Lists!$CA$2:$CD$500,COLUMN(),FALSE)) | D29: =IF($E29="","",VLOOKUP($E29,Lists!$CA$2:$CD$500,COLUMN(),FALSE)) | K29: =IF(J29="","",(VALUE(TEXT(I29,"m/dd/yy ")&TEXT(J29,"hh:mm:ss"))-(VALUE(TEXT(G29,"m/dd/yy ")&TEXT(H29,"hh:mm:ss"))))*24)
B30: =IF($E30="","",VLOOKUP($E30,Lists!$CA$2:$CD$500,COLUMN(),FALSE)) | C30: =IF($E30="","",VLOOKUP($E30,Lists!$CA$2:$CD$500,COLUMN(),FALSE)) | D30: =IF($E30="","",VLOOKUP($E30,Lists!$CA$2:$CD$500,COLUMN(),FALSE)) | K30: =IF(J30="","",(VALUE(TEXT(I30,"m/dd/yy ")&TEXT(J30,"hh:mm:ss"))-(VALUE(TEXT(G30,"m/dd/yy ")&TEXT(H30,"hh:mm:ss"))))*24)
B31: =IF($E31="","",VLOOKUP($E31,Lists!$CA$2:$CD$500,COLUMN(),FALSE)) | C31: =IF($E31="","",VLOOKUP($E31,Lists!$CA$2:$CD$500,COLUMN(),FALSE)) | D31: =IF($E31="","",VLOOKUP($E31,Lists!$CA$2:$CD$500,COLUMN(),FALSE)) | K31: =IF(J31="","",(VALUE(TEXT(I31,"m/dd/yy ")&TEXT(J31,"hh:mm:ss"))-(VALUE(TEXT(G31,"m/dd/yy ")&TEXT(H31,"hh:mm:ss"))))*24)
B32: =IF($E32="","",VLOOKUP($E32,Lists!$CA$2:$CD$500,COLUMN(),FALSE)) | C32: =IF($E32="","",VLOOKUP($E32,Lists!$CA$2:$CD$500,COLUMN(),FALSE)) | D32: =IF($E32="","",VLOOKUP($E32,Lists!$CA$2:$CD$500,COLUMN(),FALSE)) | K32: =IF(J32="","",(VALUE(TEXT(I32,"m/dd/yy ")&TEXT(J32,"hh:mm:ss"))-(VALUE(TEXT(G32,"m/dd/yy ")&TEXT(H32,"hh:mm:ss"))))*24)
B33: =IF($E33="","",VLOOKUP($E33,Lists!$CA$2:$CD$500,COLUMN(),FALSE)) | C33: =IF($E33="","",VLOOKUP($E33,Lists!$CA$2:$CD$500,COLUMN(),FALSE)) | D33: =IF($E33="","",VLOOKUP($E33,Lists!$CA$2:$CD$500,COLUMN(),FALSE)) | K33: =IF(J33="","",(VALUE(TEXT(I33,"m/dd/yy ")&TEXT(J33,"hh:mm:ss"))-(VALUE(TEXT(G33,"m/dd/yy ")&TEXT(H33,"hh:mm:ss"))))*24)
B34: =IF($E34="","",VLOOKUP($E34,Lists!$CA$2:$CD$500,COLUMN(),FALSE)) | C34: =IF($E34="","",VLOOKUP($E34,Lists!$CA$2:$CD$500,COLUMN(),FALSE)) | D34: =IF($E34="","",VLOOKUP($E34,Lists!$CA$2:$CD$500,COLUMN(),FALSE)) | K34: =IF(J34="","",(VALUE(TEXT(I34,"m/dd/yy ")&TEXT(J34,"hh:mm:ss"))-(VALUE(TEXT(G34,"m/dd/yy ")&TEXT(H34,"hh:mm:ss"))))*24)
B35: =IF($E35="","",VLOOKUP($E35,Lists!$CA$2:$CD$500,COLUMN(),FALSE)) | C35: =IF($E35="","",VLOOKUP($E35,Lists!$CA$2:$CD$500,COLUMN(),FALSE)) | D35: =IF($E35="","",VLOOKUP($E35,Lists!$CA$2:$CD$500,COLUMN(),FALSE)) | K35: =IF(J35="","",(VALUE(TEXT(I35,"m/dd/yy ")&TEXT(J35,"hh:mm:ss"))-(VALUE(TEXT(G35,"m/dd/yy ")&TEXT(H35,"hh:mm:ss"))))*24)
... B500: =IF($E500="","",VLOOKUP($E500,Lists!$CA$2:$CD$500,COLUMN(),FALSE)) | C500: =IF($E500="","",VLOOKUP($E500,Lists!$CA$2:$CD$500,COLUMN(),FALSE)) | D500: =IF($E500="","",VLOOKUP($E500,Lists!$CA$2:$CD$500,COLUMN(),FALSE)) | K500: =IF(J500="","",(VALUE(TEXT(I500,"m/dd/yy ")&TEXT(J500,"hh:mm:ss"))-(VALUE(TEXT(G500,"m/dd/yy ")&TEXT(H500,"hh:mm:ss"))))*24)

Sheet With_Addon_CPMSSummary
B1: DO NOT REMOVE OR EDIT INFORMATION IN THIS SECTION FOR INTERNAL USE ONLY
B2: Template Name | C2: =+Welcome!B2 -> 63.4520(f) Semiannual Compliance Report (Spreadsheet Template)
B3: CitationID | C3: =+Welcome!B3 -> 63.4520(f)
B4: Template Version | C4: =+Welcome!B4 -> v1.02
B5: Last Updated Date | C5: =+Welcome!B5 -> 45554
B6: =+Welcome!B6 -> OMB Control Number: 2060-0518 Expiration Date: 04/30/2019
B7: 40 CFR Part 63, Subpart PPPP National Emission Standards for Hazardous Air Pollutants: Surface Coating of Plastic Parts and Products
B8: §63.4520(f) Semiannual Compliance Report Spreadsheet Template
B12: Company Record No. (Autocompleted) | C12: Name of Operation (§63. 4520(a)(3)(iv)) (Autocompleted) | D12: CPMS Description (§63. 4520(a)(7)(iv)) (Autocompleted) | E12: Total Source Operating Time (hours) (Optional for autocalculation of % of Total Operating Time) | F12: Total Duration of CPMS Downtime (hours) (§63.4520(a)(7)(xi)) | G12: Total Duration of CPMS Downtime as a percent of Total Source Operating Time (hours) (§63.4520(a)(7)(xi)) (Autocalculation or manual entry) | H12: Number of Instances CPMS Inoperative (§63.4520(a)(6)(iv)) (Autocompleted) | I12: Number of Instances CPMS Out of Control (§63.4520(a)(6)(iv)) (Autocompleted)
B13: RecordId | C13: OperationName_CPMSSumm | D13: CpmsDescription_CPMSSumm | E13: TotalOperatingTime_CPMSSumm | F13: CpmsDowntimeDuration_CPMSSumm | G13: CpmsDowntimePercent_CPMSSumm | H13: NumCPMSInoperative | I13: NumCPMSOutofControl
B14: e.g.: 1 | C14: e.g.: West Coating | D14: e.g.: Combustion Temperature | E14: e.g.: 6240 | F14: e.g.: 0 | G14: e.g.: N/A | H14: e.g.: 5 | I14: e.g.: 5
B15: e.g.: | C15: e.g.: | D15: e.g.: | E15: e.g.: | F15: e.g.: | G15: e.g.: | H15: e.g.: | I15: e.g.:
B16: e.g.: | C16: e.g.: | D16: e.g.: | E16: e.g.: | F16: e.g.: | G16: e.g.: | H16: e.g.: | I16: e.g.:
B17: e.g.: | C17: e.g.: | D17: e.g.: | E17: e.g.: | F17: e.g.: | G17: e.g.: | H17: e.g.: | I17: e.g.:
B18: e.g.: | C18: e.g.: | D18: e.g.: | E18: e.g.: | F18: e.g.: | G18: e.g.: | H18: e.g.: | I18: e.g.:
B19: e.g.: | C19: e.g.: | D19: e.g.: | E19: e.g.: | F19: e.g.: | G19: e.g.: | H19: e.g.: | I19: e.g.:
B20: e.g.: | C20: e.g.: | D20: e.g.: | E20: e.g.: | F20: e.g.: | G20: e.g.: | H20: e.g.: | I20: e.g.:
B21: e.g.: | C21: e.g.: | D21: e.g.: | E21: e.g.: | F21: e.g.: | G21: e.g.: | H21: e.g.: | I21: e.g.:
B22: e.g.: | C22: e.g.: | D22: e.g.: | E22: e.g.: | F22: e.g.: | G22: e.g.: | H22: e.g.: | I22: e.g.:
B23: e.g.: | C23: e.g.: | D23: e.g.: | E23: e.g.: | F23: e.g.: | G23: e.g.: | H23: e.g.: | I23: e.g.:
B24: =IF(Lists!CM2="","",Lists!CM2) | C24: =IF(Lists!CN2="","",Lists!CN2) | D24: =IF(Lists!CO2="","",Lists!CO2) | F24: =IF($C24="","",SUMIFS(With_Addon_CPMS2!$K$24:$K$5000,With_Addon_CPMS2!$B$24:$B$5000,With_Addon_CPMSSummary!B24,With_Addon_CPMS2!$C$24:$C$5000,With_Addon_CPMSSummary!C24,With_Addon_CPMS2!$D$24:$D$5000,With_Addon_CPMSSummary!D24)) | G24: =IF($C24="","",IF(F24=0,"N/A",F24/$E24)) | H24: =IF(D24="","",COUNTIFS(With_Addon_CPMS2!$B$24:$B$500,$B24,With_Addon_CPMS2!$C$24:$C$500,$C24,With_Addon_CPMS2!$D$24:$D$500,$D24,With_Addon_CPMS2!$F$24:$F$500,"Inoperative")) | I24: =IF(D24="","",COUNTIFS(With_Addon_CPMS2!$B$24:$B$500,$B24,With_Addon_CPMS2!$C$24:$C$500,$C24,With_Addon_CPMS2!$D$24:$D$500,$D24,With_Addon_CPMS2!$F$24:$F$500,"Out of Control"))
B25: =IF(Lists!CM3="","",Lists!CM3) | C25: =IF(Lists!CN3="","",Lists!CN3) | D25: =IF(Lists!CO3="","",Lists!CO3) | F25: =IF($C25="","",SUMIFS(With_Addon_CPMS2!$K$24:$K$5000,With_Addon_CPMS2!$B$24:$B$5000,With_Addon_CPMSSummary!B25,With_Addon_CPMS2!$C$24:$C$5000,With_Addon_CPMSSummary!C25,With_Addon_CPMS2!$D$24:$D$5000,With_Addon_CPMSSummary!D25)) | G25: =IF($C25="","",IF(F25=0,"N/A",F25/$E25)) | H25: =IF(D25="","",COUNTIFS(With_Addon_CPMS2!$B$24:$B$500,$B25,With_Addon_CPMS2!$C$24:$C$500,$C25,With_Addon_CPMS2!$D$24:$D$500,$D25,With_Addon_CPMS2!$F$24:$F$500,"Inoperative")) | I25: =IF(E25="","",COUNTIFS(With_Addon_CPMS2!$B$24:$B$500,$B25,With_Addon_CPMS2!$C$24:$C$500,$C25,With_Addon_CPMS2!$D$24:$D$500,$D25,With_Addon_CPMS2!$F$24:$F$500,"Out of Control"))
B26: =IF(Lists!CM4="","",Lists!CM4) | C26: =IF(Lists!CN4="","",Lists!CN4) | D26: =IF(Lists!CO4="","",Lists!CO4) | F26: =IF($C26="","",SUMIFS(With_Addon_CPMS2!$K$24:$K$5000,With_Addon_CPMS2!$B$24:$B$5000,With_Addon_CPMSSummary!B26,With_Addon_CPMS2!$C$24:$C$5000,With_Addon_CPMSSummary!C26,With_Addon_CPMS2!$D$24:$D$5000,With_Addon_CPMSSummary!D26)) | G26: =IF($C26="","",IF(F26=0,"N/A",F26/$E26)) | H26: =IF(D26="","",COUNTIFS(With_Addon_CPMS2!$B$24:$B$500,$B26,With_Addon_CPMS2!$C$24:$C$500,$C26,With_Addon_CPMS2!$D$24:$D$500,$D26,With_Addon_CPMS2!$F$24:$F$500,"Inoperative")) | I26: =IF(E26="","",COUNTIFS(With_Addon_CPMS2!$B$24:$B$500,$B26,With_Addon_CPMS2!$C$24:$C$500,$C26,With_Addon_CPMS2!$D$24:$D$500,$D26,With_Addon_CPMS2!$F$24:$F$500,"Out of Control"))
B27: =IF(Lists!CM5="","",Lists!CM5) | C27: =IF(Lists!CN5="","",Lists!CN5) | D27: =IF(Lists!CO5="","",Lists!CO5) | F27: =IF($C27="","",SUMIFS(With_Addon_CPMS2!$K$24:$K$5000,With_Addon_CPMS2!$B$24:$B$5000,With_Addon_CPMSSummary!B27,With_Addon_CPMS2!$C$24:$C$5000,With_Addon_CPMSSummary!C27,With_Addon_CPMS2!$D$24:$D$5000,With_Addon_CPMSSummary!D27)) | G27: =IF($C27="","",IF(F27=0,"N/A",F27/$E27)) | H27: =IF(D27="","",COUNTIFS(With_Addon_CPMS2!$B$24:$B$500,$B27,With_Addon_CPMS2!$C$24:$C$500,$C27,With_Addon_CPMS2!$D$24:$D$500,$D27,With_Addon_CPMS2!$F$24:$F$500,"Inoperative")) | I27: =IF(E27="","",COUNTIFS(With_Addon_CPMS2!$B$24:$B$500,$B27,With_Addon_CPMS2!$C$24:$C$500,$C27,With_Addon_CPMS2!$D$24:$D$500,$D27,With_Addon_CPMS2!$F$24:$F$500,"Out of Control"))
B28: =IF(Lists!CM6="","",Lists!CM6) | C28: =IF(Lists!CN6="","",Lists!CN6) | D28: =IF(Lists!CO6="","",Lists!CO6) | F28: =IF($C28="","",SUMIFS(With_Addon_CPMS2!$K$24:$K$5000,With_Addon_CPMS2!$B$24:$B$5000,With_Addon_CPMSSummary!B28,With_Addon_CPMS2!$C$24:$C$5000,With_Addon_CPMSSummary!C28,With_Addon_CPMS2!$D$24:$D$5000,With_Addon_CPMSSummary!D28)) | G28: =IF($C28="","",IF(F28=0,"N/A",F28/$E28)) | H28: =IF(D28="","",COUNTIFS(With_Addon_CPMS2!$B$24:$B$500,$B28,With_Addon_CPMS2!$C$24:$C$500,$C28,With_Addon_CPMS2!$D$24:$D$500,$D28,With_Addon_CPMS2!$F$24:$F$500,"Inoperative")) | I28: =IF(E28="","",COUNTIFS(With_Addon_CPMS2!$B$24:$B$500,$B28,With_Addon_CPMS2!$C$24:$C$500,$C28,With_Addon_CPMS2!$D$24:$D$500,$D28,With_Addon_CPMS2!$F$24:$F$500,"Out of Control"))
B29: =IF(Lists!CM7="","",Lists!CM7) | C29: =IF(Lists!CN7="","",Lists!CN7) | D29: =IF(Lists!CO7="","",Lists!CO7) | F29: =IF($C29="","",SUMIFS(With_Addon_CPMS2!$K$24:$K$5000,With_Addon_CPMS2!$B$24:$B$5000,With_Addon_CPMSSummary!B29,With_Addon_CPMS2!$C$24:$C$5000,With_Addon_CPMSSummary!C29,With_Addon_CPMS2!$D$24:$D$5000,With_Addon_CPMSSummary!D29)) | G29: =IF($C29="","",IF(F29=0,"N/A",F29/$E29)) | H29: =IF(D29="","",COUNTIFS(With_Addon_CPMS2!$B$24:$B$500,$B29,With_Addon_CPMS2!$C$24:$C$500,$C29,With_Addon_CPMS2!$D$24:$D$500,$D29,With_Addon_CPMS2!$F$24:$F$500,"Inoperative")) | I29: =IF(E29="","",COUNTIFS(With_Addon_CPMS2!$B$24:$B$500,$B29,With_Addon_CPMS2!$C$24:$C$500,$C29,With_Addon_CPMS2!$D$24:$D$500,$D29,With_Addon_CPMS2!$F$24:$F$500,"Out of Control"))
B30: =IF(Lists!CM8="","",Lists!CM8) | C30: =IF(Lists!CN8="","",Lists!CN8) | D30: =IF(Lists!CO8="","",Lists!CO8) | F30: =IF($C30="","",SUMIFS(With_Addon_CPMS2!$K$24:$K$5000,With_Addon_CPMS2!$B$24:$B$5000,With_Addon_CPMSSummary!B30,With_Addon_CPMS2!$C$24:$C$5000,With_Addon_CPMSSummary!C30,With_Addon_CPMS2!$D$24:$D$5000,With_Addon_CPMSSummary!D30)) | G30: =IF($C30="","",IF(F30=0,"N/A",F30/$E30)) | H30: =IF(D30="","",COUNTIFS(With_Addon_CPMS2!$B$24:$B$500,$B30,With_Addon_CPMS2!$C$24:$C$500,$C30,With_Addon_CPMS2!$D$24:$D$500,$D30,With_Addon_CPMS2!$F$24:$F$500,"Inoperative")) | I30: =IF(E30="","",COUNTIFS(With_Addon_CPMS2!$B$24:$B$500,$B30,With_Addon_CPMS2!$C$24:$C$500,$C30,With_Addon_CPMS2!$D$24:$D$500,$D30,With_Addon_CPMS2!$F$24:$F$500,"Out of Control"))
B31: =IF(Lists!CM9="","",Lists!CM9) | C31: =IF(Lists!CN9="","",Lists!CN9) | D31: =IF(Lists!CO9="","",Lists!CO9) | F31: =IF($C31="","",SUMIFS(With_Addon_CPMS2!$K$24:$K$5000,With_Addon_CPMS2!$B$24:$B$5000,With_Addon_CPMSSummary!B31,With_Addon_CPMS2!$C$24:$C$5000,With_Addon_CPMSSummary!C31,With_Addon_CPMS2!$D$24:$D$5000,With_Addon_CPMSSummary!D31)) | G31: =IF($C31="","",IF(F31=0,"N/A",F31/$E31)) | H31: =IF(D31="","",COUNTIFS(With_Addon_CPMS2!$B$24:$B$500,$B31,With_Addon_CPMS2!$C$24:$C$500,$C31,With_Addon_CPMS2!$D$24:$D$500,$D31,With_Addon_CPMS2!$F$24:$F$500,"Inoperative")) | I31: =IF(E31="","",COUNTIFS(With_Addon_CPMS2!$B$24:$B$500,$B31,With_Addon_CPMS2!$C$24:$C$500,$C31,With_Addon_CPMS2!$D$24:$D$500,$D31,With_Addon_CPMS2!$F$24:$F$500,"Out of Control"))
B32: =IF(Lists!CM10="","",Lists!CM10) | C32: =IF(Lists!CN10="","",Lists!CN10) | D32: =IF(Lists!CO10="","",Lists!CO10) | F32: =IF($C32="","",SUMIFS(With_Addon_CPMS2!$K$24:$K$5000,With_Addon_CPMS2!$B$24:$B$5000,With_Addon_CPMSSummary!B32,With_Addon_CPMS2!$C$24:$C$5000,With_Addon_CPMSSummary!C32,With_Addon_CPMS2!$D$24:$D$5000,With_Addon_CPMSSummary!D32)) | G32: =IF($C32="","",IF(F32=0,"N/A",F32/$E32)) | H32: =IF(D32="","",COUNTIFS(With_Addon_CPMS2!$B$24:$B$500,$B32,With_Addon_CPMS2!$C$24:$C$500,$C32,With_Addon_CPMS2!$D$24:$D$500,$D32,With_Addon_CPMS2!$F$24:$F$500,"Inoperative")) | I32: =IF(E32="","",COUNTIFS(With_Addon_CPMS2!$B$24:$B$500,$B32,With_Addon_CPMS2!$C$24:$C$500,$C32,With_Addon_CPMS2!$D$24:$D$500,$D32,With_Addon_CPMS2!$F$24:$F$500,"Out of Control"))
B33: =IF(Lists!CM11="","",Lists!CM11) | C33: =IF(Lists!CN11="","",Lists!CN11) | D33: =IF(Lists!CO11="","",Lists!CO11) | F33: =IF($C33="","",SUMIFS(With_Addon_CPMS2!$K$24:$K$5000,With_Addon_CPMS2!$B$24:$B$5000,With_Addon_CPMSSummary!B33,With_Addon_CPMS2!$C$24:$C$5000,With_Addon_CPMSSummary!C33,With_Addon_CPMS2!$D$24:$D$5000,With_Addon_CPMSSummary!D33)) | G33: =IF($C33="","",IF(F33=0,"N/A",F33/$E33)) | H33: =IF(D33="","",COUNTIFS(With_Addon_CPMS2!$B$24:$B$500,$B33,With_Addon_CPMS2!$C$24:$C$500,$C33,With_Addon_CPMS2!$D$24:$D$500,$D33,With_Addon_CPMS2!$F$24:$F$500,"Inoperative")) | I33: =IF(E33="","",COUNTIFS(With_Addon_CPMS2!$B$24:$B$500,$B33,With_Addon_CPMS2!$C$24:$C$500,$C33,With_Addon_CPMS2!$D$24:$D$500,$D33,With_Addon_CPMS2!$F$24:$F$500,"Out of Control"))
B34: =IF(Lists!CM12="","",Lists!CM12) | C34: =IF(Lists!CN12="","",Lists!CN12) | D34: =IF(Lists!CO12="","",Lists!CO12) | F34: =IF($C34="","",SUMIFS(With_Addon_CPMS2!$K$24:$K$5000,With_Addon_CPMS2!$B$24:$B$5000,With_Addon_CPMSSummary!B34,With_Addon_CPMS2!$C$24:$C$5000,With_Addon_CPMSSummary!C34,With_Addon_CPMS2!$D$24:$D$5000,With_Addon_CPMSSummary!D34)) | G34: =IF($C34="","",IF(F34=0,"N/A",F34/$E34)) | H34: =IF(D34="","",COUNTIFS(With_Addon_CPMS2!$B$24:$B$500,$B34,With_Addon_CPMS2!$C$24:$C$500,$C34,With_Addon_CPMS2!$D$24:$D$500,$D34,With_Addon_CPMS2!$F$24:$F$500,"Inoperative")) | I34: =IF(E34="","",COUNTIFS(With_Addon_CPMS2!$B$24:$B$500,$B34,With_Addon_CPMS2!$C$24:$C$500,$C34,With_Addon_CPMS2!$D$24:$D$500,$D34,With_Addon_CPMS2!$F$24:$F$500,"Out of Control"))
B35: =IF(Lists!CM13="","",Lists!CM13) | C35: =IF(Lists!CN13="","",Lists!CN13) | D35: =IF(Lists!CO13="","",Lists!CO13) | F35: =IF($C35="","",SUMIFS(With_Addon_CPMS2!$K$24:$K$5000,With_Addon_CPMS2!$B$24:$B$5000,With_Addon_CPMSSummary!B35,With_Addon_CPMS2!$C$24:$C$5000,With_Addon_CPMSSummary!C35,With_Addon_CPMS2!$D$24:$D$5000,With_Addon_CPMSSummary!D35)) | G35: =IF($C35="","",IF(F35=0,"N/A",F35/$E35)) | H35: =IF(D35="","",COUNTIFS(With_Addon_CPMS2!$B$24:$B$500,$B35,With_Addon_CPMS2!$C$24:$C$500,$C35,With_Addon_CPMS2!$D$24:$D$500,$D35,With_Addon_CPMS2!$F$24:$F$500,"Inoperative")) | I35: =IF(E35="","",COUNTIFS(With_Addon_CPMS2!$B$24:$B$500,$B35,With_Addon_CPMS2!$C$24:$C$500,$C35,With_Addon_CPMS2!$D$24:$D$500,$D35,With_Addon_CPMS2!$F$24:$F$500,"Out of Control"))
B36: =IF(Lists!CM14="","",Lists!CM14) | C36: =IF(Lists!CN14="","",Lists!CN14) | D36: =IF(Lists!CO14="","",Lists!CO14) | F36: =IF($C36="","",SUMIFS(With_Addon_CPMS2!$K$24:$K$5000,With_Addon_CPMS2!$B$24:$B$5000,With_Addon_CPMSSummary!B36,With_Addon_CPMS2!$C$24:$C$5000,With_Addon_CPMSSummary!C36,With_Addon_CPMS2!$D$24:$D$5000,With_Addon_CPMSSummary!D36)) | G36: =IF($C36="","",IF(F36=0,"N/A",F36/$E36)) | H36: =IF(D36="","",COUNTIFS(With_Addon_CPMS2!$B$24:$B$500,$B36,With_Addon_CPMS2!$C$24:$C$500,$C36,With_Addon_CPMS2!$D$24:$D$500,$D36,With_Addon_CPMS2!$F$24:$F$500,"Inoperative")) | I36: =IF(E36="","",COUNTIFS(With_Addon_CPMS2!$B$24:$B$500,$B36,With_Addon_CPMS2!$C$24:$C$500,$C36,With_Addon_CPMS2!$D$24:$D$500,$D36,With_Addon_CPMS2!$F$24:$F$500,"Out of Control"))
... B100: =IF(Lists!CM78="","",Lists!CM78) | C100: =IF(Lists!CN78="","",Lists!CN78) | D100: =IF(Lists!CO78="","",Lists!CO78) | F100: =IF($C100="","",SUMIFS(With_Addon_CPMS2!$K$24:$K$5000,With_Addon_CPMS2!$B$24:$B$5000,With_Addon_CPMSSummary!B100,With_Addon_CPMS2!$C$24:$C$5000,With_Addon_CPMSSummary!C100,With_Addon_CPMS2!$D$24:$D$5000,With_Addon_CPMSSummary!D100)) | G100: =IF($C100="","",IF(F100=0,"N/A",F100/$E100)) | H100: =IF(D100="","",COUNTIFS(With_Addon_CPMS2!$B$24:$B$500,$B100,With_Addon_CPMS2!$C$24:$C$500,$C100,With_Addon_CPMS2!$D$24:$D$500,$D100,With_Addon_CPMS2!$F$24:$F$500,"Inoperative")) | I100: =IF(E100="","",COUNTIFS(With_Addon_CPMS2!$B$24:$B$500,$B100,With_Addon_CPMS2!$C$24:$C$500,$C100,With_Addon_CPMS2!$D$24:$D$500,$D100,With_Addon_CPMS2!$F$24:$F$500,"Out of Control"))

Sheet With_Addon_OpLimit
B1: DO NOT REMOVE OR EDIT INFORMATION IN THIS SECTION FOR INTERNAL USE ONLY
B2: Template Name | C2: =Welcome!B2 -> 63.4520(f) Semiannual Compliance Report (Spreadsheet Template)
B3: CitationID | C3: =Welcome!B3 -> 63.4520(f)
B4: Template Version | C4: =Welcome!B4 -> v1.02
B5: Last Updated Date | C5: =Welcome!B5 -> 45554
B6: =Welcome!B6 -> OMB Control Number: 2060-0518 Expiration Date: 04/30/2019
B7: 40 CFR Part 63, Subpart PPPP National Emission Standards for Hazardous Air Pollutants: Surface Coating of Plastic Parts and Products - §63.4520(f) Semiannual Compliance Report Spreadsheet Template
B12: Company Record No. (Autocompleted) | C12: Affected Source or Equipment (§63.4520(a)(7)(viii)) (Autocompleted) | D12: Company Record No. and Affected Source or Equipment (§63.4520(a)(7)(viii)) (Select from dropdown) | E12: Deviation from Operating Limit or Bypass of Control Device (§63. 4520(a)(7)(viii)) (Select from dropdown) | F12: Starting Date Deviation from Operating Limit or Bypass of Control Device (§63.4520(a)(7)(viii)) | G12: Starting Time Deviation from Operating Limit or Bypass of Control Device (§63.4520(a)(7)(viii)) | H12: Ending Date Deviation from Operating Limit or Bypass of Control Device (§63.4520(a)(7)(viii)) | I12: Ending Time Deviation from Operating Limit or Bypass of Control Device (§63.4520(a)(7)(viii)) | J12: Duration CPMS Out of Control (hours) (§63. 4520(a)(7)(vii)) (Calculated Value) | K12: Cause of Deviation (§63.4520(a)(7)(xiv)) | L12: Actions Taken to Minimize Emissions (§63.4520(a)(7)(xiv)) | M12: Estimate of quantity of organic HAP emitted over the emission limit (kg) (§63.4520(a)(7)(xv)) | N12: Method Used to Estimate Emissions (§63.4520(a)(7)(xv))
B13: RecordId | C13: OperationName_AddonOpLimit | D13: AffectedSource_AddonOpLimit | E13: DeviceDeviationBypass_AddonOpLimit | F13: DeviationStartDate_AddonOpLimit | G13: DeviationStartTime_AddonOpLimit | H13: DeviationEndDate_AddonOpLimit | I13: DeviationEndTime_AddonOpLimit | J13: DeviationDuration_AddonOpLimit | K13: DeviationCause_AddonOpLimit | L13: ActionsTaken_AddonOpLimit | M13: OrganicHAPQuantity_AddonOpLimit | N13: EstimationMethod_AddonOpLimit
B14: e.g.: 1 | C14: e.g.: East Coating | D14: e.g.: 1 East Coating | E14: e.g.: Deviation from Operating Limit | F14: e.g.: 3/2/2017 | G14: e.g.: 15:52 | H14: e.g.: 3/2/2017 | I14: e.g.: 18:15 | J14: e.g.: 2.38 | K14: e.g.: Control Equipment Problems | L14: e.g.: | M14: e.g.: 5.25 | N14: e.g.: engineering calculations
B15: e.g.: | C15: e.g.: | D15: e.g.: | E15: e.g.: | F15: e.g.: | G15: e.g.: | H15: e.g.: | I15: e.g.: | J15: e.g.: | K15: e.g.: | L15: e.g.: | M15: e.g.: | N15: e.g.:
B16: e.g.: | C16: e.g.: | D16: e.g.: | E16: e.g.: | F16: e.g.: | G16: e.g.: | H16: e.g.: | I16: e.g.: | J16: e.g.: | K16: e.g.: | L16: e.g.: | M16: e.g.: | N16: e.g.:
B17: e.g.: | C17: e.g.: | D17: e.g.: | E17: e.g.: | F17: e.g.: | G17: e.g.: | H17: e.g.: | I17: e.g.: | J17: e.g.: | K17: e.g.: | L17: e.g.: | M17: e.g.: | N17: e.g.:
B18: e.g.: | C18: e.g.: | D18: e.g.: | E18: e.g.: | F18: e.g.: | G18: e.g.: | H18: e.g.: | I18: e.g.: | J18: e.g.: | K18: e.g.: | L18: e.g.: | M18: e.g.: | N18: e.g.:
B19: e.g.: | C19: e.g.: | D19: e.g.: | E19: e.g.: | F19: e.g.: | G19: e.g.: | H19: e.g.: | I19: e.g.: | J19: e.g.: | K19: e.g.: | L19: e.g.: | M19: e.g.: | N19: e.g.:
B20: e.g.: | C20: e.g.: | D20: e.g.: | E20: e.g.: | F20: e.g.: | G20: e.g.: | H20: e.g.: | I20: e.g.: | J20: e.g.: | K20: e.g.: | L20: e.g.: | M20: e.g.: | N20: e.g.:
B21: e.g.: | C21: e.g.: | D21: e.g.: | E21: e.g.: | F21: e.g.: | G21: e.g.: | H21: e.g.: | I21: e.g.: | J21: e.g.: | K21: e.g.: | L21: e.g.: | M21: e.g.: | N21: e.g.:
B22: e.g.: | C22: e.g.: | D22: e.g.: | E22: e.g.: | F22: e.g.: | G22: e.g.: | H22: e.g.: | I22: e.g.: | J22: e.g.: | K22: e.g.: | L22: e.g.: | M22: e.g.: | N22: e.g.:
B23: e.g.: | C23: e.g.: | D23: e.g.: | E23: e.g.: | F23: e.g.: | G23: e.g.: | H23: e.g.: | I23: e.g.: | J23: e.g.: | K23: e.g.: | L23: e.g.: | M23: e.g.: | N23: e.g.:
B24: =IF($D24="","",VLOOKUP($D24,Lists!$BB$2:$BD$78,COLUMN(),FALSE)) | C24: =IF($D24="","",VLOOKUP($D24,Lists!$BB$2:$BD$78,COLUMN(),FALSE)) | J24: =IF(I24="","",(VALUE(TEXT(H24,"m/dd/yy ")&TEXT(I24,"hh:mm:ss"))-(VALUE(TEXT(F24,"m/dd/yy ")&TEXT(G24,"hh:mm:ss"))))*24)
B25: =IF($D25="","",VLOOKUP($D25,Lists!$BB$2:$BD$78,COLUMN(),FALSE)) | C25: =IF($D25="","",VLOOKUP($D25,Lists!$BB$2:$BD$78,COLUMN(),FALSE)) | J25: =IF(I25="","",(VALUE(TEXT(H25,"m/dd/yy ")&TEXT(I25,"hh:mm:ss"))-(VALUE(TEXT(F25,"m/dd/yy ")&TEXT(G25,"hh:mm:ss"))))*24)
B26: =IF($D26="","",VLOOKUP($D26,Lists!$BB$2:$BD$78,COLUMN(),FALSE)) | C26: =IF($D26="","",VLOOKUP($D26,Lists!$BB$2:$BD$78,COLUMN(),FALSE)) | J26: =IF(I26="","",(VALUE(TEXT(H26,"m/dd/yy ")&TEXT(I26,"hh:mm:ss"))-(VALUE(TEXT(F26,"m/dd/yy ")&TEXT(G26,"hh:mm:ss"))))*24)
B27: =IF($D27="","",VLOOKUP($D27,Lists!$BB$2:$BD$78,COLUMN(),FALSE)) | C27: =IF($D27="","",VLOOKUP($D27,Lists!$BB$2:$BD$78,COLUMN(),FALSE)) | J27: =IF(I27="","",(VALUE(TEXT(H27,"m/dd/yy ")&TEXT(I27,"hh:mm:ss"))-(VALUE(TEXT(F27,"m/dd/yy ")&TEXT(G27,"hh:mm:ss"))))*24)
B28: =IF($D28="","",VLOOKUP($D28,Lists!$BB$2:$BD$78,COLUMN(),FALSE)) | C28: =IF($D28="","",VLOOKUP($D28,Lists!$BB$2:$BD$78,COLUMN(),FALSE)) | J28: =IF(I28="","",(VALUE(TEXT(H28,"m/dd/yy ")&TEXT(I28,"hh:mm:ss"))-(VALUE(TEXT(F28,"m/dd/yy ")&TEXT(G28,"hh:mm:ss"))))*24)
B29: =IF($D29="","",VLOOKUP($D29,Lists!$BB$2:$BD$78,COLUMN(),FALSE)) | C29: =IF($D29="","",VLOOKUP($D29,Lists!$BB$2:$BD$78,COLUMN(),FALSE)) | J29: =IF(I29="","",(VALUE(TEXT(H29,"m/dd/yy ")&TEXT(I29,"hh:mm:ss"))-(VALUE(TEXT(F29,"m/dd/yy ")&TEXT(G29,"hh:mm:ss"))))*24)
B30: =IF($D30="","",VLOOKUP($D30,Lists!$BB$2:$BD$78,COLUMN(),FALSE)) | C30: =IF($D30="","",VLOOKUP($D30,Lists!$BB$2:$BD$78,COLUMN(),FALSE)) | J30: =IF(I30="","",(VALUE(TEXT(H30,"m/dd/yy ")&TEXT(I30,"hh:mm:ss"))-(VALUE(TEXT(F30,"m/dd/yy ")&TEXT(G30,"hh:mm:ss"))))*24)
B31: =IF($D31="","",VLOOKUP($D31,Lists!$BB$2:$BD$78,COLUMN(),FALSE)) | C31: =IF($D31="","",VLOOKUP($D31,Lists!$BB$2:$BD$78,COLUMN(),FALSE)) | J31: =IF(I31="","",(VALUE(TEXT(H31,"m/dd/yy ")&TEXT(I31,"hh:mm:ss"))-(VALUE(TEXT(F31,"m/dd/yy ")&TEXT(G31,"hh:mm:ss"))))*24)
B32: =IF($D32="","",VLOOKUP($D32,Lists!$BB$2:$BD$78,COLUMN(),FALSE)) | C32: =IF($D32="","",VLOOKUP($D32,Lists!$BB$2:$BD$78,COLUMN(),FALSE)) | J32: =IF(I32="","",(VALUE(TEXT(H32,"m/dd/yy ")&TEXT(I32,"hh:mm:ss"))-(VALUE(TEXT(F32,"m/dd/yy ")&TEXT(G32,"hh:mm:ss"))))*24)
B33: =IF($D33="","",VLOOKUP($D33,Lists!$BB$2:$BD$78,COLUMN(),FALSE)) | C33: =IF($D33="","",VLOOKUP($D33,Lists!$BB$2:$BD$78,COLUMN(),FALSE)) | J33: =IF(I33="","",(VALUE(TEXT(H33,"m/dd/yy ")&TEXT(I33,"hh:mm:ss"))-(VALUE(TEXT(F33,"m/dd/yy ")&TEXT(G33,"hh:mm:ss"))))*24)
B34: =IF($D34="","",VLOOKUP($D34,Lists!$BB$2:$BD$78,COLUMN(),FALSE)) | C34: =IF($D34="","",VLOOKUP($D34,Lists!$BB$2:$BD$78,COLUMN(),FALSE)) | J34: =IF(I34="","",(VALUE(TEXT(H34,"m/dd/yy ")&TEXT(I34,"hh:mm:ss"))-(VALUE(TEXT(F34,"m/dd/yy ")&TEXT(G34,"hh:mm:ss"))))*24)
B35: =IF($D35="","",VLOOKUP($D35,Lists!$BB$2:$BD$78,COLUMN(),FALSE)) | C35: =IF($D35="","",VLOOKUP($D35,Lists!$BB$2:$BD$78,COLUMN(),FALSE)) | J35: =IF(I35="","",(VALUE(TEXT(H35,"m/dd/yy ")&TEXT(I35,"hh:mm:ss"))-(VALUE(TEXT(F35,"m/dd/yy ")&TEXT(G35,"hh:mm:ss"))))*24)
... B500: =IF($D500="","",VLOOKUP($D500,Lists!$BB$2:$BD$78,COLUMN(),FALSE)) | C500: =IF($D500="","",VLOOKUP($D500,Lists!$BB$2:$BD$78,COLUMN(),FALSE)) | J500: =IF(I500="","",(VALUE(TEXT(H500,"m/dd/yy ")&TEXT(I500,"hh:mm:ss"))-(VALUE(TEXT(F500,"m/dd/yy ")&TEXT(G500,"hh:mm:ss"))))*24)

Sheet With_Addon_LimitSummary
B1: DO NOT REMOVE OR EDIT INFORMATION IN THIS SECTION FOR INTERNAL USE ONLY
B2: Template Name | C2: =Welcome!B2 -> 63.4520(f) Semiannual Compliance Report (Spreadsheet Template)
B3: CitationID | C3: =Welcome!B3 -> 63.4520(f)
B4: Template Version | C4: =Welcome!B4 -> v1.02
B5: Last Updated Date | C5: =Welcome!B5 -> 45554
B6: =Welcome!B6 -> OMB Control Number: 2060-0518 Expiration Date: 04/30/2019
B7: 40 CFR Part 63, Subpart PPPP National Emission Standards for Hazardous Air Pollutants: Surface Coating of Plastic Parts and Products - §63.3920(f) Semiannual Compliance Report Spreadsheet Template
B12: Company Record No. (Autocompleted) | C12: Affected Source or Equipment (§63.4520(a)(7)(viii)) (Autocompleted) | D12: Deviation from Operating Limit or Bypass of Control Device (§63. 4520(a)(7)(viii)) (Autocompleted) | E12: Total Source Operating Time (hours) (Optional for autocalculation of % Total Operating Time) | F12: Number of Deviations from Operating Limit or Bypasses of Control Device (§63.4520(a)(7)(viii)) (Autocompleted) | G12: Total Duration of Deviation from Operating Limit or Bypass of Control Device (hours) (§63.4520(a)(7)(ix)) (Autocompleted) | H12: Total Duration of Deviation from Operating Limit or Bypass of Control Device as a per cent of Total Source Operating Time (§63.4520(a)(7)(ix)) (Autocalculation or manual entry) | I12: Total Duration of Deviation from Operating Limit or Bypass of Control Device Due to Control Equipment Problems (hours) (§63.4520(a)(7)(x)) (Autocompleted) | J12: Total Duration of Deviation from Operating Limit or Bypass of Control Device Due to Process Problems (hours) (§63.4520(a)(7)(x)) (Autocompleted) | K12: Total Duration of Deviation from Operating Limit or Bypass of Control Device Due to Other Known Causes (hours) (§63.4520(a)(7)(x)) (Autocompleted) | L12: Total Duration of Deviation from Operating Limit or Bypass of Control Device Due to Other Unknown Causes (hours) (§63.4520(a)(7)(x)) (Autocompleted)
B13: RecordId | C13: OperationName_AddonLimitSumm | D13: DeviceDeviationBypass_AddonLimitSumm | E13: TotalOperatingTime_AddonLimitSumm | F13: NumDeviations | G13: TotalDeviationDuration_AddonLimitSumm | H13: TotalDeviationPercent_AddonLimitSumm | I13: EquipmentCausedDeviation_AddonLimitSumm | J13: ProcessCausedDeviation_AddonLimitSumm | K13: OtherCausedDeviation_AddonLimitSumm | L13: UnknownCausedDeviation_AddonLimitSumm
B14: e.g.: 1 | C14: e.g.: East Coating | D14: e.g.: Deviation from Operating Limit | E14: e.g.: 6240 | F14: e.g.: 5 | G14: e.g.: 36.2 | H14: e.g.: 0.58% | I14: e.g.: 36.2 | J14: e.g.: 0 | K14: e.g.: 0 | L14: e.g.: 0
B15: e.g.: | C15: e.g.: | D15: e.g.: | E15: e.g.: | F15: e.g.: | G15: e.g.: | H15: e.g.: | I15: e.g.: | J15: e.g.: | K15: e.g.: | L15: e.g.:
B16: e.g.: | C16: e.g.: | D16: e.g.: | E16: e.g.: | F16: e.g.: | G16: e.g.: | H16: e.g.: | I16: e.g.: | J16: e.g.: | K16: e.g.: | L16: e.g.:
B17: e.g.: | C17: e.g.: | D17: e.g.: | E17: e.g.: | F17: e.g.: | G17: e.g.: | H17: e.g.: | I17: e.g.: | J17: e.g.: | K17: e.g.: | L17: e.g.:
B18: e.g.: | C18: e.g.: | D18: e.g.: | E18: e.g.: | F18: e.g.: | G18: e.g.: | H18: e.g.: | I18: e.g.: | J18: e.g.: | K18: e.g.: | L18: e.g.:
B19: e.g.: | C19: e.g.: | D19: e.g.: | E19: e.g.: | F19: e.g.: | G19: e.g.: | H19: e.g.: | I19: e.g.: | J19: e.g.: | K19: e.g.: | L19: e.g.:
B20: e.g.: | C20: e.g.: | D20: e.g.: | E20: e.g.: | F20: e.g.: | G20: e.g.: | H20: e.g.: | I20: e.g.: | J20: e.g.: | K20: e.g.: | L20: e.g.:
B21: e.g.: | C21: e.g.: | D21: e.g.: | E21: e.g.: | F21: e.g.: | G21: e.g.: | H21: e.g.: | I21: e.g.: | J21: e.g.: | K21: e.g.: | L21: e.g.:
B22: e.g.: | C22: e.g.: | D22: e.g.: | E22: e.g.: | F22: e.g.: | G22: e.g.: | H22: e.g.: | I22: e.g.: | J22: e.g.: | K22: e.g.: | L22: e.g.:
B23: e.g.: | C23: e.g.: | D23: e.g.: | E23: e.g.: | F23: e.g.: | G23: e.g.: | H23: e.g.: | I23: e.g.: | J23: e.g.: | K23: e.g.: | L23: e.g.:
B24: =IF(Lists!CX2="","",Lists!CX2) | C24: =IF(Lists!CY2="","",Lists!CY2) | D24: =IF(Lists!CZ2="","",Lists!CZ2) | F24: =IF(D24="","",COUNTIFS(With_Addon_OpLimit!$B$24:$B$500,B24,With_Addon_OpLimit!$C$24:$C$500,C24,With_Addon_OpLimit!$E$24:$E$500,D24)) | G24: =IF(D24="","",SUMIFS(With_Addon_OpLimit!$J$24:$J$5000,With_Addon_OpLimit!$B$24:$B$5000,With_Addon_LimitSummary!B24,With_Addon_OpLimit!$E$24:$E$5000,D24)) | H24: =IF(D24="","",IF(G24=0,"N/A",G24/$E24)) | I24: =IF(D24="","",SUMIFS(With_Addon_OpLimit!$J$24:$J$5000,With_Addon_OpLimit!$B$24:$B$5000,With_Addon_LimitSummary!B24,With_Addon_OpLimit!$E$24:$E$5000,D24,With_Addon_OpLimit!$K$24:$K$5000,"Control Equipment Problems")) | J24: =IF(D24="","",SUMIFS(With_Addon_OpLimit!$J$24:$J$5000,With_Addon_OpLimit!$B$24:$B$5000,With_Addon_LimitSummary!B24,With_Addon_OpLimit!$E$24:$E$5000,D24,With_Addon_OpLimit!$K$24:$K$5000,"Process Problems")) | K24: =IF(D24="","",SUMIFS(With_Addon_OpLimit!$J$24:$J$5000,With_Addon_OpLimit!$B$24:$B$5000,With_Addon_LimitSummary!B24,With_Addon_OpLimit!$E$24:$E$5000,D24,With_Addon_OpLimit!$K$24:$K$5000,"Other Known Causes")) | L24: =IF(D24="","",SUMIFS(With_Addon_OpLimit!$J$24:$J$5000,With_Addon_OpLimit!$B$24:$B$5000,With_Addon_LimitSummary!B24,With_Addon_OpLimit!$E$24:$E$5000,D24,With_Addon_OpLimit!$K$24:$K$5000,"Other Unknown Causes"))
B25: =IF(Lists!CX3="","",Lists!CX3) | C25: =IF(Lists!CY3="","",Lists!CY3) | D25: =IF(Lists!CZ3="","",Lists!CZ3) | F25: =IF(D25="","",COUNTIFS(With_Addon_OpLimit!$B$24:$B$500,B25,With_Addon_OpLimit!$C$24:$C$500,C25,With_Addon_OpLimit!$E$24:$E$500,D25)) | G25: =IF(D25="","",SUMIFS(With_Addon_OpLimit!$J$24:$J$5000,With_Addon_OpLimit!$B$24:$B$5000,With_Addon_LimitSummary!B25,With_Addon_OpLimit!$E$24:$E$5000,D25)) | H25: =IF(D25="","",IF(G25=0,"N/A",G25/$E25)) | I25: =IF(D25="","",SUMIFS(With_Addon_OpLimit!$J$24:$J$5000,With_Addon_OpLimit!$B$24:$B$5000,With_Addon_LimitSummary!B25,With_Addon_OpLimit!$E$24:$E$5000,D25,With_Addon_OpLimit!$K$24:$K$5000,"Control Equipment Problems")) | J25: =IF(D25="","",SUMIFS(With_Addon_OpLimit!$J$24:$J$5000,With_Addon_OpLimit!$B$24:$B$5000,With_Addon_LimitSummary!B25,With_Addon_OpLimit!$E$24:$E$5000,D25,With_Addon_OpLimit!$K$24:$K$5000,"Process Problems")) | K25: =IF(D25="","",SUMIFS(With_Addon_OpLimit!$J$24:$J$5000,With_Addon_OpLimit!$B$24:$B$5000,With_Addon_LimitSummary!B25,With_Addon_OpLimit!$E$24:$E$5000,D25,With_Addon_OpLimit!$K$24:$K$5000,"Other Known Causes")) | L25: =IF(D25="","",SUMIFS(With_Addon_OpLimit!$J$24:$J$5000,With_Addon_OpLimit!$B$24:$B$5000,With_Addon_LimitSummary!B25,With_Addon_OpLimit!$E$24:$E$5000,D25,With_Addon_OpLimit!$K$24:$K$5000,"Other Unknown Causes"))
B26: =IF(Lists!CX4="","",Lists!CX4) | C26: =IF(Lists!CY4="","",Lists!CY4) | D26: =IF(Lists!CZ4="","",Lists!CZ4) | F26: =IF(D26="","",COUNTIFS(With_Addon_OpLimit!$B$24:$B$500,B26,With_Addon_OpLimit!$C$24:$C$500,C26,With_Addon_OpLimit!$E$24:$E$500,D26)) | G26: =IF(D26="","",SUMIFS(With_Addon_OpLimit!$J$24:$J$5000,With_Addon_OpLimit!$B$24:$B$5000,With_Addon_LimitSummary!B26,With_Addon_OpLimit!$E$24:$E$5000,D26)) | H26: =IF(D26="","",IF(G26=0,"N/A",G26/$E26)) | I26: =IF(D26="","",SUMIFS(With_Addon_OpLimit!$J$24:$J$5000,With_Addon_OpLimit!$B$24:$B$5000,With_Addon_LimitSummary!B26,With_Addon_OpLimit!$E$24:$E$5000,D26,With_Addon_OpLimit!$K$24:$K$5000,"Control Equipment Problems")) | J26: =IF(D26="","",SUMIFS(With_Addon_OpLimit!$J$24:$J$5000,With_Addon_OpLimit!$B$24:$B$5000,With_Addon_LimitSummary!B26,With_Addon_OpLimit!$E$24:$E$5000,D26,With_Addon_OpLimit!$K$24:$K$5000,"Process Problems")) | K26: =IF(D26="","",SUMIFS(With_Addon_OpLimit!$J$24:$J$5000,With_Addon_OpLimit!$B$24:$B$5000,With_Addon_LimitSummary!B26,With_Addon_OpLimit!$E$24:$E$5000,D26,With_Addon_OpLimit!$K$24:$K$5000,"Other Known Causes")) | L26: =IF(D26="","",SUMIFS(With_Addon_OpLimit!$J$24:$J$5000,With_Addon_OpLimit!$B$24:$B$5000,With_Addon_LimitSummary!B26,With_Addon_OpLimit!$E$24:$E$5000,D26,With_Addon_OpLimit!$K$24:$K$5000,"Other Unknown Causes"))
B27: =IF(Lists!CX5="","",Lists!CX5) | C27: =IF(Lists!CY5="","",Lists!CY5) | D27: =IF(Lists!CZ5="","",Lists!CZ5) | F27: =IF(D27="","",COUNTIFS(With_Addon_OpLimit!$B$24:$B$500,B27,With_Addon_OpLimit!$C$24:$C$500,C27,With_Addon_OpLimit!$E$24:$E$500,D27)) | G27: =IF(D27="","",SUMIFS(With_Addon_OpLimit!$J$24:$J$5000,With_Addon_OpLimit!$B$24:$B$5000,With_Addon_LimitSummary!B27,With_Addon_OpLimit!$E$24:$E$5000,D27)) | H27: =IF(D27="","",IF(G27=0,"N/A",G27/$E27)) | I27: =IF(D27="","",SUMIFS(With_Addon_OpLimit!$J$24:$J$5000,With_Addon_OpLimit!$B$24:$B$5000,With_Addon_LimitSummary!B27,With_Addon_OpLimit!$E$24:$E$5000,D27,With_Addon_OpLimit!$K$24:$K$5000,"Control Equipment Problems")) | J27: =IF(D27="","",SUMIFS(With_Addon_OpLimit!$J$24:$J$5000,With_Addon_OpLimit!$B$24:$B$5000,With_Addon_LimitSummary!B27,With_Addon_OpLimit!$E$24:$E$5000,D27,With_Addon_OpLimit!$K$24:$K$5000,"Process Problems")) | K27: =IF(D27="","",SUMIFS(With_Addon_OpLimit!$J$24:$J$5000,With_Addon_OpLimit!$B$24:$B$5000,With_Addon_LimitSummary!B27,With_Addon_OpLimit!$E$24:$E$5000,D27,With_Addon_OpLimit!$K$24:$K$5000,"Other Known Causes")) | L27: =IF(D27="","",SUMIFS(With_Addon_OpLimit!$J$24:$J$5000,With_Addon_OpLimit!$B$24:$B$5000,With_Addon_LimitSummary!B27,With_Addon_OpLimit!$E$24:$E$5000,D27,With_Addon_OpLimit!$K$24:$K$5000,"Other Unknown Causes"))
B28: =IF(Lists!CX6="","",Lists!CX6) | C28: =IF(Lists!CY6="","",Lists!CY6) | D28: =IF(Lists!CZ6="","",Lists!CZ6) | F28: =IF(D28="","",COUNTIFS(With_Addon_OpLimit!$B$24:$B$500,B28,With_Addon_OpLimit!$C$24:$C$500,C28,With_Addon_OpLimit!$E$24:$E$500,D28)) | G28: =IF(D28="","",SUMIFS(With_Addon_OpLimit!$J$24:$J$5000,With_Addon_OpLimit!$B$24:$B$5000,With_Addon_LimitSummary!B28,With_Addon_OpLimit!$E$24:$E$5000,D28)) | H28: =IF(D28="","",IF(G28=0,"N/A",G28/$E28)) | I28: =IF(D28="","",SUMIFS(With_Addon_OpLimit!$J$24:$J$5000,With_Addon_OpLimit!$B$24:$B$5000,With_Addon_LimitSummary!B28,With_Addon_OpLimit!$E$24:$E$5000,D28,With_Addon_OpLimit!$K$24:$K$5000,"Control Equipment Problems")) | J28: =IF(D28="","",SUMIFS(With_Addon_OpLimit!$J$24:$J$5000,With_Addon_OpLimit!$B$24:$B$5000,With_Addon_LimitSummary!B28,With_Addon_OpLimit!$E$24:$E$5000,D28,With_Addon_OpLimit!$K$24:$K$5000,"Process Problems")) | K28: =IF(D28="","",SUMIFS(With_Addon_OpLimit!$J$24:$J$5000,With_Addon_OpLimit!$B$24:$B$5000,With_Addon_LimitSummary!B28,With_Addon_OpLimit!$E$24:$E$5000,D28,With_Addon_OpLimit!$K$24:$K$5000,"Other Known Causes")) | L28: =IF(D28="","",SUMIFS(With_Addon_OpLimit!$J$24:$J$5000,With_Addon_OpLimit!$B$24:$B$5000,With_Addon_LimitSummary!B28,With_Addon_OpLimit!$E$24:$E$5000,D28,With_Addon_OpLimit!$K$24:$K$5000,"Other Unknown Causes"))
B29: =IF(Lists!CX7="","",Lists!CX7) | C29: =IF(Lists!CY7="","",Lists!CY7) | D29: =IF(Lists!CZ7="","",Lists!CZ7) | F29: =IF(D29="","",COUNTIFS(With_Addon_OpLimit!$B$24:$B$500,B29,With_Addon_OpLimit!$C$24:$C$500,C29,With_Addon_OpLimit!$E$24:$E$500,D29)) | G29: =IF(D29="","",SUMIFS(With_Addon_OpLimit!$J$24:$J$5000,With_Addon_OpLimit!$B$24:$B$5000,With_Addon_LimitSummary!B29,With_Addon_OpLimit!$E$24:$E$5000,D29)) | H29: =IF(D29="","",IF(G29=0,"N/A",G29/$E29)) | I29: =IF(D29="","",SUMIFS(With_Addon_OpLimit!$J$24:$J$5000,With_Addon_OpLimit!$B$24:$B$5000,With_Addon_LimitSummary!B29,With_Addon_OpLimit!$E$24:$E$5000,D29,With_Addon_OpLimit!$K$24:$K$5000,"Control Equipment Problems")) | J29: =IF(D29="","",SUMIFS(With_Addon_OpLimit!$J$24:$J$5000,With_Addon_OpLimit!$B$24:$B$5000,With_Addon_LimitSummary!B29,With_Addon_OpLimit!$E$24:$E$5000,D29,With_Addon_OpLimit!$K$24:$K$5000,"Process Problems")) | K29: =IF(D29="","",SUMIFS(With_Addon_OpLimit!$J$24:$J$5000,With_Addon_OpLimit!$B$24:$B$5000,With_Addon_LimitSummary!B29,With_Addon_OpLimit!$E$24:$E$5000,D29,With_Addon_OpLimit!$K$24:$K$5000,"Other Known Causes")) | L29: =IF(D29="","",SUMIFS(With_Addon_OpLimit!$J$24:$J$5000,With_Addon_OpLimit!$B$24:$B$5000,With_Addon_LimitSummary!B29,With_Addon_OpLimit!$E$24:$E$5000,D29,With_Addon_OpLimit!$K$24:$K$5000,"Other Unknown Causes"))
B30: =IF(Lists!CX8="","",Lists!CX8) | C30: =IF(Lists!CY8="","",Lists!CY8) | D30: =IF(Lists!CZ8="","",Lists!CZ8) | F30: =IF(D30="","",COUNTIFS(With_Addon_OpLimit!$B$24:$B$500,B30,With_Addon_OpLimit!$C$24:$C$500,C30,With_Addon_OpLimit!$E$24:$E$500,D30)) | G30: =IF(D30="","",SUMIFS(With_Addon_OpLimit!$J$24:$J$5000,With_Addon_OpLimit!$B$24:$B$5000,With_Addon_LimitSummary!B30,With_Addon_OpLimit!$E$24:$E$5000,D30)) | H30: =IF(D30="","",IF(G30=0,"N/A",G30/$E30)) | I30: =IF(D30="","",SUMIFS(With_Addon_OpLimit!$J$24:$J$5000,With_Addon_OpLimit!$B$24:$B$5000,With_Addon_LimitSummary!B30,With_Addon_OpLimit!$E$24:$E$5000,D30,With_Addon_OpLimit!$K$24:$K$5000,"Control Equipment Problems")) | J30: =IF(D30="","",SUMIFS(With_Addon_OpLimit!$J$24:$J$5000,With_Addon_OpLimit!$B$24:$B$5000,With_Addon_LimitSummary!B30,With_Addon_OpLimit!$E$24:$E$5000,D30,With_Addon_OpLimit!$K$24:$K$5000,"Process Problems")) | K30: =IF(D30="","",SUMIFS(With_Addon_OpLimit!$J$24:$J$5000,With_Addon_OpLimit!$B$24:$B$5000,With_Addon_LimitSummary!B30,With_Addon_OpLimit!$E$24:$E$5000,D30,With_Addon_OpLimit!$K$24:$K$5000,"Other Known Causes")) | L30: =IF(D30="","",SUMIFS(With_Addon_OpLimit!$J$24:$J$5000,With_Addon_OpLimit!$B$24:$B$5000,With_Addon_LimitSummary!B30,With_Addon_OpLimit!$E$24:$E$5000,D30,With_Addon_OpLimit!$K$24:$K$5000,"Other Unknown Causes"))
B31: =IF(Lists!CX9="","",Lists!CX9) | C31: =IF(Lists!CY9="","",Lists!CY9) | D31: =IF(Lists!CZ9="","",Lists!CZ9) | F31: =IF(D31="","",COUNTIFS(With_Addon_OpLimit!$B$24:$B$500,B31,With_Addon_OpLimit!$C$24:$C$500,C31,With_Addon_OpLimit!$E$24:$E$500,D31)) | G31: =IF(D31="","",SUMIFS(With_Addon_OpLimit!$J$24:$J$5000,With_Addon_OpLimit!$B$24:$B$5000,With_Addon_LimitSummary!B31,With_Addon_OpLimit!$E$24:$E$5000,D31)) | H31: =IF(D31="","",IF(G31=0,"N/A",G31/$E31)) | I31: =IF(D31="","",SUMIFS(With_Addon_OpLimit!$J$24:$J$5000,With_Addon_OpLimit!$B$24:$B$5000,With_Addon_LimitSummary!B31,With_Addon_OpLimit!$E$24:$E$5000,D31,With_Addon_OpLimit!$K$24:$K$5000,"Control Equipment Problems")) | J31: =IF(D31="","",SUMIFS(With_Addon_OpLimit!$J$24:$J$5000,With_Addon_OpLimit!$B$24:$B$5000,With_Addon_LimitSummary!B31,With_Addon_OpLimit!$E$24:$E$5000,D31,With_Addon_OpLimit!$K$24:$K$5000,"Process Problems")) | K31: =IF(D31="","",SUMIFS(With_Addon_OpLimit!$J$24:$J$5000,With_Addon_OpLimit!$B$24:$B$5000,With_Addon_LimitSummary!B31,With_Addon_OpLimit!$E$24:$E$5000,D31,With_Addon_OpLimit!$K$24:$K$5000,"Other Known Causes")) | L31: =IF(D31="","",SUMIFS(With_Addon_OpLimit!$J$24:$J$5000,With_Addon_OpLimit!$B$24:$B$5000,With_Addon_LimitSummary!B31,With_Addon_OpLimit!$E$24:$E$5000,D31,With_Addon_OpLimit!$K$24:$K$5000,"Other Unknown Causes"))
B32: =IF(Lists!CX10="","",Lists!CX10) | C32: =IF(Lists!CY10="","",Lists!CY10) | D32: =IF(Lists!CZ10="","",Lists!CZ10) | F32: =IF(D32="","",COUNTIFS(With_Addon_OpLimit!$B$24:$B$500,B32,With_Addon_OpLimit!$C$24:$C$500,C32,With_Addon_OpLimit!$E$24:$E$500,D32)) | G32: =IF(D32="","",SUMIFS(With_Addon_OpLimit!$J$24:$J$5000,With_Addon_OpLimit!$B$24:$B$5000,With_Addon_LimitSummary!B32,With_Addon_OpLimit!$E$24:$E$5000,D32)) | H32: =IF(D32="","",IF(G32=0,"N/A",G32/$E32)) | I32: =IF(D32="","",SUMIFS(With_Addon_OpLimit!$J$24:$J$5000,With_Addon_OpLimit!$B$24:$B$5000,With_Addon_LimitSummary!B32,With_Addon_OpLimit!$E$24:$E$5000,D32,With_Addon_OpLimit!$K$24:$K$5000,"Control Equipment Problems")) | J32: =IF(D32="","",SUMIFS(With_Addon_OpLimit!$J$24:$J$5000,With_Addon_OpLimit!$B$24:$B$5000,With_Addon_LimitSummary!B32,With_Addon_OpLimit!$E$24:$E$5000,D32,With_Addon_OpLimit!$K$24:$K$5000,"Process Problems")) | K32: =IF(D32="","",SUMIFS(With_Addon_OpLimit!$J$24:$J$5000,With_Addon_OpLimit!$B$24:$B$5000,With_Addon_LimitSummary!B32,With_Addon_OpLimit!$E$24:$E$5000,D32,With_Addon_OpLimit!$K$24:$K$5000,"Other Known Causes")) | L32: =IF(D32="","",SUMIFS(With_Addon_OpLimit!$J$24:$J$5000,With_Addon_OpLimit!$B$24:$B$5000,With_Addon_LimitSummary!B32,With_Addon_OpLimit!$E$24:$E$5000,D32,With_Addon_OpLimit!$K$24:$K$5000,"Other Unknown Causes"))
B33: =IF(Lists!CX11="","",Lists!CX11) | C33: =IF(Lists!CY11="","",Lists!CY11) | D33: =IF(Lists!CZ11="","",Lists!CZ11) | F33: =IF(D33="","",COUNTIFS(With_Addon_OpLimit!$B$24:$B$500,B33,With_Addon_OpLimit!$C$24:$C$500,C33,With_Addon_OpLimit!$E$24:$E$500,D33)) | G33: =IF(D33="","",SUMIFS(With_Addon_OpLimit!$J$24:$J$5000,With_Addon_OpLimit!$B$24:$B$5000,With_Addon_LimitSummary!B33,With_Addon_OpLimit!$E$24:$E$5000,D33)) | H33: =IF(D33="","",IF(G33=0,"N/A",G33/$E33)) | I33: =IF(D33="","",SUMIFS(With_Addon_OpLimit!$J$24:$J$5000,With_Addon_OpLimit!$B$24:$B$5000,With_Addon_LimitSummary!B33,With_Addon_OpLimit!$E$24:$E$5000,D33,With_Addon_OpLimit!$K$24:$K$5000,"Control Equipment Problems")) | J33: =IF(D33="","",SUMIFS(With_Addon_OpLimit!$J$24:$J$5000,With_Addon_OpLimit!$B$24:$B$5000,With_Addon_LimitSummary!B33,With_Addon_OpLimit!$E$24:$E$5000,D33,With_Addon_OpLimit!$K$24:$K$5000,"Process Problems")) | K33: =IF(D33="","",SUMIFS(With_Addon_OpLimit!$J$24:$J$5000,With_Addon_OpLimit!$B$24:$B$5000,With_Addon_LimitSummary!B33,With_Addon_OpLimit!$E$24:$E$5000,D33,With_Addon_OpLimit!$K$24:$K$5000,"Other Known Causes")) | L33: =IF(D33="","",SUMIFS(With_Addon_OpLimit!$J$24:$J$5000,With_Addon_OpLimit!$B$24:$B$5000,With_Addon_LimitSummary!B33,With_Addon_OpLimit!$E$24:$E$5000,D33,With_Addon_OpLimit!$K$24:$K$5000,"Other Unknown Causes"))
B34: =IF(Lists!CX12="","",Lists!CX12) | C34: =IF(Lists!CY12="","",Lists!CY12) | D34: =IF(Lists!CZ12="","",Lists!CZ12) | F34: =IF(D34="","",COUNTIFS(With_Addon_OpLimit!$B$24:$B$500,B34,With_Addon_OpLimit!$C$24:$C$500,C34,With_Addon_OpLimit!$E$24:$E$500,D34)) | G34: =IF(D34="","",SUMIFS(With_Addon_OpLimit!$J$24:$J$5000,With_Addon_OpLimit!$B$24:$B$5000,With_Addon_LimitSummary!B34,With_Addon_OpLimit!$E$24:$E$5000,D34)) | H34: =IF(D34="","",IF(G34=0,"N/A",G34/$E34)) | I34: =IF(D34="","",SUMIFS(With_Addon_OpLimit!$J$24:$J$5000,With_Addon_OpLimit!$B$24:$B$5000,With_Addon_LimitSummary!B34,With_Addon_OpLimit!$E$24:$E$5000,D34,With_Addon_OpLimit!$K$24:$K$5000,"Control Equipment Problems")) | J34: =IF(D34="","",SUMIFS(With_Addon_OpLimit!$J$24:$J$5000,With_Addon_OpLimit!$B$24:$B$5000,With_Addon_LimitSummary!B34,With_Addon_OpLimit!$E$24:$E$5000,D34,With_Addon_OpLimit!$K$24:$K$5000,"Process Problems")) | K34: =IF(D34="","",SUMIFS(With_Addon_OpLimit!$J$24:$J$5000,With_Addon_OpLimit!$B$24:$B$5000,With_Addon_LimitSummary!B34,With_Addon_OpLimit!$E$24:$E$5000,D34,With_Addon_OpLimit!$K$24:$K$5000,"Other Known Causes")) | L34: =IF(D34="","",SUMIFS(With_Addon_OpLimit!$J$24:$J$5000,With_Addon_OpLimit!$B$24:$B$5000,With_Addon_LimitSummary!B34,With_Addon_OpLimit!$E$24:$E$5000,D34,With_Addon_OpLimit!$K$24:$K$5000,"Other Unknown Causes"))
B35: =IF(Lists!CX13="","",Lists!CX13) | C35: =IF(Lists!CY13="","",Lists!CY13) | D35: =IF(Lists!CZ13="","",Lists!CZ13) | F35: =IF(D35="","",COUNTIFS(With_Addon_OpLimit!$B$24:$B$500,B35,With_Addon_OpLimit!$C$24:$C$500,C35,With_Addon_OpLimit!$E$24:$E$500,D35)) | G35: =IF(D35="","",SUMIFS(With_Addon_OpLimit!$J$24:$J$5000,With_Addon_OpLimit!$B$24:$B$5000,With_Addon_LimitSummary!B35,With_Addon_OpLimit!$E$24:$E$5000,D35)) | H35: =IF(D35="","",IF(G35=0,"N/A",G35/$E35)) | I35: =IF(D35="","",SUMIFS(With_Addon_OpLimit!$J$24:$J$5000,With_Addon_OpLimit!$B$24:$B$5000,With_Addon_LimitSummary!B35,With_Addon_OpLimit!$E$24:$E$5000,D35,With_Addon_OpLimit!$K$24:$K$5000,"Control Equipment Problems")) | J35: =IF(D35="","",SUMIFS(With_Addon_OpLimit!$J$24:$J$5000,With_Addon_OpLimit!$B$24:$B$5000,With_Addon_LimitSummary!B35,With_Addon_OpLimit!$E$24:$E$5000,D35,With_Addon_OpLimit!$K$24:$K$5000,"Process Problems")) | K35: =IF(D35="","",SUMIFS(With_Addon_OpLimit!$J$24:$J$5000,With_Addon_OpLimit!$B$24:$B$5000,With_Addon_LimitSummary!B35,With_Addon_OpLimit!$E$24:$E$5000,D35,With_Addon_OpLimit!$K$24:$K$5000,"Other Known Causes")) | L35: =IF(D35="","",SUMIFS(With_Addon_OpLimit!$J$24:$J$5000,With_Addon_OpLimit!$B$24:$B$5000,With_Addon_LimitSummary!B35,With_Addon_OpLimit!$E$24:$E$5000,D35,With_Addon_OpLimit!$K$24:$K$5000,"Other Unknown Causes"))
... B100: =IF(Lists!CX78="","",Lists!CX78) | C100: =IF(Lists!CY78="","",Lists!CY78) | D100: =IF(Lists!CZ78="","",Lists!CZ78) | F100: =IF(D100="","",COUNTIFS(With_Addon_OpLimit!$B$24:$B$500,B100,With_Addon_OpLimit!$C$24:$C$500,C100,With_Addon_OpLimit!$E$24:$E$500,D100)) | G100: =IF(D100="","",SUMIFS(With_Addon_OpLimit!$J$24:$J$5000,With_Addon_OpLimit!$B$24:$B$5000,With_Addon_LimitSummary!B100,With_Addon_OpLimit!$E$24:$E$5000,D100)) | H100: =IF(D100="","",IF(G100=0,"N/A",G100/$E100)) | I100: =IF(D100="","",SUMIFS(With_Addon_OpLimit!$J$24:$J$5000,With_Addon_OpLimit!$B$24:$B$5000,With_Addon_LimitSummary!B100,With_Addon_OpLimit!$E$24:$E$5000,D100,With_Addon_OpLimit!$K$24:$K$5000,"Control Equipment Problems")) | J100: =IF(D100="","",SUMIFS(With_Addon_OpLimit!$J$24:$J$5000,With_Addon_OpLimit!$B$24:$B$5000,With_Addon_LimitSummary!B100,With_Addon_OpLimit!$E$24:$E$5000,D100,With_Addon_OpLimit!$K$24:$K$5000,"Process Problems")) | K100: =IF(D100="","",SUMIFS(With_Addon_OpLimit!$J$24:$J$5000,With_Addon_OpLimit!$B$24:$B$5000,With_Addon_LimitSummary!B100,With_Addon_OpLimit!$E$24:$E$5000,D100,With_Addon_OpLimit!$K$24:$K$5000,"Other Known Causes")) | L100: =IF(D100="","",SUMIFS(With_Addon_OpLimit!$J$24:$J$5000,With_Addon_OpLimit!$B$24:$B$5000,With_Addon_LimitSummary!B100,With_Addon_OpLimit!$E$24:$E$5000,D100,With_Addon_OpLimit!$K$24:$K$5000,"Other Unknown Causes"))

Sheet With_Addon_WorkPractice
B1: DO NOT REMOVE OR EDIT INFORMATION IN THIS SECTION FOR INTERNAL USE ONLY
B2: Template Name | C2: =+Welcome!B2 -> 63.4520(f) Semiannual Compliance Report (Spreadsheet Template)
B3: CitationID | C3: =+Welcome!B3 -> 63.4520(f)
B4: Template Version | C4: =+Welcome!B4 -> v1.02
B5: Last Updated Date | C5: =+Welcome!B5 -> 45554
B6: =+Welcome!B6 -> OMB Control Number: 2060-0518 Expiration Date: 04/30/2019
B7: 40 CFR Part 63, Subpart PPPP National Emission Standards for Hazardous Air Pollutants: Surface Coating of Plastic Parts and Products - §63.4520(f) Semiannual Compliance Report Spreadsheet Template
B12: Company Record No. (Autocompleted) | C12: Affected Source or Equipment (§63.4520(a)(7)(xiii)) (Autocompleted) | D12: Company Record No. and Affected Source or Equipment (§63.4520(a)(7)(xiii)) (Select from dropdown) | E12: Work Practice Standard (§63.4520(a)(7)(xiii)) | F12: Description of Deviation (§63.4520(a)(7)(xiii)) | G12: Starting Date of Work Practice Deviation (§63.4520(a)(7)(xiii)) | H12: Starting Time of Deviation from Work Practice Standard (§63.4520(a)(7)(xiii)) | I12: Ending Date of Work Practice Deviation (§63.4520(a)(7)(xiii)) | J12: Ending Time of Deviation from Work Practice Standard (§63.4520(a)(7)(xiii)) | K12: Duration CPMS Out of Control (hours) (§63. 4520(a)(7)(xiii)) (Calculated Value) | L12: Cause of Deviation (§63.4520(a)(7)(xiii)) | M12: Action(s) Taken to Correct Deviation (§63.4520(a)(7)(xiii))
B13: RecordId | C13: OperationName_AddonWP | D13: AffectedSource_AddonWP | E13: WorkPracticeStandard_AddonWP | F13: DeviationDescription_AddonWP | G13: WPDeviationStartDate_AddonWP | H13: WPDeviationStartTime_AddonWP | I13: WPDeviationEndDate_AddonWP | J13: WPDeviationEndTime_AddonWP | K13: WPDeviationDuration_AddonWP | L13: DeviationCause_AddonWP | M13: ActionTaken_AddonWP
B14: e.g.: 1 | C14: e.g.: East Coating | D14: e.g.: 1 East Coating | E14: e.g.: Organic HAP and waste stored in closed containers | F14: e.g.: Container left open | G14: e.g.: 3/2/2017 | H14: e.g.: 15:30 | I14: e.g.: 3/2/2017 | J14: e.g.: 17:30 | K14: e.g.: 2.38 | L14: e.g.: Operator error | M14: e.g.: replaced lid
B15: e.g.: | C15: e.g.: | D15: e.g.: | E15: e.g.: | F15: e.g.: | G15: e.g.: | H15: e.g.: | I15: e.g.: | J15: e.g.: | K15: e.g.: | L15: e.g.: | M15: e.g.:
B16: e.g.: | C16: e.g.: | D16: e.g.: | E16: e.g.: | F16: e.g.: | G16: e.g.: | H16: e.g.: | I16: e.g.: | J16: e.g.: | K16: e.g.: | L16: e.g.: | M16: e.g.:
B17: e.g.: | C17: e.g.: | D17: e.g.: | E17: e.g.: | F17: e.g.: | G17: e.g.: | H17: e.g.: | I17: e.g.: | J17: e.g.: | K17: e.g.: | L17: e.g.: | M17: e.g.:
B18: e.g.: | C18: e.g.: | D18: e.g.: | E18: e.g.: | F18: e.g.: | G18: e.g.: | H18: e.g.: | I18: e.g.: | J18: e.g.: | K18: e.g.: | L18: e.g.: | M18: e.g.:
B19: e.g.: | C19: e.g.: | D19: e.g.: | E19: e.g.: | F19: e.g.: | G19: e.g.: | H19: e.g.: | I19: e.g.: | J19: e.g.: | K19: e.g.: | L19: e.g.: | M19: e.g.:
B20: e.g.: | C20: e.g.: | D20: e.g.: | E20: e.g.: | F20: e.g.: | G20: e.g.: | H20: e.g.: | I20: e.g.: | J20: e.g.: | K20: e.g.: | L20: e.g.: | M20: e.g.:
B21: e.g.: | C21: e.g.: | D21: e.g.: | E21: e.g.: | F21: e.g.: | G21: e.g.: | H21: e.g.: | I21: e.g.: | J21: e.g.: | K21: e.g.: | L21: e.g.: | M21: e.g.:
B22: e.g.: | C22: e.g.: | D22: e.g.: | E22: e.g.: | F22: e.g.: | G22: e.g.: | H22: e.g.: | I22: e.g.: | J22: e.g.: | K22: e.g.: | L22: e.g.: | M22: e.g.:
B23: e.g.: | C23: e.g.: | D23: e.g.: | E23: e.g.: | F23: e.g.: | G23: e.g.: | H23: e.g.: | I23: e.g.: | J23: e.g.: | K23: e.g.: | L23: e.g.: | M23: e.g.:
B24: =IF($D24="","",VLOOKUP($D24,Lists!$BB$2:$BD$78,COLUMN(),FALSE)) | C24: =IF($D24="","",VLOOKUP($D24,Lists!$BB$2:$BD$78,COLUMN(),FALSE)) | K24: =IF(J24="","",(VALUE(TEXT(I24,"m/dd/yy ")&TEXT(J24,"hh:mm:ss"))-(VALUE(TEXT(G24,"m/dd/yy ")&TEXT(H24,"hh:mm:ss"))))*24)
B25: =IF($D25="","",VLOOKUP($D25,Lists!$BB$2:$BD$78,COLUMN(),FALSE)) | C25: =IF($D25="","",VLOOKUP($D25,Lists!$BB$2:$BD$78,COLUMN(),FALSE)) | K25: =IF(J25="","",(VALUE(TEXT(I25,"m/dd/yy ")&TEXT(J25,"hh:mm:ss"))-(VALUE(TEXT(G25,"m/dd/yy ")&TEXT(H25,"hh:mm:ss"))))*24)
B26: =IF($D26="","",VLOOKUP($D26,Lists!$BB$2:$BD$78,COLUMN(),FALSE)) | C26: =IF($D26="","",VLOOKUP($D26,Lists!$BB$2:$BD$78,COLUMN(),FALSE)) | K26: =IF(J26="","",(VALUE(TEXT(I26,"m/dd/yy ")&TEXT(J26,"hh:mm:ss"))-(VALUE(TEXT(G26,"m/dd/yy ")&TEXT(H26,"hh:mm:ss"))))*24)
B27: =IF($D27="","",VLOOKUP($D27,Lists!$BB$2:$BD$78,COLUMN(),FALSE)) | C27: =IF($D27="","",VLOOKUP($D27,Lists!$BB$2:$BD$78,COLUMN(),FALSE)) | K27: =IF(J27="","",(VALUE(TEXT(I27,"m/dd/yy ")&TEXT(J27,"hh:mm:ss"))-(VALUE(TEXT(G27,"m/dd/yy ")&TEXT(H27,"hh:mm:ss"))))*24)
B28: =IF($D28="","",VLOOKUP($D28,Lists!$BB$2:$BD$78,COLUMN(),FALSE)) | C28: =IF($D28="","",VLOOKUP($D28,Lists!$BB$2:$BD$78,COLUMN(),FALSE)) | K28: =IF(J28="","",(VALUE(TEXT(I28,"m/dd/yy ")&TEXT(J28,"hh:mm:ss"))-(VALUE(TEXT(G28,"m/dd/yy ")&TEXT(H28,"hh:mm:ss"))))*24)
B29: =IF($D29="","",VLOOKUP($D29,Lists!$BB$2:$BD$78,COLUMN(),FALSE)) | C29: =IF($D29="","",VLOOKUP($D29,Lists!$BB$2:$BD$78,COLUMN(),FALSE)) | K29: =IF(J29="","",(VALUE(TEXT(I29,"m/dd/yy ")&TEXT(J29,"hh:mm:ss"))-(VALUE(TEXT(G29,"m/dd/yy ")&TEXT(H29,"hh:mm:ss"))))*24)
B30: =IF($D30="","",VLOOKUP($D30,Lists!$BB$2:$BD$78,COLUMN(),FALSE)) | C30: =IF($D30="","",VLOOKUP($D30,Lists!$BB$2:$BD$78,COLUMN(),FALSE)) | K30: =IF(J30="","",(VALUE(TEXT(I30,"m/dd/yy ")&TEXT(J30,"hh:mm:ss"))-(VALUE(TEXT(G30,"m/dd/yy ")&TEXT(H30,"hh:mm:ss"))))*24)
B31: =IF($D31="","",VLOOKUP($D31,Lists!$BB$2:$BD$78,COLUMN(),FALSE)) | C31: =IF($D31="","",VLOOKUP($D31,Lists!$BB$2:$BD$78,COLUMN(),FALSE)) | K31: =IF(J31="","",(VALUE(TEXT(I31,"m/dd/yy ")&TEXT(J31,"hh:mm:ss"))-(VALUE(TEXT(G31,"m/dd/yy ")&TEXT(H31,"hh:mm:ss"))))*24)
B32: =IF($D32="","",VLOOKUP($D32,Lists!$BB$2:$BD$78,COLUMN(),FALSE)) | C32: =IF($D32="","",VLOOKUP($D32,Lists!$BB$2:$BD$78,COLUMN(),FALSE)) | K32: =IF(J32="","",(VALUE(TEXT(I32,"m/dd/yy ")&TEXT(J32,"hh:mm:ss"))-(VALUE(TEXT(G32,"m/dd/yy ")&TEXT(H32,"hh:mm:ss"))))*24)
B33: =IF($D33="","",VLOOKUP($D33,Lists!$BB$2:$BD$78,COLUMN(),FALSE)) | C33: =IF($D33="","",VLOOKUP($D33,Lists!$BB$2:$BD$78,COLUMN(),FALSE)) | K33: =IF(J33="","",(VALUE(TEXT(I33,"m/dd/yy ")&TEXT(J33,"hh:mm:ss"))-(VALUE(TEXT(G33,"m/dd/yy ")&TEXT(H33,"hh:mm:ss"))))*24)
B34: =IF($D34="","",VLOOKUP($D34,Lists!$BB$2:$BD$78,COLUMN(),FALSE)) | C34: =IF($D34="","",VLOOKUP($D34,Lists!$BB$2:$BD$78,COLUMN(),FALSE)) | K34: =IF(J34="","",(VALUE(TEXT(I34,"m/dd/yy ")&TEXT(J34,"hh:mm:ss"))-(VALUE(TEXT(G34,"m/dd/yy ")&TEXT(H34,"hh:mm:ss"))))*24)
B35: =IF($D35="","",VLOOKUP($D35,Lists!$BB$2:$BD$78,COLUMN(),FALSE)) | C35: =IF($D35="","",VLOOKUP($D35,Lists!$BB$2:$BD$78,COLUMN(),FALSE)) | K35: =IF(J35="","",(VALUE(TEXT(I35,"m/dd/yy ")&TEXT(J35,"hh:mm:ss"))-(VALUE(TEXT(G35,"m/dd/yy ")&TEXT(H35,"hh:mm:ss"))))*24)
... B500: =IF($D500="","",VLOOKUP($D500,Lists!$BB$2:$BD$78,COLUMN(),FALSE)) | C500: =IF($D500="","",VLOOKUP($D500,Lists!$BB$2:$BD$78,COLUMN(),FALSE)) | K500: =IF(J500="","",(VALUE(TEXT(I500,"m/dd/yy ")&TEXT(J500,"hh:mm:ss"))-(VALUE(TEXT(G500,"m/dd/yy ")&TEXT(H500,"hh:mm:ss"))))*24)

Sheet Number_of_Deviations_Work
B1: DO NOT REMOVE OR EDIT INFORMATION IN THIS SECTION FOR INTERNAL USE ONLY
B2: Template Name | C2: =+Welcome!B2 -> 63.4520(f) Semiannual Compliance Report (Spreadsheet Template)
B3: CitationID | C3: =+Welcome!B3 -> 63.4520(f)
B4: Template Version | C4: =+Welcome!B4 -> v1.02
B5: Last Updated Date | C5: =+Welcome!B5 -> 45554
B6: =+Welcome!B6 -> OMB Control Number: 2060-0518 Expiration Date: 04/30/2019
B7: 40 CFR Part 63, Subpart PPPP National Emission Standards for Hazardous Air Pollutants:
B8: Surface Coating of Plastic Parts and Products -
B9: §63.4520(f) Semiannual Compliance Report Spreadsheet Template
B12: Company Record No. (Autocompleted) | C12: Name of Operation (§63.4520(a)(6)(iv)) (Autocompleted) | D12: Number of Deviations Without an Addon Control Device (§63.4520(a)(6)(iv)) (Autocompleted)
B13: RecordId | C13: OperationName_NDWP | D13: DeviationsCount_NDWP
B14: e.g.: 1 | C14: e.g.: West Coating | D14: e.g.: 5
B15: e.g.: | C15: e.g.: | D15: e.g.:
B16: e.g.: | C16: e.g.: | D16: e.g.:
B17: e.g.: | C17: e.g.: | D17: e.g.:
B18: e.g.: | C18: e.g.: | D18: e.g.:
B19: e.g.: | C19: e.g.: | D19: e.g.:
B20: e.g.: | C20: e.g.: | D20: e.g.:
B21: e.g.: | C21: e.g.: | D21: e.g.:
B22: e.g.: | C22: e.g.: | D22: e.g.:
B23: e.g.: | C23: e.g.: | D23: e.g.:
B24: =IF(Lists!BC2="","",Lists!BC2) | C24: =IF(Lists!BD2="","",Lists!BD2) | D24: =IF(C24="","",COUNTIFS(With_Addon_WorkPractice!$B$24:$B$500,B24,With_Addon_WorkPractice!$C$24:$C$500,C24))
B25: =IF(Lists!BC3="","",Lists!BC3) | C25: =IF(Lists!BD3="","",Lists!BD3) | D25: =IF(C25="","",COUNTIFS(With_Addon_WorkPractice!$B$24:$B$500,B25,With_Addon_WorkPractice!$C$24:$C$500,C25))
B26: =IF(Lists!BC4="","",Lists!BC4) | C26: =IF(Lists!BD4="","",Lists!BD4) | D26: =IF(C26="","",COUNTIFS(With_Addon_WorkPractice!$B$24:$B$500,B26,With_Addon_WorkPractice!$C$24:$C$500,C26))
B27: =IF(Lists!BC5="","",Lists!BC5) | C27: =IF(Lists!BD5="","",Lists!BD5) | D27: =IF(C27="","",COUNTIFS(With_Addon_WorkPractice!$B$24:$B$500,B27,With_Addon_WorkPractice!$C$24:$C$500,C27))
B28: =IF(Lists!BC6="","",Lists!BC6) | C28: =IF(Lists!BD6="","",Lists!BD6) | D28: =IF(C28="","",COUNTIFS(With_Addon_WorkPractice!$B$24:$B$500,B28,With_Addon_WorkPractice!$C$24:$C$500,C28))
B29: =IF(Lists!BC7="","",Lists!BC7) | C29: =IF(Lists!BD7="","",Lists!BD7) | D29: =IF(C29="","",COUNTIFS(With_Addon_WorkPractice!$B$24:$B$500,B29,With_Addon_WorkPractice!$C$24:$C$500,C29))
B30: =IF(Lists!BC8="","",Lists!BC8) | C30: =IF(Lists!BD8="","",Lists!BD8) | D30: =IF(C30="","",COUNTIFS(With_Addon_WorkPractice!$B$24:$B$500,B30,With_Addon_WorkPractice!$C$24:$C$500,C30))
B31: =IF(Lists!BC9="","",Lists!BC9) | C31: =IF(Lists!BD9="","",Lists!BD9) | D31: =IF(C31="","",COUNTIFS(With_Addon_WorkPractice!$B$24:$B$500,B31,With_Addon_WorkPractice!$C$24:$C$500,C31))
B32: =IF(Lists!BC10="","",Lists!BC10) | C32: =IF(Lists!BD10="","",Lists!BD10) | D32: =IF(C32="","",COUNTIFS(With_Addon_WorkPractice!$B$24:$B$500,B32,With_Addon_WorkPractice!$C$24:$C$500,C32))
B33: =IF(Lists!BC11="","",Lists!BC11) | C33: =IF(Lists!BD11="","",Lists!BD11) | D33: =IF(C33="","",COUNTIFS(With_Addon_WorkPractice!$B$24:$B$500,B33,With_Addon_WorkPractice!$C$24:$C$500,C33))
B34: =IF(Lists!BC12="","",Lists!BC12) | C34: =IF(Lists!BD12="","",Lists!BD12) | D34: =IF(C34="","",COUNTIFS(With_Addon_WorkPractice!$B$24:$B$500,B34,With_Addon_WorkPractice!$C$24:$C$500,C34))
B35: =IF(Lists!BC13="","",Lists!BC13) | C35: =IF(Lists!BD13="","",Lists!BD13) | D35: =IF(C35="","",COUNTIFS(With_Addon_WorkPractice!$B$24:$B$500,B35,With_Addon_WorkPractice!$C$24:$C$500,C35))
... B100: =IF(Lists!BC78="","",Lists!BC78) | C100: =IF(Lists!BD78="","",Lists!BD78) | D100: =IF(C100="","",COUNTIFS(With_Addon_WorkPractice!$B$24:$B$500,B100,With_Addon_WorkPractice!$C$24:$C$500,C100))

Sheet Lists
A1: Rank | B1: Company | C1: CompanyName | D1: Column1 | F1: Rank | G1: Operation | H1: OperationName | I1: Column1 | K1: Rank | L1: CPMS | M1: CPMSName | N1: Column1 | S1: IDOperation | X1: combo | Y1: sorted ID | Z1: sorted operation | AB1: Compliant material | AH1: combo | AI1: sorted ID | AJ1: sorted operation | AL1: Without Addon | AR1: combo | AS1: sorted ID | AT1: sorted operation | AV1: With Addon | BB1: combo | BC1: sorted ID | BD1: sorted operation | BF1: Compliant CompanyID | BI1: sorted ID | BK1: Emission Rate | BQ1: combo | BR1: sorted ID | BS1: sorted operation | BU1: IDOPCPMS | CA1: combo | CB1: sorted ID | CC1: sorted operation | CD1: sorted cpms | CF1: CPMS2 | CL1: combo | CM1: sorted ID | CN1: sorted operation | CO1: sorted cpms | CQ1: OpLimit | CW1: combo | CX1: sorted ID | CY1: sorted Op | CZ1: sorted limit
A2: =+IF(D2="","",MAX(A1:A$1)+1) | B2: =IF(Company_Information!B24="","",Company_Information!B24) | C2: =+IFERROR(INDEX($B$2:$B$11,MATCH(ROW()-ROW($C$1),$A$2:$A$11,0)),"") | D2: =IF(COUNTIF(B$2:B2,B2)=1,B2,"") | F2: =+IF(I2="","",MAX(F1:F$1)+1) | G2: =IF(Compliance_Options!C24="","",Compliance_Options!C24) | H2: =+IFERROR(INDEX($G$2:$G$101,MATCH(ROW()-ROW($H$1),$F$2:$F$101,0)),"") | I2: =IF(COUNTIF(G$2:G2,G2)=1,G2,"") | K2: =+IF(N2="","",MAX(K1:K$1)+1) | L2: =IF(With_Addon_CPMS1!E24="","",With_Addon_CPMS1!E24) | M2: =+IFERROR(INDEX($L$2:$L$501,MATCH(ROW()-ROW($M$1),$K$2:$K$501,0)),"") | N2: =IF(COUNTIF(L$2:L2,L2)=1,L2,"") | P2: complianceoptions | S2: =+IF(W2="","",MAX(S1:S$1)+1) | T2: =IF(Compliance_Options!B24="","",Compliance_Options!B24) | U2: =IF(Compliance_Options!C24="","",Compliance_Options!C24) | V2: =+Lists!$T2&Lists!$U2 | W2: =IF(COUNTIF(V$2:V2,V2)=1,V2,"") | X2: =IF(Y2="","",Y2&" "&Z2) | Y2: =+IFERROR(INDEX($T$2:$T$78,MATCH(ROW()-ROW($Y$1),$S$2:$S$78,0)),"") | Z2: =+IFERROR(INDEX($U$2:$U$78,MATCH(ROW()-ROW($Y$1),$S$2:$S$78,0)),"") | AB2: =+IF(AG2="","",MAX(AB1:AB$1)+1) | AC2: =IF(Compliance_Options!B24="","",Compliance_Options!B24) | AD2: =IF(Compliance_Options!C24="","",Compliance_Options!C24) | AE2: =IF(Compliance_Options!D24="","",Compliance_Options!D24) | AF2: =+Lists!AC2&Lists!AD2&AE2 | AG2: =IF(AE2=$P$3,IF(COUNTIF(AF$2:AF2,AF2)=1,AF2,""),"") | AH2: =IF(AI2="","",AI2&" "&AJ2) | AI2: =+IFERROR(INDEX($AC$2:$AC$78,MATCH(ROW()-ROW($AH$1),$AB$2:$AB$78,0)),"") | AJ2: =+IFERROR(INDEX($AD$2:$AD$78,MATCH(ROW()-ROW($AH$1),$AB$2:$AB$78,0)),"") | AL2: =+IF(AQ2="","",MAX(AL1:AL$1)+1) | AM2: =IF(Compliance_Options!B24="","",Compliance_Options!B24) | AN2: =IF(Compliance_Options!C24="","",Compliance_Options!C24) | AO2: =IF(Compliance_Options!D24="","",Compliance_Options!D24) | AP2: =AM2&AN2&AO2 | AQ2: =IF(AO2=$P$4,IF(COUNTIF(AP$2:AP2,AP2)=1,AP2,""),"") | AR2: =IF(AS2="","",AS2&" "&AT2) | AS2: =+IFERROR(INDEX($AM$2:$AM$78,MATCH(ROW()-ROW($AR$1),$AL$2:$AL$78,0)),"") | AT2: =+IFERROR(INDEX($AN$2:$AN$78,MATCH(ROW()-ROW($AR$1),$AL$2:$AL$78,0)),"") | AV2: =+IF(BA2="","",MAX(AV1:AV$1)+1) | AW2: =IF(Compliance_Options!B24="","",Compliance_Options!B24) | AX2: =IF(Compliance_Options!C24="","",Compliance_Options!C24) | AY2: =IF(Compliance_Options!D24="","",Compliance_Options!D24) | AZ2: =AW2&AX2&AY2 | BA2: =IF(AY2=$P$5,IF(COUNTIF(AZ$2:AZ2,AZ2)=1,AZ2,""),"") | BB2: =IF(BC2="","",BC2&" "&BD2) | BC2: =+IFERROR(INDEX($AW$2:$AW$78,MATCH(ROW()-ROW($BB$1),$AV$2:$AV$78,0)),"") | BD2: =+IFERROR(INDEX($AX$2:$AX$78,MATCH(ROW()-ROW($BB$1),$AV$2:$AV$78,0)),"") | BF2: =+IF(BH2="","",MAX(BF1:BF$1)+1) | BG2: =IF(Compliance_Options!B24="","",IF(Compliance_Options!D24=$P$3,Compliance_Options!B24,"")) | BH2: =IF(COUNTIF(BG$2:BG2,BG2)=1,BG2,"") | BI2: =+IFERROR(INDEX($BG$2:$BG$78,MATCH(ROW()-ROW($BB$1),$BF$2:$BF$78,0)),"") | BK2: =+IF(BP2="","",MAX(BK1:BK$1)+1) | BL2: =IF(Compliance_Options!B24="","",Compliance_Options!B24) | BM2: =IF(Compliance_Options!C24="","",Compliance_Options!C24) | BN2: =IF(Compliance_Options!D24="","",Compliance_Options!D24) | BO2: =BL2&BM2&BN2 | BP2: =IF(OR(BN2=$P$5,BN2=$P$4),IF(COUNTIF(BO$2:BO2,BO2)=1,BO2,""),"") | BQ2: =IF(BR2="","",BR2&" "&BS2) | BR2: =+IFERROR(INDEX($BL$2:$BL$78,MATCH(ROW()-ROW($BQ$1),$BK$2:$BK$78,0)),"") | BS2: =+IFERROR(INDEX($BM$2:$BM$78,MATCH(ROW()-ROW($BQ$1),$BK$2:$BK$78,0)),"") | BU2: =+IF(BZ2="","",MAX(BU$1:BU1)+1) | BV2: =IF(With_Addon_CPMS1!B24="","",With_Addon_CPMS1!B24) | BW2: =IF(With_Addon_CPMS1!C24="","",With_Addon_CPMS1!C24) | BX2: =IF(With_Addon_CPMS1!E24="","",With_Addon_CPMS1!E24) | BY2: =BV2&BW2&BX2 | BZ2: =IF(COUNTIF(BY$1:BY2,BY2)=1,BY2,"") | CA2: =IF(CB2="","",CB2&" "&CC2&" "&CD2) | CB2: =+IFERROR(INDEX($BV$2:$BV$500,MATCH(ROW()-ROW($CA$1),$BU$2:$BU$500,0)),"") | CC2: =+IFERROR(INDEX($BW$2:$BW$500,MATCH(ROW()-ROW($CA$1),$BU$2:$BU$500,0)),"") | CD2: =+IFERROR(INDEX($BX$2:$BX$500,MATCH(ROW()-ROW($CA$1),$BU$2:$BU$500,0)),"") | CF2: =+IF(CK2="","",MAX(CF$1:CF1)+1) | CG2: =IF(With_Addon_CPMS2!B24="","",With_Addon_CPMS2!B24) | CH2: =IF(With_Addon_CPMS2!C24="","",With_Addon_CPMS2!C24) | CI2: =IF(With_Addon_CPMS2!D24="","",With_Addon_CPMS2!D24) | CJ2: =CG2&CH2&CI2 | CK2: =IF(COUNTIF(CJ$1:CJ2,CJ2)=1,CJ2,"") | CL2: =IF(CM2="","",CM2&" "&CN2&" "&CO2) | CM2: =+IFERROR(INDEX($CG$2:$CG$500,MATCH(ROW()-ROW($CL$1),$CF$2:$CF$500,0)),"") | CN2: =+IFERROR(INDEX($CH$2:$CH$500,MATCH(ROW()-ROW($CL$1),$CF$2:$CF$500,0)),"") | CO2: =+IFERROR(INDEX($CI$2:$CI$500,MATCH(ROW()-ROW($CL$1),$CF$2:$CF$500,0)),"") | CQ2: =+IF(CV2="","",MAX(CQ$1:CQ1)+1) | CR2: =IF(With_Addon_OpLimit!B24="","",With_Addon_OpLimit!B24) | CS2: =IF(With_Addon_OpLimit!C24="","",With_Addon_OpLimit!C24) | CT2: =IF(With_Addon_OpLimit!E24="","",With_Addon_OpLimit!E24) | CU2: =CR2&CT2 | CV2: =IF(COUNTIF(CU$1:CU2,CU2)=1,CU2,"") | CW2: =IF(CX2="","",CX2&" "&CZ2) | CX2: =+IFERROR(INDEX($CR$2:$CR$500,MATCH(ROW()-ROW($CW$1),$CQ$2:$CQ$500,0)),"") | CY2: =+IFERROR(INDEX($CS$2:$CS$500,MATCH(ROW()-ROW($CW$1),$CQ$2:$CQ$500,0)),"") | CZ2: =+IFERROR(INDEX($CT$2:$CT$500,MATCH(ROW()-ROW($CW$1),$CQ$2:$CQ$500,0)),"")
A3: =+IF(D3="","",MAX(A$1:A2)+1) | B3: =IF(Company_Information!B25="","",Company_Information!B25) | C3: =+IFERROR(INDEX($B$2:$B$11,MATCH(ROW()-ROW($C$1),$A$2:$A$11,0)),"") | D3: =IF(COUNTIF(B$2:B3,B3)=1,B3,"") | F3: =+IF(I3="","",MAX(F$1:F2)+1) | G3: =IF(Compliance_Options!C25="","",Compliance_Options!C25) | H3: =+IFERROR(INDEX($G$2:$G$101,MATCH(ROW()-ROW($H$1),$F$2:$F$101,0)),"") | I3: =IF(COUNTIF(G$2:G3,G3)=1,G3,"") | K3: =+IF(N3="","",MAX(K$1:K2)+1) | L3: =IF(With_Addon_CPMS1!E25="","",With_Addon_CPMS1!E25) | M3: =+IFERROR(INDEX($L$2:$L$501,MATCH(ROW()-ROW($M$1),$K$2:$K$501,0)),"") | N3: =IF(COUNTIF(L$2:L3,L3)=1,L3,"") | P3: Compliant Material 63.4491(a) | S3: =+IF(W3="","",MAX(S$1:S2)+1) | T3: =IF(Compliance_Options!B25="","",Compliance_Options!B25) | U3: =IF(Compliance_Options!C25="","",Compliance_Options!C25) | V3: =+Lists!$T3&Lists!$U3 | W3: =IF(COUNTIF(V$2:V3,V3)=1,V3,"") | X3: =IF(Y3="","",Y3&" "&Z3) | Y3: =+IFERROR(INDEX($T$2:$T$78,MATCH(ROW()-ROW($Y$1),$S$2:$S$78,0)),"") | Z3: =+IFERROR(INDEX($U$2:$U$78,MATCH(ROW()-ROW($Y$1),$S$2:$S$78,0)),"") | AB3: =+IF(AG3="","",MAX(AB$1:AB2)+1) | AC3: =IF(Compliance_Options!B25="","",Compliance_Options!B25) | AD3: =IF(Compliance_Options!C25="","",Compliance_Options!C25) | AE3: =IF(Compliance_Options!D25="","",Compliance_Options!D25) | AF3: =+Lists!AC3&Lists!AD3&AE3 | AG3: =IF(AE3=$P$3,IF(COUNTIF(AF$2:AF3,AF3)=1,AF3,""),"") | AH3: =IF(AI3="","",AI3&" "&AJ3) | AI3: =+IFERROR(INDEX($AC$2:$AC$78,MATCH(ROW()-ROW($AH$1),$AB$2:$AB$78,0)),"") | AJ3: =+IFERROR(INDEX($AD$2:$AD$78,MATCH(ROW()-ROW($AH$1),$AB$2:$AB$78,0)),"") | AL3: =+IF(AQ3="","",MAX(AL$1:AL2)+1) | AM3: =IF(Compliance_Options!B25="","",Compliance_Options!B25) | AN3: =IF(Compliance_Options!C25="","",Compliance_Options!C25) | AO3: =IF(Compliance_Options!D25="","",Compliance_Options!D25) | AP3: =AM3&AN3&AO3 | AQ3: =IF(AO3=$P$4,IF(COUNTIF(AP$2:AP3,AP3)=1,AP3,""),"") | AR3: =IF(AS3="","",AS3&" "&AT3) | AS3: =+IFERROR(INDEX($AM$2:$AM$78,MATCH(ROW()-ROW($AR$1),$AL$2:$AL$78,0)),"") | AT3: =+IFERROR(INDEX($AN$2:$AN$78,MATCH(ROW()-ROW($AR$1),$AL$2:$AL$78,0)),"") | AV3: =+IF(BA3="","",MAX(AV$1:AV2)+1) | AW3: =IF(Compliance_Options!B25="","",Compliance_Options!B25) | AX3: =IF(Compliance_Options!C25="","",Compliance_Options!C25) | AY3: =IF(Compliance_Options!D25="","",Compliance_Options!D25) | AZ3: =AW3&AX3&AY3 | BA3: =IF(AY3=$P$5,IF(COUNTIF(AZ$2:AZ3,AZ3)=1,AZ3,""),"") | BB3: =IF(BC3="","",BC3&" "&BD3) | BC3: =+IFERROR(INDEX($AW$2:$AW$78,MATCH(ROW()-ROW($BB$1),$AV$2:$AV$78,0)),"") | BD3: =+IFERROR(INDEX($AX$2:$AX$78,MATCH(ROW()-ROW($BB$1),$AV$2:$AV$78,0)),"") | BF3: =+IF(BH3="","",MAX(BF$1:BF2)+1) | BG3: =IF(Compliance_Options!B25="","",IF(Compliance_Options!D25=$P$3,Compliance_Options!B25,"")) | BH3: =IF(COUNTIF(BG$2:BG3,BG3)=1,BG3,"") | BI3: =+IFERROR(INDEX($BG$2:$BG$78,MATCH(ROW()-ROW($BB$1),$BF$2:$BF$78,0)),"") | BK3: =+IF(BP3="","",MAX(BK$1:BK2)+1) | BL3: =IF(Compliance_Options!B25="","",Compliance_Options!B25) | BM3: =IF(Compliance_Options!C25="","",Compliance_Options!C25) | BN3: =IF(Compliance_Options!D25="","",Compliance_Options!D25) | BO3: =BL3&BM3&BN3 | BP3: =IF(OR(BN3=$P$5,BN3=$P$4),IF(COUNTIF(BO$2:BO3,BO3)=1,BO3,""),"") | BQ3: =IF(BR3="","",BR3&" "&BS3) | BR3: =+IFERROR(INDEX($BL$2:$BL$78,MATCH(ROW()-ROW($BQ$1),$BK$2:$BK$78,0)),"") | BS3: =+IFERROR(INDEX($BM$2:$BM$78,MATCH(ROW()-ROW($BQ$1),$BK$2:$BK$78,0)),"") | BU3: =+IF(BZ3="","",MAX(BU$1:BU2)+1) | BV3: =IF(With_Addon_CPMS1!B25="","",With_Addon_CPMS1!B25) | BW3: =IF(With_Addon_CPMS1!C25="","",With_Addon_CPMS1!C25) | BX3: =IF(With_Addon_CPMS1!E25="","",With_Addon_CPMS1!E25) | BY3: =BV3&BW3&BX3 | BZ3: =IF(COUNTIF(BY$1:BY3,BY3)=1,BY3,"") | CA3: =IF(CB3="","",CB3&" "&CC3&" "&CD3) | CB3: =+IFERROR(INDEX($BV$2:$BV$500,MATCH(ROW()-ROW($CA$1),$BU$2:$BU$500,0)),"") | CC3: =+IFERROR(INDEX($BW$2:$BW$500,MATCH(ROW()-ROW($CA$1),$BU$2:$BU$500,0)),"") | CD3: =+IFERROR(INDEX($BX$2:$BX$500,MATCH(ROW()-ROW($CA$1),$BU$2:$BU$500,0)),"") | CF3: =+IF(CK3="","",MAX(CF$1:CF2)+1) | CG3: =IF(With_Addon_CPMS2!N25="","",With_Addon_CPMS2!N25) | CH3: =IF(With_Addon_CPMS2!O25="","",With_Addon_CPMS2!O25) | CI3: =IF(With_Addon_CPMS2!Q25="","",With_Addon_CPMS2!Q25) | CJ3: =CG3&CH3&CI3 | CK3: =IF(COUNTIF(CJ$1:CJ3,CJ3)=1,CJ3,"") | CL3: =IF(CM3="","",CM3&" "&CN3&" "&CO3) | CM3: =+IFERROR(INDEX($CG$2:$CG$500,MATCH(ROW()-ROW($CL$1),$CF$2:$CF$500,0)),"") | CN3: =+IFERROR(INDEX($CH$2:$CH$500,MATCH(ROW()-ROW($CL$1),$CF$2:$CF$500,0)),"") | CO3: =+IFERROR(INDEX($CI$2:$CI$500,MATCH(ROW()-ROW($CL$1),$CF$2:$CF$500,0)),"") | CQ3: =+IF(CV3="","",MAX(CQ$1:CQ2)+1) | CR3: =IF(With_Addon_OpLimit!B25="","",With_Addon_OpLimit!B25) | CS3: =IF(With_Addon_OpLimit!C25="","",With_Addon_OpLimit!C25) | CT3: =IF(With_Addon_OpLimit!E25="","",With_Addon_OpLimit!E25) | CU3: =CR3&CT3 | CV3: =IF(COUNTIF(CU$1:CU3,CU3)=1,CU3,"") | CW3: =IF(CX3="","",CX3&" "&CZ3) | CX3: =+IFERROR(INDEX($CR$2:$CR$500,MATCH(ROW()-ROW($CW$1),$CQ$2:$CQ$500,0)),"") | CY3: =+IFERROR(INDEX($CS$2:$CS$500,MATCH(ROW()-ROW($CW$1),$CQ$2:$CQ$500,0)),"") | CZ3: =+IFERROR(INDEX($CT$2:$CT$500,MATCH(ROW()-ROW($CW$1),$CQ$2:$CQ$500,0)),"")
A4: =+IF(D4="","",MAX(A$1:A3)+1) | B4: =IF(Company_Information!B26="","",Company_Information!B26) | C4: =+IFERROR(INDEX($B$2:$B$11,MATCH(ROW()-ROW($C$1),$A$2:$A$11,0)),"") | D4: =IF(COUNTIF(B$2:B4,B4)=1,B4,"") | F4: =+IF(I4="","",MAX(F$1:F3)+1) | G4: =IF(Compliance_Options!C26="","",Compliance_Options!C26) | H4: =+IFERROR(INDEX($G$2:$G$101,MATCH(ROW()-ROW($H$1),$F$2:$F$101,0)),"") | I4: =IF(COUNTIF(G$2:G4,G4)=1,G4,"") | K4: =+IF(N4="","",MAX(K$1:K3)+1) | L4: =IF(With_Addon_CPMS1!E26="","",With_Addon_CPMS1!E26) | M4: =+IFERROR(INDEX($L$2:$L$501,MATCH(ROW()-ROW($M$1),$K$2:$K$501,0)),"") | N4: =IF(COUNTIF(L$2:L4,L4)=1,L4,"") | P4: Emission Rate Without Add-on Controls 63.4491(b) | S4: =+IF(W4="","",MAX(S$1:S3)+1) | T4: =IF(Compliance_Options!B26="","",Compliance_Options!B26) | U4: =IF(Compliance_Options!C26="","",Compliance_Options!C26) | V4: =+Lists!$T4&Lists!$U4 | W4: =IF(COUNTIF(V$2:V4,V4)=1,V4,"") | X4: =IF(Y4="","",Y4&" "&Z4) | Y4: =+IFERROR(INDEX($T$2:$T$78,MATCH(ROW()-ROW($Y$1),$S$2:$S$78,0)),"") | Z4: =+IFERROR(INDEX($U$2:$U$78,MATCH(ROW()-ROW($Y$1),$S$2:$S$78,0)),"") | AB4: =+IF(AG4="","",MAX(AB$1:AB3)+1) | AC4: =IF(Compliance_Options!B26="","",Compliance_Options!B26) | AD4: =IF(Compliance_Options!C26="","",Compliance_Options!C26) | AE4: =IF(Compliance_Options!D26="","",Compliance_Options!D26) | AF4: =+Lists!AC4&Lists!AD4&AE4 | AG4: =IF(AE4=$P$3,IF(COUNTIF(AF$2:AF4,AF4)=1,AF4,""),"") | AH4: =IF(AI4="","",AI4&" "&AJ4) | AI4: =+IFERROR(INDEX($AC$2:$AC$78,MATCH(ROW()-ROW($AH$1),$AB$2:$AB$78,0)),"") | AJ4: =+IFERROR(INDEX($AD$2:$AD$78,MATCH(ROW()-ROW($AH$1),$AB$2:$AB$78,0)),"") | AL4: =+IF(AQ4="","",MAX(AL$1:AL3)+1) | AM4: =IF(Compliance_Options!B26="","",Compliance_Options!B26) | AN4: =IF(Compliance_Options!C26="","",Compliance_Options!C26) | AO4: =IF(Compliance_Options!D26="","",Compliance_Options!D26) | AP4: =AM4&AN4&AO4 | AQ4: =IF(AO4=$P$4,IF(COUNTIF(AP$2:AP4,AP4)=1,AP4,""),"") | AR4: =IF(AS4="","",AS4&" "&AT4) | AS4: =+IFERROR(INDEX($AM$2:$AM$78,MATCH(ROW()-ROW($AR$1),$AL$2:$AL$78,0)),"") | AT4: =+IFERROR(INDEX($AN$2:$AN$78,MATCH(ROW()-ROW($AR$1),$AL$2:$AL$78,0)),"") | AV4: =+IF(BA4="","",MAX(AV$1:AV3)+1) | AW4: =IF(Compliance_Options!B26="","",Compliance_Options!B26) | AX4: =IF(Compliance_Options!C26="","",Compliance_Options!C26) | AY4: =IF(Compliance_Options!D26="","",Compliance_Options!D26) | AZ4: =AW4&AX4&AY4 | BA4: =IF(AY4=$P$5,IF(COUNTIF(AZ$2:AZ4,AZ4)=1,AZ4,""),"") | BB4: =IF(BC4="","",BC4&" "&BD4) | BC4: =+IFERROR(INDEX($AW$2:$AW$78,MATCH(ROW()-ROW($BB$1),$AV$2:$AV$78,0)),"") | BD4: =+IFERROR(INDEX($AX$2:$AX$78,MATCH(ROW()-ROW($BB$1),$AV$2:$AV$78,0)),"") | BF4: =+IF(BH4="","",MAX(BF$1:BF3)+1) | BG4: =IF(Compliance_Options!B26="","",IF(Compliance_Options!D26=$P$3,Compliance_Options!B26,"")) | BH4: =IF(COUNTIF(BG$2:BG4,BG4)=1,BG4,"") | BI4: =+IFERROR(INDEX($BG$2:$BG$78,MATCH(ROW()-ROW($BB$1),$BF$2:$BF$78,0)),"") | BK4: =+IF(BP4="","",MAX(BK$1:BK3)+1) | BL4: =IF(Compliance_Options!B26="","",Compliance_Options!B26) | BM4: =IF(Compliance_Options!C26="","",Compliance_Options!C26) | BN4: =IF(Compliance_Options!D26="","",Compliance_Options!D26) | BO4: =BL4&BM4&BN4 | BP4: =IF(OR(BN4=$P$5,BN4=$P$4),IF(COUNTIF(BO$2:BO4,BO4)=1,BO4,""),"") | BQ4: =IF(BR4="","",BR4&" "&BS4) | BR4: =+IFERROR(INDEX($BL$2:$BL$78,MATCH(ROW()-ROW($BQ$1),$BK$2:$BK$78,0)),"") | BS4: =+IFERROR(INDEX($BM$2:$BM$78,MATCH(ROW()-ROW($BQ$1),$BK$2:$BK$78,0)),"") | BU4: =+IF(BZ4="","",MAX(BU$1:BU3)+1) | BV4: =IF(With_Addon_CPMS1!B26="","",With_Addon_CPMS1!B26) | BW4: =IF(With_Addon_CPMS1!C26="","",With_Addon_CPMS1!C26) | BX4: =IF(With_Addon_CPMS1!E26="","",With_Addon_CPMS1!E26) | BY4: =BV4&BW4&BX4 | BZ4: =IF(COUNTIF(BY$1:BY4,BY4)=1,BY4,"") | CA4: =IF(CB4="","",CB4&" "&CC4&" "&CD4) | CB4: =+IFERROR(INDEX($BV$2:$BV$500,MATCH(ROW()-ROW($CA$1),$BU$2:$BU$500,0)),"") | CC4: =+IFERROR(INDEX($BW$2:$BW$500,MATCH(ROW()-ROW($CA$1),$BU$2:$BU$500,0)),"") | CD4: =+IFERROR(INDEX($BX$2:$BX$500,MATCH(ROW()-ROW($CA$1),$BU$2:$BU$500,0)),"") | CF4: =+IF(CK4="","",MAX(CF$1:CF3)+1) | CG4: =IF(With_Addon_CPMS2!N26="","",With_Addon_CPMS2!N26) | CH4: =IF(With_Addon_CPMS2!O26="","",With_Addon_CPMS2!O26) | CI4: =IF(With_Addon_CPMS2!Q26="","",With_Addon_CPMS2!Q26) | CJ4: =CG4&CH4&CI4 | CK4: =IF(COUNTIF(CJ$1:CJ4,CJ4)=1,CJ4,"") | CL4: =IF(CM4="","",CM4&" "&CN4&" "&CO4) | CM4: =+IFERROR(INDEX($CG$2:$CG$500,MATCH(ROW()-ROW($CL$1),$CF$2:$CF$500,0)),"") | CN4: =+IFERROR(INDEX($CH$2:$CH$500,MATCH(ROW()-ROW($CL$1),$CF$2:$CF$500,0)),"") | CO4: =+IFERROR(INDEX($CI$2:$CI$500,MATCH(ROW()-ROW($CL$1),$CF$2:$CF$500,0)),"") | CQ4: =+IF(CV4="","",MAX(CQ$1:CQ3)+1) | CR4: =IF(With_Addon_OpLimit!B26="","",With_Addon_OpLimit!B26) | CS4: =IF(With_Addon_OpLimit!C26="","",With_Addon_OpLimit!C26) | CT4: =IF(With_Addon_OpLimit!E26="","",With_Addon_OpLimit!E26) | CU4: =CR4&CT4 | CV4: =IF(COUNTIF(CU$1:CU4,CU4)=1,CU4,"") | CW4: =IF(CX4="","",CX4&" "&CZ4) | CX4: =+IFERROR(INDEX($CR$2:$CR$500,MATCH(ROW()-ROW($CW$1),$CQ$2:$CQ$500,0)),"") | CY4: =+IFERROR(INDEX($CS$2:$CS$500,MATCH(ROW()-ROW($CW$1),$CQ$2:$CQ$500,0)),"") | CZ4: =+IFERROR(INDEX($CT$2:$CT$500,MATCH(ROW()-ROW($CW$1),$CQ$2:$CQ$500,0)),"")
A5: =+IF(D5="","",MAX(A$1:A4)+1) | B5: =IF(Company_Information!B27="","",Company_Information!B27) | C5: =+IFERROR(INDEX($B$2:$B$11,MATCH(ROW()-ROW($C$1),$A$2:$A$11,0)),"") | D5: =IF(COUNTIF(B$2:B5,B5)=1,B5,"") | F5: =+IF(I5="","",MAX(F$1:F4)+1) | G5: =IF(Compliance_Options!C27="","",Compliance_Options!C27) | H5: =+IFERROR(INDEX($G$2:$G$101,MATCH(ROW()-ROW($H$1),$F$2:$F$101,0)),"") | I5: =IF(COUNTIF(G$2:G5,G5)=1,G5,"") | K5: =+IF(N5="","",MAX(K$1:K4)+1) | L5: =IF(With_Addon_CPMS1!E27="","",With_Addon_CPMS1!E27) | M5: =+IFERROR(INDEX($L$2:$L$501,MATCH(ROW()-ROW($M$1),$K$2:$K$501,0)),"") | N5: =IF(COUNTIF(L$2:L5,L5)=1,L5,"") | P5: Emission Rate With Add-on Controls 63.4491(c) | S5: =+IF(W5="","",MAX(S$1:S4)+1) | T5: =IF(Compliance_Options!B27="","",Compliance_Options!B27) | U5: =IF(Compliance_Options!C27="","",Compliance_Options!C27) | V5: =+Lists!$T5&Lists!$U5 | W5: =IF(COUNTIF(V$2:V5,V5)=1,V5,"") | X5: =IF(Y5="","",Y5&" "&Z5) | Y5: =+IFERROR(INDEX($T$2:$T$78,MATCH(ROW()-ROW($Y$1),$S$2:$S$78,0)),"") | Z5: =+IFERROR(INDEX($U$2:$U$78,MATCH(ROW()-ROW($Y$1),$S$2:$S$78,0)),"") | AB5: =+IF(AG5="","",MAX(AB$1:AB4)+1) | AC5: =IF(Compliance_Options!B27="","",Compliance_Options!B27) | AD5: =IF(Compliance_Options!C27="","",Compliance_Options!C27) | AE5: =IF(Compliance_Options!D27="","",Compliance_Options!D27) | AF5: =+Lists!AC5&Lists!AD5&AE5 | AG5: =IF(AE5=$P$3,IF(COUNTIF(AF$2:AF5,AF5)=1,AF5,""),"") | AH5: =IF(AI5="","",AI5&" "&AJ5) | AI5: =+IFERROR(INDEX($AC$2:$AC$78,MATCH(ROW()-ROW($AH$1),$AB$2:$AB$78,0)),"") | AJ5: =+IFERROR(INDEX($AD$2:$AD$78,MATCH(ROW()-ROW($AH$1),$AB$2:$AB$78,0)),"") | AL5: =+IF(AQ5="","",MAX(AL$1:AL4)+1) | AM5: =IF(Compliance_Options!B27="","",Compliance_Options!B27) | AN5: =IF(Compliance_Options!C27="","",Compliance_Options!C27) | AO5: =IF(Compliance_Options!D27="","",Compliance_Options!D27) | AP5: =AM5&AN5&AO5 | AQ5: =IF(AO5=$P$4,IF(COUNTIF(AP$2:AP5,AP5)=1,AP5,""),"") | AR5: =IF(AS5="","",AS5&" "&AT5) | AS5: =+IFERROR(INDEX($AM$2:$AM$78,MATCH(ROW()-ROW($AR$1),$AL$2:$AL$78,0)),"") | AT5: =+IFERROR(INDEX($AN$2:$AN$78,MATCH(ROW()-ROW($AR$1),$AL$2:$AL$78,0)),"") | AV5: =+IF(BA5="","",MAX(AV$1:AV4)+1) | AW5: =IF(Compliance_Options!B27="","",Compliance_Options!B27) | AX5: =IF(Compliance_Options!C27="","",Compliance_Options!C27) | AY5: =IF(Compliance_Options!D27="","",Compliance_Options!D27) | AZ5: =AW5&AX5&AY5 | BA5: =IF(AY5=$P$5,IF(COUNTIF(AZ$2:AZ5,AZ5)=1,AZ5,""),"") | BB5: =IF(BC5="","",BC5&" "&BD5) | BC5: =+IFERROR(INDEX($AW$2:$AW$78,MATCH(ROW()-ROW($BB$1),$AV$2:$AV$78,0)),"") | BD5: =+IFERROR(INDEX($AX$2:$AX$78,MATCH(ROW()-ROW($BB$1),$AV$2:$AV$78,0)),"") | BF5: =+IF(BH5="","",MAX(BF$1:BF4)+1) | BG5: =IF(Compliance_Options!B27="","",IF(Compliance_Options!D27=$P$3,Compliance_Options!B27,"")) | BH5: =IF(COUNTIF(BG$2:BG5,BG5)=1,BG5,"") | BI5: =+IFERROR(INDEX($BG$2:$BG$78,MATCH(ROW()-ROW($BB$1),$BF$2:$BF$78,0)),"") | BK5: =+IF(BP5="","",MAX(BK$1:BK4)+1) | BL5: =IF(Compliance_Options!B27="","",Compliance_Options!B27) | BM5: =IF(Compliance_Options!C27="","",Compliance_Options!C27) | BN5: =IF(Compliance_Options!D27="","",Compliance_Options!D27) | BO5: =BL5&BM5&BN5 | BP5: =IF(OR(BN5=$P$5,BN5=$P$4),IF(COUNTIF(BO$2:BO5,BO5)=1,BO5,""),"") | BQ5: =IF(BR5="","",BR5&" "&BS5) | BR5: =+IFERROR(INDEX($BL$2:$BL$78,MATCH(ROW()-ROW($BQ$1),$BK$2:$BK$78,0)),"") | BS5: =+IFERROR(INDEX($BM$2:$BM$78,MATCH(ROW()-ROW($BQ$1),$BK$2:$BK$78,0)),"") | BU5: =+IF(BZ5="","",MAX(BU$1:BU4)+1) | BV5: =IF(With_Addon_CPMS1!B27="","",With_Addon_CPMS1!B27) | BW5: =IF(With_Addon_CPMS1!C27="","",With_Addon_CPMS1!C27) | BX5: =IF(With_Addon_CPMS1!E27="","",With_Addon_CPMS1!E27) | BY5: =BV5&BW5&BX5 | BZ5: =IF(COUNTIF(BY$1:BY5,BY5)=1,BY5,"") | CA5: =IF(CB5="","",CB5&" "&CC5&" "&CD5) | CB5: =+IFERROR(INDEX($BV$2:$BV$500,MATCH(ROW()-ROW($CA$1),$BU$2:$BU$500,0)),"") | CC5: =+IFERROR(INDEX($BW$2:$BW$500,MATCH(ROW()-ROW($CA$1),$BU$2:$BU$500,0)),"") | CD5: =+IFERROR(INDEX($BX$2:$BX$500,MATCH(ROW()-ROW($CA$1),$BU$2:$BU$500,0)),"") | CF5: =+IF(CK5="","",MAX(CF$1:CF4)+1) | CG5: =IF(With_Addon_CPMS2!N27="","",With_Addon_CPMS2!N27) | CH5: =IF(With_Addon_CPMS2!O27="","",With_Addon_CPMS2!O27) | CI5: =IF(With_Addon_CPMS2!Q27="","",With_Addon_CPMS2!Q27) | CJ5: =CG5&CH5&CI5 | CK5: =IF(COUNTIF(CJ$1:CJ5,CJ5)=1,CJ5,"") | CL5: =IF(CM5="","",CM5&" "&CN5&" "&CO5) | CM5: =+IFERROR(INDEX($CG$2:$CG$500,MATCH(ROW()-ROW($CL$1),$CF$2:$CF$500,0)),"") | CN5: =+IFERROR(INDEX($CH$2:$CH$500,MATCH(ROW()-ROW($CL$1),$CF$2:$CF$500,0)),"") | CO5: =+IFERROR(INDEX($CI$2:$CI$500,MATCH(ROW()-ROW($CL$1),$CF$2:$CF$500,0)),"") | CQ5: =+IF(CV5="","",MAX(CQ$1:CQ4)+1) | CR5: =IF(With_Addon_OpLimit!B27="","",With_Addon_OpLimit!B27) | CS5: =IF(With_Addon_OpLimit!C27="","",With_Addon_OpLimit!C27) | CT5: =IF(With_Addon_OpLimit!E27="","",With_Addon_OpLimit!E27) | CU5: =CR5&CT5 | CV5: =IF(COUNTIF(CU$1:CU5,CU5)=1,CU5,"") | CW5: =IF(CX5="","",CX5&" "&CZ5) | CX5: =+IFERROR(INDEX($CR$2:$CR$500,MATCH(ROW()-ROW($CW$1),$CQ$2:$CQ$500,0)),"") | CY5: =+IFERROR(INDEX($CS$2:$CS$500,MATCH(ROW()-ROW($CW$1),$CQ$2:$CQ$500,0)),"") | CZ5: =+IFERROR(INDEX($CT$2:$CT$500,MATCH(ROW()-ROW($CW$1),$CQ$2:$CQ$500,0)),"")
A6: =+IF(D6="","",MAX(A$1:A5)+1) | B6: =IF(Company_Information!B28="","",Company_Information!B28) | C6: =+IFERROR(INDEX($B$2:$B$11,MATCH(ROW()-ROW($C$1),$A$2:$A$11,0)),"") | D6: =IF(COUNTIF(B$2:B6,B6)=1,B6,"") | F6: =+IF(I6="","",MAX(F$1:F5)+1) | G6: =IF(Compliance_Options!C28="","",Compliance_Options!C28) | H6: =+IFERROR(INDEX($G$2:$G$101,MATCH(ROW()-ROW($H$1),$F$2:$F$101,0)),"") | I6: =IF(COUNTIF(G$2:G6,G6)=1,G6,"") | K6: =+IF(N6="","",MAX(K$1:K5)+1) | L6: =IF(With_Addon_CPMS1!E28="","",With_Addon_CPMS1!E28) | M6: =+IFERROR(INDEX($L$2:$L$501,MATCH(ROW()-ROW($M$1),$K$2:$K$501,0)),"") | N6: =IF(COUNTIF(L$2:L6,L6)=1,L6,"") | S6: =+IF(W6="","",MAX(S$1:S5)+1) | T6: =IF(Compliance_Options!B28="","",Compliance_Options!B28) | U6: =IF(Compliance_Options!C28="","",Compliance_Options!C28) | V6: =+Lists!$T6&Lists!$U6 | W6: =IF(COUNTIF(V$2:V6,V6)=1,V6,"") | X6: =IF(Y6="","",Y6&" "&Z6) | Y6: =+IFERROR(INDEX($T$2:$T$78,MATCH(ROW()-ROW($Y$1),$S$2:$S$78,0)),"") | Z6: =+IFERROR(INDEX($U$2:$U$78,MATCH(ROW()-ROW($Y$1),$S$2:$S$78,0)),"") | AB6: =+IF(AG6="","",MAX(AB$1:AB5)+1) | AC6: =IF(Compliance_Options!B28="","",Compliance_Options!B28) | AD6: =IF(Compliance_Options!C28="","",Compliance_Options!C28) | AE6: =IF(Compliance_Options!D28="","",Compliance_Options!D28) | AF6: =+Lists!AC6&Lists!AD6&AE6 | AG6: =IF(AE6=$P$3,IF(COUNTIF(AF$2:AF6,AF6)=1,AF6,""),"") | AH6: =IF(AI6="","",AI6&" "&AJ6) | AI6: =+IFERROR(INDEX($AC$2:$AC$78,MATCH(ROW()-ROW($AH$1),$AB$2:$AB$78,0)),"") | AJ6: =+IFERROR(INDEX($AD$2:$AD$78,MATCH(ROW()-ROW($AH$1),$AB$2:$AB$78,0)),"") | AL6: =+IF(AQ6="","",MAX(AL$1:AL5)+1) | AM6: =IF(Compliance_Options!B28="","",Compliance_Options!B28) | AN6: =IF(Compliance_Options!C28="","",Compliance_Options!C28) | AO6: =IF(Compliance_Options!D28="","",Compliance_Options!D28) | AP6: =AM6&AN6&AO6 | AQ6: =IF(AO6=$P$4,IF(COUNTIF(AP$2:AP6,AP6)=1,AP6,""),"") | AR6: =IF(AS6="","",AS6&" "&AT6) | AS6: =+IFERROR(INDEX($AM$2:$AM$78,MATCH(ROW()-ROW($AR$1),$AL$2:$AL$78,0)),"") | AT6: =+IFERROR(INDEX($AN$2:$AN$78,MATCH(ROW()-ROW($AR$1),$AL$2:$AL$78,0)),"") | AV6: =+IF(BA6="","",MAX(AV$1:AV5)+1) | AW6: =IF(Compliance_Options!B28="","",Compliance_Options!B28) | AX6: =IF(Compliance_Options!C28="","",Compliance_Options!C28) | AY6: =IF(Compliance_Options!D28="","",Compliance_Options!D28) | AZ6: =AW6&AX6&AY6 | BA6: =IF(AY6=$P$5,IF(COUNTIF(AZ$2:AZ6,AZ6)=1,AZ6,""),"") | BB6: =IF(BC6="","",BC6&" "&BD6) | BC6: =+IFERROR(INDEX($AW$2:$AW$78,MATCH(ROW()-ROW($BB$1),$AV$2:$AV$78,0)),"") | BD6: =+IFERROR(INDEX($AX$2:$AX$78,MATCH(ROW()-ROW($BB$1),$AV$2:$AV$78,0)),"") | BF6: =+IF(BH6="","",MAX(BF$1:BF5)+1) | BG6: =IF(Compliance_Options!B28="","",IF(Compliance_Options!D28=$P$3,Compliance_Options!B28,"")) | BH6: =IF(COUNTIF(BG$2:BG6,BG6)=1,BG6,"") | BI6: =+IFERROR(INDEX($BG$2:$BG$78,MATCH(ROW()-ROW($BB$1),$BF$2:$BF$78,0)),"") | BK6: =+IF(BP6="","",MAX(BK$1:BK5)+1) | BL6: =IF(Compliance_Options!B28="","",Compliance_Options!B28) | BM6: =IF(Compliance_Options!C28="","",Compliance_Options!C28) | BN6: =IF(Compliance_Options!D28="","",Compliance_Options!D28) | BO6: =BL6&BM6&BN6 | BP6: =IF(OR(BN6=$P$5,BN6=$P$4),IF(COUNTIF(BO$2:BO6,BO6)=1,BO6,""),"") | BQ6: =IF(BR6="","",BR6&" "&BS6) | BR6: =+IFERROR(INDEX($BL$2:$BL$78,MATCH(ROW()-ROW($BQ$1),$BK$2:$BK$78,0)),"") | BS6: =+IFERROR(INDEX($BM$2:$BM$78,MATCH(ROW()-ROW($BQ$1),$BK$2:$BK$78,0)),"") | BU6: =+IF(BZ6="","",MAX(BU$1:BU5)+1) | BV6: =IF(With_Addon_CPMS1!B28="","",With_Addon_CPMS1!B28) | BW6: =IF(With_Addon_CPMS1!C28="","",With_Addon_CPMS1!C28) | BX6: =IF(With_Addon_CPMS1!E28="","",With_Addon_CPMS1!E28) | BY6: =BV6&BW6&BX6 | BZ6: =IF(COUNTIF(BY$1:BY6,BY6)=1,BY6,"") | CA6: =IF(CB6="","",CB6&" "&CC6&" "&CD6) | CB6: =+IFERROR(INDEX($BV$2:$BV$500,MATCH(ROW()-ROW($CA$1),$BU$2:$BU$500,0)),"") | CC6: =+IFERROR(INDEX($BW$2:$BW$500,MATCH(ROW()-ROW($CA$1),$BU$2:$BU$500,0)),"") | CD6: =+IFERROR(INDEX($BX$2:$BX$500,MATCH(ROW()-ROW($CA$1),$BU$2:$BU$500,0)),"") | CF6: =+IF(CK6="","",MAX(CF$1:CF5)+1) | CG6: =IF(With_Addon_CPMS2!N28="","",With_Addon_CPMS2!N28) | CH6: =IF(With_Addon_CPMS2!O28="","",With_Addon_CPMS2!O28) | CI6: =IF(With_Addon_CPMS2!Q28="","",With_Addon_CPMS2!Q28) | CJ6: =CG6&CH6&CI6 | CK6: =IF(COUNTIF(CJ$1:CJ6,CJ6)=1,CJ6,"") | CL6: =IF(CM6="","",CM6&" "&CN6&" "&CO6) | CM6: =+IFERROR(INDEX($CG$2:$CG$500,MATCH(ROW()-ROW($CL$1),$CF$2:$CF$500,0)),"") | CN6: =+IFERROR(INDEX($CH$2:$CH$500,MATCH(ROW()-ROW($CL$1),$CF$2:$CF$500,0)),"") | CO6: =+IFERROR(INDEX($CI$2:$CI$500,MATCH(ROW()-ROW($CL$1),$CF$2:$CF$500,0)),"") | CQ6: =+IF(CV6="","",MAX(CQ$1:CQ5)+1) | CR6: =IF(With_Addon_OpLimit!B28="","",With_Addon_OpLimit!B28) | CS6: =IF(With_Addon_OpLimit!C28="","",With_Addon_OpLimit!C28) | CT6: =IF(With_Addon_OpLimit!E28="","",With_Addon_OpLimit!E28) | CU6: =CR6&CT6 | CV6: =IF(COUNTIF(CU$1:CU6,CU6)=1,CU6,"") | CW6: =IF(CX6="","",CX6&" "&CZ6) | CX6: =+IFERROR(INDEX($CR$2:$CR$500,MATCH(ROW()-ROW($CW$1),$CQ$2:$CQ$500,0)),"") | CY6: =+IFERROR(INDEX($CS$2:$CS$500,MATCH(ROW()-ROW($CW$1),$CQ$2:$CQ$500,0)),"") | CZ6: =+IFERROR(INDEX($CT$2:$CT$500,MATCH(ROW()-ROW($CW$1),$CQ$2:$CQ$500,0)),"")
A7: =+IF(D7="","",MAX(A$1:A6)+1) | B7: =IF(Company_Information!B29="","",Company_Information!B29) | C7: =+IFERROR(INDEX($B$2:$B$11,MATCH(ROW()-ROW($C$1),$A$2:$A$11,0)),"") | D7: =IF(COUNTIF(B$2:B7,B7)=1,B7,"") | F7: =+IF(I7="","",MAX(F$1:F6)+1) | G7: =IF(Compliance_Options!C29="","",Compliance_Options!C29) | H7: =+IFERROR(INDEX($G$2:$G$101,MATCH(ROW()-ROW($H$1),$F$2:$F$101,0)),"") | I7: =IF(COUNTIF(G$2:G7,G7)=1,G7,"") | K7: =+IF(N7="","",MAX(K$1:K6)+1) | L7: =IF(With_Addon_CPMS1!E29="","",With_Addon_CPMS1!E29) | M7: =+IFERROR(INDEX($L$2:$L$501,MATCH(ROW()-ROW($M$1),$K$2:$K$501,0)),"") | N7: =IF(COUNTIF(L$2:L7,L7)=1,L7,"") | S7: =+IF(W7="","",MAX(S$1:S6)+1) | T7: =IF(Compliance_Options!B29="","",Compliance_Options!B29) | U7: =IF(Compliance_Options!C29="","",Compliance_Options!C29) | V7: =+Lists!$T7&Lists!$U7 | W7: =IF(COUNTIF(V$2:V7,V7)=1,V7,"") | X7: =IF(Y7="","",Y7&" "&Z7) | Y7: =+IFERROR(INDEX($T$2:$T$78,MATCH(ROW()-ROW($Y$1),$S$2:$S$78,0)),"") | Z7: =+IFERROR(INDEX($U$2:$U$78,MATCH(ROW()-ROW($Y$1),$S$2:$S$78,0)),"") | AB7: =+IF(AG7="","",MAX(AB$1:AB6)+1) | AC7: =IF(Compliance_Options!B29="","",Compliance_Options!B29) | AD7: =IF(Compliance_Options!C29="","",Compliance_Options!C29) | AE7: =IF(Compliance_Options!D29="","",Compliance_Options!D29) | AF7: =+Lists!AC7&Lists!AD7&AE7 | AG7: =IF(AE7=$P$3,IF(COUNTIF(AF$2:AF7,AF7)=1,AF7,""),"") | AH7: =IF(AI7="","",AI7&" "&AJ7) | AI7: =+IFERROR(INDEX($AC$2:$AC$78,MATCH(ROW()-ROW($AH$1),$AB$2:$AB$78,0)),"") | AJ7: =+IFERROR(INDEX($AD$2:$AD$78,MATCH(ROW()-ROW($AH$1),$AB$2:$AB$78,0)),"") | AL7: =+IF(AQ7="","",MAX(AL$1:AL6)+1) | AM7: =IF(Compliance_Options!B29="","",Compliance_Options!B29) | AN7: =IF(Compliance_Options!C29="","",Compliance_Options!C29) | AO7: =IF(Compliance_Options!D29="","",Compliance_Options!D29) | AP7: =AM7&AN7&AO7 | AQ7: =IF(AO7=$P$4,IF(COUNTIF(AP$2:AP7,AP7)=1,AP7,""),"") | AR7: =IF(AS7="","",AS7&" "&AT7) | AS7: =+IFERROR(INDEX($AM$2:$AM$78,MATCH(ROW()-ROW($AR$1),$AL$2:$AL$78,0)),"") | AT7: =+IFERROR(INDEX($AN$2:$AN$78,MATCH(ROW()-ROW($AR$1),$AL$2:$AL$78,0)),"") | AV7: =+IF(BA7="","",MAX(AV$1:AV6)+1) | AW7: =IF(Compliance_Options!B29="","",Compliance_Options!B29) | AX7: =IF(Compliance_Options!C29="","",Compliance_Options!C29) | AY7: =IF(Compliance_Options!D29="","",Compliance_Options!D29) | AZ7: =AW7&AX7&AY7 | BA7: =IF(AY7=$P$5,IF(COUNTIF(AZ$2:AZ7,AZ7)=1,AZ7,""),"") | BB7: =IF(BC7="","",BC7&" "&BD7) | BC7: =+IFERROR(INDEX($AW$2:$AW$78,MATCH(ROW()-ROW($BB$1),$AV$2:$AV$78,0)),"") | BD7: =+IFERROR(INDEX($AX$2:$AX$78,MATCH(ROW()-ROW($BB$1),$AV$2:$AV$78,0)),"") | BF7: =+IF(BH7="","",MAX(BF$1:BF6)+1) | BG7: =IF(Compliance_Options!B29="","",IF(Compliance_Options!D29=$P$3,Compliance_Options!B29,"")) | BH7: =IF(COUNTIF(BG$2:BG7,BG7)=1,BG7,"") | BI7: =+IFERROR(INDEX($BG$2:$BG$78,MATCH(ROW()-ROW($BB$1),$BF$2:$BF$78,0)),"") | BK7: =+IF(BP7="","",MAX(BK$1:BK6)+1) | BL7: =IF(Compliance_Options!B29="","",Compliance_Options!B29) | BM7: =IF(Compliance_Options!C29="","",Compliance_Options!C29) | BN7: =IF(Compliance_Options!D29="","",Compliance_Options!D29) | BO7: =BL7&BM7&BN7 | BP7: =IF(OR(BN7=$P$5,BN7=$P$4),IF(COUNTIF(BO$2:BO7,BO7)=1,BO7,""),"") | BQ7: =IF(BR7="","",BR7&" "&BS7) | BR7: =+IFERROR(INDEX($BL$2:$BL$78,MATCH(ROW()-ROW($BQ$1),$BK$2:$BK$78,0)),"") | BS7: =+IFERROR(INDEX($BM$2:$BM$78,MATCH(ROW()-ROW($BQ$1),$BK$2:$BK$78,0)),"") | BU7: =+IF(BZ7="","",MAX(BU$1:BU6)+1) | BV7: =IF(With_Addon_CPMS1!B29="","",With_Addon_CPMS1!B29) | BW7: =IF(With_Addon_CPMS1!C29="","",With_Addon_CPMS1!C29) | BX7: =IF(With_Addon_CPMS1!E29="","",With_Addon_CPMS1!E29) | BY7: =BV7&BW7&BX7 | BZ7: =IF(COUNTIF(BY$1:BY7,BY7)=1,BY7,"") | CA7: =IF(CB7="","",CB7&" "&CC7&" "&CD7) | CB7: =+IFERROR(INDEX($BV$2:$BV$500,MATCH(ROW()-ROW($CA$1),$BU$2:$BU$500,0)),"") | CC7: =+IFERROR(INDEX($BW$2:$BW$500,MATCH(ROW()-ROW($CA$1),$BU$2:$BU$500,0)),"") | CD7: =+IFERROR(INDEX($BX$2:$BX$500,MATCH(ROW()-ROW($CA$1),$BU$2:$BU$500,0)),"") | CF7: =+IF(CK7="","",MAX(CF$1:CF6)+1) | CG7: =IF(With_Addon_CPMS2!N29="","",With_Addon_CPMS2!N29) | CH7: =IF(With_Addon_CPMS2!O29="","",With_Addon_CPMS2!O29) | CI7: =IF(With_Addon_CPMS2!Q29="","",With_Addon_CPMS2!Q29) | CJ7: =CG7&CH7&CI7 | CK7: =IF(COUNTIF(CJ$1:CJ7,CJ7)=1,CJ7,"") | CL7: =IF(CM7="","",CM7&" "&CN7&" "&CO7) | CM7: =+IFERROR(INDEX($CG$2:$CG$500,MATCH(ROW()-ROW($CL$1),$CF$2:$CF$500,0)),"") | CN7: =+IFERROR(INDEX($CH$2:$CH$500,MATCH(ROW()-ROW($CL$1),$CF$2:$CF$500,0)),"") | CO7: =+IFERROR(INDEX($CI$2:$CI$500,MATCH(ROW()-ROW($CL$1),$CF$2:$CF$500,0)),"") | CQ7: =+IF(CV7="","",MAX(CQ$1:CQ6)+1) | CR7: =IF(With_Addon_OpLimit!B29="","",With_Addon_OpLimit!B29) | CS7: =IF(With_Addon_OpLimit!C29="","",With_Addon_OpLimit!C29) | CT7: =IF(With_Addon_OpLimit!E29="","",With_Addon_OpLimit!E29) | CU7: =CR7&CT7 | CV7: =IF(COUNTIF(CU$1:CU7,CU7)=1,CU7,"") | CW7: =IF(CX7="","",CX7&" "&CZ7) | CX7: =+IFERROR(INDEX($CR$2:$CR$500,MATCH(ROW()-ROW($CW$1),$CQ$2:$CQ$500,0)),"") | CY7: =+IFERROR(INDEX($CS$2:$CS$500,MATCH(ROW()-ROW($CW$1),$CQ$2:$CQ$500,0)),"") | CZ7: =+IFERROR(INDEX($CT$2:$CT$500,MATCH(ROW()-ROW($CW$1),$CQ$2:$CQ$500,0)),"")
A8: =+IF(D8="","",MAX(A$1:A7)+1) | B8: =IF(Company_Information!B30="","",Company_Information!B30) | C8: =+IFERROR(INDEX($B$2:$B$11,MATCH(ROW()-ROW($C$1),$A$2:$A$11,0)),"") | D8: =IF(COUNTIF(B$2:B8,B8)=1,B8,"") | F8: =+IF(I8="","",MAX(F$1:F7)+1) | G8: =IF(Compliance_Options!C30="","",Compliance_Options!C30) | H8: =+IFERROR(INDEX($G$2:$G$101,MATCH(ROW()-ROW($H$1),$F$2:$F$101,0)),"") | I8: =IF(COUNTIF(G$2:G8,G8)=1,G8,"") | K8: =+IF(N8="","",MAX(K$1:K7)+1) | L8: =IF(With_Addon_CPMS1!E30="","",With_Addon_CPMS1!E30) | M8: =+IFERROR(INDEX($L$2:$L$501,MATCH(ROW()-ROW($M$1),$K$2:$K$501,0)),"") | N8: =IF(COUNTIF(L$2:L8,L8)=1,L8,"") | S8: =+IF(W8="","",MAX(S$1:S7)+1) | T8: =IF(Compliance_Options!B30="","",Compliance_Options!B30) | U8: =IF(Compliance_Options!C30="","",Compliance_Options!C30) | V8: =+Lists!$T8&Lists!$U8 | W8: =IF(COUNTIF(V$2:V8,V8)=1,V8,"") | X8: =IF(Y8="","",Y8&" "&Z8) | Y8: =+IFERROR(INDEX($T$2:$T$78,MATCH(ROW()-ROW($Y$1),$S$2:$S$78,0)),"") | Z8: =+IFERROR(INDEX($U$2:$U$78,MATCH(ROW()-ROW($Y$1),$S$2:$S$78,0)),"") | AB8: =+IF(AG8="","",MAX(AB$1:AB7)+1) | AC8: =IF(Compliance_Options!B30="","",Compliance_Options!B30) | AD8: =IF(Compliance_Options!C30="","",Compliance_Options!C30) | AE8: =IF(Compliance_Options!D30="","",Compliance_Options!D30) | AF8: =+Lists!AC8&Lists!AD8&AE8 | AG8: =IF(AE8=$P$3,IF(COUNTIF(AF$2:AF8,AF8)=1,AF8,""),"") | AH8: =IF(AI8="","",AI8&" "&AJ8) | AI8: =+IFERROR(INDEX($AC$2:$AC$78,MATCH(ROW()-ROW($AH$1),$AB$2:$AB$78,0)),"") | AJ8: =+IFERROR(INDEX($AD$2:$AD$78,MATCH(ROW()-ROW($AH$1),$AB$2:$AB$78,0)),"") | AL8: =+IF(AQ8="","",MAX(AL$1:AL7)+1) | AM8: =IF(Compliance_Options!B30="","",Compliance_Options!B30) | AN8: =IF(Compliance_Options!C30="","",Compliance_Options!C30) | AO8: =IF(Compliance_Options!D30="","",Compliance_Options!D30) | AP8: =AM8&AN8&AO8 | AQ8: =IF(AO8=$P$4,IF(COUNTIF(AP$2:AP8,AP8)=1,AP8,""),"") | AR8: =IF(AS8="","",AS8&" "&AT8) | AS8: =+IFERROR(INDEX($AM$2:$AM$78,MATCH(ROW()-ROW($AR$1),$AL$2:$AL$78,0)),"") | AT8: =+IFERROR(INDEX($AN$2:$AN$78,MATCH(ROW()-ROW($AR$1),$AL$2:$AL$78,0)),"") | AV8: =+IF(BA8="","",MAX(AV$1:AV7)+1) | AW8: =IF(Compliance_Options!B30="","",Compliance_Options!B30) | AX8: =IF(Compliance_Options!C30="","",Compliance_Options!C30) | AY8: =IF(Compliance_Options!D30="","",Compliance_Options!D30) | AZ8: =AW8&AX8&AY8 | BA8: =IF(AY8=$P$5,IF(COUNTIF(AZ$2:AZ8,AZ8)=1,AZ8,""),"") | BB8: =IF(BC8="","",BC8&" "&BD8) | BC8: =+IFERROR(INDEX($AW$2:$AW$78,MATCH(ROW()-ROW($BB$1),$AV$2:$AV$78,0)),"") | BD8: =+IFERROR(INDEX($AX$2:$AX$78,MATCH(ROW()-ROW($BB$1),$AV$2:$AV$78,0)),"") | BF8: =+IF(BH8="","",MAX(BF$1:BF7)+1) | BG8: =IF(Compliance_Options!B30="","",IF(Compliance_Options!D30=$P$3,Compliance_Options!B30,"")) | BH8: =IF(COUNTIF(BG$2:BG8,BG8)=1,BG8,"") | BI8: =+IFERROR(INDEX($BG$2:$BG$78,MATCH(ROW()-ROW($BB$1),$BF$2:$BF$78,0)),"") | BK8: =+IF(BP8="","",MAX(BK$1:BK7)+1) | BL8: =IF(Compliance_Options!B30="","",Compliance_Options!B30) | BM8: =IF(Compliance_Options!C30="","",Compliance_Options!C30) | BN8: =IF(Compliance_Options!D30="","",Compliance_Options!D30) | BO8: =BL8&BM8&BN8 | BP8: =IF(OR(BN8=$P$5,BN8=$P$4),IF(COUNTIF(BO$2:BO8,BO8)=1,BO8,""),"") | BQ8: =IF(BR8="","",BR8&" "&BS8) | BR8: =+IFERROR(INDEX($BL$2:$BL$78,MATCH(ROW()-ROW($BQ$1),$BK$2:$BK$78,0)),"") | BS8: =+IFERROR(INDEX($BM$2:$BM$78,MATCH(ROW()-ROW($BQ$1),$BK$2:$BK$78,0)),"") | BU8: =+IF(BZ8="","",MAX(BU$1:BU7)+1) | BV8: =IF(With_Addon_CPMS1!B30="","",With_Addon_CPMS1!B30) | BW8: =IF(With_Addon_CPMS1!C30="","",With_Addon_CPMS1!C30) | BX8: =IF(With_Addon_CPMS1!E30="","",With_Addon_CPMS1!E30) | BY8: =BV8&BW8&BX8 | BZ8: =IF(COUNTIF(BY$1:BY8,BY8)=1,BY8,"") | CA8: =IF(CB8="","",CB8&" "&CC8&" "&CD8) | CB8: =+IFERROR(INDEX($BV$2:$BV$500,MATCH(ROW()-ROW($CA$1),$BU$2:$BU$500,0)),"") | CC8: =+IFERROR(INDEX($BW$2:$BW$500,MATCH(ROW()-ROW($CA$1),$BU$2:$BU$500,0)),"") | CD8: =+IFERROR(INDEX($BX$2:$BX$500,MATCH(ROW()-ROW($CA$1),$BU$2:$BU$500,0)),"") | CF8: =+IF(CK8="","",MAX(CF$1:CF7)+1) | CG8: =IF(With_Addon_CPMS2!N30="","",With_Addon_CPMS2!N30) | CH8: =IF(With_Addon_CPMS2!O30="","",With_Addon_CPMS2!O30) | CI8: =IF(With_Addon_CPMS2!Q30="","",With_Addon_CPMS2!Q30) | CJ8: =CG8&CH8&CI8 | CK8: =IF(COUNTIF(CJ$1:CJ8,CJ8)=1,CJ8,"") | CL8: =IF(CM8="","",CM8&" "&CN8&" "&CO8) | CM8: =+IFERROR(INDEX($CG$2:$CG$500,MATCH(ROW()-ROW($CL$1),$CF$2:$CF$500,0)),"") | CN8: =+IFERROR(INDEX($CH$2:$CH$500,MATCH(ROW()-ROW($CL$1),$CF$2:$CF$500,0)),"") | CO8: =+IFERROR(INDEX($CI$2:$CI$500,MATCH(ROW()-ROW($CL$1),$CF$2:$CF$500,0)),"") | CQ8: =+IF(CV8="","",MAX(CQ$1:CQ7)+1) | CR8: =IF(With_Addon_OpLimit!B30="","",With_Addon_OpLimit!B30) | CS8: =IF(With_Addon_OpLimit!C30="","",With_Addon_OpLimit!C30) | CT8: =IF(With_Addon_OpLimit!E30="","",With_Addon_OpLimit!E30) | CU8: =CR8&CT8 | CV8: =IF(COUNTIF(CU$1:CU8,CU8)=1,CU8,"") | CW8: =IF(CX8="","",CX8&" "&CZ8) | CX8: =+IFERROR(INDEX($CR$2:$CR$500,MATCH(ROW()-ROW($CW$1),$CQ$2:$CQ$500,0)),"") | CY8: =+IFERROR(INDEX($CS$2:$CS$500,MATCH(ROW()-ROW($CW$1),$CQ$2:$CQ$500,0)),"") | CZ8: =+IFERROR(INDEX($CT$2:$CT$500,MATCH(ROW()-ROW($CW$1),$CQ$2:$CQ$500,0)),"")
A9: =+IF(D9="","",MAX(A$1:A8)+1) | B9: =IF(Company_Information!B31="","",Company_Information!B31) | C9: =+IFERROR(INDEX($B$2:$B$11,MATCH(ROW()-ROW($C$1),$A$2:$A$11,0)),"") | D9: =IF(COUNTIF(B$2:B9,B9)=1,B9,"") | F9: =+IF(I9="","",MAX(F$1:F8)+1) | G9: =IF(Compliance_Options!C31="","",Compliance_Options!C31) | H9: =+IFERROR(INDEX($G$2:$G$101,MATCH(ROW()-ROW($H$1),$F$2:$F$101,0)),"") | I9: =IF(COUNTIF(G$2:G9,G9)=1,G9,"") | K9: =+IF(N9="","",MAX(K$1:K8)+1) | L9: =IF(With_Addon_CPMS1!E31="","",With_Addon_CPMS1!E31) | M9: =+IFERROR(INDEX($L$2:$L$501,MATCH(ROW()-ROW($M$1),$K$2:$K$501,0)),"") | N9: =IF(COUNTIF(L$2:L9,L9)=1,L9,"") | S9: =+IF(W9="","",MAX(S$1:S8)+1) | T9: =IF(Compliance_Options!B31="","",Compliance_Options!B31) | U9: =IF(Compliance_Options!C31="","",Compliance_Options!C31) | V9: =+Lists!$T9&Lists!$U9 | W9: =IF(COUNTIF(V$2:V9,V9)=1,V9,"") | X9: =IF(Y9="","",Y9&" "&Z9) | Y9: =+IFERROR(INDEX($T$2:$T$78,MATCH(ROW()-ROW($Y$1),$S$2:$S$78,0)),"") | Z9: =+IFERROR(INDEX($U$2:$U$78,MATCH(ROW()-ROW($Y$1),$S$2:$S$78,0)),"") | AB9: =+IF(AG9="","",MAX(AB$1:AB8)+1) | AC9: =IF(Compliance_Options!B31="","",Compliance_Options!B31) | AD9: =IF(Compliance_Options!C31="","",Compliance_Options!C31) | AE9: =IF(Compliance_Options!D31="","",Compliance_Options!D31) | AF9: =+Lists!AC9&Lists!AD9&AE9 | AG9: =IF(AE9=$P$3,IF(COUNTIF(AF$2:AF9,AF9)=1,AF9,""),"") | AH9: =IF(AI9="","",AI9&" "&AJ9) | AI9: =+IFERROR(INDEX($AC$2:$AC$78,MATCH(ROW()-ROW($AH$1),$AB$2:$AB$78,0)),"") | AJ9: =+IFERROR(INDEX($AD$2:$AD$78,MATCH(ROW()-ROW($AH$1),$AB$2:$AB$78,0)),"") | AL9: =+IF(AQ9="","",MAX(AL$1:AL8)+1) | AM9: =IF(Compliance_Options!B31="","",Compliance_Options!B31) | AN9: =IF(Compliance_Options!C31="","",Compliance_Options!C31) | AO9: =IF(Compliance_Options!D31="","",Compliance_Options!D31) | AP9: =AM9&AN9&AO9 | AQ9: =IF(AO9=$P$4,IF(COUNTIF(AP$2:AP9,AP9)=1,AP9,""),"") | AR9: =IF(AS9="","",AS9&" "&AT9) | AS9: =+IFERROR(INDEX($AM$2:$AM$78,MATCH(ROW()-ROW($AR$1),$AL$2:$AL$78,0)),"") | AT9: =+IFERROR(INDEX($AN$2:$AN$78,MATCH(ROW()-ROW($AR$1),$AL$2:$AL$78,0)),"") | AV9: =+IF(BA9="","",MAX(AV$1:AV8)+1) | AW9: =IF(Compliance_Options!B31="","",Compliance_Options!B31) | AX9: =IF(Compliance_Options!C31="","",Compliance_Options!C31) | AY9: =IF(Compliance_Options!D31="","",Compliance_Options!D31) | AZ9: =AW9&AX9&AY9 | BA9: =IF(AY9=$P$5,IF(COUNTIF(AZ$2:AZ9,AZ9)=1,AZ9,""),"") | BB9: =IF(BC9="","",BC9&" "&BD9) | BC9: =+IFERROR(INDEX($AW$2:$AW$78,MATCH(ROW()-ROW($BB$1),$AV$2:$AV$78,0)),"") | BD9: =+IFERROR(INDEX($AX$2:$AX$78,MATCH(ROW()-ROW($BB$1),$AV$2:$AV$78,0)),"") | BF9: =+IF(BH9="","",MAX(BF$1:BF8)+1) | BG9: =IF(Compliance_Options!B31="","",IF(Compliance_Options!D31=$P$3,Compliance_Options!B31,"")) | BH9: =IF(COUNTIF(BG$2:BG9,BG9)=1,BG9,"") | BI9: =+IFERROR(INDEX($BG$2:$BG$78,MATCH(ROW()-ROW($BB$1),$BF$2:$BF$78,0)),"") | BK9: =+IF(BP9="","",MAX(BK$1:BK8)+1) | BL9: =IF(Compliance_Options!B31="","",Compliance_Options!B31) | BM9: =IF(Compliance_Options!C31="","",Compliance_Options!C31) | BN9: =IF(Compliance_Options!D31="","",Compliance_Options!D31) | BO9: =BL9&BM9&BN9 | BP9: =IF(OR(BN9=$P$5,BN9=$P$4),IF(COUNTIF(BO$2:BO9,BO9)=1,BO9,""),"") | BQ9: =IF(BR9="","",BR9&" "&BS9) | BR9: =+IFERROR(INDEX($BL$2:$BL$78,MATCH(ROW()-ROW($BQ$1),$BK$2:$BK$78,0)),"") | BS9: =+IFERROR(INDEX($BM$2:$BM$78,MATCH(ROW()-ROW($BQ$1),$BK$2:$BK$78,0)),"") | BU9: =+IF(BZ9="","",MAX(BU$1:BU8)+1) | BV9: =IF(With_Addon_CPMS1!B31="","",With_Addon_CPMS1!B31) | BW9: =IF(With_Addon_CPMS1!C31="","",With_Addon_CPMS1!C31) | BX9: =IF(With_Addon_CPMS1!E31="","",With_Addon_CPMS1!E31) | BY9: =BV9&BW9&BX9 | BZ9: =IF(COUNTIF(BY$1:BY9,BY9)=1,BY9,"") | CA9: =IF(CB9="","",CB9&" "&CC9&" "&CD9) | CB9: =+IFERROR(INDEX($BV$2:$BV$500,MATCH(ROW()-ROW($CA$1),$BU$2:$BU$500,0)),"") | CC9: =+IFERROR(INDEX($BW$2:$BW$500,MATCH(ROW()-ROW($CA$1),$BU$2:$BU$500,0)),"") | CD9: =+IFERROR(INDEX($BX$2:$BX$500,MATCH(ROW()-ROW($CA$1),$BU$2:$BU$500,0)),"") | CF9: =+IF(CK9="","",MAX(CF$1:CF8)+1) | CG9: =IF(With_Addon_CPMS2!N31="","",With_Addon_CPMS2!N31) | CH9: =IF(With_Addon_CPMS2!O31="","",With_Addon_CPMS2!O31) | CI9: =IF(With_Addon_CPMS2!Q31="","",With_Addon_CPMS2!Q31) | CJ9: =CG9&CH9&CI9 | CK9: =IF(COUNTIF(CJ$1:CJ9,CJ9)=1,CJ9,"") | CL9: =IF(CM9="","",CM9&" "&CN9&" "&CO9) | CM9: =+IFERROR(INDEX($CG$2:$CG$500,MATCH(ROW()-ROW($CL$1),$CF$2:$CF$500,0)),"") | CN9: =+IFERROR(INDEX($CH$2:$CH$500,MATCH(ROW()-ROW($CL$1),$CF$2:$CF$500,0)),"") | CO9: =+IFERROR(INDEX($CI$2:$CI$500,MATCH(ROW()-ROW($CL$1),$CF$2:$CF$500,0)),"") | CQ9: =+IF(CV9="","",MAX(CQ$1:CQ8)+1) | CR9: =IF(With_Addon_OpLimit!B31="","",With_Addon_OpLimit!B31) | CS9: =IF(With_Addon_OpLimit!C31="","",With_Addon_OpLimit!C31) | CT9: =IF(With_Addon_OpLimit!E31="","",With_Addon_OpLimit!E31) | CU9: =CR9&CT9 | CV9: =IF(COUNTIF(CU$1:CU9,CU9)=1,CU9,"") | CW9: =IF(CX9="","",CX9&" "&CZ9) | CX9: =+IFERROR(INDEX($CR$2:$CR$500,MATCH(ROW()-ROW($CW$1),$CQ$2:$CQ$500,0)),"") | CY9: =+IFERROR(INDEX($CS$2:$CS$500,MATCH(ROW()-ROW($CW$1),$CQ$2:$CQ$500,0)),"") | CZ9: =+IFERROR(INDEX($CT$2:$CT$500,MATCH(ROW()-ROW($CW$1),$CQ$2:$CQ$500,0)),"")
A10: =+IF(D10="","",MAX(A$1:A9)+1) | B10: =IF(Company_Information!B32="","",Company_Information!B32) | C10: =+IFERROR(INDEX($B$2:$B$11,MATCH(ROW()-ROW($C$1),$A$2:$A$11,0)),"") | D10: =IF(COUNTIF(B$2:B10,B10)=1,B10,"") | F10: =+IF(I10="","",MAX(F$1:F9)+1) | G10: =IF(Compliance_Options!C32="","",Compliance_Options!C32) | H10: =+IFERROR(INDEX($G$2:$G$101,MATCH(ROW()-ROW($H$1),$F$2:$F$101,0)),"") | I10: =IF(COUNTIF(G$2:G10,G10)=1,G10,"") | K10: =+IF(N10="","",MAX(K$1:K9)+1) | L10: =IF(With_Addon_CPMS1!E32="","",With_Addon_CPMS1!E32) | M10: =+IFERROR(INDEX($L$2:$L$501,MATCH(ROW()-ROW($M$1),$K$2:$K$501,0)),"") | N10: =IF(COUNTIF(L$2:L10,L10)=1,L10,"") | P10: Deviation Causes | S10: =+IF(W10="","",MAX(S$1:S9)+1) | T10: =IF(Compliance_Options!B32="","",Compliance_Options!B32) | U10: =IF(Compliance_Options!C32="","",Compliance_Options!C32) | V10: =+Lists!$T10&Lists!$U10 | W10: =IF(COUNTIF(V$2:V10,V10)=1,V10,"") | X10: =IF(Y10="","",Y10&" "&Z10) | Y10: =+IFERROR(INDEX($T$2:$T$78,MATCH(ROW()-ROW($Y$1),$S$2:$S$78,0)),"") | Z10: =+IFERROR(INDEX($U$2:$U$78,MATCH(ROW()-ROW($Y$1),$S$2:$S$78,0)),"") | AB10: =+IF(AG10="","",MAX(AB$1:AB9)+1) | AC10: =IF(Compliance_Options!B32="","",Compliance_Options!B32) | AD10: =IF(Compliance_Options!C32="","",Compliance_Options!C32) | AE10: =IF(Compliance_Options!D32="","",Compliance_Options!D32) | AF10: =+Lists!AC10&Lists!AD10&AE10 | AG10: =IF(AE10=$P$3,IF(COUNTIF(AF$2:AF10,AF10)=1,AF10,""),"") | AH10: =IF(AI10="","",AI10&" "&AJ10) | AI10: =+IFERROR(INDEX($AC$2:$AC$78,MATCH(ROW()-ROW($AH$1),$AB$2:$AB$78,0)),"") | AJ10: =+IFERROR(INDEX($AD$2:$AD$78,MATCH(ROW()-ROW($AH$1),$AB$2:$AB$78,0)),"") | AL10: =+IF(AQ10="","",MAX(AL$1:AL9)+1) | AM10: =IF(Compliance_Options!B32="","",Compliance_Options!B32) | AN10: =IF(Compliance_Options!C32="","",Compliance_Options!C32) | AO10: =IF(Compliance_Options!D32="","",Compliance_Options!D32) | AP10: =AM10&AN10&AO10 | AQ10: =IF(AO10=$P$4,IF(COUNTIF(AP$2:AP10,AP10)=1,AP10,""),"") | AR10: =IF(AS10="","",AS10&" "&AT10) | AS10: =+IFERROR(INDEX($AM$2:$AM$78,MATCH(ROW()-ROW($AR$1),$AL$2:$AL$78,0)),"") | AT10: =+IFERROR(INDEX($AN$2:$AN$78,MATCH(ROW()-ROW($AR$1),$AL$2:$AL$78,0)),"") | AV10: =+IF(BA10="","",MAX(AV$1:AV9)+1) | AW10: =IF(Compliance_Options!B32="","",Compliance_Options!B32) | AX10: =IF(Compliance_Options!C32="","",Compliance_Options!C32) | AY10: =IF(Compliance_Options!D32="","",Compliance_Options!D32) | AZ10: =AW10&AX10&AY10 | BA10: =IF(AY10=$P$5,IF(COUNTIF(AZ$2:AZ10,AZ10)=1,AZ10,""),"") | BB10: =IF(BC10="","",BC10&" "&BD10) | BC10: =+IFERROR(INDEX($AW$2:$AW$78,MATCH(ROW()-ROW($BB$1),$AV$2:$AV$78,0)),"") | BD10: =+IFERROR(INDEX($AX$2:$AX$78,MATCH(ROW()-ROW($BB$1),$AV$2:$AV$78,0)),"") | BF10: =+IF(BH10="","",MAX(BF$1:BF9)+1) | BG10: =IF(Compliance_Options!B32="","",IF(Compliance_Options!D32=$P$3,Compliance_Options!B32,"")) | BH10: =IF(COUNTIF(BG$2:BG10,BG10)=1,BG10,"") | BI10: =+IFERROR(INDEX($BG$2:$BG$78,MATCH(ROW()-ROW($BB$1),$BF$2:$BF$78,0)),"") | BK10: =+IF(BP10="","",MAX(BK$1:BK9)+1) | BL10: =IF(Compliance_Options!B32="","",Compliance_Options!B32) | BM10: =IF(Compliance_Options!C32="","",Compliance_Options!C32) | BN10: =IF(Compliance_Options!D32="","",Compliance_Options!D32) | BO10: =BL10&BM10&BN10 | BP10: =IF(OR(BN10=$P$5,BN10=$P$4),IF(COUNTIF(BO$2:BO10,BO10)=1,BO10,""),"") | BQ10: =IF(BR10="","",BR10&" "&BS10) | BR10: =+IFERROR(INDEX($BL$2:$BL$78,MATCH(ROW()-ROW($BQ$1),$BK$2:$BK$78,0)),"") | BS10: =+IFERROR(INDEX($BM$2:$BM$78,MATCH(ROW()-ROW($BQ$1),$BK$2:$BK$78,0)),"") | BU10: =+IF(BZ10="","",MAX(BU$1:BU9)+1) | BV10: =IF(With_Addon_CPMS1!B32="","",With_Addon_CPMS1!B32) | BW10: =IF(With_Addon_CPMS1!C32="","",With_Addon_CPMS1!C32) | BX10: =IF(With_Addon_CPMS1!E32="","",With_Addon_CPMS1!E32) | BY10: =BV10&BW10&BX10 | BZ10: =IF(COUNTIF(BY$1:BY10,BY10)=1,BY10,"") | CA10: =IF(CB10="","",CB10&" "&CC10&" "&CD10) | CB10: =+IFERROR(INDEX($BV$2:$BV$500,MATCH(ROW()-ROW($CA$1),$BU$2:$BU$500,0)),"") | CC10: =+IFERROR(INDEX($BW$2:$BW$500,MATCH(ROW()-ROW($CA$1),$BU$2:$BU$500,0)),"") | CD10: =+IFERROR(INDEX($BX$2:$BX$500,MATCH(ROW()-ROW($CA$1),$BU$2:$BU$500,0)),"") | CF10: =+IF(CK10="","",MAX(CF$1:CF9)+1) | CG10: =IF(With_Addon_CPMS2!N32="","",With_Addon_CPMS2!N32) | CH10: =IF(With_Addon_CPMS2!O32="","",With_Addon_CPMS2!O32) | CI10: =IF(With_Addon_CPMS2!Q32="","",With_Addon_CPMS2!Q32) | CJ10: =CG10&CH10&CI10 | CK10: =IF(COUNTIF(CJ$1:CJ10,CJ10)=1,CJ10,"") | CL10: =IF(CM10="","",CM10&" "&CN10&" "&CO10) | CM10: =+IFERROR(INDEX($CG$2:$CG$500,MATCH(ROW()-ROW($CL$1),$CF$2:$CF$500,0)),"") | CN10: =+IFERROR(INDEX($CH$2:$CH$500,MATCH(ROW()-ROW($CL$1),$CF$2:$CF$500,0)),"") | CO10: =+IFERROR(INDEX($CI$2:$CI$500,MATCH(ROW()-ROW($CL$1),$CF$2:$CF$500,0)),"") | CQ10: =+IF(CV10="","",MAX(CQ$1:CQ9)+1) | CR10: =IF(With_Addon_OpLimit!B32="","",With_Addon_OpLimit!B32) | CS10: =IF(With_Addon_OpLimit!C32="","",With_Addon_OpLimit!C32) | CT10: =IF(With_Addon_OpLimit!E32="","",With_Addon_OpLimit!E32) | CU10: =CR10&CT10 | CV10: =IF(COUNTIF(CU$1:CU10,CU10)=1,CU10,"") | CW10: =IF(CX10="","",CX10&" "&CZ10) | CX10: =+IFERROR(INDEX($CR$2:$CR$500,MATCH(ROW()-ROW($CW$1),$CQ$2:$CQ$500,0)),"") | CY10: =+IFERROR(INDEX($CS$2:$CS$500,MATCH(ROW()-ROW($CW$1),$CQ$2:$CQ$500,0)),"") | CZ10: =+IFERROR(INDEX($CT$2:$CT$500,MATCH(ROW()-ROW($CW$1),$CQ$2:$CQ$500,0)),"")
A11: =+IF(D11="","",MAX(A$1:A10)+1) | B11: =IF(Company_Information!B33="","",Company_Information!B33) | C11: =+IFERROR(INDEX($B$2:$B$11,MATCH(ROW()-ROW($C$1),$A$2:$A$11,0)),"") | D11: =IF(COUNTIF(B$2:B11,B11)=1,B11,"") | F11: =+IF(I11="","",MAX(F$1:F10)+1) | G11: =IF(Compliance_Options!C33="","",Compliance_Options!C33) | H11: =+IFERROR(INDEX($G$2:$G$101,MATCH(ROW()-ROW($H$1),$F$2:$F$101,0)),"") | I11: =IF(COUNTIF(G$2:G11,G11)=1,G11,"") | K11: =+IF(N11="","",MAX(K$1:K10)+1) | L11: =IF(With_Addon_CPMS1!E33="","",With_Addon_CPMS1!E33) | M11: =+IFERROR(INDEX($L$2:$L$501,MATCH(ROW()-ROW($M$1),$K$2:$K$501,0)),"") | N11: =IF(COUNTIF(L$2:L11,L11)=1,L11,"") | P11: Control Equipment Problems | S11: =+IF(W11="","",MAX(S$1:S10)+1) | T11: =IF(Compliance_Options!B33="","",Compliance_Options!B33) | U11: =IF(Compliance_Options!C33="","",Compliance_Options!C33) | V11: =+Lists!$T11&Lists!$U11 | W11: =IF(COUNTIF(V$2:V11,V11)=1,V11,"") | X11: =IF(Y11="","",Y11&" "&Z11) | Y11: =+IFERROR(INDEX($T$2:$T$78,MATCH(ROW()-ROW($Y$1),$S$2:$S$78,0)),"") | Z11: =+IFERROR(INDEX($U$2:$U$78,MATCH(ROW()-ROW($Y$1),$S$2:$S$78,0)),"") | AB11: =+IF(AG11="","",MAX(AB$1:AB10)+1) | AC11: =IF(Compliance_Options!B33="","",Compliance_Options!B33) | AD11: =IF(Compliance_Options!C33="","",Compliance_Options!C33) | AE11: =IF(Compliance_Options!D33="","",Compliance_Options!D33) | AF11: =+Lists!AC11&Lists!AD11&AE11 | AG11: =IF(AE11=$P$3,IF(COUNTIF(AF$2:AF11,AF11)=1,AF11,""),"") | AH11: =IF(AI11="","",AI11&" "&AJ11) | AI11: =+IFERROR(INDEX($AC$2:$AC$78,MATCH(ROW()-ROW($AH$1),$AB$2:$AB$78,0)),"") | AJ11: =+IFERROR(INDEX($AD$2:$AD$78,MATCH(ROW()-ROW($AH$1),$AB$2:$AB$78,0)),"") | AL11: =+IF(AQ11="","",MAX(AL$1:AL10)+1) | AM11: =IF(Compliance_Options!B33="","",Compliance_Options!B33) | AN11: =IF(Compliance_Options!C33="","",Compliance_Options!C33) | AO11: =IF(Compliance_Options!D33="","",Compliance_Options!D33) | AP11: =AM11&AN11&AO11 | AQ11: =IF(AO11=$P$4,IF(COUNTIF(AP$2:AP11,AP11)=1,AP11,""),"") | AR11: =IF(AS11="","",AS11&" "&AT11) | AS11: =+IFERROR(INDEX($AM$2:$AM$78,MATCH(ROW()-ROW($AR$1),$AL$2:$AL$78,0)),"") | AT11: =+IFERROR(INDEX($AN$2:$AN$78,MATCH(ROW()-ROW($AR$1),$AL$2:$AL$78,0)),"") | AV11: =+IF(BA11="","",MAX(AV$1:AV10)+1) | AW11: =IF(Compliance_Options!B33="","",Compliance_Options!B33) | AX11: =IF(Compliance_Options!C33="","",Compliance_Options!C33) | AY11: =IF(Compliance_Options!D33="","",Compliance_Options!D33) | AZ11: =AW11&AX11&AY11 | BA11: =IF(AY11=$P$5,IF(COUNTIF(AZ$2:AZ11,AZ11)=1,AZ11,""),"") | BB11: =IF(BC11="","",BC11&" "&BD11) | BC11: =+IFERROR(INDEX($AW$2:$AW$78,MATCH(ROW()-ROW($BB$1),$AV$2:$AV$78,0)),"") | BD11: =+IFERROR(INDEX($AX$2:$AX$78,MATCH(ROW()-ROW($BB$1),$AV$2:$AV$78,0)),"") | BF11: =+IF(BH11="","",MAX(BF$1:BF10)+1) | BG11: =IF(Compliance_Options!B33="","",IF(Compliance_Options!D33=$P$3,Compliance_Options!B33,"")) | BH11: =IF(COUNTIF(BG$2:BG11,BG11)=1,BG11,"") | BI11: =+IFERROR(INDEX($BG$2:$BG$78,MATCH(ROW()-ROW($BB$1),$BF$2:$BF$78,0)),"") | BK11: =+IF(BP11="","",MAX(BK$1:BK10)+1) | BL11: =IF(Compliance_Options!B33="","",Compliance_Options!B33) | BM11: =IF(Compliance_Options!C33="","",Compliance_Options!C33) | BN11: =IF(Compliance_Options!D33="","",Compliance_Options!D33) | BO11: =BL11&BM11&BN11 | BP11: =IF(OR(BN11=$P$5,BN11=$P$4),IF(COUNTIF(BO$2:BO11,BO11)=1,BO11,""),"") | BQ11: =IF(BR11="","",BR11&" "&BS11) | BR11: =+IFERROR(INDEX($BL$2:$BL$78,MATCH(ROW()-ROW($BQ$1),$BK$2:$BK$78,0)),"") | BS11: =+IFERROR(INDEX($BM$2:$BM$78,MATCH(ROW()-ROW($BQ$1),$BK$2:$BK$78,0)),"") | BU11: =+IF(BZ11="","",MAX(BU$1:BU10)+1) | BV11: =IF(With_Addon_CPMS1!B33="","",With_Addon_CPMS1!B33) | BW11: =IF(With_Addon_CPMS1!C33="","",With_Addon_CPMS1!C33) | BX11: =IF(With_Addon_CPMS1!E33="","",With_Addon_CPMS1!E33) | BY11: =BV11&BW11&BX11 | BZ11: =IF(COUNTIF(BY$1:BY11,BY11)=1,BY11,"") | CA11: =IF(CB11="","",CB11&" "&CC11&" "&CD11) | CB11: =+IFERROR(INDEX($BV$2:$BV$500,MATCH(ROW()-ROW($CA$1),$BU$2:$BU$500,0)),"") | CC11: =+IFERROR(INDEX($BW$2:$BW$500,MATCH(ROW()-ROW($CA$1),$BU$2:$BU$500,0)),"") | CD11: =+IFERROR(INDEX($BX$2:$BX$500,MATCH(ROW()-ROW($CA$1),$BU$2:$BU$500,0)),"") | CF11: =+IF(CK11="","",MAX(CF$1:CF10)+1) | CG11: =IF(With_Addon_CPMS2!N33="","",With_Addon_CPMS2!N33) | CH11: =IF(With_Addon_CPMS2!O33="","",With_Addon_CPMS2!O33) | CI11: =IF(With_Addon_CPMS2!Q33="","",With_Addon_CPMS2!Q33) | CJ11: =CG11&CH11&CI11 | CK11: =IF(COUNTIF(CJ$1:CJ11,CJ11)=1,CJ11,"") | CL11: =IF(CM11="","",CM11&" "&CN11&" "&CO11) | CM11: =+IFERROR(INDEX($CG$2:$CG$500,MATCH(ROW()-ROW($CL$1),$CF$2:$CF$500,0)),"") | CN11: =+IFERROR(INDEX($CH$2:$CH$500,MATCH(ROW()-ROW($CL$1),$CF$2:$CF$500,0)),"") | CO11: =+IFERROR(INDEX($CI$2:$CI$500,MATCH(ROW()-ROW($CL$1),$CF$2:$CF$500,0)),"") | CQ11: =+IF(CV11="","",MAX(CQ$1:CQ10)+1) | CR11: =IF(With_Addon_OpLimit!B33="","",With_Addon_OpLimit!B33) | CS11: =IF(With_Addon_OpLimit!C33="","",With_Addon_OpLimit!C33) | CT11: =IF(With_Addon_OpLimit!E33="","",With_Addon_OpLimit!E33) | CU11: =CR11&CT11 | CV11: =IF(COUNTIF(CU$1:CU11,CU11)=1,CU11,"") | CW11: =IF(CX11="","",CX11&" "&CZ11) | CX11: =+IFERROR(INDEX($CR$2:$CR$500,MATCH(ROW()-ROW($CW$1),$CQ$2:$CQ$500,0)),"") | CY11: =+IFERROR(INDEX($CS$2:$CS$500,MATCH(ROW()-ROW($CW$1),$CQ$2:$CQ$500,0)),"") | CZ11: =+IFERROR(INDEX($CT$2:$CT$500,MATCH(ROW()-ROW($CW$1),$CQ$2:$CQ$500,0)),"")
F12: =+IF(I12="","",MAX(F$1:F11)+1) | G12: =IF(Compliance_Options!C34="","",Compliance_Options!C34) | H12: =+IFERROR(INDEX($G$2:$G$101,MATCH(ROW()-ROW($H$1),$F$2:$F$101,0)),"") | I12: =IF(COUNTIF(G$2:G12,G12)=1,G12,"") | K12: =+IF(N12="","",MAX(K$1:K11)+1) | L12: =IF(With_Addon_CPMS1!E34="","",With_Addon_CPMS1!E34) | M12: =+IFERROR(INDEX($L$2:$L$501,MATCH(ROW()-ROW($M$1),$K$2:$K$501,0)),"") | N12: =IF(COUNTIF(L$2:L12,L12)=1,L12,"") | P12: Process Problems | S12: =+IF(W12="","",MAX(S$1:S11)+1) | T12: =IF(Compliance_Options!B34="","",Compliance_Options!B34) | U12: =IF(Compliance_Options!C34="","",Compliance_Options!C34) | V12: =+Lists!$T12&Lists!$U12 | W12: =IF(COUNTIF(V$2:V12,V12)=1,V12,"") | X12: =IF(Y12="","",Y12&" "&Z12) | Y12: =+IFERROR(INDEX($T$2:$T$78,MATCH(ROW()-ROW($Y$1),$S$2:$S$78,0)),"") | Z12: =+IFERROR(INDEX($U$2:$U$78,MATCH(ROW()-ROW($Y$1),$S$2:$S$78,0)),"") | AB12: =+IF(AG12="","",MAX(AB$1:AB11)+1) | AC12: =IF(Compliance_Options!B34="","",Compliance_Options!B34) | AD12: =IF(Compliance_Options!C34="","",Compliance_Options!C34) | AE12: =IF(Compliance_Options!D34="","",Compliance_Options!D34) | AF12: =+Lists!AC12&Lists!AD12&AE12 | AG12: =IF(AE12=$P$3,IF(COUNTIF(AF$2:AF12,AF12)=1,AF12,""),"") | AH12: =IF(AI12="","",AI12&" "&AJ12) | AI12: =+IFERROR(INDEX($AC$2:$AC$78,MATCH(ROW()-ROW($AH$1),$AB$2:$AB$78,0)),"") | AJ12: =+IFERROR(INDEX($AD$2:$AD$78,MATCH(ROW()-ROW($AH$1),$AB$2:$AB$78,0)),"") | AL12: =+IF(AQ12="","",MAX(AL$1:AL11)+1) | AM12: =IF(Compliance_Options!B34="","",Compliance_Options!B34) | AN12: =IF(Compliance_Options!C34="","",Compliance_Options!C34) | AO12: =IF(Compliance_Options!D34="","",Compliance_Options!D34) | AP12: =AM12&AN12&AO12 | AQ12: =IF(AO12=$P$4,IF(COUNTIF(AP$2:AP12,AP12)=1,AP12,""),"") | AR12: =IF(AS12="","",AS12&" "&AT12) | AS12: =+IFERROR(INDEX($AM$2:$AM$78,MATCH(ROW()-ROW($AR$1),$AL$2:$AL$78,0)),"") | AT12: =+IFERROR(INDEX($AN$2:$AN$78,MATCH(ROW()-ROW($AR$1),$AL$2:$AL$78,0)),"") | AV12: =+IF(BA12="","",MAX(AV$1:AV11)+1) | AW12: =IF(Compliance_Options!B34="","",Compliance_Options!B34) | AX12: =IF(Compliance_Options!C34="","",Compliance_Options!C34) | AY12: =IF(Compliance_Options!D34="","",Compliance_Options!D34) | AZ12: =AW12&AX12&AY12 | BA12: =IF(AY12=$P$5,IF(COUNTIF(AZ$2:AZ12,AZ12)=1,AZ12,""),"") | BB12: =IF(BC12="","",BC12&" "&BD12) | BC12: =+IFERROR(INDEX($AW$2:$AW$78,MATCH(ROW()-ROW($BB$1),$AV$2:$AV$78,0)),"") | BD12: =+IFERROR(INDEX($AX$2:$AX$78,MATCH(ROW()-ROW($BB$1),$AV$2:$AV$78,0)),"") | BF12: =+IF(BH12="","",MAX(BF$1:BF11)+1) | BG12: =IF(Compliance_Options!B34="","",IF(Compliance_Options!D34=$P$3,Compliance_Options!B34,"")) | BH12: =IF(COUNTIF(BG$2:BG12,BG12)=1,BG12,"") | BI12: =+IFERROR(INDEX($BG$2:$BG$78,MATCH(ROW()-ROW($BB$1),$BF$2:$BF$78,0)),"") | BK12: =+IF(BP12="","",MAX(BK$1:BK11)+1) | BL12: =IF(Compliance_Options!B34="","",Compliance_Options!B34) | BM12: =IF(Compliance_Options!C34="","",Compliance_Options!C34) | BN12: =IF(Compliance_Options!D34="","",Compliance_Options!D34) | BO12: =BL12&BM12&BN12 | BP12: =IF(OR(BN12=$P$5,BN12=$P$4),IF(COUNTIF(BO$2:BO12,BO12)=1,BO12,""),"") | BQ12: =IF(BR12="","",BR12&" "&BS12) | BR12: =+IFERROR(INDEX($BL$2:$BL$78,MATCH(ROW()-ROW($BQ$1),$BK$2:$BK$78,0)),"") | BS12: =+IFERROR(INDEX($BM$2:$BM$78,MATCH(ROW()-ROW($BQ$1),$BK$2:$BK$78,0)),"") | BU12: =+IF(BZ12="","",MAX(BU$1:BU11)+1) | BV12: =IF(With_Addon_CPMS1!B34="","",With_Addon_CPMS1!B34) | BW12: =IF(With_Addon_CPMS1!C34="","",With_Addon_CPMS1!C34) | BX12: =IF(With_Addon_CPMS1!E34="","",With_Addon_CPMS1!E34) | BY12: =BV12&BW12&BX12 | BZ12: =IF(COUNTIF(BY$1:BY12,BY12)=1,BY12,"") | CA12: =IF(CB12="","",CB12&" "&CC12&" "&CD12) | CB12: =+IFERROR(INDEX($BV$2:$BV$500,MATCH(ROW()-ROW($CA$1),$BU$2:$BU$500,0)),"") | CC12: =+IFERROR(INDEX($BW$2:$BW$500,MATCH(ROW()-ROW($CA$1),$BU$2:$BU$500,0)),"") | CD12: =+IFERROR(INDEX($BX$2:$BX$500,MATCH(ROW()-ROW($CA$1),$BU$2:$BU$500,0)),"") | CF12: =+IF(CK12="","",MAX(CF$1:CF11)+1) | CG12: =IF(With_Addon_CPMS2!N34="","",With_Addon_CPMS2!N34) | CH12: =IF(With_Addon_CPMS2!O34="","",With_Addon_CPMS2!O34) | CI12: =IF(With_Addon_CPMS2!Q34="","",With_Addon_CPMS2!Q34) | CJ12: =CG12&CH12&CI12 | CK12: =IF(COUNTIF(CJ$1:CJ12,CJ12)=1,CJ12,"") | CL12: =IF(CM12="","",CM12&" "&CN12&" "&CO12) | CM12: =+IFERROR(INDEX($CG$2:$CG$500,MATCH(ROW()-ROW($CL$1),$CF$2:$CF$500,0)),"") | CN12: =+IFERROR(INDEX($CH$2:$CH$500,MATCH(ROW()-ROW($CL$1),$CF$2:$CF$500,0)),"") | CO12: =+IFERROR(INDEX($CI$2:$CI$500,MATCH(ROW()-ROW($CL$1),$CF$2:$CF$500,0)),"") | CQ12: =+IF(CV12="","",MAX(CQ$1:CQ11)+1) | CR12: =IF(With_Addon_OpLimit!B34="","",With_Addon_OpLimit!B34) | CS12: =IF(With_Addon_OpLimit!C34="","",With_Addon_OpLimit!C34) | CT12: =IF(With_Addon_OpLimit!E34="","",With_Addon_OpLimit!E34) | CU12: =CR12&CT12 | CV12: =IF(COUNTIF(CU$1:CU12,CU12)=1,CU12,"") | CW12: =IF(CX12="","",CX12&" "&CZ12) | CX12: =+IFERROR(INDEX($CR$2:$CR$500,MATCH(ROW()-ROW($CW$1),$CQ$2:$CQ$500,0)),"") | CY12: =+IFERROR(INDEX($CS$2:$CS$500,MATCH(ROW()-ROW($CW$1),$CQ$2:$CQ$500,0)),"") | CZ12: =+IFERROR(INDEX($CT$2:$CT$500,MATCH(ROW()-ROW($CW$1),$CQ$2:$CQ$500,0)),"")
F13: =+IF(I13="","",MAX(F$1:F12)+1) | G13: =IF(Compliance_Options!C35="","",Compliance_Options!C35) | H13: =+IFERROR(INDEX($G$2:$G$101,MATCH(ROW()-ROW($H$1),$F$2:$F$101,0)),"") | I13: =IF(COUNTIF(G$2:G13,G13)=1,G13,"") | K13: =+IF(N13="","",MAX(K$1:K12)+1) | L13: =IF(With_Addon_CPMS1!E35="","",With_Addon_CPMS1!E35) | M13: =+IFERROR(INDEX($L$2:$L$501,MATCH(ROW()-ROW($M$1),$K$2:$K$501,0)),"") | N13: =IF(COUNTIF(L$2:L13,L13)=1,L13,"") | P13: Other Known Causes | S13: =+IF(W13="","",MAX(S$1:S12)+1) | T13: =IF(Compliance_Options!B35="","",Compliance_Options!B35) | U13: =IF(Compliance_Options!C35="","",Compliance_Options!C35) | V13: =+Lists!$T13&Lists!$U13 | W13: =IF(COUNTIF(V$2:V13,V13)=1,V13,"") | X13: =IF(Y13="","",Y13&" "&Z13) | Y13: =+IFERROR(INDEX($T$2:$T$78,MATCH(ROW()-ROW($Y$1),$S$2:$S$78,0)),"") | Z13: =+IFERROR(INDEX($U$2:$U$78,MATCH(ROW()-ROW($Y$1),$S$2:$S$78,0)),"") | AB13: =+IF(AG13="","",MAX(AB$1:AB12)+1) | AC13: =IF(Compliance_Options!B35="","",Compliance_Options!B35) | AD13: =IF(Compliance_Options!C35="","",Compliance_Options!C35) | AE13: =IF(Compliance_Options!D35="","",Compliance_Options!D35) | AF13: =+Lists!AC13&Lists!AD13&AE13 | AG13: =IF(AE13=$P$3,IF(COUNTIF(AF$2:AF13,AF13)=1,AF13,""),"") | AH13: =IF(AI13="","",AI13&" "&AJ13) | AI13: =+IFERROR(INDEX($AC$2:$AC$78,MATCH(ROW()-ROW($AH$1),$AB$2:$AB$78,0)),"") | AJ13: =+IFERROR(INDEX($AD$2:$AD$78,MATCH(ROW()-ROW($AH$1),$AB$2:$AB$78,0)),"") | AL13: =+IF(AQ13="","",MAX(AL$1:AL12)+1) | AM13: =IF(Compliance_Options!B35="","",Compliance_Options!B35) | AN13: =IF(Compliance_Options!C35="","",Compliance_Options!C35) | AO13: =IF(Compliance_Options!D35="","",Compliance_Options!D35) | AP13: =AM13&AN13&AO13 | AQ13: =IF(AO13=$P$4,IF(COUNTIF(AP$2:AP13,AP13)=1,AP13,""),"") | AR13: =IF(AS13="","",AS13&" "&AT13) | AS13: =+IFERROR(INDEX($AM$2:$AM$78,MATCH(ROW()-ROW($AR$1),$AL$2:$AL$78,0)),"") | AT13: =+IFERROR(INDEX($AN$2:$AN$78,MATCH(ROW()-ROW($AR$1),$AL$2:$AL$78,0)),"") | AV13: =+IF(BA13="","",MAX(AV$1:AV12)+1) | AW13: =IF(Compliance_Options!B35="","",Compliance_Options!B35) | AX13: =IF(Compliance_Options!C35="","",Compliance_Options!C35) | AY13: =IF(Compliance_Options!D35="","",Compliance_Options!D35) | AZ13: =AW13&AX13&AY13 | BA13: =IF(AY13=$P$5,IF(COUNTIF(AZ$2:AZ13,AZ13)=1,AZ13,""),"") | BB13: =IF(BC13="","",BC13&" "&BD13) | BC13: =+IFERROR(INDEX($AW$2:$AW$78,MATCH(ROW()-ROW($BB$1),$AV$2:$AV$78,0)),"") | BD13: =+IFERROR(INDEX($AX$2:$AX$78,MATCH(ROW()-ROW($BB$1),$AV$2:$AV$78,0)),"") | BF13: =+IF(BH13="","",MAX(BF$1:BF12)+1) | BG13: =IF(Compliance_Options!B35="","",IF(Compliance_Options!D35=$P$3,Compliance_Options!B35,"")) | BH13: =IF(COUNTIF(BG$2:BG13,BG13)=1,BG13,"") | BI13: =+IFERROR(INDEX($BG$2:$BG$78,MATCH(ROW()-ROW($BB$1),$BF$2:$BF$78,0)),"") | BK13: =+IF(BP13="","",MAX(BK$1:BK12)+1) | BL13: =IF(Compliance_Options!B35="","",Compliance_Options!B35) | BM13: =IF(Compliance_Options!C35="","",Compliance_Options!C35) | BN13: =IF(Compliance_Options!D35="","",Compliance_Options!D35) | BO13: =BL13&BM13&BN13 | BP13: =IF(OR(BN13=$P$5,BN13=$P$4),IF(COUNTIF(BO$2:BO13,BO13)=1,BO13,""),"") | BQ13: =IF(BR13="","",BR13&" "&BS13) | BR13: =+IFERROR(INDEX($BL$2:$BL$78,MATCH(ROW()-ROW($BQ$1),$BK$2:$BK$78,0)),"") | BS13: =+IFERROR(INDEX($BM$2:$BM$78,MATCH(ROW()-ROW($BQ$1),$BK$2:$BK$78,0)),"") | BU13: =+IF(BZ13="","",MAX(BU$1:BU12)+1) | BV13: =IF(With_Addon_CPMS1!B35="","",With_Addon_CPMS1!B35) | BW13: =IF(With_Addon_CPMS1!C35="","",With_Addon_CPMS1!C35) | BX13: =IF(With_Addon_CPMS1!E35="","",With_Addon_CPMS1!E35) | BY13: =BV13&BW13&BX13 | BZ13: =IF(COUNTIF(BY$1:BY13,BY13)=1,BY13,"") | CA13: =IF(CB13="","",CB13&" "&CC13&" "&CD13) | CB13: =+IFERROR(INDEX($BV$2:$BV$500,MATCH(ROW()-ROW($CA$1),$BU$2:$BU$500,0)),"") | CC13: =+IFERROR(INDEX($BW$2:$BW$500,MATCH(ROW()-ROW($CA$1),$BU$2:$BU$500,0)),"") | CD13: =+IFERROR(INDEX($BX$2:$BX$500,MATCH(ROW()-ROW($CA$1),$BU$2:$BU$500,0)),"") | CF13: =+IF(CK13="","",MAX(CF$1:CF12)+1) | CG13: =IF(With_Addon_CPMS2!N35="","",With_Addon_CPMS2!N35) | CH13: =IF(With_Addon_CPMS2!O35="","",With_Addon_CPMS2!O35) | CI13: =IF(With_Addon_CPMS2!Q35="","",With_Addon_CPMS2!Q35) | CJ13: =CG13&CH13&CI13 | CK13: =IF(COUNTIF(CJ$1:CJ13,CJ13)=1,CJ13,"") | CL13: =IF(CM13="","",CM13&" "&CN13&" "&CO13) | CM13: =+IFERROR(INDEX($CG$2:$CG$500,MATCH(ROW()-ROW($CL$1),$CF$2:$CF$500,0)),"") | CN13: =+IFERROR(INDEX($CH$2:$CH$500,MATCH(ROW()-ROW($CL$1),$CF$2:$CF$500,0)),"") | CO13: =+IFERROR(INDEX($CI$2:$CI$500,MATCH(ROW()-ROW($CL$1),$CF$2:$CF$500,0)),"") | CQ13: =+IF(CV13="","",MAX(CQ$1:CQ12)+1) | CR13: =IF(With_Addon_OpLimit!B35="","",With_Addon_OpLimit!B35) | CS13: =IF(With_Addon_OpLimit!C35="","",With_Addon_OpLimit!C35) | CT13: =IF(With_Addon_OpLimit!E35="","",With_Addon_OpLimit!E35) | CU13: =CR13&CT13 | CV13: =IF(COUNTIF(CU$1:CU13,CU13)=1,CU13,"") | CW13: =IF(CX13="","",CX13&" "&CZ13) | CX13: =+IFERROR(INDEX($CR$2:$CR$500,MATCH(ROW()-ROW($CW$1),$CQ$2:$CQ$500,0)),"") | CY13: =+IFERROR(INDEX($CS$2:$CS$500,MATCH(ROW()-ROW($CW$1),$CQ$2:$CQ$500,0)),"") | CZ13: =+IFERROR(INDEX($CT$2:$CT$500,MATCH(ROW()-ROW($CW$1),$CQ$2:$CQ$500,0)),"")
F14: =+IF(I14="","",MAX(F$1:F13)+1) | G14: =IF(Compliance_Options!C36="","",Compliance_Options!C36) | H14: =+IFERROR(INDEX($G$2:$G$101,MATCH(ROW()-ROW($H$1),$F$2:$F$101,0)),"") | I14: =IF(COUNTIF(G$2:G14,G14)=1,G14,"") | K14: =+IF(N14="","",MAX(K$1:K13)+1) | L14: =IF(With_Addon_CPMS1!E36="","",With_Addon_CPMS1!E36) | M14: =+IFERROR(INDEX($L$2:$L$501,MATCH(ROW()-ROW($M$1),$K$2:$K$501,0)),"") | N14: =IF(COUNTIF(L$2:L14,L14)=1,L14,"") | P14: Other Unknown Causes | S14: =+IF(W14="","",MAX(S$1:S13)+1) | T14: =IF(Compliance_Options!B36="","",Compliance_Options!B36) | U14: =IF(Compliance_Options!C36="","",Compliance_Options!C36) | V14: =+Lists!$T14&Lists!$U14 | W14: =IF(COUNTIF(V$2:V14,V14)=1,V14,"") | X14: =IF(Y14="","",Y14&" "&Z14) | Y14: =+IFERROR(INDEX($T$2:$T$78,MATCH(ROW()-ROW($Y$1),$S$2:$S$78,0)),"") | Z14: =+IFERROR(INDEX($U$2:$U$78,MATCH(ROW()-ROW($Y$1),$S$2:$S$78,0)),"") | AB14: =+IF(AG14="","",MAX(AB$1:AB13)+1) | AC14: =IF(Compliance_Options!B36="","",Compliance_Options!B36) | AD14: =IF(Compliance_Options!C36="","",Compliance_Options!C36) | AE14: =IF(Compliance_Options!D36="","",Compliance_Options!D36) | AF14: =+Lists!AC14&Lists!AD14&AE14 | AG14: =IF(AE14=$P$3,IF(COUNTIF(AF$2:AF14,AF14)=1,AF14,""),"") | AH14: =IF(AI14="","",AI14&" "&AJ14) | AI14: =+IFERROR(INDEX($AC$2:$AC$78,MATCH(ROW()-ROW($AH$1),$AB$2:$AB$78,0)),"") | AJ14: =+IFERROR(INDEX($AD$2:$AD$78,MATCH(ROW()-ROW($AH$1),$AB$2:$AB$78,0)),"") | AL14: =+IF(AQ14="","",MAX(AL$1:AL13)+1) | AM14: =IF(Compliance_Options!B36="","",Compliance_Options!B36) | AN14: =IF(Compliance_Options!C36="","",Compliance_Options!C36) | AO14: =IF(Compliance_Options!D36="","",Compliance_Options!D36) | AP14: =AM14&AN14&AO14 | AQ14: =IF(AO14=$P$4,IF(COUNTIF(AP$2:AP14,AP14)=1,AP14,""),"") | AR14: =IF(AS14="","",AS14&" "&AT14) | AS14: =+IFERROR(INDEX($AM$2:$AM$78,MATCH(ROW()-ROW($AR$1),$AL$2:$AL$78,0)),"") | AT14: =+IFERROR(INDEX($AN$2:$AN$78,MATCH(ROW()-ROW($AR$1),$AL$2:$AL$78,0)),"") | AV14: =+IF(BA14="","",MAX(AV$1:AV13)+1) | AW14: =IF(Compliance_Options!B36="","",Compliance_Options!B36) | AX14: =IF(Compliance_Options!C36="","",Compliance_Options!C36) | AY14: =IF(Compliance_Options!D36="","",Compliance_Options!D36) | AZ14: =AW14&AX14&AY14 | BA14: =IF(AY14=$P$5,IF(COUNTIF(AZ$2:AZ14,AZ14)=1,AZ14,""),"") | BB14: =IF(BC14="","",BC14&" "&BD14) | BC14: =+IFERROR(INDEX($AW$2:$AW$78,MATCH(ROW()-ROW($BB$1),$AV$2:$AV$78,0)),"") | BD14: =+IFERROR(INDEX($AX$2:$AX$78,MATCH(ROW()-ROW($BB$1),$AV$2:$AV$78,0)),"") | BF14: =+IF(BH14="","",MAX(BF$1:BF13)+1) | BG14: =IF(Compliance_Options!B36="","",IF(Compliance_Options!D36=$P$3,Compliance_Options!B36,"")) | BH14: =IF(COUNTIF(BG$2:BG14,BG14)=1,BG14,"") | BI14: =+IFERROR(INDEX($BG$2:$BG$78,MATCH(ROW()-ROW($BB$1),$BF$2:$BF$78,0)),"") | BK14: =+IF(BP14="","",MAX(BK$1:BK13)+1) | BL14: =IF(Compliance_Options!B36="","",Compliance_Options!B36) | BM14: =IF(Compliance_Options!C36="","",Compliance_Options!C36) | BN14: =IF(Compliance_Options!D36="","",Compliance_Options!D36) | BO14: =BL14&BM14&BN14 | BP14: =IF(OR(BN14=$P$5,BN14=$P$4),IF(COUNTIF(BO$2:BO14,BO14)=1,BO14,""),"") | BQ14: =IF(BR14="","",BR14&" "&BS14) | BR14: =+IFERROR(INDEX($BL$2:$BL$78,MATCH(ROW()-ROW($BQ$1),$BK$2:$BK$78,0)),"") | BS14: =+IFERROR(INDEX($BM$2:$BM$78,MATCH(ROW()-ROW($BQ$1),$BK$2:$BK$78,0)),"") | BU14: =+IF(BZ14="","",MAX(BU$1:BU13)+1) | BV14: =IF(With_Addon_CPMS1!B36="","",With_Addon_CPMS1!B36) | BW14: =IF(With_Addon_CPMS1!C36="","",With_Addon_CPMS1!C36) | BX14: =IF(With_Addon_CPMS1!E36="","",With_Addon_CPMS1!E36) | BY14: =BV14&BW14&BX14 | BZ14: =IF(COUNTIF(BY$1:BY14,BY14)=1,BY14,"") | CA14: =IF(CB14="","",CB14&" "&CC14&" "&CD14) | CB14: =+IFERROR(INDEX($BV$2:$BV$500,MATCH(ROW()-ROW($CA$1),$BU$2:$BU$500,0)),"") | CC14: =+IFERROR(INDEX($BW$2:$BW$500,MATCH(ROW()-ROW($CA$1),$BU$2:$BU$500,0)),"") | CD14: =+IFERROR(INDEX($BX$2:$BX$500,MATCH(ROW()-ROW($CA$1),$BU$2:$BU$500,0)),"") | CF14: =+IF(CK14="","",MAX(CF$1:CF13)+1) | CG14: =IF(With_Addon_CPMS2!N36="","",With_Addon_CPMS2!N36) | CH14: =IF(With_Addon_CPMS2!O36="","",With_Addon_CPMS2!O36) | CI14: =IF(With_Addon_CPMS2!Q36="","",With_Addon_CPMS2!Q36) | CJ14: =CG14&CH14&CI14 | CK14: =IF(COUNTIF(CJ$1:CJ14,CJ14)=1,CJ14,"") | CL14: =IF(CM14="","",CM14&" "&CN14&" "&CO14) | CM14: =+IFERROR(INDEX($CG$2:$CG$500,MATCH(ROW()-ROW($CL$1),$CF$2:$CF$500,0)),"") | CN14: =+IFERROR(INDEX($CH$2:$CH$500,MATCH(ROW()-ROW($CL$1),$CF$2:$CF$500,0)),"") | CO14: =+IFERROR(INDEX($CI$2:$CI$500,MATCH(ROW()-ROW($CL$1),$CF$2:$CF$500,0)),"") | CQ14: =+IF(CV14="","",MAX(CQ$1:CQ13)+1) | CR14: =IF(With_Addon_OpLimit!B36="","",With_Addon_OpLimit!B36) | CS14: =IF(With_Addon_OpLimit!C36="","",With_Addon_OpLimit!C36) | CT14: =IF(With_Addon_OpLimit!E36="","",With_Addon_OpLimit!E36) | CU14: =CR14&CT14 | CV14: =IF(COUNTIF(CU$1:CU14,CU14)=1,CU14,"") | CW14: =IF(CX14="","",CX14&" "&CZ14) | CX14: =+IFERROR(INDEX($CR$2:$CR$500,MATCH(ROW()-ROW($CW$1),$CQ$2:$CQ$500,0)),"") | CY14: =+IFERROR(INDEX($CS$2:$CS$500,MATCH(ROW()-ROW($CW$1),$CQ$2:$CQ$500,0)),"") | CZ14: =+IFERROR(INDEX($CT$2:$CT$500,MATCH(ROW()-ROW($CW$1),$CQ$2:$CQ$500,0)),"")
F15: =+IF(I15="","",MAX(F$1:F14)+1) | G15: =IF(Compliance_Options!C37="","",Compliance_Options!C37) | H15: =+IFERROR(INDEX($G$2:$G$101,MATCH(ROW()-ROW($H$1),$F$2:$F$101,0)),"") | I15: =IF(COUNTIF(G$2:G15,G15)=1,G15,"") | K15: =+IF(N15="","",MAX(K$1:K14)+1) | L15: =IF(With_Addon_CPMS1!E37="","",With_Addon_CPMS1!E37) | M15: =+IFERROR(INDEX($L$2:$L$501,MATCH(ROW()-ROW($M$1),$K$2:$K$501,0)),"") | N15: =IF(COUNTIF(L$2:L15,L15)=1,L15,"") | S15: =+IF(W15="","",MAX(S$1:S14)+1) | T15: =IF(Compliance_Options!B37="","",Compliance_Options!B37) | U15: =IF(Compliance_Options!C37="","",Compliance_Options!C37) | V15: =+Lists!$T15&Lists!$U15 | W15: =IF(COUNTIF(V$2:V15,V15)=1,V15,"") | X15: =IF(Y15="","",Y15&" "&Z15) | Y15: =+IFERROR(INDEX($T$2:$T$78,MATCH(ROW()-ROW($Y$1),$S$2:$S$78,0)),"") | Z15: =+IFERROR(INDEX($U$2:$U$78,MATCH(ROW()-ROW($Y$1),$S$2:$S$78,0)),"") | AB15: =+IF(AG15="","",MAX(AB$1:AB14)+1) | AC15: =IF(Compliance_Options!B37="","",Compliance_Options!B37) | AD15: =IF(Compliance_Options!C37="","",Compliance_Options!C37) | AE15: =IF(Compliance_Options!D37="","",Compliance_Options!D37) | AF15: =+Lists!AC15&Lists!AD15&AE15 | AG15: =IF(AE15=$P$3,IF(COUNTIF(AF$2:AF15,AF15)=1,AF15,""),"") | AH15: =IF(AI15="","",AI15&" "&AJ15) | AI15: =+IFERROR(INDEX($AC$2:$AC$78,MATCH(ROW()-ROW($AH$1),$AB$2:$AB$78,0)),"") | AJ15: =+IFERROR(INDEX($AD$2:$AD$78,MATCH(ROW()-ROW($AH$1),$AB$2:$AB$78,0)),"") | AL15: =+IF(AQ15="","",MAX(AL$1:AL14)+1) | AM15: =IF(Compliance_Options!B37="","",Compliance_Options!B37) | AN15: =IF(Compliance_Options!C37="","",Compliance_Options!C37) | AO15: =IF(Compliance_Options!D37="","",Compliance_Options!D37) | AP15: =AM15&AN15&AO15 | AQ15: =IF(AO15=$P$4,IF(COUNTIF(AP$2:AP15,AP15)=1,AP15,""),"") | AR15: =IF(AS15="","",AS15&" "&AT15) | AS15: =+IFERROR(INDEX($AM$2:$AM$78,MATCH(ROW()-ROW($AR$1),$AL$2:$AL$78,0)),"") | AT15: =+IFERROR(INDEX($AN$2:$AN$78,MATCH(ROW()-ROW($AR$1),$AL$2:$AL$78,0)),"") | AV15: =+IF(BA15="","",MAX(AV$1:AV14)+1) | AW15: =IF(Compliance_Options!B37="","",Compliance_Options!B37) | AX15: =IF(Compliance_Options!C37="","",Compliance_Options!C37) | AY15: =IF(Compliance_Options!D37="","",Compliance_Options!D37) | AZ15: =AW15&AX15&AY15 | BA15: =IF(AY15=$P$5,IF(COUNTIF(AZ$2:AZ15,AZ15)=1,AZ15,""),"") | BB15: =IF(BC15="","",BC15&" "&BD15) | BC15: =+IFERROR(INDEX($AW$2:$AW$78,MATCH(ROW()-ROW($BB$1),$AV$2:$AV$78,0)),"") | BD15: =+IFERROR(INDEX($AX$2:$AX$78,MATCH(ROW()-ROW($BB$1),$AV$2:$AV$78,0)),"") | BF15: =+IF(BH15="","",MAX(BF$1:BF14)+1) | BG15: =IF(Compliance_Options!B37="","",IF(Compliance_Options!D37=$P$3,Compliance_Options!B37,"")) | BH15: =IF(COUNTIF(BG$2:BG15,BG15)=1,BG15,"") | BI15: =+IFERROR(INDEX($BG$2:$BG$78,MATCH(ROW()-ROW($BB$1),$BF$2:$BF$78,0)),"") | BK15: =+IF(BP15="","",MAX(BK$1:BK14)+1) | BL15: =IF(Compliance_Options!B37="","",Compliance_Options!B37) | BM15: =IF(Compliance_Options!C37="","",Compliance_Options!C37) | BN15: =IF(Compliance_Options!D37="","",Compliance_Options!D37) | BO15: =BL15&BM15&BN15 | BP15: =IF(OR(BN15=$P$5,BN15=$P$4),IF(COUNTIF(BO$2:BO15,BO15)=1,BO15,""),"") | BQ15: =IF(BR15="","",BR15&" "&BS15) | BR15: =+IFERROR(INDEX($BL$2:$BL$78,MATCH(ROW()-ROW($BQ$1),$BK$2:$BK$78,0)),"") | BS15: =+IFERROR(INDEX($BM$2:$BM$78,MATCH(ROW()-ROW($BQ$1),$BK$2:$BK$78,0)),"") | BU15: =+IF(BZ15="","",MAX(BU$1:BU14)+1) | BV15: =IF(With_Addon_CPMS1!B37="","",With_Addon_CPMS1!B37) | BW15: =IF(With_Addon_CPMS1!C37="","",With_Addon_CPMS1!C37) | BX15: =IF(With_Addon_CPMS1!E37="","",With_Addon_CPMS1!E37) | BY15: =BV15&BW15&BX15 | BZ15: =IF(COUNTIF(BY$1:BY15,BY15)=1,BY15,"") | CA15: =IF(CB15="","",CB15&" "&CC15&" "&CD15) | CB15: =+IFERROR(INDEX($BV$2:$BV$500,MATCH(ROW()-ROW($CA$1),$BU$2:$BU$500,0)),"") | CC15: =+IFERROR(INDEX($BW$2:$BW$500,MATCH(ROW()-ROW($CA$1),$BU$2:$BU$500,0)),"") | CD15: =+IFERROR(INDEX($BX$2:$BX$500,MATCH(ROW()-ROW($CA$1),$BU$2:$BU$500,0)),"") | CF15: =+IF(CK15="","",MAX(CF$1:CF14)+1) | CG15: =IF(With_Addon_CPMS2!N37="","",With_Addon_CPMS2!N37) | CH15: =IF(With_Addon_CPMS2!O37="","",With_Addon_CPMS2!O37) | CI15: =IF(With_Addon_CPMS2!Q37="","",With_Addon_CPMS2!Q37) | CJ15: =CG15&CH15&CI15 | CK15: =IF(COUNTIF(CJ$1:CJ15,CJ15)=1,CJ15,"") | CL15: =IF(CM15="","",CM15&" "&CN15&" "&CO15) | CM15: =+IFERROR(INDEX($CG$2:$CG$500,MATCH(ROW()-ROW($CL$1),$CF$2:$CF$500,0)),"") | CN15: =+IFERROR(INDEX($CH$2:$CH$500,MATCH(ROW()-ROW($CL$1),$CF$2:$CF$500,0)),"") | CO15: =+IFERROR(INDEX($CI$2:$CI$500,MATCH(ROW()-ROW($CL$1),$CF$2:$CF$500,0)),"") | CQ15: =+IF(CV15="","",MAX(CQ$1:CQ14)+1) | CR15: =IF(With_Addon_OpLimit!B37="","",With_Addon_OpLimit!B37) | CS15: =IF(With_Addon_OpLimit!C37="","",With_Addon_OpLimit!C37) | CT15: =IF(With_Addon_OpLimit!E37="","",With_Addon_OpLimit!E37) | CU15: =CR15&CT15 | CV15: =IF(COUNTIF(CU$1:CU15,CU15)=1,CU15,"") | CW15: =IF(CX15="","",CX15&" "&CZ15) | CX15: =+IFERROR(INDEX($CR$2:$CR$500,MATCH(ROW()-ROW($CW$1),$CQ$2:$CQ$500,0)),"") | CY15: =+IFERROR(INDEX($CS$2:$CS$500,MATCH(ROW()-ROW($CW$1),$CQ$2:$CQ$500,0)),"") | CZ15: =+IFERROR(INDEX($CT$2:$CT$500,MATCH(ROW()-ROW($CW$1),$CQ$2:$CQ$500,0)),"")
F16: =+IF(I16="","",MAX(F$1:F15)+1) | G16: =IF(Compliance_Options!C38="","",Compliance_Options!C38) | H16: =+IFERROR(INDEX($G$2:$G$101,MATCH(ROW()-ROW($H$1),$F$2:$F$101,0)),"") | I16: =IF(COUNTIF(G$2:G16,G16)=1,G16,"") | K16: =+IF(N16="","",MAX(K$1:K15)+1) | L16: =IF(With_Addon_CPMS1!E38="","",With_Addon_CPMS1!E38) | M16: =+IFERROR(INDEX($L$2:$L$501,MATCH(ROW()-ROW($M$1),$K$2:$K$501,0)),"") | N16: =IF(COUNTIF(L$2:L16,L16)=1,L16,"") | P16: CMSCauseList | S16: =+IF(W16="","",MAX(S$1:S15)+1) | T16: =IF(Compliance_Options!B38="","",Compliance_Options!B38) | U16: =IF(Compliance_Options!C38="","",Compliance_Options!C38) | V16: =+Lists!$T16&Lists!$U16 | W16: =IF(COUNTIF(V$2:V16,V16)=1,V16,"") | X16: =IF(Y16="","",Y16&" "&Z16) | Y16: =+IFERROR(INDEX($T$2:$T$78,MATCH(ROW()-ROW($Y$1),$S$2:$S$78,0)),"") | Z16: =+IFERROR(INDEX($U$2:$U$78,MATCH(ROW()-ROW($Y$1),$S$2:$S$78,0)),"") | AB16: =+IF(AG16="","",MAX(AB$1:AB15)+1) | AC16: =IF(Compliance_Options!B38="","",Compliance_Options!B38) | AD16: =IF(Compliance_Options!C38="","",Compliance_Options!C38) | AE16: =IF(Compliance_Options!D38="","",Compliance_Options!D38) | AF16: =+Lists!AC16&Lists!AD16&AE16 | AG16: =IF(AE16=$P$3,IF(COUNTIF(AF$2:AF16,AF16)=1,AF16,""),"") | AH16: =IF(AI16="","",AI16&" "&AJ16) | AI16: =+IFERROR(INDEX($AC$2:$AC$78,MATCH(ROW()-ROW($AH$1),$AB$2:$AB$78,0)),"") | AJ16: =+IFERROR(INDEX($AD$2:$AD$78,MATCH(ROW()-ROW($AH$1),$AB$2:$AB$78,0)),"") | AL16: =+IF(AQ16="","",MAX(AL$1:AL15)+1) | AM16: =IF(Compliance_Options!B38="","",Compliance_Options!B38) | AN16: =IF(Compliance_Options!C38="","",Compliance_Options!C38) | AO16: =IF(Compliance_Options!D38="","",Compliance_Options!D38) | AP16: =AM16&AN16&AO16 | AQ16: =IF(AO16=$P$4,IF(COUNTIF(AP$2:AP16,AP16)=1,AP16,""),"") | AR16: =IF(AS16="","",AS16&" "&AT16) | AS16: =+IFERROR(INDEX($AM$2:$AM$78,MATCH(ROW()-ROW($AR$1),$AL$2:$AL$78,0)),"") | AT16: =+IFERROR(INDEX($AN$2:$AN$78,MATCH(ROW()-ROW($AR$1),$AL$2:$AL$78,0)),"") | AV16: =+IF(BA16="","",MAX(AV$1:AV15)+1) | AW16: =IF(Compliance_Options!B38="","",Compliance_Options!B38) | AX16: =IF(Compliance_Options!C38="","",Compliance_Options!C38) | AY16: =IF(Compliance_Options!D38="","",Compliance_Options!D38) | AZ16: =AW16&AX16&AY16 | BA16: =IF(AY16=$P$5,IF(COUNTIF(AZ$2:AZ16,AZ16)=1,AZ16,""),"") | BB16: =IF(BC16="","",BC16&" "&BD16) | BC16: =+IFERROR(INDEX($AW$2:$AW$78,MATCH(ROW()-ROW($BB$1),$AV$2:$AV$78,0)),"") | BD16: =+IFERROR(INDEX($AX$2:$AX$78,MATCH(ROW()-ROW($BB$1),$AV$2:$AV$78,0)),"") | BF16: =+IF(BH16="","",MAX(BF$1:BF15)+1) | BG16: =IF(Compliance_Options!B38="","",IF(Compliance_Options!D38=$P$3,Compliance_Options!B38,"")) | BH16: =IF(COUNTIF(BG$2:BG16,BG16)=1,BG16,"") | BI16: =+IFERROR(INDEX($BG$2:$BG$78,MATCH(ROW()-ROW($BB$1),$BF$2:$BF$78,0)),"") | BK16: =+IF(BP16="","",MAX(BK$1:BK15)+1) | BL16: =IF(Compliance_Options!B38="","",Compliance_Options!B38) | BM16: =IF(Compliance_Options!C38="","",Compliance_Options!C38) | BN16: =IF(Compliance_Options!D38="","",Compliance_Options!D38) | BO16: =BL16&BM16&BN16 | BP16: =IF(OR(BN16=$P$5,BN16=$P$4),IF(COUNTIF(BO$2:BO16,BO16)=1,BO16,""),"") | BQ16: =IF(BR16="","",BR16&" "&BS16) | BR16: =+IFERROR(INDEX($BL$2:$BL$78,MATCH(ROW()-ROW($BQ$1),$BK$2:$BK$78,0)),"") | BS16: =+IFERROR(INDEX($BM$2:$BM$78,MATCH(ROW()-ROW($BQ$1),$BK$2:$BK$78,0)),"") | BU16: =+IF(BZ16="","",MAX(BU$1:BU15)+1) | BV16: =IF(With_Addon_CPMS1!B38="","",With_Addon_CPMS1!B38) | BW16: =IF(With_Addon_CPMS1!C38="","",With_Addon_CPMS1!C38) | BX16: =IF(With_Addon_CPMS1!E38="","",With_Addon_CPMS1!E38) | BY16: =BV16&BW16&BX16 | BZ16: =IF(COUNTIF(BY$1:BY16,BY16)=1,BY16,"") | CA16: =IF(CB16="","",CB16&" "&CC16&" "&CD16) | CB16: =+IFERROR(INDEX($BV$2:$BV$500,MATCH(ROW()-ROW($CA$1),$BU$2:$BU$500,0)),"") | CC16: =+IFERROR(INDEX($BW$2:$BW$500,MATCH(ROW()-ROW($CA$1),$BU$2:$BU$500,0)),"") | CD16: =+IFERROR(INDEX($BX$2:$BX$500,MATCH(ROW()-ROW($CA$1),$BU$2:$BU$500,0)),"") | CF16: =+IF(CK16="","",MAX(CF$1:CF15)+1) | CG16: =IF(With_Addon_CPMS2!N38="","",With_Addon_CPMS2!N38) | CH16: =IF(With_Addon_CPMS2!O38="","",With_Addon_CPMS2!O38) | CI16: =IF(With_Addon_CPMS2!Q38="","",With_Addon_CPMS2!Q38) | CJ16: =CG16&CH16&CI16 | CK16: =IF(COUNTIF(CJ$1:CJ16,CJ16)=1,CJ16,"") | CL16: =IF(CM16="","",CM16&" "&CN16&" "&CO16) | CM16: =+IFERROR(INDEX($CG$2:$CG$500,MATCH(ROW()-ROW($CL$1),$CF$2:$CF$500,0)),"") | CN16: =+IFERROR(INDEX($CH$2:$CH$500,MATCH(ROW()-ROW($CL$1),$CF$2:$CF$500,0)),"") | CO16: =+IFERROR(INDEX($CI$2:$CI$500,MATCH(ROW()-ROW($CL$1),$CF$2:$CF$500,0)),"") | CQ16: =+IF(CV16="","",MAX(CQ$1:CQ15)+1) | CR16: =IF(With_Addon_OpLimit!B38="","",With_Addon_OpLimit!B38) | CS16: =IF(With_Addon_OpLimit!C38="","",With_Addon_OpLimit!C38) | CT16: =IF(With_Addon_OpLimit!E38="","",With_Addon_OpLimit!E38) | CU16: =CR16&CT16 | CV16: =IF(COUNTIF(CU$1:CU16,CU16)=1,CU16,"") | CW16: =IF(CX16="","",CX16&" "&CZ16) | CX16: =+IFERROR(INDEX($CR$2:$CR$500,MATCH(ROW()-ROW($CW$1),$CQ$2:$CQ$500,0)),"") | CY16: =+IFERROR(INDEX($CS$2:$CS$500,MATCH(ROW()-ROW($CW$1),$CQ$2:$CQ$500,0)),"") | CZ16: =+IFERROR(INDEX($CT$2:$CT$500,MATCH(ROW()-ROW($CW$1),$CQ$2:$CQ$500,0)),"")
F17: =+IF(I17="","",MAX(F$1:F16)+1) | G17: =IF(Compliance_Options!C39="","",Compliance_Options!C39) | H17: =+IFERROR(INDEX($G$2:$G$101,MATCH(ROW()-ROW($H$1),$F$2:$F$101,0)),"") | I17: =IF(COUNTIF(G$2:G17,G17)=1,G17,"") | K17: =+IF(N17="","",MAX(K$1:K16)+1) | L17: =IF(With_Addon_CPMS1!E39="","",With_Addon_CPMS1!E39) | M17: =+IFERROR(INDEX($L$2:$L$501,MATCH(ROW()-ROW($M$1),$K$2:$K$501,0)),"") | N17: =IF(COUNTIF(L$2:L17,L17)=1,L17,"") | P17: Monitoring Equipment Malfunctions | S17: =+IF(W17="","",MAX(S$1:S16)+1) | T17: =IF(Compliance_Options!B39="","",Compliance_Options!B39) | U17: =IF(Compliance_Options!C39="","",Compliance_Options!C39) | V17: =+Lists!$T17&Lists!$U17 | W17: =IF(COUNTIF(V$2:V17,V17)=1,V17,"") | X17: =IF(Y17="","",Y17&" "&Z17) | Y17: =+IFERROR(INDEX($T$2:$T$78,MATCH(ROW()-ROW($Y$1),$S$2:$S$78,0)),"") | Z17: =+IFERROR(INDEX($U$2:$U$78,MATCH(ROW()-ROW($Y$1),$S$2:$S$78,0)),"") | AB17: =+IF(AG17="","",MAX(AB$1:AB16)+1) | AC17: =IF(Compliance_Options!B39="","",Compliance_Options!B39) | AD17: =IF(Compliance_Options!C39="","",Compliance_Options!C39) | AE17: =IF(Compliance_Options!D39="","",Compliance_Options!D39) | AF17: =+Lists!AC17&Lists!AD17&AE17 | AG17: =IF(AE17=$P$3,IF(COUNTIF(AF$2:AF17,AF17)=1,AF17,""),"") | AH17: =IF(AI17="","",AI17&" "&AJ17) | AI17: =+IFERROR(INDEX($AC$2:$AC$78,MATCH(ROW()-ROW($AH$1),$AB$2:$AB$78,0)),"") | AJ17: =+IFERROR(INDEX($AD$2:$AD$78,MATCH(ROW()-ROW($AH$1),$AB$2:$AB$78,0)),"") | AL17: =+IF(AQ17="","",MAX(AL$1:AL16)+1) | AM17: =IF(Compliance_Options!B39="","",Compliance_Options!B39) | AN17: =IF(Compliance_Options!C39="","",Compliance_Options!C39) | AO17: =IF(Compliance_Options!D39="","",Compliance_Options!D39) | AP17: =AM17&AN17&AO17 | AQ17: =IF(AO17=$P$4,IF(COUNTIF(AP$2:AP17,AP17)=1,AP17,""),"") | AR17: =IF(AS17="","",AS17&" "&AT17) | AS17: =+IFERROR(INDEX($AM$2:$AM$78,MATCH(ROW()-ROW($AR$1),$AL$2:$AL$78,0)),"") | AT17: =+IFERROR(INDEX($AN$2:$AN$78,MATCH(ROW()-ROW($AR$1),$AL$2:$AL$78,0)),"") | AV17: =+IF(BA17="","",MAX(AV$1:AV16)+1) | AW17: =IF(Compliance_Options!B39="","",Compliance_Options!B39) | AX17: =IF(Compliance_Options!C39="","",Compliance_Options!C39) | AY17: =IF(Compliance_Options!D39="","",Compliance_Options!D39) | AZ17: =AW17&AX17&AY17 | BA17: =IF(AY17=$P$5,IF(COUNTIF(AZ$2:AZ17,AZ17)=1,AZ17,""),"") | BB17: =IF(BC17="","",BC17&" "&BD17) | BC17: =+IFERROR(INDEX($AW$2:$AW$78,MATCH(ROW()-ROW($BB$1),$AV$2:$AV$78,0)),"") | BD17: =+IFERROR(INDEX($AX$2:$AX$78,MATCH(ROW()-ROW($BB$1),$AV$2:$AV$78,0)),"") | BF17: =+IF(BH17="","",MAX(BF$1:BF16)+1) | BG17: =IF(Compliance_Options!B39="","",IF(Compliance_Options!D39=$P$3,Compliance_Options!B39,"")) | BH17: =IF(COUNTIF(BG$2:BG17,BG17)=1,BG17,"") | BI17: =+IFERROR(INDEX($BG$2:$BG$78,MATCH(ROW()-ROW($BB$1),$BF$2:$BF$78,0)),"") | BK17: =+IF(BP17="","",MAX(BK$1:BK16)+1) | BL17: =IF(Compliance_Options!B39="","",Compliance_Options!B39) | BM17: =IF(Compliance_Options!C39="","",Compliance_Options!C39) | BN17: =IF(Compliance_Options!D39="","",Compliance_Options!D39) | BO17: =BL17&BM17&BN17 | BP17: =IF(OR(BN17=$P$5,BN17=$P$4),IF(COUNTIF(BO$2:BO17,BO17)=1,BO17,""),"") | BQ17: =IF(BR17="","",BR17&" "&BS17) | BR17: =+IFERROR(INDEX($BL$2:$BL$78,MATCH(ROW()-ROW($BQ$1),$BK$2:$BK$78,0)),"") | BS17: =+IFERROR(INDEX($BM$2:$BM$78,MATCH(ROW()-ROW($BQ$1),$BK$2:$BK$78,0)),"") | BU17: =+IF(BZ17="","",MAX(BU$1:BU16)+1) | BV17: =IF(With_Addon_CPMS1!B39="","",With_Addon_CPMS1!B39) | BW17: =IF(With_Addon_CPMS1!C39="","",With_Addon_CPMS1!C39) | BX17: =IF(With_Addon_CPMS1!E39="","",With_Addon_CPMS1!E39) | BY17: =BV17&BW17&BX17 | BZ17: =IF(COUNTIF(BY$1:BY17,BY17)=1,BY17,"") | CA17: =IF(CB17="","",CB17&" "&CC17&" "&CD17) | CB17: =+IFERROR(INDEX($BV$2:$BV$500,MATCH(ROW()-ROW($CA$1),$BU$2:$BU$500,0)),"") | CC17: =+IFERROR(INDEX($BW$2:$BW$500,MATCH(ROW()-ROW($CA$1),$BU$2:$BU$500,0)),"") | CD17: =+IFERROR(INDEX($BX$2:$BX$500,MATCH(ROW()-ROW($CA$1),$BU$2:$BU$500,0)),"") | CF17: =+IF(CK17="","",MAX(CF$1:CF16)+1) | CG17: =IF(With_Addon_CPMS2!N39="","",With_Addon_CPMS2!N39) | CH17: =IF(With_Addon_CPMS2!O39="","",With_Addon_CPMS2!O39) | CI17: =IF(With_Addon_CPMS2!Q39="","",With_Addon_CPMS2!Q39) | CJ17: =CG17&CH17&CI17 | CK17: =IF(COUNTIF(CJ$1:CJ17,CJ17)=1,CJ17,"") | CL17: =IF(CM17="","",CM17&" "&CN17&" "&CO17) | CM17: =+IFERROR(INDEX($CG$2:$CG$500,MATCH(ROW()-ROW($CL$1),$CF$2:$CF$500,0)),"") | CN17: =+IFERROR(INDEX($CH$2:$CH$500,MATCH(ROW()-ROW($CL$1),$CF$2:$CF$500,0)),"") | CO17: =+IFERROR(INDEX($CI$2:$CI$500,MATCH(ROW()-ROW($CL$1),$CF$2:$CF$500,0)),"") | CQ17: =+IF(CV17="","",MAX(CQ$1:CQ16)+1) | CR17: =IF(With_Addon_OpLimit!B39="","",With_Addon_OpLimit!B39) | CS17: =IF(With_Addon_OpLimit!C39="","",With_Addon_OpLimit!C39) | CT17: =IF(With_Addon_OpLimit!E39="","",With_Addon_OpLimit!E39) | CU17: =CR17&CT17 | CV17: =IF(COUNTIF(CU$1:CU17,CU17)=1,CU17,"") | CW17: =IF(CX17="","",CX17&" "&CZ17) | CX17: =+IFERROR(INDEX($CR$2:$CR$500,MATCH(ROW()-ROW($CW$1),$CQ$2:$CQ$500,0)),"") | CY17: =+IFERROR(INDEX($CS$2:$CS$500,MATCH(ROW()-ROW($CW$1),$CQ$2:$CQ$500,0)),"") | CZ17: =+IFERROR(INDEX($CT$2:$CT$500,MATCH(ROW()-ROW($CW$1),$CQ$2:$CQ$500,0)),"")
F18: =+IF(I18="","",MAX(F$1:F17)+1) | G18: =IF(Compliance_Options!C40="","",Compliance_Options!C40) | H18: =+IFERROR(INDEX($G$2:$G$101,MATCH(ROW()-ROW($H$1),$F$2:$F$101,0)),"") | I18: =IF(COUNTIF(G$2:G18,G18)=1,G18,"") | K18: =+IF(N18="","",MAX(K$1:K17)+1) | L18: =IF(With_Addon_CPMS1!E40="","",With_Addon_CPMS1!E40) | M18: =+IFERROR(INDEX($L$2:$L$501,MATCH(ROW()-ROW($M$1),$K$2:$K$501,0)),"") | N18: =IF(COUNTIF(L$2:L18,L18)=1,L18,"") | P18: Nonmonitoring Equipment Malfunctions | S18: =+IF(W18="","",MAX(S$1:S17)+1) | T18: =IF(Compliance_Options!B40="","",Compliance_Options!B40) | U18: =IF(Compliance_Options!C40="","",Compliance_Options!C40) | V18: =+Lists!$T18&Lists!$U18 | W18: =IF(COUNTIF(V$2:V18,V18)=1,V18,"") | X18: =IF(Y18="","",Y18&" "&Z18) | Y18: =+IFERROR(INDEX($T$2:$T$78,MATCH(ROW()-ROW($Y$1),$S$2:$S$78,0)),"") | Z18: =+IFERROR(INDEX($U$2:$U$78,MATCH(ROW()-ROW($Y$1),$S$2:$S$78,0)),"") | AB18: =+IF(AG18="","",MAX(AB$1:AB17)+1) | AC18: =IF(Compliance_Options!B40="","",Compliance_Options!B40) | AD18: =IF(Compliance_Options!C40="","",Compliance_Options!C40) | AE18: =IF(Compliance_Options!D40="","",Compliance_Options!D40) | AF18: =+Lists!AC18&Lists!AD18&AE18 | AG18: =IF(AE18=$P$3,IF(COUNTIF(AF$2:AF18,AF18)=1,AF18,""),"") | AH18: =IF(AI18="","",AI18&" "&AJ18) | AI18: =+IFERROR(INDEX($AC$2:$AC$78,MATCH(ROW()-ROW($AH$1),$AB$2:$AB$78,0)),"") | AJ18: =+IFERROR(INDEX($AD$2:$AD$78,MATCH(ROW()-ROW($AH$1),$AB$2:$AB$78,0)),"") | AL18: =+IF(AQ18="","",MAX(AL$1:AL17)+1) | AM18: =IF(Compliance_Options!B40="","",Compliance_Options!B40) | AN18: =IF(Compliance_Options!C40="","",Compliance_Options!C40) | AO18: =IF(Compliance_Options!D40="","",Compliance_Options!D40) | AP18: =AM18&AN18&AO18 | AQ18: =IF(AO18=$P$4,IF(COUNTIF(AP$2:AP18,AP18)=1,AP18,""),"") | AR18: =IF(AS18="","",AS18&" "&AT18) | AS18: =+IFERROR(INDEX($AM$2:$AM$78,MATCH(ROW()-ROW($AR$1),$AL$2:$AL$78,0)),"") | AT18: =+IFERROR(INDEX($AN$2:$AN$78,MATCH(ROW()-ROW($AR$1),$AL$2:$AL$78,0)),"") | AV18: =+IF(BA18="","",MAX(AV$1:AV17)+1) | AW18: =IF(Compliance_Options!B40="","",Compliance_Options!B40) | AX18: =IF(Compliance_Options!C40="","",Compliance_Options!C40) | AY18: =IF(Compliance_Options!D40="","",Compliance_Options!D40) | AZ18: =AW18&AX18&AY18 | BA18: =IF(AY18=$P$5,IF(COUNTIF(AZ$2:AZ18,AZ18)=1,AZ18,""),"") | BB18: =IF(BC18="","",BC18&" "&BD18) | BC18: =+IFERROR(INDEX($AW$2:$AW$78,MATCH(ROW()-ROW($BB$1),$AV$2:$AV$78,0)),"") | BD18: =+IFERROR(INDEX($AX$2:$AX$78,MATCH(ROW()-ROW($BB$1),$AV$2:$AV$78,0)),"") | BF18: =+IF(BH18="","",MAX(BF$1:BF17)+1) | BG18: =IF(Compliance_Options!B40="","",IF(Compliance_Options!D40=$P$3,Compliance_Options!B40,"")) | BH18: =IF(COUNTIF(BG$2:BG18,BG18)=1,BG18,"") | BI18: =+IFERROR(INDEX($BG$2:$BG$78,MATCH(ROW()-ROW($BB$1),$BF$2:$BF$78,0)),"") | BK18: =+IF(BP18="","",MAX(BK$1:BK17)+1) | BL18: =IF(Compliance_Options!B40="","",Compliance_Options!B40) | BM18: =IF(Compliance_Options!C40="","",Compliance_Options!C40) | BN18: =IF(Compliance_Options!D40="","",Compliance_Options!D40) | BO18: =BL18&BM18&BN18 | BP18: =IF(OR(BN18=$P$5,BN18=$P$4),IF(COUNTIF(BO$2:BO18,BO18)=1,BO18,""),"") | BQ18: =IF(BR18="","",BR18&" "&BS18) | BR18: =+IFERROR(INDEX($BL$2:$BL$78,MATCH(ROW()-ROW($BQ$1),$BK$2:$BK$78,0)),"") | BS18: =+IFERROR(INDEX($BM$2:$BM$78,MATCH(ROW()-ROW($BQ$1),$BK$2:$BK$78,0)),"") | BU18: =+IF(BZ18="","",MAX(BU$1:BU17)+1) | BV18: =IF(With_Addon_CPMS1!B40="","",With_Addon_CPMS1!B40) | BW18: =IF(With_Addon_CPMS1!C40="","",With_Addon_CPMS1!C40) | BX18: =IF(With_Addon_CPMS1!E40="","",With_Addon_CPMS1!E40) | BY18: =BV18&BW18&BX18 | BZ18: =IF(COUNTIF(BY$1:BY18,BY18)=1,BY18,"") | CA18: =IF(CB18="","",CB18&" "&CC18&" "&CD18) | CB18: =+IFERROR(INDEX($BV$2:$BV$500,MATCH(ROW()-ROW($CA$1),$BU$2:$BU$500,0)),"") | CC18: =+IFERROR(INDEX($BW$2:$BW$500,MATCH(ROW()-ROW($CA$1),$BU$2:$BU$500,0)),"") | CD18: =+IFERROR(INDEX($BX$2:$BX$500,MATCH(ROW()-ROW($CA$1),$BU$2:$BU$500,0)),"") | CF18: =+IF(CK18="","",MAX(CF$1:CF17)+1) | CG18: =IF(With_Addon_CPMS2!N40="","",With_Addon_CPMS2!N40) | CH18: =IF(With_Addon_CPMS2!O40="","",With_Addon_CPMS2!O40) | CI18: =IF(With_Addon_CPMS2!Q40="","",With_Addon_CPMS2!Q40) | CJ18: =CG18&CH18&CI18 | CK18: =IF(COUNTIF(CJ$1:CJ18,CJ18)=1,CJ18,"") | CL18: =IF(CM18="","",CM18&" "&CN18&" "&CO18) | CM18: =+IFERROR(INDEX($CG$2:$CG$500,MATCH(ROW()-ROW($CL$1),$CF$2:$CF$500,0)),"") | CN18: =+IFERROR(INDEX($CH$2:$CH$500,MATCH(ROW()-ROW($CL$1),$CF$2:$CF$500,0)),"") | CO18: =+IFERROR(INDEX($CI$2:$CI$500,MATCH(ROW()-ROW($CL$1),$CF$2:$CF$500,0)),"") | CQ18: =+IF(CV18="","",MAX(CQ$1:CQ17)+1) | CR18: =IF(With_Addon_OpLimit!B40="","",With_Addon_OpLimit!B40) | CS18: =IF(With_Addon_OpLimit!C40="","",With_Addon_OpLimit!C40) | CT18: =IF(With_Addon_OpLimit!E40="","",With_Addon_OpLimit!E40) | CU18: =CR18&CT18 | CV18: =IF(COUNTIF(CU$1:CU18,CU18)=1,CU18,"") | CW18: =IF(CX18="","",CX18&" "&CZ18) | CX18: =+IFERROR(INDEX($CR$2:$CR$500,MATCH(ROW()-ROW($CW$1),$CQ$2:$CQ$500,0)),"") | CY18: =+IFERROR(INDEX($CS$2:$CS$500,MATCH(ROW()-ROW($CW$1),$CQ$2:$CQ$500,0)),"") | CZ18: =+IFERROR(INDEX($CT$2:$CT$500,MATCH(ROW()-ROW($CW$1),$CQ$2:$CQ$500,0)),"")
