Workbook
Name CMSCauses: Lists!$P$17:$P$21
Name CompanyID: OFFSET(Lists!$C$2,0,0,SUMPRODUCT(--(Lists!$C$2:$C$11<>"")),1)
Name complianceoptions: Lists!$P$3:$P$5
Name CompliantID: OFFSET(Lists!$BI$2,0,0,SUMPRODUCT(--(Lists!$BI$2:$BI$78<>"")),1)
Name CPMSName: OFFSET(Lists!$M$2,0,0,SUMPRODUCT(--(Lists!$M$2:$M$478<>"")),1)
Name DeviationCause: Lists!$P$11:$P$14
Name IDOPCPMS: OFFSET(Lists!$CA$2,0,0,SUMPRODUCT(--(Lists!$CA$2:$CA$500<>"")),1)
Name Operationname: OFFSET(Lists!$H$2,0,0,SUMPRODUCT(--(Lists!$H$2:$H$101<>"")),1)
Name OpLimits: Lists!$P$24:$P$38
Name With: OFFSET(Lists!$BB$2,0,0,SUMPRODUCT(--(Lists!$BB$2:$BB$78<>"")),1)
Name without: OFFSET(Lists!$AR$2,0,0,SUMPRODUCT(--(Lists!$AR$2:$AR$78<>"")),1)

Sheet Welcome
A1: DO NOT REMOVE OR EDIT INFORMATION IN THIS SECTION FOR INTERNAL USE ONLY
A2: Template Name | B2: 63.4520(f) Semiannual Compliance Report (Spreadsheet Template)
A3: CitationID | B3: 63.4520(f)
A4: Template Version | B4: v1.02
A5: Last Updated Date | B5: 45554
B6: OMB Control Number: 2060-0518 Expiration Date: 04/30/2019
B7: For further Paperwork Reduction Act information see: https://www.epa.gov/electronic-reporting-air-emissions/paperwork-reduction-act-pra-cedri-and-ert
B8: 40 CFR Part 63, Subpart PPPP National Emission Standards for Hazardous Air Pollutants: Surface Coating of Plastic Parts and Products - §63.4520(f) Semiannual Compliance Report Spreadsheet Template
B9: Welcome and Instructions
B10: Purpose:
B11: This spreadsheet template was designed by the U.S. EPA to facilitate Semiannual Compliance reporting for facilities subject under the 40 CFR part 63, subpart PPPP regulation. CEDRI is accessed through the EPA's Central Data Exchange (https://cdx.epa.gov).
B12: Electronic reporting:
B13: Electronic submission of Semiannual Compliance reports through the EPA's Compliance and Emissions Data Reporting (CEDRI) is required under §63.4520(f).
B14: CEDRI is accessed through the EPA's Central Data Exchange: https://cdx.epa.gov
B15: This spreadsheet template may be uploaded to CEDRI to fulfill the electronic reporting requirement under §63.4520.
B16: Do not submit information you claim as confidential business information (CBI) to EPA via CEDRI. EPA will make all the information submitted through CEDRI available to the public without further notice to you. Anything submitted using CEDRI cannot later be claimed to be CBI. Furthermore, under CAA section 114(c) emissions data is not entitled to confidential treatment and requires EPA to make emissions data available to the public. Thus, emissions data will not be protected as CBI and will be made publicly available.
B17: Although we do not expect persons to assert a claim of CBI, if persons wish to assert a CBI claim, you must submit the report via CEDRI with the CBI omitted and mail a complete report, including any information claimed to be CBI, to EPA on a compact disc, flash drive, or other commonly used electronic storage media via U.S. postal service. You must mark the outside of the digital storage media as CBI and then identify electronically within the digital storage media the specific information that is claimed as CBI. Mail the media to the address in the referencing federal regulation. If no address is specified, mail the media to: U.S. EPA/OAQPS/CORE CBI Office Attention: Group Leader, Measurement Policy Group MD C404-02 4930 Old Page Rd Durham, North Carolina 27703
... B27: Certification: The certification of truth and accuracy per §63.4520(a)(3)(ii) is completed through the process of submission to CEDRI.

Sheet Company_Information
B1: DO NOT REMOVE OR EDIT INFORMATION IN THIS SECTION FOR INTERNAL USE ONLY
B2: Template Name | C2: =+Welcome!B2 -> 63.4520(f) Semiannual Compliance Report (Spreadsheet Template)
B3: CitationID | C3: =+Welcome!B3 -> 63.4520(f)
B4: Template Version | C4: =+Welcome!B4 -> v1.02
B5: Last Updated Date | C5: =+Welcome!B5 -> 45554
B6: =+Welcome!B6 -> OMB Control Number: 2060-0518 Expiration Date: 04/30/2019
B7: 40 CFR Part 63, Subpart PPPP National Emission Standards for Hazardous Air Pollutants: Surface Coating of Miscellaneous Plastic Parts and Products - §63.4520(f) Semiannual Compliance Report Spreadsheet Template
C11: SITE INFORMATION | K11: REPORTING PERIOD | N11: ADDITIONAL INFORMATION
B12: Company Record No. (Field value will automatically generate if a value is not entered.) | C12: Company Name (§63.4520(a)(3)(i)) | D12: Address (§63.4520(a)(3)(i)) | E12: Address 2 | F12: City (§63.4520(a)(3)(i)) | G12: County | H12: State Abbreviation (§63.4520(a)(3)(i)) | I12: Zip Code (§63.4520(a)(3)(i)) | J12: Responsible Agency Facility ID (State Facility Identifier) | K12: Date of Report (§63.4520(a)(3)(iii)) | L12: Beginning Date of Reporting Period (§63.4520(a)(3)(iii)) | M12: Ending Date of Reporting Period (§63.4520(a)(3)(iii)) | N12: If the predominant activity alternative (§63.4490(c)(1)) was used, the filename of the attached annual determination of predominant activity if not include in previous periodic report (§63.4520(a)(3)(vi)) | O12: If the facility-specific emission limit alternative (§63.4490(c)(2)) was used, the filename containing the facility-specific emission limits for each 12-month compliance period during the reporting period (§63.3920(a)(3)(vii)) | P12: Please enter any additional information. | Q12: Enter associated file name reference.
B13: RecordId | C13: CompanyName | D13: AddressLine1 | E13: AddressLine2 | F13: CityName | G13: CountyName | H13: StateName | I13: ZIPCode | J13: StateFacID | K13: ReportDate | L13: PeriodStartDate | M13: PeriodEndDate | N13: ActivityFile | O13: EmissionLimit | P13: AddInfo | Q13: AddFile
B14: e.g.: 1 | C14: e.g.: ABC Company | D14: e.g.: 123 Main Street | E14: e.g.: Suite 100 | F14: e.g.: Brooklyn | G14: e.g.: Kings | H14: e.g.: NY | I14: e.g.: 11221 | J14: e.g.: 9145555555 | K14: e.g.: 7/2/2017 | L14: e.g.: 1/1/2017 | M14: e.g.: 6/30/2017 | N14: e.g.: PedominantActivity.pdf | O14: e.g.: ELAlternative.pdf | P14: e.g.: | Q14: e.g.: addlinfo.zip
B15: e.g.: | C15: e.g.: | D15: e.g.: | E15: e.g.: | F15: e.g.: | G15: e.g.: | H15: e.g.: | I15: e.g.: | J15: e.g.: | K15: e.g.: | L15: e.g.: | M15: e.g.: | N15: e.g.: | O15: e.g.: | P15: e.g.: | Q15: e.g.:
B16: e.g.: | C16: e.g.: | D16: e.g.: | E16: e.g.: | F16: e.g.: | G16: e.g.: | H16: e.g.: | I16: e.g.: | J16: e.g.: | K16: e.g.: | L16: e.g.: | M16: e.g.: | N16: e.g.: | O16: e.g.: | P16: e.g.: | Q16: e.g.:
B17: e.g.: | C17: e.g.: | D17: e.g.: | E17: e.g.: | F17: e.g.: | G17: e.g.: | H17: e.g.: | I17: e.g.: | J17: e.g.: | K17: e.g.: | L17: e.g.: | M17: e.g.: | N17: e.g.: | O17: e.g.: | P17: e.g.: | Q17: e.g.:
B18: e.g.: | C18: e.g.: | D18: e.g.: | E18: e.g.: | F18: e.g.: | G18: e.g.: | H18: e.g.: | I18: e.g.: | J18: e.g.: | K18: e.g.: | L18: e.g.: | M18: e.g.: | N18: e.g.: | O18: e.g.: | P18: e.g.: | Q18: e.g.:
B19: e.g.: | C19: e.g.: | D19: e.g.: | E19: e.g.: | F19: e.g.: | G19: e.g.: | H19: e.g.: | I19: e.g.: | J19: e.g.: | K19: e.g.: | L19: e.g.: | M19: e.g.: | N19: e.g.: | O19: e.g.: | P19: e.g.: | Q19: e.g.:
B20: e.g.: | C20: e.g.: | D20: e.g.: | E20: e.g.: | F20: e.g.: | G20: e.g.: | H20: e.g.: | I20: e.g.: | J20: e.g.: | K20: e.g.: | L20: e.g.: | M20: e.g.: | N20: e.g.: | O20: e.g.: | P20: e.g.: | Q20: e.g.:
B21: e.g.: | C21: e.g.: | D21: e.g.: | E21: e.g.: | F21: e.g.: | G21: e.g.: | H21: e.g.: | I21: e.g.: | J21: e.g.: | K21: e.g.: | L21: e.g.: | M21: e.g.: | N21: e.g.: | O21: e.g.: | P21: e.g.: | Q21: e.g.:
B22: e.g.: | C22: e.g.: | D22: e.g.: | E22: e.g.: | F22: e.g.: | G22: e.g.: | H22: e.g.: | I22: e.g.: | J22: e.g.: | K22: e.g.: | L22: e.g.: | M22: e.g.: | N22: e.g.: | O22: e.g.: | P22: e.g.: | Q22: e.g.:
B23: e.g.: | C23: e.g.: | D23: e.g.: | E23: e.g.: | F23: e.g.: | G23: e.g.: | H23: e.g.: | I23: e.g.: | J23: e.g.: | K23: e.g.: | L23: e.g.: | M23: e.g.: | N23: e.g.: | O23: e.g.: | P23: e.g.: | Q23: e.g.:
B24: =+IF(C24="","",MAX(B$23:B23)+1)
B25: =+IF(C25="","",MAX(B$23:B24)+1)
B26: =+IF(C26="","",MAX(B$23:B25)+1)
B27: =+IF(C27="","",MAX(B$23:B26)+1)
B28: =+IF(C28="","",MAX(B$23:B27)+1)
B29: =+IF(C29="","",MAX(B$23:B28)+1)
B30: =+IF(C30="","",MAX(B$23:B29)+1)
B31: =+IF(C31="","",MAX(B$23:B30)+1)
B32: =+IF(C32="","",MAX(B$23:B31)+1)
B33: =+IF(C33="","",MAX(B$23:B32)+1)

Sheet Compliance_Options
B1: DO NOT REMOVE OR EDIT INFORMATION IN THIS SECTION FOR INTERNAL USE ONLY
B2: Template Name | C2: =+Welcome!B2 -> 63.4520(f) Semiannual Compliance Report (Spreadsheet Template)
B3: CitationID | C3: =+Welcome!B3 -> 63.4520(f)
B4: Template Version | C4: =+Welcome!B4 -> v1.02
B5: Last Updated Date | C5: =+Welcome!B5 -> 45554
B6: =+Welcome!B6 -> OMB Control Number: 2060-0518 Expiration Date: 04/30/2019
B7: 40 CFR Part 63, Subpart PPPP National Emission Standards for Hazardous Air Pollutants: Surface Coating of Plastic Parts and Products -
B8: §63.4520(f) Semiannual Compliance Report Spreadsheet Template
B12: Company Record No. (Select from dropdown) | C12: Name of Operation (§63.4520(a)(3)(iv)) | D12: Identification of the compliance option or options used on each plastic parts and products surface coating operation during the reporting period (§63.4520(a)(3)(iv)) (Select from dropdown) | E12: If options switched during reporting period, provide beginning date * (§63.4520(a)(3)(iv)) | F12: If options switched during reporting period, provide ending date* (§63.4520(a)(3)(iv))
B13: RecordId | C13: OperationName_CO | D13: ComplianceOptions_CO | E13: SwitchStartDate_CO | F13: SwitchEndDate_CO
B14: e.g.: 1 | C14: e.g.: West Coating | D14: e.g.: Emission Rate Without Add-on Controls 63.3981(b) | E14: e.g.:1/1/2017 | F14: e.g.:3/1/2017
B15: e.g.: 1 | C15: e.g.: West Coating | D15: e.g.: Emission Rate With Add-on Controls 63.3981(c) | E15: e.g.:3/1/2017 | F15: e.g.:6/30/2017
B16: e.g.: | C16: e.g.: | D16: e.g.: | E16: e.g.: | F16: e.g.:
B17: e.g.: | C17: e.g.: | D17: e.g.: | E17: e.g.: | F17: e.g.:
B18: e.g.: | C18: e.g.: | D18: e.g.: | E18: e.g.: | F18: e.g.:
B19: e.g.: | C19: e.g.: | D19: e.g.: | E19: e.g.: | F19: e.g.:
B20: e.g.: | C20: e.g.: | D20: e.g.: | E20: e.g.: | F20: e.g.:
B21: e.g.: | C21: e.g.: | D21: e.g.: | E21: e.g.: | F21: e.g.:
B22: e.g.: | C22: e.g.: | D22: e.g.: | E22: e.g.: | F22: e.g.:
B23: e.g.: | C23: e.g.: | D23: e.g.: | E23: e.g.: | F23: e.g.:

Sheet Description_of_Changes
B1: DO NOT REMOVE OR EDIT INFORMATION IN THIS SECTION FOR INTERNAL USE ONLY
B2: Template Name | C2: =+Welcome!B2 -> 63.4520(f) Semiannual Compliance Report (Spreadsheet Template)
B3: CitationID | C3: =+Welcome!B3 -> 63.4520(f)
B4: Template Version | C4: =+Welcome!B4 -> v1.02
B5: Last Updated Date | C5: =+Welcome!B5 -> 45554
B6: =+Welcome!B6 -> OMB Control Number: 2060-0518 Expiration Date: 04/30/2019
B7: 40 CFR Part 63, Subpart PPPP National Emission Standards for Hazardous Air Pollutants: Surface Coating of Plastic Parts and Products -
B8: §63.4520(f) Semiannual Compliance Report Spreadsheet Template
B12: Company Record No. (Select from dropdown) | C12: Describe any CPMS, coating operation, emission capture system, or add-on control device which have occurred since the last reporting period. (§63.4520(a)(7)(xii))
B13: RecordId | C13: PeriodChangeDesc
B14: e.g.: 1 | C14: e.g.
B15: e.g. | C15: e.g.
B16: e.g. | C16: e.g.
B17: e.g. | C17: e.g.
B18: e.g. | C18: e.g.
B19: e.g. | C19: e.g.
B20: e.g. | C20: e.g.
B21: e.g. | C21: e.g.
B22: e.g. | C22: e.g.
B23: e.g. | C23: e.g.

Sheet Certification
B1: DO NOT REMOVE OR EDIT INFORMATION IN THIS SECTION FOR INTERNAL USE ONLY
B2: Template Name | C2: =+Welcome!B2 -> 63.4520(f) Semiannual Compliance Report (Spreadsheet Template)
B3: CitationID | C3: =+Welcome!B3 -> 63.4520(f)
B4: Template Version | C4: =+Welcome!B4 -> v1.02
B5: Last Updated Date | C5: =+Welcome!B5 -> 45554
B6: =+Welcome!B6 -> OMB Control Number: 2060-0518 Expiration Date: 04/30/2019
B7: 40 CFR Part 63, Subpart PPPP National Emission Standards for Hazardous Air Pollutants: Surface Coating of Plastic Parts and Products -
B8: §63.4520(f) Semiannual Compliance Report Spreadsheet Template
B12: Company Record No. (Autocompleted) | C12: Is the statement "There were no deviations from the emission limitations in §63.4490, §63.4492, and §63.4493 during this reporting period." applicable to this reporting period? (§63.4520(a)(4)) | D12: If you used the emission rate with add-on controls option, is the statement "There were no periods during which the continuous parameter monitoring system (CPMS) were out-of-control as specified in §63.8(c)(7) duing this reporting period." applicable? (§63.4520(a)(4))
B13: RecordId | C13: PeriodDeviationFlag | D13: CpmsAddonComplianceFlag
B14: e.g.: 1 | C14: e.g.: Yes | D14: e.g.: Yes
B15: e.g.: | C15: e.g.: | D15: e.g.:
B16: e.g.: | C16: e.g.: | D16: e.g.:
B17: e.g.: | C17: e.g.: | D17: e.g.:
B18: e.g.: | C18: e.g.: | D18: e.g.:
B19: e.g.: | C19: e.g.: | D19: e.g.:
B20: e.g.: | C20: e.g.: | D20: e.g.:
B21: e.g.: | C21: e.g.: | D21: e.g.:
B22: e.g.: | C22: e.g.: | D22: e.g.:
B23: e.g.: | C23: e.g.: | D23: e.g.:
B24: =IF(Lists!C2="","",Lists!C2)
B25: =IF(Lists!C3="","",Lists!C3)
B26: =IF(Lists!C4="","",Lists!C4)
B27: =IF(Lists!C5="","",Lists!C5)
B28: =IF(Lists!C6="","",Lists!C6)
B29: =IF(Lists!C7="","",Lists!C7)
B30: =IF(Lists!C8="","",Lists!C8)
B31: =IF(Lists!C9="","",Lists!C9)
B32: =IF(Lists!C10="","",Lists!C10)
B33: =IF(Lists!C11="","",Lists!C11)

Sheet Compliant_Material
B1: DO NOT REMOVE OR EDIT INFORMATION IN THIS SECTION FOR INTERNAL USE ONLY
B2: Template Name | C2: =+Welcome!B2 -> 63.4520(f) Semiannual Compliance Report (Spreadsheet Template)
B3: CitationID | C3: =+Welcome!B3 -> 63.4520(f)
B4: Template Version | C4: =+Welcome!B4 -> v1.02
B5: Last Updated Date | C5: =+Welcome!B5 -> 45554
B6: =+Welcome!B6 -> OMB Control Number: 2060-0518 Expiration Date: 04/30/2019
B7: 40 CFR Part 63, Subpart PPPP National Emission Standards for Hazardous Air Pollutants: Surface Coating of Plastic Parts and Products - §63.4520(f) Semiannual Compliance Report Spreadsheet Template
B12: Company Record No. (Select from dropdown) | C12: Affected Sources or Equipment (§63.4520(a)(5)(v)) | D12: Identification of each coating that deviated from the emission limit and each organic HAP containing thinner and/or additive and cleaning material (§63.4520(a)(5)(i)) | E12: Starting Date of Use (§63.4520(a)(5)(i)) | F12: Starting Time of Use (§63.4520(a)(5)(i)) | G12: Ending Date of Use (§63.4520(a)(5)(i)) | H12: Ending Time of Use (§63.4520(a)(5)(i)) | I12: Duration of Use (hours) (§63.4520(a)(5)(i)) (Calculated value) | J12: Calculation of Organic HAP content for each coating by Equation 1 of §63.4541 (kg Organic HAP/kg Coatings Solids Used) (§63.4520(a)(5)(ii)) | K12: Mass fraction of organic HAP for each thinner, and/or other additive, and cleaning material identified (§63.4520(a)(5)(iii)) | L12: Cause of deviation (§63.4520(a)(5)(iv)) | M12: Estimate of Quantity of Organic HAP Emitted over the Emission Limit (kg) (§63.4520(a)(5)(v)) | N12: Method Used to Estimate Emissions (§63.4520(a)(5)(v)) | O12: Actions Taken to Minimize Emissions (§63.4520(a)(5)(v))
B13: RecordId | C13: OperationName_CM | D13: CoatingName_CM | E13: UseStartDate_CM | F13: UseStartTime_CM | G13: UseEndDate_CM | H13: UseEndTime_CM | I13: UseDuration_CM | J13: CoatingHapContent_CM | K13: HapMassFraction_CM | L13: DeviationCause_CM | M13: OrganicHAPQuantity_CM | N13: EstimationMethod_CM | O13: ActionTaken_CM
B14: e.g.: 1 | C14: e.g.: West Coating | D14: e.g.: Coating 351 | E14: e.g.: 2/1/2017 | F14: e.g.: 13:05 | G14: e.g.: 2/1/2017 | H14: e.g.: 13:05 | I14: e.g.: 36.25 | J14: e.g.: 150 | K14: e.g.: 0.30 | L14: e.g.: Process Problems | M14: e.g.: 5.25 | N14: e.g.: engineering calculations | O14: e.g.:
B15: e.g.: | C15: e.g.: | D15: e.g.: | E15: e.g.: | F15: e.g.: | G15: e.g.: | H15: e.g.: | I15: e.g.: | J15: e.g.: | K15: e.g.: | L15: e.g.: | M15: e.g.: | N15: e.g.: | O15: e.g.:
B16: e.g.: | C16: e.g.: | D16: e.g.: | E16: e.g.: | F16: e.g.: | G16: e.g.: | H16: e.g.: | I16: e.g.: | J16: e.g.: | K16: e.g.: | L16: e.g.: | M16: e.g.: | N16: e.g.: | O16: e.g.:
B17: e.g.: | C17: e.g.: | D17: e.g.: | E17: e.g.: | F17: e.g.: | G17: e.g.: | H17: e.g.: | I17: e.g.: | J17: e.g.: | K17: e.g.: | L17: e.g.: | M17: e.g.: | N17: e.g.: | O17: e.g.:
B18: e.g.: | C18: e.g.: | D18: e.g.: | E18: e.g.: | F18: e.g.: | G18: e.g.: | H18: e.g.: | I18: e.g.: | J18: e.g.: | K18: e.g.: | L18: e.g.: | M18: e.g.: | N18: e.g.: | O18: e.g.:
B19: e.g.: | C19: e.g.: | D19: e.g.: | E19: e.g.: | F19: e.g.: | G19: e.g.: | H19: e.g.: | I19: e.g.: | J19: e.g.: | K19: e.g.: | L19: e.g.: | M19: e.g.: | N19: e.g.: | O19: e.g.:
B20: e.g.: | C20: e.g.: | D20: e.g.: | E20: e.g.: | F20: e.g.: | G20: e.g.: | H20: e.g.: | I20: e.g.: | J20: e.g.: | K20: e.g.: | L20: e.g.: | M20: e.g.: | N20: e.g.: | O20: e.g.:
B21: e.g.: | C21: e.g.: | D21: e.g.: | E21: e.g.: | F21: e.g.: | G21: e.g.: | H21: e.g.: | I21: e.g.: | J21: e.g.: | K21: e.g.: | L21: e.g.: | M21: e.g.: | N21: e.g.: | O21: e.g.:
B22: e.g.: | C22: e.g.: | D22: e.g.: | E22: e.g.: | F22: e.g.: | G22: e.g.: | H22: e.g.: | I22: e.g.: | J22: e.g.: | K22: e.g.: | L22: e.g.: | M22: e.g.: | N22: e.g.: | O22: e.g.:
B23: e.g.: | C23: e.g.: | D23: e.g.: | E23: e.g.: | F23: e.g.: | G23: e.g.: | H23: e.g.: | I23: e.g.: | J23: e.g.: | K23: e.g.: | L23: e.g.: | M23: e.g.: | N23: e.g.: | O23: e.g.:
I24: =IF(H24="","",(VALUE(TEXT(G24,"m/dd/yy ")&TEXT(H24,"hh:mm:ss"))-(VALUE(TEXT(E24,"m/dd/yy ")&TEXT(F24,"hh:mm:ss"))))*24)
I25: =IF(H25="","",(VALUE(TEXT(G25,"m/dd/yy ")&TEXT(H25,"hh:mm:ss"))-(VALUE(TEXT(E25,"m/dd/yy ")&TEXT(F25,"hh:mm:ss"))))*24)
I26: =IF(H26="","",(VALUE(TEXT(G26,"m/dd/yy ")&TEXT(H26,"hh:mm:ss"))-(VALUE(TEXT(E26,"m/dd/yy ")&TEXT(F26,"hh:mm:ss"))))*24)
I27: =IF(H27="","",(VALUE(TEXT(G27,"m/dd/yy ")&TEXT(H27,"hh:mm:ss"))-(VALUE(TEXT(E27,"m/dd/yy ")&TEXT(F27,"hh:mm:ss"))))*24)
I28: =IF(H28="","",(VALUE(TEXT(G28,"m/dd/yy ")&TEXT(H28,"hh:mm:ss"))-(VALUE(TEXT(E28,"m/dd/yy ")&TEXT(F28,"hh:mm:ss"))))*24)
I29: =IF(H29="","",(VALUE(TEXT(G29,"m/dd/yy ")&TEXT(H29,"hh:mm:ss"))-(VALUE(TEXT(E29,"m/dd/yy ")&TEXT(F29,"hh:mm:ss"))))*24)
I30: =IF(H30="","",(VALUE(TEXT(G30,"m/dd/yy ")&TEXT(H30,"hh:mm:ss"))-(VALUE(TEXT(E30,"m/dd/yy ")&TEXT(F30,"hh:mm:ss"))))*24)
I31: =IF(H31="","",(VALUE(TEXT(G31,"m/dd/yy ")&TEXT(H31,"hh:mm:ss"))-(VALUE(TEXT(E31,"m/dd/yy ")&TEXT(F31,"hh:mm:ss"))))*24)
I32: =IF(H32="","",(VALUE(TEXT(G32,"m/dd/yy ")&TEXT(H32,"hh:mm:ss"))-(VALUE(TEXT(E32,"m/dd/yy ")&TEXT(F32,"hh:mm:ss"))))*24)
I33: =IF(H33="","",(VALUE(TEXT(G33,"m/dd/yy ")&TEXT(H33,"hh:mm:ss"))-(VALUE(TEXT(E33,"m/dd/yy ")&TEXT(F33,"hh:mm:ss"))))*24)
I34: =IF(H34="","",(VALUE(TEXT(G34,"m/dd/yy ")&TEXT(H34,"hh:mm:ss"))-(VALUE(TEXT(E34,"m/dd/yy ")&TEXT(F34,"hh:mm:ss"))))*24)
I35: =IF(H35="","",(VALUE(TEXT(G35,"m/dd/yy ")&TEXT(H35,"hh:mm:ss"))-(VALUE(TEXT(E35,"m/dd/yy ")&TEXT(F35,"hh:mm:ss"))))*24)
... I500: =IF(H500="","",(VALUE(TEXT(G500,"m/dd/yy ")&TEXT(H500,"hh:mm:ss"))-(VALUE(TEXT(E500,"m/dd/yy ")&TEXT(F500,"hh:mm:ss"))))*24)

Sheet Number_of_Deviations_Compliant
B1: DO NOT REMOVE OR EDIT INFORMATION IN THIS SECTION FOR INTERNAL USE ONLY
B2: Template Name | C2: =+Welcome!B2 -> 63.4520(f) Semiannual Compliance Report (Spreadsheet Template)
B3: CitationID | C3: =+Welcome!B3 -> 63.4520(f)
B4: Template Version | C4: =+Welcome!B4 -> v1.02
B5: Last Updated Date | C5: =+Welcome!B5 -> 45554
B6: =+Welcome!B6 -> OMB Control Number: 2060-0518 Expiration Date: 04/30/2019
B7: 40 CFR Part 63, Subpart PPPP National Emission Standards for Hazardous Air Pollutants:
B8: Surface Coating of Plastic Parts and Products - §63.4520(f) Semiannual Compliance Report Spreadsheet Template
B12: Company Record No. (Autocompleted) | C12: Number of Deviations for Compliant Material Option (§63.4520(a)(3)(v)) (Autocompleted)
B13: RecordId | C13: DeviationsCount_CMO
B14: e.g.: 1 | C14: e.g.: 2
B15: e.g.: 2 | C15: e.g.: 1
B16: e.g.: | C16: e.g.:
B17: e.g.: | C17: e.g.:
B18: e.g.: | C18: e.g.:
B19: e.g.: | C19: e.g.:
B20: e.g.: | C20: e.g.:
B21: e.g.: | C21: e.g.:
B22: e.g.: | C22: e.g.:
B23: e.g.: | C23: e.g.:
B24: =IF(Lists!BI2="","",Lists!BI2) | C24: =IF(B24="","",COUNTIF(Compliant_Material!$B$24:'Compliant_Material'!$B$500,B24))
B25: =IF(Lists!BI3="","",Lists!BI3) | C25: =IF(B25="","",COUNTIF(Compliant_Material!$B$24:'Compliant_Material'!$B$500,B25))
B26: =IF(Lists!BI4="","",Lists!BI4) | C26: =IF(B26="","",COUNTIF(Compliant_Material!$B$24:'Compliant_Material'!$B$500,B26))
B27: =IF(Lists!BI5="","",Lists!BI5) | C27: =IF(B27="","",COUNTIF(Compliant_Material!$B$24:'Compliant_Material'!$B$500,B27))
B28: =IF(Lists!BI6="","",Lists!BI6) | C28: =IF(B28="","",COUNTIF(Compliant_Material!$B$24:'Compliant_Material'!$B$500,B28))
B29: =IF(Lists!BI7="","",Lists!BI7) | C29: =IF(B29="","",COUNTIF(Compliant_Material!$B$24:'Compliant_Material'!$B$500,B29))
B30: =IF(Lists!BI8="","",Lists!BI8) | C30: =IF(B30="","",COUNTIF(Compliant_Material!$B$24:'Compliant_Material'!$B$500,B30))
B31: =IF(Lists!BI9="","",Lists!BI9) | C31: =IF(B31="","",COUNTIF(Compliant_Material!$B$24:'Compliant_Material'!$B$500,B31))
B32: =IF(Lists!BI10="","",Lists!BI10) | C32: =IF(B32="","",COUNTIF(Compliant_Material!$B$24:'Compliant_Material'!$B$500,B32))
B33: =IF(Lists!BI11="","",Lists!BI11) | C33: =IF(B33="","",COUNTIF(Compliant_Material!$B$24:'Compliant_Material'!$B$500,B33))

Sheet Emission_Rate
B1: DO NOT REMOVE OR EDIT INFORMATION IN THIS SECTION FOR INTERNAL USE ONLY
B2: Template Name | C2: =+Welcome!B2 -> 63.4520(f) Semiannual Compliance Report (Spreadsheet Template)
B3: CitationID | C3: =+Welcome!B3 -> 63.4520(f)
B4: Template Version | C4: =+Welcome!B4 -> v1.02
B5: Last Updated Date | C5: =+Welcome!B5 -> 45554
B6: =+Welcome!B6 -> OMB Control Number: 2060-0518 Expiration Date: 04/30/2019
B7: 40 CFR Part 63, Subpart PPPP National Emission Standards for Hazardous Air Pollutants: Surface Coating of Plastic Parts and Products - §63.4520(f) Semiannual Compliance Report Spreadsheet Template
B12: Company Record No. (Autocompleted) | C12: Affected Source or Equipment (§63.4520(a)(6)(iv)) (Autocompleted) | D12: 12-month rolling average organic HAP emission rate during month 1 of reporting period (kg/kg) (§63.4520(a)(3)(v)) | E12: 12-month rolling average organic HAP emission rate during month 2 of reporting period (kg/kg) (§63.4520(a)(3)(v)) | F12: 12-month rolling average organic HAP emission rate during month 3 of reporting period (kg/kg) (§63.4520(a)(3)(v)) | G12: 12-month rolling average organic HAP emission rate during month 4 of reporting period (kg/kg) (§63.4520(a)(3)(v)) | H12: 12-month rolling average organic HAP emission rate during month 5 of reporting period (kg/kg) (§63.4520(a)(3)(v)) | I12: 12-month rolling average organic HAP emission rate during month 6 of reporting period (kg/kg) (§63.4520(a)(3)(v))
B13: RecordId | C13: OperationName_ER | D13: EmissionRateMonth1_ER | E13: EmissionRateMonth2_ER | F13: EmissionRateMonth3_ER | G13: EmissionRateMonth4_ER | H13: EmissionRateMonth5_ER | I13: EmissionRateMonth6_ER
B14: e.g.: 1 | C14: e.g.: West Coating | D14: e.g.: 0.51 | E14: e.g.: 0.51 | F14: e.g.: 0.51 | G14: e.g.: 0.51 | H14: e.g.: 0.51 | I14: e.g.: 0.51
B15: e.g.: | C15: e.g.: | D15: e.g.: | E15: e.g.: | F15: e.g.: | G15: e.g.: | H15: e.g.: | I15: e.g.:
B16: e.g.: | C16: e.g.: | D16: e.g.: | E16: e.g.: | F16: e.g.: | G16: e.g.: | H16: e.g.: | I16: e.g.:
B17: e.g.: | C17: e.g.: | D17: e.g.: | E17: e.g.: | F17: e.g.: | G17: e.g.: | H17: e.g.: | I17: e.g.:
B18: e.g.: | C18: e.g.: | D18: e.g.: | E18: e.g.: | F18: e.g.: | G18: e.g.: | H18: e.g.: | I18: e.g.:
B19: e.g.: | C19: e.g.: | D19: e.g.: | E19: e.g.: | F19: e.g.: | G19: e.g.: | H19: e.g.: | I19: e.g.:
B20: e.g.: | C20: e.g.: | D20: e.g.: | E20: e.g.: | F20: e.g.: | G20: e.g.: | H20: e.g.: | I20: e.g.:
B21: e.g.: | C21: e.g.: | D21: e.g.: | E21: e.g.: | F21: e.g.: | G21: e.g.: | H21: e.g.: | I21: e.g.:
B22: e.g.: | C22: e.g.: | D22: e.g.: | E22: e.g.: | F22: e.g.: | G22: e.g.: | H22: e.g.: | I22: e.g.:
B23: e.g.: | C23: e.g.: | D23: e.g.: | E23: e.g.: | F23: e.g.: | G23: e.g.: | H23: e.g.: | I23: e.g.:
B24: =IF(Lists!BR2="","",Lists!BR2) | C24: =IF(Lists!BS2="","",Lists!BS2)
B25: =IF(Lists!BR3="","",Lists!BR3) | C25: =IF(Lists!BS3="","",Lists!BS3)
B26: =IF(Lists!BR4="","",Lists!BR4) | C26: =IF(Lists!BS4="","",Lists!BS4)
B27: =IF(Lists!BR5="","",Lists!BR5) | C27: =IF(Lists!BS5="","",Lists!BS5)
B28: =IF(Lists!BR6="","",Lists!BR6) | C28: =IF(Lists!BS6="","",Lists!BS6)
B29: =IF(Lists!BR7="","",Lists!BR7) | C29: =IF(Lists!BS7="","",Lists!BS7)
B30: =IF(Lists!BR8="","",Lists!BR8) | C30: =IF(Lists!BS8="","",Lists!BS8)
B31: =IF(Lists!BR9="","",Lists!BR9) | C31: =IF(Lists!BS9="","",Lists!BS9)
B32: =IF(Lists!BR10="","",Lists!BR10) | C32: =IF(Lists!BS10="","",Lists!BS10)
B33: =IF(Lists!BR11="","",Lists!BR11) | C33: =IF(Lists!BS11="","",Lists!BS11)
B34: =IF(Lists!BR12="","",Lists!BR12) | C34: =IF(Lists!BS12="","",Lists!BS12)
B35: =IF(Lists!BR13="","",Lists!BR13) | C35: =IF(Lists!BS13="","",Lists!BS13)
... B500: =IF(Lists!BR478="","",Lists!BR478) | C500: =IF(Lists!BS478="","",Lists!BS478)

Sheet Without_Addon
B1: DO NOT REMOVE OR EDIT INFORMATION IN THIS SECTION FOR INTERNAL USE ONLY
B2: Template Name | C2: =Welcome!B2 -> 63.4520(f) Semiannual Compliance Report (Spreadsheet Template)
B3: CitationID | C3: =Welcome!B3 -> 63.4520(f)
B4: Template Version | C4: =Welcome!B4 -> v1.02
B5: Last Updated Date | C5: =Welcome!B5 -> 45554
B6: =Welcome!B6 -> OMB Control Number: 2060-0518 Expiration Date: 04/30/2019
B7: 40 CFR Part 63, Subpart PPPP National Emission Standards for Hazardous Air Pollutants: Surface Coating of Plastic Parts and Products - §63.4520(f) Semiannual Compliance Report Spreadsheet Template
B12: Company Record No. (Autocompleted) | C12: Affected Source or Equipment (§63.4520(a)(6)(iv)) (Autocompleted) | D12: Company Record No. and Affected Source or Equipment (§63.4520(a)(6)(iv)) (Select from dropdown) | E12: Starting Date Compliance Period Which Exceeded Organic HAP Emission Rate (§63.4520(a)(6)(i)) | F12: Ending Date Compliance Period Which Exceeded Organic HAP Emission Rate (§63.4520(a)(6)(i)) | G12: 12-month organic HAP emission rate (kg/kg) (§63.4520(a)(6)(ii)) | H12: Name of Attached file containing Calculations (§63.3920(a)(6)(ii)) | I12: Mass of Organic HAP in waste materials per §63.4551(e)(4) (§63.4520(a)(6)(ii)) | J12: Cause of Deviation (§63.4520(a)(6)(iii)) | K12: Estimate of quantity of organic HAP emitted over the emission limit (kg) (§63.4520(a)(6)(iv)) | L12: Method Used to Estimate Emissions (§63.4520(a)(6)(iv)) | M12: Actions Taken to Minimize Emissions (§63.4520(a)(6)(iv))
B13: RecordId | C13: OperationName_NoAddon | D13: AffectedSouce_NoAddon | E13: PeriodStartDate_NoAddon | F13: PeriodEndDate_NoAddon | G13: TotalEmission12month_NoAddon | H13: CalculationsFile_NoAddon | I13: HapMass_NoAddon | J13: DeviationCause_NoAddon | K13: OrganicHAPQuantity_NoAddon | L13: EstimationMethod_NoAddon | M13: ActionTaken_NoAddon
B14: e.g.: 1 | C14: e.g.: West Coating | D14: e.g.: 1 West Coating | E14: e.g.: 3/1/2017 | F14: e.g.: 3/30/2017 | G14: e.g.: 0.25 | H14: e.g.: calculations.xlsx | I14: e.g.: 5.0 | J14: e.g.: Other Unknown Causes | K14: e.g.: 5.25 | L14: e.g.: engineering calculations | M14: e.g.:
B15: e.g.: | C15: e.g.: | D15: e.g.: | E15: e.g.: | F15: e.g.: | G15: e.g.: | H15: e.g.: | I15: e.g.: | J15: e.g.: | K15: e.g.: | L15: e.g.: | M15: e.g.:
B16: e.g.: | C16: e.g.: | D16: e.g.: | E16: e.g.: | F16: e.g.: | G16: e.g.: | H16: e.g.: | I16: e.g.: | J16: e.g.: | K16: e.g.: | L16: e.g.: | M16: e.g.:
B17: e.g.: | C17: e.g.: | D17: e.g.: | E17: e.g.: | F17: e.g.: | G17: e.g.: | H17: e.g.: | I17: e.g.: | J17: e.g.: | K17: e.g.: | L17: e.g.: | M17: e.g.:
B18: e.g.: | C18: e.g.: | D18: e.g.: | E18: e.g.: | F18: e.g.: | G18: e.g.: | H18: e.g.: | I18: e.g.: | J18: e.g.: | K18: e.g.: | L18: e.g.: | M18: e.g.:
B19: e.g.: | C19: e.g.: | D19: e.g.: | E19: e.g.: | F19: e.g.: | G19: e.g.: | H19: e.g.: | I19: e.g.: | J19: e.g.: | K19: e.g.: | L19: e.g.: | M19: e.g.:
B20: e.g.: | C20: e.g.: | D20: e.g.: | E20: e.g.: | F20: e.g.: | G20: e.g.: | H20: e.g.: | I20: e.g.: | J20: e.g.: | K20: e.g.: | L20: e.g.: | M20: e.g.:
B21: e.g.: | C21: e.g.: | D21: e.g.: | E21: e.g.: | F21: e.g.: | G21: e.g.: | H21: e.g.: | I21: e.g.: | J21: e.g.: | K21: e.g.: | L21: e.g.: | M21: e.g.:
B22: e.g.: | C22: e.g.: | D22: e.g.: | E22: e.g.: | F22: e.g.: | G22: e.g.: | H22: e.g.: | I22: e.g.: | J22: e.g.: | K22: e.g.: | L22: e.g.: | M22: e.g.:
B23: e.g.: | C23: e.g.: | D23: e.g.: | E23: e.g.: | F23: e.g.: | G23: e.g.: | H23: e.g.: | I23: e.g.: | J23: e.g.: | K23: e.g.: | L23: e.g.: | M23: e.g.:
B24: =IF($D24="","",VLOOKUP($D24,Lists!$AR$2:$AT$955,COLUMN(),FALSE)) | C24: =IF($D24="","",VLOOKUP($D24,Lists!$AR$2:$AT$955,COLUMN(),FALSE))
B25: =IF($D25="","",VLOOKUP($D25,Lists!$AR$2:$AT$955,COLUMN(),FALSE)) | C25: =IF($D25="","",VLOOKUP($D25,Lists!$AR$2:$AT$955,COLUMN(),FALSE))
B26: =IF($D26="","",VLOOKUP($D26,Lists!$AR$2:$AT$955,COLUMN(),FALSE)) | C26: =IF($D26="","",VLOOKUP($D26,Lists!$AR$2:$AT$955,COLUMN(),FALSE))
B27: =IF($D27="","",VLOOKUP($D27,Lists!$AR$2:$AT$955,COLUMN(),FALSE)) | C27: =IF($D27="","",VLOOKUP($D27,Lists!$AR$2:$AT$955,COLUMN(),FALSE))
B28: =IF($D28="","",VLOOKUP($D28,Lists!$AR$2:$AT$955,COLUMN(),FALSE)) | C28: =IF($D28="","",VLOOKUP($D28,Lists!$AR$2:$AT$955,COLUMN(),FALSE))
B29: =IF($D29="","",VLOOKUP($D29,Lists!$AR$2:$AT$955,COLUMN(),FALSE)) | C29: =IF($D29="","",VLOOKUP($D29,Lists!$AR$2:$AT$955,COLUMN(),FALSE))
B30: =IF($D30="","",VLOOKUP($D30,Lists!$AR$2:$AT$955,COLUMN(),FALSE)) | C30: =IF($D30="","",VLOOKUP($D30,Lists!$AR$2:$AT$955,COLUMN(),FALSE))
B31: =IF($D31="","",VLOOKUP($D31,Lists!$AR$2:$AT$955,COLUMN(),FALSE)) | C31: =IF($D31="","",VLOOKUP($D31,Lists!$AR$2:$AT$955,COLUMN(),FALSE))
B32: =IF($D32="","",VLOOKUP($D32,Lists!$AR$2:$AT$955,COLUMN(),FALSE)) | C32: =IF($D32="","",VLOOKUP($D32,Lists!$AR$2:$AT$955,COLUMN(),FALSE))
B33: =IF($D33="","",VLOOKUP($D33,Lists!$AR$2:$AT$955,COLUMN(),FALSE)) | C33: =IF($D33="","",VLOOKUP($D33,Lists!$AR$2:$AT$955,COLUMN(),FALSE))
B34: =IF($D34="","",VLOOKUP($D34,Lists!$AR$2:$AT$955,COLUMN(),FALSE)) | C34: =IF($D34="","",VLOOKUP($D34,Lists!$AR$2:$AT$955,COLUMN(),FALSE))
B35: =IF($D35="","",VLOOKUP($D35,Lists!$AR$2:$AT$955,COLUMN(),FALSE)) | C35: =IF($D35="","",VLOOKUP($D35,Lists!$AR$2:$AT$955,COLUMN(),FALSE))
... B500: =IF($D500="","",VLOOKUP($D500,Lists!$AR$2:$AT$955,COLUMN(),FALSE)) | C500: =IF($D500="","",VLOOKUP($D500,Lists!$AR$2:$AT$955,COLUMN(),FALSE))

Sheet Number_of_Deviations_Without
B1: DO NOT REMOVE OR EDIT INFORMATION IN THIS SECTION FOR INTERNAL USE ONLY
B2: Template Name | C2: =+Welcome!B2 -> 63.4520(f) Semiannual Compliance Report (Spreadsheet Template)
B3: CitationID | C3: =+Welcome!B3 -> 63.4520(f)
B4: Template Version | C4: =+Welcome!B4 -> v1.02
B5: Last Updated Date | C5: =+Welcome!B5 -> 45554
B6: =+Welcome!B6 -> OMB Control Number: 2060-0518 Expiration Date: 04/30/2019
B7: 40 CFR Part 63, Subpart PPPP National Emission Standards for Hazardous Air Pollutants:
B8: Surface Coating of Plastic Parts and Products -
B9: §63.4520(f) Semiannual Compliance Report Spreadsheet Template
B12: Company Record No. (Autocompleted) | C12: Name of Operation (§63.4520(a)(6)(iv)) (Autocompleted) | D12: Number of Deviations Without an Addon Control Device (§63.4520(a)(6)(iv)) (Autocompleted)
B13: RecordId | C13: OperationName_NDWO | D13: DeviationsCount_NDWO
B14: e.g.: 1 | C14: e.g.: West Coating | D14: e.g.: 5
B15: e.g.: | C15: e.g.: | D15: e.g.:
B16: e.g.: | C16: e.g.: | D16: e.g.:
B17: e.g.: | C17: e.g.: | D17: e.g.:
B18: e.g.: | C18: e.g.: | D18: e.g.:
B19: e.g.: | C19: e.g.: | D19: e.g.:
B20: e.g.: | C20: e.g.: | D20: e.g.:
B21: e.g.: | C21: e.g.: | D21: e.g.:
B22: e.g.: | C22: e.g.: | D22: e.g.:
B23: e.g.: | C23: e.g.: | D23: e.g.:
B24: =IF(Lists!AS2="","",Lists!AS2) | C24: =IF(Lists!AT2="","",Lists!AT2) | D24: =IF(C24="","",COUNTIFS(Without_Addon!$B$24:$B$500,B24,Without_Addon!$C$24:$C$500,C24))
B25: =IF(Lists!AS3="","",Lists!AS3) | C25: =IF(Lists!AT3="","",Lists!AT3) | D25: =IF(C25="","",COUNTIFS(Without_Addon!$B$24:$B$500,B25,Without_Addon!$C$24:$C$500,C25))
B26: =IF(Lists!AS4="","",Lists!AS4) | C26: =IF(Lists!AT4="","",Lists!AT4) | D26: =IF(C26="","",COUNTIFS(Without_Addon!$B$24:$B$500,B26,Without_Addon!$C$24:$C$500,C26))
B27: =IF(Lists!AS5="","",Lists!AS5) | C27: =IF(Lists!AT5="","",Lists!AT5) | D27: =IF(C27="","",COUNTIFS(Without_Addon!$B$24:$B$500,B27,Without_Addon!$C$24:$C$500,C27))
B28: =IF(Lists!AS6="","",Lists!AS6) | C28: =IF(Lists!AT6="","",Lists!AT6) | D28: =IF(C28="","",COUNTIFS(Without_Addon!$B$24:$B$500,B28,Without_Addon!$C$24:$C$500,C28))
B29: =IF(Lists!AS7="","",Lists!AS7) | C29: =IF(Lists!AT7="","",Lists!AT7) | D29: =IF(C29="","",COUNTIFS(Without_Addon!$B$24:$B$500,B29,Without_Addon!$C$24:$C$500,C29))
B30: =IF(Lists!AS8="","",Lists!AS8) | C30: =IF(Lists!AT8="","",Lists!AT8) | D30: =IF(C30="","",COUNTIFS(Without_Addon!$B$24:$B$500,B30,Without_Addon!$C$24:$C$500,C30))
B31: =IF(Lists!AS9="","",Lists!AS9) | C31: =IF(Lists!AT9="","",Lists!AT9) | D31: =IF(C31="","",COUNTIFS(Without_Addon!$B$24:$B$500,B31,Without_Addon!$C$24:$C$500,C31))
B32: =IF(Lists!AS10="","",Lists!AS10) | C32: =IF(Lists!AT10="","",Lists!AT10) | D32: =IF(C32="","",COUNTIFS(Without_Addon!$B$24:$B$500,B32,Without_Addon!$C$24:$C$500,C32))
B33: =IF(Lists!AS11="","",Lists!AS11) | C33: =IF(Lists!AT11="","",Lists!AT11) | D33: =IF(C33="","",COUNTIFS(Without_Addon!$B$24:$B$500,B33,Without_Addon!$C$24:$C$500,C33))
B34: =IF(Lists!AS12="","",Lists!AS12) | C34: =IF(Lists!AT12="","",Lists!AT12) | D34: =IF(C34="","",COUNTIFS(Without_Addon!$B$24:$B$500,B34,Without_Addon!$C$24:$C$500,C34))
B35: =IF(Lists!AS13="","",Lists!AS13) | C35: =IF(Lists!AT13="","",Lists!AT13) | D35: =IF(C35="","",COUNTIFS(Without_Addon!$B$24:$B$500,B35,Without_Addon!$C$24:$C$500,C35))
... B100: =IF(Lists!AS78="","",Lists!AS78) | C100: =IF(Lists!AT78="","",Lists!AT78) | D100: =IF(C100="","",COUNTIFS(Without_Addon!$B$24:$B$500,B100,Without_Addon!$C$24:$C$500,C100))

Sheet With_Addon_EmisLimit
B1: DO NOT REMOVE OR EDIT INFORMATION IN THIS SECTION FOR INTERNAL USE ONLY
B2: Template Name | C2: =+Welcome!B2 -> 63.4520(f) Semiannual Compliance Report (Spreadsheet Template)
B3: CitationID | C3: =+Welcome!B3 -> 63.4520(f)
B4: Template Version | C4: =+Welcome!B4 -> v1.02
B5: Last Updated Date | C5: =+Welcome!B5 -> 45554
B6: =+Welcome!B6 -> OMB Control Number: 2060-0518 Expiration Date: 04/30/2019
B7: 40 CFR Part 63, Subpart PPPP National Emission Standards for Hazardous Air Pollutants: Surface Coating of Plastic Parts and Products - §63.4520(f) Semiannual Compliance Report Spreadsheet Template
B12: Company Record No. (Autocompleted) | C12: Affected Source or Equipment (§63.4520(a)(7)(iv)) (Autocompleted) | D12: Company Record No. and Affected Source or Equipment (§63.4520(a)(7)(iv)) (Select from dropdown) | E12: Starting Date Compliance Period Where Organic HAP Emission Rate Exceeded the Emission Limit (§63.4520(a)(7)(i)) | F12: Ending Date Compliance Period Where Organic HAP Emission Rate Exceeded the Emission Limit (§63.4520(a)(7)(i)) | G12: 12-month organic HAP emission rate for Compliance Period Where Organic HAP Emission Rate Exceeded the Emission Limit (kg/kg) (§63.4520(a)(7)(ii)) | H12: Name of Attached file containing Calculations (§63.3920(a)(7)(ii)) | I12: Cause of Deviation (§63.4520(a)(7)(xiv)) (Select from dropdown) | J12: Actions Taken to Minimize Emissions (§63.4520(a)(7)(xiv)) | K12: Estimate of quantity of organic HAP emitted over the emission limit (kg) (§63.4520(a)(7)(xv)) | L12: Method Used to Estimate Emissions (§63.4520(a)(7)(xv))
B13: RecordId | C13: OperationName_AddonEL | D13: AffectedSource_AddonEL | E13: PeriodStartDate_AddonEL | F13: PeriodEndDate_AddonEL | G13: TotalEmission12month_AddonEL | H13: CalculationsFile_AddonEL | I13: DeviationCause_AddonEL | J13: ActionsTaken_AddonEL | K13: OrganicHAPQuantity_AddonEL | L13: EstimationMethod_AddonEL
B14: e.g.: 1 | C14: e.g.: East Coating | D14: e.g.: 1 East Coating | E14: e.g.: 3/1/2017 | F14: e.g.: 3/30/2017 | G14: e.g.: 0.25 | H14: e.g.: calculations.xlsx | I14: e.g.: Other Unknown Causes | J14: e.g.: | K14: e.g.: 5.25 | L14: e.g.: engineering calculations
B15: e.g.: | C15: e.g.: | D15: e.g.: | E15: e.g.: | F15: e.g.: | G15: e.g.: | H15: e.g.: | I15: e.g.: | J15: e.g.: | K15: e.g.: | L15: e.g.:
B16: e.g.: | C16: e.g.: | D16: e.g.: | E16: e.g.: | F16: e.g.: | G16: e.g.: | H16: e.g.: | I16: e.g.: | J16: e.g.: | K16: e.g.: | L16: e.g.:
B17: e.g.: | C17: e.g.: | D17: e.g.: | E17: e.g.: | F17: e.g.: | G17: e.g.: | H17: e.g.: | I17: e.g.: | J17: e.g.: | K17: e.g.: | L17: e.g.:
B18: e.g.: | C18: e.g.: | D18: e.g.: | E18: e.g.: | F18: e.g.: | G18: e.g.: | H18: e.g.: | I18: e.g.: | J18: e.g.: | K18: e.g.: | L18: e.g.:
B19: e.g.: | C19: e.g.: | D19: e.g.: | E19: e.g.: | F19: e.g.: | G19: e.g.: | H19: e.g.: | I19: e.g.: | J19: e.g.: | K19: e.g.: | L19: e.g.:
B20: e.g.: | C20: e.g.: | D20: e.g.: | E20: e.g.: | F20: e.g.: | G20: e.g.: | H20: e.g.: | I20: e.g.: | J20: e.g.: | K20: e.g.: | L20: e.g.:
B21: e.g.: | C21: e.g.: | D21: e.g.: | E21: e.g.: | F21: e.g.: | G21: e.g.: | H21: e.g.: | I21: e.g.: | J21: e.g.: | K21: e.g.: | L21: e.g.:
B22: e.g.: | C22: e.g.: | D22: e.g.: | E22: e.g.: | F22: e.g.: | G22: e.g.: | H22: e.g.: | I22: e.g.: | J22: e.g.: | K22: e.g.: | L22: e.g.:
B23: e.g.: | C23: e.g.: | D23: e.g.: | E23: e.g.: | F23: e.g.: | G23: e.g.: | H23: e.g.: | I23: e.g.: | J23: e.g.: | K23: e.g.: | L23: e.g.:
B24: =IF($D24="","",VLOOKUP($D24,Lists!$BB$2:$BD$78,COLUMN(),FALSE)) | C24: =IF($D24="","",VLOOKUP($D24,Lists!$BB$2:$BD$78,COLUMN(),FALSE))
B25: =IF($D25="","",VLOOKUP($D25,Lists!$BB$2:$BD$78,COLUMN(),FALSE)) | C25: =IF($D25="","",VLOOKUP($D25,Lists!$BB$2:$BD$78,COLUMN(),FALSE))
B26: =IF($D26="","",VLOOKUP($D26,Lists!$BB$2:$BD$78,COLUMN(),FALSE)) | C26: =IF($D26="","",VLOOKUP($D26,Lists!$BB$2:$BD$78,COLUMN(),FALSE))
B27: =IF($D27="","",VLOOKUP($D27,Lists!$BB$2:$BD$78,COLUMN(),FALSE)) | C27: =IF($D27="","",VLOOKUP($D27,Lists!$BB$2:$BD$78,COLUMN(),FALSE))
B28: =IF($D28="","",VLOOKUP($D28,Lists!$BB$2:$BD$78,COLUMN(),FALSE)) | C28: =IF($D28="","",VLOOKUP($D28,Lists!$BB$2:$BD$78,COLUMN(),FALSE))
B29: =IF($D29="","",VLOOKUP($D29,Lists!$BB$2:$BD$78,COLUMN(),FALSE)) | C29: =IF($D29="","",VLOOKUP($D29,Lists!$BB$2:$BD$78,COLUMN(),FALSE))
B30: =IF($D30="","",VLOOKUP($D30,Lists!$BB$2:$BD$78,COLUMN(),FALSE)) | C30: =IF($D30="","",VLOOKUP($D30,Lists!$BB$2:$BD$78,COLUMN(),FALSE))
B31: =IF($D31="","",VLOOKUP($D31,Lists!$BB$2:$BD$78,COLUMN(),FALSE)) | C31: =IF($D31="","",VLOOKUP($D31,Lists!$BB$2:$BD$78,COLUMN(),FALSE))
B32: =IF($D32="","",VLOOKUP($D32,Lists!$BB$2:$BD$78,COLUMN(),FALSE)) | C32: =IF($D32="","",VLOOKUP($D32,Lists!$BB$2:$BD$78,COLUMN(),FALSE))
B33: =IF($D33="","",VLOOKUP($D33,Lists!$BB$2:$BD$78,COLUMN(),FALSE)) | C33: =IF($D33="","",VLOOKUP($D33,Lists!$BB$2:$BD$78,COLUMN(),FALSE))
B34: =IF($D34="","",VLOOKUP($D34,Lists!$BB$2:$BD$78,COLUMN(),FALSE)) | C34: =IF($D34="","",VLOOKUP($D34,Lists!$BB$2:$BD$78,COLUMN(),FALSE))
B35: =IF($D35="","",VLOOKUP($D35,Lists!$BB$2:$BD$78,COLUMN(),FALSE)) | C35: =IF($D35="","",VLOOKUP($D35,Lists!$BB$2:$BD$78,COLUMN(),FALSE))
... B500: =IF($D500="","",VLOOKUP($D500,Lists!$BB$2:$BD$78,COLUMN(),FALSE)) | C500: =IF($D500="","",VLOOKUP($D500,Lists!$BB$2:$BD$78,COLUMN(),FALSE))

Sheet With_Addon_Malfunction
B1: DO NOT REMOVE OR EDIT INFORMATION IN THIS SECTION FOR INTERNAL USE ONLY
B2: Template Name | C2: =+Welcome!B2 -> 63.4520(f) Semiannual Compliance Report (Spreadsheet Template)
B3: CitationID | C3: =+Welcome!B3 -> 63.4520(f)
B4: Template Version | C4: =+Welcome!B4 -> v1.02
B5: Last Updated Date | C5: =+Welcome!B5 -> 45554
B6: =+Welcome!B6 -> OMB Control Number: 2060-0518 Expiration Date: 04/30/2019
B7: 40 CFR Part 63, Subpart PPPP National Emission Standards for Hazardous Air Pollutants: Surface Coating of Plastic Parts and Products
B8: §63.4520(f) Semiannual Compliance Report Spreadsheet Template
B12: Company Record No. (Autocompleted) | C12: Affected Source or Equipment (§63.4520(a)(7)(iv)) (Autocompleted) | D12: Company Record No. and Affected Source or Equipment (§63.4520(a)(7)(iv)) (Select from dropdown) | E12: Starting Date of Malfunction of Capture System or Addon Control (§63.4520(a)(7)(iii)) | F12: Starting Time of Malfunction of Capture System or Addon Control (§63.4520(a)(7)(iii)) | G12: Ending Date of Malfunction of Capture System or Addon Control (§63.4520(a)(7)(iii)) | H12: Ending Time of Malfunction of Capture System or Addon Control (§63.4520(a)(7)(iii))
B13: RecordId | C13: OperationName_Malfunction | D13: AffectedSource_Malfunction | E13: MalfunctionStartDate_Malfunction | F13: MalfunctionStartTime_Malfunction | G13: MalfunctionEndDate_Malfunction | H13: MalfunctionEndTime_Malfunction
B14: e.g.: 1 | C14: e.g.: East Coating | D14: e.g.: 1 East Coating | E14: e.g.: 2/1/2017 | F14: e.g.: 13:15 | G14: e.g.: 2/3/2017 | H14: e.g.: 08:02
B15: e.g.: | C15: e.g.: | D15: e.g.: | E15: e.g.: | F15: e.g.: | G15: e.g.: | H15: e.g.:
B16: e.g.: | C16: e.g.: | D16: e.g.: | E16: e.g.: | F16: e.g.: | G16: e.g.: | H16: e.g.:
B17: e.g.: | C17: e.g.: | D17: e.g.: | E17: e.g.: | F17: e.g.: | G17: e.g.: | H17: e.g.:
B18: e.g.: | C18: e.g.: | D18: e.g.: | E18: e.g.: | F18: e.g.: | G18: e.g.: | H18: e.g.:
B19: e.g.: | C19: e.g.: | D19: e.g.: | E19: e.g.: | F19: e.g.: | G19: e.g.: | H19: e.g.:
B20: e.g.: | C20: e.g.: | D20: e.g.: | E20: e.g.: | F20: e.g.: | G20: e.g.: | H20: e.g.:
B21: e.g.: | C21: e.g.: | D21: e.g.: | E21: e.g.: | F21: e.g.: | G21: e.g.: | H21: e.g.:
B22: e.g.: | C22: e.g.: | D22: e.g.: | E22: e.g.: | F22: e.g.: | G22: e.g.: | H22: e.g.:
B23: e.g.: | C23: e.g.: | D23: e.g.: | E23: e.g.: | F23: e.g.: | G23: e.g.: | H23: e.g.:
B24: =IF($D24="","",VLOOKUP($D24,Lists!$BB$2:$BD$78,COLUMN(),FALSE)) | C24: =IF($D24="","",VLOOKUP($D24,Lists!$BB$2:$BD$78,COLUMN(),FALSE))
B25: =IF($D25="","",VLOOKUP($D25,Lists!$BB$2:$BD$78,COLUMN(),FALSE)) | C25: =IF($D25="","",VLOOKUP($D25,Lists!$BB$2:$BD$78,COLUMN(),FALSE))
B26: =IF($D26="","",VLOOKUP($D26,Lists!$BB$2:$BD$78,COLUMN(),FALSE)) | C26: =IF($D26="","",VLOOKUP($D26,Lists!$BB$2:$BD$78,COLUMN(),FALSE))
B27: =IF($D27="","",VLOOKUP($D27,Lists!$BB$2:$BD$78,COLUMN(),FALSE)) | C27: =IF($D27="","",VLOOKUP($D27,Lists!$BB$2:$BD$78,COLUMN(),FALSE))
B28: =IF($D28="","",VLOOKUP($D28,Lists!$BB$2:$BD$78,COLUMN(),FALSE)) | C28: =IF($D28="","",VLOOKUP($D28,Lists!$BB$2:$BD$78,COLUMN(),FALSE))
B29: =IF($D29="","",VLOOKUP($D29,Lists!$BB$2:$BD$78,COLUMN(),FALSE)) | C29: =IF($D29="","",VLOOKUP($D29,Lists!$BB$2:$BD$78,COLUMN(),FALSE))
B30: =IF($D30="","",VLOOKUP($D30,Lists!$BB$2:$BD$78,COLUMN(),FALSE)) | C30: =IF($D30="","",VLOOKUP($D30,Lists!$BB$2:$BD$78,COLUMN(),FALSE))
B31: =IF($D31="","",VLOOKUP($D31,Lists!$BB$2:$BD$78,COLUMN(),FALSE)) | C31: =IF($D31="","",VLOOKUP($D31,Lists!$BB$2:$BD$78,COLUMN(),FALSE))
B32: =IF($D32="","",VLOOKUP($D32,Lists!$BB$2:$BD$78,COLUMN(),FALSE)) | C32: =IF($D32="","",VLOOKUP($D32,Lists!$BB$2:$BD$78,COLUMN(),FALSE))
B33: =IF($D33="","",VLOOKUP($D33,Lists!$BB$2:$BD$78,COLUMN(),FALSE)) | C33: =IF($D33="","",VLOOKUP($D33,Lists!$BB$2:$BD$78,COLUMN(),FALSE))
B34: =IF($D34="","",VLOOKUP($D34,Lists!$BB$2:$BD$78,COLUMN(),FALSE)) | C34: =IF($D34="","",VLOOKUP($D34,Lists!$BB$2:$BD$78,COLUMN(),FALSE))
B35: =IF($D35="","",VLOOKUP($D35,Lists!$BB$2:$BD$78,COLUMN(),FALSE)) | C35: =IF($D35="","",VLOOKUP($D35,Lists!$BB$2:$BD$78,COLUMN(),FALSE))
... B500: =IF($D500="","",VLOOKUP($D500,Lists!$BB$2:$BD$78,COLUMN(),FALSE)) | C500: =IF($D500="","",VLOOKUP($D500,Lists!$BB$2:$BD$78,COLUMN(),FALSE))

Sheet With_Addon_CPMS1
B1: DO NOT REMOVE OR EDIT INFORMATION IN THIS SECTION FOR INTERNAL USE ONLY
B2: Template Name | C2: =+Welcome!B2 -> 63.4520(f) Semiannual Compliance Report (Spreadsheet Template)
B3: CitationID | C3: =+Welcome!B3 -> 63.4520(f)
B4: Template Version | C4: =+Welcome!B4 -> v1.02
B5: Last Updated Date | C5: =+Welcome!B5 -> 45554
B6: =+Welcome!B6 -> OMB Control Number: 2060-0518 Expiration Date: 04/30/2019
B7: 40 CFR Part 63, Subpart PPPP National Emission Standards for Hazardous Air Pollutants: Surface Coating of Plastic Parts and Products -
B8: §63.4520(f) Semiannual Compliance Report Spreadsheet Template
B12: Company Record No. (Autocompleted) | C12: Affected Source or Equipment (§63.4520(a)(7)(iv)) (Autocompleted) | D12: Company Record No. and Affected Source or Equipment (§63.4520(a)(7)(iv)) (Select from dropdown) | E12: CPMS Description (§63.4520(a)(7)(iv)) | F12: For Emission Rate with Addon Control, Date of Last CPMS Certification or Audit (§63.4520(a)(7)(v))
B13: RecordId | C13: OperationName_AddonCPMS1 | D13: AffectedSource_AddonCPMS1 | E13: CpmsDescription_AddonCPMS1 | F13: CpmsAuditDate_AddonCPMS1
B14: e.g.: 1 | C14: e.g.: East Coating | D14: e.g.: 1 East Coating | E14: e.g.: Combustion Temperature | F14: e.g.: 2/1/2017
B15: e.g.: | C15: e.g.: | D15: e.g.: | E15: e.g.: | F15: e.g.:
B16: e.g.: | C16: e.g.: | D16: e.g.: | E16: e.g.: | F16: e.g.:
B17: e.g.: | C17: e.g.: | D17: e.g.: | E17: e.g.: | F17: e.g.:
B18: e.g.: | C18: e.g.: | D18: e.g.: | E18: e.g.: | F18: e.g.:
B19: e.g.: | C19: e.g.: | D19: e.g.: | E19: e.g.: | F19: e.g.:
B20: e.g.: | C20: e.g.: | D20: e.g.: | E20: e.g.: | F20: e.g.:
B21: e.g.: | C21: e.g.: | D21: e.g.: | E21: e.g.: | F21: e.g.:
B22: e.g.: | C22: e.g.: | D22: e.g.: | E22: e.g.: | F22: e.g.:
B23: e.g.: | C23: e.g.: | D23: e.g.: | E23: e.g.: | F23: e.g.:
B24: =IF($D24="","",VLOOKUP($D24,Lists!$BB$2:$BD$78,COLUMN(),FALSE)) | C24: =IF($D24="","",VLOOKUP($D24,Lists!$BB$2:$BD$78,COLUMN(),FALSE))
B25: =IF($D25="","",VLOOKUP($D25,Lists!$BB$2:$BD$78,COLUMN(),FALSE)) | C25: =IF($D25="","",VLOOKUP($D25,Lists!$BB$2:$BD$78,COLUMN(),FALSE))
B26: =IF($D26="","",VLOOKUP($D26,Lists!$BB$2:$BD$78,COLUMN(),FALSE)) | C26: =IF($D26="","",VLOOKUP($D26,Lists!$BB$2:$BD$78,COLUMN(),FALSE))
B27: =IF($D27="","",VLOOKUP($D27,Lists!$BB$2:$BD$78,COLUMN(),FALSE)) | C27: =IF($D27="","",VLOOKUP($D27,Lists!$BB$2:$BD$78,COLUMN(),FALSE))
B28: =IF($D28="","",VLOOKUP($D28,Lists!$BB$2:$BD$78,COLUMN(),FALSE)) | C28: =IF($D28="","",VLOOKUP($D28,Lists!$BB$2:$BD$78,COLUMN(),FALSE))
B29: =IF($D29="","",VLOOKUP($D29,Lists!$BB$2:$BD$78,COLUMN(),FALSE)) | C29: =IF($D29="","",VLOOKUP($D29,Lists!$BB$2:$BD$78,COLUMN(),FALSE))
B30: =IF($D30="","",VLOOKUP($D30,Lists!$BB$2:$BD$78,COLUMN(),FALSE)) | C30: =IF($D30="","",VLOOKUP($D30,Lists!$BB$2:$BD$78,COLUMN(),FALSE))
B31: =IF($D31="","",VLOOKUP($D31,Lists!$BB$2:$BD$78,COLUMN(),FALSE)) | C31: =IF($D31="","",VLOOKUP($D31,Lists!$BB$2:$BD$78,COLUMN(),FALSE))
B32: =IF($D32="","",VLOOKUP($D32,Lists!$BB$2:$BD$78,COLUMN(),FALSE)) | C32: =IF($D32="","",VLOOKUP($D32,Lists!$BB$2:$BD$78,COLUMN(),FALSE))
B33: =IF($D33="","",VLOOKUP($D33,Lists!$BB$2:$BD$78,COLUMN(),FALSE)) | C33: =IF($D33="","",VLOOKUP($D33,Lists!$BB$2:$BD$78,COLUMN(),FALSE))
B34: =IF($D34="","",VLOOKUP($D34,Lists!$BB$2:$BD$78,COLUMN(),FALSE)) | C34: =IF($D34="","",VLOOKUP($D34,Lists!$BB$2:$BD$78,COLUMN(),FALSE))
B35: =IF($D35="","",VLOOKUP($D35,Lists!$BB$2:$BD$78,COLUMN(),FALSE)) | C35: =IF($D35="","",VLOOKUP($D35,Lists!$BB$2:$BD$78,COLUMN(),FALSE))
... B500: =IF($D500="","",VLOOKUP($D500,Lists!$BB$2:$BD$78,COLUMN(),FALSE)) | C500: =IF($D500="","",VLOOKUP($D500,Lists!$BB$2:$BD$78,COLUMN(),FALSE))

Sheet With_Addon_CPMS2
B1: DO NOT REMOVE OR EDIT INFORMATION IN THIS SECTION FOR INTERNAL USE ONLY
B2: Template Name | C2: =+Welcome!B2 -> 63.4520(f) Semiannual Compliance Report (Spreadsheet Template)
B3: CitationID | C3: =+Welcome!B3 -> 63.4520(f)
B4: Template Version | C4: =+Welcome!B4 -> v1.02
B5: Last Updated Date | C5: =+Welcome!B5 -> 45554
B6: =+Welcome!B6 -> OMB Control Number: 2060-0518 Expiration Date: 04/30/2019
B7: 40 CFR Part 63, Subpart PPPP National Emission Standards for Hazardous Air Pollutants: Surface Coating of Plastic Parts and Products - §63.4520(f) Semiannual Compliance Report Spreadsheet Template
B12: Company Record No. (Autocompleted) | C12: Affected Source or Equipment (§63.4520(a)(7)(iv)) (Autocompleted) | D12: CPMS Description (§63. 4520(a)(7)(iv) (Autocompleted) | E12: Company Record No., Affected Source or Equipment, and CPMS Description (§63.4520(a)(7)(iv)) (Select from dropdown) | F12: CPMS Inoperative or Out of Control (Select from dropdown) | G12: Starting Date CPMS Inoperative or Out of Control (§63. 4520(a)(7)(vi) or (vii)) | H12: Starting Time CPMS Inoperative or Out of Control (§63. 4520(a)(7)(vi) or (vii)) | I12: Ending Date CPMS Inoperative or Out of Control (§63. 4520(a)(7)(vi) or (vii)) | J12: Ending Time CPMS Inoperative or Out of Control (§63. 4520(a)(7)(vi) or (vii)) | K12: Duration CPMS Out of Control (hours) (§63. 4520(a)(7)(vii)) (Calculated Value) | L12: Cause of Deviation (§63. 4520(a)(7)(vi) or (vii)) | M12: Actions Taken to Minimize Emissions (§63. 4520(a)(7)(vii) per §63.8 (c)(8))
B13: RecordId | C13: OperationName_AddonCPMS2 | D13: CpmsDescription_AddonCPMS2 | E13: AffectedSource_AddonCPMS2 | F13: Cpmsfunction_AddonCPMS2 | G13: CpmsOutageStartDate_AddonCMPS2 | H13: CpmsOutageStartTime_AddonCPMS2 | I13: CpmsOutageEndDate_AddonCPMS2 | J13: CpmsOutageEndTime_AddonCPMS2 | K13: CpmsOutageDuration_AddonCPMS2 | L13: DeviationCause_AddonCPMS2 | M13: CorrectiveAction_AddonCPMS2
B14: e.g.: 1 | C14: e.g.: East Coating | D14: e.g.: Combustion Temperature | E14: e.g.: 1 East Coating | F14: e.g.: Inoperative | G14: e.g.: 3/2/2017 | H14: e.g.: 15:52 | I14: e.g.: 3/2/2017 | J14: e.g.: 18:15 | K14: e.g.: 2.38 | L14: e.g.: Corroded TC tip | M14: e.g.: replaced thermocouple
B15: e.g.: | C15: e.g.: | D15: e.g.: | E15: e.g.: | F15: e.g.: | G15: e.g.: | H15: e.g.: | I15: e.g.: | J15: e.g.: | K15: e.g.: | L15: e.g.: | M15: e.g.:
B16: e.g.: | C16: e.g.: | D16: e.g.: | E16: e.g.: | F16: e.g.: | G16: e.g.: | H16: e.g.: | I16: e.g.: | J16: e.g.: | K16: e.g.: | L16: e.g.: | M16: e.g.:
B17: e.g.: | C17: e.g.: | D17: e.g.: | E17: e.g.: | F17: e.g.: | G17: e.g.: | H17: e.g.: | I17: e.g.: | J17: e.g.: | K17: e.g.: | L17: e.g.: | M17: e.g.:
B18: e.g.: | C18: e.g.: | D18: e.g.: | E18: e.g.: | F18: e.g.: | G18: e.g.: | H18: e.g.: | I18: e.g.: | J18: e.g.: | K18: e.g.: | L18: e.g.: | M18: e.g.:
B19: e.g.: | C19: e.g.: | D19: e.g.: | E19: e.g.: | F19: e.g.: | G19: e.g.: | H19: e.g.: | I19: e.g.: | J19: e.g.: | K19: e.g.: | L19: e.g.: | M19: e.g.:
B20: e.g.: | C20: e.g.: | D20: e.g.: | E20: e.g.: | F20: e.g.: | G20: e.g.: | H20: e.g.: | I20: e.g.: | J20: e.g.: | K20: e.g.: | L20: e.g.: | M20: e.g.:
B21: e.g.: | C21: e.g.: | D21: e.g.: | E21: e.g.: | F21: e.g.: | G21: e.g.: | H21: e.g.: | I21: e.g.: | J21: e.g.: | K21: e.g.: | L21: e.g.: | M21: e.g.:
B22: e.g.: | C22: e.g.: | D22: e.g.: | E22: e.g.: | F22: e.g.: | G22: e.g.: | H22: e.g.: | I22: e.g.: | J22: e.g.: | K22: e.g.: | L22: e.g.: | M22: e.g.:
B23: e.g.: | C23: e.g.: | D23: e.g.: | E23: e.g.: | F23: e.g.: | G23: e.g.: | H23: e.g.: | I23: e.g.: | J23: e.g.: | K23: e.g.: | L23: e.g.: | M23: e.g.:
B24: =IF($E24="","",VLOOKUP($E24,Lists!$CA$2:$CD$500,COLUMN(),FALSE)) | C24: =IF($E24="","",VLOOKUP($E24,Lists!$CA$2:$CD$500,COLUMN(),FALSE)) | D24: =IF($E24="","",VLOOKUP($E24,Lists!$CA$2:$CD$500,COLUMN(),FALSE)) | K24: =IF(J24="","",(VALUE(TEXT(I24,"m/dd/yy ")&TEXT(J24,"hh:mm:ss"))-(VALUE(TEXT(G24,"m/dd/yy ")&TEXT(H24,"hh:mm:ss"))))*24)
B25: =IF($E25="","",VLOOKUP($E25,Lists!$CA$2:$CD$500,COLUMN(),FALSE)) | C25: =IF($E25="","",VLOOKUP($E25,Lists!$CA$2:$CD$500,COLUMN(),FALSE)) | D25: =IF($E25="","",VLOOKUP($E25,Lists!$CA$2:$CD$500,COLUMN(),FALSE)) | K25: =IF(J25="","",(VALUE(TEXT(I25,"m/dd/yy ")&TEXT(J25,"hh:mm:ss"))-(VALUE(TEXT(G25,"m/dd/yy ")&TEXT(H25,"hh:mm:ss"))))*24)
B26: =IF($E26="","",VLOOKUP($E26,Lists!$CA$2:$CD$500,COLUMN(),FALSE)) | C26: =IF($E26="","",VLOOKUP($E26,Lists!$CA$2:$CD$500,COLUMN(),FALSE)) | D26: =IF($E26="","",VLOOKUP($E26,Lists!$CA$2:$CD$500,COLUMN(),FALSE)) | K26: =IF(J26="","",(VALUE(TEXT(I26,"m/dd/yy ")&TEXT(J26,"hh:mm:ss"))-(VALUE(TEXT(G26,"m/dd/yy ")&TEXT(H26,"hh:mm:ss"))))*24)
B27: =IF($E27="","",VLOOKUP($E27,Lists!$CA$2:$CD$500,COLUMN(),FALSE)) | C27: =IF($E27="","",VLOOKUP($E27,Lists!$CA$2:$CD$500,COLUMN(),FALSE)) | D27: =IF($E27="","",VLOOKUP($E27,Lists!$CA$2:$CD$500,COLUMN(),FALSE)) | K27: =IF(J27="","",(VALUE(TEXT(I27,"m/dd/yy ")&TEXT(J27,"hh:mm:ss"))-(VALUE(TEXT(G27,"m/dd/yy ")&TEXT(H27,"hh:mm:ss"))))*24)
B28: =IF($E28="","",VLOOKUP($E28,Lists!$CA$2:$CD$500,COLUMN(),FALSE)) | C28: =IF($E28="","",VLOOKUP($E28,Lists!$CA$2:$CD$500,COLUMN(),FALSE)) | D28: =IF($E28="","",VLOOKUP($E28,Lists!$CA$2:$CD$500,COLUMN(),FALSE)) | K28: =IF(J28="","",(VALUE(TEXT(I28,"m/dd/yy ")&TEXT(J28,"hh:mm:ss"))-(VALUE(TEXT(G28,"m/dd/yy ")&TEXT(H28,"hh:mm:ss"))))*24)
B29: =IF($E29="","",VLOOKUP($E29,Lists!$CA$2:$CD$500,COLUMN(),FALSE)) | C29: =IF($E29="","",VLOOKUP($E29,Lists!$CA$2:$CD$500,COLUMN(),FALSE)) | D29: =IF($E29="","",VLOOKUP($E29,Lists!$CA$2:$CD$500,COLUMN(),FALSE)) | K29: =IF(J29="","",(VALUE(TEXT(I29,"m/dd/yy ")&TEXT(J29,"hh:mm:ss"))-(VALUE(TEXT(G29,"m/dd/yy ")&TEXT(H29,"hh:mm:ss"))))*24)
B30: =IF($E30="","",VLOOKUP($E30,Lists!$CA$2:$CD$500,COLUMN(),FALSE)) | C30: =IF($E30="","",VLOOKUP($E30,Lists!$CA$2:$CD$500,COLUMN(),FALSE)) | D30: =IF($E30="","",VLOOKUP($E30,Lists!$CA$2:$CD$500,COLUMN(),FALSE)) | K30: =IF(J30="","",(VALUE(TEXT(I30,"m/dd/yy ")&TEXT(J30,"hh:mm:ss"))-(VALUE(TEXT(G30,"m/dd/yy ")&TEXT(H30,"hh:mm:ss"))))*24)
B31: =IF($E31="","",VLOOKUP($E31,Lists!$CA$2:$CD$500,COLUMN(),FALSE)) | C31: =IF($E31="","",VLOOKUP($E31,Lists!$CA$2:$CD$500,COLUMN(),FALSE)) | D31: =IF($E31="","",VLOOKUP($E31,Lists!$CA$2:$CD$500,COLUMN(),FALSE)) | K31: =IF(J31="","",(VALUE(TEXT(I31,"m/dd/yy ")&TEXT(J31,"hh:mm:ss"))-(VALUE(TEXT(G31,"m/dd/yy ")&TEXT(H31,"hh:mm:ss"))))*24)
B32: =IF($E32="","",VLOOKUP($E32,Lists!$CA$2:$CD$500,COLUMN(),FALSE)) | C32: =IF($E32="","",VLOOKUP($E32,Lists!$CA$2:$CD$500,COLUMN(),FALSE)) | D32: =IF($E32="","",VLOOKUP($E32,Lists!$CA$2:$CD$500,COLUMN(),FALSE)) | K32: =IF(J32="","",(VALUE(TEXT(I32,"m/dd/yy ")&TEXT(J32,"hh:mm:ss"))-(VALUE(TEXT(G32,"m/dd/yy ")&TEXT(H32,"hh:mm:ss"))))*24)
B33: =IF($E33="","",VLOOKUP($E33,Lists!$CA$2:$CD$500,COLUMN(),FALSE)) | C33: =IF($E33="","",VLOOKUP($E33,Lists!$CA$2:$CD$500,COLUMN(),FALSE)) | D33: =IF($E33="","",VLOOKUP($E33,Lists!$CA$2:$CD$500,COLUMN(),FALSE)) | K33: =IF(J33="","",(VALUE(TEXT(I33,"m/dd/yy ")&TEXT(J33,"hh:mm:ss"))-(VALUE(TEXT(G33,"m/dd/yy ")&TEXT(H33,"hh:mm:ss"))))*24)
B34: =IF($E34="","",VLOOKUP($E34,Lists!$CA$2:$CD$500,COLUMN(),FALSE)) | C34: =IF($E34="","",VLOOKUP($E34,Lists!$CA$2:$CD$500,COLUMN(),FALSE)) | D34: =IF($E34="","",VLOOKUP($E34,Lists!$CA$2:$CD$500,COLUMN(),FALSE)) | K34: =IF(J34="","",(VALUE(TEXT(I34,"m/dd/yy ")&TEXT(J34,"hh:mm:ss"))-(VALUE(TEXT(G34,"m/dd/yy ")&TEXT(H34,"hh:mm:ss"))))*24)
B35: =IF($E35="","",VLOOKUP($E35,Lists!$CA$2:$CD$500,COLUMN(),FALSE)) | C35: =IF($E35="","",VLOOKUP($E35,Lists!$CA$2:$CD$500,COLUMN(),FALSE)) | D35: =IF($E35="","",VLOOKUP($E35,Lists!$CA$2:$CD$500,COLUMN(),FALSE)) | K35: =IF(J35="","",(VALUE(TEXT(I35,"m/dd/yy ")&TEXT(J35,"hh:mm:ss"))-(VALUE(TEXT(G35,"m/dd/yy ")&TEXT(H35,"hh:mm:ss"))))*24)
... B500: =IF($E500="","",VLOOKUP($E500,Lists!$CA$2:$CD$500,COLUMN(),FALSE)) | C500: =IF($E500="","",VLOOKUP($E500,Lists!$CA$2:$CD$500,COLUMN(),FALSE)) | D500: =IF($E500="","",VLOOKUP($E500,Lists!$CA$2:$CD$500,COLUMN(),FALSE)) | K500: =IF(J500="","",(VALUE(TEXT(I500,"m/dd/yy ")&TEXT(J500,"hh:mm:ss"))-(VALUE(TEXT(G500,"m/dd/yy ")&TEXT(H500,"hh:mm:ss"))))*24)

Sheet With_Addon_CPMSSummary
B1: DO NOT REMOVE OR EDIT INFORMATION IN THIS SECTION FOR INTERNAL USE ONLY
B2: Template Name | C2: =+Welcome!B2 -> 63.4520(f) Semiannual Compliance Report (Spreadsheet Template)
B3: CitationID | C3: =+Welcome!B3 -> 63.4520(f)
B4: Template Version | C4: =+Welcome!B4 -> v1.02
B5: Last Updated Date | C5: =+Welcome!B5 -> 45554
B6: =+Welcome!B6 -> OMB Control Number: 2060-0518 Expiration Date: 04/30/2019
B7: 40 CFR Part 63, Subpart PPPP National Emission Standards for Hazardous Air Pollutants: Surface Coating of Plastic Parts and Products
B8: §63.4520(f) Semiannual Compliance Report Spreadsheet Template
B12: Company Record No. (Autocompleted) | C12: Name of Operation (§63. 4520(a)(3)(iv)) (Autocompleted) | D12: CPMS Description (§63. 4520(a)(7)(iv)) (Autocompleted) | E12: Total Source Operating Time (hours) (Optional for autocalculation of % of Total Operating Time) | F12: Total Duration of CPMS Downtime (hours) (§63.4520(a)(7)(xi)) | G12: Total Duration of CPMS Downtime as a percent of Total Source Operating Time (hours) (§63.4520(a)(7)(xi)) (Autocalculation or manual entry) | H12: Number of Instances CPMS Inoperative (§63.4520(a)(6)(iv)) (Autocompleted) | I12: Number of Instances CPMS Out of Control (§63.4520(a)(6)(iv)) (Autocompleted)
B13: RecordId | C13: OperationName_CPMSSumm | D13: CpmsDescription_CPMSSumm | E13: TotalOperatingTime_CPMSSumm | F13: CpmsDowntimeDuration_CPMSSumm | G13: CpmsDowntimePercent_CPMSSumm | H13: NumCPMSInoperative | I13: NumCPMSOutofControl
B14: e.g.: 1 | C14: e.g.: West Coating | D14: e.g.: Combustion Temperature | E14: e.g.: 6240 | F14: e.g.: 0 | G14: e.g.: N/A | H14: e.g.: 5 | I14: e.g.: 5
B15: e.g.: | C15: e.g.: | D15: e.g.: | E15: e.g.: | F15: e.g.: | G15: e.g.: | H15: e.g.: | I15: e.g.:
B16: e.g.: | C16: e.g.: | D16: e.g.: | E16: e.g.: | F16: e.g.: | G16: e.g.: | H16: e.g.: | I16: e.g.:
B17: e.g.: | C17: e.g.: | D17: e.g.: | E17: e.g.: | F17: e.g.: | G17: e.g.: | H17: e.g.: | I17: e.g.:
B18: e.g.: | C18: e.g.: | D18: e.g.: | E18: e.g.: | F18: e.g.: | G18: e.g.: | H18: e.g.: | I18: e.g.:
B19: e.g.: | C19: e.g.: | D19: e.g.: | E19: e.g.: | F19: e.g.: | G19: e.g.: | H19: e.g.: | I19: e.g.:
B20: e.g.: | C20: e.g.: | D20: e.g.: | E20: e.g.: | F20: e.g.: | G20: e.g.: | H20: e.g.: | I20: e.g.:
B21: e.g.: | C21: e.g.: | D21: e.g.: | E21: e.g.: | F21: e.g.: | G21: e.g.: | H21: e.g.: | I21: e.g.:
B22: e.g.: | C22: e.g.: | D22: e.g.: | E22: e.g.: | F22: e.g.: | G22: e.g.: | H22: e.g.: | I22: e.g.:
B23: e.g.: | C23: e.g.: | D23: e.g.: | E23: e.g.: | F23: e.g.: | G23: e.g.: | H23: e.g.: | I23: e.g.:
B24: =IF(Lists!CM2="","",Lists!CM2) | C24: =IF(Lists!CN2="","",Lists!CN2) | D24: =IF(Lists!CO2="","",Lists!CO2) | F24: =IF($C24="","",SUMIFS(With_Addon_CPMS2!$K$24:$K$5000,With_Addon_CPMS2!$B$24:$B$5000,With_Addon_CPMSSummary!B24,With_Addon_CPMS2!$C$24:$C$5000,With_Addon_CPMSSummary!C24,With_Addon_CPMS2!$D$24:$D$5000,With_Addon_CPMSSummary!D24)) | G24: =IF($C24="","",IF(F24=0,"N/A",F24/$E24)) | H24: =IF(D24="","",COUNTIFS(With_Addon_CPMS2!$B$24:$B$500,$B24,With_Addon_CPMS2!$C$24:$C$500,$C24,With_Addon_CPMS2!$D$24:$D$500,$D24,With_Addon_CPMS2!$F$24:$F$500,"Inoperative")) | I24: =IF(D24="","",COUNTIFS(With_Addon_CPMS2!$B$24:$B$500,$B24,With_Addon_CPMS2!$C$24:$C$500,$C24,With_Addon_CPMS2!$D$24:$D$500,$D24,With_Addon_CPMS2!$F$24:$F$500,"Out of Control"))
B25: =IF(Lists!CM3="","",Lists!CM3) | C25: =IF(Lists!CN3="","",Lists!CN3) | D25: =IF(Lists!CO3="","",Lists!CO3) | F25: =IF($C25="","",SUMIFS(With_Addon_CPMS2!$K$24:$K$5000,With_Addon_CPMS2!$B$24:$B$5000,With_Addon_CPMSSummary!B25,With_Addon_CPMS2!$C$24:$C$5000,With_Addon_CPMSSummary!C25,With_Addon_CPMS2!$D$24:$D$5000,With_Addon_CPMSSummary!D25)) | G25: =IF($C25="","",IF(F25=0,"N/A",F25/$E25)) | H25: =IF(D25="","",COUNTIFS(With_Addon_CPMS2!$B$24:$B$500,$B25,With_Addon_CPMS2!$C$24:$C$500,$C25,With_Addon_CPMS2!$D$24:$D$500,$D25,With_Addon_CPMS2!$F$24:$F$500,"Inoperative")) | I25: =IF(E25="","",COUNTIFS(With_Addon_CPMS2!$B$24:$B$500,$B25,With_Addon_CPMS2!$C$24:$C$500,$C25,With_Addon_CPMS2!$D$24:$D$500,$D25,With_Addon_CPMS2!$F$24:$F$500,"Out of Control"))
