Workbook
Name Common_Name: Lists!$B$2:$B$134
Name Common_Name_2: Lists!$E$2:$E$19
Name Common_Name_3: OFFSET(Lists!$D$2:$D$19,0,0,COUNT(Lists!$C$2:$C$19),1)
Name Country_1: Lists!$M$2:$M$57
Name Country_2: Lists!$Q$2:$Q$203
Name Exchange_Value: Lists!$F$2:$F$133
Name Intended_Use: Lists!$D$30:$D$35
Name Month: Lists!$H$2:$H$13
Name Option_1: Lists!$A$22:$A$23
Name Port_of_Entry: Lists!$O$2:$O$343
Name Purpose: Lists!$D$22:$D$23
Name Quarter: Lists!$I$2:$I$5
Name State: Lists!$L$2:$L$57
Name Transaction_Type: Lists!$D$26:$D$27
Name Year: Lists!$J$2:$J$10

Sheet Quarterly Information
F1: OMB Control Number: 2060-0734
F2: Expiration Date: 12/31/2024
B4: American Innovation and Manufacturing Act - HFC Importer Quarterly Report
B6: Worksheet Instructions:
B7: Complete and submit an HFC Importer Quarterly Report if your company imports HFCs. Section 1 must be completed prior to submission. Section 2 must be completed if your company imported HFCs during the reporting quarter; if no HFCs were imported during the quarter, Section 2 may be left blank. Section 3 must be completed if imported material was shipped off-site during the quarter for second party transformation or second party destruction. Section 4 must be completed if orders were placed or material was imported for application-specific allowance holders. Section 5 is automatically populated based on data entered in Section 2. Section 6 must be completed if your company is reporting quarter 4 activity.
B8: Version:
B9: r0.7
B10: Updated:
B11: 45497
B12: External Links:
B13: HFC Allocation Rule Reporting HelpDesk | C13: AIM Act Paperwork Reduction Act Burden
B14: Reporting Form Navigation:
B15: Section 1 - Company Identification | C15: Section 4 - Application-Specific Allowance Holder Information
B16: Section 2 - Import Information | C16: Section 5 - Quarterly Import Summary
B17: Section 3 - Recipient Facility Information | C17: Section 6 - End-of-Year Inventory
B19: EPA may request additional information or ask follow up questions to verify the accuracy of this submission and supporting documentation, including pursuant to CAA section 114 as authorized under the AIM Act.
B22: Section 1 - Company Identification
B23: Instructions: Complete the following company information.
B24: Company Name:
B25: Company ID:
B26: Reporting Year:
B27: Reporting Quarter:
B29: Were HFCs imported during the reporting period?
B30: Were any imported HFCs shipped off-site during the reporting period to another facility for transformation or destruction?
B31: Were any orders placed from application-specific allowance holders, were any application-specific allowances conferred, or were HFCs imported for application-specific end-uses?
B33: Section 2 - Import Information
B34: Instructions: Enter data for each HFC import transaction that took place during the reporting period. If no HFCs were imported, the table may be left blank. If HFCs were imported for second party transformation or second party destruction, provide a copy of the transformation verifications showing that the purchaser or recipient of imported regulated substances intends to transform those substances or destruction verifications showing that the purchaser or recipient intends to destroy the regulated substances. Additionally provide records required under §84.25(b)(5) documenting proof that used material imported for destruction was destroyed. §84.31(c)(1)(viii)
B35: Import Information
B36: 1 | C36: 2 | D36: 3a | E36: 3b | F36: 4 | G36: 5 | H36: 6 | I36: 7 | J36: 8 | K36: 9a | L36: 9b | M36: 9c | N36: 9d | O36: 9e | P36: 9f | Q36: 9g | R36: 9h | S36: 9i | T36: 9j | U36: 10 | V36: 11 | W36: 12 | X36: 13 | Y36: 14 | Z36: 15a | AA36: 15b | AB36: 15c | AC36: 15d | AD36: 15e | AE36: 15f | AF36: 15g
B37: Transaction Number | C37: Date of Import §84.31(c)(2)(v) | D37: U.S. Customs Entry Number §84.31(c)(2)(xiii) | E37: U.S. Customs Entry Line Number | F37: Is the Imported Substance a Blend? §84.31(c)(2)(i) | G37: HTS Code §84.31(c)(1)(iii) | H37: Shipment Importer Number §84.31(c)(2)(x) | I37: HFC or HFC Blend Imported §84.31(c)(2)(i) | J37: Quantity of HFC or HFC Blend Imported (kg) §84.31(c)(2)(i) | K37: Blend Information §84.31(c)(2)(i) | U37: Port of Entry §84.31(c)(2)(vi) | V37: Source Country §84.31(c)(2)(vii) | W37: Transaction Type §84.31(c)(2)(ii) | X37: Intended Use §84.31(c)(2)(iii) §84.31(c)(2)(iv) | Y37: Date of Non-Objection Notice | Z37: Quantity of HFC or HFC Blend Imported by Allowance Type Expended (kg) §84.31(c)(2)(iv)
K38: HFC Imported (1) | L38: HFC Composition of Blend (1) (%) | M38: HFC Imported (2) | N38: HFC Composition of Blend (2) (%) | O38: HFC Imported (3) | P38: HFC Composition of Blend (3) (%) | Q38: HFC Imported (4) | R38: HFC Composition of Blend (4) (%) | S38: HFC Imported (5) | T38: HFC Composition of Blend (5) (%)
Z40: Application-Specific: Propellants in MDIs | AA40: Application-Specific: Defense Sprays | AB40: Application-Specific: Structural Composite Foam | AC40: Application-Specific: Semiconductors | AD40: Application-Specific: Onboard Aerospace Fire Suppression | AE40: Application-Specific: Military | AF40: Consumption | AH40: HFC Composition of Blend (1) | AI40: HFC Composition of Blend (2) | AJ40: HFC Composition of Blend (3) | AK40: HFC Composition of Blend (4) | AL40: HFC Composition of Blend (5) | AM40: HFC Non-Blend | AO40: Propellants in MDIs (1) | AP40: Propellants in MDIs (2) | AQ40: Propellants in MDIs (3) | AR40: Propellants in MDIs (4) | AS40: Propellants in MDIs (5) | AT40: Propellants in MDIs (Non-Blend) | AU40: Defense Sprays (1) | AV40: Defense Sprays (2) | AW40: Defense Sprays (3) | AX40: Defense Sprays (4) | AY40: Defense Sprays (5) | AZ40: Defense Sprays (Non-Blend) | BA40: Structural Composite Foam (1) | BB40: Structural Composite Foam (2) | BC40: Structural Composite Foam (3) | BD40: Structural Composite Foam (4) | BE40: Structural Composite Foam (5) | BF40: Structural Composite Foam (Non-Blend) | BG40: Semiconductors (1) | BH40: Semiconductors (2) | BI40: Semiconductors (3) | BJ40: Semiconductors (4) | BK40: Semiconductors (5) | BL40: Semiconductors (Non-Blend) | BM40: Onboard Aerospace Fire Suppression (1) | BN40: Onboard Aerospace Fire Suppression (2) | BO40: Onboard Aerospace Fire Suppression (3) | BP40: Onboard Aerospace Fire Suppression (4) | BQ40: Onboard Aerospace Fire Suppression (5) | BR40: Onboard Aerospace Fire Suppression (Non-Blend) | BS40: Military (1) | BT40: Military (2) | BU40: Military (3) | BV40: Military (4) | BW40: Military (5) | BX40: Military (Non-Blend) | BZ40: Component Match | CA40: Blend Match | CC40: Propellants in MDIs | CD40: Defense Sprays | CE40: Structural Composite Foam | CF40: Semiconductors | CG40: Onboard Aerospace Fire Suppression | CH40: Military | CI40: Consumption
A43: 1 | B43: =IF(C43>0,A43,"") | AH43: =L43*J43 -> 0 | AI43: =N43*J43 -> 0 | AJ43: =P43*J43 -> 0 | AK43: =R43*J43 -> 0 | AL43: =T43*J43 -> 0 | AM43: =IF(F43="No",J43,0) -> 0 | AO43: =(J43*L43)*(Z43/J43) -> #DIV/0! | AP43: =(J43*N43)*(Z43/J43) -> #DIV/0! | AQ43: =(J43*P43)*(Z43/J43) -> #DIV/0! | AR43: =(J43*R43)*(Z43/J43) -> #DIV/0! | AS43: =(J43*T43)*(Z43/J43) -> #DIV/0! | AT43: =IF(F43="No",Z43,0) -> 0 | AU43: =(J43*L43)*(AA43/J43) -> #DIV/0! | AV43: =(J43*N43)*(AA43/J43) -> #DIV/0! | AW43: =(J43*P43)*(AA43/J43) -> #DIV/0! | AX43: =(J43*R43)*(AA43/J43) -> #DIV/0! | AY43: =(J43*T43)*(AA43/J43) -> #DIV/0! | AZ43: =IF(F43="No",AA43,0) -> 0 | BA43: =(J43*L43)*(AB43/J43) -> #DIV/0! | BB43: =(J43*N43)*(AB43/J43) -> #DIV/0! | BC43: =(J43*P43)*(AB43/J43) -> #DIV/0! | BD43: =(J43*R43)*(AB43/J43) -> #DIV/0! | BE43: =(J43*T43)*(AB43/J43) -> #DIV/0! | BF43: =IF(F43="No",AB43,0) -> 0 | BG43: =(J43*L43)*(AC43/J43) -> #DIV/0! | BH43: =(J43*N43)*(AC43/J43) -> #DIV/0! | BI43: =(J43*P43)*(AC43/J43) -> #DIV/0! | BJ43: =(J43*R43)*(AC43/J43) -> #DIV/0! | BK43: =(J43*T43)*(AC43/J43) -> #DIV/0! | BL43: =IF(F43="No",AC43,0) -> 0 | BM43: =(J43*L43)*(AD43/J43) -> #DIV/0! | BN43: =(J43*N43)*(AD43/J43) -> #DIV/0! | BO43: =(J43*P43)*(AD43/J43) -> #DIV/0! | BP43: =(J43*R43)*(AD43/J43) -> #DIV/0! | BQ43: =(J43*T43)*(AD43/J43) -> #DIV/0! | BR43: =IF(F43="No",AD43,0) -> 0 | BS43: =(J43*L43)*(AE43/J43) -> #DIV/0! | BT43: =(J43*N43)*(AE43/J43) -> #DIV/0! | BU43: =(J43*P43)*(AE43/J43) -> #DIV/0! | BV43: =(J43*R43)*(AE43/J43) -> #DIV/0! | BW43: =(J43*T43)*(AE43/J43) -> #DIV/0! | BX43: =IF(F43="No",AE43,0) -> 0 | BZ43: =VLOOKUP(I43,Lists!$D$2:$D$19,1,FALSE) -> #N/A | CA43: =VLOOKUP($I43,Blends!$B$2:$B$115,1,FALSE) -> #N/A | CC43: =ROUND(IF($I43="Other HFC Blend",(Z43*$L43*SUMIF(Lists!$E$2:$E$133,'Quarterly Information'!$K43,Exchange_Value)+Z43*$N43*SUMIF(Lists!$E$2:$E$133,'Quarterly Information'!$M43,Exchange_Value)+Z43*$P43*SUMIF(Lists!$E$2:$E$133,'Quarterly Information'!$O43,Exchange_Value)+Z43*$R43*SUMIF(Lists!$E$2:$E$133,'Quarterly Information'!$Q43,Exchange_Value)+Z43*$T43*SUMIF(Lists!$E$2:$E$133,'Quarterly Information'!$S43,Exchange_Value))/1000,Z43*SUMIF(Lists!$E$2:$E$133,$I43,Exchange_Value)/1000),1) -> 0 | CD43: =ROUND(IF($I43="Other HFC Blend",(AA43*$L43*SUMIF(Lists!$E$2:$E$133,'Quarterly Information'!$K43,Exchange_Value)+AA43*$N43*SUMIF(Lists!$E$2:$E$133,'Quarterly Information'!$M43,Exchange_Value)+AA43*$P43*SUMIF(Lists!$E$2:$E$133,'Quarterly Information'!$O43,Exchange_Value)+AA43*$R43*SUMIF(Lists!$E$2:$E$133,'Quarterly Information'!$Q43,Exchange_Value)+AA43*$T43*SUMIF(Lists!$E$2:$E$133,'Quarterly Information'!$S43,Exchange_Value))/1000,AA43*SUMIF(Lists!$E$2:$E$133,$I43,Exchange_Value)/1000),1) -> 0 | CE43: =ROUND(IF($I43="Other HFC Blend",(AB43*$L43*SUMIF(Lists!$E$2:$E$133,'Quarterly Information'!$K43,Exchange_Value)+AB43*$N43*SUMIF(Lists!$E$2:$E$133,'Quarterly Information'!$M43,Exchange_Value)+AB43*$P43*SUMIF(Lists!$E$2:$E$133,'Quarterly Information'!$O43,Exchange_Value)+AB43*$R43*SUMIF(Lists!$E$2:$E$133,'Quarterly Information'!$Q43,Exchange_Value)+AB43*$T43*SUMIF(Lists!$E$2:$E$133,'Quarterly Information'!$S43,Exchange_Value))/1000,AB43*SUMIF(Lists!$E$2:$E$133,$I43,Exchange_Value)/1000),1) -> 0 | CF43: =ROUND(IF($I43="Other HFC Blend",(AC43*$L43*SUMIF(Lists!$E$2:$E$133,'Quarterly Information'!$K43,Exchange_Value)+AC43*$N43*SUMIF(Lists!$E$2:$E$133,'Quarterly Information'!$M43,Exchange_Value)+AC43*$P43*SUMIF(Lists!$E$2:$E$133,'Quarterly Information'!$O43,Exchange_Value)+AC43*$R43*SUMIF(Lists!$E$2:$E$133,'Quarterly Information'!$Q43,Exchange_Value)+AC43*$T43*SUMIF(Lists!$E$2:$E$133,'Quarterly Information'!$S43,Exchange_Value))/1000,AC43*SUMIF(Lists!$E$2:$E$133,$I43,Exchange_Value)/1000),1) -> 0 | CG43: =ROUND(IF($I43="Other HFC Blend",(AD43*$L43*SUMIF(Lists!$E$2:$E$133,'Quarterly Information'!$K43,Exchange_Value)+AD43*$N43*SUMIF(Lists!$E$2:$E$133,'Quarterly Information'!$M43,Exchange_Value)+AD43*$P43*SUMIF(Lists!$E$2:$E$133,'Quarterly Information'!$O43,Exchange_Value)+AD43*$R43*SUMIF(Lists!$E$2:$E$133,'Quarterly Information'!$Q43,Exchange_Value)+AD43*$T43*SUMIF(Lists!$E$2:$E$133,'Quarterly Information'!$S43,Exchange_Value))/1000,AD43*SUMIF(Lists!$E$2:$E$133,$I43,Exchange_Value)/1000),1) -> 0 | CH43: =ROUND(IF($I43="Other HFC Blend",(AE43*$L43*SUMIF(Lists!$E$2:$E$133,'Quarterly Information'!$K43,Exchange_Value)+AE43*$N43*SUMIF(Lists!$E$2:$E$133,'Quarterly Information'!$M43,Exchange_Value)+AE43*$P43*SUMIF(Lists!$E$2:$E$133,'Quarterly Information'!$O43,Exchange_Value)+AE43*$R43*SUMIF(Lists!$E$2:$E$133,'Quarterly Information'!$Q43,Exchange_Value)+AE43*$T43*SUMIF(Lists!$E$2:$E$133,'Quarterly Information'!$S43,Exchange_Value))/1000,AE43*SUMIF(Lists!$E$2:$E$133,$I43,Exchange_Value)/1000),1) -> 0 | CI43: =ROUND(IF($I43="Other HFC Blend",(AF43*$L43*SUMIF(Lists!$E$2:$E$133,'Quarterly Information'!$K43,Exchange_Value)+AF43*$N43*SUMIF(Lists!$E$2:$E$133,'Quarterly Information'!$M43,Exchange_Value)+AF43*$P43*SUMIF(Lists!$E$2:$E$133,'Quarterly Information'!$O43,Exchange_Value)+AF43*$R43*SUMIF(Lists!$E$2:$E$133,'Quarterly Information'!$Q43,Exchange_Value)+AF43*$T43*SUMIF(Lists!$E$2:$E$133,'Quarterly Information'!$S43,Exchange_Value))/1000,AF43*SUMIF(Lists!$E$2:$E$133,$I43,Exchange_Value)/1000),1) -> 0
A44: 2 | B44: =IF(C44>0,A44,"") | AH44: =L44*J44 -> 0 | AI44: =N44*J44 -> 0 | AJ44: =P44*J44 -> 0 | AK44: =R44*J44 -> 0 | AL44: =T44*J44 -> 0 | AM44: =IF(F44="No",J44,0) -> 0 | AO44: =(J44*L44)*(Z44/J44) -> #DIV/0! | AP44: =(J44*N44)*(Z44/J44) -> #DIV/0! | AQ44: =(J44*P44)*(Z44/J44) -> #DIV/0! | AR44: =(J44*R44)*(Z44/J44) -> #DIV/0! | AS44: =(J44*T44)*(Z44/J44) -> #DIV/0! | AT44: =IF(F44="No",Z44,0) -> 0 | AU44: =(J44*L44)*(AA44/J44) -> #DIV/0! | AV44: =(J44*N44)*(AA44/J44) -> #DIV/0! | AW44: =(J44*P44)*(AA44/J44) -> #DIV/0! | AX44: =(J44*R44)*(AA44/J44) -> #DIV/0! | AY44: =(J44*T44)*(AA44/J44) -> #DIV/0! | AZ44: =IF(F44="No",AA44,0) -> 0 | BA44: =(J44*L44)*(AB44/J44) -> #DIV/0! | BB44: =(J44*N44)*(AB44/J44) -> #DIV/0! | BC44: =(J44*P44)*(AB44/J44) -> #DIV/0! | BD44: =(J44*R44)*(AB44/J44) -> #DIV/0! | BE44: =(J44*T44)*(AB44/J44) -> #DIV/0! | BF44: =IF(F44="No",AB44,0) -> 0 | BG44: =(J44*L44)*(AC44/J44) -> #DIV/0! | BH44: =(J44*N44)*(AC44/J44) -> #DIV/0! | BI44: =(J44*P44)*(AC44/J44) -> #DIV/0! | BJ44: =(J44*R44)*(AC44/J44) -> #DIV/0! | BK44: =(J44*T44)*(AC44/J44) -> #DIV/0! | BL44: =IF(F44="No",AC44,0) -> 0 | BM44: =(J44*L44)*(AD44/J44) -> #DIV/0! | BN44: =(J44*N44)*(AD44/J44) -> #DIV/0! | BO44: =(J44*P44)*(AD44/J44) -> #DIV/0! | BP44: =(J44*R44)*(AD44/J44) -> #DIV/0! | BQ44: =(J44*T44)*(AD44/J44) -> #DIV/0! | BR44: =IF(F44="No",AD44,0) -> 0 | BS44: =(J44*L44)*(AE44/J44) -> #DIV/0! | BT44: =(J44*N44)*(AE44/J44) -> #DIV/0! | BU44: =(J44*P44)*(AE44/J44) -> #DIV/0! | BV44: =(J44*R44)*(AE44/J44) -> #DIV/0! | BW44: =(J44*T44)*(AE44/J44) -> #DIV/0! | BX44: =IF(F44="No",AE44,0) -> 0 | BZ44: =VLOOKUP(I44,Lists!$D$2:$D$19,1,FALSE) -> #N/A | CA44: =VLOOKUP($I44,Blends!$B$2:$B$115,1,FALSE) -> #N/A | CC44: =ROUND(IF($I44="Other HFC Blend",(Z44*$L44*SUMIF(Lists!$E$2:$E$133,'Quarterly Information'!$K44,Exchange_Value)+Z44*$N44*SUMIF(Lists!$E$2:$E$133,'Quarterly Information'!$M44,Exchange_Value)+Z44*$P44*SUMIF(Lists!$E$2:$E$133,'Quarterly Information'!$O44,Exchange_Value)+Z44*$R44*SUMIF(Lists!$E$2:$E$133,'Quarterly Information'!$Q44,Exchange_Value)+Z44*$T44*SUMIF(Lists!$E$2:$E$133,'Quarterly Information'!$S44,Exchange_Value))/1000,Z44*SUMIF(Lists!$E$2:$E$133,$I44,Exchange_Value)/1000),1) -> 0 | CD44: =ROUND(IF($I44="Other HFC Blend",(AA44*$L44*SUMIF(Lists!$E$2:$E$133,'Quarterly Information'!$K44,Exchange_Value)+AA44*$N44*SUMIF(Lists!$E$2:$E$133,'Quarterly Information'!$M44,Exchange_Value)+AA44*$P44*SUMIF(Lists!$E$2:$E$133,'Quarterly Information'!$O44,Exchange_Value)+AA44*$R44*SUMIF(Lists!$E$2:$E$133,'Quarterly Information'!$Q44,Exchange_Value)+AA44*$T44*SUMIF(Lists!$E$2:$E$133,'Quarterly Information'!$S44,Exchange_Value))/1000,AA44*SUMIF(Lists!$E$2:$E$133,$I44,Exchange_Value)/1000),1) -> 0 | CE44: =ROUND(IF($I44="Other HFC Blend",(AB44*$L44*SUMIF(Lists!$E$2:$E$133,'Quarterly Information'!$K44,Exchange_Value)+AB44*$N44*SUMIF(Lists!$E$2:$E$133,'Quarterly Information'!$M44,Exchange_Value)+AB44*$P44*SUMIF(Lists!$E$2:$E$133,'Quarterly Information'!$O44,Exchange_Value)+AB44*$R44*SUMIF(Lists!$E$2:$E$133,'Quarterly Information'!$Q44,Exchange_Value)+AB44*$T44*SUMIF(Lists!$E$2:$E$133,'Quarterly Information'!$S44,Exchange_Value))/1000,AB44*SUMIF(Lists!$E$2:$E$133,$I44,Exchange_Value)/1000),1) -> 0 | CF44: =ROUND(IF($I44="Other HFC Blend",(AC44*$L44*SUMIF(Lists!$E$2:$E$133,'Quarterly Information'!$K44,Exchange_Value)+AC44*$N44*SUMIF(Lists!$E$2:$E$133,'Quarterly Information'!$M44,Exchange_Value)+AC44*$P44*SUMIF(Lists!$E$2:$E$133,'Quarterly Information'!$O44,Exchange_Value)+AC44*$R44*SUMIF(Lists!$E$2:$E$133,'Quarterly Information'!$Q44,Exchange_Value)+AC44*$T44*SUMIF(Lists!$E$2:$E$133,'Quarterly Information'!$S44,Exchange_Value))/1000,AC44*SUMIF(Lists!$E$2:$E$133,$I44,Exchange_Value)/1000),1) -> 0 | CG44: =ROUND(IF($I44="Other HFC Blend",(AD44*$L44*SUMIF(Lists!$E$2:$E$133,'Quarterly Information'!$K44,Exchange_Value)+AD44*$N44*SUMIF(Lists!$E$2:$E$133,'Quarterly Information'!$M44,Exchange_Value)+AD44*$P44*SUMIF(Lists!$E$2:$E$133,'Quarterly Information'!$O44,Exchange_Value)+AD44*$R44*SUMIF(Lists!$E$2:$E$133,'Quarterly Information'!$Q44,Exchange_Value)+AD44*$T44*SUMIF(Lists!$E$2:$E$133,'Quarterly Information'!$S44,Exchange_Value))/1000,AD44*SUMIF(Lists!$E$2:$E$133,$I44,Exchange_Value)/1000),1) -> 0 | CH44: =ROUND(IF($I44="Other HFC Blend",(AE44*$L44*SUMIF(Lists!$E$2:$E$133,'Quarterly Information'!$K44,Exchange_Value)+AE44*$N44*SUMIF(Lists!$E$2:$E$133,'Quarterly Information'!$M44,Exchange_Value)+AE44*$P44*SUMIF(Lists!$E$2:$E$133,'Quarterly Information'!$O44,Exchange_Value)+AE44*$R44*SUMIF(Lists!$E$2:$E$133,'Quarterly Information'!$Q44,Exchange_Value)+AE44*$T44*SUMIF(Lists!$E$2:$E$133,'Quarterly Information'!$S44,Exchange_Value))/1000,AE44*SUMIF(Lists!$E$2:$E$133,$I44,Exchange_Value)/1000),1) -> 0 | CI44: =ROUND(IF($I44="Other HFC Blend",(AF44*$L44*SUMIF(Lists!$E$2:$E$133,'Quarterly Information'!$K44,Exchange_Value)+AF44*$N44*SUMIF(Lists!$E$2:$E$133,'Quarterly Information'!$M44,Exchange_Value)+AF44*$P44*SUMIF(Lists!$E$2:$E$133,'Quarterly Information'!$O44,Exchange_Value)+AF44*$R44*SUMIF(Lists!$E$2:$E$133,'Quarterly Information'!$Q44,Exchange_Value)+AF44*$T44*SUMIF(Lists!$E$2:$E$133,'Quarterly Information'!$S44,Exchange_Value))/1000,AF44*SUMIF(Lists!$E$2:$E$133,$I44,Exchange_Value)/1000),1) -> 0
A45: 3 | B45: =IF(C45>0,A45,"") | AH45: =L45*J45 -> 0 | AI45: =N45*J45 -> 0 | AJ45: =P45*J45 -> 0 | AK45: =R45*J45 -> 0 | AL45: =T45*J45 -> 0 | AM45: =IF(F45="No",J45,0) -> 0 | AO45: =(J45*L45)*(Z45/J45) -> #DIV/0! | AP45: =(J45*N45)*(Z45/J45) -> #DIV/0! | AQ45: =(J45*P45)*(Z45/J45) -> #DIV/0! | AR45: =(J45*R45)*(Z45/J45) -> #DIV/0! | AS45: =(J45*T45)*(Z45/J45) -> #DIV/0! | AT45: =IF(F45="No",Z45,0) -> 0 | AU45: =(J45*L45)*(AA45/J45) -> #DIV/0! | AV45: =(J45*N45)*(AA45/J45) -> #DIV/0! | AW45: =(J45*P45)*(AA45/J45) -> #DIV/0! | AX45: =(J45*R45)*(AA45/J45) -> #DIV/0! | AY45: =(J45*T45)*(AA45/J45) -> #DIV/0! | AZ45: =IF(F45="No",AA45,0) -> 0 | BA45: =(J45*L45)*(AB45/J45) -> #DIV/0! | BB45: =(J45*N45)*(AB45/J45) -> #DIV/0! | BC45: =(J45*P45)*(AB45/J45) -> #DIV/0! | BD45: =(J45*R45)*(AB45/J45) -> #DIV/0! | BE45: =(J45*T45)*(AB45/J45) -> #DIV/0! | BF45: =IF(F45="No",AB45,0) -> 0 | BG45: =(J45*L45)*(AC45/J45) -> #DIV/0! | BH45: =(J45*N45)*(AC45/J45) -> #DIV/0! | BI45: =(J45*P45)*(AC45/J45) -> #DIV/0! | BJ45: =(J45*R45)*(AC45/J45) -> #DIV/0! | BK45: =(J45*T45)*(AC45/J45) -> #DIV/0! | BL45: =IF(F45="No",AC45,0) -> 0 | BM45: =(J45*L45)*(AD45/J45) -> #DIV/0! | BN45: =(J45*N45)*(AD45/J45) -> #DIV/0! | BO45: =(J45*P45)*(AD45/J45) -> #DIV/0! | BP45: =(J45*R45)*(AD45/J45) -> #DIV/0! | BQ45: =(J45*T45)*(AD45/J45) -> #DIV/0! | BR45: =IF(F45="No",AD45,0) -> 0 | BS45: =(J45*L45)*(AE45/J45) -> #DIV/0! | BT45: =(J45*N45)*(AE45/J45) -> #DIV/0! | BU45: =(J45*P45)*(AE45/J45) -> #DIV/0! | BV45: =(J45*R45)*(AE45/J45) -> #DIV/0! | BW45: =(J45*T45)*(AE45/J45) -> #DIV/0! | BX45: =IF(F45="No",AE45,0) -> 0 | BZ45: =VLOOKUP(I45,Lists!$D$2:$D$19,1,FALSE) -> #N/A | CA45: =VLOOKUP($I45,Blends!$B$2:$B$115,1,FALSE) -> #N/A | CC45: =ROUND(IF($I45="Other HFC Blend",(Z45*$L45*SUMIF(Lists!$E$2:$E$133,'Quarterly Information'!$K45,Exchange_Value)+Z45*$N45*SUMIF(Lists!$E$2:$E$133,'Quarterly Information'!$M45,Exchange_Value)+Z45*$P45*SUMIF(Lists!$E$2:$E$133,'Quarterly Information'!$O45,Exchange_Value)+Z45*$R45*SUMIF(Lists!$E$2:$E$133,'Quarterly Information'!$Q45,Exchange_Value)+Z45*$T45*SUMIF(Lists!$E$2:$E$133,'Quarterly Information'!$S45,Exchange_Value))/1000,Z45*SUMIF(Lists!$E$2:$E$133,$I45,Exchange_Value)/1000),1) -> 0 | CD45: =ROUND(IF($I45="Other HFC Blend",(AA45*$L45*SUMIF(Lists!$E$2:$E$133,'Quarterly Information'!$K45,Exchange_Value)+AA45*$N45*SUMIF(Lists!$E$2:$E$133,'Quarterly Information'!$M45,Exchange_Value)+AA45*$P45*SUMIF(Lists!$E$2:$E$133,'Quarterly Information'!$O45,Exchange_Value)+AA45*$R45*SUMIF(Lists!$E$2:$E$133,'Quarterly Information'!$Q45,Exchange_Value)+AA45*$T45*SUMIF(Lists!$E$2:$E$133,'Quarterly Information'!$S45,Exchange_Value))/1000,AA45*SUMIF(Lists!$E$2:$E$133,$I45,Exchange_Value)/1000),1) -> 0 | CE45: =ROUND(IF($I45="Other HFC Blend",(AB45*$L45*SUMIF(Lists!$E$2:$E$133,'Quarterly Information'!$K45,Exchange_Value)+AB45*$N45*SUMIF(Lists!$E$2:$E$133,'Quarterly Information'!$M45,Exchange_Value)+AB45*$P45*SUMIF(Lists!$E$2:$E$133,'Quarterly Information'!$O45,Exchange_Value)+AB45*$R45*SUMIF(Lists!$E$2:$E$133,'Quarterly Information'!$Q45,Exchange_Value)+AB45*$T45*SUMIF(Lists!$E$2:$E$133,'Quarterly Information'!$S45,Exchange_Value))/1000,AB45*SUMIF(Lists!$E$2:$E$133,$I45,Exchange_Value)/1000),1) -> 0 | CF45: =ROUND(IF($I45="Other HFC Blend",(AC45*$L45*SUMIF(Lists!$E$2:$E$133,'Quarterly Information'!$K45,Exchange_Value)+AC45*$N45*SUMIF(Lists!$E$2:$E$133,'Quarterly Information'!$M45,Exchange_Value)+AC45*$P45*SUMIF(Lists!$E$2:$E$133,'Quarterly Information'!$O45,Exchange_Value)+AC45*$R45*SUMIF(Lists!$E$2:$E$133,'Quarterly Information'!$Q45,Exchange_Value)+AC45*$T45*SUMIF(Lists!$E$2:$E$133,'Quarterly Information'!$S45,Exchange_Value))/1000,AC45*SUMIF(Lists!$E$2:$E$133,$I45,Exchange_Value)/1000),1) -> 0 | CG45: =ROUND(IF($I45="Other HFC Blend",(AD45*$L45*SUMIF(Lists!$E$2:$E$133,'Quarterly Information'!$K45,Exchange_Value)+AD45*$N45*SUMIF(Lists!$E$2:$E$133,'Quarterly Information'!$M45,Exchange_Value)+AD45*$P45*SUMIF(Lists!$E$2:$E$133,'Quarterly Information'!$O45,Exchange_Value)+AD45*$R45*SUMIF(Lists!$E$2:$E$133,'Quarterly Information'!$Q45,Exchange_Value)+AD45*$T45*SUMIF(Lists!$E$2:$E$133,'Quarterly Information'!$S45,Exchange_Value))/1000,AD45*SUMIF(Lists!$E$2:$E$133,$I45,Exchange_Value)/1000),1) -> 0 | CH45: =ROUND(IF($I45="Other HFC Blend",(AE45*$L45*SUMIF(Lists!$E$2:$E$133,'Quarterly Information'!$K45,Exchange_Value)+AE45*$N45*SUMIF(Lists!$E$2:$E$133,'Quarterly Information'!$M45,Exchange_Value)+AE45*$P45*SUMIF(Lists!$E$2:$E$133,'Quarterly Information'!$O45,Exchange_Value)+AE45*$R45*SUMIF(Lists!$E$2:$E$133,'Quarterly Information'!$Q45,Exchange_Value)+AE45*$T45*SUMIF(Lists!$E$2:$E$133,'Quarterly Information'!$S45,Exchange_Value))/1000,AE45*SUMIF(Lists!$E$2:$E$133,$I45,Exchange_Value)/1000),1) -> 0 | CI45: =ROUND(IF($I45="Other HFC Blend",(AF45*$L45*SUMIF(Lists!$E$2:$E$133,'Quarterly Information'!$K45,Exchange_Value)+AF45*$N45*SUMIF(Lists!$E$2:$E$133,'Quarterly Information'!$M45,Exchange_Value)+AF45*$P45*SUMIF(Lists!$E$2:$E$133,'Quarterly Information'!$O45,Exchange_Value)+AF45*$R45*SUMIF(Lists!$E$2:$E$133,'Quarterly Information'!$Q45,Exchange_Value)+AF45*$T45*SUMIF(Lists!$E$2:$E$133,'Quarterly Information'!$S45,Exchange_Value))/1000,AF45*SUMIF(Lists!$E$2:$E$133,$I45,Exchange_Value)/1000),1) -> 0
A46: 4 | B46: =IF(C46>0,A46,"") | AH46: =L46*J46 -> 0 | AI46: =N46*J46 -> 0 | AJ46: =P46*J46 -> 0 | AK46: =R46*J46 -> 0 | AL46: =T46*J46 -> 0 | AM46: =IF(F46="No",J46,0) -> 0 | AO46: =(J46*L46)*(Z46/J46) -> #DIV/0! | AP46: =(J46*N46)*(Z46/J46) -> #DIV/0! | AQ46: =(J46*P46)*(Z46/J46) -> #DIV/0! | AR46: =(J46*R46)*(Z46/J46) -> #DIV/0! | AS46: =(J46*T46)*(Z46/J46) -> #DIV/0! | AT46: =IF(F46="No",Z46,0) -> 0 | AU46: =(J46*L46)*(AA46/J46) -> #DIV/0! | AV46: =(J46*N46)*(AA46/J46) -> #DIV/0! | AW46: =(J46*P46)*(AA46/J46) -> #DIV/0! | AX46: =(J46*R46)*(AA46/J46) -> #DIV/0! | AY46: =(J46*T46)*(AA46/J46) -> #DIV/0! | AZ46: =IF(F46="No",AA46,0) -> 0 | BA46: =(J46*L46)*(AB46/J46) -> #DIV/0! | BB46: =(J46*N46)*(AB46/J46) -> #DIV/0! | BC46: =(J46*P46)*(AB46/J46) -> #DIV/0! | BD46: =(J46*R46)*(AB46/J46) -> #DIV/0! | BE46: =(J46*T46)*(AB46/J46) -> #DIV/0! | BF46: =IF(F46="No",AB46,0) -> 0 | BG46: =(J46*L46)*(AC46/J46) -> #DIV/0! | BH46: =(J46*N46)*(AC46/J46) -> #DIV/0! | BI46: =(J46*P46)*(AC46/J46) -> #DIV/0! | BJ46: =(J46*R46)*(AC46/J46) -> #DIV/0! | BK46: =(J46*T46)*(AC46/J46) -> #DIV/0! | BL46: =IF(F46="No",AC46,0) -> 0 | BM46: =(J46*L46)*(AD46/J46) -> #DIV/0! | BN46: =(J46*N46)*(AD46/J46) -> #DIV/0! | BO46: =(J46*P46)*(AD46/J46) -> #DIV/0! | BP46: =(J46*R46)*(AD46/J46) -> #DIV/0! | BQ46: =(J46*T46)*(AD46/J46) -> #DIV/0! | BR46: =IF(F46="No",AD46,0) -> 0 | BS46: =(J46*L46)*(AE46/J46) -> #DIV/0! | BT46: =(J46*N46)*(AE46/J46) -> #DIV/0! | BU46: =(J46*P46)*(AE46/J46) -> #DIV/0! | BV46: =(J46*R46)*(AE46/J46) -> #DIV/0! | BW46: =(J46*T46)*(AE46/J46) -> #DIV/0! | BX46: =IF(F46="No",AE46,0) -> 0 | BZ46: =VLOOKUP(I46,Lists!$D$2:$D$19,1,FALSE) -> #N/A | CA46: =VLOOKUP($I46,Blends!$B$2:$B$115,1,FALSE) -> #N/A | CC46: =ROUND(IF($I46="Other HFC Blend",(Z46*$L46*SUMIF(Lists!$E$2:$E$133,'Quarterly Information'!$K46,Exchange_Value)+Z46*$N46*SUMIF(Lists!$E$2:$E$133,'Quarterly Information'!$M46,Exchange_Value)+Z46*$P46*SUMIF(Lists!$E$2:$E$133,'Quarterly Information'!$O46,Exchange_Value)+Z46*$R46*SUMIF(Lists!$E$2:$E$133,'Quarterly Information'!$Q46,Exchange_Value)+Z46*$T46*SUMIF(Lists!$E$2:$E$133,'Quarterly Information'!$S46,Exchange_Value))/1000,Z46*SUMIF(Lists!$E$2:$E$133,$I46,Exchange_Value)/1000),1) -> 0 | CD46: =ROUND(IF($I46="Other HFC Blend",(AA46*$L46*SUMIF(Lists!$E$2:$E$133,'Quarterly Information'!$K46,Exchange_Value)+AA46*$N46*SUMIF(Lists!$E$2:$E$133,'Quarterly Information'!$M46,Exchange_Value)+AA46*$P46*SUMIF(Lists!$E$2:$E$133,'Quarterly Information'!$O46,Exchange_Value)+AA46*$R46*SUMIF(Lists!$E$2:$E$133,'Quarterly Information'!$Q46,Exchange_Value)+AA46*$T46*SUMIF(Lists!$E$2:$E$133,'Quarterly Information'!$S46,Exchange_Value))/1000,AA46*SUMIF(Lists!$E$2:$E$133,$I46,Exchange_Value)/1000),1) -> 0 | CE46: =ROUND(IF($I46="Other HFC Blend",(AB46*$L46*SUMIF(Lists!$E$2:$E$133,'Quarterly Information'!$K46,Exchange_Value)+AB46*$N46*SUMIF(Lists!$E$2:$E$133,'Quarterly Information'!$M46,Exchange_Value)+AB46*$P46*SUMIF(Lists!$E$2:$E$133,'Quarterly Information'!$O46,Exchange_Value)+AB46*$R46*SUMIF(Lists!$E$2:$E$133,'Quarterly Information'!$Q46,Exchange_Value)+AB46*$T46*SUMIF(Lists!$E$2:$E$133,'Quarterly Information'!$S46,Exchange_Value))/1000,AB46*SUMIF(Lists!$E$2:$E$133,$I46,Exchange_Value)/1000),1) -> 0 | CF46: =ROUND(IF($I46="Other HFC Blend",(AC46*$L46*SUMIF(Lists!$E$2:$E$133,'Quarterly Information'!$K46,Exchange_Value)+AC46*$N46*SUMIF(Lists!$E$2:$E$133,'Quarterly Information'!$M46,Exchange_Value)+AC46*$P46*SUMIF(Lists!$E$2:$E$133,'Quarterly Information'!$O46,Exchange_Value)+AC46*$R46*SUMIF(Lists!$E$2:$E$133,'Quarterly Information'!$Q46,Exchange_Value)+AC46*$T46*SUMIF(Lists!$E$2:$E$133,'Quarterly Information'!$S46,Exchange_Value))/1000,AC46*SUMIF(Lists!$E$2:$E$133,$I46,Exchange_Value)/1000),1) -> 0 | CG46: =ROUND(IF($I46="Other HFC Blend",(AD46*$L46*SUMIF(Lists!$E$2:$E$133,'Quarterly Information'!$K46,Exchange_Value)+AD46*$N46*SUMIF(Lists!$E$2:$E$133,'Quarterly Information'!$M46,Exchange_Value)+AD46*$P46*SUMIF(Lists!$E$2:$E$133,'Quarterly Information'!$O46,Exchange_Value)+AD46*$R46*SUMIF(Lists!$E$2:$E$133,'Quarterly Information'!$Q46,Exchange_Value)+AD46*$T46*SUMIF(Lists!$E$2:$E$133,'Quarterly Information'!$S46,Exchange_Value))/1000,AD46*SUMIF(Lists!$E$2:$E$133,$I46,Exchange_Value)/1000),1) -> 0 | CH46: =ROUND(IF($I46="Other HFC Blend",(AE46*$L46*SUMIF(Lists!$E$2:$E$133,'Quarterly Information'!$K46,Exchange_Value)+AE46*$N46*SUMIF(Lists!$E$2:$E$133,'Quarterly Information'!$M46,Exchange_Value)+AE46*$P46*SUMIF(Lists!$E$2:$E$133,'Quarterly Information'!$O46,Exchange_Value)+AE46*$R46*SUMIF(Lists!$E$2:$E$133,'Quarterly Information'!$Q46,Exchange_Value)+AE46*$T46*SUMIF(Lists!$E$2:$E$133,'Quarterly Information'!$S46,Exchange_Value))/1000,AE46*SUMIF(Lists!$E$2:$E$133,$I46,Exchange_Value)/1000),1) -> 0 | CI46: =ROUND(IF($I46="Other HFC Blend",(AF46*$L46*SUMIF(Lists!$E$2:$E$133,'Quarterly Information'!$K46,Exchange_Value)+AF46*$N46*SUMIF(Lists!$E$2:$E$133,'Quarterly Information'!$M46,Exchange_Value)+AF46*$P46*SUMIF(Lists!$E$2:$E$133,'Quarterly Information'!$O46,Exchange_Value)+AF46*$R46*SUMIF(Lists!$E$2:$E$133,'Quarterly Information'!$Q46,Exchange_Value)+AF46*$T46*SUMIF(Lists!$E$2:$E$133,'Quarterly Information'!$S46,Exchange_Value))/1000,AF46*SUMIF(Lists!$E$2:$E$133,$I46,Exchange_Value)/1000),1) -> 0
A47: 5 | B47: =IF(C47>0,A47,"") | AH47: =L47*J47 -> 0 | AI47: =N47*J47 -> 0 | AJ47: =P47*J47 -> 0 | AK47: =R47*J47 -> 0 | AL47: =T47*J47 -> 0 | AM47: =IF(F47="No",J47,0) -> 0 | AO47: =(J47*L47)*(Z47/J47) -> #DIV/0! | AP47: =(J47*N47)*(Z47/J47) -> #DIV/0! | AQ47: =(J47*P47)*(Z47/J47) -> #DIV/0! | AR47: =(J47*R47)*(Z47/J47) -> #DIV/0! | AS47: =(J47*T47)*(Z47/J47) -> #DIV/0! | AT47: =IF(F47="No",Z47,0) -> 0 | AU47: =(J47*L47)*(AA47/J47) -> #DIV/0! | AV47: =(J47*N47)*(AA47/J47) -> #DIV/0! | AW47: =(J47*P47)*(AA47/J47) -> #DIV/0! | AX47: =(J47*R47)*(AA47/J47) -> #DIV/0! | AY47: =(J47*T47)*(AA47/J47) -> #DIV/0! | AZ47: =IF(F47="No",AA47,0) -> 0 | BA47: =(J47*L47)*(AB47/J47) -> #DIV/0! | BB47: =(J47*N47)*(AB47/J47) -> #DIV/0! | BC47: =(J47*P47)*(AB47/J47) -> #DIV/0! | BD47: =(J47*R47)*(AB47/J47) -> #DIV/0! | BE47: =(J47*T47)*(AB47/J47) -> #DIV/0! | BF47: =IF(F47="No",AB47,0) -> 0 | BG47: =(J47*L47)*(AC47/J47) -> #DIV/0! | BH47: =(J47*N47)*(AC47/J47) -> #DIV/0! | BI47: =(J47*P47)*(AC47/J47) -> #DIV/0! | BJ47: =(J47*R47)*(AC47/J47) -> #DIV/0! | BK47: =(J47*T47)*(AC47/J47) -> #DIV/0! | BL47: =IF(F47="No",AC47,0) -> 0 | BM47: =(J47*L47)*(AD47/J47) -> #DIV/0! | BN47: =(J47*N47)*(AD47/J47) -> #DIV/0! | BO47: =(J47*P47)*(AD47/J47) -> #DIV/0! | BP47: =(J47*R47)*(AD47/J47) -> #DIV/0! | BQ47: =(J47*T47)*(AD47/J47) -> #DIV/0! | BR47: =IF(F47="No",AD47,0) -> 0 | BS47: =(J47*L47)*(AE47/J47) -> #DIV/0! | BT47: =(J47*N47)*(AE47/J47) -> #DIV/0! | BU47: =(J47*P47)*(AE47/J47) -> #DIV/0! | BV47: =(J47*R47)*(AE47/J47) -> #DIV/0! | BW47: =(J47*T47)*(AE47/J47) -> #DIV/0! | BX47: =IF(F47="No",AE47,0) -> 0 | BZ47: =VLOOKUP(I47,Lists!$D$2:$D$19,1,FALSE) -> #N/A | CA47: =VLOOKUP($I47,Blends!$B$2:$B$115,1,FALSE) -> #N/A | CC47: =ROUND(IF($I47="Other HFC Blend",(Z47*$L47*SUMIF(Lists!$E$2:$E$133,'Quarterly Information'!$K47,Exchange_Value)+Z47*$N47*SUMIF(Lists!$E$2:$E$133,'Quarterly Information'!$M47,Exchange_Value)+Z47*$P47*SUMIF(Lists!$E$2:$E$133,'Quarterly Information'!$O47,Exchange_Value)+Z47*$R47*SUMIF(Lists!$E$2:$E$133,'Quarterly Information'!$Q47,Exchange_Value)+Z47*$T47*SUMIF(Lists!$E$2:$E$133,'Quarterly Information'!$S47,Exchange_Value))/1000,Z47*SUMIF(Lists!$E$2:$E$133,$I47,Exchange_Value)/1000),1) -> 0 | CD47: =ROUND(IF($I47="Other HFC Blend",(AA47*$L47*SUMIF(Lists!$E$2:$E$133,'Quarterly Information'!$K47,Exchange_Value)+AA47*$N47*SUMIF(Lists!$E$2:$E$133,'Quarterly Information'!$M47,Exchange_Value)+AA47*$P47*SUMIF(Lists!$E$2:$E$133,'Quarterly Information'!$O47,Exchange_Value)+AA47*$R47*SUMIF(Lists!$E$2:$E$133,'Quarterly Information'!$Q47,Exchange_Value)+AA47*$T47*SUMIF(Lists!$E$2:$E$133,'Quarterly Information'!$S47,Exchange_Value))/1000,AA47*SUMIF(Lists!$E$2:$E$133,$I47,Exchange_Value)/1000),1) -> 0 | CE47: =ROUND(IF($I47="Other HFC Blend",(AB47*$L47*SUMIF(Lists!$E$2:$E$133,'Quarterly Information'!$K47,Exchange_Value)+AB47*$N47*SUMIF(Lists!$E$2:$E$133,'Quarterly Information'!$M47,Exchange_Value)+AB47*$P47*SUMIF(Lists!$E$2:$E$133,'Quarterly Information'!$O47,Exchange_Value)+AB47*$R47*SUMIF(Lists!$E$2:$E$133,'Quarterly Information'!$Q47,Exchange_Value)+AB47*$T47*SUMIF(Lists!$E$2:$E$133,'Quarterly Information'!$S47,Exchange_Value))/1000,AB47*SUMIF(Lists!$E$2:$E$133,$I47,Exchange_Value)/1000),1) -> 0 | CF47: =ROUND(IF($I47="Other HFC Blend",(AC47*$L47*SUMIF(Lists!$E$2:$E$133,'Quarterly Information'!$K47,Exchange_Value)+AC47*$N47*SUMIF(Lists!$E$2:$E$133,'Quarterly Information'!$M47,Exchange_Value)+AC47*$P47*SUMIF(Lists!$E$2:$E$133,'Quarterly Information'!$O47,Exchange_Value)+AC47*$R47*SUMIF(Lists!$E$2:$E$133,'Quarterly Information'!$Q47,Exchange_Value)+AC47*$T47*SUMIF(Lists!$E$2:$E$133,'Quarterly Information'!$S47,Exchange_Value))/1000,AC47*SUMIF(Lists!$E$2:$E$133,$I47,Exchange_Value)/1000),1) -> 0 | CG47: =ROUND(IF($I47="Other HFC Blend",(AD47*$L47*SUMIF(Lists!$E$2:$E$133,'Quarterly Information'!$K47,Exchange_Value)+AD47*$N47*SUMIF(Lists!$E$2:$E$133,'Quarterly Information'!$M47,Exchange_Value)+AD47*$P47*SUMIF(Lists!$E$2:$E$133,'Quarterly Information'!$O47,Exchange_Value)+AD47*$R47*SUMIF(Lists!$E$2:$E$133,'Quarterly Information'!$Q47,Exchange_Value)+AD47*$T47*SUMIF(Lists!$E$2:$E$133,'Quarterly Information'!$S47,Exchange_Value))/1000,AD47*SUMIF(Lists!$E$2:$E$133,$I47,Exchange_Value)/1000),1) -> 0 | CH47: =ROUND(IF($I47="Other HFC Blend",(AE47*$L47*SUMIF(Lists!$E$2:$E$133,'Quarterly Information'!$K47,Exchange_Value)+AE47*$N47*SUMIF(Lists!$E$2:$E$133,'Quarterly Information'!$M47,Exchange_Value)+AE47*$P47*SUMIF(Lists!$E$2:$E$133,'Quarterly Information'!$O47,Exchange_Value)+AE47*$R47*SUMIF(Lists!$E$2:$E$133,'Quarterly Information'!$Q47,Exchange_Value)+AE47*$T47*SUMIF(Lists!$E$2:$E$133,'Quarterly Information'!$S47,Exchange_Value))/1000,AE47*SUMIF(Lists!$E$2:$E$133,$I47,Exchange_Value)/1000),1) -> 0 | CI47: =ROUND(IF($I47="Other HFC Blend",(AF47*$L47*SUMIF(Lists!$E$2:$E$133,'Quarterly Information'!$K47,Exchange_Value)+AF47*$N47*SUMIF(Lists!$E$2:$E$133,'Quarterly Information'!$M47,Exchange_Value)+AF47*$P47*SUMIF(Lists!$E$2:$E$133,'Quarterly Information'!$O47,Exchange_Value)+AF47*$R47*SUMIF(Lists!$E$2:$E$133,'Quarterly Information'!$Q47,Exchange_Value)+AF47*$T47*SUMIF(Lists!$E$2:$E$133,'Quarterly Information'!$S47,Exchange_Value))/1000,AF47*SUMIF(Lists!$E$2:$E$133,$I47,Exchange_Value)/1000),1) -> 0
A48: 6 | B48: =IF(C48>0,A48,"") | AH48: =L48*J48 -> 0 | AI48: =N48*J48 -> 0 | AJ48: =P48*J48 -> 0 | AK48: =R48*J48 -> 0 | AL48: =T48*J48 -> 0 | AM48: =IF(F48="No",J48,0) -> 0 | AO48: =(J48*L48)*(Z48/J48) -> #DIV/0! | AP48: =(J48*N48)*(Z48/J48) -> #DIV/0! | AQ48: =(J48*P48)*(Z48/J48) -> #DIV/0! | AR48: =(J48*R48)*(Z48/J48) -> #DIV/0! | AS48: =(J48*T48)*(Z48/J48) -> #DIV/0! | AT48: =IF(F48="No",Z48,0) -> 0 | AU48: =(J48*L48)*(AA48/J48) -> #DIV/0! | AV48: =(J48*N48)*(AA48/J48) -> #DIV/0! | AW48: =(J48*P48)*(AA48/J48) -> #DIV/0! | AX48: =(J48*R48)*(AA48/J48) -> #DIV/0! | AY48: =(J48*T48)*(AA48/J48) -> #DIV/0! | AZ48: =IF(F48="No",AA48,0) -> 0 | BA48: =(J48*L48)*(AB48/J48) -> #DIV/0! | BB48: =(J48*N48)*(AB48/J48) -> #DIV/0! | BC48: =(J48*P48)*(AB48/J48) -> #DIV/0! | BD48: =(J48*R48)*(AB48/J48) -> #DIV/0! | BE48: =(J48*T48)*(AB48/J48) -> #DIV/0! | BF48: =IF(F48="No",AB48,0) -> 0 | BG48: =(J48*L48)*(AC48/J48) -> #DIV/0! | BH48: =(J48*N48)*(AC48/J48) -> #DIV/0! | BI48: =(J48*P48)*(AC48/J48) -> #DIV/0! | BJ48: =(J48*R48)*(AC48/J48) -> #DIV/0! | BK48: =(J48*T48)*(AC48/J48) -> #DIV/0! | BL48: =IF(F48="No",AC48,0) -> 0 | BM48: =(J48*L48)*(AD48/J48) -> #DIV/0! | BN48: =(J48*N48)*(AD48/J48) -> #DIV/0! | BO48: =(J48*P48)*(AD48/J48) -> #DIV/0! | BP48: =(J48*R48)*(AD48/J48) -> #DIV/0! | BQ48: =(J48*T48)*(AD48/J48) -> #DIV/0! | BR48: =IF(F48="No",AD48,0) -> 0 | BS48: =(J48*L48)*(AE48/J48) -> #DIV/0! | BT48: =(J48*N48)*(AE48/J48) -> #DIV/0! | BU48: =(J48*P48)*(AE48/J48) -> #DIV/0! | BV48: =(J48*R48)*(AE48/J48) -> #DIV/0! | BW48: =(J48*T48)*(AE48/J48) -> #DIV/0! | BX48: =IF(F48="No",AE48,0) -> 0 | BZ48: =VLOOKUP(I48,Lists!$D$2:$D$19,1,FALSE) -> #N/A | CA48: =VLOOKUP($I48,Blends!$B$2:$B$115,1,FALSE) -> #N/A | CC48: =ROUND(IF($I48="Other HFC Blend",(Z48*$L48*SUMIF(Lists!$E$2:$E$133,'Quarterly Information'!$K48,Exchange_Value)+Z48*$N48*SUMIF(Lists!$E$2:$E$133,'Quarterly Information'!$M48,Exchange_Value)+Z48*$P48*SUMIF(Lists!$E$2:$E$133,'Quarterly Information'!$O48,Exchange_Value)+Z48*$R48*SUMIF(Lists!$E$2:$E$133,'Quarterly Information'!$Q48,Exchange_Value)+Z48*$T48*SUMIF(Lists!$E$2:$E$133,'Quarterly Information'!$S48,Exchange_Value))/1000,Z48*SUMIF(Lists!$E$2:$E$133,$I48,Exchange_Value)/1000),1) -> 0 | CD48: =ROUND(IF($I48="Other HFC Blend",(AA48*$L48*SUMIF(Lists!$E$2:$E$133,'Quarterly Information'!$K48,Exchange_Value)+AA48*$N48*SUMIF(Lists!$E$2:$E$133,'Quarterly Information'!$M48,Exchange_Value)+AA48*$P48*SUMIF(Lists!$E$2:$E$133,'Quarterly Information'!$O48,Exchange_Value)+AA48*$R48*SUMIF(Lists!$E$2:$E$133,'Quarterly Information'!$Q48,Exchange_Value)+AA48*$T48*SUMIF(Lists!$E$2:$E$133,'Quarterly Information'!$S48,Exchange_Value))/1000,AA48*SUMIF(Lists!$E$2:$E$133,$I48,Exchange_Value)/1000),1) -> 0 | CE48: =ROUND(IF($I48="Other HFC Blend",(AB48*$L48*SUMIF(Lists!$E$2:$E$133,'Quarterly Information'!$K48,Exchange_Value)+AB48*$N48*SUMIF(Lists!$E$2:$E$133,'Quarterly Information'!$M48,Exchange_Value)+AB48*$P48*SUMIF(Lists!$E$2:$E$133,'Quarterly Information'!$O48,Exchange_Value)+AB48*$R48*SUMIF(Lists!$E$2:$E$133,'Quarterly Information'!$Q48,Exchange_Value)+AB48*$T48*SUMIF(Lists!$E$2:$E$133,'Quarterly Information'!$S48,Exchange_Value))/1000,AB48*SUMIF(Lists!$E$2:$E$133,$I48,Exchange_Value)/1000),1) -> 0 | CF48: =ROUND(IF($I48="Other HFC Blend",(AC48*$L48*SUMIF(Lists!$E$2:$E$133,'Quarterly Information'!$K48,Exchange_Value)+AC48*$N48*SUMIF(Lists!$E$2:$E$133,'Quarterly Information'!$M48,Exchange_Value)+AC48*$P48*SUMIF(Lists!$E$2:$E$133,'Quarterly Information'!$O48,Exchange_Value)+AC48*$R48*SUMIF(Lists!$E$2:$E$133,'Quarterly Information'!$Q48,Exchange_Value)+AC48*$T48*SUMIF(Lists!$E$2:$E$133,'Quarterly Information'!$S48,Exchange_Value))/1000,AC48*SUMIF(Lists!$E$2:$E$133,$I48,Exchange_Value)/1000),1) -> 0 | CG48: =ROUND(IF($I48="Other HFC Blend",(AD48*$L48*SUMIF(Lists!$E$2:$E$133,'Quarterly Information'!$K48,Exchange_Value)+AD48*$N48*SUMIF(Lists!$E$2:$E$133,'Quarterly Information'!$M48,Exchange_Value)+AD48*$P48*SUMIF(Lists!$E$2:$E$133,'Quarterly Information'!$O48,Exchange_Value)+AD48*$R48*SUMIF(Lists!$E$2:$E$133,'Quarterly Information'!$Q48,Exchange_Value)+AD48*$T48*SUMIF(Lists!$E$2:$E$133,'Quarterly Information'!$S48,Exchange_Value))/1000,AD48*SUMIF(Lists!$E$2:$E$133,$I48,Exchange_Value)/1000),1) -> 0 | CH48: =ROUND(IF($I48="Other HFC Blend",(AE48*$L48*SUMIF(Lists!$E$2:$E$133,'Quarterly Information'!$K48,Exchange_Value)+AE48*$N48*SUMIF(Lists!$E$2:$E$133,'Quarterly Information'!$M48,Exchange_Value)+AE48*$P48*SUMIF(Lists!$E$2:$E$133,'Quarterly Information'!$O48,Exchange_Value)+AE48*$R48*SUMIF(Lists!$E$2:$E$133,'Quarterly Information'!$Q48,Exchange_Value)+AE48*$T48*SUMIF(Lists!$E$2:$E$133,'Quarterly Information'!$S48,Exchange_Value))/1000,AE48*SUMIF(Lists!$E$2:$E$133,$I48,Exchange_Value)/1000),1) -> 0 | CI48: =ROUND(IF($I48="Other HFC Blend",(AF48*$L48*SUMIF(Lists!$E$2:$E$133,'Quarterly Information'!$K48,Exchange_Value)+AF48*$N48*SUMIF(Lists!$E$2:$E$133,'Quarterly Information'!$M48,Exchange_Value)+AF48*$P48*SUMIF(Lists!$E$2:$E$133,'Quarterly Information'!$O48,Exchange_Value)+AF48*$R48*SUMIF(Lists!$E$2:$E$133,'Quarterly Information'!$Q48,Exchange_Value)+AF48*$T48*SUMIF(Lists!$E$2:$E$133,'Quarterly Information'!$S48,Exchange_Value))/1000,AF48*SUMIF(Lists!$E$2:$E$133,$I48,Exchange_Value)/1000),1) -> 0
A49: 7 | B49: =IF(C49>0,A49,"") | AH49: =L49*J49 -> 0 | AI49: =N49*J49 -> 0 | AJ49: =P49*J49 -> 0 | AK49: =R49*J49 -> 0 | AL49: =T49*J49 -> 0 | AM49: =IF(F49="No",J49,0) -> 0 | AO49: =(J49*L49)*(Z49/J49) -> #DIV/0! | AP49: =(J49*N49)*(Z49/J49) -> #DIV/0! | AQ49: =(J49*P49)*(Z49/J49) -> #DIV/0! | AR49: =(J49*R49)*(Z49/J49) -> #DIV/0! | AS49: =(J49*T49)*(Z49/J49) -> #DIV/0! | AT49: =IF(F49="No",Z49,0) -> 0 | AU49: =(J49*L49)*(AA49/J49) -> #DIV/0! | AV49: =(J49*N49)*(AA49/J49) -> #DIV/0! | AW49: =(J49*P49)*(AA49/J49) -> #DIV/0! | AX49: =(J49*R49)*(AA49/J49) -> #DIV/0! | AY49: =(J49*T49)*(AA49/J49) -> #DIV/0! | AZ49: =IF(F49="No",AA49,0) -> 0 | BA49: =(J49*L49)*(AB49/J49) -> #DIV/0! | BB49: =(J49*N49)*(AB49/J49) -> #DIV/0! | BC49: =(J49*P49)*(AB49/J49) -> #DIV/0! | BD49: =(J49*R49)*(AB49/J49) -> #DIV/0! | BE49: =(J49*T49)*(AB49/J49) -> #DIV/0! | BF49: =IF(F49="No",AB49,0) -> 0 | BG49: =(J49*L49)*(AC49/J49) -> #DIV/0! | BH49: =(J49*N49)*(AC49/J49) -> #DIV/0! | BI49: =(J49*P49)*(AC49/J49) -> #DIV/0! | BJ49: =(J49*R49)*(AC49/J49) -> #DIV/0! | BK49: =(J49*T49)*(AC49/J49) -> #DIV/0! | BL49: =IF(F49="No",AC49,0) -> 0 | BM49: =(J49*L49)*(AD49/J49) -> #DIV/0! | BN49: =(J49*N49)*(AD49/J49) -> #DIV/0! | BO49: =(J49*P49)*(AD49/J49) -> #DIV/0! | BP49: =(J49*R49)*(AD49/J49) -> #DIV/0! | BQ49: =(J49*T49)*(AD49/J49) -> #DIV/0! | BR49: =IF(F49="No",AD49,0) -> 0 | BS49: =(J49*L49)*(AE49/J49) -> #DIV/0! | BT49: =(J49*N49)*(AE49/J49) -> #DIV/0! | BU49: =(J49*P49)*(AE49/J49) -> #DIV/0! | BV49: =(J49*R49)*(AE49/J49) -> #DIV/0! | BW49: =(J49*T49)*(AE49/J49) -> #DIV/0! | BX49: =IF(F49="No",AE49,0) -> 0 | BZ49: =VLOOKUP(I49,Lists!$D$2:$D$19,1,FALSE) -> #N/A | CA49: =VLOOKUP($I49,Blends!$B$2:$B$115,1,FALSE) -> #N/A | CC49: =ROUND(IF($I49="Other HFC Blend",(Z49*$L49*SUMIF(Lists!$E$2:$E$133,'Quarterly Information'!$K49,Exchange_Value)+Z49*$N49*SUMIF(Lists!$E$2:$E$133,'Quarterly Information'!$M49,Exchange_Value)+Z49*$P49*SUMIF(Lists!$E$2:$E$133,'Quarterly Information'!$O49,Exchange_Value)+Z49*$R49*SUMIF(Lists!$E$2:$E$133,'Quarterly Information'!$Q49,Exchange_Value)+Z49*$T49*SUMIF(Lists!$E$2:$E$133,'Quarterly Information'!$S49,Exchange_Value))/1000,Z49*SUMIF(Lists!$E$2:$E$133,$I49,Exchange_Value)/1000),1) -> 0 | CD49: =ROUND(IF($I49="Other HFC Blend",(AA49*$L49*SUMIF(Lists!$E$2:$E$133,'Quarterly Information'!$K49,Exchange_Value)+AA49*$N49*SUMIF(Lists!$E$2:$E$133,'Quarterly Information'!$M49,Exchange_Value)+AA49*$P49*SUMIF(Lists!$E$2:$E$133,'Quarterly Information'!$O49,Exchange_Value)+AA49*$R49*SUMIF(Lists!$E$2:$E$133,'Quarterly Information'!$Q49,Exchange_Value)+AA49*$T49*SUMIF(Lists!$E$2:$E$133,'Quarterly Information'!$S49,Exchange_Value))/1000,AA49*SUMIF(Lists!$E$2:$E$133,$I49,Exchange_Value)/1000),1) -> 0 | CE49: =ROUND(IF($I49="Other HFC Blend",(AB49*$L49*SUMIF(Lists!$E$2:$E$133,'Quarterly Information'!$K49,Exchange_Value)+AB49*$N49*SUMIF(Lists!$E$2:$E$133,'Quarterly Information'!$M49,Exchange_Value)+AB49*$P49*SUMIF(Lists!$E$2:$E$133,'Quarterly Information'!$O49,Exchange_Value)+AB49*$R49*SUMIF(Lists!$E$2:$E$133,'Quarterly Information'!$Q49,Exchange_Value)+AB49*$T49*SUMIF(Lists!$E$2:$E$133,'Quarterly Information'!$S49,Exchange_Value))/1000,AB49*SUMIF(Lists!$E$2:$E$133,$I49,Exchange_Value)/1000),1) -> 0 | CF49: =ROUND(IF($I49="Other HFC Blend",(AC49*$L49*SUMIF(Lists!$E$2:$E$133,'Quarterly Information'!$K49,Exchange_Value)+AC49*$N49*SUMIF(Lists!$E$2:$E$133,'Quarterly Information'!$M49,Exchange_Value)+AC49*$P49*SUMIF(Lists!$E$2:$E$133,'Quarterly Information'!$O49,Exchange_Value)+AC49*$R49*SUMIF(Lists!$E$2:$E$133,'Quarterly Information'!$Q49,Exchange_Value)+AC49*$T49*SUMIF(Lists!$E$2:$E$133,'Quarterly Information'!$S49,Exchange_Value))/1000,AC49*SUMIF(Lists!$E$2:$E$133,$I49,Exchange_Value)/1000),1) -> 0 | CG49: =ROUND(IF($I49="Other HFC Blend",(AD49*$L49*SUMIF(Lists!$E$2:$E$133,'Quarterly Information'!$K49,Exchange_Value)+AD49*$N49*SUMIF(Lists!$E$2:$E$133,'Quarterly Information'!$M49,Exchange_Value)+AD49*$P49*SUMIF(Lists!$E$2:$E$133,'Quarterly Information'!$O49,Exchange_Value)+AD49*$R49*SUMIF(Lists!$E$2:$E$133,'Quarterly Information'!$Q49,Exchange_Value)+AD49*$T49*SUMIF(Lists!$E$2:$E$133,'Quarterly Information'!$S49,Exchange_Value))/1000,AD49*SUMIF(Lists!$E$2:$E$133,$I49,Exchange_Value)/1000),1) -> 0 | CH49: =ROUND(IF($I49="Other HFC Blend",(AE49*$L49*SUMIF(Lists!$E$2:$E$133,'Quarterly Information'!$K49,Exchange_Value)+AE49*$N49*SUMIF(Lists!$E$2:$E$133,'Quarterly Information'!$M49,Exchange_Value)+AE49*$P49*SUMIF(Lists!$E$2:$E$133,'Quarterly Information'!$O49,Exchange_Value)+AE49*$R49*SUMIF(Lists!$E$2:$E$133,'Quarterly Information'!$Q49,Exchange_Value)+AE49*$T49*SUMIF(Lists!$E$2:$E$133,'Quarterly Information'!$S49,Exchange_Value))/1000,AE49*SUMIF(Lists!$E$2:$E$133,$I49,Exchange_Value)/1000),1) -> 0 | CI49: =ROUND(IF($I49="Other HFC Blend",(AF49*$L49*SUMIF(Lists!$E$2:$E$133,'Quarterly Information'!$K49,Exchange_Value)+AF49*$N49*SUMIF(Lists!$E$2:$E$133,'Quarterly Information'!$M49,Exchange_Value)+AF49*$P49*SUMIF(Lists!$E$2:$E$133,'Quarterly Information'!$O49,Exchange_Value)+AF49*$R49*SUMIF(Lists!$E$2:$E$133,'Quarterly Information'!$Q49,Exchange_Value)+AF49*$T49*SUMIF(Lists!$E$2:$E$133,'Quarterly Information'!$S49,Exchange_Value))/1000,AF49*SUMIF(Lists!$E$2:$E$133,$I49,Exchange_Value)/1000),1) -> 0
A50: 8 | B50: =IF(C50>0,A50,"") | AH50: =L50*J50 -> 0 | AI50: =N50*J50 -> 0 | AJ50: =P50*J50 -> 0 | AK50: =R50*J50 -> 0 | AL50: =T50*J50 -> 0 | AM50: =IF(F50="No",J50,0) -> 0 | AO50: =(J50*L50)*(Z50/J50) -> #DIV/0! | AP50: =(J50*N50)*(Z50/J50) -> #DIV/0! | AQ50: =(J50*P50)*(Z50/J50) -> #DIV/0! | AR50: =(J50*R50)*(Z50/J50) -> #DIV/0! | AS50: =(J50*T50)*(Z50/J50) -> #DIV/0! | AT50: =IF(F50="No",Z50,0) -> 0 | AU50: =(J50*L50)*(AA50/J50) -> #DIV/0! | AV50: =(J50*N50)*(AA50/J50) -> #DIV/0! | AW50: =(J50*P50)*(AA50/J50) -> #DIV/0! | AX50: =(J50*R50)*(AA50/J50) -> #DIV/0! | AY50: =(J50*T50)*(AA50/J50) -> #DIV/0! | AZ50: =IF(F50="No",AA50,0) -> 0 | BA50: =(J50*L50)*(AB50/J50) -> #DIV/0! | BB50: =(J50*N50)*(AB50/J50) -> #DIV/0! | BC50: =(J50*P50)*(AB50/J50) -> #DIV/0! | BD50: =(J50*R50)*(AB50/J50) -> #DIV/0! | BE50: =(J50*T50)*(AB50/J50) -> #DIV/0! | BF50: =IF(F50="No",AB50,0) -> 0 | BG50: =(J50*L50)*(AC50/J50) -> #DIV/0! | BH50: =(J50*N50)*(AC50/J50) -> #DIV/0! | BI50: =(J50*P50)*(AC50/J50) -> #DIV/0! | BJ50: =(J50*R50)*(AC50/J50) -> #DIV/0! | BK50: =(J50*T50)*(AC50/J50) -> #DIV/0! | BL50: =IF(F50="No",AC50,0) -> 0 | BM50: =(J50*L50)*(AD50/J50) -> #DIV/0! | BN50: =(J50*N50)*(AD50/J50) -> #DIV/0! | BO50: =(J50*P50)*(AD50/J50) -> #DIV/0! | BP50: =(J50*R50)*(AD50/J50) -> #DIV/0! | BQ50: =(J50*T50)*(AD50/J50) -> #DIV/0! | BR50: =IF(F50="No",AD50,0) -> 0 | BS50: =(J50*L50)*(AE50/J50) -> #DIV/0! | BT50: =(J50*N50)*(AE50/J50) -> #DIV/0! | BU50: =(J50*P50)*(AE50/J50) -> #DIV/0! | BV50: =(J50*R50)*(AE50/J50) -> #DIV/0! | BW50: =(J50*T50)*(AE50/J50) -> #DIV/0! | BX50: =IF(F50="No",AE50,0) -> 0 | BZ50: =VLOOKUP(I50,Lists!$D$2:$D$19,1,FALSE) -> #N/A | CA50: =VLOOKUP($I50,Blends!$B$2:$B$115,1,FALSE) -> #N/A | CC50: =ROUND(IF($I50="Other HFC Blend",(Z50*$L50*SUMIF(Lists!$E$2:$E$133,'Quarterly Information'!$K50,Exchange_Value)+Z50*$N50*SUMIF(Lists!$E$2:$E$133,'Quarterly Information'!$M50,Exchange_Value)+Z50*$P50*SUMIF(Lists!$E$2:$E$133,'Quarterly Information'!$O50,Exchange_Value)+Z50*$R50*SUMIF(Lists!$E$2:$E$133,'Quarterly Information'!$Q50,Exchange_Value)+Z50*$T50*SUMIF(Lists!$E$2:$E$133,'Quarterly Information'!$S50,Exchange_Value))/1000,Z50*SUMIF(Lists!$E$2:$E$133,$I50,Exchange_Value)/1000),1) -> 0 | CD50: =ROUND(IF($I50="Other HFC Blend",(AA50*$L50*SUMIF(Lists!$E$2:$E$133,'Quarterly Information'!$K50,Exchange_Value)+AA50*$N50*SUMIF(Lists!$E$2:$E$133,'Quarterly Information'!$M50,Exchange_Value)+AA50*$P50*SUMIF(Lists!$E$2:$E$133,'Quarterly Information'!$O50,Exchange_Value)+AA50*$R50*SUMIF(Lists!$E$2:$E$133,'Quarterly Information'!$Q50,Exchange_Value)+AA50*$T50*SUMIF(Lists!$E$2:$E$133,'Quarterly Information'!$S50,Exchange_Value))/1000,AA50*SUMIF(Lists!$E$2:$E$133,$I50,Exchange_Value)/1000),1) -> 0 | CE50: =ROUND(IF($I50="Other HFC Blend",(AB50*$L50*SUMIF(Lists!$E$2:$E$133,'Quarterly Information'!$K50,Exchange_Value)+AB50*$N50*SUMIF(Lists!$E$2:$E$133,'Quarterly Information'!$M50,Exchange_Value)+AB50*$P50*SUMIF(Lists!$E$2:$E$133,'Quarterly Information'!$O50,Exchange_Value)+AB50*$R50*SUMIF(Lists!$E$2:$E$133,'Quarterly Information'!$Q50,Exchange_Value)+AB50*$T50*SUMIF(Lists!$E$2:$E$133,'Quarterly Information'!$S50,Exchange_Value))/1000,AB50*SUMIF(Lists!$E$2:$E$133,$I50,Exchange_Value)/1000),1) -> 0 | CF50: =ROUND(IF($I50="Other HFC Blend",(AC50*$L50*SUMIF(Lists!$E$2:$E$133,'Quarterly Information'!$K50,Exchange_Value)+AC50*$N50*SUMIF(Lists!$E$2:$E$133,'Quarterly Information'!$M50,Exchange_Value)+AC50*$P50*SUMIF(Lists!$E$2:$E$133,'Quarterly Information'!$O50,Exchange_Value)+AC50*$R50*SUMIF(Lists!$E$2:$E$133,'Quarterly Information'!$Q50,Exchange_Value)+AC50*$T50*SUMIF(Lists!$E$2:$E$133,'Quarterly Information'!$S50,Exchange_Value))/1000,AC50*SUMIF(Lists!$E$2:$E$133,$I50,Exchange_Value)/1000),1) -> 0 | CG50: =ROUND(IF($I50="Other HFC Blend",(AD50*$L50*SUMIF(Lists!$E$2:$E$133,'Quarterly Information'!$K50,Exchange_Value)+AD50*$N50*SUMIF(Lists!$E$2:$E$133,'Quarterly Information'!$M50,Exchange_Value)+AD50*$P50*SUMIF(Lists!$E$2:$E$133,'Quarterly Information'!$O50,Exchange_Value)+AD50*$R50*SUMIF(Lists!$E$2:$E$133,'Quarterly Information'!$Q50,Exchange_Value)+AD50*$T50*SUMIF(Lists!$E$2:$E$133,'Quarterly Information'!$S50,Exchange_Value))/1000,AD50*SUMIF(Lists!$E$2:$E$133,$I50,Exchange_Value)/1000),1) -> 0 | CH50: =ROUND(IF($I50="Other HFC Blend",(AE50*$L50*SUMIF(Lists!$E$2:$E$133,'Quarterly Information'!$K50,Exchange_Value)+AE50*$N50*SUMIF(Lists!$E$2:$E$133,'Quarterly Information'!$M50,Exchange_Value)+AE50*$P50*SUMIF(Lists!$E$2:$E$133,'Quarterly Information'!$O50,Exchange_Value)+AE50*$R50*SUMIF(Lists!$E$2:$E$133,'Quarterly Information'!$Q50,Exchange_Value)+AE50*$T50*SUMIF(Lists!$E$2:$E$133,'Quarterly Information'!$S50,Exchange_Value))/1000,AE50*SUMIF(Lists!$E$2:$E$133,$I50,Exchange_Value)/1000),1) -> 0 | CI50: =ROUND(IF($I50="Other HFC Blend",(AF50*$L50*SUMIF(Lists!$E$2:$E$133,'Quarterly Information'!$K50,Exchange_Value)+AF50*$N50*SUMIF(Lists!$E$2:$E$133,'Quarterly Information'!$M50,Exchange_Value)+AF50*$P50*SUMIF(Lists!$E$2:$E$133,'Quarterly Information'!$O50,Exchange_Value)+AF50*$R50*SUMIF(Lists!$E$2:$E$133,'Quarterly Information'!$Q50,Exchange_Value)+AF50*$T50*SUMIF(Lists!$E$2:$E$133,'Quarterly Information'!$S50,Exchange_Value))/1000,AF50*SUMIF(Lists!$E$2:$E$133,$I50,Exchange_Value)/1000),1) -> 0
...

Sheet Shipments and Sales
E1: OMB Control Number: 2060-0734
E2: Expiration Date: 12/31/2024
B4: American Innovation and Manufacturing Act - HFC Importer Quarterly Report
B6: Worksheet Instructions:
B7: Complete and submit an HFC Importer Quarterly Report if your company imports HFCs. Section 1 must be completed prior to submission. Section 2 must be completed if your company imported HFCs during the reporting quarter; if no HFCs were imported during the quarter, Section 2 may be left blank. Section 3 must be completed if imported material was shipped off-site during the quarter for second party transformation or second party destruction. Section 4 must be completed if orders were placed or material was imported for application-specific allowance holders. Section 5 is automatically populated based on data entered in Section 2. Section 6 must be completed if your company is reporting quarter 4 activity.
B8: Version:
B9: ='Quarterly Information'!B9 -> r0.7
B10: Updated:
B11: ='Quarterly Information'!B11 -> 45497
B12: External Links:
B13: HFC Allocation Rule Reporting HelpDesk | C13: AIM Act Paperwork Reduction Act Burden
B14: Reporting Form Navigation:
B15: Section 1 - Company Identification | C15: Section 4 - Application-Specific Allowance Holder Information
B16: Section 2 - Import Information | C16: Section 5 - Quarterly Import Summary
B17: Section 3 - Recipient Facility Information | C17: Section 6 - End-of-Year Inventory
B19: Section 3 - Recipient Facility Information
B20: Instructions: Provide the quantity of HFCs sold or transferred during the quarter to another facility for use in processes resulting in their transformation or destruction. For each second party recipient listed, provide a copy of the transformation verifications showing that the purchaser or recipient of imported regulated substances intends to transform those substances or destruction verifications showing that the purchaser or recipient intends to destroy the regulated substances. §84.31(c)(1)(vii)
B24: Off-site Transformation or Destruction
B25: 1 | C25: 2 | D25: 3 | E25: 4 | F25: 5 | G25: 6 | H25: 7 | I25: 8 | J25: 9
B26: HFC | C26: Recipient Facility Name §84.31(c)(1)(vi) | D26: Recipient Facility Street Address | E26: Recipient Facility City | F26: Recipient Facility State | G26: Recipient Facility Zip | H26: Quantity (kg) §84.31(c)(1)(vi) | I26: Purpose | J26: Is Facility Owned/Operated by the Importer?
A29: 1
A30: 2
A31: 3
A32: 4
A33: 5
A34: 6
A35: 7
A36: 8
A37: 9
A38: 10
A39: 11
A40: 12
... A48: 20
B50: Section 4 - Application-Specific Allowance Holder Information
B51: Instructions: Identify the application-specific allowance holders from whom orders were placed, the type of HFC purchased, the quantity of each HFC imported during the quarter by expending application-specific allowances for each allowance holder, and the total number of application-specific allowances conferred by each allowance holder through the end of the quarter.
B53: Application-Specific Allowance Holder Information
B54: 1 | C54: 2 | D54: 3a | E54: 3b | F54: 3c | G54: 3d | H54: 3e | I54: 3f | J54: 3g | K54: 3h | L54: 4
B55: Application-Specific Allowance Holder From Whom Orders Were Placed §84.31(c)(1)(iv) | C55: Application-Specific Allowance Holder Company ID | D55: HFC Purchased (1) | E55: Quantity of HFC Imported (1) by Expending Application-Specific Allowances (kg) | F55: HFC Purchased (2) | G55: Quantity of HFC Imported (2) by Expending Application-Specific Allowances (kg) | H55: HFC Purchased (3) | I55: Quantity of HFC Imported (3) by Expending Application-Specific Allowances (kg) | J55: HFC Purchased (4) | K55: Quantity of HFC Imported (4) by Expending Application-Specific Allowances (kg) | L55: Quantity Conferred (MTEVe) §84.31(c)(1)(iv)
A59: 1
A60: 2
...

Sheet Import Summary
F1: OMB Control Number: 2060-0734
F2: Expiration Date: 12/31/2024
B4: American Innovation and Manufacturing Act - HFC Importer Quarterly Report
B6: Worksheet Instructions:
B7: Complete and submit an HFC Importer Quarterly Report if your company imports HFCs. Section 1 must be completed prior to submission. Section 2 must be completed if your company imported HFCs during the reporting quarter; if no HFCs were imported during the quarter, Section 2 may be left blank. Section 3 must be completed if imported material was shipped off-site during the quarter for second party transformation or second party destruction. Section 4 must be completed if orders were placed or material was imported for application-specific allowance holders. Section 5 is automatically populated based on data entered in Section 2. Section 6 must be completed if your company is reporting quarter 4 activity.
B8: Version:
B9: ='Quarterly Information'!B9 -> r0.7
B10: Updated:
B11: ='Quarterly Information'!B11 -> 45497
B12: External Links:
B13: HFC Allocation Rule Reporting HelpDesk | C13: AIM Act Paperwork Reduction Act Burden
B14: Reporting Form Navigation:
B15: Section 1 - Company Identification | C15: Section 4 - Application-Specific Allowance Holder Information
B16: Section 2 - Import Information | C16: Section 5 - Quarterly Import Summary
B17: Section 3 - Recipient Facility Information | C17: Section 6 - End-of-Year Inventory
B19: Section 5 - Quarterly Import Summary
B20: Instructions: The values in the tables below are calculated based on data entered in Section 2. If the totals appear to be incorrect, please return to Section 2 to review your data.
B21: Quarterly Import Summary
B22: 1 | C22: 2 | D22: 3 | E22: 4 | F22: 5 | G22: 6 | H22: 7 | I22: 8a | J22: 8b | K22: 8c | L22: 8d | M22: 8e | N22: 8f | O22: 9
B23: HFC Imported | C23: Gross Imports (kg) | D23: Transhipment (kg) | E23: In-House Transformation (kg) | F23: Second-Party Transformation (kg) | G23: In-House Destruction (kg) | H23: Second-Party Destruction (kg) | I23: Propellants in MDIs (kg) | J23: Defense Sprays (kg) | K23: Structural Composite Foam (kg) | L23: Semiconductors (kg) | M23: Onboard Aerospace Fire Suppression (kg) | N23: Military (kg) | O23: Imported through Expenditure of Consumption Allowances (kg)
