Workbook

Sheet State Summary
A1: GNP Budgets and Manual Rounding Correction
A3: (A) State | B3: (B) Final RCU 2023 Emission Budget | C3: (C) Final CSAPR Update 2023 Emission Budget | D3: (D) GNP Pro-Rated 2023 Emission Budget | E3: (E) GNP 2023 Emission Budget | F3: (F) GNP 2024 Emission Budget | G3: (G) GNP 2025 Emission Budget | H3: GNP NUSA (%) for 2023 to 2025 | I3: Pro-Rated 2023 Emission Budget for Existing Units (tons) | J3: 2023 Emission Budget for Existing Units (tons) | K3: 2024 Emission Budget for Existing Units (tons) | L3: 2025 Emission Budget for Existing Units (tons) | M3: Pro-Rated 2023 NOx OS Allocation Before Rounding Correction (tons) | N3: 2023 NOx OS Allocation Before Rounding Correction (tons) | O3: 2024 NOx OS Allocation Before Rounding Correction (tons) | P3: 2025 NOx OS Allocation Before Rounding Correction (tons) | Q3: Pro-Rated 2023 Manual Rounding Correction (tons) | R3: 2023 Manual Rounding Correction (tons) | S3: 2024 Manual Rounding Correction (tons) | T3: 2025 Manual Rounding Correction (tons) | U3: Pro-Rated 2023 NOx OS Allocation with Rounding Correction (tons) | V3: 2023 NOx OS Allocation with Rounding Correction (tons) | W3: 2024 NOx OS Allocation with Rounding Correction (tons) | X3: 2025 NOx OS Allocation with Rounding Correction (tons)
A4: Illinois | B4: 8179 | D4: 7912 | E4: 7474 | F4: 7325 | G4: 7325 | H4: 0.05 | I4: =ROUND((D4*(1-H4)),0) -> 7516 | J4: =ROUND((E4*(1-H4)),0) -> 7100 | K4: =ROUND((F4*(1-H4)),0) -> 6959 | L4: =ROUND((G4*(1-H4)),0) -> 6959 | M4: =SUMIF('GNP Allocations'!B:B,A4,'GNP Allocations'!E:E) -> 7519 | N4: =SUMIF('GNP Allocations'!B:B,A4,'GNP Allocations'!F:F) -> 7105 | O4: =SUMIF('GNP Allocations'!B:B,A4,'GNP Allocations'!G:G) -> 6960 | P4: =SUMIF('GNP Allocations'!B:B,A4,'GNP Allocations'!H:H) -> 6960 | Q4: =I4-M4 -> -3 | R4: =J4-N4 -> -5 | S4: =K4-O4 -> -1 | T4: =L4-P4 -> -1 | U4: =SUMIF('GNP Allocations'!B:B,A4,'GNP Allocations'!M:M) -> 7516 | V4: =SUMIF('GNP Allocations'!B:B,A4,'GNP Allocations'!N:N) -> 7100 | W4: =SUMIF('GNP Allocations'!B:B,A4,'GNP Allocations'!O:O) -> 6959 | X4: =SUMIF('GNP Allocations'!B:B,A4,'GNP Allocations'!P:P) -> 6959
A5: Indiana | B5: 12553 | D5: 12510 | E5: 12440 | F5: 11413 | G5: 11413 | H5: 0.05 | I5: =ROUND((D5*(1-H5)),0) -> 11885 | J5: =ROUND((E5*(1-H5)),0) -> 11818 | K5: =ROUND((F5*(1-H5)),0) -> 10842 | L5: =ROUND((G5*(1-H5)),0) -> 10842 | M5: =SUMIF('GNP Allocations'!B:B,A5,'GNP Allocations'!E:E) -> 11882 | N5: =SUMIF('GNP Allocations'!B:B,A5,'GNP Allocations'!F:F) -> 11818 | O5: =SUMIF('GNP Allocations'!B:B,A5,'GNP Allocations'!G:G) -> 10843 | P5: =SUMIF('GNP Allocations'!B:B,A5,'GNP Allocations'!H:H) -> 10843 | Q5: =I5-M5 -> 3 | R5: =J5-N5 -> 0 | S5: =K5-O5 -> -1 | T5: =L5-P5 -> -1 | U5: =SUMIF('GNP Allocations'!B:B,A5,'GNP Allocations'!M:M) -> 11885 | V5: =SUMIF('GNP Allocations'!B:B,A5,'GNP Allocations'!N:N) -> 11818 | W5: =SUMIF('GNP Allocations'!B:B,A5,'GNP Allocations'!O:O) -> 10842 | X5: =SUMIF('GNP Allocations'!B:B,A5,'GNP Allocations'!P:P) -> 10842
A6: Maryland | B6: 1266 | D6: 1243 | E6: 1206 | F6: 1206 | G6: 1206 | H6: 0.05 | I6: =ROUND((D6*(1-H6)),0) -> 1181 | J6: =ROUND((E6*(1-H6)),0) -> 1146 | K6: =ROUND((F6*(1-H6)),0) -> 1146 | L6: =ROUND((G6*(1-H6)),0) -> 1146 | M6: =SUMIF('GNP Allocations'!B:B,A6,'GNP Allocations'!E:E) -> 1185 | N6: =SUMIF('GNP Allocations'!B:B,A6,'GNP Allocations'!F:F) -> 1150 | O6: =SUMIF('GNP Allocations'!B:B,A6,'GNP Allocations'!G:G) -> 1150 | P6: =SUMIF('GNP Allocations'!B:B,A6,'GNP Allocations'!H:H) -> 1150 | Q6: =I6-M6 -> -4 | R6: =J6-N6 -> -4 | S6: =K6-O6 -> -4 | T6: =L6-P6 -> -4 | U6: =SUMIF('GNP Allocations'!B:B,A6,'GNP Allocations'!M:M) -> 1181 | V6: =SUMIF('GNP Allocations'!B:B,A6,'GNP Allocations'!N:N) -> 1146 | W6: =SUMIF('GNP Allocations'!B:B,A6,'GNP Allocations'!O:O) -> 1146 | X6: =SUMIF('GNP Allocations'!B:B,A6,'GNP Allocations'!P:P) -> 1146
A7: Michigan | B7: 9975 | D7: 10260 | E7: 10727 | F7: 10275 | G7: 10275 | H7: 0.05 | I7: =ROUND((D7*(1-H7)),0) -> 9747 | J7: =ROUND((E7*(1-H7)),0) -> 10191 | K7: =ROUND((F7*(1-H7)),0) -> 9761 | L7: =ROUND((G7*(1-H7)),0) -> 9761 | M7: =SUMIF('GNP Allocations'!B:B,A7,'GNP Allocations'!E:E) -> 9749 | N7: =SUMIF('GNP Allocations'!B:B,A7,'GNP Allocations'!F:F) -> 10192 | O7: =SUMIF('GNP Allocations'!B:B,A7,'GNP Allocations'!G:G) -> 9759 | P7: =SUMIF('GNP Allocations'!B:B,A7,'GNP Allocations'!H:H) -> 9759 | Q7: =I7-M7 -> -2 | R7: =J7-N7 -> -1 | S7: =K7-O7 -> 2 | T7: =L7-P7 -> 2 | U7: =SUMIF('GNP Allocations'!B:B,A7,'GNP Allocations'!M:M) -> 9747 | V7: =SUMIF('GNP Allocations'!B:B,A7,'GNP Allocations'!N:N) -> 10191 | W7: =SUMIF('GNP Allocations'!B:B,A7,'GNP Allocations'!O:O) -> 9761 | X7: =SUMIF('GNP Allocations'!B:B,A7,'GNP Allocations'!P:P) -> 9761
A8: New Jersey | B8: 1253 | D8: 1071 | E8: 773 | F8: 773 | G8: 773 | H8: 0.05 | I8: =ROUND((D8*(1-H8)),0) -> 1017 | J8: =ROUND((E8*(1-H8)),0) -> 734 | K8: =ROUND((F8*(1-H8)),0) -> 734 | L8: =ROUND((G8*(1-H8)),0) -> 734 | M8: =SUMIF('GNP Allocations'!B:B,A8,'GNP Allocations'!E:E) -> 1021 | N8: =SUMIF('GNP Allocations'!B:B,A8,'GNP Allocations'!F:F) -> 739 | O8: =SUMIF('GNP Allocations'!B:B,A8,'GNP Allocations'!G:G) -> 739 | P8: =SUMIF('GNP Allocations'!B:B,A8,'GNP Allocations'!H:H) -> 739 | Q8: =I8-M8 -> -4 | R8: =J8-N8 -> -5 | S8: =K8-O8 -> -5 | T8: =L8-P8 -> -5 | U8: =SUMIF('GNP Allocations'!B:B,A8,'GNP Allocations'!M:M) -> 1017 | V8: =SUMIF('GNP Allocations'!B:B,A8,'GNP Allocations'!N:N) -> 734 | W8: =SUMIF('GNP Allocations'!B:B,A8,'GNP Allocations'!O:O) -> 734 | X8: =SUMIF('GNP Allocations'!B:B,A8,'GNP Allocations'!P:P) -> 734
A9: New York | B9: 3421 | D9: 3607 | E9: 3912 | F9: 3912 | G9: 3912 | H9: 0.05 | I9: =ROUND((D9*(1-H9)),0) -> 3427 | J9: =ROUND((E9*(1-H9)),0) -> 3716 | K9: =ROUND((F9*(1-H9)),0) -> 3716 | L9: =ROUND((G9*(1-H9)),0) -> 3716 | M9: =SUMIF('GNP Allocations'!B:B,A9,'GNP Allocations'!E:E) -> 3424 | N9: =SUMIF('GNP Allocations'!B:B,A9,'GNP Allocations'!F:F) -> 3716 | O9: =SUMIF('GNP Allocations'!B:B,A9,'GNP Allocations'!G:G) -> 3716 | P9: =SUMIF('GNP Allocations'!B:B,A9,'GNP Allocations'!H:H) -> 3716 | Q9: =I9-M9 -> 3 | R9: =J9-N9 -> 0 | S9: =K9-O9 -> 0 | T9: =L9-P9 -> 0 | U9: =SUMIF('GNP Allocations'!B:B,A9,'GNP Allocations'!M:M) -> 3427 | V9: =SUMIF('GNP Allocations'!B:B,A9,'GNP Allocations'!N:N) -> 3716 | W9: =SUMIF('GNP Allocations'!B:B,A9,'GNP Allocations'!O:O) -> 3716 | X9: =SUMIF('GNP Allocations'!B:B,A9,'GNP Allocations'!P:P) -> 3716
A10: Ohio | B10: 9773 | D10: 9522 | E10: 9110 | F10: 7929 | G10: 7929 | H10: 0.06 | I10: =ROUND((D10*(1-H10)),0) -> 8951 | J10: =ROUND((E10*(1-H10)),0) -> 8563 | K10: =ROUND((F10*(1-H10)),0) -> 7453 | L10: =ROUND((G10*(1-H10)),0) -> 7453 | M10: =SUMIF('GNP Allocations'!B:B,A10,'GNP Allocations'!E:E) -> 8948 | N10: =SUMIF('GNP Allocations'!B:B,A10,'GNP Allocations'!F:F) -> 8563 | O10: =SUMIF('GNP Allocations'!B:B,A10,'GNP Allocations'!G:G) -> 7451 | P10: =SUMIF('GNP Allocations'!B:B,A10,'GNP Allocations'!H:H) -> 7451 | Q10: =I10-M10 -> 3 | R10: =J10-N10 -> 0 | S10: =K10-O10 -> 2 | T10: =L10-P10 -> 2 | U10: =SUMIF('GNP Allocations'!B:B,A10,'GNP Allocations'!M:M) -> 8951 | V10: =SUMIF('GNP Allocations'!B:B,A10,'GNP Allocations'!N:N) -> 8563 | W10: =SUMIF('GNP Allocations'!B:B,A10,'GNP Allocations'!O:O) -> 7453 | X10: =SUMIF('GNP Allocations'!B:B,A10,'GNP Allocations'!P:P) -> 7453
A11: Pennsylvania | B11: 8373 | D11: 8284 | E11: 8138 | F11: 8138 | G11: 8138 | H11: 0.05 | I11: =ROUND((D11*(1-H11)),0) -> 7870 | J11: =ROUND((E11*(1-H11)),0) -> 7731 | K11: =ROUND((F11*(1-H11)),0) -> 7731 | L11: =ROUND((G11*(1-H11)),0) -> 7731 | M11: =SUMIF('GNP Allocations'!B:B,A11,'GNP Allocations'!E:E) -> 7870 | N11: =SUMIF('GNP Allocations'!B:B,A11,'GNP Allocations'!F:F) -> 7731 | O11: =SUMIF('GNP Allocations'!B:B,A11,'GNP Allocations'!G:G) -> 7731 | P11: =SUMIF('GNP Allocations'!B:B,A11,'GNP Allocations'!H:H) -> 7731 | Q11: =I11-M11 -> 0 | R11: =J11-N11 -> 0 | S11: =K11-O11 -> 0 | T11: =L11-P11 -> 0 | U11: =SUMIF('GNP Allocations'!B:B,A11,'GNP Allocations'!M:M) -> 7870 | V11: =SUMIF('GNP Allocations'!B:B,A11,'GNP Allocations'!N:N) -> 7731 | W11: =SUMIF('GNP Allocations'!B:B,A11,'GNP Allocations'!O:O) -> 7731 | X11: =SUMIF('GNP Allocations'!B:B,A11,'GNP Allocations'!P:P) -> 7731
A12: Virginia | B12: 3980 | D12: 3663 | E12: 3143 | F12: 2756 | G12: 2756 | H12: 0.05 | I12: =ROUND((D12*(1-H12)),0) -> 3480 | J12: =ROUND((E12*(1-H12)),0) -> 2986 | K12: =ROUND((F12*(1-H12)),0) -> 2618 | L12: =ROUND((G12*(1-H12)),0) -> 2618 | M12: =SUMIF('GNP Allocations'!B:B,A12,'GNP Allocations'!E:E) -> 3480 | N12: =SUMIF('GNP Allocations'!B:B,A12,'GNP Allocations'!F:F) -> 2986 | O12: =SUMIF('GNP Allocations'!B:B,A12,'GNP Allocations'!G:G) -> 2621 | P12: =SUMIF('GNP Allocations'!B:B,A12,'GNP Allocations'!H:H) -> 2621 | Q12: =I12-M12 -> 0 | R12: =J12-N12 -> 0 | S12: =K12-O12 -> -3 | T12: =L12-P12 -> -3 | U12: =SUMIF('GNP Allocations'!B:B,A12,'GNP Allocations'!M:M) -> 3480 | V12: =SUMIF('GNP Allocations'!B:B,A12,'GNP Allocations'!N:N) -> 2986 | W12: =SUMIF('GNP Allocations'!B:B,A12,'GNP Allocations'!O:O) -> 2618 | X12: =SUMIF('GNP Allocations'!B:B,A12,'GNP Allocations'!P:P) -> 2618
A13: Wisconsin | C13: 7915 | D13: 7301 | E13: 6295 | F13: 6295 | G13: 5988 | H13: 0.05 | I13: =ROUND((D13*(1-H13)),0) -> 6936 | J13: =ROUND((E13*(1-H13)),0) -> 5980 | K13: =ROUND((F13*(1-H13)),0) -> 5980 | L13: =ROUND((G13*(1-H13)),0) -> 5689 | M13: =SUMIF('GNP Allocations'!B:B,A13,'GNP Allocations'!E:E) -> 6938 | N13: =SUMIF('GNP Allocations'!B:B,A13,'GNP Allocations'!F:F) -> 5978 | O13: =SUMIF('GNP Allocations'!B:B,A13,'GNP Allocations'!G:G) -> 5977 | P13: =SUMIF('GNP Allocations'!B:B,A13,'GNP Allocations'!H:H) -> 5686 | Q13: =I13-M13 -> -2 | R13: =J13-N13 -> 2 | S13: =K13-O13 -> 3 | T13: =L13-P13 -> 3 | U13: =SUMIF('GNP Allocations'!B:B,A13,'GNP Allocations'!M:M) -> 6936 | V13: =SUMIF('GNP Allocations'!B:B,A13,'GNP Allocations'!N:N) -> 5980 | W13: =SUMIF('GNP Allocations'!B:B,A13,'GNP Allocations'!O:O) -> 5980 | X13: =SUMIF('GNP Allocations'!B:B,A13,'GNP Allocations'!P:P) -> 5689
A15: Sources and computations:
A16: (B) RCU 2023 state budgets before prorating are from 40 CFR 97.1010(a)(1)(i), Table 1, third column after the state names.
A17: (C) CSAPR Update 2023 state budgets before prorating 40 CFR 97.1010(a)(1)(i), Table 1, third column after the state names, and are also shown in 40 CFR 97.810(a).
A18: (D) Prorated 2023 state budgets are computed as (( B or C ) * ( 95 / 153 )) + ( E * ( 58 / 153 )). See 40 CFR 97.1010(a)(1)(ii) or Section VI.B.12.a of the Good Neighbor Plan preamble.
A19: (E) GNP 2023 state budget before prorating are from 40 CFR 97.1010(a)(1)(i), Table 1, fourth column after the state names.
A20: (F, G) GNP 2024 and 2025 state budgets are from 40 CFR 97.1010(a)(1)(i), Table 1, fifth and sixth columns after the state names.
A21: Notes:
A22: Each May-September control period includes 153 days. The Good Neighbor Plan takes effect on August 4, 2023, which is the 96th day of the 2023 control period.
A23: All state budget amounts shown in columns B through E include the portions of the budgets that are set aside for new units.
A24: The effectiveness of the Good Neighbor Plan for sources in a given state will be stayed for as long as judicial stay orders concerning a related EPA action remain in effect for that state.

Sheet GNP Allocations
E1: Before Rounding Correction | I1: Manual Rounding Correction | M1: After Rounding Correction
A2: Plant Name | B2: State | C2: ORIS ID | D2: Boiler ID | E2: Pro-Rated 2023 NOx OS Allocation (tons) | F2: 2023 NOx OS Allocation (tons) | G2: 2024 NOx OS Allocation (tons) | H2: 2025 NOx OS Allocation (tons) | I2: Pro-Rated 2023 NOx OS Allocation (tons) | J2: 2023 NOx OS Allocation (tons) | K2: 2024 NOx OS Allocation (tons) | L2: 2025 NOx OS Allocation (tons) | M2: Pro-Rated 2023 NOx OS Allocation (tons) | N2: 2023 NOx OS Allocation (tons) | O2: 2024 NOx OS Allocation (tons) | P2: 2025 NOx OS Allocation (tons)
A3: Alsey Station | B3: Illinois | C3: 7818 | D3: ACT1 | E3: 1 | F3: 1 | G3: 1 | H3: 1 | I3: 0 | J3: 0 | K3: 0 | L3: 0 | M3: =E3+I3 -> 1 | N3: =F3+J3 -> 1 | O3: =G3+K3 -> 1 | P3: =H3+L3 -> 1
A4: Alsey Station | B4: Illinois | C4: 7818 | D4: ACT2 | E4: 1 | F4: 1 | G4: 1 | H4: 1 | I4: 0 | J4: 0 | K4: 0 | L4: 0 | M4: =E4+I4 -> 1 | N4: =F4+J4 -> 1 | O4: =G4+K4 -> 1 | P4: =H4+L4 -> 1
A5: Alsey Station | B5: Illinois | C5: 7818 | D5: ACT5 | E5: 1 | F5: 1 | G5: 1 | H5: 1 | I5: 0 | J5: 0 | K5: 0 | L5: 0 | M5: =E5+I5 -> 1 | N5: =F5+J5 -> 1 | O5: =G5+K5 -> 1 | P5: =H5+L5 -> 1
A6: Alsey Station | B6: Illinois | C6: 7818 | D6: ACT6 | E6: 5 | F6: 4 | G6: 5 | H6: 5 | I6: 0 | J6: 0 | K6: 0 | L6: 0 | M6: =E6+I6 -> 5 | N6: =F6+J6 -> 4 | O6: =G6+K6 -> 5 | P6: =H6+L6 -> 5
A7: Aurora | B7: Illinois | C7: 55279 | D7: AGS01 | E7: 25 | F7: 25 | G7: 25 | H7: 25 | I7: 0 | J7: 0 | K7: 0 | L7: 0 | M7: =E7+I7 -> 25 | N7: =F7+J7 -> 25 | O7: =G7+K7 -> 25 | P7: =H7+L7 -> 25
A8: Aurora | B8: Illinois | C8: 55279 | D8: AGS02 | E8: 18 | F8: 18 | G8: 18 | H8: 18 | I8: 0 | J8: 0 | K8: 0 | L8: 0 | M8: =E8+I8 -> 18 | N8: =F8+J8 -> 18 | O8: =G8+K8 -> 18 | P8: =H8+L8 -> 18
A9: Aurora | B9: Illinois | C9: 55279 | D9: AGS03 | E9: 19 | F9: 19 | G9: 19 | H9: 19 | I9: 0 | J9: 0 | K9: 0 | L9: 0 | M9: =E9+I9 -> 19 | N9: =F9+J9 -> 19 | O9: =G9+K9 -> 19 | P9: =H9+L9 -> 19
A10: Aurora | B10: Illinois | C10: 55279 | D10: AGS04 | E10: 22 | F10: 22 | G10: 22 | H10: 22 | I10: 0 | J10: 0 | K10: 0 | L10: 0 | M10: =E10+I10 -> 22 | N10: =F10+J10 -> 22 | O10: =G10+K10 -> 22 | P10: =H10+L10 -> 22
A11: Aurora | B11: Illinois | C11: 55279 | D11: AGS05 | E11: 15 | F11: 14 | G11: 14 | H11: 14 | I11: 0 | J11: 0 | K11: 0 | L11: 0 | M11: =E11+I11 -> 15 | N11: =F11+J11 -> 14 | O11: =G11+K11 -> 14 | P11: =H11+L11 -> 14
A12: Aurora | B12: Illinois | C12: 55279 | D12: AGS06 | E12: 16 | F12: 14 | G12: 15 | H12: 15 | I12: 0 | J12: 0 | K12: 0 | L12: 0 | M12: =E12+I12 -> 16 | N12: =F12+J12 -> 14 | O12: =G12+K12 -> 15 | P12: =H12+L12 -> 15
A13: Aurora | B13: Illinois | C13: 55279 | D13: AGS07 | E13: 16 | F13: 14 | G13: 15 | H13: 15 | I13: 0 | J13: 0 | K13: 0 | L13: 0 | M13: =E13+I13 -> 16 | N13: =F13+J13 -> 14 | O13: =G13+K13 -> 15 | P13: =H13+L13 -> 15
A14: Aurora | B14: Illinois | C14: 55279 | D14: AGS08 | E14: 15 | F14: 14 | G14: 14 | H14: 14 | I14: 0 | J14: 0 | K14: 0 | L14: 0 | M14: =E14+I14 -> 15 | N14: =F14+J14 -> 14 | O14: =G14+K14 -> 14 | P14: =H14+L14 -> 14
... A60: Interstate | B60: Illinois | C60: 7425 | D60: 1 | E60: 9 | F60: 8 | G60: 9 | H60: 9 | I60: 0 | J60: 0 | K60: 0 | L60: 0 | M60: =E60+I60 -> 9 | N60: =F60+J60 -> 8 | O60: =G60+K60 -> 9 | P60: =H60+L60 -> 9
A61: Joliet 29 | B61: Illinois | C61: 384 | D61: 71 | E61: 89 | F61: 81 | I61: 0 | J61: 0 | K61: 0 | L61: 0 | M61: =E61+I61 -> 89 | N61: =F61+J61 -> 81 | O61: =G61+K61 -> 0 | P61: =H61+L61 -> 0
A62: Joliet 29 | B62: Illinois | C62: 384 | D62: 72 | E62: 85 | F62: 78 | I62: 0 | J62: 0 | K62: 0 | L62: 0 | M62: =E62+I62 -> 85 | N62: =F62+J62 -> 78 | O62: =G62+K62 -> 0 | P62: =H62+L62 -> 0
A63: Joliet 29 | B63: Illinois | C63: 384 | D63: 81 | E63: 80 | F63: 72 | I63: 0 | J63: 0 | K63: 0 | L63: 0 | M63: =E63+I63 -> 80 | N63: =F63+J63 -> 72 | O63: =G63+K63 -> 0 | P63: =H63+L63 -> 0
A64: Joliet 29 | B64: Illinois | C64: 384 | D64: 82 | E64: 86 | F64: 78 | I64: 0 | J64: 0 | K64: 0 | L64: 0 | M64: =E64+I64 -> 86 | N64: =F64+J64 -> 78 | O64: =G64+K64 -> 0 | P64: =H64+L64 -> 0
A65: Joliet 9 | B65: Illinois | C65: 874 | D65: 5 | E65: 7 | F65: 7 | I65: 0 | J65: 0 | K65: 0 | L65: 0 | M65: =E65+I65 -> 7 | N65: =F65+J65 -> 7 | O65: =G65+K65 -> 0 | P65: =H65+L65 -> 0
A66: Kendall Energy Facility | B66: Illinois | C66: 55131 | D66: GTG-1 | E66: 44 | F66: 44 | G66: 44 | H66: 44 | I66: 0 | J66: 0 | K66: 0 | L66: 0 | M66: =E66+I66 -> 44 | N66: =F66+J66 -> 44 | O66: =G66+K66 -> 44 | P66: =H66+L66 -> 44
A67: Kendall Energy Facility | B67: Illinois | C67: 55131 | D67: GTG-2 | E67: 41 | F67: 41 | G67: 41 | H67: 41 | I67: 0 | J67: 0 | K67: 0 | L67: 0 | M67: =E67+I67 -> 41 | N67: =F67+J67 -> 41 | O67: =G67+K67 -> 41 | P67: =H67+L67 -> 41
A68: Kendall Energy Facility | B68: Illinois | C68: 55131 | D68: GTG-3 | E68: 43 | F68: 43 | G68: 43 | H68: 43 | I68: 0 | J68: 0 | K68: 0 | L68: 0 | M68: =E68+I68 -> 43 | N68: =F68+J68 -> 43 | O68: =G68+K68 -> 43 | P68: =H68+L68 -> 43
A69: Kendall Energy Facility | B69: Illinois | C69: 55131 | D69: GTG-4 | E69: 48 | F69: 48 | G69: 48 | H69: 48 | I69: 0 | J69: 0 | K69: 0 | L69: 0 | M69: =E69+I69 -> 48 | N69: =F69+J69 -> 48 | O69: =G69+K69 -> 48 | P69: =H69+L69 -> 48
A70: Kincaid Generating Station | B70: Illinois | C70: 876 | D70: 1 | E70: 341 | F70: 310 | G70: 322 | H70: 322 | I70: 0 | J70: 0 | K70: 0 | L70: 0 | M70: =E70+I70 -> 341 | N70: =F70+J70 -> 310 | O70: =G70+K70 -> 322 | P70: =H70+L70 -> 322
A71: Kincaid Generating Station | B71: Illinois | C71: 876 | D71: 2 | E71: 315 | F71: 315 | G71: 315 | H71: 315 | I71: 0 | J71: 0 | K71: 0 | L71: 0 | M71: =E71+I71 -> 315 | N71: =F71+J71 -> 315 | O71: =G71+K71 -> 315 | P71: =H71+L71 -> 315
A72: Kinmundy Power Plant | B72: Illinois | C72: 55204 | D72: KCTG1 | E72: 3 | F72: 3 | G72: 3 | H72: 3 | I72: 0 | J72: 0 | K72: 0 | L72: 0 | M72: =E72+I72 -> 3 | N72: =F72+J72 -> 3 | O72: =G72+K72 -> 3 | P72: =H72+L72 -> 3
A73: Kinmundy Power Plant | B73: Illinois | C73: 55204 | D73: KCTG2 | E73: 3 | F73: 2 | G73: 2 | H73: 2 | I73: 0 | J73: 0 | K73: 0 | L73: 0 | M73: =E73+I73 -> 3 | N73: =F73+J73 -> 2 | O73: =G73+K73 -> 2 | P73: =H73+L73 -> 2
A74: LSP University Park, LLC | B74: Illinois | C74: 55640 | D74: CT01 | E74: 4 | F74: 4 | G74: 4 | H74: 4 | I74: 0 | J74: 0 | K74: 0 | L74: 0 | M74: =E74+I74 -> 4 | N74: =F74+J74 -> 4 | O74: =G74+K74 -> 4 | P74: =H74+L74 -> 4
A75: LSP University Park, LLC | B75: Illinois | C75: 55640 | D75: CT02 | E75: 4 | F75: 4 | G75: 4 | H75: 4 | I75: 0 | J75: 0 | K75: 0 | L75: 0 | M75: =E75+I75 -> 4 | N75: =F75+J75 -> 4 | O75: =G75+K75 -> 4 | P75: =H75+L75 -> 4
A76: LSP University Park, LLC | B76: Illinois | C76: 55640 | D76: CT03 | E76: 4 | F76: 4 | G76: 4 | H76: 4 | I76: 0 | J76: 0 | K76: 0 | L76: 0 | M76: =E76+I76 -> 4 | N76: =F76+J76 -> 4 | O76: =G76+K76 -> 4 | P76: =H76+L76 -> 4
A77: LSP University Park, LLC | B77: Illinois | C77: 55640 | D77: CT04 | E77: 4 | F77: 4 | G77: 4 | H77: 4 | I77: 0 | J77: 0 | K77: 0 | L77: 0 | M77: =E77+I77 -> 4 | N77: =F77+J77 -> 4 | O77: =G77+K77 -> 4 | P77: =H77+L77 -> 4
... A171: Zion Energy Center | B171: Illinois | C171: 55392 | D171: CT-3 | E171: 23 | F171: 23 | G171: 23 | H171: 23 | I171: 0 | J171: 0 | K171: 0 | L171: 0 | M171: =E171+I171 -> 23 | N171: =F171+J171 -> 23 | O171: =G171+K171 -> 23 | P171: =H171+L171 -> 23
A172: A B Brown Generating Station | B172: Indiana | C172: 6137 | D172: 1 | E172: 220 | F172: 219 | I172: 0 | J172: 0 | K172: 0 | L172: 0 | M172: =E172+I172 -> 220 | N172: =F172+J172 -> 219 | O172: =G172+K172 -> 0 | P172: =H172+L172 -> 0
A173: A B Brown Generating Station | B173: Indiana | C173: 6137 | D173: 2 | E173: 230 | F173: 229 | I173: 0 | J173: 0 | K173: 0 | L173: 0 | M173: =E173+I173 -> 230 | N173: =F173+J173 -> 229 | O173: =G173+K173 -> 0 | P173: =H173+L173 -> 0
A174: A B Brown Generating Station | B174: Indiana | C174: 6137 | D174: 3 | E174: 4 | F174: 4 | G174: 4 | H174: 4 | I174: 0 | J174: 0 | K174: 0 | L174: 0 | M174: =E174+I174 -> 4 | N174: =F174+J174 -> 4 | O174: =G174+K174 -> 4 | P174: =H174+L174 -> 4
A175: A B Brown Generating Station | B175: Indiana | C175: 6137 | D175: 4 | E175: 3 | F175: 3 | G175: 3 | H175: 3 | I175: 0 | J175: 0 | K175: 0 | L175: 0 | M175: =E175+I175 -> 3 | N175: =F175+J175 -> 3 | O175: =G175+K175 -> 3 | P175: =H175+L175 -> 3
A176: Alcoa Allowance Management Inc | B176: Indiana | C176: 6705 | D176: 4 | E176: 291 | F176: 289 | G176: 285 | H176: 285 | I176: 0 | J176: 0 | K176: 0 | L176: 0 | M176: =E176+I176 -> 291 | N176: =F176+J176 -> 289 | O176: =G176+K176 -> 285 | P176: =H176+L176 -> 285
A177: Anderson | B177: Indiana | C177: 7336 | D177: ACT1 | E177: 1 | F177: 1 | G177: 1 | H177: 1 | I177: 0 | J177: 0 | K177: 0 | L177: 0 | M177: =E177+I177 -> 1 | N177: =F177+J177 -> 1 | O177: =G177+K177 -> 1 | P177: =H177+L177 -> 1
A178: Anderson | B178: Indiana | C178: 7336 | D178: ACT2 | E178: 1 | F178: 1 | G178: 1 | H178: 1 | I178: 0 | J178: 0 | K178: 0 | L178: 0 | M178: =E178+I178 -> 1 | N178: =F178+J178 -> 1 | O178: =G178+K178 -> 1 | P178: =H178+L178 -> 1
A179: Anderson | B179: Indiana | C179: 7336 | D179: ACT3 | E179: 2 | F179: 2 | G179: 2 | H179: 2 | I179: 0 | J179: 0 | K179: 0 | L179: 0 | M179: =E179+I179 -> 2 | N179: =F179+J179 -> 2 | O179: =G179+K179 -> 2 | P179: =H179+L179 -> 2
A180: Cayuga | B180: Indiana | C180: 1001 | D180: 1 | E180: 424 | F180: 422 | G180: 415 | H180: 415 | I180: 0 | J180: 0 | K180: 0 | L180: 0 | M180: =E180+I180 -> 424 | N180: =F180+J180 -> 422 | O180: =G180+K180 -> 415 | P180: =H180+L180 -> 415
A181: Cayuga | B181: Indiana | C181: 1001 | D181: 2 | E181: 417 | F181: 415 | G181: 409 | H181: 409 | I181: 0 | J181: 0 | K181: 0 | L181: 0 | M181: =E181+I181 -> 417 | N181: =F181+J181 -> 415 | O181: =G181+K181 -> 409 | P181: =H181+L181 -> 409
A182: Cayuga | B182: Indiana | C182: 1001 | D182: 4 | E182: 3 | F182: 3 | G182: 3 | H182: 3 | I182: 0 | J182: 0 | K182: 0 | L182: 0 | M182: =E182+I182 -> 3 | N182: =F182+J182 -> 3 | O182: =G182+K182 -> 3 | P182: =H182+L182 -> 3
A183: Clifty Creek | B183: Indiana | C183: 983 | D183: 1 | E183: 160 | F183: 159 | G183: 156 | H183: 156 | I183: 0 | J183: 0 | K183: 0 | L183: 0 | M183: =E183+I183 -> 160 | N183: =F183+J183 -> 159 | O183: =G183+K183 -> 156 | P183: =H183+L183 -> 156
A184: Clifty Creek | B184: Indiana | C184: 983 | D184: 2 | E184: 149 | F184: 148 | G184: 146 | H184: 146 | I184: 0 | J184: 0 | K184: 0 | L184: 0 | M184: =E184+I184 -> 149 | N184: =F184+J184 -> 148 | O184: =G184+K184 -> 146 | P184: =H184+L184 -> 146
A185: Clifty Creek | B185: Indiana | C185: 983 | D185: 3 | E185: 164 | F185: 163 | G185: 161 | H185: 161 | I185: 0 | J185: 0 | K185: 0 | L185: 0 | M185: =E185+I185 -> 164 | N185: =F185+J185 -> 163 | O185: =G185+K185 -> 161 | P185: =H185+L185 -> 161
... A218: IPL - Harding Street Station (EW Stout) | B218: Indiana | C218: 990 | D218: GT6 | E218: 24 | F218: 24 | G218: 24 | H218: 24 | I218: 0 | J218: 0 | K218: 0 | L218: 0 | M218: =E218+I218 -> 24 | N218: =F218+J218 -> 24 | O218: =G218+K218 -> 24 | P218: =H218+L218 -> 24
A219: IPL - Petersburg Generating Station | B219: Indiana | C219: 994 | D219: 2 | E219: 379 | F219: 376 | I219: 0 | J219: 0 | K219: 0 | L219: 0 | M219: =E219+I219 -> 379 | N219: =F219+J219 -> 376 | O219: =G219+K219 -> 0 | P219: =H219+L219 -> 0
A220: IPL - Petersburg Generating Station | B220: Indiana | C220: 994 | D220: 3 | E220: 446 | F220: 443 | G220: 437 | H220: 437 | I220: 0 | J220: 0 | K220: 0 | L220: 0 | M220: =E220+I220 -> 446 | N220: =F220+J220 -> 443 | O220: =G220+K220 -> 437 | P220: =H220+L220 -> 437
A221: IPL - Petersburg Generating Station | B221: Indiana | C221: 994 | D221: 4 | E221: 487 | F221: 484 | G221: 477 | H221: 477 | I221: 1 | J221: 0 | K221: 0 | L221: 0 | M221: =E221+I221 -> 488 | N221: =F221+J221 -> 484 | O221: =G221+K221 -> 477 | P221: =H221+L221 -> 477
A222: Lawrenceburg Energy Facility | B222: Indiana | C222: 55502 | D222: 1 | E222: 58 | F222: 58 | G222: 58 | H222: 58 | I222: 0 | J222: 0 | K222: 0 | L222: 0 | M222: =E222+I222 -> 58 | N222: =F222+J222 -> 58 | O222: =G222+K222 -> 58 | P222: =H222+L222 -> 58
A223: Lawrenceburg Energy Facility | B223: Indiana | C223: 55502 | D223: 2 | E223: 38 | F223: 38 | G223: 38 | H223: 38 | I223: 0 | J223: 0 | K223: 0 | L223: 0 | M223: =E223+I223 -> 38 | N223: =F223+J223 -> 38 | O223: =G223+K223 -> 38 | P223: =H223+L223 -> 38
A224: Lawrenceburg Energy Facility | B224: Indiana | C224: 55502 | D224: 3 | E224: 43 | F224: 43 | G224: 43 | H224: 43 | I224: 0 | J224: 0 | K224: 0 | L224: 0 | M224: =E224+I224 -> 43 | N224: =F224+J224 -> 43 | O224: =G224+K224 -> 43 | P224: =H224+L224 -> 43
A225: Lawrenceburg Energy Facility | B225: Indiana | C225: 55502 | D225: 4 | E225: 40 | F225: 40 | G225: 40 | H225: 40 | I225: 0 | J225: 0 | K225: 0 | L225: 0 | M225: =E225+I225 -> 40 | N225: =F225+J225 -> 40 | O225: =G225+K225 -> 40 | P225: =H225+L225 -> 40
A226: Merom | B226: Indiana | C226: 6213 | D226: 1SG1 | E226: 474 | F226: 471 | G226: 464 | H226: 464 | I226: 0 | J226: 0 | K226: 0 | L226: 0 | M226: =E226+I226 -> 474 | N226: =F226+J226 -> 471 | O226: =G226+K226 -> 464 | P226: =H226+L226 -> 464
A227: Merom | B227: Indiana | C227: 6213 | D227: 2SG1 | E227: 449 | F227: 446 | G227: 440 | H227: 440 | I227: 0 | J227: 0 | K227: 0 | L227: 0 | M227: =E227+I227 -> 449 | N227: =F227+J227 -> 446 | O227: =G227+K227 -> 440 | P227: =H227+L227 -> 440
A228: Michigan City Generating Station | B228: Indiana | C228: 997 | D228: 12 | E228: 318 | F228: 316 | G228: 312 | H228: 312 | I228: 0 | J228: 0 | K228: 0 | L228: 0 | M228: =E228+I228 -> 318 | N228: =F228+J228 -> 316 | O228: =G228+K228 -> 312 | P228: =H228+L228 -> 312
A229: Montpelier Electric Gen Station | B229: Indiana | C229: 55229 | D229: G1CT1 | E229: 6 | F229: 6 | G229: 6 | H229: 6 | I229: 0 | J229: 0 | K229: 0 | L229: 0 | M229: =E229+I229 -> 6 | N229: =F229+J229 -> 6 | O229: =G229+K229 -> 6 | P229: =H229+L229 -> 6
A230: Montpelier Electric Gen Station | B230: Indiana | C230: 55229 | D230: G1CT2 | E230: 6 | F230: 6 | G230: 6 | H230: 6 | I230: 0 | J230: 0 | K230: 0 | L230: 0 | M230: =E230+I230 -> 6 | N230: =F230+J230 -> 6 | O230: =G230+K230 -> 6 | P230: =H230+L230 -> 6
A231: Montpelier Electric Gen Station | B231: Indiana | C231: 55229 | D231: G2CT1 | E231: 6 | F231: 6 | G231: 6 | H231: 6 | I231: 0 | J231: 0 | K231: 0 | L231: 0 | M231: =E231+I231 -> 6 | N231: =F231+J231 -> 6 | O231: =G231+K231 -> 6 | P231: =H231+L231 -> 6
... A323: Cadillac Renewable Energy | B323: Michigan | C323: 54415 | D323: EUBLR | E323: 52 | F323: 58 | G323: 58 | H323: 58 | I323: 0 | J323: 0 | K323: 0 | L323: 0 | M323: =E323+I323 -> 52 | N323: =F323+J323 -> 58 | O323: =G323+K323 -> 58 | P323: =H323+L323 -> 58
A324: Dan E Karn | B324: Michigan | C324: 1702 | D324: 1 | E324: 262 | F324: 262 | I324: 0 | J324: 0 | K324: 0 | L324: 0 | M324: =E324+I324 -> 262 | N324: =F324+J324 -> 262 | O324: =G324+K324 -> 0 | P324: =H324+L324 -> 0
A325: Dan E Karn | B325: Michigan | C325: 1702 | D325: 2 | E325: 190 | F325: 190 | I325: 0 | J325: 0 | K325: 0 | L325: 0 | M325: =E325+I325 -> 190 | N325: =F325+J325 -> 190 | O325: =G325+K325 -> 0 | P325: =H325+L325 -> 0
A326: Dan E Karn | B326: Michigan | C326: 1702 | D326: 3 | E326: 35 | F326: 38 | G326: 39 | H326: 39 | I326: 0 | J326: 0 | K326: 0 | L326: 0 | M326: =E326+I326 -> 35 | N326: =F326+J326 -> 38 | O326: =G326+K326 -> 39 | P326: =H326+L326 -> 39
A327: Dan E Karn | B327: Michigan | C327: 1702 | D327: 4 | E327: 51 | F327: 57 | G327: 57 | H327: 57 | I327: 0 | J327: 0 | K327: 0 | L327: 0 | M327: =E327+I327 -> 51 | N327: =F327+J327 -> 57 | O327: =G327+K327 -> 57 | P327: =H327+L327 -> 57
A328: Dean Peakers | B328: Michigan | C328: 55718 | D328: 1 | E328: 17 | F328: 17 | G328: 17 | H328: 17 | I328: 0 | J328: 0 | K328: 0 | L328: 0 | M328: =E328+I328 -> 17 | N328: =F328+J328 -> 17 | O328: =G328+K328 -> 17 | P328: =H328+L328 -> 17
A329: Dean Peakers | B329: Michigan | C329: 55718 | D329: 2 | E329: 16 | F329: 16 | G329: 16 | H329: 16 | I329: 0 | J329: 0 | K329: 0 | L329: 0 | M329: =E329+I329 -> 16 | N329: =F329+J329 -> 16 | O329: =G329+K329 -> 16 | P329: =H329+L329 -> 16
A330: Dean Peakers | B330: Michigan | C330: 55718 | D330: 3 | E330: 14 | F330: 14 | G330: 14 | H330: 14 | I330: 0 | J330: 0 | K330: 0 | L330: 0 | M330: =E330+I330 -> 14 | N330: =F330+J330 -> 14 | O330: =G330+K330 -> 14 | P330: =H330+L330 -> 14
A331: Dean Peakers | B331: Michigan | C331: 55718 | D331: 4 | E331: 14 | F331: 14 | G331: 14 | H331: 14 | I331: 0 | J331: 0 | K331: 0 | L331: 0 | M331: =E331+I331 -> 14 | N331: =F331+J331 -> 14 | O331: =G331+K331 -> 14 | P331: =H331+L331 -> 14
A332: Dearborn Industrial Generation | B332: Michigan | C332: 55088 | D332: BL1100 | E332: 25 | F332: 25 | G332: 25 | H332: 25 | I332: 0 | J332: 0 | K332: 0 | L332: 0 | M332: =E332+I332 -> 25 | N332: =F332+J332 -> 25 | O332: =G332+K332 -> 25 | P332: =H332+L332 -> 25
A333: Dearborn Industrial Generation | B333: Michigan | C333: 55088 | D333: BL2100 | E333: 31 | F333: 31 | G333: 31 | H333: 31 | I333: 0 | J333: 0 | K333: 0 | L333: 0 | M333: =E333+I333 -> 31 | N333: =F333+J333 -> 31 | O333: =G333+K333 -> 31 | P333: =H333+L333 -> 31
A334: Dearborn Industrial Generation | B334: Michigan | C334: 55088 | D334: BL3100 | E334: 16 | F334: 16 | G334: 16 | H334: 16 | I334: 0 | J334: 0 | K334: 0 | L334: 0 | M334: =E334+I334 -> 16 | N334: =F334+J334 -> 16 | O334: =G334+K334 -> 16 | P334: =H334+L334 -> 16
A335: Dearborn Industrial Generation | B335: Michigan | C335: 55088 | D335: GT2100 | E335: 67 | F335: 67 | G335: 67 | H335: 67 | I335: 0 | J335: 0 | K335: 0 | L335: 0 | M335: =E335+I335 -> 67 | N335: =F335+J335 -> 67 | O335: =G335+K335 -> 67 | P335: =H335+L335 -> 67
A336: Dearborn Industrial Generation | B336: Michigan | C336: 55088 | D336: GT3100 | E336: 76 | F336: 76 | G336: 76 | H336: 76 | I336: 0 | J336: 0 | K336: 0 | L336: 0 | M336: =E336+I336 -> 76 | N336: =F336+J336 -> 76 | O336: =G336+K336 -> 76 | P336: =H336+L336 -> 76
A337: Dearborn Industrial Generation | B337: Michigan | C337: 55088 | D337: GTP1 | E337: 64 | F337: 64 | G337: 64 | H337: 64 | I337: 0 | J337: 0 | K337: 0 | L337: 0 | M337: =E337+I337 -> 64 | N337: =F337+J337 -> 64 | O337: =G337+K337 -> 64 | P337: =H337+L337 -> 64
... A611: Massena Energy Facility | B611: New York | C611: 54592 | D611: 001 | E611: 0 | F611: 0 | G611: 0 | H611: 0 | I611: 0 | J611: 0 | K611: 0 | L611: 0 | M611: =E611+I611 -> 0 | N611: =F611+J611 -> 0 | O611: =G611+K611 -> 0 | P611: =H611+L611 -> 0
A612: NYSERDA | B612: New York | E612: 361 | F612: 391 | G612: 391 | H612: 391 | I612: 1 | J612: 0 | K612: 0 | L612: 0 | M612: =E612+I612 -> 362 | N612: =F612+J612 -> 391 | O612: =G612+K612 -> 391 | P612: =H612+L612 -> 391
A613: Nassau Energy Corporation | B613: New York | C613: 52056 | D613: 00004 | E613: 71 | F613: 77 | G613: 77 | H613: 77 | I613: 0 | J613: 0 | K613: 0 | L613: 0 | M613: =E613+I613 -> 71 | N613: =F613+J613 -> 77 | O613: =G613+K613 -> 77 | P613: =H613+L613 -> 77
A614: Nissequogue Energy Center | B614: New York | C614: 54149 | D614: 1 | E614: 43 | F614: 47 | G614: 47 | H614: 47 | I614: 0 | J614: 0 | K614: 0 | L614: 0 | M614: =E614+I614 -> 43 | N614: =F614+J614 -> 47 | O614: =G614+K614 -> 47 | P614: =H614+L614 -> 47
A615: North 1st | B615: New York | C615: 7915 | D615: NO1 | E615: 1 | F615: 1 | G615: 1 | H615: 1 | I615: 0 | J615: 0 | K615: 0 | L615: 0 | M615: =E615+I615 -> 1 | N615: =F615+J615 -> 1 | O615: =G615+K615 -> 1 | P615: =H615+L615 -> 1
A616: Northport | B616: New York | C616: 2516 | D616: 1 | E616: 88 | F616: 95 | G616: 95 | H616: 95 | I616: 0 | J616: 0 | K616: 0 | L616: 0 | M616: =E616+I616 -> 88 | N616: =F616+J616 -> 95 | O616: =G616+K616 -> 95 | P616: =H616+L616 -> 95
A617: Northport | B617: New York | C617: 2516 | D617: 2 | E617: 109 | F617: 118 | G617: 118 | H617: 118 | I617: 0 | J617: 0 | K617: 0 | L617: 0 | M617: =E617+I617 -> 109 | N617: =F617+J617 -> 118 | O617: =G617+K617 -> 118 | P617: =H617+L617 -> 118
A618: Northport | B618: New York | C618: 2516 | D618: 3 | E618: 123 | F618: 134 | G618: 134 | H618: 134 | I618: 0 | J618: 0 | K618: 0 | L618: 0 | M618: =E618+I618 -> 123 | N618: =F618+J618 -> 134 | O618: =G618+K618 -> 134 | P618: =H618+L618 -> 134
A619: Northport | B619: New York | C619: 2516 | D619: 4 | E619: 141 | F619: 153 | G619: 153 | H619: 153 | I619: 1 | J619: 0 | K619: 0 | L619: 0 | M619: =E619+I619 -> 142 | N619: =F619+J619 -> 153 | O619: =G619+K619 -> 153 | P619: =H619+L619 -> 153
A620: Oswego Harbor Power | B620: New York | C620: 2594 | D620: 5 | E620: 10 | F620: 11 | G620: 11 | H620: 11 | I620: 0 | J620: 0 | K620: 0 | L620: 0 | M620: =E620+I620 -> 10 | N620: =F620+J620 -> 11 | O620: =G620+K620 -> 11 | P620: =H620+L620 -> 11
A621: Oswego Harbor Power | B621: New York | C621: 2594 | D621: 6 | E621: 11 | F621: 12 | G621: 12 | H621: 12 | I621: 0 | J621: 0 | K621: 0 | L621: 0 | M621: =E621+I621 -> 11 | N621: =F621+J621 -> 12 | O621: =G621+K621 -> 12 | P621: =H621+L621 -> 12
A622: Pinelawn Power | B622: New York | C622: 56188 | D622: 00001 | E622: 2 | F622: 2 | G622: 2 | H622: 2 | I622: 0 | J622: 0 | K622: 0 | L622: 0 | M622: =E622+I622 -> 2 | N622: =F622+J622 -> 2 | O622: =G622+K622 -> 2 | P622: =H622+L622 -> 2
A623: Poletti 500 MW CC | B623: New York | C623: 56196 | D623: CTG7A | E623: 14 | F623: 15 | G623: 15 | H623: 15 | I623: 0 | J623: 0 | K623: 0 | L623: 0 | M623: =E623+I623 -> 14 | N623: =F623+J623 -> 15 | O623: =G623+K623 -> 15 | P623: =H623+L623 -> 15
A624: Poletti 500 MW CC | B624: New York | C624: 56196 | D624: CTG7B | E624: 15 | F624: 16 | G624: 16 | H624: 16 | I624: 0 | J624: 0 | K624: 0 | L624: 0 | M624: =E624+I624 -> 15 | N624: =F624+J624 -> 16 | O624: =G624+K624 -> 16 | P624: =H624+L624 -> 16
... A738: Troy Energy, LLC | B738: Ohio | C738: 55348 | D738: 4 | E738: 27 | F738: 27 | G738: 27 | H738: 27 | I738: 0 | J738: 0 | K738: 0 | L738: 0 | M738: =E738+I738 -> 27 | N738: =F738+J738 -> 27 | O738: =G738+K738 -> 27 | P738: =H738+L738 -> 27
A739: W H Sammis | B739: Ohio | C739: 2866 | D739: 5 | E739: 181 | F739: 172 | I739: 0 | J739: 0 | K739: 0 | L739: 0 | M739: =E739+I739 -> 181 | N739: =F739+J739 -> 172 | O739: =G739+K739 -> 0 | P739: =H739+L739 -> 0
A740: W H Sammis | B740: Ohio | C740: 2866 | D740: 6 | E740: 433 | F740: 411 | I740: 0 | J740: 0 | K740: 0 | L740: 0 | M740: =E740+I740 -> 433 | N740: =F740+J740 -> 411 | O740: =G740+K740 -> 0 | P740: =H740+L740 -> 0
A741: W H Sammis | B741: Ohio | C741: 2866 | D741: 7 | E741: 434 | F741: 413 | I741: 0 | J741: 0 | K741: 0 | L741: 0 | M741: =E741+I741 -> 434 | N741: =F741+J741 -> 413 | O741: =G741+K741 -> 0 | P741: =H741+L741 -> 0
A742: Washington Power Company LLC | B742: Ohio | C742: 55397 | D742: CT1 | E742: 40 | F742: 40 | G742: 40 | H742: 40 | I742: 0 | J742: 0 | K742: 0 | L742: 0 | M742: =E742+I742 -> 40 | N742: =F742+J742 -> 40 | O742: =G742+K742 -> 40 | P742: =H742+L742 -> 40
A743: Washington Power Company LLC | B743: Ohio | C743: 55397 | D743: CT2 | E743: 40 | F743: 40 | G743: 40 | H743: 40 | I743: 0 | J743: 0 | K743: 0 | L743: 0 | M743: =E743+I743 -> 40 | N743: =F743+J743 -> 40 | O743: =G743+K743 -> 40 | P743: =H743+L743 -> 40
A744: Waterford Plant | B744: Ohio | C744: 55503 | D744: 1 | E744: 30 | F744: 30 | G744: 30 | H744: 30 | I744: 0 | J744: 0 | K744: 0 | L744: 0 | M744: =E744+I744 -> 30 | N744: =F744+J744 -> 30 | O744: =G744+K744 -> 30 | P744: =H744+L744 -> 30
A745: Waterford Plant | B745: Ohio | C745: 55503 | D745: 2 | E745: 31 | F745: 31 | G745: 31 | H745: 31 | I745: 0 | J745: 0 | K745: 0 | L745: 0 | M745: =E745+I745 -> 31 | N745: =F745+J745 -> 31 | O745: =G745+K745 -> 31 | P745: =H745+L745 -> 31
A746: Waterford Plant | B746: Ohio | C746: 55503 | D746: 3 | E746: 31 | F746: 31 | G746: 31 | H746: 31 | I746: 0 | J746: 0 | K746: 0 | L746: 0 | M746: =E746+I746 -> 31 | N746: =F746+J746 -> 31 | O746: =G746+K746 -> 31 | P746: =H746+L746 -> 31
A747: West Lorain | B747: Ohio | C747: 2869 | D747: 1A | E747: 1 | F747: 1 | G747: 1 | H747: 1 | I747: 0 | J747: 0 | K747: 0 | L747: 0 | M747: =E747+I747 -> 1 | N747: =F747+J747 -> 1 | O747: =G747+K747 -> 1 | P747: =H747+L747 -> 1
...

Sheet Underlying Data for FIP
F1: Step 1 | K1: Steps 2 & 3 | N1: Step 4 | Q1: Step 5 | T1: Step 6 | AB1: Step 7 | AG1: Step 8 | AM1: Steps 9 & 10 | AQ1: Data Flags
A2: Plant Name | B2: State | C2: ORIS ID | D2: Boiler ID | E2: CAMD Unit ID | F2: 2017 Ozone Season Heat Input (mmBtu) | G2: 2018 Ozone Season Heat Input (mmBtu) | H2: 2019 Ozone Season Heat Input (mmBtu) | I2: 2020 Ozone Season Heat Input (mmBtu) | J2: 2021 Ozone Season Heat Input (mmBtu) | K2: Unit Level Average of 3 Highest Non-Zero Ozone Season Heat Inputs from 2017 to 2021 (mmBtu) for 2023 | L2: Unit Level Average of 3 Highest Non-Zero Ozone Season Heat Inputs from 2017 to 2021 (mmBtu) for 2024 | M2: Unit Level Average of 3 Highest Non-Zero Ozone Season Heat Inputs from 2017 to 2021 (mmBtu) for 2025 | N2: State Level Summation of Unit Level Three Year Average Ozone Season Heat Input (mmBtu) for 2023 | O2: State Level Summation of Unit Level Three Year Average Ozone Season Heat Input (mmBtu) for 2024 | P2: State Level Summation of Unit Level Three Year Average Ozone Season Heat Input (mmBtu) for 2025 | Q2: Unit 's Percentage Share of State's Ozone Season Heat Input for 2023 | R2: Unit 's Percentage Share of State's Ozone Season Heat Input for 2024 | S2: Unit 's Percentage Share of State's Ozone Season Heat Input for 2025 | T2: Ozone Season NOX Pro-Rated 2023 State Budget for Existing Units (tons) | U2: Ozone Season NOX 2023 State Budget for Existing Units (tons) | V2: Ozone Season NOX 2024 State Budget for Existing Units (tons) | W2: Ozone Season NOX 2025 State Budget for Existing Units (tons) | X2: Tentative Heat Input Based Pro-Rated 2023 Ozone Season NOX Allocation (tons) | Y2: Tentative Heat Input Based 2023 Ozone Season NOX Allocation (tons) | Z2: Tentative Heat Input Based 2024 Ozone Season NOX Allocation (tons) | AA2: Tentative Heat Input Based 2025 Ozone Season NOX Allocation (tons) | AB2: 2017 Ozone Season NOX Emissions (tons) | AC2: 2018 Ozone Season NOX Emissions (tons) | AD2: 2019 Ozone Season NOX Emissions (tons) | AE2: 2020 Ozone Season NOX Emissions (tons) | AF2: 2021 Ozone Season NOX Emissions (tons) | AG2: Ozone Season Historical Maximum Total NOX Emissions (tons) | AH2: 2024 Ozone Season Maximum Controlled Baseline (tons) | AI2: 2025 Ozone Season Maximum Controlled Baseline (tons) | AJ2: 2023 Ozone Season Cap | AK2: 2024 Ozone Season Cap | AL2: 2025 Ozone Season Cap | AM2: Unit Level NOX Ozone Season Allocation Pro-Rated 2023 (tons) | AN2: Unit Level NOX Ozone Season Allocation 2023 (tons) | AO2: Unit Level NOX Ozone Season Allocation 2024 (tons) | AP2: Unit Level NOX Ozone Season Allocation 2025 (tons) | AQ2: Existing Unit or Retired in 2023 | AR2: Existing Unit or Retired in 2024 | AS2: Existing Unit or Retired in 2025 | AT2: Additional (Not ARP or CSAPR) Unit | AU2: Unit Not Subject to State's SIP Authority
A3: Calculation | K3: Average of three highest non-zero values in columns F - J for Operating units | N3: Sum column K values to get State level totals | O3: Sum column L values to get State level totals | P3: Sum column M values to get State level totals | Q3: Column K divided by column N | R3: Column L divided by column O | S3: Column M divided by column P | X3: Column Q x column T | Y3: Column Q x column U | Z3: Column R x column V | AA3: Column S x column W | AG3: Highest value of columns AB - AF | AJ3: Column AG (no Maximum Controlled Baseline in 2023) | AK3: Lowest value of columns AG and AH | AL3: Lowest value of columns AG and AI | AM3: (Lesser of columns AJ and X + reapportionment if X < AJ | AN3: (Lesser of columns AJ and Y + reapportionment if Y < AJ | AO3: (Lesser of columns AK and Z + reapportionment if Z < AK | AP3: (Lesser of columns AL and AA + reapportionment if AA < AL
A4: Alsey Station | B4: Illinois | C4: 7818 | D4: ACT1 | E4: 89336 | F4: 7596.733 | G4: 12482.043 | H4: 19308.501 | I4: 40641.216 | J4: 36594.814 | K4: 32181.51 | L4: 32181.51 | M4: 32181.51 | N4: 2.672575e+08 | O4: 2.5751533e+08 | P4: 2.5751533e+08 | Q4: 0.00012041387 | R4: 0.0001249693 | S4: 0.0001249693 | T4: 7516.4 | U4: 7100.3 | V4: 6958.75 | W4: 6958.75 | X4: 0.90507883 | Y4: 0.85497461 | Z4: 0.86963012 | AA4: 0.86963012 | AB4: 0.778 | AC4: 1.276 | AD4: 2.239 | AE4: 4.952 | AF4: 3.493 | AG4: 4.952 | AJ4: 4.952 | AK4: 4.952 | AL4: 4.952 | AM4: 1 | AN4: 1 | AO4: 1 | AP4: 1 | AQ4: Existing Unit | AR4: Existing Unit | AS4: Existing Unit
A5: Alsey Station | B5: Illinois | C5: 7818 | D5: ACT2 | E5: 89337 | F5: 10992.727 | G5: 13421.704 | H5: 9651.756 | I5: 41226.431 | J5: 26118.731 | K5: 26922.289 | L5: 26922.289 | M5: 26922.289 | N5: 2.672575e+08 | O5: 2.5751533e+08 | P5: 2.5751533e+08 | Q5: 0.00010073539 | R5: 0.00010454635 | S5: 0.00010454635 | T5: 7516.4 | U5: 7100.3 | V5: 6958.75 | W5: 6958.75 | X5: 0.75716749 | Y5: 0.71525149 | Z5: 0.72751194 | AA5: 0.72751194 | AB5: 1.248 | AC5: 1.523 | AD5: 1.089 | AE5: 4.391 | AF5: 2.759 | AG5: 4.391 | AJ5: 4.391 | AK5: 4.391 | AL5: 4.391 | AM5: 1 | AN5: 1 | AO5: 1 | AP5: 1 | AQ5: Existing Unit | AR5: Existing Unit | AS5: Existing Unit
A6: Alsey Station | B6: Illinois | C6: 7818 | D6: ACT5 | E6: 89338 | F6: 7889.278 | G6: 8104.016 | H6: 8605.148 | I6: 26724.927 | J6: 23125.942 | K6: 19485.339 | L6: 19485.339 | M6: 19485.339 | N6: 2.672575e+08 | O6: 2.5751533e+08 | P6: 2.5751533e+08 | Q6: 7.2908483e-05 | R6: 7.5666715e-05 | S6: 7.5666715e-05 | T6: 7516.4 | U6: 7100.3 | V6: 6958.75 | W6: 6958.75 | X6: 0.54800932 | Y6: 0.51767211 | Z6: 0.52654575 | AA6: 0.52654575 | AB6: 1.187 | AC6: 1.244 | AD6: 1.356 | AE6: 4.461 | AF6: 3.382 | AG6: 4.461 | AJ6: 4.461 | AK6: 4.461 | AL6: 4.461 | AM6: 1 | AN6: 1 | AO6: 1 | AP6: 1 | AQ6: Existing Unit | AR6: Existing Unit | AS6: Existing Unit
A7: Alsey Station | B7: Illinois | C7: 7818 | D7: ACT6 | E7: 91126 | F7: 97458.825 | G7: 138068.25 | H7: 62151.13 | I7: 38881.803 | J7: 170360.38 | K7: 135295.82 | L7: 135295.82 | M7: 135295.82 | N7: 2.672575e+08 | O7: 2.5751533e+08 | P7: 2.5751533e+08 | Q7: 0.00050623768 | R7: 0.00052538937 | S7: 0.00052538937 | T7: 7516.4 | U7: 7100.3 | V7: 6958.75 | W7: 6958.75 | X7: 3.8050849 | Y7: 3.5944394 | Z7: 3.6560533 | AA7: 3.6560533 | AB7: 4.074 | AC7: 4.652 | AD7: 2.119 | AE7: 1.209 | AF7: 6.565 | AG7: 6.565 | AJ7: 6.565 | AK7: 6.565 | AL7: 6.565 | AM7: 5 | AN7: 4 | AO7: 5 | AP7: 5 | AQ7: Existing Unit | AR7: Existing Unit | AS7: Existing Unit
A8: Aurora | B8: Illinois | C8: 55279 | D8: AGS01 | E8: 4407 | F8: 455943.43 | G8: 838360.95 | H8: 898978.33 | I8: 1028202.5 | J8: 1234421.6 | K8: 1053867.5 | L8: 1053867.5 | M8: 1053867.5 | N8: 2.672575e+08 | O8: 2.5751533e+08 | P8: 2.5751533e+08 | Q8: 0.0039432663 | R8: 0.0040924457 | S8: 0.0040924457 | T8: 7516.4 | U8: 7100.3 | V8: 6958.75 | W8: 6958.75 | X8: 29.639167 | Y8: 27.998374 | Z8: 28.478306 | AA8: 28.478306 | AB8: 8.827 | AC8: 15.65 | AD8: 19.192 | AE8: 22.151 | AF8: 24.57 | AG8: 24.57 | AJ8: 24.57 | AK8: 24.57 | AL8: 24.57 | AM8: 25 | AN8: 25 | AO8: 25 | AP8: 25 | AQ8: Existing Unit | AR8: Existing Unit | AS8: Existing Unit
A9: Aurora | B9: Illinois | C9: 55279 | D9: AGS02 | E9: 4409 | F9: 422808.78 | G9: 799835.31 | H9: 857675.01 | I9: 1033439.4 | J9: 1100224.9 | K9: 997113.12 | L9: 997113.12 | M9: 997113.12 | N9: 2.672575e+08 | O9: 2.5751533e+08 | P9: 2.5751533e+08 | Q9: 0.0037309079 | R9: 0.0038720535 | S9: 0.0038720535 | T9: 7516.4 | U9: 7100.3 | V9: 6958.75 | W9: 6958.75 | X9: 28.042996 | Y9: 26.490565 | Z9: 26.944652 | AA9: 26.944652 | AB9: 7.277 | AC9: 14.926 | AD9: 15.857 | AE9: 18.169 | AF9: 17.822 | AG9: 18.169 | AJ9: 18.169 | AK9: 18.169 | AL9: 18.169 | AM9: 18 | AN9: 18 | AO9: 18 | AP9: 18 | AQ9: Existing Unit | AR9: Existing Unit | AS9: Existing Unit
A10: Aurora | B10: Illinois | C10: 55279 | D10: AGS03 | E10: 4410 | F10: 360446.4 | G10: 871069.91 | H10: 701353.6 | I10: 788370.4 | J10: 1095314 | K10: 918251.45 | L10: 918251.45 | M10: 918251.45 | N10: 2.672575e+08 | O10: 2.5751533e+08 | P10: 2.5751533e+08 | Q10: 0.0034358304 | R10: 0.0035658128 | S10: 0.0035658128 | T10: 7516.4 | U10: 7100.3 | V10: 6958.75 | W10: 6958.75 | X10: 25.825076 | Y10: 24.395427 | Z10: 24.8136 | AA10: 24.8136 | AB10: 6.279 | AC10: 15.238 | AD10: 13.637 | AE10: 15.996 | AF10: 19.235 | AG10: 19.235 | AJ10: 19.235 | AK10: 19.235 | AL10: 19.235 | AM10: 19 | AN10: 19 | AO10: 19 | AP10: 19 | AQ10: Existing Unit | AR10: Existing Unit | AS10: Existing Unit
A11: Aurora | B11: Illinois | C11: 55279 | D11: AGS04 | E11: 4411 | F11: 341064.7 | G11: 845356.4 | H11: 664544.77 | I11: 933562.36 | J11: 1093911 | K11: 957609.91 | L11: 957609.91 | M11: 957609.91 | N11: 2.672575e+08 | O11: 2.5751533e+08 | P11: 2.5751533e+08 | Q11: 0.0035830984 | R11: 0.0037186521 | S11: 0.0037186521 | T11: 7516.4 | U11: 7100.3 | V11: 6958.75 | W11: 6958.75 | X11: 26.932001 | Y11: 25.441073 | Z11: 25.87717 | AA11: 25.87717 | AB11: 5.845 | AC11: 14.223 | AD11: 11.422 | AE11: 17.461 | AF11: 22.183 | AG11: 22.183 | AJ11: 22.183 | AK11: 22.183 | AL11: 22.183 | AM11: 22 | AN11: 22 | AO11: 22 | AP11: 22 | AQ11: Existing Unit | AR11: Existing Unit | AS11: Existing Unit
A12: Aurora | B12: Illinois | C12: 55279 | D12: AGS05 | E12: 4412 | F12: 245089.33 | G12: 389279.41 | H12: 345703.83 | I12: 457130.61 | J12: 432238.33 | K12: 426216.12 | L12: 426216.12 | M12: 426216.12 | N12: 2.672575e+08 | O12: 2.5751533e+08 | P12: 2.5751533e+08 | Q12: 0.001594777 | R12: 0.0016551097 | S12: 0.0016551097 | T12: 7516.4 | U12: 7100.3 | V12: 6958.75 | W12: 6958.75 | X12: 11.986982 | Y12: 11.323395 | Z12: 11.517495 | AA12: 11.517495 | AB12: 8.869 | AC12: 15.694 | AD12: 15.561 | AE12: 19.283 | AF12: 18.552 | AG12: 19.283 | AJ12: 19.283 | AK12: 19.283 | AL12: 19.283 | AM12: 15 | AN12: 14 | AO12: 14 | AP12: 14 | AQ12: Existing Unit | AR12: Existing Unit | AS12: Existing Unit
A13: Aurora | B13: Illinois | C13: 55279 | D13: AGS06 | E13: 4413 | F13: 252823.53 | G13: 416239.01 | H13: 327503.15 | I13: 464140.03 | J13: 430750.95 | K13: 437043.33 | L13: 437043.33 | M13: 437043.33 | N13: 2.672575e+08 | O13: 2.5751533e+08 | P13: 2.5751533e+08 | Q13: 0.0016352893 | R13: 0.0016971546 | S13: 0.0016971546 | T13: 7516.4 | U13: 7100.3 | V13: 6958.75 | W13: 6958.75 | X13: 12.291489 | Y13: 11.611045 | Z13: 11.810075 | AA13: 11.810075 | AB13: 9.275 | AC13: 17.165 | AD13: 14.595 | AE13: 19.765 | AF13: 17.76 | AG13: 19.765 | AJ13: 19.765 | AK13: 19.765 | AL13: 19.765 | AM13: 16 | AN13: 14 | AO13: 15 | AP13: 15 | AQ13: Existing Unit | AR13: Existing Unit | AS13: Existing Unit
A14: Aurora | B14: Illinois | C14: 55279 | D14: AGS07 | E14: 4414 | F14: 260645.01 | G14: 436858.51 | H14: 380466.19 | I14: 454830.8 | J14: 441858.38 | K14: 444515.9 | L14: 444515.9 | M14: 444515.9 | N14: 2.672575e+08 | O14: 2.5751533e+08 | P14: 2.5751533e+08 | Q14: 0.0016632495 | R14: 0.0017261726 | S14: 0.0017261726 | T14: 7516.4 | U14: 7100.3 | V14: 6958.75 | W14: 6958.75 | X14: 12.501648 | Y14: 11.80957 | Z14: 12.012003 | AA14: 12.012003 | AB14: 10.868 | AC14: 17.712 | AD14: 16.769 | AE14: 18.837 | AF14: 17.65 | AG14: 18.837 | AJ14: 18.837 | AK14: 18.837 | AL14: 18.837 | AM14: 16 | AN14: 14 | AO14: 15 | AP14: 15 | AQ14: Existing Unit | AR14: Existing Unit | AS14: Existing Unit
A15: Aurora | B15: Illinois | C15: 55279 | D15: AGS08 | E15: 4415 | F15: 257425.28 | G15: 389137.51 | H15: 358092.49 | I15: 466207.33 | J15: 397230.84 | K15: 417525.23 | L15: 417525.23 | M15: 417525.23 | N15: 2.672575e+08 | O15: 2.5751533e+08 | P15: 2.5751533e+08 | Q15: 0.0015622582 | R15: 0.0016213607 | S15: 0.0016213607 | T15: 7516.4 | U15: 7100.3 | V15: 6958.75 | W15: 6958.75 | X15: 11.742558 | Y15: 11.092502 | Z15: 11.282644 | AA15: 11.282644 | AB15: 9.914 | AC15: 14.627 | AD15: 16.285 | AE15: 19.574 | AF15: 16.216 | AG15: 19.574 | AJ15: 19.574 | AK15: 19.574 | AL15: 19.574 | AM15: 15 | AN15: 14 | AO15: 14 | AP15: 14 | AQ15: Existing Unit | AR15: Existing Unit | AS15: Existing Unit
... A17: Aurora | B17: Illinois | C17: 55279 | D17: AGS10 | E17: 4408 | F17: 254390.99 | G17: 341772.16 | H17: 385461.23 | I17: 438302.7 | J17: 464776.28 | K17: 429513.4 | L17: 429513.4 | M17: 429513.4 | N17: 2.672575e+08 | O17: 2.5751533e+08 | P17: 2.5751533e+08 | Q17: 0.0016071145 | R17: 0.0016679139 | S17: 0.0016679139 | T17: 7516.4 | U17: 7100.3 | V17: 6958.75 | W17: 6958.75 | X17: 12.079715 | Y17: 11.410995 | Z17: 11.606596 | AA17: 11.606596 | AB17: 9.032 | AC17: 12.859 | AD17: 15.487 | AE17: 17.997 | AF17: 18.096 | AG17: 18.096 | AJ17: 18.096 | AK17: 18.096 | AL17: 18.096 | AM17: 15 | AN17: 14 | AO17: 14 | AP17: 14 | AQ17: Existing Unit | AR17: Existing Unit | AS17: Existing Unit
A18: Baldwin Energy Complex | B18: Illinois | C18: 889 | D18: 1 | E18: 611 | F18: 17067998 | G18: 14495068 | H18: 13165351 | I18: 10675690 | J18: 16875004 | K18: 16146023 | L18: 16146023 | M18: 16146023 | N18: 2.672575e+08 | O18: 2.5751533e+08 | P18: 2.5751533e+08 | Q18: 0.060413733 | R18: 0.06269927 | S18: 0.06269927 | T18: 7516.4 | U18: 7100.3 | V18: 6958.75 | W18: 6958.75 | X18: 454.09378 | Y18: 428.95563 | Z18: 436.30855 | AA18: 436.30855 | AB18: 710.335 | AC18: 619.24 | AD18: 574.874 | AE18: 433.732 | AF18: 390.335 | AG18: 710.335 | AH18: 682.7199 | AI18: 682.7199 | AJ18: 710.335 | AK18: 682.7199 | AL18: 682.7199 | AM18: 576 | AN18: 524 | AO18: 544 | AP18: 544 | AQ18: Existing Unit | AR18: Existing Unit | AS18: Existing Unit
A19: Baldwin Energy Complex | B19: Illinois | C19: 889 | D19: 2 | E19: 612 | F19: 18080345 | G19: 16675005 | H19: 13684320 | I19: 8776372.8 | J19: 16473645 | K19: 17076332 | L19: 17076332 | M19: 17076332 | N19: 2.672575e+08 | O19: 2.5751533e+08 | P19: 2.5751533e+08 | Q19: 0.063894677 | R19: 0.066311903 | S19: 0.066311903 | T19: 7516.4 | U19: 7100.3 | V19: 6958.75 | W19: 6958.75 | X19: 480.25795 | Y19: 453.67137 | Z19: 461.44796 | AA19: 461.44796 | AB19: 747.541 | AC19: 717.369 | AD19: 585.025 | AE19: 345.039 | AF19: 520.511 | AG19: 747.541 | AH19: 723.21381 | AI19: 723.21381 | AJ19: 747.541 | AK19: 723.21381 | AL19: 723.21381 | AM19: 610 | AN19: 554 | AO19: 576 | AP19: 576 | AQ19: Existing Unit | AR19: Existing Unit | AS19: Existing Unit
A20: Calumet Energy Team, LLC | B20: Illinois | C20: 55296 | D20: **1 | E20: 4469 | F20: 125724.08 | G20: 59192.451 | H20: 65627.017 | I20: 77245.227 | J20: 166893.13 | K20: 123287.48 | L20: 123287.48 | M20: 123287.48 | N20: 2.672575e+08 | O20: 2.5751533e+08 | P20: 2.5751533e+08 | Q20: 0.00046130597 | R20: 0.00047875783 | S20: 0.00047875783 | T20: 7516.4 | U20: 7100.3 | V20: 6958.75 | W20: 6958.75 | X20: 3.4673602 | Y20: 3.2754107 | Z20: 3.331556 | AA20: 3.331556 | AB20: 4.924 | AC20: 2.776 | AD20: 3.038 | AE20: 3.612 | AF20: 6.678 | AG20: 6.678 | AJ20: 6.678 | AK20: 6.678 | AL20: 6.678 | AM20: 4 | AN20: 4 | AO20: 4 | AP20: 4 | AQ20: Existing Unit | AR20: Existing Unit | AS20: Existing Unit
A21: Calumet Energy Team, LLC | B21: Illinois | C21: 55296 | D21: **2 | E21: 4470 | F21: 124275.51 | G21: 63460.437 | H21: 52681.33 | I21: 67964.998 | J21: 136120.19 | K21: 109453.57 | L21: 109453.57 | M21: 109453.57 | N21: 2.672575e+08 | O21: 2.5751533e+08 | P21: 2.5751533e+08 | Q21: 0.00040954349 | R21: 0.0004250371 | S21: 0.0004250371 | T21: 7516.4 | U21: 7100.3 | V21: 6958.75 | W21: 6958.75 | X21: 3.0782927 | Y21: 2.9078816 | Z21: 2.9577269 | AA21: 2.9577269 | AB21: 4.99 | AC21: 2.591 | AD21: 2.111 | AE21: 2.893 | AF21: 5.639 | AG21: 5.639 | AJ21: 5.639 | AK21: 5.639 | AL21: 5.639 | AM21: 4 | AN21: 4 | AO21: 4 | AP21: 4 | AQ21: Existing Unit | AR21: Existing Unit | AS21: Existing Unit
A22: Cordova Energy Company | B22: Illinois | C22: 55188 | D22: 1 | E22: 4081 | F22: 96798.281 | G22: 203800.32 | H22: 3802059.2 | I22: 2795798.8 | J22: 4685892.9 | K22: 3761250.3 | L22: 3761250.3 | M22: 3761250.3 | N22: 2.672575e+08 | O22: 2.5751533e+08 | P22: 2.5751533e+08 | Q22: 0.014073507 | R22: 0.014605928 | S22: 0.014605928 | T22: 7516.4 | U22: 7100.3 | V22: 6958.75 | W22: 6958.75 | X22: 105.78211 | Y22: 99.926121 | Z22: 101.639 | AA22: 101.639 | AB22: 0.634 | AC22: 1.011 | AD22: 17.013 | AE22: 18.626 | AF22: 30.757 | AG22: 30.757 | AJ22: 30.757 | AK22: 30.757 | AL22: 30.757 | AM22: 31 | AN22: 31 | AO22: 31 | AP22: 31 | AQ22: Existing Unit | AR22: Existing Unit | AS22: Existing Unit
A23: Cordova Energy Company | B23: Illinois | C23: 55188 | D23: 2 | E23: 4082 | F23: 93581.33 | G23: 206194.65 | H23: 3755718.5 | I23: 2791742.6 | J23: 4838226.1 | K23: 3795229.1 | L23: 3795229.1 | M23: 3795229.1 | N23: 2.672575e+08 | O23: 2.5751533e+08 | P23: 2.5751533e+08 | Q23: 0.014200646 | R23: 0.014737876 | S23: 0.014737876 | T23: 7516.4 | U23: 7100.3 | V23: 6958.75 | W23: 6958.75 | X23: 106.73773 | Y23: 100.82885 | Z23: 102.5572 | AA23: 102.5572 | AB23: 0.6 | AC23: 1.037 | AD23: 17.316 | AE23: 18.242 | AF23: 28.944 | AG23: 28.944 | AJ23: 28.944 | AK23: 28.944 | AL23: 28.944 | AM23: 29 | AN23: 29 | AO23: 29 | AP23: 29 | AQ23: Existing Unit | AR23: Existing Unit | AS23: Existing Unit
A24: Crete Energy Park | B24: Illinois | C24: 55253 | D24: GT1 | E24: 4339 | F24: 102560.04 | G24: 240336.95 | H24: 236496.4 | I24: 77201.013 | J24: 46518.713 | K24: 193131.13 | L24: 193131.13 | M24: 193131.13 | N24: 2.672575e+08 | O24: 2.5751533e+08 | P24: 2.5751533e+08 | Q24: 0.00072264063 | R24: 0.00074997916 | S24: 0.00074997916 | T24: 7516.4 | U24: 7100.3 | V24: 6958.75 | W24: 6958.75 | X24: 5.4316561 | Y24: 5.1309653 | Z24: 5.2189175 | AA24: 5.2189175 | AB24: 1.448 | AC24: 3.386 | AD24: 3.328 | AE24: 1.088 | AF24: 0.647 | AG24: 3.386 | AJ24: 3.386 | AK24: 3.386 | AL24: 3.386 | AM24: 3 | AN24: 3 | AO24: 3 | AP24: 3 | AQ24: Existing Unit | AR24: Existing Unit | AS24: Existing Unit
A25: Crete Energy Park | B25: Illinois | C25: 55253 | D25: GT2 | E25: 4340 | F25: 104681.21 | G25: 305309.13 | H25: 225474.74 | I25: 188215.02 | J25: 87307.239 | K25: 239666.3 | L25: 239666.3 | M25: 239666.3 | N25: 2.672575e+08 | O25: 2.5751533e+08 | P25: 2.5751533e+08 | Q25: 0.00089676173 | R25: 0.0009306875 | S25: 0.0009306875 | T25: 7516.4 | U25: 7100.3 | V25: 6958.75 | W25: 6958.75 | X25: 6.7404198 | Y25: 6.3672773 | Z25: 6.4764216 | AA25: 6.4764216 | AB25: 1.31 | AC25: 3.878 | AD25: 2.861 | AE25: 2.413 | AF25: 1.166 | AG25: 3.878 | AJ25: 3.878 | AK25: 3.878 | AL25: 3.878 | AM25: 4 | AN25: 4 | AO25: 4 | AP25: 4 | AQ25: Existing Unit | AR25: Existing Unit | AS25: Existing Unit
A26: Crete Energy Park | B26: Illinois | C26: 55253 | D26: GT3 | E26: 4341 | F26: 100440.56 | G26: 241291.89 | H26: 192234.7 | I26: 168069.52 | J26: 79922.536 | K26: 200532.03 | L26: 200532.03 | M26: 200532.03 | N26: 2.672575e+08 | O26: 2.5751533e+08 | P26: 2.5751533e+08 | Q26: 0.00075033267 | R26: 0.00077871883 | S26: 0.00077871883 | T26: 7516.4 | U26: 7100.3 | V26: 6958.75 | W26: 6958.75 | X26: 5.6398005 | Y26: 5.3275871 | Z26: 5.4189096 | AA26: 5.4189096 | AB26: 1.329 | AC26: 3.262 | AD26: 2.598 | AE26: 2.295 | AF26: 1.852 | AG26: 3.262 | AJ26: 3.262 | AK26: 3.262 | AL26: 3.262 | AM26: 3 | AN26: 3 | AO26: 3 | AP26: 3 | AQ26: Existing Unit | AR26: Existing Unit | AS26: Existing Unit
A27: Crete Energy Park | B27: Illinois | C27: 55253 | D27: GT4 | E27: 4342 | F27: 78886.203 | G27: 241036.56 | H27: 183624.3 | I27: 61801.523 | J27: 91678.882 | K27: 172113.25 | L27: 172113.25 | M27: 172113.25 | N27: 2.672575e+08 | O27: 2.5751533e+08 | P27: 2.5751533e+08 | Q27: 0.00064399782 | R27: 0.00066836117 | S27: 0.00066836117 | T27: 7516.4 | U27: 7100.3 | V27: 6958.75 | W27: 6958.75 | X27: 4.8405452 | Y27: 4.5725777 | Z27: 4.6509583 | AA27: 4.6509583 | AB27: 1.013 | AC27: 3.133 | AD27: 2.38 | AE27: 0.792 | AF27: 1.289 | AG27: 3.133 | AJ27: 3.133 | AK27: 3.133 | AL27: 3.133 | AM27: 3 | AN27: 3 | AO27: 3 | AP27: 3 | AQ27: Existing Unit | AR27: Existing Unit | AS27: Existing Unit
A28: Dallman | B28: Illinois | C28: 963 | D28: 33 | E28: 647 | F28: 3552061.6 | G28: 3493742.7 | H28: 3559904.1 | I28: 12023.857 | J28: 1192332.9 | N28: 2.672575e+08 | O28: 2.5751533e+08 | P28: 2.5751533e+08 | T28: 7516.4 | U28: 7100.3 | V28: 6958.75 | W28: 6958.75 | AB28: 118.252 | AC28: 111.906 | AD28: 120.81 | AE28: 0.259 | AF28: 37.283 | AG28: 120.81 | AH28: 142.39616 | AI28: 142.39616 | AJ28: 120.81 | AK28: 120.81 | AL28: 120.81 | AQ28: Retired | AR28: Retired | AS28: Retired
A29: Dallman | B29: Illinois | C29: 963 | D29: 4 | E29: 89910 | F29: 6223468.5 | G29: 6008522.5 | H29: 5035892.7 | I29: 3696688.2 | J29: 5506421.4 | K29: 5912804.1 | L29: 5912804.1 | M29: 5912804.1 | N29: 2.672575e+08 | O29: 2.5751533e+08 | P29: 2.5751533e+08 | Q29: 0.022123997 | R29: 0.022960979 | S29: 0.022960979 | T29: 7516.4 | U29: 7100.3 | V29: 6958.75 | W29: 6958.75 | X29: 166.29281 | Y29: 157.08702 | Z29: 159.77971 | AA29: 159.77971 | AB29: 193.413 | AC29: 179.654 | AD29: 146.011 | AE29: 114.891 | AF29: 159.101 | AG29: 193.413 | AH29: 248.93874 | AI29: 248.93874 | AJ29: 193.413 | AK29: 193.413 | AL29: 193.413 | AM29: 193 | AN29: 192 | AO29: 193 | AP29: 193 | AQ29: Existing Unit | AR29: Existing Unit | AS29: Existing Unit
A30: E D Edwards | B30: Illinois | C30: 856 | D30: 2 | E30: 569 | F30: 6405886.9 | G30: 7416046.1 | H30: 6473650.8 | I30: 6264544.6 | J30: 5920388.1 | N30: 2.672575e+08 | O30: 2.5751533e+08 | P30: 2.5751533e+08 | T30: 7516.4 | U30: 7100.3 | V30: 6958.75 | W30: 6958.75 | AB30: 656.443 | AC30: 748.8 | AD30: 673.039 | AE30: 648.717 | AF30: 597.402 | AG30: 748.8 | AJ30: 748.8 | AK30: 748.8 | AL30: 748.8 | AQ30: Retired | AR30: Retired | AS30: Retired
A31: E D Edwards | B31: Illinois | C31: 856 | D31: 3 | E31: 570 | F31: 7237202.6 | G31: 6002894.4 | H31: 8689438.4 | I31: 7420811.7 | J31: 7074864.6 | N31: 2.672575e+08 | O31: 2.5751533e+08 | P31: 2.5751533e+08 | T31: 7516.4 | U31: 7100.3 | V31: 6958.75 | W31: 6958.75 | AB31: 323.381 | AC31: 306.722 | AD31: 380.478 | AE31: 387.077 | AF31: 431.526 | AG31: 431.526 | AH31: 347.57754 | AI31: 347.57754 | AJ31: 431.526 | AK31: 347.57754 | AL31: 347.57754 | AQ31: Retired | AR31: Retired | AS31: Retired
A32: Elgin Energy Center, LLC | B32: Illinois | C32: 55438 | D32: CT01 | E32: 4751 | F32: 367317.31 | G32: 378130.89 | H32: 600330.83 | I32: 946170.29 | J32: 968046.65 | K32: 838182.59 | L32: 838182.59 | M32: 838182.59 | N32: 2.672575e+08 | O32: 2.5751533e+08 | P32: 2.5751533e+08 | Q32: 0.003136236 | R32: 0.0032548843 | S32: 0.0032548843 | T32: 7516.4 | U32: 7100.3 | V32: 6958.75 | W32: 6958.75 | X32: 23.573204 | Y32: 22.268216 | Z32: 22.649926 | AA32: 22.649926 | AB32: 11.831 | AC32: 11.634 | AD32: 17.325 | AE32: 25.815 | AF32: 25.709 | AG32: 25.815 | AJ32: 25.815 | AK32: 25.815 | AL32: 25.815 | AM32: 26 | AN32: 26 | AO32: 26 | AP32: 26 | AQ32: Existing Unit | AR32: Existing Unit | AS32: Existing Unit
A33: Elgin Energy Center, LLC | B33: Illinois | C33: 55438 | D33: CT02 | E33: 4752 | F33: 383103.23 | G33: 661920.43 | H33: 599756.36 | I33: 1153533.9 | J33: 1179407.8 | K33: 998287.36 | L33: 998287.36 | M33: 998287.36 | N33: 2.672575e+08 | O33: 2.5751533e+08 | P33: 2.5751533e+08 | Q33: 0.0037353016 | R33: 0.0038766133 | S33: 0.0038766133 | T33: 7516.4 | U33: 7100.3 | V33: 6958.75 | W33: 6958.75 | X33: 28.076021 | Y33: 26.521762 | Z33: 26.976383 | AA33: 26.976383 | AB33: 11.77 | AC33: 17.904 | AD33: 16.785 | AE33: 34.083 | AF33: 34.448 | AG33: 34.448 | AJ33: 34.448 | AK33: 34.448 | AL33: 34.448 | AM33: 34 | AN33: 32 | AO33: 34 | AP33: 34 | AQ33: Existing Unit | AR33: Existing Unit | AS33: Existing Unit
A34: Elgin Energy Center, LLC | B34: Illinois | C34: 55438 | D34: CT03 | E34: 4753 | F34: 327384.28 | G34: 372751.59 | H34: 576148.29 | I34: 929526.21 | J34: 816914.84 | K34: 774196.45 | L34: 774196.45 | M34: 774196.45 | N34: 2.672575e+08 | O34: 2.5751533e+08 | P34: 2.5751533e+08 | Q34: 0.0028968184 | R34: 0.0030064092 | S34: 0.0030064092 | T34: 7516.4 | U34: 7100.3 | V34: 6958.75 | W34: 6958.75 | X34: 21.773646 | Y34: 20.56828 | Z34: 20.92085 | AA34: 20.92085 | AB34: 11.489 | AC34: 12.013 | AD34: 17.047 | AE34: 25.083 | AF34: 21.621 | AG34: 25.083 | AJ34: 25.083 | AK34: 25.083 | AL34: 25.083 | AM34: 25 | AN34: 25 | AO34: 25 | AP34: 25 | AQ34: Existing Unit | AR34: Existing Unit | AS34: Existing Unit
A35: Elgin Energy Center, LLC | B35: Illinois | C35: 55438 | D35: CT04 | E35: 4754 | F35: 247309.2 | G35: 675119.56 | H35: 578742.05 | I35: 827403.96 | J35: 1199754.3 | K35: 900759.26 | L35: 900759.26 | M35: 900759.26 | N35: 2.672575e+08 | O35: 2.5751533e+08 | P35: 2.5751533e+08 | Q35: 0.0033703797 | R35: 0.003497886 | S35: 0.003497886 | T35: 7516.4 | U35: 7100.3 | V35: 6958.75 | W35: 6958.75 | X35: 25.333122 | Y35: 23.930707 | Z35: 24.340914 | AA35: 24.340914 | AB35: 8.249 | AC35: 19.658 | AD35: 16.617 | AE35: 25.876 | AF35: 37.49 | AG35: 37.49 | AJ35: 37.49 | AK35: 37.49 | AL35: 37.49 | AM35: 32 | AN35: 29 | AO35: 30 | AP35: 30 | AQ35: Existing Unit | AR35: Existing Unit | AS35: Existing Unit
A36: Elwood Energy Facility | B36: Illinois | C36: 55199 | D36: 1 | E36: 4110 | F36: 355500.58 | G36: 319134.19 | H36: 132810.63 | I36: 367773 | J36: 932102.59 | K36: 551792.06 | L36: 551792.06 | M36: 551792.06 | N36: 2.672575e+08 | O36: 2.5751533e+08 | P36: 2.5751533e+08 | Q36: 0.0020646457 | R36: 0.0021427542 | S36: 0.0021427542 | T36: 7516.4 | U36: 7100.3 | V36: 6958.75 | W36: 6958.75 | X36: 15.518703 | Y36: 14.659604 | Z36: 14.910891 | AA36: 14.910891 | AB36: 7.121 | AC36: 7.62 | AD36: 3.47 | AE36: 8.076 | AF36: 15.7 | AG36: 15.7 | AJ36: 15.7 | AK36: 15.7 | AL36: 15.7 | AM36: 16 | AN36: 16 | AO36: 16 | AP36: 16 | AQ36: Existing Unit | AR36: Existing Unit | AS36: Existing Unit
A37: Elwood Energy Facility | B37: Illinois | C37: 55199 | D37: 2 | E37: 4116 | F37: 298152.32 | G37: 303713.89 | H37: 145313.98 | I37: 298058.25 | J37: 408425.96 | K37: 336764.06 | L37: 336764.06 | M37: 336764.06 | N37: 2.672575e+08 | O37: 2.5751533e+08 | P37: 2.5751533e+08 | Q37: 0.0012600734 | R37: 0.0013077437 | S37: 0.0013077437 | T37: 7516.4 | U37: 7100.3 | V37: 6958.75 | W37: 6958.75 | X37: 9.4712154 | Y37: 8.9468989 | Z37: 9.1002617 | AA37: 9.1002617 | AB37: 5.315 | AC37: 5.925 | AD37: 3.601 | AE37: 5.454 | AF37: 7.773 | AG37: 7.773 | AJ37: 7.773 | AK37: 7.773 | AL37: 7.773 | AM37: 8 | AN37: 8 | AO37: 8 | AP37: 8 | AQ37: Existing Unit | AR37: Existing Unit | AS37: Existing Unit
A38: Elwood Energy Facility | B38: Illinois | C38: 55199 | D38: 3 | E38: 4117 | F38: 258953.39 | G38: 345847.49 | H38: 146734.44 | I38: 538020.66 | J38: 610600.71 | K38: 498156.29 | L38: 498156.29 | M38: 498156.29 | N38: 2.672575e+08 | O38: 2.5751533e+08 | P38: 2.5751533e+08 | Q38: 0.0018639563 | R38: 0.0019344724 | S38: 0.0019344724 | T38: 7516.4 | U38: 7100.3 | V38: 6958.75 | W38: 6958.75 | X38: 14.010241 | Y38: 13.234649 | Z38: 13.46151 | AA38: 13.46151 | AB38: 4.523 | AC38: 7.239 | AD38: 3.353 | AE38: 10.264 | AF38: 11.341 | AG38: 11.341 | AJ38: 11.341 | AK38: 11.341 | AL38: 11.341 | AM38: 11 | AN38: 11 | AO38: 11 | AP38: 11 | AQ38: Existing Unit | AR38: Existing Unit | AS38: Existing Unit
A39: Elwood Energy Facility | B39: Illinois | C39: 55199 | D39: 4 | E39: 4118 | F39: 215370.54 | G39: 292350.22 | H39: 141545.71 | I39: 403559.44 | J39: 516118 | K39: 404009.22 | L39: 404009.22 | M39: 404009.22 | N39: 2.672575e+08 | O39: 2.5751533e+08 | P39: 2.5751533e+08 | Q39: 0.0015116853 | R39: 0.0015688745 | S39: 0.0015688745 | T39: 7516.4 | U39: 7100.3 | V39: 6958.75 | W39: 6958.75 | X39: 11.362431 | Y39: 10.733419 | Z39: 10.917405 | AA39: 10.917405 | AB39: 4.019 | AC39: 5.812 | AD39: 2.998 | AE39: 7.291 | AF39: 8.807 | AG39: 8.807 | AJ39: 8.807 | AK39: 8.807 | AL39: 8.807 | AM39: 9 | AN39: 9 | AO39: 9 | AP39: 9 | AQ39: Existing Unit | AR39: Existing Unit | AS39: Existing Unit
A40: Elwood Energy Facility | B40: Illinois | C40: 55199 | D40: 5 | E40: 4119 | F40: 237111.51 | G40: 357194.2 | H40: 285687.13 | I40: 342111.16 | J40: 919885.03 | K40: 539730.13 | L40: 539730.13 | M40: 539730.13 | N40: 2.672575e+08 | O40: 2.5751533e+08 | P40: 2.5751533e+08 | Q40: 0.0020195135 | R40: 0.0020959146 | S40: 0.0020959146 | T40: 7516.4 | U40: 7100.3 | V40: 6958.75 | W40: 6958.75 | X40: 15.179471 | Y40: 14.339152 | Z40: 14.584945 | AA40: 14.584945 | AB40: 4.63 | AC40: 6.711 | AD40: 5.635 | AE40: 5.51 | AF40: 15.194 | AG40: 15.194 | AJ40: 15.194 | AK40: 15.194 | AL40: 15.194 | AM40: 15 | AN40: 15 | AO40: 15 | AP40: 15 | AQ40: Existing Unit | AR40: Existing Unit | AS40: Existing Unit
A41: Elwood Energy Facility | B41: Illinois | C41: 55199 | D41: 6 | E41: 4120 | F41: 160333.83 | G41: 410725 | H41: 235367.21 | I41: 445944.54 | J41: 484943.34 | K41: 447204.29 | L41: 447204.29 | M41: 447204.29 | N41: 2.672575e+08 | O41: 2.5751533e+08 | P41: 2.5751533e+08 | Q41: 0.0016733087 | R41: 0.0017366123 | S41: 0.0017366123 | T41: 7516.4 | U41: 7100.3 | V41: 6958.75 | W41: 6958.75 | X41: 12.577257 | Y41: 11.880994 | Z41: 12.084651 | AA41: 12.084651 | AB41: 2.776 | AC41: 7.232 | AD41: 4.306 | AE41: 7.581 | AF41: 7.606 | AG41: 7.606 | AJ41: 7.606 | AK41: 7.606 | AL41: 7.606 | AM41: 8 | AN41: 8 | AO41: 8 | AP41: 8 | AQ41: Existing Unit | AR41: Existing Unit | AS41: Existing Unit
A42: Elwood Energy Facility | B42: Illinois | C42: 55199 | D42: 7 | E42: 4121 | F42: 792671.5 | G42: 375720.08 | H42: 268884.6 | I42: 349930.06 | J42: 916296.48 | K42: 694896.02 | L42: 694896.02 | M42: 694896.02 | N42: 2.672575e+08 | O42: 2.5751533e+08 | P42: 2.5751533e+08 | Q42: 0.0026000992 | R42: 0.0026984647 | S42: 0.0026984647 | T42: 7516.4 | U42: 7100.3 | V42: 6958.75 | W42: 6958.75 | X42: 19.543386 | Y42: 18.461485 | Z42: 18.777941 | AA42: 18.777941 | AB42: 13.695 | AC42: 6.791 | AD42: 5.291 | AE42: 5.422 | AF42: 14.49 | AG42: 14.49 | AJ42: 14.49 | AK42: 14.49 | AL42: 14.49 | AM42: 14 | AN42: 14 | AO42: 14 | AP42: 14 | AQ42: Existing Unit | AR42: Existing Unit | AS42: Existing Unit
A43: Elwood Energy Facility | B43: Illinois | C43: 55199 | D43: 8 | E43: 4122 | F43: 758403.85 | G43: 404230.19 | H43: 181810.85 | I43: 601229.8 | J43: 675080.03 | K43: 678237.89 | L43: 678237.89 | M43: 678237.89 | N43: 2.672575e+08 | O43: 2.5751533e+08 | P43: 2.5751533e+08 | Q43: 0.0025377694 | R43: 0.0026337768 | S43: 0.0026337768 | T43: 7516.4 | U43: 7100.3 | V43: 6958.75 | W43: 6958.75 | X43: 19.07489 | Y43: 18.018924 | Z43: 18.327794 | AA43: 18.327794 | AB43: 12.399 | AC43: 7.48 | AD43: 3.334 | AE43: 9.242 | AF43: 13.161 | AG43: 13.161 | AJ43: 13.161 | AK43: 13.161 | AL43: 13.161 | AM43: 13 | AN43: 13 | AO43: 13 | AP43: 13 | AQ43: Existing Unit | AR43: Existing Unit | AS43: Existing Unit
... A63: Holland Energy Facility | B63: Illinois | C63: 55334 | D63: CTG2 | E63: 4509 | F63: 1875473.5 | G63: 2903704.7 | H63: 2709931.5 | I63: 3567580.1 | J63: 2403229.2 | K63: 3060405.4 | L63: 3060405.4 | M63: 3060405.4 | N63: 2.672575e+08 | O63: 2.5751533e+08 | P63: 2.5751533e+08 | Q63: 0.011451149 | R63: 0.011884362 | S63: 0.011884362 | T63: 7516.4 | U63: 7100.3 | V63: 6958.75 | W63: 6958.75 | X63: 86.071415 | Y63: 81.306592 | Z63: 82.700305 | AA63: 82.700305 | AB63: 14.059 | AC63: 20.906 | AD63: 18.916 | AE63: 24.221 | AF63: 16.95 | AG63: 24.221 | AJ63: 24.221 | AK63: 24.221 | AL63: 24.221 | AM63: 24 | AN63: 24 | AO63: 24 | AP63: 24 | AQ63: Existing Unit | AR63: Existing Unit | AS63: Existing Unit
A64: Interstate | B64: Illinois | C64: 7425 | D64: 1 | E64: 3116 | F64: 165637.05 | G64: 252879.2 | H64: 71049.82 | I64: 343314.15 | K64: 253943.47 | L64: 253943.47 | M64: 253943.47 | N64: 2.672575e+08 | O64: 2.5751533e+08 | P64: 2.5751533e+08 | Q64: 0.00095018276 | R64: 0.00098612952 | S64: 0.00098612952 | T64: 7516.4 | U64: 7100.3 | V64: 6958.75 | W64: 6958.75 | X64: 7.1419537 | Y64: 6.7465826 | Z64: 6.8622288 | AA64: 6.8622288 | AB64: 6.129 | AC64: 9.378 | AD64: 4.772 | AE64: 28.114 | AG64: 28.114 | AJ64: 28.114 | AK64: 28.114 | AL64: 28.114 | AM64: 9 | AN64: 8 | AO64: 9 | AP64: 9 | AQ64: Existing Unit | AR64: Existing Unit | AS64: Existing Unit
A65: Joliet 29 | B65: Illinois | C65: 384 | D65: 71 | E65: 250 | F65: 751004.55 | G65: 1528390.6 | H65: 3013228.1 | I65: 2814849.3 | J65: 1662048.4 | K65: 2496708.6 | N65: 2.672575e+08 | O65: 2.5751533e+08 | P65: 2.5751533e+08 | Q65: 0.009341959 | T65: 7516.4 | U65: 7100.3 | V65: 6958.75 | W65: 6958.75 | X65: 70.217901 | Y65: 66.330712 | AB65: 23.819 | AC65: 51.924 | AD65: 119.502 | AE65: 124.295 | AF65: 70.307 | AG65: 124.295 | AJ65: 124.295 | AK65: 124.295 | AL65: 124.295 | AM65: 89 | AN65: 81 | AQ65: Existing Unit | AR65: Retired | AS65: Retired
A66: Joliet 29 | B66: Illinois | C66: 384 | D66: 72 | E66: 251 | F66: 729833.88 | G66: 1488194.6 | H66: 2733454.5 | I66: 2766817.1 | J66: 1681024.9 | K66: 2393765.5 | N66: 2.672575e+08 | O66: 2.5751533e+08 | P66: 2.5751533e+08 | Q66: 0.0089567758 | T66: 7516.4 | U66: 7100.3 | V66: 6958.75 | W66: 6958.75 | X66: 67.32271 | Y66: 63.595795 | AB66: 23.315 | AC66: 50.653 | AD66: 110.413 | AE66: 122.157 | AF66: 71.06 | AG66: 122.157 | AJ66: 122.157 | AK66: 122.157 | AL66: 122.157 | AM66: 85 | AN66: 78 | AQ66: Existing Unit | AR66: Retired | AS66: Retired
A67: Joliet 29 | B67: Illinois | C67: 384 | D67: 81 | E67: 252 | F67: 396723.22 | G67: 1459024 | H67: 3076304.8 | I67: 2148814.2 | J67: 1202136.3 | K67: 2228047.7 | N67: 2.672575e+08 | O67: 2.5751533e+08 | P67: 2.5751533e+08 | Q67: 0.0083367078 | T67: 7516.4 | U67: 7100.3 | V67: 6958.75 | W67: 6958.75 | X67: 62.662031 | Y67: 59.193126 | AB67: 15.033 | AC67: 60.704 | AD67: 141.337 | AE67: 99.164 | AF67: 59.374 | AG67: 141.337 | AJ67: 141.337 | AK67: 141.337 | AL67: 141.337 | AM67: 80 | AN67: 72 | AQ67: Existing Unit | AR67: Retired | AS67: Retired
A68: Joliet 29 | B68: Illinois | C68: 384 | D68: 82 | E68: 253 | F68: 493890.67 | G68: 1587930.6 | H68: 3232814.7 | I68: 2436172.2 | J68: 1305574.1 | K68: 2418972.5 | N68: 2.672575e+08 | O68: 2.5751533e+08 | P68: 2.5751533e+08 | Q68: 0.0090510931 | T68: 7516.4 | U68: 7100.3 | V68: 6958.75 | W68: 6958.75 | X68: 68.031636 | Y68: 64.265476 | AB68: 17.818 | AC68: 66.086 | AD68: 148.755 | AE68: 112.361 | AF68: 64.902 | AG68: 148.755 | AJ68: 148.755 | AK68: 148.755 | AL68: 148.755 | AM68: 86 | AN68: 78 | AQ68: Existing Unit | AR68: Retired | AS68: Retired
A69: Joliet 9 | B69: Illinois | C69: 874 | D69: 5 | E69: 590 | F69: 248715.4 | G69: 97918.875 | H69: 118972.02 | I69: 246343.02 | J69: 44593.475 | K69: 204676.82 | N69: 2.672575e+08 | O69: 2.5751533e+08 | P69: 2.5751533e+08 | Q69: 0.00076584125 | T69: 7516.4 | U69: 7100.3 | V69: 6958.75 | W69: 6958.75 | X69: 5.7563691 | Y69: 5.4377026 | AB69: 9.564 | AC69: 4.366 | AD69: 5.87 | AE69: 12.163 | AF69: 1.91 | AG69: 12.163 | AJ69: 12.163 | AK69: 12.163 | AL69: 12.163 | AM69: 7 | AN69: 7 | AQ69: Existing Unit | AR69: Retired | AS69: Retired
A70: Joppa Steam | B70: Illinois | C70: 887 | D70: 1 | E70: 605 | F70: 3528468 | G70: 4557285.6 | H70: 3648606.2 | I70: 3392422.3 | J70: 4454973.7 | N70: 2.672575e+08 | O70: 2.5751533e+08 | P70: 2.5751533e+08 | T70: 7516.4 | U70: 7100.3 | V70: 6958.75 | W70: 6958.75 | AB70: 212.017 | AC70: 261.982 | AD70: 216.938 | AE70: 197.326 | AF70: 275.949 | AG70: 275.949 | AJ70: 275.949 | AK70: 275.949 | AL70: 275.949 | AQ70: Retired | AR70: Retired | AS70: Retired
A71: Joppa Steam | B71: Illinois | C71: 887 | D71: 2 | E71: 606 | F71: 3802985.7 | G71: 4772895.4 | H71: 3130000.9 | I71: 3437472.8 | J71: 4197422.5 | N71: 2.672575e+08 | O71: 2.5751533e+08 | P71: 2.5751533e+08 | T71: 7516.4 | U71: 7100.3 | V71: 6958.75 | W71: 6958.75 | AB71: 235.062 | AC71: 277.093 | AD71: 189.426 | AE71: 202.804 | AF71: 261.726 | AG71: 277.093 | AJ71: 277.093 | AK71: 277.093 | AL71: 277.093 | AQ71: Retired | AR71: Retired | AS71: Retired
A72: Joppa Steam | B72: Illinois | C72: 887 | D72: 3 | E72: 607 | F72: 2936708.6 | G72: 4068617 | H72: 3612136.9 | I72: 2268876.5 | J72: 4228357.5 | N72: 2.672575e+08 | O72: 2.5751533e+08 | P72: 2.5751533e+08 | T72: 7516.4 | U72: 7100.3 | V72: 6958.75 | W72: 6958.75 | AB72: 171.408 | AC72: 210.167 | AD72: 191.735 | AE72: 128.638 | AF72: 241.017 | AG72: 241.017 | AJ72: 241.017 | AK72: 241.017 | AL72: 241.017 | AQ72: Retired | AR72: Retired | AS72: Retired
A73: Joppa Steam | B73: Illinois | C73: 887 | D73: 4 | E73: 608 | F73: 2468293.8 | G73: 5053580.4 | H73: 4187275.9 | I73: 3750445.8 | J73: 4224282.7 | N73: 2.672575e+08 | O73: 2.5751533e+08 | P73: 2.5751533e+08 | T73: 7516.4 | U73: 7100.3 | V73: 6958.75 | W73: 6958.75 | AB73: 147.021 | AC73: 260.55 | AD73: 222.091 | AE73: 206.05 | AF73: 240.354 | AG73: 260.55 | AJ73: 260.55 | AK73: 260.55 | AL73: 260.55 | AQ73: Retired | AR73: Retired | AS73: Retired
A74: Joppa Steam | B74: Illinois | C74: 887 | D74: 5 | E74: 609 | F74: 3206271.1 | G74: 3705719.6 | H74: 1768233.2 | I74: 3185084.9 | J74: 4655602.6 | N74: 2.672575e+08 | O74: 2.5751533e+08 | P74: 2.5751533e+08 | T74: 7516.4 | U74: 7100.3 | V74: 6958.75 | W74: 6958.75 | AB74: 181.521 | AC74: 225.425 | AD74: 100.461 | AE74: 187.675 | AF74: 254.928 | AG74: 254.928 | AJ74: 254.928 | AK74: 254.928 | AL74: 254.928 | AQ74: Retired | AR74: Retired | AS74: Retired
A75: Joppa Steam | B75: Illinois | C75: 887 | D75: 6 | E75: 610 | F75: 3971656.8 | G75: 4593038.8 | H75: 3643305.7 | I75: 2721689.9 | J75: 5079480.2 | N75: 2.672575e+08 | O75: 2.5751533e+08 | P75: 2.5751533e+08 | T75: 7516.4 | U75: 7100.3 | V75: 6958.75 | W75: 6958.75 | AB75: 221.732 | AC75: 285.807 | AD75: 204.35 | AE75: 162.898 | AF75: 281.26 | AG75: 285.807 | AJ75: 285.807 | AK75: 285.807 | AL75: 285.807 | AQ75: Retired | AR75: Retired | AS75: Retired
A76: Kendall Energy Facility | B76: Illinois | C76: 55131 | D76: GTG-1 | E76: 3966 | F76: 5732579.8 | G76: 5645245.4 | H76: 5357419.4 | I76: 6084345.6 | J76: 2741700.6 | K76: 5820723.6 | L76: 5820723.6 | M76: 5820723.6 | N76: 2.672575e+08 | O76: 2.5751533e+08 | P76: 2.5751533e+08 | Q76: 0.021779458 | R76: 0.022603406 | S76: 0.022603406 | T76: 7516.4 | U76: 7100.3 | V76: 6958.75 | W76: 6958.75 | X76: 163.70312 | Y76: 154.64069 | Z76: 157.29145 | AA76: 157.29145 | AB76: 26.95 | AC76: 27.873 | AD76: 35.623 | AE76: 43.978 | AF76: 21.296 | AG76: 43.978 | AJ76: 43.978 | AK76: 43.978 | AL76: 43.978 | AM76: 44 | AN76: 44 | AO76: 44 | AP76: 44 | AQ76: Existing Unit | AR76: Existing Unit | AS76: Existing Unit
A77: Kendall Energy Facility | B77: Illinois | C77: 55131 | D77: GTG-2 | E77: 3967 | F77: 4602897.9 | G77: 5622720.7 | H77: 5109107 | I77: 5503764.7 | J77: 3255857.1 | K77: 5411864.1 | L77: 5411864.1 | M77: 5411864.1 | N77: 2.672575e+08 | O77: 2.5751533e+08 | P77: 2.5751533e+08 | Q77: 0.020249625 | R77: 0.021015697 | S77: 0.021015697 | T77: 7516.4 | U77: 7100.3 | V77: 6958.75 | W77: 6958.75 | X77: 152.20428 | Y77: 143.77841 | Z77: 146.24298 | AA77: 146.24298 | AB77: 26.163 | AC77: 29.53 | AD77: 36.084 | AE77: 40.666 | AF77: 28.595 | AG77: 40.666 | AJ77: 40.666 | AK77: 40.666 | AL77: 40.666 | AM77: 41 | AN77: 41 | AO77: 41 | AP77: 41 | AQ77: Existing Unit | AR77: Existing Unit | AS77: Existing Unit
A78: Kendall Energy Facility | B78: Illinois | C78: 55131 | D78: GTG-3 | E78: 3968 | F78: 5143617.1 | G78: 5661747.5 | H78: 5009183.2 | I78: 6114638.6 | J78: 4989589.5 | K78: 5640001.1 | L78: 5640001.1 | M78: 5640001.1 | N78: 2.672575e+08 | O78: 2.5751533e+08 | P78: 2.5751533e+08 | Q78: 0.021103247 | R78: 0.021901613 | S78: 0.021901613 | T78: 7516.4 | U78: 7100.3 | V78: 6958.75 | W78: 6958.75 | X78: 158.62045 | Y78: 149.83939 | Z78: 152.40785 | AA78: 152.40785 | AB78: 28.143 | AC78: 31.067 | AD78: 37.897 | AE78: 42.718 | AF78: 41.802 | AG78: 42.718 | AJ78: 42.718 | AK78: 42.718 | AL78: 42.718 | AM78: 43 | AN78: 43 | AO78: 43 | AP78: 43 | AQ78: Existing Unit | AR78: Existing Unit | AS78: Existing Unit
A79: Kendall Energy Facility | B79: Illinois | C79: 55131 | D79: GTG-4 | E79: 3969 | F79: 5219529.8 | G79: 5600935.7 | H79: 5835395.7 | I79: 5814524 | J79: 4910038.3 | K79: 5750285.1 | L79: 5750285.1 | M79: 5750285.1 | N79: 2.672575e+08 | O79: 2.5751533e+08 | P79: 2.5751533e+08 | Q79: 0.021515898 | R79: 0.022329875 | S79: 0.022329875 | T79: 7516.4 | U79: 7100.3 | V79: 6958.75 | W79: 6958.75 | X79: 161.7221 | Y79: 152.76933 | Z79: 155.38802 | AA79: 155.38802 | AB79: 26.49 | AC79: 37.422 | AD79: 41.026 | AE79: 47.72 | AF79: 38.146 | AG79: 47.72 | AJ79: 47.72 | AK79: 47.72 | AL79: 47.72 | AM79: 48 | AN79: 48 | AO79: 48 | AP79: 48 | AQ79: Existing Unit | AR79: Existing Unit | AS79: Existing Unit
A80: Kincaid Generating Station | B80: Illinois | C80: 876 | D80: 1 | E80: 591 | F80: 6905734 | G80: 11657956 | H80: 5378003.3 | I80: 5785125.4 | J80: 10111650 | K80: 9558447 | L80: 9558447 | M80: 9558447 | N80: 2.672575e+08 | O80: 2.5751533e+08 | P80: 2.5751533e+08 | Q80: 0.035764934 | R80: 0.037117973 | S80: 0.037117973 | T80: 7516.4 | U80: 7100.3 | V80: 6958.75 | W80: 6958.75 | X80: 268.82355 | Y80: 253.94176 | Z80: 258.29469 | AA80: 258.29469 | AB80: 219.868 | AC80: 347.666 | AD80: 147.423 | AE80: 129.353 | AF80: 165.505 | AG80: 347.666 | AH80: 466.31826 | AI80: 466.31826 | AJ80: 347.666 | AK80: 347.666 | AL80: 347.666 | AM80: 341 | AN80: 310 | AO80: 322 | AP80: 322 | AQ80: Existing Unit | AR80: Existing Unit | AS80: Existing Unit
A81: Kincaid Generating Station | B81: Illinois | C81: 876 | D81: 2 | E81: 592 | F81: 8491277.1 | G81: 10470328 | H81: 6188240.5 | I81: 5821062.8 | J81: 12344301 | K81: 10435302 | L81: 10435302 | M81: 10435302 | N81: 2.672575e+08 | O81: 2.5751533e+08 | P81: 2.5751533e+08 | Q81: 0.039045872 | R81: 0.040523033 | S81: 0.040523033 | T81: 7516.4 | U81: 7100.3 | V81: 6958.75 | W81: 6958.75 | X81: 293.48439 | Y81: 277.23741 | Z81: 281.98966 | AA81: 281.98966 | AB81: 290.097 | AC81: 314.53 | AD81: 180.055 | AE81: 126.223 | AF81: 225.929 | AG81: 314.53 | AH81: 493.77206 | AI81: 493.77206 | AJ81: 314.53 | AK81: 314.53 | AL81: 314.53 | AM81: 315 | AN81: 315 | AO81: 315 | AP81: 315 | AQ81: Existing Unit | AR81: Existing Unit | AS81: Existing Unit
A82: Kinmundy Power Plant | B82: Illinois | C82: 55204 | D82: KCTG1 | E82: 4136 | F82: 69320.788 | G82: 72446.729 | H82: 10967.995 | I82: 70432.199 | J82: 109318.55 | K82: 84065.825 | L82: 84065.825 | M82: 84065.825 | N82: 2.672575e+08 | O82: 2.5751533e+08 | P82: 2.5751533e+08 | Q82: 0.00031454992 | R82: 0.00032644979 | S82: 0.00032644979 | T82: 7516.4 | U82: 7100.3 | V82: 6958.75 | W82: 6958.75 | X82: 2.364283 | Y82: 2.2333988 | Z82: 2.2716825 | AA82: 2.2716825 | AB82: 2.524 | AC82: 2.252 | AD82: 0.386 | AE82: 2.487 | AF82: 3.785 | AG82: 3.785 | AJ82: 3.785 | AK82: 3.785 | AL82: 3.785 | AM82: 3 | AN82: 3 | AO82: 3 | AP82: 3 | AQ82: Existing Unit | AR82: Existing Unit | AS82: Existing Unit
A83: Kinmundy Power Plant | B83: Illinois | C83: 55204 | D83: KCTG2 | E83: 4137 | F83: 46055.574 | G83: 76316.321 | H83: 11733.667 | I83: 52958.195 | J83: 90065.549 | K83: 73113.355 | L83: 73113.355 | M83: 73113.355 | N83: 2.672575e+08 | O83: 2.5751533e+08 | P83: 2.5751533e+08 | Q83: 0.00027356896 | R83: 0.00028391846 | S83: 0.00028391846 | T83: 7516.4 | U83: 7100.3 | V83: 6958.75 | W83: 6958.75 | X83: 2.0562537 | Y83: 1.9424217 | Z83: 1.9757176 | AA83: 1.9757176 | AB83: 1.559 | AC83: 2.479 | AD83: 0.38 | AE83: 1.647 | AF83: 3.132 | AG83: 3.132 | AJ83: 3.132 | AK83: 3.132 | AL83: 3.132 | AM83: 3 | AN83: 2 | AO83: 2 | AP83: 2 | AQ83: Existing Unit | AR83: Existing Unit | AS83: Existing Unit
A84: LSP University Park, LLC | B84: Illinois | C84: 55640 | D84: CT01 | E84: 8660 | F84: 209971.85 | G84: 412288.69 | H84: 267694.24 | I84: 178842.52 | J84: 371495.42 | K84: 350492.79 | L84: 350492.79 | M84: 350492.79 | N84: 2.672575e+08 | O84: 2.5751533e+08 | P84: 2.5751533e+08 | Q84: 0.0013114423 | R84: 0.001361056 | S84: 0.001361056 | T84: 7516.4 | U84: 7100.3 | V84: 6958.75 | W84: 6958.75 | X84: 9.8573248 | Y84: 9.3116336 | Z84: 9.4712485 | AA84: 9.4712485 | AB84: 1.077 | AC84: 2.588 | AD84: 2.313 | AE84: 1.721 | AF84: 3.963 | AG84: 3.963 | AJ84: 3.963 | AK84: 3.963 | AL84: 3.963 | AM84: 4 | AN84: 4 | AO84: 4 | AP84: 4 | AQ84: Existing Unit | AR84: Existing Unit | AS84: Existing Unit
A85: LSP University Park, LLC | B85: Illinois | C85: 55640 | D85: CT02 | E85: 8668 | F85: 247391.64 | G85: 364201.44 | H85: 219129.48 | I85: 371868.56 | J85: 461814.05 | K85: 399294.68 | L85: 399294.68 | M85: 399294.68 | N85: 2.672575e+08 | O85: 2.5751533e+08 | P85: 2.5751533e+08 | Q85: 0.0014940448 | R85: 0.0015505667 | S85: 0.0015505667 | T85: 7516.4 | U85: 7100.3 | V85: 6958.75 | W85: 6958.75 | X85: 11.229839 | Y85: 10.608166 | Z85: 10.790006 | AA85: 10.790006 | AB85: 1.61 | AC85: 2.843 | AD85: 1.974 | AE85: 3.12 | AF85: 4.254 | AG85: 4.254 | AJ85: 4.254 | AK85: 4.254 | AL85: 4.254 | AM85: 4 | AN85: 4 | AO85: 4 | AP85: 4 | AQ85: Existing Unit | AR85: Existing Unit | AS85: Existing Unit
A86: LSP University Park, LLC | B86: Illinois | C86: 55640 | D86: CT03 | E86: 8670 | F86: 195914.84 | G86: 323712.16 | H86: 332407.17 | I86: 464825.92 | J86: 424634.82 | K86: 407289.3 | L86: 407289.3 | M86: 407289.3 | N86: 2.672575e+08 | O86: 2.5751533e+08 | P86: 2.5751533e+08 | Q86: 0.0015239584 | R86: 0.0015816119 | S86: 0.0015816119 | T86: 7516.4 | U86: 7100.3 | V86: 6958.75 | W86: 6958.75 | X86: 11.454681 | Y86: 10.820562 | Z86: 11.006042 | AA86: 11.006042 | AB86: 1.066 | AC86: 1.771 | AD86: 2.937 | AE86: 3.818 | AF86: 4.37 | AG86: 4.37 | AJ86: 4.37 | AK86: 4.37 | AL86: 4.37 | AM86: 4 | AN86: 4 | AO86: 4 | AP86: 4 | AQ86: Existing Unit | AR86: Existing Unit | AS86: Existing Unit
A87: LSP University Park, LLC | B87: Illinois | C87: 55640 | D87: CT04 | E87: 8672 | F87: 240111.43 | G87: 330041.56 | H87: 328425.24 | I87: 473501.67 | J87: 391286.48 | K87: 398276.57 | L87: 398276.57 | M87: 398276.57 | N87: 2.672575e+08 | O87: 2.5751533e+08 | P87: 2.5751533e+08 | Q87: 0.0014902353 | R87: 0.0015466131 | S87: 0.0015466131 | T87: 7516.4 | U87: 7100.3 | V87: 6958.75 | W87: 6958.75 | X87: 11.201205 | Y87: 10.581118 | Z87: 10.762494 | AA87: 10.762494 | AB87: 2.537 | AC87: 2.67 | AD87: 2.424 | AE87: 3.948 | AF87: 3.812 | AG87: 3.948 | AJ87: 3.948 | AK87: 3.948 | AL87: 3.948 | AM87: 4 | AN87: 4 | AO87: 4 | AP87: 4 | AQ87: Existing Unit | AR87: Existing Unit | AS87: Existing Unit
A88: LSP University Park, LLC | B88: Illinois | C88: 55640 | D88: CT05 | E88: 8674 | F88: 243943.6 | G88: 318277.32 | H88: 288437.03 | I88: 430847.35 | J88: 455285.24 | K88: 401469.97 | L88: 401469.97 | M88: 401469.97 | N88: 2.672575e+08 | O88: 2.5751533e+08 | P88: 2.5751533e+08 | Q88: 0.0015021841 | R88: 0.0015590139 | S88: 0.0015590139 | T88: 7516.4 | U88: 7100.3 | V88: 6958.75 | W88: 6958.75 | X88: 11.291017 | Y88: 10.665958 | Z88: 10.848788 | AA88: 10.848788 | AB88: 1.484 | AC88: 2.18 | AD88: 2.008 | AE88: 3.271 | AF88: 4.451 | AG88: 4.451 | AJ88: 4.451 | AK88: 4.451 | AL88: 4.451 | AM88: 4 | AN88: 4 | AO88: 4 | AP88: 4 | AQ88: Existing Unit | AR88: Existing Unit | AS88: Existing Unit
A89: LSP University Park, LLC | B89: Illinois | C89: 55640 | D89: CT06 | E89: 8676 | F89: 234233.77 | G89: 347904.5 | H89: 294020.72 | I89: 478085.39 | J89: 488226.45 | K89: 438072.11 | L89: 438072.11 | M89: 438072.11 | N89: 2.672575e+08 | O89: 2.5751533e+08 | P89: 2.5751533e+08 | Q89: 0.0016391387 | R89: 0.0017011497 | S89: 0.0017011497 | T89: 7516.4 | U89: 7100.3 | V89: 6958.75 | W89: 6958.75 | X89: 12.320422 | Y89: 11.638377 | Z89: 11.837875 | AA89: 11.837875 | AB89: 2.437 | AC89: 2.01 | AD89: 2.563 | AE89: 2.894 | AF89: 2.884 | AG89: 2.894 | AJ89: 2.894 | AK89: 2.894 | AL89: 2.894 | AM89: 3 | AN89: 3 | AO89: 3 | AP89: 3 | AQ89: Existing Unit | AR89: Existing Unit | AS89: Existing Unit
A90: LSP University Park, LLC | B90: Illinois | C90: 55640 | D90: CT07 | E90: 8678 | F90: 220633.88 | G90: 308772.34 | H90: 262571.42 | I90: 482065.29 | J90: 494741.57 | K90: 428526.4 | L90: 428526.4 | M90: 428526.4 | N90: 2.672575e+08 | O90: 2.5751533e+08 | P90: 2.5751533e+08 | Q90: 0.0016034214 | R90: 0.0016640811 | S90: 0.0016640811 | T90: 7516.4 | U90: 7100.3 | V90: 6958.75 | W90: 6958.75 | X90: 12.051957 | Y90: 11.384773 | Z90: 11.579925 | AA90: 11.579925 | AB90: 1.433 | AC90: 2.707 | AD90: 2.866 | AE90: 4.3 | AF90: 4.309 | AG90: 4.309 | AJ90: 4.309 | AK90: 4.309 | AL90: 4.309 | AM90: 4 | AN90: 4 | AO90: 4 | AP90: 4 | AQ90: Existing Unit | AR90: Existing Unit | AS90: Existing Unit
A91: LSP University Park, LLC | B91: Illinois | C91: 55640 | D91: CT08 | E91: 8680 | F91: 207883.27 | G91: 303959.2 | H91: 240268.26 | I91: 484799.72 | J91: 371151.59 | K91: 386636.84 | L91: 386636.84 | M91: 386636.84 | N91: 2.672575e+08 | O91: 2.5751533e+08 | P91: 2.5751533e+08 | Q91: 0.0014466828 | R91: 0.0015014129 | S91: 0.0015014129 | T91: 7516.4 | U91: 7100.3 | V91: 6958.75 | W91: 6958.75 | X91: 10.873847 | Y91: 10.271882 | Z91: 10.447957 | AA91: 10.447957 | AB91: 1.611 | AC91: 2.405 | AD91: 2.538 | AE91: 4.552 | AF91: 3.337 | AG91: 4.552 | AJ91: 4.552 | AK91: 4.552 | AL91: 4.552 | AM91: 5 | AN91: 5 | AO91: 5 | AP91: 5 | AQ91: Existing Unit | AR91: Existing Unit | AS91: Existing Unit
A92: LSP University Park, LLC | B92: Illinois | C92: 55640 | D92: CT09 | E92: 8682 | F92: 194050.35 | G92: 298093.16 | H92: 227218.82 | I92: 503707.94 | J92: 405536.97 | K92: 402446.02 | L92: 402446.02 | M92: 402446.02 | N92: 2.672575e+08 | O92: 2.5751533e+08 | P92: 2.5751533e+08 | Q92: 0.0015058362 | R92: 0.0015628041 | S92: 0.0015628041 | T92: 7516.4 | U92: 7100.3 | V92: 6958.75 | W92: 6958.75 | X92: 11.318467 | Y92: 10.691889 | Z92: 10.875163 | AA92: 10.875163 | AB92: 1.222 | AC92: 2.273 | AD92: 1.959 | AE92: 4.311 | AF92: 2.968 | AG92: 4.311 | AJ92: 4.311 | AK92: 4.311 | AL92: 4.311 | AM92: 4 | AN92: 4 | AO92: 4 | AP92: 4 | AQ92: Existing Unit | AR92: Existing Unit | AS92: Existing Unit
A93: LSP University Park, LLC | B93: Illinois | C93: 55640 | D93: CT10 | E93: 8662 | F93: 172745.73 | G93: 291927.79 | H93: 203869.69 | I93: 437376.32 | J93: 371058.98 | K93: 366787.7 | L93: 366787.7 | M93: 366787.7 | N93: 2.672575e+08 | O93: 2.5751533e+08 | P93: 2.5751533e+08 | Q93: 0.0013724131 | R93: 0.0014243334 | S93: 0.0014243334 | T93: 7516.4 | U93: 7100.3 | V93: 6958.75 | W93: 6958.75 | X93: 10.315606 | Y93: 9.7445448 | Z93: 9.9115804 | AA93: 9.9115804 | AB93: 1.219 | AC93: 1.957 | AD93: 1.644 | AE93: 3.864 | AF93: 2.68 | AG93: 3.864 | AJ93: 3.864 | AK93: 3.864 | AL93: 3.864 | AM93: 4 | AN93: 4 | AO93: 4 | AP93: 4 | AQ93: Existing Unit | AR93: Existing Unit | AS93: Existing Unit
... A111: Lincoln Generating Facility | B111: Illinois | C111: 55222 | D111: CTG-8 | E111: 4181 | F111: 44429.44 | G111: 27299.292 | H111: 14607.555 | I111: 3376.533 | J111: 27803.682 | K111: 33177.471 | L111: 33177.471 | M111: 33177.471 | N111: 2.672575e+08 | O111: 2.5751533e+08 | P111: 2.5751533e+08 | Q111: 0.00012414047 | R111: 0.00012883688 | S111: 0.00012883688 | T111: 7516.4 | U111: 7100.3 | V111: 6958.75 | W111: 6958.75 | X111: 0.93308942 | Y111: 0.88143457 | Z111: 0.89654363 | AA111: 0.89654363 | AB111: 0.699 | AC111: 0.375 | AD111: 0.181 | AE111: 0.044 | AF111: 0.326 | AG111: 0.699 | AJ111: 0.699 | AK111: 0.699 | AL111: 0.699 | AM111: 1 | AN111: 1 | AO111: 1 | AP111: 1 | AQ111: Existing Unit | AR111: Existing Unit | AS111: Existing Unit
A112: MEPI GT Facility | B112: Illinois | C112: 7858 | D112: 1 | E112: 3322 | F112: 15210.586 | G112: 4840.311 | H112: 31053.427 | I112: 81576.456 | J112: 176324.54 | N112: 2.672575e+08 | O112: 2.5751533e+08 | P112: 2.5751533e+08 | T112: 7516.4 | U112: 7100.3 | V112: 6958.75 | W112: 6958.75 | AB112: 1.198 | AC112: 0.275 | AD112: 1.967 | AE112: 5.1 | AF112: 10.541 | AG112: 10.541 | AJ112: 10.541 | AK112: 10.541 | AL112: 10.541 | AQ112: Retired | AR112: Retired | AS112: Retired
A113: MEPI GT Facility | B113: Illinois | C113: 7858 | D113: 2 | E113: 3323 | F113: 20166.811 | G113: 11655.318 | H113: 28862.383 | I113: 93773.637 | J113: 184191.24 | N113: 2.672575e+08 | O113: 2.5751533e+08 | P113: 2.5751533e+08 | T113: 7516.4 | U113: 7100.3 | V113: 6958.75 | W113: 6958.75 | AB113: 1.199 | AC113: 0.756 | AD113: 1.857 | AE113: 6.32 | AF113: 10.786 | AG113: 10.786 | AJ113: 10.786 | AK113: 10.786 | AL113: 10.786 | AQ113: Retired | AR113: Retired | AS113: Retired
A114: MEPI GT Facility | B114: Illinois | C114: 7858 | D114: 3 | E114: 3324 | F114: 6330.609 | G114: 9524.171 | H114: 31809.193 | I114: 96007.462 | J114: 184496.28 | N114: 2.672575e+08 | O114: 2.5751533e+08 | P114: 2.5751533e+08 | T114: 7516.4 | U114: 7100.3 | V114: 6958.75 | W114: 6958.75 | AB114: 0.417 | AC114: 0.625 | AD114: 2.001 | AE114: 6.682 | AF114: 10.268 | AG114: 10.268 | AJ114: 10.268 | AK114: 10.268 | AL114: 10.268 | AQ114: Retired | AR114: Retired | AS114: Retired
A115: MEPI GT Facility | B115: Illinois | C115: 7858 | D115: 4 | E115: 3325 | F115: 7709.609 | G115: 1785.118 | H115: 1025.278 | I115: 32527.437 | J115: 92968.541 | N115: 2.672575e+08 | O115: 2.5751533e+08 | P115: 2.5751533e+08 | T115: 7516.4 | U115: 7100.3 | V115: 6958.75 | W115: 6958.75 | AB115: 0.448 | AC115: 0.103 | AD115: 0.062 | AE115: 1.766 | AF115: 4.08 | AG115: 4.08 | AJ115: 4.08 | AK115: 4.08 | AL115: 4.08 | AQ115: Retired | AR115: Retired | AS115: Retired
A116: MEPI GT Facility | B116: Illinois | C116: 7858 | D116: 5 | E116: 3326 | F116: 8437.443 | G116: 3350.799 | H116: 1330.598 | I116: 41103.269 | J116: 98906.61 | N116: 2.672575e+08 | O116: 2.5751533e+08 | P116: 2.5751533e+08 | T116: 7516.4 | U116: 7100.3 | V116: 6958.75 | W116: 6958.75 | AB116: 0.821 | AC116: 0.204 | AD116: 0.087 | AE116: 2.404 | AF116: 4.43 | AG116: 4.43 | AJ116: 4.43 | AK116: 4.43 | AL116: 4.43 | AQ116: Retired | AR116: Retired | AS116: Retired
A117: Marion | B117: Illinois | C117: 976 | D117: 123 | E117: 9173 | F117: 4085025.7 | G117: 4793435.5 | H117: 4600217.1 | I117: 2785505.7 | J117: 5405002.3 | K117: 4932885 | L117: 4932885 | M117: 4932885 | N117: 2.672575e+08 | O117: 2.5751533e+08 | P117: 2.5751533e+08 | Q117: 0.018457424 | R117: 0.019155695 | S117: 0.019155695 | T117: 7516.4 | U117: 7100.3 | V117: 6958.75 | W117: 6958.75 | X117: 138.73338 | Y117: 131.05325 | Z117: 133.29969 | AA117: 133.29969 | AB117: 161.875 | AC117: 162.397 | AD117: 154.91 | AE117: 123.896 | AF117: 257.114 | AG117: 257.114 | AJ117: 257.114 | AK117: 257.114 | AL117: 257.114 | AM117: 176 | AN117: 160 | AO117: 166 | AP117: 166 | AQ117: Existing Unit | AR117: Existing Unit | AS117: Existing Unit
A118: Marion | B118: Illinois | C118: 976 | D118: 5 | E118: 9174 | F118: 50019.8 | G118: 34988.1 | H118: 9664.8 | I118: 27421.8 | J118: 121146 | K118: 68717.967 | L118: 68717.967 | M118: 68717.967 | N118: 2.672575e+08 | O118: 2.5751533e+08 | P118: 2.5751533e+08 | Q118: 0.00025712269 | R118: 0.00026685 | S118: 0.00026685 | T118: 7516.4 | U118: 7100.3 | V118: 6958.75 | W118: 6958.75 | X118: 1.932637 | Y118: 1.8256482 | Z118: 1.8569425 | AA118: 1.8569425 | AB118: 1.021 | AC118: 0.984 | AD118: 0.326 | AE118: 0.302 | AF118: 1.332 | AG118: 1.332 | AJ118: 1.332 | AK118: 1.332 | AL118: 1.332 | AM118: 1 | AN118: 1 | AO118: 1 | AP118: 1 | AQ118: Existing Unit | AR118: Existing Unit | AS118: Existing Unit
A119: Marion | B119: Illinois | C119: 976 | D119: 6 | E119: 9175 | F119: 37486.8 | G119: 32312.3 | H119: 13221.9 | I119: 22220.8 | J119: 120561.3 | K119: 63453.467 | L119: 63453.467 | M119: 63453.467 | N119: 2.672575e+08 | O119: 2.5751533e+08 | P119: 2.5751533e+08 | Q119: 0.00023742446 | R119: 0.00024640656 | S119: 0.00024640656 | T119: 7516.4 | U119: 7100.3 | V119: 6958.75 | W119: 6958.75 | X119: 1.7845772 | Y119: 1.6857849 | Z119: 1.7146817 | AA119: 1.7146817 | AB119: 0.871 | AC119: 0.692 | AD119: 0.499 | AE119: 0.245 | AF119: 1.325 | AG119: 1.325 | AJ119: 1.325 | AK119: 1.325 | AL119: 1.325 | AM119: 1 | AN119: 1 | AO119: 1 | AP119: 1 | AQ119: Existing Unit | AR119: Existing Unit | AS119: Existing Unit
A120: Morris Cogeneration, LLC | B120: Illinois | C120: 55216 | D120: CTG1 | E120: 89477 | F120: 1279817.8 | G120: 1549097.6 | H120: 1155857.2 | I120: 793386.37 | J120: 1474839.3 | K120: 1434584.9 | L120: 1434584.9 | M120: 1434584.9 | N120: 2.672575e+08 | O120: 2.5751533e+08 | P120: 2.5751533e+08 | Q120: 0.0053678004 | R120: 0.0055708719 | S120: 0.0055708719 | T120: 7516.4 | U120: 7100.3 | V120: 6958.75 | W120: 6958.75 | X120: 40.346535 | Y120: 38.112993 | Z120: 38.766305 | AA120: 38.766305 | AB120: 32.858 | AC120: 36.857 | AD120: 27.028 | AE120: 15.932 | AF120: 22.371 | AG120: 36.857 | AJ120: 36.857 | AK120: 36.857 | AL120: 36.857 | AM120: 37 | AN120: 37 | AO120: 37 | AP120: 37 | AQ120: Existing Unit | AR120: Existing Unit | AS120: Existing Unit
A121: Morris Cogeneration, LLC | B121: Illinois | C121: 55216 | D121: CTG2 | E121: 89478 | F121: 1395132.5 | G121: 964105.7 | H121: 1056111.6 | I121: 1354348 | J121: 1074193.5 | K121: 1274558 | L121: 1274558 | M121: 1274558 | N121: 2.672575e+08 | O121: 2.5751533e+08 | P121: 2.5751533e+08 | Q121: 0.0047690261 | R121: 0.0049494451 | S121: 0.0049494451 | T121: 7516.4 | U121: 7100.3 | V121: 6958.75 | W121: 6958.75 | X121: 35.845908 | Y121: 33.861516 | Z121: 34.441951 | AA121: 34.441951 | AB121: 34.542 | AC121: 20.022 | AD121: 22.98 | AE121: 30.617 | AF121: 17.873 | AG121: 34.542 | AJ121: 34.542 | AK121: 34.542 | AL121: 34.542 | AM121: 35 | AN121: 35 | AO121: 35 | AP121: 35 | AQ121: Existing Unit | AR121: Existing Unit | AS121: Existing Unit
A122: Morris Cogeneration, LLC | B122: Illinois | C122: 55216 | D122: CTG3 | E122: 89479 | F122: 647441.84 | G122: 775205.52 | H122: 1281254.6 | I122: 1094224.1 | J122: 803699.87 | K122: 1059726.2 | L122: 1059726.2 | M122: 1059726.2 | N122: 2.672575e+08 | O122: 2.5751533e+08 | P122: 2.5751533e+08 | Q122: 0.0039651878 | R122: 0.0041151965 | S122: 0.0041151965 | T122: 7516.4 | U122: 7100.3 | V122: 6958.75 | W122: 6958.75 | X122: 29.803938 | Y122: 28.154023 | Z122: 28.636624 | AA122: 28.636624 | AB122: 17.926 | AC122: 17.823 | AD122: 33.063 | AE122: 26.32 | AF122: 16.801 | AG122: 33.063 | AJ122: 33.063 | AK122: 33.063 | AL122: 33.063 | AM122: 33 | AN122: 33 | AO122: 33 | AP122: 33 | AQ122: Existing Unit | AR122: Existing Unit | AS122: Existing Unit
A123: Nelson Energy Center | B123: Illinois | C123: 55183 | D123: 1 | E123: 4073 | F123: 4484284.1 | G123: 5932580 | H123: 6285224.3 | I123: 6103258.7 | J123: 4184769.3 | K123: 6107021 | L123: 6107021 | M123: 6107021 | N123: 2.672575e+08 | O123: 2.5751533e+08 | P123: 2.5751533e+08 | Q123: 0.0228507 | R123: 0.023715175 | S123: 0.023715175 | T123: 7516.4 | U123: 7100.3 | V123: 6958.75 | W123: 6958.75 | X123: 171.755 | Y123: 162.24683 | Z123: 165.02797 | AA123: 165.02797 | AB123: 36.677 | AC123: 49.57 | AD123: 52.595 | AE123: 50.369 | AF123: 40.51 | AG123: 52.595 | AJ123: 52.595 | AK123: 52.595 | AL123: 52.595 | AM123: 53 | AN123: 53 | AO123: 53 | AP123: 53 | AQ123: Existing Unit | AR123: Existing Unit | AS123: Existing Unit
A124: Nelson Energy Center | B124: Illinois | C124: 55183 | D124: 2 | E124: 4074 | F124: 4788864.5 | G124: 5833363.5 | H124: 6165796.5 | I124: 5953923.5 | J124: 2855694.1 | K124: 5984361.2 | L124: 5984361.2 | M124: 5984361.2 | N124: 2.672575e+08 | O124: 2.5751533e+08 | P124: 2.5751533e+08 | Q124: 0.022391743 | R124: 0.023238854 | S124: 0.023238854 | T124: 7516.4 | U124: 7100.3 | V124: 6958.75 | W124: 6958.75 | X124: 168.30529 | Y124: 158.98809 | Z124: 161.71338 | AA124: 161.71338 | AB124: 41.419 | AC124: 48.803 | AD124: 51.54 | AE124: 48.446 | AF124: 28.279 | AG124: 51.54 | AJ124: 51.54 | AK124: 51.54 | AL124: 51.54 | AM124: 52 | AN124: 52 | AO124: 52 | AP124: 52 | AQ124: Existing Unit | AR124: Existing Unit | AS124: Existing Unit
A125: Newton | B125: Illinois | C125: 6017 | D125: 1 | E125: 2680 | F125: 14295319 | G125: 13630948 | H125: 13514787 | I125: 14048865 | J125: 16676855 | K125: 15007013 | L125: 15007013 | M125: 15007013 | N125: 2.672575e+08 | O125: 2.5751533e+08 | P125: 2.5751533e+08 | Q125: 0.056151888 | R125: 0.058276194 | S125: 0.058276194 | T125: 7516.4 | U125: 7100.3 | V125: 6958.75 | W125: 6958.75 | X125: 422.06005 | Y125: 398.69525 | Z125: 405.52946 | AA125: 405.52946 | AB125: 658.652 | AC125: 614.37 | AD125: 831.766 | AE125: 936.466 | AF125: 1038.33 | AG125: 1038.33 | AJ125: 1038.33 | AK125: 1038.33 | AL125: 1038.33 | AM125: 536 | AN125: 487 | AO125: 506 | AP125: 506 | AQ125: Existing Unit | AR125: Existing Unit | AS125: Existing Unit
A126: Pinckneyville Power Plant | B126: Illinois | C126: 55202 | D126: CT01 | E126: 4128 | F126: 208522.26 | G126: 291449.68 | H126: 167403.99 | I126: 168494.23 | J126: 232602.71 | K126: 244191.55 | L126: 244191.55 | M126: 244191.55 | N126: 2.672575e+08 | O126: 2.5751533e+08 | P126: 2.5751533e+08 | Q126: 0.00091369392 | R126: 0.00094826026 | S126: 0.00094826026 | T126: 7516.4 | U126: 7100.3 | V126: 6958.75 | W126: 6958.75 | X126: 6.867689 | Y126: 6.4875009 | Z126: 6.5987061 | AA126: 6.5987061 | AB126: 9.869 | AC126: 13.693 | AD126: 7.947 | AE126: 7.925 | AF126: 11.225 | AG126: 13.693 | AJ126: 13.693 | AK126: 13.693 | AL126: 13.693 | AM126: 9 | AN126: 8 | AO126: 8 | AP126: 8 | AQ126: Existing Unit | AR126: Existing Unit | AS126: Existing Unit
A127: Pinckneyville Power Plant | B127: Illinois | C127: 55202 | D127: CT02 | E127: 4129 | F127: 205645.57 | G127: 298846.59 | H127: 144972.26 | I127: 166899.26 | J127: 234149.17 | K127: 246213.78 | L127: 246213.78 | M127: 246213.78 | N127: 2.672575e+08 | O127: 2.5751533e+08 | P127: 2.5751533e+08 | Q127: 0.0009212605 | R127: 0.00095611309 | S127: 0.00095611309 | T127: 7516.4 | U127: 7100.3 | V127: 6958.75 | W127: 6958.75 | X127: 6.9245624 | Y127: 6.5412259 | Z127: 6.653352 | AA127: 6.653352 | AB127: 9.749 | AC127: 14.219 | AD127: 6.991 | AE127: 7.887 | AF127: 10.951 | AG127: 14.219 | AJ127: 14.219 | AK127: 14.219 | AL127: 14.219 | AM127: 9 | AN127: 8 | AO127: 8 | AP127: 8 | AQ127: Existing Unit | AR127: Existing Unit | AS127: Existing Unit
A128: Pinckneyville Power Plant | B128: Illinois | C128: 55202 | D128: CT03 | E128: 4130 | F128: 191681.93 | G128: 285635.27 | H128: 168476.9 | I128: 164070.79 | J128: 247356.54 | K128: 241557.91 | L128: 241557.91 | M128: 241557.91 | N128: 2.672575e+08 | O128: 2.5751533e+08 | P128: 2.5751533e+08 | Q128: 0.0009038396 | R128: 0.00093803313 | S128: 0.00093803313 | T128: 7516.4 | U128: 7100.3 | V128: 6958.75 | W128: 6958.75 | X128: 6.7936199 | Y128: 6.4175323 | Z128: 6.5275381 | AA128: 6.5275381 | AB128: 9.348 | AC128: 13.619 | AD128: 8.003 | AE128: 7.705 | AF128: 11.655 | AG128: 13.619 | AJ128: 13.619 | AK128: 13.619 | AL128: 13.619 | AM128: 9 | AN128: 8 | AO128: 8 | AP128: 8 | AQ128: Existing Unit | AR128: Existing Unit | AS128: Existing Unit
... A137: Powerton | B137: Illinois | C137: 879 | D137: 62 | E137: 596 | F137: 6878636.2 | G137: 6988748.2 | H137: 1890783.8 | I137: 1222544.3 | J137: 4021205.2 | K137: 5962863.2 | L137: 5962863.2 | M137: 5962863.2 | N137: 2.672575e+08 | O137: 2.5751533e+08 | P137: 2.5751533e+08 | Q137: 0.022311303 | R137: 0.023155372 | S137: 0.023155372 | T137: 7516.4 | U137: 7100.3 | V137: 6958.75 | W137: 6958.75 | X137: 167.70068 | Y137: 158.41695 | Z137: 161.13244 | AA137: 161.13244 | AB137: 344.887 | AC137: 400.945 | AD137: 78.765 | AE137: 70.204 | AF137: 200.96 | AG137: 400.945 | AJ137: 400.945 | AK137: 400.945 | AL137: 400.945 | AM137: 213 | AN137: 193 | AO137: 201 | AP137: 201 | AQ137: Existing Unit | AR137: Existing Unit | AS137: Existing Unit
A138: Prairie State Generating Station | B138: Illinois | C138: 55856 | D138: 01 | E138: 90192 | F138: 27040279 | G138: 28704822 | H138: 25809882 | I138: 28692778 | J138: 30738737 | K138: 29378779 | L138: 29378779 | M138: 29378779 | N138: 2.672575e+08 | O138: 2.5751533e+08 | P138: 2.5751533e+08 | Q138: 0.10992687 | R138: 0.11408555 | S138: 0.11408555 | T138: 7516.4 | U138: 7100.3 | V138: 6958.75 | W138: 6958.75 | X138: 826.25429 | Y138: 780.51372 | Z138: 793.89285 | AA138: 793.89285 | AB138: 867.918 | AC138: 867.133 | AD138: 773.07 | AE138: 875.674 | AF138: 993.571 | AG138: 993.571 | AH138: 1229.5495 | AI138: 1229.5495 | AJ138: 993.571 | AK138: 993.571 | AL138: 993.571 | AM138: 994 | AN138: 953 | AO138: 991 | AP138: 991 | AQ138: Existing Unit | AR138: Existing Unit | AS138: Existing Unit
A139: Prairie State Generating Station | B139: Illinois | C139: 55856 | D139: 02 | E139: 90193 | F139: 25785575 | G139: 28619313 | H139: 28234761 | I139: 23592308 | J139: 28870539 | K139: 28574871 | L139: 28574871 | M139: 28574871 | N139: 2.672575e+08 | O139: 2.5751533e+08 | P139: 2.5751533e+08 | Q139: 0.10691887 | R139: 0.11096377 | S139: 0.11096377 | T139: 7516.4 | U139: 7100.3 | V139: 6958.75 | W139: 6958.75 | X139: 803.64503 | Y139: 759.15608 | Z139: 772.16911 | AA139: 772.16911 | AB139: 850.931 | AC139: 917.76 | AD139: 880.789 | AE139: 762.224 | AF139: 884.906 | AG139: 917.76 | AH139: 1154.8215 | AI139: 1154.8215 | AJ139: 917.76 | AK139: 917.76 | AL139: 917.76 | AM139: 918 | AN139: 918 | AO139: 918 | AP139: 918 | AQ139: Existing Unit | AR139: Existing Unit | AS139: Existing Unit
A140: Raccoon Creek Power Plant | B140: Illinois | C140: 55417 | D140: CT-01 | E140: 9216 | F140: 17618.8 | G140: 23474.842 | H140: 4482.02 | I140: 21576.463 | J140: 58803.986 | K140: 34618.43 | L140: 34618.43 | M140: 34618.43 | N140: 2.672575e+08 | O140: 2.5751533e+08 | P140: 2.5751533e+08 | Q140: 0.00012953212 | R140: 0.0001344325 | S140: 0.0001344325 | T140: 7516.4 | U140: 7100.3 | V140: 6958.75 | W140: 6958.75 | X140: 0.97361522 | Y140: 0.91971691 | Z140: 0.93548218 | AA140: 0.93548218 | AB140: 0.248 | AC140: 0.291 | AD140: 0.054 | AE140: 0.267 | AF140: 0.734 | AG140: 0.734 | AJ140: 0.734 | AK140: 0.734 | AL140: 0.734 | AM140: 1 | AN140: 1 | AO140: 1 | AP140: 1 | AQ140: Existing Unit | AR140: Existing Unit | AS140: Existing Unit
A141: Raccoon Creek Power Plant | B141: Illinois | C141: 55417 | D141: CT-02 | E141: 9217 | F141: 13543.065 | G141: 26503.264 | H141: 7916.331 | I141: 19898.875 | J141: 52968.182 | K141: 33123.44 | L141: 33123.44 | M141: 33123.44 | N141: 2.672575e+08 | O141: 2.5751533e+08 | P141: 2.5751533e+08 | Q141: 0.0001239383 | R141: 0.00012862706 | S141: 0.00012862706 | T141: 7516.4 | U141: 7100.3 | V141: 6958.75 | W141: 6958.75 | X141: 0.93156984 | Y141: 0.87999912 | Z141: 0.89508357 | AA141: 0.89508357 | AB141: 0.172 | AC141: 0.283 | AD141: 0.094 | AE141: 0.238 | AF141: 0.585 | AG141: 0.585 | AJ141: 0.585 | AK141: 0.585 | AL141: 0.585 | AM141: 1 | AN141: 1 | AO141: 1 | AP141: 1 | AQ141: Existing Unit | AR141: Existing Unit | AS141: Existing Unit
A142: Raccoon Creek Power Plant | B142: Illinois | C142: 55417 | D142: CT-03 | E142: 9218 | F142: 17425.251 | G142: 18900.611 | H142: 6631.942 | I142: 17316.803 | J142: 58186.367 | K142: 31504.076 | L142: 31504.076 | M142: 31504.076 | N142: 2.672575e+08 | O142: 2.5751533e+08 | P142: 2.5751533e+08 | Q142: 0.00011787911 | R142: 0.00012233864 | S142: 0.00012233864 | T142: 7516.4 | U142: 7100.3 | V142: 6958.75 | W142: 6958.75 | X142: 0.88602655 | Y142: 0.83697705 | Z142: 0.85132404 | AA142: 0.85132404 | AB142: 0.267 | AC142: 0.203 | AD142: 0.072 | AE142: 0.184 | AF142: 0.616 | AG142: 0.616 | AJ142: 0.616 | AK142: 0.616 | AL142: 0.616 | AM142: 1 | AN142: 1 | AO142: 1 | AP142: 1 | AQ142: Existing Unit | AR142: Existing Unit | AS142: Existing Unit
A143: Raccoon Creek Power Plant | B143: Illinois | C143: 55417 | D143: CT-04 | E143: 9219 | F143: 12758.843 | G143: 15390.125 | H143: 8190.917 | I143: 6260.319 | J143: 56348.131 | K143: 28165.7 | L143: 28165.7 | M143: 28165.7 | N143: 2.672575e+08 | O143: 2.5751533e+08 | P143: 2.5751533e+08 | Q143: 0.00010538787 | R143: 0.00010937485 | S143: 0.00010937485 | T143: 7516.4 | U143: 7100.3 | V143: 6958.75 | W143: 6958.75 | X143: 0.79213741 | Y143: 0.74828552 | Z143: 0.76111222 | AA143: 0.76111222 | AB143: 0.177 | AC143: 0.175 | AD143: 0.092 | AE143: 0.071 | AF143: 0.642 | AG143: 0.642 | AJ143: 0.642 | AK143: 0.642 | AL143: 0.642 | AM143: 1 | AN143: 1 | AO143: 1 | AP143: 1 | AQ143: Existing Unit | AR143: Existing Unit | AS143: Existing Unit
A144: Rockford Energy Center | B144: Illinois | C144: 55238 | D144: 0001 | E144: 4282 | F144: 275368.75 | G144: 759143.43 | H144: 524043.87 | I144: 625625.01 | J144: 1203834.6 | K144: 862867.69 | L144: 862867.69 | M144: 862867.69 | N144: 2.672575e+08 | O144: 2.5751533e+08 | P144: 2.5751533e+08 | Q144: 0.0032286005 | R144: 0.003350743 | S144: 0.003350743 | T144: 7516.4 | U144: 7100.3 | V144: 6958.75 | W144: 6958.75 | X144: 24.267453 | Y144: 22.924032 | Z144: 23.316983 | AA144: 23.316983 | AB144: 7.287 | AC144: 19.594 | AD144: 13.771 | AE144: 16.46 | AF144: 22.967 | AG144: 22.967 | AJ144: 22.967 | AK144: 22.967 | AL144: 22.967 | AM144: 23 | AN144: 23 | AO144: 23 | AP144: 23 | AQ144: Existing Unit | AR144: Existing Unit | AS144: Existing Unit
A145: Rockford Energy Center | B145: Illinois | C145: 55238 | D145: 0002 | E145: 4283 | F145: 266343.97 | G145: 1056102.6 | H145: 489028.66 | I145: 620723.37 | J145: 1183200.4 | K145: 953342.12 | L145: 953342.12 | M145: 953342.12 | N145: 2.672575e+08 | O145: 2.5751533e+08 | P145: 2.5751533e+08 | Q145: 0.0035671295 | R145: 0.0037020791 | S145: 0.0037020791 | T145: 7516.4 | U145: 7100.3 | V145: 6958.75 | W145: 6958.75 | X145: 26.811972 | Y145: 25.32769 | Z145: 25.761843 | AA145: 25.761843 | AB145: 5.937 | AC145: 22.65 | AD145: 12.486 | AE145: 15.876 | AF145: 24.58 | AG145: 24.58 | AJ145: 24.58 | AK145: 24.58 | AL145: 24.58 | AM145: 25 | AN145: 25 | AO145: 25 | AP145: 25 | AQ145: Existing Unit | AR145: Existing Unit | AS145: Existing Unit
...

Sheet Underlying Data for IN SIP
F1: Step 1 | N1: Steps 2 & 3 | Q1: Step 4 | T1: Step 5 | W1: Step 6 | AE1: Step 7 | AM1: Step 8 | AN1: Steps 9 & 10 | AR1: Data Flags
A2: Plant Name | B2: State | C2: ORIS ID | D2: Boiler ID | E2: CAMD Unit ID | F2: 2014 Ozone Season Heat Input (mmBtu) | G2: 2015 Ozone Season Heat Input (mmBtu) | H2: 2016 Ozone Season Heat Input (mmBtu) | I2: 2017 Ozone Season Heat Input (mmBtu) | J2: 2018 Ozone Season Heat Input (mmBtu) | K2: 2019 Ozone Season Heat Input (mmBtu) | L2: 2020 Ozone Season Heat Input (mmBtu) | M2: 2021 Ozone Season Heat Input (mmBtu) | N2: Unit Level Average of 3 Highest Non-Zero Ozone Season Heat Inputs from 2014 to 2021 (mmBtu) for 2023 | O2: Unit Level Average of 3 Highest Non-Zero Ozone Season Heat Inputs from 2014 to 2021 (mmBtu) for 2024 | P2: Unit Level Average of 3 Highest Non-Zero Ozone Season Heat Inputs from 2014 to 2021 (mmBtu) for 2025 | Q2: State Level Summation of Unit Level Three Year Average Ozone Season Heat Input (mmBtu) for 2023 | R2: State Level Summation of Unit Level Three Year Average Ozone Season Heat Input (mmBtu) for 2024 | S2: State Level Summation of Unit Level Three Year Average Ozone Season Heat Input (mmBtu) for 2025 | T2: Unit 's Percentage Share of State's Ozone Season Heat Input for 2023 | U2: Unit 's Percentage Share of State's Ozone Season Heat Input for 2024 | V2: Unit 's Percentage Share of State's Ozone Season Heat Input for 2025 | W2: Ozone Season NOX Pro-Rated 2023 State Budget for Existing Units (tons) | X2: Ozone Season NOX 2023 State Budget for Existing Units (tons) | Y2: Ozone Season NOX 2024 State Budget for Existing Units (tons) | Z2: Ozone Season NOX 2025 State Budget for Existing Units (tons) | AA2: Tentative Heat Input Based Pro-Rated 2023 Ozone Season NOX Allocation (tons) | AB2: Tentative Heat Input Based 2023 Ozone Season NOX Allocation (tons) | AC2: Tentative Heat Input Based 2024 Ozone Season NOX Allocation (tons) | AD2: Tentative Heat Input Based 2025 Ozone Season NOX Allocation (tons) | AE2: 2014 Ozone Season NOX Emissions (tons) | AF2: 2015 Ozone Season NOX Emissions (tons) | AG2: 2016 Ozone Season NOX Emissions (tons) | AH2: 2017 Ozone Season NOX Emissions (tons) | AI2: 2018 Ozone Season NOX Emissions (tons) | AJ2: 2019 Ozone Season NOX Emissions (tons) | AK2: 2020 Ozone Season NOX Emissions (tons) | AL2: 2021 Ozone Season NOX Emissions (tons) | AM2: Ozone Season NOX Maximum Historic Baseline (tons) | AN2: Unit Level NOX Ozone Season Allocation Pro-Rated 2023 (tons) | AO2: Unit Level NOX Ozone Season Allocation 2023 (tons) | AP2: Unit Level NOX Ozone Season Allocation 2024 (tons) | AQ2: Unit Level NOX Ozone Season Allocation 2025 (tons) | AR2: Existing Unit or Retired in 2023 | AS2: Existing Unit or Retired in 2024 | AT2: Existing Unit or Retired in 2025 | AU2: Additional (Not ARP or CSAPR) Unit | AV2: Unit Not Subject to State's SIP Authority
A3: Calculation | N3: Average of three highest non-zero values in columns F - M for Operating units | Q3: Sum column N values to get State level totals | R3: Sum column O values to get State level totals | S3: Sum column P values to get State level totals | T3: Column N divided by column Q | U3: Column O divided by column R | V3: Column P divided by column S | AA3: Column T x column W | AB3: Column T x column X | AC3: Column U x column Y | AD3: Column V x column Z | AM3: Highest value of columns AE - AL | AN3: (Lesser of columns AM and AA + reapportionment if AA < AM | AO3: (Lesser of columns AM and AB + reapportionment if AB < AM | AP3: (Lesser of columns AM and AC + reapportionment if AC < AM | AQ3: (Lesser of columns AM and AD + reapportionment if AD < AM
A4: A B Brown Generating Station | B4: Indiana | C4: 6137 | D4: 1 | E4: 2797 | F4: 7053263.3 | G4: 6895730.3 | H4: 1807145.5 | I4: 6384876.6 | J4: 7111879.9 | K4: 6903261.2 | L4: 5945199.6 | M4: 7730889.3 | N4: 7298677.5 | Q4: 4.6289385e+08 | R4: 4.3537531e+08 | S4: 4.3537531e+08 | T4: 0.015767497 | W4: 11884.5 | X4: 11818 | Y4: 10842.35 | Z4: 10842.35 | AA4: 187.38882 | AB4: 186.34028 | AE4: 617.056 | AF4: 539.497 | AG4: 150.651 | AH4: 268.582 | AI4: 423.875 | AJ4: 537.264 | AK4: 524.714 | AL4: 319.118 | AM4: 617.056 | AN4: 220 | AO4: 219 | AR4: Existing Unit | AS4: Retired | AT4: Retired
A5: A B Brown Generating Station | B5: Indiana | C5: 6137 | D5: 2 | E5: 2798 | F5: 7370109.6 | G5: 6954522.5 | H5: 7293656 | I5: 5424699.3 | J5: 6103665.3 | K5: 7423412.7 | L5: 6498848.2 | M5: 8138493.3 | N5: 7644005.2 | Q5: 4.6289385e+08 | R5: 4.3537531e+08 | S5: 4.3537531e+08 | T5: 0.016513516 | W5: 11884.5 | X5: 11818 | Y5: 10842.35 | Z5: 10842.35 | AA5: 196.25489 | AB5: 195.15674 | AE5: 606.719 | AF5: 465.394 | AG5: 452.136 | AH5: 312.828 | AI5: 405.72 | AJ5: 639.363 | AK5: 523.063 | AL5: 316.996 | AM5: 639.363 | AN5: 230 | AO5: 229 | AR5: Existing Unit | AS5: Retired | AT5: Retired
A6: A B Brown Generating Station | B6: Indiana | C6: 6137 | D6: 3 | E6: 2799 | F6: 8486.434 | G6: 35007.995 | H6: 110571.88 | I6: 80993.397 | J6: 103834.52 | K6: 53804.299 | L6: 82884.803 | M6: 157920.77 | N6: 124109.06 | O6: 124109.06 | P6: 124109.06 | Q6: 4.6289385e+08 | R6: 4.3537531e+08 | S6: 4.3537531e+08 | T6: 0.00026811558 | U6: 0.00028506223 | V6: 0.00028506223 | W6: 11884.5 | X6: 11818 | Y6: 10842.35 | Z6: 10842.35 | AA6: 3.1864197 | AB6: 3.16859 | AC6: 3.0907445 | AD6: 3.0907445 | AE6: 0.912 | AF6: 3.763 | AG6: 11.887 | AH6: 8.176 | AI6: 8.773 | AJ6: 4.202 | AK6: 6.54 | AL6: 12.492 | AM6: 12.492 | AN6: 4 | AO6: 4 | AP6: 4 | AQ6: 4 | AR6: Existing Unit | AS6: Existing Unit | AT6: Existing Unit
A7: A B Brown Generating Station | B7: Indiana | C7: 6137 | D7: 4 | E7: 10210 | F7: 44277.625 | G7: 172001.64 | H7: 142833.92 | I7: 133713.01 | J7: 228708.55 | K7: 66035.704 | L7: 84828.308 | M7: 180183.23 | N7: 193631.14 | O7: 193631.14 | P7: 193631.14 | Q7: 4.6289385e+08 | R7: 4.3537531e+08 | S7: 4.3537531e+08 | T7: 0.00041830571 | U7: 0.00044474534 | V7: 0.00044474534 | W7: 11884.5 | X7: 11818 | Y7: 10842.35 | Z7: 10842.35 | AA7: 4.9713542 | AB7: 4.9435369 | AC7: 4.8220847 | AD7: 4.8220847 | AE7: 0.468 | AF7: 1.708 | AG7: 1.778 | AH7: 1.854 | AI7: 3.051 | AJ7: 0.889 | AK7: 0.705 | AL7: 1.721 | AM7: 3.051 | AN7: 3 | AO7: 3 | AP7: 3 | AQ7: 3 | AR7: Existing Unit | AS7: Existing Unit | AT7: Existing Unit
A8: Alcoa Allowance Management Inc | B8: Indiana | C8: 6705 | D8: 4 | E8: 2905 | F8: 9257162.8 | G8: 9132100.4 | H8: 9835483.9 | I8: 8161099.4 | J8: 9244813 | K8: 6807159.2 | L8: 9867546.1 | M8: 7942112.1 | N8: 9653397.6 | O8: 9653397.6 | P8: 9653397.6 | Q8: 4.6289385e+08 | R8: 4.3537531e+08 | S8: 4.3537531e+08 | T8: 0.020854452 | U8: 0.022172589 | V8: 0.022172589 | W8: 11884.5 | X8: 11818 | Y8: 10842.35 | Z8: 10842.35 | AA8: 247.84474 | AB8: 246.45791 | AC8: 240.40297 | AD8: 240.40297 | AE8: 1320.436 | AF8: 1306.954 | AG8: 1452.104 | AH8: 327.611 | AI8: 1162.299 | AJ8: 1118.507 | AK8: 1514.147 | AL8: 644.855 | AM8: 1514.147 | AN8: 291 | AO8: 289 | AP8: 285 | AQ8: 285 | AR8: Existing Unit | AS8: Existing Unit | AT8: Existing Unit
A9: Anderson | B9: Indiana | C9: 7336 | D9: ACT1 | E9: 3099 | F9: 3478.525 | G9: 34421.4 | H9: 17279.475 | I9: 16034.475 | J9: 17657.6 | K9: 4708.15 | L9: 18436.503 | M9: 34119.454 | N9: 28992.452 | O9: 28992.452 | P9: 28992.452 | Q9: 4.6289385e+08 | R9: 4.3537531e+08 | S9: 4.3537531e+08 | T9: 6.2633047e-05 | U9: 6.6591862e-05 | V9: 6.6591862e-05 | W9: 11884.5 | X9: 11818 | Y9: 10842.35 | Z9: 10842.35 | AA9: 0.74436245 | AB9: 0.74019735 | AC9: 0.72201228 | AD9: 0.72201228 | AE9: 0.23 | AF9: 2.299 | AG9: 1.148 | AH9: 1.071 | AI9: 1.164 | AJ9: 0.289 | AK9: 1.204 | AL9: 2.199 | AM9: 2.299 | AN9: 1 | AO9: 1 | AP9: 1 | AQ9: 1 | AR9: Existing Unit | AS9: Existing Unit | AT9: Existing Unit
A10: Anderson | B10: Indiana | C10: 7336 | D10: ACT2 | E10: 3100 | F10: 3295.175 | G10: 33263.475 | H10: 17197.8 | I10: 13853.725 | J10: 17161.25 | K10: 4568.4 | L10: 25526.576 | M10: 35537.429 | N10: 31442.493 | O10: 31442.493 | P10: 31442.493 | Q10: 4.6289385e+08 | R10: 4.3537531e+08 | S10: 4.3537531e+08 | T10: 6.7925926e-05 | U10: 7.2219285e-05 | V10: 7.2219285e-05 | W10: 11884.5 | X10: 11818 | Y10: 10842.35 | Z10: 10842.35 | AA10: 0.80726567 | AB10: 0.80274859 | AC10: 0.78302677 | AD10: 0.78302677 | AE10: 0.213 | AF10: 2.118 | AG10: 1.112 | AH10: 0.89 | AI10: 1.09 | AJ10: 0.311 | AK10: 1.853 | AL10: 2.519 | AM10: 2.519 | AN10: 1 | AO10: 1 | AP10: 1 | AQ10: 1 | AR10: Existing Unit | AS10: Existing Unit | AT10: Existing Unit
A11: Anderson | B11: Indiana | C11: 7336 | D11: ACT3 | E11: 9578 | F11: 8142.95 | G11: 65519.2 | H11: 45366.425 | I11: 29291.375 | J11: 82775.425 | K11: 15031.5 | L11: 68089.936 | M11: 131156.85 | N11: 94007.405 | O11: 94007.405 | P11: 94007.405 | Q11: 4.6289385e+08 | R11: 4.3537531e+08 | S11: 4.3537531e+08 | T11: 0.00020308631 | U11: 0.00021592268 | V11: 0.00021592268 | W11: 11884.5 | X11: 11818 | Y11: 10842.35 | Z11: 10842.35 | AA11: 2.4135793 | AB11: 2.400074 | AC11: 2.3411093 | AD11: 2.3411093 | AE11: 0.134 | AF11: 1.034 | AG11: 0.74 | AH11: 0.475 | AI11: 1.835 | AJ11: 0.256 | AK11: 1.157 | AL11: 2.191 | AM11: 2.191 | AN11: 2 | AO11: 2 | AP11: 2 | AQ11: 2 | AR11: Existing Unit | AS11: Existing Unit | AT11: Existing Unit
A12: Cayuga | B12: Indiana | C12: 1001 | D12: 1 | E12: 706 | F12: 13270828 | G12: 14180006 | H12: 10363170 | I12: 14794651 | J12: 10055334 | K12: 10369735 | L12: 12925230 | M12: 12612484 | N12: 14081828 | O12: 14081828 | P12: 14081828 | Q12: 4.6289385e+08 | R12: 4.3537531e+08 | S12: 4.3537531e+08 | T12: 0.03042129 | U12: 0.032344113 | V12: 0.032344113 | W12: 11884.5 | X12: 11818 | Y12: 10842.35 | Z12: 10842.35 | AA12: 361.54182 | AB12: 359.51881 | AC12: 350.6862 | AD12: 350.6862 | AE12: 2282.018 | AF12: 2655.464 | AG12: 1690.323 | AH12: 624.929 | AI12: 740.155 | AJ12: 426.565 | AK12: 645.806 | AL12: 420.369 | AM12: 2655.464 | AN12: 424 | AO12: 422 | AP12: 415 | AQ12: 415 | AR12: Existing Unit | AS12: Existing Unit | AT12: Existing Unit
A13: Cayuga | B13: Indiana | C13: 1001 | D13: 2 | E13: 707 | F13: 10751160 | G13: 10536757 | H13: 15407920 | I13: 11057752 | J13: 13730374 | K13: 6136971.8 | L13: 8429380.8 | M13: 12414303 | N13: 13850866 | O13: 13850866 | P13: 13850866 | Q13: 4.6289385e+08 | R13: 4.3537531e+08 | S13: 4.3537531e+08 | T13: 0.029922337 | U13: 0.031813622 | V13: 0.031813622 | W13: 11884.5 | X13: 11818 | Y13: 10842.35 | Z13: 10842.35 | AA13: 355.61201 | AB13: 353.62217 | AC13: 344.93443 | AD13: 344.93443 | AE13: 1751.593 | AF13: 1705.812 | AG13: 2319.778 | AH13: 498.174 | AI13: 596.325 | AJ13: 306.134 | AK13: 457.751 | AL13: 434.597 | AM13: 2319.778 | AN13: 417 | AO13: 415 | AP13: 409 | AQ13: 409 | AR13: Existing Unit | AS13: Existing Unit | AT13: Existing Unit
A14: Cayuga | B14: Indiana | C14: 1001 | D14: 4 | E14: 708 | F14: 25991.505 | G14: 72987.7 | H14: 5998.128 | I14: 3469.872 | J14: 1982.091 | K14: 110189.14 | L14: 152087.84 | M14: 65135.786 | N14: 111754.9 | O14: 111754.9 | P14: 111754.9 | Q14: 4.6289385e+08 | R14: 4.3537531e+08 | S14: 4.3537531e+08 | T14: 0.00024142661 | U14: 0.00025668634 | V14: 0.00025668634 | W14: 11884.5 | X14: 11818 | Y14: 10842.35 | Z14: 10842.35 | AA14: 2.8692346 | AB14: 2.8531797 | AC14: 2.7830832 | AD14: 2.7830832 | AE14: 1.461 | AF14: 1.759 | AG14: 0.155 | AH14: 0.146 | AI14: 0.104 | AJ14: 2.816 | AK14: 3.559 | AL14: 1.484 | AM14: 3.559 | AN14: 3 | AO14: 3 | AP14: 3 | AQ14: 3 | AR14: Existing Unit | AS14: Existing Unit | AT14: Existing Unit
A15: Clifty Creek | B15: Indiana | C15: 983 | D15: 1 | E15: 658 | F15: 4728690.6 | G15: 4634124.8 | H15: 5000633.9 | I15: 4837169.9 | J15: 6056450.2 | K15: 4315400.7 | L15: 4288965.3 | M15: 4847951 | N15: 5301678.4 | O15: 5301678.4 | P15: 5301678.4 | Q15: 4.6289385e+08 | R15: 4.3537531e+08 | S15: 4.3537531e+08 | T15: 0.011453335 | U15: 0.01217726 | V15: 0.01217726 | W15: 11884.5 | X15: 11818 | Y15: 10842.35 | Z15: 10842.35 | AA15: 136.11716 | AB15: 135.35551 | AC15: 132.03012 | AD15: 132.03012 | AE15: 504.836 | AF15: 474.826 | AG15: 653.196 | AH15: 178.52 | AI15: 208.862 | AJ15: 143.965 | AK15: 191.999 | AL15: 157.068 | AM15: 653.196 | AN15: 160 | AO15: 159 | AP15: 156 | AQ15: 156 | AR15: Existing Unit | AS15: Existing Unit | AT15: Existing Unit
A16: Clifty Creek | B16: Indiana | C16: 983 | D16: 2 | E16: 659 | F16: 4353277.6 | G16: 4837825.5 | H16: 5009274.4 | I16: 4715705.2 | J16: 5007376.4 | K16: 4626719.3 | L16: 3687739 | M16: 4746953.9 | N16: 4951492.1 | O16: 4951492.1 | P16: 4951492.1 | Q16: 4.6289385e+08 | R16: 4.3537531e+08 | S16: 4.3537531e+08 | T16: 0.01069682 | U16: 0.011372928 | V16: 0.011372928 | W16: 11884.5 | X16: 11818 | Y16: 10842.35 | Z16: 10842.35 | AA16: 127.12635 | AB16: 126.41502 | AC16: 123.30927 | AD16: 123.30927 | AE16: 487.56 | AF16: 497.825 | AG16: 668.559 | AH16: 172.662 | AI16: 164.963 | AJ16: 156.519 | AK16: 162.86 | AL16: 156.053 | AM16: 668.559 | AN16: 149 | AO16: 148 | AP16: 146 | AQ16: 146 | AR16: Existing Unit | AS16: Existing Unit | AT16: Existing Unit
A17: Clifty Creek | B17: Indiana | C17: 983 | D17: 3 | E17: 660 | F17: 3820084.6 | G17: 4047899.7 | H17: 5398977.9 | I17: 4116726.5 | J17: 6017952.9 | K17: 4958905.3 | L17: 3405561.1 | M17: 4571961.6 | N17: 5458612 | O17: 5458612 | P17: 5458612 | Q17: 4.6289385e+08 | R17: 4.3537531e+08 | S17: 4.3537531e+08 | T17: 0.011792362 | U17: 0.012537716 | V17: 0.012537716 | W17: 11884.5 | X17: 11818 | Y17: 10842.35 | Z17: 10842.35 | AA17: 140.14633 | AB17: 139.36214 | AC17: 135.93831 | AD17: 135.93831 | AE17: 410.865 | AF17: 418.94 | AG17: 678.21 | AH17: 149.128 | AI17: 201.759 | AJ17: 167.044 | AK17: 154.63 | AL17: 148.643 | AM17: 678.21 | AN17: 164 | AO17: 163 | AP17: 161 | AQ17: 161 | AR17: Existing Unit | AS17: Existing Unit | AT17: Existing Unit
... A42: Hoosier Energy Lawrence Co Station | B42: Indiana | C42: 7948 | D42: 6 | E42: 88291 | F42: 32234.038 | G42: 6702.97 | H42: 67902.588 | I42: 69123.537 | J42: 202817.22 | K42: 51400.986 | L42: 88646.337 | M42: 100088.98 | N42: 130517.51 | O42: 130517.51 | P42: 130517.51 | Q42: 4.6289385e+08 | R42: 4.3537531e+08 | S42: 4.3537531e+08 | T42: 0.00028195992 | U42: 0.00029978162 | V42: 0.00029978162 | W42: 11884.5 | X42: 11818 | Y42: 10842.35 | Z42: 10842.35 | AA42: 3.3509527 | AB42: 3.3322024 | AC42: 3.2503372 | AD42: 3.2503372 | AE42: 1.421 | AF42: 0.306 | AG42: 3.451 | AH42: 3.505 | AI42: 10.079 | AJ42: 2.599 | AK42: 3.849 | AL42: 4.405 | AM42: 10.079 | AN42: 4 | AO42: 4 | AP42: 4 | AQ42: 4 | AR42: Existing Unit | AS42: Existing Unit | AT42: Existing Unit
A43: IPL - Eagle Valley Generating Station | B43: Indiana | C43: 991 | D43: GT1 | E43: 91143 | J43: 5033104.4 | K43: 6804536.9 | L43: 7110576.4 | M43: 13745.91 | N43: 6316072.5 | O43: 6316072.5 | P43: 6316072.5 | Q43: 4.6289385e+08 | R43: 4.3537531e+08 | S43: 4.3537531e+08 | T43: 0.013644754 | U43: 0.014507191 | V43: 0.014507191 | W43: 11884.5 | X43: 11818 | Y43: 10842.35 | Z43: 10842.35 | AA43: 162.16107 | AB43: 161.2537 | AC43: 157.29204 | AD43: 157.29204 | AI43: 15.398 | AJ43: 23.761 | AK43: 22.152 | AL43: 1.505 | AM43: 23.761 | AN43: 24 | AO43: 24 | AP43: 24 | AQ43: 24 | AR43: Existing Unit | AS43: Existing Unit | AT43: Existing Unit
A44: IPL - Eagle Valley Generating Station | B44: Indiana | C44: 991 | D44: GT2 | E44: 91144 | J44: 4159971.8 | K44: 7236089.2 | L44: 7187841.9 | M44: 16338.334 | N44: 6194634.3 | O44: 6194634.3 | P44: 6194634.3 | Q44: 4.6289385e+08 | R44: 4.3537531e+08 | S44: 4.3537531e+08 | T44: 0.013382408 | U44: 0.014228263 | V44: 0.014228263 | W44: 11884.5 | X44: 11818 | Y44: 10842.35 | Z44: 10842.35 | AA44: 159.04323 | AB44: 158.1533 | AC44: 154.26781 | AD44: 154.26781 | AI44: 11.63 | AJ44: 24.209 | AK44: 23.982 | AL44: 1.732 | AM44: 24.209 | AN44: 24 | AO44: 24 | AP44: 24 | AQ44: 24 | AR44: Existing Unit | AS44: Existing Unit | AT44: Existing Unit
A45: IPL - Harding Street Station (EW Stout) | B45: Indiana | C45: 990 | D45: 50 | E45: 675 | F45: 2693793 | G45: 1671901.7 | H45: 1817614.7 | I45: 665237.53 | J45: 646049.07 | K45: 555265.63 | L45: 1500646.4 | M45: 1062615.6 | N45: 2061103.1 | O45: 2061103.1 | P45: 2061103.1 | Q45: 4.6289385e+08 | R45: 4.3537531e+08 | S45: 4.3537531e+08 | T45: 0.0044526475 | U45: 0.0047340837 | V45: 0.0047340837 | W45: 11884.5 | X45: 11818 | Y45: 10842.35 | Z45: 10842.35 | AA45: 52.917489 | AB45: 52.621388 | AC45: 51.328592 | AD45: 51.328592 | AE45: 352.006 | AF45: 212.589 | AG45: 36.119 | AH45: 10.757 | AI45: 9.851 | AJ45: 9.545 | AK45: 26.779 | AL45: 18.319 | AM45: 352.006 | AN45: 62 | AO45: 62 | AP45: 61 | AQ45: 61 | AR45: Existing Unit | AS45: Existing Unit | AT45: Existing Unit
A46: IPL - Harding Street Station (EW Stout) | B46: Indiana | C46: 990 | D46: 60 | E46: 677 | F46: 2767492.2 | G46: 1676562.4 | H46: 1868678.7 | I46: 474952.08 | J46: 560967.07 | K46: 514603.03 | L46: 1381782.8 | M46: 1127518.4 | N46: 2104244.4 | O46: 2104244.4 | P46: 2104244.4 | Q46: 4.6289385e+08 | R46: 4.3537531e+08 | S46: 4.3537531e+08 | T46: 0.0045458466 | U46: 0.0048331736 | V46: 0.0048331736 | W46: 11884.5 | X46: 11818 | Y46: 10842.35 | Z46: 10842.35 | AA46: 54.025114 | AB46: 53.722815 | AC46: 52.40296 | AD46: 52.40296 | AE46: 339.593 | AF46: 202.277 | AG46: 32.082 | AH46: 7.74 | AI46: 9.395 | AJ46: 8.219 | AK46: 32.281 | AL46: 22.004 | AM46: 339.593 | AN46: 63 | AO46: 63 | AP46: 62 | AQ46: 62 | AR46: Existing Unit | AS46: Existing Unit | AT46: Existing Unit
A47: IPL - Harding Street Station (EW Stout) | B47: Indiana | C47: 990 | D47: 70 | E47: 679 | F47: 12135395 | G47: 11132251 | H47: 5101900 | I47: 4530587.7 | J47: 4840836.1 | K47: 5514025.7 | L47: 6010072.9 | M47: 4410468.9 | N47: 9759239.7 | O47: 9759239.7 | P47: 9759239.7 | Q47: 4.6289385e+08 | R47: 4.3537531e+08 | S47: 4.3537531e+08 | T47: 0.021083105 | U47: 0.022415694 | V47: 0.022415694 | W47: 11884.5 | X47: 11818 | Y47: 10842.35 | Z47: 10842.35 | AA47: 250.56216 | AB47: 249.16014 | AC47: 243.0388 | AD47: 243.0388 | AE47: 812.718 | AF47: 590.566 | AG47: 191.074 | AH47: 199.164 | AI47: 195.687 | AJ47: 257.765 | AK47: 199.114 | AL47: 72.991 | AM47: 812.718 | AN47: 294 | AO47: 292 | AP47: 288 | AQ47: 288 | AR47: Existing Unit | AS47: Existing Unit | AT47: Existing Unit
A48: IPL - Harding Street Station (EW Stout) | B48: Indiana | C48: 990 | D48: GT4 | E48: 682 | F48: 52396.281 | G48: 281049.79 | H48: 393808.51 | I48: 177865.14 | J48: 473785.11 | K48: 156810.17 | L48: 341025.91 | M48: 425780.37 | N48: 431124.66 | O48: 431124.66 | P48: 431124.66 | Q48: 4.6289385e+08 | R48: 4.3537531e+08 | S48: 4.3537531e+08 | T48: 0.00093136831 | U48: 0.00099023683 | V48: 0.00099023683 | W48: 11884.5 | X48: 11818 | Y48: 10842.35 | Z48: 10842.35 | AA48: 11.068847 | AB48: 11.006911 | AC48: 10.736494 | AD48: 10.736494 | AE48: 3.975 | AF48: 20.614 | AG48: 30.95 | AH48: 13.474 | AI48: 37.291 | AJ48: 11.692 | AK48: 24.574 | AL48: 31.172 | AM48: 37.291 | AN48: 13 | AO48: 13 | AP48: 13 | AQ48: 13 | AR48: Existing Unit | AS48: Existing Unit | AT48: Existing Unit
A49: IPL - Harding Street Station (EW Stout) | B49: Indiana | C49: 990 | D49: GT5 | E49: 683 | F49: 38495.415 | G49: 289529.36 | H49: 357671.7 | I49: 186211.6 | J49: 518289.87 | K49: 224549.41 | L49: 308650.43 | M49: 476788.62 | N49: 450916.73 | O49: 450916.73 | P49: 450916.73 | Q49: 4.6289385e+08 | R49: 4.3537531e+08 | S49: 4.3537531e+08 | T49: 0.00097412556 | U49: 0.0010356966 | V49: 0.0010356966 | W49: 11884.5 | X49: 11818 | Y49: 10842.35 | Z49: 10842.35 | AA49: 11.576995 | AB49: 11.512216 | AC49: 11.229385 | AD49: 11.229385 | AE49: 2.357 | AF49: 17.651 | AG49: 22.562 | AH49: 11.569 | AI49: 32.953 | AJ49: 16.736 | AK49: 23.081 | AL49: 35.589 | AM49: 35.589 | AN49: 14 | AO49: 13 | AP49: 13 | AQ49: 13 | AR49: Existing Unit | AS49: Existing Unit | AT49: Existing Unit
A50: IPL - Harding Street Station (EW Stout) | B50: Indiana | C50: 990 | D50: GT6 | E50: 684 | F50: 164165.83 | G50: 1103879 | H50: 1039925.7 | I50: 1178091 | J50: 914419.7 | K50: 760281.01 | L50: 1104429.2 | M50: 1099833.5 | N50: 1128799.7 | O50: 1128799.7 | P50: 1128799.7 | Q50: 4.6289385e+08 | R50: 4.3537531e+08 | S50: 4.3537531e+08 | T50: 0.0024385715 | U50: 0.002592705 | V50: 0.002592705 | W50: 11884.5 | X50: 11818 | Y50: 10842.35 | Z50: 10842.35 | AA50: 28.981203 | AB50: 28.819038 | AC50: 28.111015 | AD50: 28.111015 | AE50: 2.718 | AF50: 17.44 | AG50: 15.144 | AH50: 17.243 | AI50: 16.981 | AJ50: 13.962 | AK50: 19.358 | AL50: 23.519 | AM50: 23.519 | AN50: 24 | AO50: 24 | AP50: 24 | AQ50: 24 | AR50: Existing Unit | AS50: Existing Unit | AT50: Existing Unit
A51: IPL - Petersburg Generating Station | B51: Indiana | C51: 994 | D51: 1 | E51: 692 | F51: 7916867.5 | G51: 7893845.7 | H51: 7268225.4 | I51: 6857197.8 | J51: 8487521.3 | K51: 4215491.3 | L51: 3464853.5 | M51: 1807936.5 | Q51: 4.6289385e+08 | R51: 4.3537531e+08 | S51: 4.3537531e+08 | W51: 11884.5 | X51: 11818 | Y51: 10842.35 | Z51: 10842.35 | AE51: 830.244 | AF51: 1120.917 | AG51: 760.017 | AH51: 781.016 | AI51: 905.085 | AJ51: 473.208 | AK51: 364.556 | AL51: 185.55 | AM51: 1120.917 | AR51: Retired | AS51: Retired | AT51: Retired
A52: IPL - Petersburg Generating Station | B52: Indiana | C52: 994 | D52: 2 | E52: 693 | F52: 12883441 | G52: 12210481 | H52: 12633662 | I52: 11206674 | J52: 9217977.9 | K52: 11924238 | L52: 9627547.6 | M52: 10002590 | N52: 12575861 | Q52: 4.6289385e+08 | R52: 4.3537531e+08 | S52: 4.3537531e+08 | T52: 0.027167917 | W52: 11884.5 | X52: 11818 | Y52: 10842.35 | Z52: 10842.35 | AA52: 322.8771 | AB52: 321.07044 | AE52: 1327.86 | AF52: 1256.301 | AG52: 934.509 | AH52: 470.526 | AI52: 413.687 | AJ52: 515.592 | AK52: 386.646 | AL52: 443.361 | AM52: 1327.86 | AN52: 379 | AO52: 376 | AR52: Existing Unit | AS52: Retired | AT52: Retired
A53: IPL - Petersburg Generating Station | B53: Indiana | C53: 994 | D53: 3 | E53: 694 | F53: 13316471 | G53: 7105947.5 | H53: 16057203 | I53: 13691470 | J53: 10946837 | K53: 12973801 | L53: 7453912.8 | M53: 14687681 | N53: 14812118 | O53: 14812118 | P53: 14812118 | Q53: 4.6289385e+08 | R53: 4.3537531e+08 | S53: 4.3537531e+08 | T53: 0.031998952 | U53: 0.034021493 | V53: 0.034021493 | W53: 11884.5 | X53: 11818 | Y53: 10842.35 | Z53: 10842.35 | AA53: 380.29154 | AB53: 378.16361 | AC53: 368.87293 | AD53: 368.87293 | AE53: 998.249 | AF53: 996.456 | AG53: 1526.874 | AH53: 526.587 | AI53: 446.628 | AJ53: 586.745 | AK53: 280.231 | AL53: 637.85 | AM53: 1526.874 | AN53: 446 | AO53: 443 | AP53: 437 | AQ53: 437 | AR53: Existing Unit | AS53: Existing Unit | AT53: Existing Unit
A54: IPL - Petersburg Generating Station | B54: Indiana | C54: 994 | D54: 4 | E54: 695 | F54: 17585704 | G54: 14894589 | H54: 13910929 | I54: 13970903 | J54: 15984245 | K54: 9676055.6 | L54: 9756383.5 | M54: 13116240 | N54: 16154846 | O54: 16154846 | P54: 16154846 | Q54: 4.6289385e+08 | R54: 4.3537531e+08 | S54: 4.3537531e+08 | T54: 0.034899677 | U54: 0.037105563 | V54: 0.037105563 | W54: 11884.5 | X54: 11818 | Y54: 10842.35 | Z54: 10842.35 | AA54: 414.76521 | AB54: 412.44438 | AC54: 402.3115 | AD54: 402.3115 | AE54: 2216.539 | AF54: 1946.344 | AG54: 1966.142 | AH54: 1696.215 | AI54: 1820.745 | AJ54: 1008.693 | AK54: 889.877 | AL54: 1184.917 | AM54: 2216.539 | AN54: 487 | AO54: 484 | AP54: 477 | AQ54: 477 | AR54: Existing Unit | AS54: Existing Unit | AT54: Existing Unit
A55: Lawrenceburg Energy Facility | B55: Indiana | C55: 55502 | D55: 1 | E55: 8612 | F55: 2203359.5 | G55: 4334674.6 | H55: 6345253.3 | I55: 4724027.2 | J55: 5256733.9 | K55: 6100026.5 | L55: 6290338.9 | M55: 5297145.5 | N55: 6245206.2 | O55: 6245206.2 | P55: 6245206.2 | Q55: 4.6289385e+08 | R55: 4.3537531e+08 | S55: 4.3537531e+08 | T55: 0.01349166 | U55: 0.01434442 | V55: 0.01434442 | W55: 11884.5 | X55: 11818 | Y55: 10842.35 | Z55: 10842.35 | AA55: 160.34163 | AB55: 159.44443 | AC55: 155.52722 | AD55: 155.52722 | AE55: 33.852 | AF55: 39.482 | AG55: 36.319 | AH55: 57.919 | AI55: 30.91 | AJ55: 32.075 | AK55: 29.53 | AL55: 25.455 | AM55: 57.919 | AN55: 58 | AO55: 58 | AP55: 58 | AQ55: 58 | AR55: Existing Unit | AS55: Existing Unit | AT55: Existing Unit
A56: Lawrenceburg Energy Facility | B56: Indiana | C56: 55502 | D56: 2 | E56: 8614 | F56: 2142667 | G56: 4173989 | H56: 6121572.5 | I56: 4805292 | J56: 5369599.7 | K56: 6039495.6 | L56: 6178883.3 | M56: 5344909.4 | N56: 6113317.1 | O56: 6113317.1 | P56: 6113317.1 | Q56: 4.6289385e+08 | R56: 4.3537531e+08 | S56: 4.3537531e+08 | T56: 0.013206737 | U56: 0.014041488 | V56: 0.014041488 | W56: 11884.5 | X56: 11818 | Y56: 10842.35 | Z56: 10842.35 | AA56: 156.95546 | AB56: 156.07721 | AC56: 152.24273 | AD56: 152.24273 | AE56: 37.979 | AF56: 34.222 | AG56: 31.077 | AH56: 31.237 | AI56: 30.109 | AJ56: 32.671 | AK56: 27.846 | AL56: 25.456 | AM56: 37.979 | AN56: 38 | AO56: 38 | AP56: 38 | AQ56: 38 | AR56: Existing Unit | AS56: Existing Unit | AT56: Existing Unit
A57: Lawrenceburg Energy Facility | B57: Indiana | C57: 55502 | D57: 3 | E57: 8616 | F57: 1565171.5 | G57: 3963658.5 | H57: 5787319.1 | I57: 5283176.1 | J57: 5403699.8 | K57: 6025347.7 | L57: 6359701.9 | M57: 5571686.3 | N57: 6057456.2 | O57: 6057456.2 | P57: 6057456.2 | Q57: 4.6289385e+08 | R57: 4.3537531e+08 | S57: 4.3537531e+08 | T57: 0.013086059 | U57: 0.013913183 | V57: 0.013913183 | W57: 11884.5 | X57: 11818 | Y57: 10842.35 | Z57: 10842.35 | AA57: 155.52127 | AB57: 154.65104 | AC57: 150.8516 | AD57: 150.8516 | AE57: 18.358 | AF57: 25.914 | AG57: 42.952 | AH57: 28.044 | AI57: 26.687 | AJ57: 32.508 | AK57: 29.689 | AL57: 25.159 | AM57: 42.952 | AN57: 43 | AO57: 43 | AP57: 43 | AQ57: 43 | AR57: Existing Unit | AS57: Existing Unit | AT57: Existing Unit
A58: Lawrenceburg Energy Facility | B58: Indiana | C58: 55502 | D58: 4 | E58: 8618 | F58: 1673392.8 | G58: 3971065.8 | H58: 6057217.3 | I58: 5229073.6 | J58: 5460037 | K58: 5858521.7 | L58: 6265357.6 | M58: 5791878.4 | N58: 6060365.5 | O58: 6060365.5 | P58: 6060365.5 | Q58: 4.6289385e+08 | R58: 4.3537531e+08 | S58: 4.3537531e+08 | T58: 0.013092344 | U58: 0.013919865 | V58: 0.013919865 | W58: 11884.5 | X58: 11818 | Y58: 10842.35 | Z58: 10842.35 | AA58: 155.59596 | AB58: 154.72532 | AC58: 150.92405 | AD58: 150.92405 | AE58: 33.232 | AF58: 29.533 | AG58: 40.266 | AH58: 26.152 | AI58: 27.063 | AJ58: 30.967 | AK58: 28.433 | AL58: 25.123 | AM58: 40.266 | AN58: 40 | AO58: 40 | AP58: 40 | AQ58: 40 | AR58: Existing Unit | AS58: Existing Unit | AT58: Existing Unit
A59: Merom | B59: Indiana | C59: 6213 | D59: 1SG1 | E59: 2853 | F59: 15533359 | G59: 10323171 | H59: 16355060 | I59: 11638322 | J59: 14580091 | K59: 11197431 | L59: 7686728.2 | M59: 15344474 | N59: 15744297 | O59: 15744297 | P59: 15744297 | Q59: 4.6289385e+08 | R59: 4.3537531e+08 | S59: 4.3537531e+08 | T59: 0.03401276 | U59: 0.036162587 | V59: 0.036162587 | W59: 11884.5 | X59: 11818 | Y59: 10842.35 | Z59: 10842.35 | AA59: 404.22465 | AB59: 401.9628 | AC59: 392.08743 | AD59: 392.08743 | AE59: 475.45 | AF59: 313.039 | AG59: 493.924 | AH59: 352.092 | AI59: 439.97 | AJ59: 337.053 | AK59: 234.377 | AL59: 460.012 | AM59: 493.924 | AN59: 474 | AO59: 471 | AP59: 464 | AQ59: 464 | AR59: Existing Unit | AS59: Existing Unit | AT59: Existing Unit
A60: Merom | B60: Indiana | C60: 6213 | D60: 2SG1 | E60: 2854 | F60: 14759482 | G60: 11460731 | H60: 12551885 | I60: 12871175 | J60: 13017534 | K60: 8598208 | L60: 6739565.2 | M60: 16945882 | N60: 14907633 | O60: 14907633 | P60: 14907633 | Q60: 4.6289385e+08 | R60: 4.3537531e+08 | S60: 4.3537531e+08 | T60: 0.032205294 | U60: 0.034240878 | V60: 0.034240878 | W60: 11884.5 | X60: 11818 | Y60: 10842.35 | Z60: 10842.35 | AA60: 382.74382 | AB60: 380.60217 | AC60: 371.25158 | AD60: 371.25158 | AE60: 450.504 | AF60: 331.347 | AG60: 377.547 | AH60: 386.619 | AI60: 394.13 | AJ60: 257.743 | AK60: 201.667 | AL60: 505.693 | AM60: 505.693 | AN60: 449 | AO60: 446 | AP60: 440 | AQ60: 440 | AR60: Existing Unit | AS60: Existing Unit | AT60: Existing Unit
A61: Michigan City Generating Station | B61: Indiana | C61: 997 | D61: 12 | E61: 702 | F61: 11157684 | G61: 8773528.6 | H61: 11675210 | I61: 2330802.2 | J61: 8863669.4 | K61: 6867940.7 | L61: 6452152.3 | M61: 6798658.4 | N61: 10565521 | O61: 10565521 | P61: 10565521 | Q61: 4.6289385e+08 | R61: 4.3537531e+08 | S61: 4.3537531e+08 | T61: 0.022824933 | U61: 0.024267617 | V61: 0.024267617 | W61: 11884.5 | X61: 11818 | Y61: 10842.35 | Z61: 10842.35 | AA61: 271.26292 | AB61: 269.74506 | AC61: 263.118 | AD61: 263.118 | AE61: 527.731 | AF61: 403.868 | AG61: 481.612 | AH61: 115.363 | AI61: 398.071 | AJ61: 301.516 | AK61: 292.192 | AL61: 351.216 | AM61: 527.731 | AN61: 318 | AO61: 316 | AP61: 312 | AQ61: 312 | AR61: Existing Unit | AS61: Existing Unit | AT61: Existing Unit
A62: Montpelier Electric Gen Station | B62: Indiana | C62: 55229 | D62: G1CT1 | E62: 4220 | F62: 40880 | G62: 21623 | H62: 167746.3 | I62: 108144.6 | J62: 158137.8 | K62: 121466.9 | L62: 142753.1 | M62: 280205.3 | N62: 202029.8 | O62: 202029.8 | P62: 202029.8 | Q62: 4.6289385e+08 | R62: 4.3537531e+08 | S62: 4.3537531e+08 | T62: 0.00043644952 | U62: 0.00046403596 | V62: 0.00046403596 | W62: 11884.5 | X62: 11818 | Y62: 10842.35 | Z62: 10842.35 | AA62: 5.1869844 | AB62: 5.1579605 | AC62: 5.0312403 | AD62: 5.0312403 | AE62: 3.373 | AF62: 5.35 | AG62: 10.693 | AH62: 5.788 | AI62: 7.027 | AJ62: 8.968 | AK62: 11.762 | AL62: 19.953 | AM62: 19.953 | AN62: 6 | AO62: 6 | AP62: 6 | AQ62: 6 | AR62: Existing Unit | AS62: Existing Unit | AT62: Existing Unit
A63: Montpelier Electric Gen Station | B63: Indiana | C63: 55229 | D63: G1CT2 | E63: 4221 | F63: 42014.6 | G63: 45802.9 | H63: 4565 | I63: 109554.1 | J63: 150639.7 | K63: 119289.7 | L63: 143232.6 | M63: 272463.8 | N63: 188778.7 | O63: 188778.7 | P63: 188778.7 | Q63: 4.6289385e+08 | R63: 4.3537531e+08 | S63: 4.3537531e+08 | T63: 0.00040782287 | U63: 0.00043359992 | V63: 0.00043359992 | W63: 11884.5 | X63: 11818 | Y63: 10842.35 | Z63: 10842.35 | AA63: 4.8467709 | AB63: 4.8196507 | AC63: 4.7012421 | AD63: 4.7012421 | AE63: 3.192 | AF63: 7.798 | AG63: 0.242 | AH63: 4.916 | AI63: 6.683 | AJ63: 8.563 | AK63: 11.512 | AL63: 20.239 | AM63: 20.239 | AN63: 6 | AO63: 6 | AP63: 6 | AQ63: 6 | AR63: Existing Unit | AS63: Existing Unit | AT63: Existing Unit
A64: Montpelier Electric Gen Station | B64: Indiana | C64: 55229 | D64: G2CT1 | E64: 4222 | F64: 48977.7 | G64: 48008.9 | H64: 4190.8 | I64: 81692 | J64: 174202.8 | K64: 147960.4 | L64: 145239.7 | M64: 289223.4 | N64: 203795.53 | O64: 203795.53 | P64: 203795.53 | Q64: 4.6289385e+08 | R64: 4.3537531e+08 | S64: 4.3537531e+08 | T64: 0.00044026408 | U64: 0.00046809162 | V64: 0.00046809162 | W64: 11884.5 | X64: 11818 | Y64: 10842.35 | Z64: 10842.35 | AA64: 5.2323184 | AB64: 5.2030409 | AC64: 5.0752132 | AD64: 5.0752132 | AE64: 4.726 | AF64: 8.992 | AG64: 0.243 | AH64: 5.514 | AI64: 7.836 | AJ64: 10.549 | AK64: 11.559 | AL64: 19.936 | AM64: 19.936 | AN64: 6 | AO64: 6 | AP64: 6 | AQ64: 6 | AR64: Existing Unit | AS64: Existing Unit | AT64: Existing Unit
... A72: Noblesville | B72: Indiana | C72: 1007 | D72: CT5 | E72: 8292 | F72: 579684.67 | G72: 627741.92 | H72: 1181145.1 | I72: 648478.33 | J72: 2245882.4 | K72: 772994.25 | L72: 1921303.7 | M72: 1368046.1 | N72: 1845077.4 | O72: 1845077.4 | P72: 1845077.4 | Q72: 4.6289385e+08 | R72: 4.3537531e+08 | S72: 4.3537531e+08 | T72: 0.0039859623 | U72: 0.0042379009 | V72: 0.0042379009 | W72: 11884.5 | X72: 11818 | Y72: 10842.35 | Z72: 10842.35 | AA72: 47.371169 | AB72: 47.106102 | AC72: 45.948805 | AD72: 45.948805 | AE72: 7.043 | AF72: 6.968 | AG72: 11.422 | AH72: 5.536 | AI72: 11.462 | AJ72: 4.43 | AK72: 9.525 | AL72: 10.701 | AM72: 11.462 | AN72: 11 | AO72: 11 | AP72: 11 | AQ72: 11 | AR72: Existing Unit | AS72: Existing Unit | AT72: Existing Unit
A73: R Gallagher | B73: Indiana | C73: 1008 | D73: 4 | E73: 719 | F73: 1225469.3 | G73: 1551165.1 | H73: 1342506.2 | I73: 710292.68 | J73: 379320.58 | K73: 145180.23 | L73: 285036.76 | M73: 29276.299 | Q73: 4.6289385e+08 | R73: 4.3537531e+08 | S73: 4.3537531e+08 | W73: 11884.5 | X73: 11818 | Y73: 10842.35 | Z73: 10842.35 | AE73: 191.195 | AF73: 246.533 | AG73: 219.863 | AH73: 114.775 | AI73: 63.96 | AJ73: 24.022 | AK73: 49.062 | AL73: 6.58 | AM73: 246.533 | AR73: Retired | AS73: Retired | AT73: Retired
A74: R M Schahfer Generating Station | B74: Indiana | C74: 6085 | D74: 15 | E74: 2763 | F74: 12742500 | G74: 11337420 | H74: 9218838.2 | I74: 5559579.8 | J74: 12001138 | K74: 8569155.9 | L74: 1755147.1 | M74: 10091917 | Q74: 4.6289385e+08 | R74: 4.3537531e+08 | S74: 4.3537531e+08 | W74: 11884.5 | X74: 11818 | Y74: 10842.35 | Z74: 10842.35 | AE74: 825.124 | AF74: 666.091 | AG74: 565.847 | AH74: 339.758 | AI74: 765.406 | AJ74: 540.185 | AK74: 116.771 | AL74: 673.754 | AM74: 825.124 | AR74: Retired | AS74: Retired | AT74: Retired
A75: R M Schahfer Generating Station | B75: Indiana | C75: 6085 | D75: 16A | E75: 9095 | F75: 22193.604 | G75: 173085.16 | H75: 93753.64 | I75: 150575.17 | J75: 88184.862 | K75: 20725.682 | L75: 49159.467 | M75: 110849.35 | N75: 144836.56 | O75: 144836.56 | P75: 144836.56 | Q75: 4.6289385e+08 | R75: 4.3537531e+08 | S75: 4.3537531e+08 | T75: 0.00031289368 | U75: 0.00033267059 | V75: 0.00033267059 | W75: 11884.5 | X75: 11818 | Y75: 10842.35 | Z75: 10842.35 | AA75: 3.7185849 | AB75: 3.6977775 | AC75: 3.606931 | AD75: 3.606931 | AE75: 3.27 | AF75: 24.492 | AG75: 13.163 | AH75: 18.31 | AI75: 10.509 | AJ75: 2.429 | AK75: 5.553 | AL75: 11.213 | AM75: 24.492 | AN75: 4 | AO75: 4 | AP75: 4 | AQ75: 4 | AR75: Existing Unit | AS75: Existing Unit | AT75: Existing Unit
A76: R M Schahfer Generating Station | B76: Indiana | C76: 6085 | D76: 16B | E76: 9096 | F76: 19847.34 | G76: 212462.05 | I76: 64985.31 | J76: 158458.02 | K76: 54206.139 | L76: 1233.57 | M76: 33943.87 | N76: 145301.79 | O76: 145301.79 | P76: 145301.79 | Q76: 4.6289385e+08 | R76: 4.3537531e+08 | S76: 4.3537531e+08 | T76: 0.00031389873 | U76: 0.00033373917 | V76: 0.00033373917 | W76: 11884.5 | X76: 11818 | Y76: 10842.35 | Z76: 10842.35 | AA76: 3.7305295 | AB76: 3.7096552 | AC76: 3.6185169 | AD76: 3.6185169 | AE76: 2.458 | AF76: 27.81 | AH76: 5.854 | AI76: 16.438 | AJ76: 6.302 | AK76: 0.182 | AL76: 3.956 | AM76: 27.81 | AN76: 4 | AO76: 4 | AP76: 4 | AQ76: 4 | AR76: Existing Unit | AS76: Existing Unit | AT76: Existing Unit
A77: R M Schahfer Generating Station | B77: Indiana | C77: 6085 | D77: 17 | E77: 2764 | F77: 9146350.4 | G77: 7044537.5 | H77: 10183639 | I77: 7244988.9 | J77: 9693877.2 | K77: 6321304 | L77: 5722942.4 | M77: 7646472.8 | N77: 9674622.1 | O77: 9674622.1 | P77: 9674622.1 | Q77: 4.6289385e+08 | R77: 4.3537531e+08 | S77: 4.3537531e+08 | T77: 0.020900304 | U77: 0.022221339 | V77: 0.022221339 | W77: 11884.5 | X77: 11818 | Y77: 10842.35 | Z77: 10842.35 | AA77: 248.38966 | AB77: 246.99979 | AC77: 240.93153 | AD77: 240.93153 | AE77: 825.515 | AF77: 621.905 | AG77: 900.136 | AH77: 646.083 | AI77: 855.529 | AJ77: 536.257 | AK77: 484.714 | AL77: 640.756 | AM77: 900.136 | AN77: 291 | AO77: 290 | AP77: 285 | AQ77: 285 | AR77: Existing Unit | AS77: Existing Unit | AT77: Existing Unit
A78: R M Schahfer Generating Station | B78: Indiana | C78: 6085 | D78: 18 | E78: 2765 | F78: 10368030 | G78: 9152068.8 | H78: 5711369.8 | I78: 11070500 | J78: 8264605 | K78: 6693770 | L78: 6286371.1 | M78: 8812442.5 | N78: 10196866 | O78: 10196866 | P78: 10196866 | Q78: 4.6289385e+08 | R78: 4.3537531e+08 | S78: 4.3537531e+08 | T78: 0.022028519 | U78: 0.023420865 | V78: 0.023420865 | W78: 11884.5 | X78: 11818 | Y78: 10842.35 | Z78: 10842.35 | AA78: 261.79794 | AB78: 260.33304 | AC78: 253.93721 | AD78: 253.93721 | AE78: 948.022 | AF78: 828.984 | AG78: 527.187 | AH78: 969.162 | AI78: 726.313 | AJ78: 578.374 | AK78: 539.831 | AL78: 761.536 | AM78: 969.162 | AN78: 307 | AO78: 305 | AP78: 301 | AQ78: 301 | AR78: Existing Unit | AS78: Existing Unit | AT78: Existing Unit
A79: Richmond (IN) | B79: Indiana | C79: 7335 | D79: RCT1 | E79: 3097 | F79: 1117.4 | G79: 28602.4 | H79: 17398.325 | I79: 35518.8 | J79: 17510.85 | K79: 4853.075 | L79: 24313.768 | M79: 46015.72 | N79: 36712.307 | O79: 36712.307 | P79: 36712.307 | Q79: 4.6289385e+08 | R79: 4.3537531e+08 | S79: 4.3537531e+08 | T79: 7.9310422e-05 | U79: 8.4323355e-05 | V79: 8.4323355e-05 | W79: 11884.5 | X79: 11818 | Y79: 10842.35 | Z79: 10842.35 | AA79: 0.94256471 | AB79: 0.93729057 | AC79: 0.91426333 | AD79: 0.91426333 | AE79: 0.065 | AF79: 1.631 | AG79: 0.992 | AH79: 2.025 | AI79: 0.998 | AJ79: 0.277 | AK79: 1.667 | AL79: 3.142 | AM79: 3.142 | AN79: 1 | AO79: 1 | AP79: 1 | AQ79: 1 | AR79: Existing Unit | AS79: Existing Unit | AT79: Existing Unit
A80: Richmond (IN) | B80: Indiana | C80: 7335 | D80: RCT2 | E80: 3098 | F80: 1224.325 | G80: 28906.775 | H80: 17838.1 | I80: 35898.8 | J80: 17224.3 | K80: 6005.5 | L80: 24213.291 | M80: 46899.32 | N80: 37234.965 | O80: 37234.965 | P80: 37234.965 | Q80: 4.6289385e+08 | R80: 4.3537531e+08 | S80: 4.3537531e+08 | T80: 8.0439533e-05 | U80: 8.5523833e-05 | V80: 8.5523833e-05 | W80: 11884.5 | X80: 11818 | Y80: 10842.35 | Z80: 10842.35 | AA80: 0.95598363 | AB80: 0.9506344 | AC80: 0.92727933 | AD80: 0.92727933 | AE80: 0.074 | AF80: 1.566 | AG80: 0.97 | AH80: 1.947 | AI80: 0.942 | AJ80: 0.363 | AK80: 1.478 | AL80: 2.867 | AM80: 2.867 | AN80: 1 | AO80: 1 | AP80: 1 | AQ80: 1 | AR80: Existing Unit | AS80: Existing Unit | AT80: Existing Unit
A81: Rockport | B81: Indiana | C81: 6166 | D81: MB1 | E81: 2819 | F81: 28815019 | G81: 35939424 | H81: 24235306 | I81: 17889290 | J81: 27874043 | K81: 20724649 | L81: 6062222.6 | M81: 19104937 | N81: 30876162 | O81: 30876162 | P81: 30876162 | Q81: 4.6289385e+08 | R81: 4.3537531e+08 | S81: 4.3537531e+08 | T81: 0.066702468 | U81: 0.070918497 | V81: 0.070918497 | W81: 11884.5 | X81: 11818 | Y81: 10842.35 | Z81: 10842.35 | AA81: 792.72548 | AB81: 788.28976 | AC81: 768.92316 | AD81: 768.92316 | AE81: 3316.929 | AF81: 3975.783 | AG81: 2577.709 | AH81: 1672.841 | AI81: 1697.51 | AJ81: 1232.147 | AK81: 271.963 | AL81: 673.473 | AM81: 3975.783 | AN81: 930 | AO81: 924 | AP81: 911 | AQ81: 911 | AR81: Existing Unit | AS81: Existing Unit | AT81: Existing Unit
A82: Rockport | B82: Indiana | C82: 6166 | D82: MB2 | E82: 2820 | F82: 39108295 | G82: 33351884 | H82: 32753365 | I82: 31381260 | J82: 23709814 | K82: 15600635 | L82: 19880011 | M82: 14703849 | N82: 35071181 | O82: 35071181 | P82: 35071181 | Q82: 4.6289385e+08 | R82: 4.3537531e+08 | S82: 4.3537531e+08 | T82: 0.075765062 | U82: 0.080553906 | V82: 0.080553906 | W82: 11884.5 | X82: 11818 | Y82: 10842.35 | Z82: 10842.35 | AA82: 900.42988 | AB82: 895.3915 | AC82: 873.39364 | AD82: 873.39364 | AE82: 4535.899 | AF82: 3676.595 | AG82: 3443.97 | AH82: 3420.729 | AI82: 1954.354 | AJ82: 1322.97 | AK82: 825.203 | AL82: 526.317 | AM82: 4535.899 | AN82: 1056 | AO82: 1050 | AP82: 1035 | AQ82: 1035 | AR82: Existing Unit | AS82: Existing Unit | AT82: Existing Unit
A83: St. Joseph Energy Center LLC | B83: Indiana | C83: 57794 | D83: CTG01A | E83: 90857 | J83: 7780497.7 | K83: 8305325.7 | L83: 6239393.2 | M83: 6743265.1 | N83: 7609696.2 | O83: 7609696.2 | P83: 7609696.2 | Q83: 4.6289385e+08 | R83: 4.3537531e+08 | S83: 4.3537531e+08 | T83: 0.016439398 | U83: 0.017478474 | V83: 0.017478474 | W83: 11884.5 | X83: 11818 | Y83: 10842.35 | Z83: 10842.35 | AA83: 195.37402 | AB83: 194.2808 | AC83: 189.50774 | AD83: 189.50774 | AI83: 23.573 | AJ83: 25.225 | AK83: 20.206 | AL83: 23.17 | AM83: 25.225 | AN83: 25 | AO83: 25 | AP83: 25 | AQ83: 25 | AR83: Existing Unit | AS83: Existing Unit | AT83: Existing Unit
A84: St. Joseph Energy Center LLC | B84: Indiana | C84: 57794 | D84: CTG01B | E84: 90856 | J84: 7596726.2 | K84: 8365798.1 | L84: 6664090.2 | M84: 6829362 | N84: 7597295.4 | O84: 7597295.4 | P84: 7597295.4 | Q84: 4.6289385e+08 | R84: 4.3537531e+08 | S84: 4.3537531e+08 | T84: 0.016412608 | U84: 0.017449992 | V84: 0.017449992 | W84: 11884.5 | X84: 11818 | Y84: 10842.35 | Z84: 10842.35 | AA84: 195.05564 | AB84: 193.9642 | AC84: 189.19892 | AD84: 189.19892 | AI84: 24.297 | AJ84: 25.68 | AK84: 25.498 | AL84: 23.566 | AM84: 25.68 | AN84: 26 | AO84: 26 | AP84: 26 | AQ84: 26 | AR84: Existing Unit | AS84: Existing Unit | AT84: Existing Unit
A85: Sugar Creek Generating Station | B85: Indiana | C85: 55364 | D85: CT11 | E85: 4555 | F85: 2265424.2 | G85: 5753582.2 | H85: 5625464.2 | I85: 5355769.5 | J85: 5129545.7 | K85: 5351061.2 | L85: 5705153 | M85: 3624167.1 | N85: 5694733.2 | O85: 5694733.2 | P85: 5694733.2 | Q85: 4.6289385e+08 | R85: 4.3537531e+08 | S85: 4.3537531e+08 | T85: 0.01230246 | U85: 0.013080055 | V85: 0.013080055 | W85: 11884.5 | X85: 11818 | Y85: 10842.35 | Z85: 10842.35 | AA85: 146.20859 | AB85: 145.39047 | AC85: 141.81854 | AD85: 141.81854 | AE85: 13.846 | AF85: 21.116 | AG85: 21.456 | AH85: 25.607 | AI85: 21.634 | AJ85: 22.169 | AK85: 25.119 | AL85: 22.869 | AM85: 25.607 | AN85: 26 | AO85: 26 | AP85: 26 | AQ85: 26 | AR85: Existing Unit | AS85: Existing Unit | AT85: Existing Unit
A86: Sugar Creek Generating Station | B86: Indiana | C86: 55364 | D86: CT12 | E86: 4556 | F86: 2358480.8 | G86: 5713853.8 | H86: 5606258.7 | I86: 5292825.7 | J86: 5291844.6 | K86: 5251524.5 | L86: 5485074.3 | M86: 3583275.8 | N86: 5601728.9 | O86: 5601728.9 | P86: 5601728.9 | Q86: 4.6289385e+08 | R86: 4.3537531e+08 | S86: 4.3537531e+08 | T86: 0.012101541 | U86: 0.012866437 | V86: 0.012866437 | W86: 11884.5 | X86: 11818 | Y86: 10842.35 | Z86: 10842.35 | AA86: 143.82077 | AB86: 143.01601 | AC86: 139.50241 | AD86: 139.50241 | AE86: 14.679 | AF86: 21.164 | AG86: 22.145 | AH86: 25.481 | AI86: 22.121 | AJ86: 21.578 | AK86: 23.683 | AL86: 21.824 | AM86: 25.481 | AN86: 25 | AO86: 25 | AP86: 25 | AQ86: 25 | AR86: Existing Unit | AS86: Existing Unit | AT86: Existing Unit
A87: Vermillion Generating Station | B87: Indiana | C87: 55111 | D87: 1 | E87: 3920 | F87: 9291.784 | G87: 110395.83 | H87: 155419.22 | I87: 93337.053 | J87: 274585.78 | K87: 103941.31 | L87: 257267.26 | M87: 217664.79 | N87: 249839.28 | O87: 249839.28 | P87: 249839.28 | Q87: 4.6289385e+08 | R87: 4.3537531e+08 | S87: 4.3537531e+08 | T87: 0.00053973341 | U87: 0.00057384806 | V87: 0.00057384806 | W87: 11884.5 | X87: 11818 | Y87: 10842.35 | Z87: 10842.35 | AA87: 6.4144617 | AB87: 6.3785694 | AC87: 6.2218615 | AD87: 6.2218615 | AE87: 0.16 | AF87: 1.895 | AG87: 2.61 | AH87: 1.711 | AI87: 4.533 | AJ87: 1.61 | AK87: 3.894 | AL87: 3.46 | AM87: 4.533 | AN87: 5 | AO87: 5 | AP87: 5 | AQ87: 5 | AR87: Existing Unit | AS87: Existing Unit | AT87: Existing Unit
A88: Vermillion Generating Station | B88: Indiana | C88: 55111 | D88: 2 | E88: 3921 | F88: 16211.37 | G88: 102782.76 | H88: 174749.93 | I88: 27260.282 | J88: 268335.29 | K88: 100446.46 | L88: 261694.21 | M88: 226314.16 | N88: 252114.55 | O88: 252114.55 | P88: 252114.55 | Q88: 4.6289385e+08 | R88: 4.3537531e+08 | S88: 4.3537531e+08 | T88: 0.00054464874 | U88: 0.00057907407 | V88: 0.00057907407 | W88: 11884.5 | X88: 11818 | Y88: 10842.35 | Z88: 10842.35 | AA88: 6.4728779 | AB88: 6.4366588 | AC88: 6.2785238 | AD88: 6.2785238 | AE88: 0.292 | AF88: 1.555 | AG88: 2.545 | AH88: 0.503 | AI88: 4.406 | AJ88: 1.557 | AK88: 4.285 | AL88: 3.657 | AM88: 4.406 | AN88: 4 | AO88: 4 | AP88: 4 | AQ88: 4 | AR88: Existing Unit | AS88: Existing Unit | AT88: Existing Unit
A89: Vermillion Generating Station | B89: Indiana | C89: 55111 | D89: 3 | E89: 3922 | F89: 25131.995 | G89: 84973.166 | H89: 140632.05 | I89: 41838.829 | J89: 247401.81 | K89: 108151.55 | L89: 266850.01 | M89: 223920.66 | N89: 246057.49 | O89: 246057.49 | P89: 246057.49 | Q89: 4.6289385e+08 | R89: 4.3537531e+08 | S89: 4.3537531e+08 | T89: 0.00053156354 | U89: 0.00056516181 | V89: 0.00056516181 | W89: 11884.5 | X89: 11818 | Y89: 10842.35 | Z89: 10842.35 | AA89: 6.3173669 | AB89: 6.2820179 | AC89: 6.1276821 | AD89: 6.1276821 | AE89: 0.468 | AF89: 1.288 | AG89: 2.208 | AH89: 0.736 | AI89: 3.835 | AJ89: 1.699 | AK89: 4.153 | AL89: 3.468 | AM89: 4.153 | AN89: 4 | AO89: 4 | AP89: 4 | AQ89: 4 | AR89: Existing Unit | AS89: Existing Unit | AT89: Existing Unit
A90: Vermillion Generating Station | B90: Indiana | C90: 55111 | D90: 4 | E90: 3923 | F90: 19022.1 | G90: 103333.45 | H90: 166340.31 | I90: 76020.979 | J90: 265592.98 | K90: 73102.513 | L90: 261382.67 | M90: 239338.79 | N90: 255438.15 | O90: 255438.15 | P90: 255438.15 | Q90: 4.6289385e+08 | R90: 4.3537531e+08 | S90: 4.3537531e+08 | T90: 0.00055182878 | U90: 0.00058670794 | V90: 0.00058670794 | W90: 11884.5 | X90: 11818 | Y90: 10842.35 | Z90: 10842.35 | AA90: 6.5582091 | AB90: 6.5215125 | AC90: 6.3612928 | AD90: 6.3612928 | AE90: 0.297 | AF90: 1.572 | AG90: 2.508 | AH90: 1.229 | AI90: 3.83 | AJ90: 1.037 | AK90: 4.151 | AL90: 3.866 | AM90: 4.151 | AN90: 4 | AO90: 4 | AP90: 4 | AQ90: 4 | AR90: Existing Unit | AS90: Existing Unit | AT90: Existing Unit
A91: Vermillion Generating Station | B91: Indiana | C91: 55111 | D91: 5 | E91: 3924 | F91: 14421.616 | G91: 65023.996 | H91: 204117.16 | I91: 62291.321 | J91: 253665.82 | K91: 61360.208 | L91: 213716.64 | M91: 222326.06 | N91: 229902.84 | O91: 229902.84 | P91: 229902.84 | Q91: 4.6289385e+08 | R91: 4.3537531e+08 | S91: 4.3537531e+08 | T91: 0.00049666427 | U91: 0.00052805668 | V91: 0.00052805668 | W91: 11884.5 | X91: 11818 | Y91: 10842.35 | Z91: 10842.35 | AA91: 5.9026066 | AB91: 5.8695784 | AC91: 5.7253753 | AD91: 5.7253753 | AE91: 0.369 | AF91: 1.198 | AG91: 3.504 | AH91: 1.163 | AI91: 4.29 | AJ91: 1.056 | AK91: 3.125 | AL91: 3.284 | AM91: 4.29 | AN91: 4 | AO91: 4 | AP91: 4 | AQ91: 4 | AR91: Existing Unit | AS91: Existing Unit | AT91: Existing Unit
A92: Vermillion Generating Station | B92: Indiana | C92: 55111 | D92: 6 | E92: 3925 | F92: 19023.365 | G92: 84725.316 | H92: 161084.52 | I92: 55990.623 | J92: 298316.61 | K92: 128412.68 | L92: 106575.47 | M92: 207672.28 | N92: 222357.8 | O92: 222357.8 | P92: 222357.8 | Q92: 4.6289385e+08 | R92: 4.3537531e+08 | S92: 4.3537531e+08 | T92: 0.00048036457 | U92: 0.00051072672 | V92: 0.00051072672 | W92: 11884.5 | X92: 11818 | Y92: 10842.35 | Z92: 10842.35 | AA92: 5.7088927 | AB92: 5.6769484 | AC92: 5.5374779 | AD92: 5.5374779 | AE92: 0.471 | AF92: 1.51 | AG92: 2.669 | AH92: 1.033 | AI92: 5.223 | AJ92: 2.173 | AK92: 1.842 | AL92: 3.56 | AM92: 5.223 | AN92: 5 | AO92: 5 | AP92: 5 | AQ92: 5 | AR92: Existing Unit | AS92: Existing Unit | AT92: Existing Unit
A93: Vermillion Generating Station | B93: Indiana | C93: 55111 | D93: 7 | E93: 3926 | F93: 20108.211 | G93: 111223.27 | H93: 145637.87 | I93: 71587.451 | J93: 283280.14 | K93: 109055.52 | L93: 250637.64 | M93: 201118.96 | N93: 245012.25 | O93: 245012.25 | P93: 245012.25 | Q93: 4.6289385e+08 | R93: 4.3537531e+08 | S93: 4.3537531e+08 | T93: 0.00052930547 | U93: 0.00056276101 | V93: 0.00056276101 | W93: 11884.5 | X93: 11818 | Y93: 10842.35 | Z93: 10842.35 | AA93: 6.2905309 | AB93: 6.2553321 | AC93: 6.1016519 | AD93: 6.1016519 | AE93: 0.336 | AF93: 1.654 | AG93: 2.103 | AH93: 1.096 | AI93: 4.023 | AJ93: 1.589 | AK93: 3.63 | AL93: 3.335 | AM93: 4.023 | AN93: 4 | AO93: 4 | AP93: 4 | AQ93: 4 | AR93: Existing Unit | AS93: Existing Unit | AT93: Existing Unit
A94: Vermillion Generating Station | B94: Indiana | C94: 55111 | D94: 8 | E94: 3927 | F94: 14394.887 | G94: 57045.778 | H94: 118656.5 | I94: 34993.69 | J94: 195219.18 | K94: 72483.052 | L94: 243076.33 | M94: 189166.96 | N94: 209154.16 | O94: 209154.16 | P94: 209154.16 | Q94: 4.6289385e+08 | R94: 4.3537531e+08 | S94: 4.3537531e+08 | T94: 0.00045184044 | U94: 0.00048039968 | V94: 0.00048039968 | W94: 11884.5 | X94: 11818 | Y94: 10842.35 | Z94: 10842.35 | AA94: 5.3698977 | AB94: 5.3398503 | AC94: 5.2086615 | AD94: 5.2086615 | AE94: 0.272 | AF94: 0.949 | AG94: 1.698 | AH94: 0.575 | AI94: 3.04 | AJ94: 1.08 | AK94: 3.54 | AL94: 2.854 | AM94: 3.54 | AN94: 4 | AO94: 4 | AP94: 4 | AQ94: 4 | AR94: Existing Unit | AS94: Existing Unit | AT94: Existing Unit
A95: Wabash River Highland Plant | B95: Indiana | C95: 57842 | D95: 1 | E95: 720 | F95: 5043448 | G95: 4875927.1 | H95: 243843.32 | I95: 307929.59 | J95: 619192.02 | K95: 613179.19 | L95: 675851.39 | M95: 421592.43 | N95: 3531742.2 | O95: 3531742.2 | P95: 3531742.2 | Q95: 4.6289385e+08 | R95: 4.3537531e+08 | S95: 4.3537531e+08 | T95: 0.0076297021 | U95: 0.0081119487 | V95: 0.0081119487 | W95: 11884.5 | X95: 11818 | Y95: 10842.35 | Z95: 10842.35 | AA95: 90.675194 | AB95: 90.167819 | AC95: 87.952587 | AD95: 87.952587 | AE95: 182.663 | AF95: 197.663 | AG95: 11.829 | AH95: 6.762 | AI95: 12.928 | AJ95: 12.796 | AK95: 13.143 | AL95: 10.224 | AM95: 197.663 | AN95: 106 | AO95: 106 | AP95: 104 | AQ95: 104 | AR95: Existing Unit | AS95: Existing Unit | AT95: Existing Unit
A96: Wheatland Generating Facility LLC | B96: Indiana | C96: 55224 | D96: EU-01 | E96: 4183 | F96: 55436.699 | G96: 185182.74 | H96: 417559.5 | I96: 182541.74 | J96: 602449.8 | K96: 307374.93 | L96: 311435.14 | M96: 392553.36 | N96: 470854.22 | O96: 470854.22 | P96: 470854.22 | Q96: 4.6289385e+08 | R96: 4.3537531e+08 | S96: 4.3537531e+08 | T96: 0.001017197 | U96: 0.0010814904 | V96: 0.0010814904 | W96: 11884.5 | X96: 11818 | Y96: 10842.35 | Z96: 10842.35 | AA96: 12.088877 | AB96: 12.021234 | AC96: 11.725898 | AD96: 11.725898 | AE96: 3.956 | AF96: 13.05 | AG96: 27.345 | AH96: 12.187 | AI96: 38.116 | AJ96: 28.571 | AK96: 25.576 | AL96: 32.651 | AM96: 38.116 | AN96: 14 | AO96: 14 | AP96: 14 | AQ96: 14 | AR96: Existing Unit | AS96: Existing Unit | AT96: Existing Unit
A97: Wheatland Generating Facility LLC | B97: Indiana | C97: 55224 | D97: EU-02 | E97: 4184 | F97: 61667.623 | G97: 164903.01 | H97: 383199.52 | I97: 221903.82 | J97: 613733.03 | K97: 330704.58 | L97: 331498.33 | M97: 364140.86 | N97: 453691.13 | O97: 453691.13 | P97: 453691.13 | Q97: 4.6289385e+08 | R97: 4.3537531e+08 | S97: 4.3537531e+08 | T97: 0.00098011917 | U97: 0.0010420691 | V97: 0.0010420691 | W97: 11884.5 | X97: 11818 | Y97: 10842.35 | Z97: 10842.35 | AA97: 11.648226 | AB97: 11.583048 | AC97: 11.298477 | AD97: 11.298477 | AE97: 3.895 | AF97: 9.991 | AG97: 21.067 | AH97: 12.767 | AI97: 32.761 | AJ97: 23.317 | AK97: 25.024 | AL97: 28.163 | AM97: 32.761 | AN97: 14 | AO97: 14 | AP97: 13 | AQ97: 13 | AR97: Existing Unit | AS97: Existing Unit | AT97: Existing Unit
A98: Wheatland Generating Facility LLC | B98: Indiana | C98: 55224 | D98: EU-03 | E98: 4185 | F98: 47229.041 | H98: 6804.271 | I98: 146680.5 | J98: 531028.71 | K98: 197480.55 | L98: 314783.08 | M98: 320091.36 | N98: 388634.39 | O98: 388634.39 | P98: 388634.39 | Q98: 4.6289385e+08 | R98: 4.3537531e+08 | S98: 4.3537531e+08 | T98: 0.00083957561 | U98: 0.00089264223 | V98: 0.00089264223 | W98: 11884.5 | X98: 11818 | Y98: 10842.35 | Z98: 10842.35 | AA98: 9.9779363 | AB98: 9.9221045 | AC98: 9.6783395 | AD98: 9.6783395 | AE98: 2.594 | AG98: 0.458 | AH98: 8.927 | AI98: 29.006 | AJ98: 16.963 | AK98: 26.377 | AL98: 29.236 | AM98: 29.236 | AN98: 12 | AO98: 12 | AP98: 11 | AQ98: 11 | AR98: Existing Unit | AS98: Existing Unit | AT98: Existing Unit
A99: Wheatland Generating Facility LLC | B99: Indiana | C99: 55224 | D99: EU-04 | E99: 4186 | F99: 43660.321 | G99: 175053.89 | H99: 339512.28 | I99: 182851.35 | J99: 237538.41 | K99: 253164 | L99: 320939.88 | M99: 413948.81 | N99: 358133.66 | O99: 358133.66 | P99: 358133.66 | Q99: 4.6289385e+08 | R99: 4.3537531e+08 | S99: 4.3537531e+08 | T99: 0.0007736842 | U99: 0.00082258606 | V99: 0.00082258606 | W99: 11884.5 | X99: 11818 | Y99: 10842.35 | Z99: 10842.35 | AA99: 9.1948499 | AB99: 9.1433999 | AC99: 8.918766 | AD99: 8.918766 | AE99: 2.663 | AF99: 10.198 | AG99: 17.794 | AH99: 10.981 | AI99: 11.993 | AJ99: 15.802 | AK99: 20.459 | AL99: 26.254 | AM99: 26.254 | AN99: 11 | AO99: 11 | AP99: 11 | AQ99: 11 | AR99: Existing Unit | AS99: Existing Unit | AT99: Existing Unit
A100: Whitewater Valley | B100: Indiana | C100: 1040 | D100: 1 | E100: 729 | F100: 91779.487 | G100: 106678.75 | H100: 210987.18 | I100: 94089.201 | J100: 95232.998 | K100: 108649.29 | L100: 127130.82 | M100: 107361.85 | N100: 148922.43 | O100: 148922.43 | P100: 148922.43 | Q100: 4.6289385e+08 | R100: 4.3537531e+08 | S100: 4.3537531e+08 | T100: 0.00032172048 | U100: 0.00034205531 | V100: 0.00034205531 | W100: 11884.5 | X100: 11818 | Y100: 10842.35 | Z100: 10842.35 | AA100: 3.8234871 | AB100: 3.8020927 | AC100: 3.7086833 | AD100: 3.7086833 | AE100: 14.513 | AF100: 14.783 | AG100: 26.024 | AH100: 15.947 | AI100: 16.101 | AJ100: 19.448 | AK100: 20.366 | AL100: 17.309 | AM100: 26.024 | AN100: 4 | AO100: 4 | AP100: 4 | AQ100: 4 | AR100: Existing Unit | AS100: Existing Unit | AT100: Existing Unit
A101: Whitewater Valley | B101: Indiana | C101: 1040 | D101: 2 | E101: 730 | F101: 202050.08 | G101: 270607.76 | H101: 357274.15 | I101: 220585.63 | J101: 251809.88 | K101: 265439.9 | L101: 334054.28 | M101: 220760.86 | N101: 320645.4 | O101: 320645.4 | P101: 320645.4 | Q101: 4.6289385e+08 | R101: 4.3537531e+08 | S101: 4.3537531e+08 | T101: 0.00069269747 | U101: 0.00073648044 | V101: 0.00073648044 | W101: 11884.5 | X101: 11818 | Y101: 10842.35 | Z101: 10842.35 | AA101: 8.232363 | AB101: 8.1862986 | AC101: 7.9851787 | AD101: 7.9851787 | AE101: 35.091 | AF101: 39.736 | AG101: 49.213 | AH101: 39.607 | AI101: 45.763 | AJ101: 50.539 | AK101: 64.911 | AL101: 37.351 | AM101: 64.911 | AN101: 10 | AO101: 10 | AP101: 9 | AQ101: 9 | AR101: Existing Unit | AS101: Existing Unit | AT101: Existing Unit
A102: Whiting Clean Energy, Inc. | B102: Indiana | C102: 55259 | D102: CT1 | E102: 4357 | F102: 3734843.2 | G102: 4550718.7 | H102: 4611635.2 | I102: 3415231.2 | J102: 3909024.6 | K102: 4014719.6 | L102: 5176207.6 | M102: 5531026.1 | N102: 5106289.6 | O102: 5106289.6 | P102: 5106289.6 | Q102: 4.6289385e+08 | R102: 4.3537531e+08 | S102: 4.3537531e+08 | T102: 0.011031232 | U102: 0.011728478 | V102: 0.011728478 | W102: 11884.5 | X102: 11818 | Y102: 10842.35 | Z102: 10842.35 | AA102: 131.10068 | AB102: 130.3671 | AC102: 127.16426 | AD102: 127.16426 | AE102: 16.808 | AF102: 18.617 | AG102: 19.908 | AH102: 14.298 | AI102: 17.125 | AJ102: 16.227 | AK102: 20.778 | AL102: 22.094 | AM102: 22.094 | AN102: 22 | AO102: 22 | AP102: 22 | AQ102: 22 | AR102: Existing Unit | AS102: Existing Unit | AT102: Existing Unit
A103: Whiting Clean Energy, Inc. | B103: Indiana | C103: 55259 | D103: CT2 | E103: 4358 | F103: 5301723.8 | G103: 1847390.6 | H103: 5486446.6 | I103: 3546182.9 | J103: 5252713.6 | K103: 5698561.1 | L103: 5935137.5 | M103: 5167453.6 | N103: 5706715.1 | O103: 5706715.1 | P103: 5706715.1 | Q103: 4.6289385e+08 | R103: 4.3537531e+08 | S103: 4.3537531e+08 | T103: 0.012328345 | U103: 0.013107576 | V103: 0.013107576 | W103: 11884.5 | X103: 11818 | Y103: 10842.35 | Z103: 10842.35 | AA103: 146.51622 | AB103: 145.69638 | AC103: 142.11693 | AD103: 142.11693 | AE103: 23.613 | AF103: 7.586 | AG103: 22.093 | AH103: 15.689 | AI103: 22 | AJ103: 23.875 | AK103: 23.729 | AL103: 20.682 | AM103: 23.875 | AN103: 24 | AO103: 24 | AP103: 24 | AQ103: 24 | AR103: Existing Unit | AS103: Existing Unit | AT103: Existing Unit
A104: Worthington Generation | B104: Indiana | C104: 55148 | D104: 1 | E104: 4017 | F104: 5644.48 | G104: 65159.401 | H104: 128558.13 | I104: 103753.32 | J104: 257635.77 | K104: 135368.95 | L104: 174023.32 | M104: 244981.77 | N104: 225546.95 | O104: 225546.95 | P104: 225546.95 | Q104: 4.6289385e+08 | R104: 4.3537531e+08 | S104: 4.3537531e+08 | T104: 0.00048725416 | U104: 0.00051805178 | V104: 0.00051805178 | W104: 11884.5 | X104: 11818 | Y104: 10842.35 | Z104: 10842.35 | AA104: 5.7907721 | AB104: 5.7583697 | AC104: 5.6168988 | AD104: 5.6168988 | AE104: 0.22 | AF104: 2.57 | AG104: 5.205 | AH104: 4.213 | AI104: 10.517 | AJ104: 5.539 | AK104: 7.286 | AL104: 10.74 | AM104: 10.74 | AN104: 7 | AO104: 7 | AP104: 7 | AQ104: 7 | AR104: Existing Unit | AS104: Existing Unit | AT104: Existing Unit
A105: Worthington Generation | B105: Indiana | C105: 55148 | D105: 2 | E105: 4018 | F105: 2072.947 | G105: 43210.716 | H105: 110617.55 | I105: 91227.706 | J105: 219099.73 | K105: 116544.52 | L105: 168578.32 | M105: 218157.41 | N105: 201945.15 | O105: 201945.15 | P105: 201945.15 | Q105: 4.6289385e+08 | R105: 4.3537531e+08 | S105: 4.3537531e+08 | T105: 0.00043626665 | U105: 0.00046384154 | V105: 0.00046384154 | W105: 11884.5 | X105: 11818 | Y105: 10842.35 | Z105: 10842.35 | AA105: 5.184811 | AB105: 5.1557993 | AC105: 5.0291323 | AD105: 5.0291323 | AE105: 0.094 | AF105: 1.95 | AG105: 4.803 | AH105: 3.97 | AI105: 9.365 | AJ105: 4.98 | AK105: 7.343 | AL105: 9.814 | AM105: 9.814 | AN105: 6 | AO105: 6 | AP105: 6 | AQ105: 6 | AR105: Existing Unit | AS105: Existing Unit | AT105: Existing Unit
A106: Worthington Generation | B106: Indiana | C106: 55148 | D106: 3 | E106: 4019 | F106: 9558.278 | G106: 38308.752 | H106: 83572.399 | I106: 62570.495 | J106: 212535.22 | K106: 112935.85 | L106: 177664.92 | M106: 220657.9 | N106: 203619.34 | O106: 203619.34 | P106: 203619.34 | Q106: 4.6289385e+08 | R106: 4.3537531e+08 | S106: 4.3537531e+08 | T106: 0.00043988345 | U106: 0.00046768694 | V106: 0.00046768694 | W106: 11884.5 | X106: 11818 | Y106: 10842.35 | Z106: 10842.35 | AA106: 5.2277949 | AB106: 5.1985426 | AC106: 5.0708255 | AD106: 5.0708255 | AE106: 0.394 | AF106: 1.655 | AG106: 3.339 | AH106: 2.483 | AI106: 8.841 | AJ106: 4.622 | AK106: 7.548 | AL106: 9.375 | AM106: 9.375 | AN106: 6 | AO106: 6 | AP106: 6 | AQ106: 6 | AR106: Existing Unit | AS106: Existing Unit | AT106: Existing Unit
A107: Worthington Generation | B107: Indiana | C107: 55148 | D107: 4 | E107: 4020 | F107: 8643.786 | G107: 57492.381 | H107: 100038.46 | I107: 100060.12 | J107: 227903.02 | K107: 121984.66 | L107: 168140.85 | M107: 231219.75 | N107: 209087.87 | O107: 209087.87 | P107: 209087.87 | Q107: 4.6289385e+08 | R107: 4.3537531e+08 | S107: 4.3537531e+08 | T107: 0.00045169724 | U107: 0.00048024743 | V107: 0.00048024743 | W107: 11884.5 | X107: 11818 | Y107: 10842.35 | Z107: 10842.35 | AA107: 5.3681958 | AB107: 5.3381579 | AC107: 5.2070107 | AD107: 5.2070107 | AE107: 0.374 | AF107: 2.481 | AG107: 4.414 | AH107: 4.423 | AI107: 10.031 | AJ107: 5.374 | AK107: 7.415 | AL107: 10.141 | AM107: 10.141 | AN107: 6 | AO107: 6 | AP107: 6 | AQ107: 6 | AR107: Existing Unit | AS107: Existing Unit | AT107: Existing Unit

Sheet Underlying Data for NY SIP
A1: Plant Name | B1: State | C1: ORIS ID | D1: Boiler ID | E1: CAMD Unit ID | F1: 2019 Ozone Season NOX Emissions (tons) | G1: 2020 Ozone Season NOX Emissions (tons) | H1: 2021 Ozone Season NOX Emissions (tons) | I1: 2019 to 2021 Ozone Season NOx Emissions Average (tons) for 2023 | J1: 2019 to 2021 Ozone Season NOx Emissions Average (tons) for 2024 | K1: 2019 to 2021 Ozone Season NOx Emissions Average (tons) for 2025 | L1: Unit Level NOX Ozone Season Allocation Pro-Rated 2023 (tons) | M1: Unit Level NOX Ozone Season Allocation 2023 (tons) | N1: Unit Level NOX Ozone Season Allocation 2024 (tons) | O1: Unit Level NOX Ozone Season Allocation 2025 (tons) | P1: Data Flags
A2: Calculation | I2: Average of three values in columns F - H, including zeroes for Operating units | L2: Ratioed value from column I after holding out 15% per NY SIP | M2: Ratioed value from column I after holding out 15% per NY SIP | N2: Ratioed value from column J after holding out 15% per NY SIP | O2: Ratioed value from column K after holding out 15% per NY SIP | P2: Existing Unit or Retired in 2023 | Q2: Existing Unit or Retired in 2024 | R2: Existing Unit or Retired in 2025 | S2: Additional (Not ARP or CSAPR) Unit | T2: Unit Not Subject to State's SIP Authority | W2: Pro-Rated 2023 | X2: 2023 | Y2: 2024 | Z2: 2025
A3: 23rd and 3rd | B3: New York | C3: 7910 | D3: 2301 | E3: 8384 | F3: 1.929 | G3: 1.12 | H3: 1.696 | I3: 1.5816667 | J3: 1.5816667 | K3: 1.5816667 | L3: 1 | M3: 2 | N3: 2 | O3: 2 | P3: Existing Unit | Q3: Existing Unit | R3: Existing Unit | V3: NY Budget | W3: 3607 | X3: 3912 | Y3: 3912 | Z3: 3912
A4: 23rd and 3rd | B4: New York | C4: 7910 | D4: 2302 | E4: 8386 | F4: 1.554 | G4: 2.395 | H4: 1.642 | I4: 1.8636667 | J4: 1.8636667 | K4: 1.8636667 | L4: 2 | M4: 2 | N4: 2 | O4: 2 | P4: Existing Unit | Q4: Existing Unit | R4: Existing Unit | V4: Hold Out 15% | W4: 3065.95 | X4: 3325.2 | Y4: 3325.2 | Z4: 3325.2 | AA4: Step 2
A5: 74th Street | B5: New York | C5: 2504 | D5: 120 | E5: 1714 | F5: 3.467 | G5: 0.013 | H5: 2.201 | I5: 1.8936667 | J5: 1.8936667 | K5: 1.8936667 | L5: 2 | M5: 2 | N5: 2 | O5: 2 | P5: Existing Unit | Q5: Existing Unit | R5: Existing Unit | V5: Raw Total | W5: 3484.4483 | X5: 3484.4483 | Y5: 3484.4483 | Z5: 3484.4483 | AA5: Step 3
A6: 74th Street | B6: New York | C6: 2504 | D6: 122 | E6: 1716 | F6: 0.121 | G6: 0.751 | H6: 0.375 | I6: 0.41566667 | J6: 0.41566667 | K6: 0.41566667 | L6: 0 | M6: 0 | N6: 0 | O6: 0 | P6: Existing Unit | Q6: Existing Unit | R6: Existing Unit | V6: Adjust Ratio | W6: 0.87989538 | X6: 0.9542974 | Y6: 0.9542974 | Z6: 0.9542974 | AA6: Step 5
A7: Allegany Station No. 133 | B7: New York | C7: 10619 | D7: 00001 | E7: 3562 | F7: 0.933 | G7: 1.453 | H7: 1.153 | I7: 1.1796667 | J7: 1.1796667 | K7: 1.1796667 | L7: 1 | M7: 1 | N7: 1 | O7: 1 | P7: Existing Unit | Q7: Existing Unit | R7: Existing Unit | V7: NYSERDA | W7: 361 | X7: 391 | Y7: 391 | Z7: 391 | AA7: Step 6
A8: Arthur Kill | B8: New York | C8: 2490 | D8: 20 | E8: 1610 | F8: 137.996 | G8: 120.508 | H8: 193.642 | I8: 150.71533 | J8: 150.71533 | K8: 150.71533 | L8: 133 | M8: 144 | N8: 144 | O8: 144 | P8: Existing Unit | Q8: Existing Unit | R8: Existing Unit
A9: Arthur Kill | B9: New York | C9: 2490 | D9: 30 | E9: 1611 | F9: 66.027 | G9: 121.046 | H9: 59.385 | I9: 82.152667 | J9: 82.152667 | K9: 82.152667 | L9: 72 | M9: 78 | N9: 78 | O9: 78 | P9: Existing Unit | Q9: Existing Unit | R9: Existing Unit
A10: Astoria Energy | B10: New York | C10: 55375 | D10: CT1 | E10: 4581 | F10: 16.453 | G10: 14.696 | H10: 14.569 | I10: 15.239333 | J10: 15.239333 | K10: 15.239333 | L10: 13 | M10: 15 | N10: 15 | O10: 15 | P10: Existing Unit | Q10: Existing Unit | R10: Existing Unit
A11: Astoria Energy | B11: New York | C11: 55375 | D11: CT2 | E11: 4582 | F11: 15.012 | G11: 13.997 | H11: 14.181 | I11: 14.396667 | J11: 14.396667 | K11: 14.396667 | L11: 13 | M11: 14 | N11: 14 | O11: 14 | P11: Existing Unit | Q11: Existing Unit | R11: Existing Unit
A12: Astoria Energy | B12: New York | C12: 55375 | D12: CT3 | E12: 4583 | F12: 19.58 | G12: 19.808 | H12: 17.435 | I12: 18.941 | J12: 18.941 | K12: 18.941 | L12: 17 | M12: 18 | N12: 18 | O12: 18 | P12: Existing Unit | Q12: Existing Unit | R12: Existing Unit
A13: Astoria Energy | B13: New York | C13: 55375 | D13: CT4 | E13: 4584 | F13: 21.834 | G13: 20.829 | H13: 18.099 | I13: 20.254 | J13: 20.254 | K13: 20.254 | L13: 18 | M13: 19 | N13: 19 | O13: 19 | P13: Existing Unit | Q13: Existing Unit | R13: Existing Unit
A14: Astoria Gas Turbine Power | B14: New York | C14: 55243 | D14: CT2-1A | E14: 3498 | F14: 1.021 | G14: 2.145 | H14: 4.073 | P14: Retired | Q14: Retired | R14: Retired
A15: Astoria Gas Turbine Power | B15: New York | C15: 55243 | D15: CT2-1B | E15: 10215 | F15: 1.014 | G15: 2.132 | H15: 3.97 | P15: Retired | Q15: Retired | R15: Retired
A16: Astoria Gas Turbine Power | B16: New York | C16: 55243 | D16: CT2-2A | E16: 3499 | F16: 1.654 | G16: 0.711 | H16: 2.642 | P16: Retired | Q16: Retired | R16: Retired
A17: Astoria Gas Turbine Power | B17: New York | C17: 55243 | D17: CT2-2B | E17: 10217 | F17: 1.645 | G17: 0.707 | H17: 2.581 | P17: Retired | Q17: Retired | R17: Retired
A18: Astoria Gas Turbine Power | B18: New York | C18: 55243 | D18: CT2-3A | E18: 3500 | F18: 2.607 | G18: 1.648 | H18: 4.405 | P18: Retired | Q18: Retired | R18: Retired
A19: Astoria Gas Turbine Power | B19: New York | C19: 55243 | D19: CT2-3B | E19: 10219 | F19: 2.591 | G19: 1.638 | H19: 4.293 | P19: Retired | Q19: Retired | R19: Retired
A20: Astoria Gas Turbine Power | B20: New York | C20: 55243 | D20: CT2-4A | E20: 3501 | F20: 1.067 | G20: 0.674 | H20: 1.576 | P20: Retired | Q20: Retired | R20: Retired
A21: Astoria Gas Turbine Power | B21: New York | C21: 55243 | D21: CT2-4B | E21: 10221 | F21: 1.06 | G21: 0.67 | H21: 1.548 | P21: Retired | Q21: Retired | R21: Retired
A22: Astoria Gas Turbine Power | B22: New York | C22: 55243 | D22: CT3-1A | E22: 3502 | F22: 0.721 | G22: 0.501 | H22: 1.692 | P22: Retired | Q22: Retired | R22: Retired
A23: Astoria Gas Turbine Power | B23: New York | C23: 55243 | D23: CT3-1B | E23: 10223 | F23: 0.727 | G23: 0.505 | H23: 1.663 | P23: Retired | Q23: Retired | R23: Retired
A24: Astoria Gas Turbine Power | B24: New York | C24: 55243 | D24: CT3-2A | E24: 3503 | F24: 0.912 | G24: 1.647 | H24: 3.117 | P24: Retired | Q24: Retired | R24: Retired
A25: Astoria Gas Turbine Power | B25: New York | C25: 55243 | D25: CT3-2B | E25: 10225 | F25: 0.893 | G25: 1.613 | H25: 3.024 | P25: Retired | Q25: Retired | R25: Retired
... A37: Astoria Gas Turbine Power | B37: New York | C37: 55243 | D37: CT4-4B | E37: 10237 | F37: 1.379 | G37: 0.476 | H37: 1.574 | P37: Retired | Q37: Retired | R37: Retired
A38: Astoria Generating Station | B38: New York | C38: 8906 | D38: 20 | E38: 3485 | F38: 2.492 | G38: 1.429 | H38: 2.92 | I38: 2.2803333 | J38: 2.2803333 | K38: 2.2803333 | L38: 2 | M38: 2 | N38: 2 | O38: 2 | P38: Existing Unit | Q38: Existing Unit | R38: Existing Unit
A39: Astoria Generating Station | B39: New York | C39: 8906 | D39: 31RH | E39: 90457 | F39: 40.388 | G39: 18.775 | H39: 19.438 | I39: 26.200333 | J39: 26.200333 | K39: 26.200333 | L39: 23 | M39: 25 | N39: 25 | O39: 25 | P39: Existing Unit | Q39: Existing Unit | R39: Existing Unit
A40: Astoria Generating Station | B40: New York | C40: 8906 | D40: 32SH | E40: 90458 | F40: 41.427 | G40: 18.206 | H40: 18.96 | I40: 26.197667 | J40: 26.197667 | K40: 26.197667 | L40: 23 | M40: 25 | N40: 25 | O40: 25 | P40: Existing Unit | Q40: Existing Unit | R40: Existing Unit
A41: Astoria Generating Station | B41: New York | C41: 8906 | D41: 51RH | E41: 90461 | F41: 20.777 | G41: 40.316 | H41: 39.227 | I41: 33.44 | J41: 33.44 | K41: 33.44 | L41: 29 | M41: 32 | N41: 32 | O41: 32 | P41: Existing Unit | Q41: Existing Unit | R41: Existing Unit
A42: Astoria Generating Station | B42: New York | C42: 8906 | D42: 52SH | E42: 90462 | F42: 21.439 | G42: 40.878 | H42: 43.709 | I42: 35.342 | J42: 35.342 | K42: 35.342 | L42: 31 | M42: 34 | N42: 34 | O42: 34 | P42: Existing Unit | Q42: Existing Unit | R42: Existing Unit
A43: Athens Generating Company | B43: New York | C43: 55405 | D43: 1 | E43: 8542 | F43: 17.365 | G43: 1.247 | H43: 13.779 | I43: 10.797 | J43: 10.797 | K43: 10.797 | L43: 10 | M43: 10 | N43: 10 | O43: 10 | P43: Existing Unit | Q43: Existing Unit | R43: Existing Unit
A44: Athens Generating Company | B44: New York | C44: 55405 | D44: 2 | E44: 8544 | F44: 14.98 | G44: 14.036 | H44: 5.139 | I44: 11.385 | J44: 11.385 | K44: 11.385 | L44: 10 | M44: 11 | N44: 11 | O44: 11 | P44: Existing Unit | Q44: Existing Unit | R44: Existing Unit
A45: Athens Generating Company | B45: New York | C45: 55405 | D45: 3 | E45: 8546 | F45: 16.236 | G45: 20.454 | H45: 18.569 | I45: 18.419667 | J45: 18.419667 | K45: 18.419667 | L45: 16 | M45: 18 | N45: 18 | O45: 18 | P45: Existing Unit | Q45: Existing Unit | R45: Existing Unit
A46: Batavia Energy | B46: New York | C46: 54593 | D46: 1 | E46: 3784 | F46: 1.374 | G46: 3.582 | H46: 9.248 | I46: 4.7346667 | J46: 4.7346667 | K46: 4.7346667 | L46: 4 | M46: 5 | N46: 5 | O46: 5 | P46: Existing Unit | Q46: Existing Unit | R46: Existing Unit
A47: Bayswater Peaking Facility | B47: New York | C47: 55699 | D47: 1 | E47: 8958 | F47: 3.678 | G47: 2.251 | H47: 2.262 | I47: 2.7303333 | J47: 2.7303333 | K47: 2.7303333 | L47: 2 | M47: 3 | N47: 3 | O47: 3 | P47: Existing Unit | Q47: Existing Unit | R47: Existing Unit
A48: Bayswater Peaking Facility | B48: New York | C48: 55699 | D48: 2 | E48: 88310 | F48: 0.891 | G48: 2.172 | H48: 1.322 | I48: 1.4616667 | J48: 1.4616667 | K48: 1.4616667 | L48: 1 | M48: 1 | N48: 1 | O48: 1 | P48: Existing Unit | Q48: Existing Unit | R48: Existing Unit
A49: Beaver Falls, LLC | B49: New York | C49: 10617 | D49: 1 | E49: 3560 | F49: 0.417 | G49: 0.112 | H49: 0.616 | I49: 0.38166667 | J49: 0.38166667 | K49: 0.38166667 | L49: 0 | M49: 0 | N49: 0 | O49: 0 | P49: Existing Unit | Q49: Existing Unit | R49: Existing Unit
... A68: Castleton Power, LLC | B68: New York | C68: 10190 | D68: 1 | E68: 3532 | F68: 13.046 | G68: 11.527 | H68: 7.636 | I68: 10.736333 | J68: 10.736333 | K68: 10.736333 | L68: 9 | M68: 10 | N68: 10 | O68: 10 | P68: Existing Unit | Q68: Existing Unit | R68: Existing Unit
A69: Cricket Valley Energy Center | B69: New York | C69: 57185 | D69: U001 | E69: 91214 | G69: 15.808 | H69: 15.989 | I69: 10.599 | J69: 10.599 | K69: 10.599 | L69: 9 | M69: 10 | N69: 10 | O69: 10 | P69: Existing Unit | Q69: Existing Unit | R69: Existing Unit
A70: Cricket Valley Energy Center | B70: New York | C70: 57185 | D70: U002 | E70: 91215 | G70: 18.822 | H70: 17.743 | I70: 12.188333 | J70: 12.188333 | K70: 12.188333 | L70: 11 | M70: 12 | N70: 12 | O70: 12 | P70: Existing Unit | Q70: Existing Unit | R70: Existing Unit
A71: Cricket Valley Energy Center | B71: New York | C71: 57185 | D71: U003 | E71: 91216 | G71: 13.998 | H71: 17.398 | I71: 10.465333 | J71: 10.465333 | K71: 10.465333 | L71: 9 | M71: 10 | N71: 10 | O71: 10 | P71: Existing Unit | Q71: Existing Unit | R71: Existing Unit
A72: Danskammer Generating Station | B72: New York | C72: 2480 | D72: 1 | E72: 1606 | F72: 0.473 | G72: 0.502 | H72: 0.542 | I72: 0.50566667 | J72: 0.50566667 | K72: 0.50566667 | L72: 0 | M72: 0 | N72: 0 | O72: 0 | P72: Existing Unit | Q72: Existing Unit | R72: Existing Unit
A73: Danskammer Generating Station | B73: New York | C73: 2480 | D73: 2 | E73: 1607 | F73: 0.403 | G73: 0.426 | H73: 0.434 | I73: 0.421 | J73: 0.421 | K73: 0.421 | L73: 0 | M73: 0 | N73: 0 | O73: 0 | P73: Existing Unit | Q73: Existing Unit | R73: Existing Unit
A74: Danskammer Generating Station | B74: New York | C74: 2480 | D74: 3 | E74: 1608 | F74: 0.825 | G74: 0.695 | H74: 0.628 | I74: 0.716 | J74: 0.716 | K74: 0.716 | L74: 1 | M74: 1 | N74: 1 | O74: 1 | P74: Existing Unit | Q74: Existing Unit | R74: Existing Unit
A75: Danskammer Generating Station | B75: New York | C75: 2480 | D75: 4 | E75: 1609 | F75: 0.958 | G75: 2.526 | H75: 2.483 | I75: 1.989 | J75: 1.989 | K75: 1.989 | L75: 2 | M75: 2 | N75: 2 | O75: 2 | P75: Existing Unit | Q75: Existing Unit | R75: Existing Unit
A76: E F Barrett | B76: New York | C76: 2511 | D76: 10 | E76: 1719 | F76: 168.941 | G76: 156.665 | H76: 151.071 | I76: 158.89233 | J76: 158.89233 | K76: 158.89233 | L76: 140 | M76: 152 | N76: 152 | O76: 152 | P76: Existing Unit | Q76: Existing Unit | R76: Existing Unit
A77: E F Barrett | B77: New York | C77: 2511 | D77: 20 | E77: 1720 | F77: 76.729 | G77: 91.249 | H77: 108.731 | I77: 92.236333 | J77: 92.236333 | K77: 92.236333 | L77: 81 | M77: 88 | N77: 88 | O77: 88 | P77: Existing Unit | Q77: Existing Unit | R77: Existing Unit
A78: E F Barrett | B78: New York | C78: 2511 | D78: U00012 | E78: 1729 | F78: 14.26 | G78: 13.769 | H78: 24.391 | I78: 17.473333 | J78: 17.473333 | K78: 17.473333 | L78: 15 | M78: 17 | N78: 17 | O78: 17 | P78: Existing Unit | Q78: Existing Unit | R78: Existing Unit
A79: E F Barrett | B79: New York | C79: 2511 | D79: U00013 | E79: 1730 | F79: 14.26 | G79: 13.769 | H79: 24.391 | I79: 17.473333 | J79: 17.473333 | K79: 17.473333 | L79: 15 | M79: 17 | N79: 17 | O79: 17 | P79: Existing Unit | Q79: Existing Unit | R79: Existing Unit
A80: E F Barrett | B80: New York | C80: 2511 | D80: U00014 | E80: 1731 | F80: 12.156 | G80: 13.171 | H80: 25.621 | I80: 16.982667 | J80: 16.982667 | K80: 16.982667 | L80: 15 | M80: 16 | N80: 16 | O80: 16 | P80: Existing Unit | Q80: Existing Unit | R80: Existing Unit
A81: E F Barrett | B81: New York | C81: 2511 | D81: U00015 | E81: 1732 | F81: 12.156 | G81: 13.171 | H81: 25.621 | I81: 16.982667 | J81: 16.982667 | K81: 16.982667 | L81: 15 | M81: 16 | N81: 16 | O81: 16 | P81: Existing Unit | Q81: Existing Unit | R81: Existing Unit
A82: E F Barrett | B82: New York | C82: 2511 | D82: U00016 | E82: 1733 | F82: 23.818 | G82: 23.8 | H82: 35.537 | I82: 27.718333 | J82: 27.718333 | K82: 27.718333 | L82: 24 | M82: 26 | N82: 26 | O82: 26 | P82: Existing Unit | Q82: Existing Unit | R82: Existing Unit
A83: E F Barrett | B83: New York | C83: 2511 | D83: U00017 | E83: 1734 | F83: 23.818 | G83: 23.8 | H83: 35.537 | I83: 27.718333 | J83: 27.718333 | K83: 27.718333 | L83: 24 | M83: 26 | N83: 26 | O83: 26 | P83: Existing Unit | Q83: Existing Unit | R83: Existing Unit
... A164: Rensselaer Cogen | B164: New York | C164: 54034 | D164: 1GTDBS | E164: 3742 | F164: 0.136 | G164: 0.148 | H164: 2.148 | I164: 0.81066667 | J164: 0.81066667 | K164: 0.81066667 | L164: 1 | M164: 1 | N164: 1 | O164: 1 | P164: Existing Unit | Q164: Existing Unit | R164: Existing Unit
A165: Richard M Flynn (Holtsville) | B165: New York | C165: 7314 | D165: 001 | E165: 3092 | F165: 29.812 | G165: 47.381 | I165: 25.731 | J165: 25.731 | K165: 25.731 | L165: 23 | M165: 25 | N165: 25 | O165: 25 | P165: Existing Unit | Q165: Existing Unit | R165: Existing Unit
A166: Roseton Generating LLC | B166: New York | C166: 8006 | D166: 1 | E166: 3400 | F166: 32.448 | G166: 17.612 | H166: 23.067 | I166: 24.375667 | J166: 24.375667 | K166: 24.375667 | L166: 21 | M166: 23 | N166: 23 | O166: 23 | P166: Existing Unit | Q166: Existing Unit | R166: Existing Unit
A167: Roseton Generating LLC | B167: New York | C167: 8006 | D167: 2 | E167: 3401 | F167: 24.999 | G167: 29.448 | H167: 45.931 | I167: 33.459333 | J167: 33.459333 | K167: 33.459333 | L167: 29 | M167: 32 | N167: 32 | O167: 32 | P167: Existing Unit | Q167: Existing Unit | R167: Existing Unit
A168: S A Carlson | B168: New York | C168: 2682 | D168: 10 | E168: 1811 | F168: 0.16 | G168: 0.183 | H168: 0.204 | I168: 0.18233333 | J168: 0.18233333 | K168: 0.18233333 | L168: 0 | M168: 0 | N168: 0 | O168: 0 | P168: Existing Unit | Q168: Existing Unit | R168: Existing Unit
A169: S A Carlson | B169: New York | C169: 2682 | D169: 20 | E169: 1814 | F169: 41.075 | G169: 26.214 | H169: 24.19 | I169: 30.493 | J169: 30.493 | K169: 30.493 | L169: 27 | M169: 29 | N169: 29 | O169: 29 | P169: Existing Unit | Q169: Existing Unit | R169: Existing Unit
A170: S A Carlson | B170: New York | C170: 2682 | D170: 9 | E170: 1815 | F170: 0.044 | G170: 0.058 | H170: 0.059 | I170: 0.053666667 | J170: 0.053666667 | K170: 0.053666667 | L170: 0 | M170: 0 | N170: 0 | O170: 0 | P170: Existing Unit | Q170: Existing Unit | R170: Existing Unit
A171: Saranac Power Partners, LP | B171: New York | C171: 54574 | D171: 00001 | E171: 3780 | F171: 2.317 | G171: 0.694 | H171: 1.412 | I171: 1.4743333 | J171: 1.4743333 | K171: 1.4743333 | L171: 1 | M171: 1 | N171: 1 | O171: 1 | P171: Existing Unit | Q171: Existing Unit | R171: Existing Unit
A172: Saranac Power Partners, LP | B172: New York | C172: 54574 | D172: 00002 | E172: 3781 | F172: 0.254 | G172: 0.604 | H172: 0.648 | I172: 0.502 | J172: 0.502 | K172: 0.502 | L172: 0 | M172: 0 | N172: 0 | O172: 0 | P172: Existing Unit | Q172: Existing Unit | R172: Existing Unit
A173: Selkirk Cogen Partners | B173: New York | C173: 10725 | D173: CTG101 | E173: 3577 | F173: 6.215 | G173: 8.893 | H173: 4.792 | I173: 6.6333333 | J173: 6.6333333 | K173: 6.6333333 | L173: 6 | M173: 6 | N173: 6 | O173: 6 | P173: Existing Unit | Q173: Existing Unit | R173: Existing Unit
A174: Selkirk Cogen Partners | B174: New York | C174: 10725 | D174: CTG201 | E174: 3578 | F174: 6.143 | G174: 5.895 | H174: 4.501 | I174: 5.513 | J174: 5.513 | K174: 5.513 | L174: 5 | M174: 5 | N174: 5 | O174: 5 | P174: Existing Unit | Q174: Existing Unit | R174: Existing Unit
A175: Selkirk Cogen Partners | B175: New York | C175: 10725 | D175: CTG301 | E175: 3579 | F175: 4.829 | G175: 4.763 | H175: 3.821 | I175: 4.471 | J175: 4.471 | K175: 4.471 | L175: 4 | M175: 4 | N175: 4 | O175: 4 | P175: Existing Unit | Q175: Existing Unit | R175: Existing Unit
A176: Shoemaker | B176: New York | C176: 2632 | D176: 1 | E176: 1799 | F176: 1.165 | G176: 0.187 | H176: 0.286 | I176: 0.546 | J176: 0.546 | K176: 0.546 | L176: 0 | M176: 1 | N176: 1 | O176: 1 | P176: Existing Unit | Q176: Existing Unit | R176: Existing Unit
A177: Shoreham Energy | B177: New York | C177: 55787 | D177: CT01 | E177: 10134 | F177: 0.743 | G177: 3.291 | H177: 1.228 | I177: 1.754 | J177: 1.754 | K177: 1.754 | L177: 2 | M177: 2 | N177: 2 | O177: 2 | P177: Existing Unit | Q177: Existing Unit | R177: Existing Unit
... A188: Wading River Facility | B188: New York | C188: 7146 | D188: UGT013 | E188: 2958 | F188: 2.576 | G188: 5.699 | H188: 10.628 | I188: 6.301 | J188: 6.301 | K188: 6.301 | L188: 6 | M188: 6 | N188: 6 | O188: 6 | P188: Existing Unit | Q188: Existing Unit | R188: Existing Unit
A189: West Babylon Facility | B189: New York | C189: 2521 | D189: UGT001 | E189: 1753 | F189: 7.613 | G189: 6.055 | H189: 2.651 | P189: Retired | Q189: Retired | R189: Retired

Sheet Retired Units
A1: Based on data available at the time of the final rule, these units are considered retired units for a given budget year (e.g., prior to May 1, 2023 for 2023 budgets) and EPA did not determine allocations for them as existing units. If they resume operation, they would have to comply with the program (and would qualify for NUSA allocations).
A2: Plant Name | B2: State | C2: ORIS ID | D2: Boiler ID | E2: CAMD Unit ID | F2: Retired for 2023 | G2: Retired for 2024 | H2: Retired for 2025
A3: Dallman | B3: Illinois | C3: 963 | D3: 33 | E3: 647 | F3: Retired | G3: Retired | H3: Retired
A4: E D Edwards | B4: Illinois | C4: 856 | D4: 2 | E4: 569 | F4: Retired | G4: Retired | H4: Retired
A5: E D Edwards | B5: Illinois | C5: 856 | D5: 3 | E5: 570 | F5: Retired | G5: Retired | H5: Retired
A6: Joliet 29 | B6: Illinois | C6: 384 | D6: 71 | E6: 250 | G6: Retired | H6: Retired
A7: Joliet 29 | B7: Illinois | C7: 384 | D7: 72 | E7: 251 | G7: Retired | H7: Retired
A8: Joliet 29 | B8: Illinois | C8: 384 | D8: 81 | E8: 252 | G8: Retired | H8: Retired
A9: Joliet 29 | B9: Illinois | C9: 384 | D9: 82 | E9: 253 | G9: Retired | H9: Retired
A10: Joliet 9 | B10: Illinois | C10: 874 | D10: 5 | E10: 590 | G10: Retired | H10: Retired
A11: Joppa Steam | B11: Illinois | C11: 887 | D11: 1 | E11: 605 | F11: Retired | G11: Retired | H11: Retired
A12: Joppa Steam | B12: Illinois | C12: 887 | D12: 2 | E12: 606 | F12: Retired | G12: Retired | H12: Retired
A13: Joppa Steam | B13: Illinois | C13: 887 | D13: 3 | E13: 607 | F13: Retired | G13: Retired | H13: Retired
A14: Joppa Steam | B14: Illinois | C14: 887 | D14: 4 | E14: 608 | F14: Retired | G14: Retired | H14: Retired
A15: Joppa Steam | B15: Illinois | C15: 887 | D15: 5 | E15: 609 | F15: Retired | G15: Retired | H15: Retired
A16: Joppa Steam | B16: Illinois | C16: 887 | D16: 6 | E16: 610 | F16: Retired | G16: Retired | H16: Retired
A17: MEPI GT Facility | B17: Illinois | C17: 7858 | D17: 1 | E17: 3322 | F17: Retired | G17: Retired | H17: Retired
A18: MEPI GT Facility | B18: Illinois | C18: 7858 | D18: 2 | E18: 3323 | F18: Retired | G18: Retired | H18: Retired
A19: MEPI GT Facility | B19: Illinois | C19: 7858 | D19: 3 | E19: 3324 | F19: Retired | G19: Retired | H19: Retired
A20: MEPI GT Facility | B20: Illinois | C20: 7858 | D20: 4 | E20: 3325 | F20: Retired | G20: Retired | H20: Retired
A21: MEPI GT Facility | B21: Illinois | C21: 7858 | D21: 5 | E21: 3326 | F21: Retired | G21: Retired | H21: Retired
A22: Waukegan | B22: Illinois | C22: 883 | D22: 7 | E22: 598 | F22: Retired | G22: Retired | H22: Retired
... A24: Will County | B24: Illinois | C24: 884 | D24: 4 | E24: 603 | F24: Retired | G24: Retired | H24: Retired
A25: A B Brown Generating Station | B25: Indiana | C25: 6137 | D25: 1 | E25: 2797 | G25: Retired | H25: Retired
A26: A B Brown Generating Station | B26: Indiana | C26: 6137 | D26: 2 | E26: 2798 | G26: Retired | H26: Retired
A27: IPL - Petersburg Generating Station | B27: Indiana | C27: 994 | D27: 1 | E27: 692 | F27: Retired | G27: Retired | H27: Retired
A28: IPL - Petersburg Generating Station | B28: Indiana | C28: 994 | D28: 2 | E28: 693 | G28: Retired | H28: Retired
A29: R Gallagher | B29: Indiana | C29: 1008 | D29: 4 | E29: 719 | F29: Retired | G29: Retired | H29: Retired
A30: R M Schahfer Generating Station | B30: Indiana | C30: 6085 | D30: 15 | E30: 2763 | F30: Retired | G30: Retired | H30: Retired
A31: Chalk Point | B31: Maryland | C31: 1571 | D31: 1 | E31: 1050 | F31: Retired | G31: Retired | H31: Retired
A32: Chalk Point | B32: Maryland | C32: 1571 | D32: 2 | E32: 1051 | F32: Retired | G32: Retired | H32: Retired
A33: Morgantown | B33: Maryland | C33: 1573 | D33: 1 | E33: 1065 | F33: Retired | G33: Retired | H33: Retired
A34: Morgantown | B34: Maryland | C34: 1573 | D34: 2 | E34: 1066 | F34: Retired | G34: Retired | H34: Retired
A35: Dan E Karn | B35: Michigan | C35: 1702 | D35: 1 | E35: 1153 | G35: Retired | H35: Retired
A36: Dan E Karn | B36: Michigan | C36: 1702 | D36: 2 | E36: 1154 | G36: Retired | H36: Retired
A37: Erickson | B37: Michigan | C37: 1832 | D37: 1 | E37: 1221 | F37: Retired | G37: Retired | H37: Retired
A38: St. Clair | B38: Michigan | C38: 1743 | D38: 2 | E38: 1190 | F38: Retired | G38: Retired | H38: Retired
A39: St. Clair | B39: Michigan | C39: 1743 | D39: 3 | E39: 1191 | F39: Retired | G39: Retired | H39: Retired
A40: St. Clair | B40: Michigan | C40: 1743 | D40: 6 | E40: 1194 | F40: Retired | G40: Retired | H40: Retired
A41: St. Clair | B41: Michigan | C41: 1743 | D41: 7 | E41: 1195 | F41: Retired | G41: Retired | H41: Retired
A42: Trenton Channel | B42: Michigan | C42: 1745 | D42: 9A | E42: 1200 | F42: Retired | G42: Retired | H42: Retired
A43: Carneys Point | B43: New Jersey | C43: 10566 | D43: 1001 | E43: 3554 | F43: Retired | G43: Retired | H43: Retired
A44: Carneys Point | B44: New Jersey | C44: 10566 | D44: 1002 | E44: 3555 | F44: Retired | G44: Retired | H44: Retired
A45: Logan Generating Plant | B45: New Jersey | C45: 10043 | D45: 1001 | E45: 3524 | F45: Retired | G45: Retired | H45: Retired
A46: Newark Bay Cogen | B46: New Jersey | C46: 50385 | D46: 1001 | E46: 3650 | F46: Retired | G46: Retired | H46: Retired
A47: Newark Bay Cogen | B47: New Jersey | C47: 50385 | D47: 2001 | E47: 3651 | F47: Retired | G47: Retired | H47: Retired
A48: Pedricktown Cogeneration Plant | B48: New Jersey | C48: 10099 | D48: 001001 | E48: 3525 | F48: Retired | G48: Retired | H48: Retired
... A76: Avon Lake Power Plant | B76: Ohio | C76: 2836 | D76: CT10 | E76: 10208 | F76: Retired | G76: Retired | H76: Retired
A77: W H Sammis | B77: Ohio | C77: 2866 | D77: 5 | E77: 1960 | G77: Retired | H77: Retired
A78: W H Sammis | B78: Ohio | C78: 2866 | D78: 6 | E78: 1961 | G78: Retired | H78: Retired
A79: W H Sammis | B79: Ohio | C79: 2866 | D79: 7 | E79: 1962 | G79: Retired | H79: Retired
A80: W H Zimmer Generating Station | B80: Ohio | C80: 6019 | D80: 1 | E80: 2683 | F80: Retired | G80: Retired | H80: Retired
A81: Cheswick | B81: Pennsylvania | C81: 8226 | D81: 1 | E81: 3475 | F81: Retired | G81: Retired | H81: Retired
A82: Buchanan Units 1 & 2 | B82: Virginia | C82: 55738 | D82: 1 | E82: 9248 | G82: Retired | H82: Retired
A83: Buchanan Units 1 & 2 | B83: Virginia | C83: 55738 | D83: 2 | E83: 9249 | G83: Retired | H83: Retired
A84: Chesterfield Power Station | B84: Virginia | C84: 3797 | D84: 5 | E84: 2519 | G84: Retired | H84: Retired
A85: Chesterfield Power Station | B85: Virginia | C85: 3797 | D85: 6 | E85: 2520 | G85: Retired | H85: Retired
A86: Yorktown Power Station | B86: Virginia | C86: 3809 | D86: 3 | E86: 2532 | G86: Retired | H86: Retired
A87: South Oak Creek | B87: Wisconsin | C87: 4041 | D87: 5 | E87: 2590 | H87: Retired
A88: South Oak Creek | B88: Wisconsin | C88: 4041 | D88: 6 | E88: 2591 | H88: Retired
A89: Weston | B89: Wisconsin | C89: 4078 | D89: 2 | E89: 2614 | G89: Retired | H89: Retired

Sheet New Units
A1: Because these units reported a date for commencement of commercial operation on or after November 2, 2020, EPA did not determine allocations for them as existing units; they are eligible to receive NUSA allocations.
A2: Plant Name | B2: State | C2: ORIS ID | D2: Boiler ID | E2: CAMD Unit ID
A3: Delta Energy Park | B3: Michigan | C3: 63259 | D3: DEPC2 | E3: 91368
A4: Delta Energy Park | B4: Michigan | C4: 63259 | D4: DEPC3 | E4: 91369
A5: Delta Energy Park | B5: Michigan | C5: 63259 | D5: DEPS1 | E5: 91367
A6: Linden Cogeneration Facility | B6: New Jersey | C6: 50006 | D6: 10001 | E6: 91236
A7: Long Ridge Energy Generation | B7: Ohio | C7: 61322 | D7: CC1 | E7: 91331
A8: South Field Energy, LLC | B8: Ohio | C8: 60356 | D8: 1 | E8: 91329
A9: South Field Energy, LLC | B9: Ohio | C9: 60356 | D9: 2 | E9: 91330
A10: Hill Top Energy Center | B10: Pennsylvania | C10: 62565 | D10: 01 | E10: 91317
A11: Shell Chemical Appalachia LLC | B11: Pennsylvania | C11: 58933 | D11: 101 | E11: 91116
A12: Shell Chemical Appalachia LLC | B12: Pennsylvania | C12: 58933 | D12: 102 | E12: 91117
A13: Shell Chemical Appalachia LLC | B13: Pennsylvania | C13: 58933 | D13: 103 | E13: 91118
