Workbook

Sheet State Summary
A1: GNP Budgets and Manual Rounding Correction
A3: (A) State | B3: (B) Final RCU 2023 Emission Budget | C3: (C) Final CSAPR Update 2023 Emission Budget | D3: (D) GNP Pro-Rated 2023 Emission Budget | E3: (E) GNP 2023 Emission Budget | F3: (F) GNP 2024 Emission Budget | G3: (G) GNP 2025 Emission Budget | H3: GNP NUSA (%) for 2023 to 2025 | I3: Pro-Rated 2023 Emission Budget for Existing Units (tons) | J3: 2023 Emission Budget for Existing Units (tons) | K3: 2024 Emission Budget for Existing Units (tons) | L3: 2025 Emission Budget for Existing Units (tons) | M3: Pro-Rated 2023 NOx OS Allocation Before Rounding Correction (tons) | N3: 2023 NOx OS Allocation Before Rounding Correction (tons) | O3: 2024 NOx OS Allocation Before Rounding Correction (tons) | P3: 2025 NOx OS Allocation Before Rounding Correction (tons) | Q3: Pro-Rated 2023 Manual Rounding Correction (tons) | R3: 2023 Manual Rounding Correction (tons) | S3: 2024 Manual Rounding Correction (tons) | T3: 2025 Manual Rounding Correction (tons) | U3: Pro-Rated 2023 NOx OS Allocation with Rounding Correction (tons) | V3: 2023 NOx OS Allocation with Rounding Correction (tons) | W3: 2024 NOx OS Allocation with Rounding Correction (tons) | X3: 2025 NOx OS Allocation with Rounding Correction (tons)
A4: Illinois | B4: 8179 | D4: 7912 | E4: 7474 | F4: 7325 | G4: 7325 | H4: 0.05 | I4: =ROUND((D4*(1-H4)),0) -> 7516 | J4: =ROUND((E4*(1-H4)),0) -> 7100 | K4: =ROUND((F4*(1-H4)),0) -> 6959 | L4: =ROUND((G4*(1-H4)),0) -> 6959 | M4: =SUMIF('GNP Allocations'!B:B,A4,'GNP Allocations'!E:E) -> 7519 | N4: =SUMIF('GNP Allocations'!B:B,A4,'GNP Allocations'!F:F) -> 7105 | O4: =SUMIF('GNP Allocations'!B:B,A4,'GNP Allocations'!G:G) -> 6960 | P4: =SUMIF('GNP Allocations'!B:B,A4,'GNP Allocations'!H:H) -> 6960 | Q4: =I4-M4 -> -3 | R4: =J4-N4 -> -5 | S4: =K4-O4 -> -1 | T4: =L4-P4 -> -1 | U4: =SUMIF('GNP Allocations'!B:B,A4,'GNP Allocations'!M:M) -> 7516 | V4: =SUMIF('GNP Allocations'!B:B,A4,'GNP Allocations'!N:N) -> 7100 | W4: =SUMIF('GNP Allocations'!B:B,A4,'GNP Allocations'!O:O) -> 6959 | X4: =SUMIF('GNP Allocations'!B:B,A4,'GNP Allocations'!P:P) -> 6959
A5: Indiana | B5: 12553 | D5: 12510 | E5: 12440 | F5: 11413 | G5: 11413 | H5: 0.05 | I5: =ROUND((D5*(1-H5)),0) -> 11885 | J5: =ROUND((E5*(1-H5)),0) -> 11818 | K5: =ROUND((F5*(1-H5)),0) -> 10842 | L5: =ROUND((G5*(1-H5)),0) -> 10842 | M5: =SUMIF('GNP Allocations'!B:B,A5,'GNP Allocations'!E:E) -> 11882 | N5: =SUMIF('GNP Allocations'!B:B,A5,'GNP Allocations'!F:F) -> 11818 | O5: =SUMIF('GNP Allocations'!B:B,A5,'GNP Allocations'!G:G) -> 10843 | P5: =SUMIF('GNP Allocations'!B:B,A5,'GNP Allocations'!H:H) -> 10843 | Q5: =I5-M5 -> 3 | R5: =J5-N5 -> 0 | S5: =K5-O5 -> -1 | T5: =L5-P5 -> -1 | U5: =SUMIF('GNP Allocations'!B:B,A5,'GNP Allocations'!M:M) -> 11885 | V5: =SUMIF('GNP Allocations'!B:B,A5,'GNP Allocations'!N:N) -> 11818 | W5: =SUMIF('GNP Allocations'!B:B,A5,'GNP Allocations'!O:O) -> 10842 | X5: =SUMIF('GNP Allocations'!B:B,A5,'GNP Allocations'!P:P) -> 10842
A6: Maryland | B6: 1266 | D6: 1243 | E6: 1206 | F6: 1206 | G6: 1206 | H6: 0.05 | I6: =ROUND((D6*(1-H6)),0) -> 1181 | J6: =ROUND((E6*(1-H6)),0) -> 1146 | K6: =ROUND((F6*(1-H6)),0) -> 1146 | L6: =ROUND((G6*(1-H6)),0) -> 1146 | M6: =SUMIF('GNP Allocations'!B:B,A6,'GNP Allocations'!E:E) -> 1185 | N6: =SUMIF('GNP Allocations'!B:B,A6,'GNP Allocations'!F:F) -> 1150 | O6: =SUMIF('GNP Allocations'!B:B,A6,'GNP Allocations'!G:G) -> 1150 | P6: =SUMIF('GNP Allocations'!B:B,A6,'GNP Allocations'!H:H) -> 1150 | Q6: =I6-M6 -> -4 | R6: =J6-N6 -> -4 | S6: =K6-O6 -> -4 | T6: =L6-P6 -> -4 | U6: =SUMIF('GNP Allocations'!B:B,A6,'GNP Allocations'!M:M) -> 1181 | V6: =SUMIF('GNP Allocations'!B:B,A6,'GNP Allocations'!N:N) -> 1146 | W6: =SUMIF('GNP Allocations'!B:B,A6,'GNP Allocations'!O:O) -> 1146 | X6: =SUMIF('GNP Allocations'!B:B,A6,'GNP Allocations'!P:P) -> 1146
A7: Michigan | B7: 9975 | D7: 10260 | E7: 10727 | F7: 10275 | G7: 10275 | H7: 0.05 | I7: =ROUND((D7*(1-H7)),0) -> 9747 | J7: =ROUND((E7*(1-H7)),0) -> 10191 | K7: =ROUND((F7*(1-H7)),0) -> 9761 | L7: =ROUND((G7*(1-H7)),0) -> 9761 | M7: =SUMIF('GNP Allocations'!B:B,A7,'GNP Allocations'!E:E) -> 9749 | N7: =SUMIF('GNP Allocations'!B:B,A7,'GNP Allocations'!F:F) -> 10192 | O7: =SUMIF('GNP Allocations'!B:B,A7,'GNP Allocations'!G:G) -> 9759 | P7: =SUMIF('GNP Allocations'!B:B,A7,'GNP Allocations'!H:H) -> 9759 | Q7: =I7-M7 -> -2 | R7: =J7-N7 -> -1 | S7: =K7-O7 -> 2 | T7: =L7-P7 -> 2 | U7: =SUMIF('GNP Allocations'!B:B,A7,'GNP Allocations'!M:M) -> 9747 | V7: =SUMIF('GNP Allocations'!B:B,A7,'GNP Allocations'!N:N) -> 10191 | W7: =SUMIF('GNP Allocations'!B:B,A7,'GNP Allocations'!O:O) -> 9761 | X7: =SUMIF('GNP Allocations'!B:B,A7,'GNP Allocations'!P:P) -> 9761
A8: New Jersey | B8: 1253 | D8: 1071 | E8: 773 | F8: 773 | G8: 773 | H8: 0.05 | I8: =ROUND((D8*(1-H8)),0) -> 1017 | J8: =ROUND((E8*(1-H8)),0) -> 734 | K8: =ROUND((F8*(1-H8)),0) -> 734 | L8: =ROUND((G8*(1-H8)),0) -> 734 | M8: =SUMIF('GNP Allocations'!B:B,A8,'GNP Allocations'!E:E) -> 1021 | N8: =SUMIF('GNP Allocations'!B:B,A8,'GNP Allocations'!F:F) -> 739 | O8: =SUMIF('GNP Allocations'!B:B,A8,'GNP Allocations'!G:G) -> 739 | P8: =SUMIF('GNP Allocations'!B:B,A8,'GNP Allocations'!H:H) -> 739 | Q8: =I8-M8 -> -4 | R8: =J8-N8 -> -5 | S8: =K8-O8 -> -5 | T8: =L8-P8 -> -5 | U8: =SUMIF('GNP Allocations'!B:B,A8,'GNP Allocations'!M:M) -> 1017 | V8: =SUMIF('GNP Allocations'!B:B,A8,'GNP Allocations'!N:N) -> 734 | W8: =SUMIF('GNP Allocations'!B:B,A8,'GNP Allocations'!O:O) -> 734 | X8: =SUMIF('GNP Allocations'!B:B,A8,'GNP Allocations'!P:P) -> 734
A9: New York | B9: 3421 | D9: 3607 | E9: 3912 | F9: 3912 | G9: 3912 | H9: 0.05 | I9: =ROUND((D9*(1-H9)),0) -> 3427 | J9: =ROUND((E9*(1-H9)),0) -> 3716 | K9: =ROUND((F9*(1-H9)),0) -> 3716 | L9: =ROUND((G9*(1-H9)),0) -> 3716 | M9: =SUMIF('GNP Allocations'!B:B,A9,'GNP Allocations'!E:E) -> 3424 | N9: =SUMIF('GNP Allocations'!B:B,A9,'GNP Allocations'!F:F) -> 3716 | O9: =SUMIF('GNP Allocations'!B:B,A9,'GNP Allocations'!G:G) -> 3716 | P9: =SUMIF('GNP Allocations'!B:B,A9,'GNP Allocations'!H:H) -> 3716 | Q9: =I9-M9 -> 3 | R9: =J9-N9 -> 0 | S9: =K9-O9 -> 0 | T9: =L9-P9 -> 0 | U9: =SUMIF('GNP Allocations'!B:B,A9,'GNP Allocations'!M:M) -> 3427 | V9: =SUMIF('GNP Allocations'!B:B,A9,'GNP Allocations'!N:N) -> 3716 | W9: =SUMIF('GNP Allocations'!B:B,A9,'GNP Allocations'!O:O) -> 3716 | X9: =SUMIF('GNP Allocations'!B:B,A9,'GNP Allocations'!P:P) -> 3716
A10: Ohio | B10: 9773 | D10: 9522 | E10: 9110 | F10: 7929 | G10: 7929 | H10: 0.06 | I10: =ROUND((D10*(1-H10)),0) -> 8951 | J10: =ROUND((E10*(1-H10)),0) -> 8563 | K10: =ROUND((F10*(1-H10)),0) -> 7453 | L10: =ROUND((G10*(1-H10)),0) -> 7453 | M10: =SUMIF('GNP Allocations'!B:B,A10,'GNP Allocations'!E:E) -> 8948 | N10: =SUMIF('GNP Allocations'!B:B,A10,'GNP Allocations'!F:F) -> 8563 | O10: =SUMIF('GNP Allocations'!B:B,A10,'GNP Allocations'!G:G) -> 7451 | P10: =SUMIF('GNP Allocations'!B:B,A10,'GNP Allocations'!H:H) -> 7451 | Q10: =I10-M10 -> 3 | R10: =J10-N10 -> 0 | S10: =K10-O10 -> 2 | T10: =L10-P10 -> 2 | U10: =SUMIF('GNP Allocations'!B:B,A10,'GNP Allocations'!M:M) -> 8951 | V10: =SUMIF('GNP Allocations'!B:B,A10,'GNP Allocations'!N:N) -> 8563 | W10: =SUMIF('GNP Allocations'!B:B,A10,'GNP Allocations'!O:O) -> 7453 | X10: =SUMIF('GNP Allocations'!B:B,A10,'GNP Allocations'!P:P) -> 7453
A11: Pennsylvania | B11: 8373 | D11: 8284 | E11: 8138 | F11: 8138 | G11: 8138 | H11: 0.05 | I11: =ROUND((D11*(1-H11)),0) -> 7870 | J11: =ROUND((E11*(1-H11)),0) -> 7731 | K11: =ROUND((F11*(1-H11)),0) -> 7731 | L11: =ROUND((G11*(1-H11)),0) -> 7731 | M11: =SUMIF('GNP Allocations'!B:B,A11,'GNP Allocations'!E:E) -> 7870 | N11: =SUMIF('GNP Allocations'!B:B,A11,'GNP Allocations'!F:F) -> 7731 | O11: =SUMIF('GNP Allocations'!B:B,A11,'GNP Allocations'!G:G) -> 7731 | P11: =SUMIF('GNP Allocations'!B:B,A11,'GNP Allocations'!H:H) -> 7731 | Q11: =I11-M11 -> 0 | R11: =J11-N11 -> 0 | S11: =K11-O11 -> 0 | T11: =L11-P11 -> 0 | U11: =SUMIF('GNP Allocations'!B:B,A11,'GNP Allocations'!M:M) -> 7870 | V11: =SUMIF('GNP Allocations'!B:B,A11,'GNP Allocations'!N:N) -> 7731 | W11: =SUMIF('GNP Allocations'!B:B,A11,'GNP Allocations'!O:O) -> 7731 | X11: =SUMIF('GNP Allocations'!B:B,A11,'GNP Allocations'!P:P) -> 7731
A12: Virginia | B12: 3980 | D12: 3663 | E12: 3143 | F12: 2756 | G12: 2756 | H12: 0.05 | I12: =ROUND((D12*(1-H12)),0) -> 3480 | J12: =ROUND((E12*(1-H12)),0) -> 2986 | K12: =ROUND((F12*(1-H12)),0) -> 2618 | L12: =ROUND((G12*(1-H12)),0) -> 2618 | M12: =SUMIF('GNP Allocations'!B:B,A12,'GNP Allocations'!E:E) -> 3480 | N12: =SUMIF('GNP Allocations'!B:B,A12,'GNP Allocations'!F:F) -> 2986 | O12: =SUMIF('GNP Allocations'!B:B,A12,'GNP Allocations'!G:G) -> 2621 | P12: =SUMIF('GNP Allocations'!B:B,A12,'GNP Allocations'!H:H) -> 2621 | Q12: =I12-M12 -> 0 | R12: =J12-N12 -> 0 | S12: =K12-O12 -> -3 | T12: =L12-P12 -> -3 | U12: =SUMIF('GNP Allocations'!B:B,A12,'GNP Allocations'!M:M) -> 3480 | V12: =SUMIF('GNP Allocations'!B:B,A12,'GNP Allocations'!N:N) -> 2986 | W12: =SUMIF('GNP Allocations'!B:B,A12,'GNP Allocations'!O:O) -> 2618 | X12: =SUMIF('GNP Allocations'!B:B,A12,'GNP Allocations'!P:P) -> 2618
A13: Wisconsin | C13: 7915 | D13: 7301 | E13: 6295 | F13: 6295 | G13: 5988 | H13: 0.05 | I13: =ROUND((D13*(1-H13)),0) -> 6936 | J13: =ROUND((E13*(1-H13)),0) -> 5980 | K13: =ROUND((F13*(1-H13)),0) -> 5980 | L13: =ROUND((G13*(1-H13)),0) -> 5689 | M13: =SUMIF('GNP Allocations'!B:B,A13,'GNP Allocations'!E:E) -> 6938 | N13: =SUMIF('GNP Allocations'!B:B,A13,'GNP Allocations'!F:F) -> 5978 | O13: =SUMIF('GNP Allocations'!B:B,A13,'GNP Allocations'!G:G) -> 5977 | P13: =SUMIF('GNP Allocations'!B:B,A13,'GNP Allocations'!H:H) -> 5686 | Q13: =I13-M13 -> -2 | R13: =J13-N13 -> 2 | S13: =K13-O13 -> 3 | T13: =L13-P13 -> 3 | U13: =SUMIF('GNP Allocations'!B:B,A13,'GNP Allocations'!M:M) -> 6936 | V13: =SUMIF('GNP Allocations'!B:B,A13,'GNP Allocations'!N:N) -> 5980 | W13: =SUMIF('GNP Allocations'!B:B,A13,'GNP Allocations'!O:O) -> 5980 | X13: =SUMIF('GNP Allocations'!B:B,A13,'GNP Allocations'!P:P) -> 5689
A15: Sources and computations:
A16: (B) RCU 2023 state budgets before prorating are from 40 CFR 97.1010(a)(1)(i), Table 1, third column after the state names.
A17: (C) CSAPR Update 2023 state budgets before prorating 40 CFR 97.1010(a)(1)(i), Table 1, third column after the state names, and are also shown in 40 CFR 97.810(a).
A18: (D) Prorated 2023 state budgets are computed as (( B or C ) * ( 95 / 153 )) + ( E * ( 58 / 153 )). See 40 CFR 97.1010(a)(1)(ii) or Section VI.B.12.a of the Good Neighbor Plan preamble.
A19: (E) GNP 2023 state budget before prorating are from 40 CFR 97.1010(a)(1)(i), Table 1, fourth column after the state names.
A20: (F, G) GNP 2024 and 2025 state budgets are from 40 CFR 97.1010(a)(1)(i), Table 1, fifth and sixth columns after the state names.
A21: Notes:
A22: Each May-September control period includes 153 days. The Good Neighbor Plan takes effect on August 4, 2023, which is the 96th day of the 2023 control period.
A23: All state budget amounts shown in columns B through E include the portions of the budgets that are set aside for new units.
A24: The effectiveness of the Good Neighbor Plan for sources in a given state will be stayed for as long as judicial stay orders concerning a related EPA action remain in effect for that state.

Sheet GNP Allocations
E1: Before Rounding Correction | I1: Manual Rounding Correction | M1: After Rounding Correction
A2: Plant Name | B2: State | C2: ORIS ID | D2: Boiler ID | E2: Pro-Rated 2023 NOx OS Allocation (tons) | F2: 2023 NOx OS Allocation (tons) | G2: 2024 NOx OS Allocation (tons) | H2: 2025 NOx OS Allocation (tons) | I2: Pro-Rated 2023 NOx OS Allocation (tons) | J2: 2023 NOx OS Allocation (tons) | K2: 2024 NOx OS Allocation (tons) | L2: 2025 NOx OS Allocation (tons) | M2: Pro-Rated 2023 NOx OS Allocation (tons) | N2: 2023 NOx OS Allocation (tons) | O2: 2024 NOx OS Allocation (tons) | P2: 2025 NOx OS Allocation (tons)
A3: Alsey Station | B3: Illinois | C3: 7818 | D3: ACT1 | E3: 1 | F3: 1 | G3: 1 | H3: 1 | I3: 0 | J3: 0 | K3: 0 | L3: 0 | M3: =E3+I3 -> 1 | N3: =F3+J3 -> 1 | O3: =G3+K3 -> 1 | P3: =H3+L3 -> 1
A4: Alsey Station | B4: Illinois | C4: 7818 | D4: ACT2 | E4: 1 | F4: 1 | G4: 1 | H4: 1 | I4: 0 | J4: 0 | K4: 0 | L4: 0 | M4: =E4+I4 -> 1 | N4: =F4+J4 -> 1 | O4: =G4+K4 -> 1 | P4: =H4+L4 -> 1
A5: Alsey Station | B5: Illinois | C5: 7818 | D5: ACT5 | E5: 1 | F5: 1 | G5: 1 | H5: 1 | I5: 0 | J5: 0 | K5: 0 | L5: 0 | M5: =E5+I5 -> 1 | N5: =F5+J5 -> 1 | O5: =G5+K5 -> 1 | P5: =H5+L5 -> 1
A6: Alsey Station | B6: Illinois | C6: 7818 | D6: ACT6 | E6: 5 | F6: 4 | G6: 5 | H6: 5 | I6: 0 | J6: 0 | K6: 0 | L6: 0 | M6: =E6+I6 -> 5 | N6: =F6+J6 -> 4 | O6: =G6+K6 -> 5 | P6: =H6+L6 -> 5
A7: Aurora | B7: Illinois | C7: 55279 | D7: AGS01 | E7: 25 | F7: 25 | G7: 25 | H7: 25 | I7: 0 | J7: 0 | K7: 0 | L7: 0 | M7: =E7+I7 -> 25 | N7: =F7+J7 -> 25 | O7: =G7+K7 -> 25 | P7: =H7+L7 -> 25
A8: Aurora | B8: Illinois | C8: 55279 | D8: AGS02 | E8: 18 | F8: 18 | G8: 18 | H8: 18 | I8: 0 | J8: 0 | K8: 0 | L8: 0 | M8: =E8+I8 -> 18 | N8: =F8+J8 -> 18 | O8: =G8+K8 -> 18 | P8: =H8+L8 -> 18
A9: Aurora | B9: Illinois | C9: 55279 | D9: AGS03 | E9: 19 | F9: 19 | G9: 19 | H9: 19 | I9: 0 | J9: 0 | K9: 0 | L9: 0 | M9: =E9+I9 -> 19 | N9: =F9+J9 -> 19 | O9: =G9+K9 -> 19 | P9: =H9+L9 -> 19
A10: Aurora | B10: Illinois | C10: 55279 | D10: AGS04 | E10: 22 | F10: 22 | G10: 22 | H10: 22 | I10: 0 | J10: 0 | K10: 0 | L10: 0 | M10: =E10+I10 -> 22 | N10: =F10+J10 -> 22 | O10: =G10+K10 -> 22 | P10: =H10+L10 -> 22
A11: Aurora | B11: Illinois | C11: 55279 | D11: AGS05 | E11: 15 | F11: 14 | G11: 14 | H11: 14 | I11: 0 | J11: 0 | K11: 0 | L11: 0 | M11: =E11+I11 -> 15 | N11: =F11+J11 -> 14 | O11: =G11+K11 -> 14 | P11: =H11+L11 -> 14
A12: Aurora | B12: Illinois | C12: 55279 | D12: AGS06 | E12: 16 | F12: 14 | G12: 15 | H12: 15 | I12: 0 | J12: 0 | K12: 0 | L12: 0 | M12: =E12+I12 -> 16 | N12: =F12+J12 -> 14 | O12: =G12+K12 -> 15 | P12: =H12+L12 -> 15
A13: Aurora | B13: Illinois | C13: 55279 | D13: AGS07 | E13: 16 | F13: 14 | G13: 15 | H13: 15 | I13: 0 | J13: 0 | K13: 0 | L13: 0 | M13: =E13+I13 -> 16 | N13: =F13+J13 -> 14 | O13: =G13+K13 -> 15 | P13: =H13+L13 -> 15
A14: Aurora | B14: Illinois | C14: 55279 | D14: AGS08 | E14: 15 | F14: 14 | G14: 14 | H14: 14 | I14: 0 | J14: 0 | K14: 0 | L14: 0 | M14: =E14+I14 -> 15 | N14: =F14+J14 -> 14 | O14: =G14+K14 -> 14 | P14: =H14+L14 -> 14
... A60: Interstate | B60: Illinois | C60: 7425 | D60: 1 | E60: 9 | F60: 8 | G60: 9 | H60: 9 | I60: 0 | J60: 0 | K60: 0 | L60: 0 | M60: =E60+I60 -> 9 | N60: =F60+J60 -> 8 | O60: =G60+K60 -> 9 | P60: =H60+L60 -> 9
A61: Joliet 29 | B61: Illinois | C61: 384 | D61: 71 | E61: 89 | F61: 81 | I61: 0 | J61: 0 | K61: 0 | L61: 0 | M61: =E61+I61 -> 89 | N61: =F61+J61 -> 81 | O61: =G61+K61 -> 0 | P61: =H61+L61 -> 0
A62: Joliet 29 | B62: Illinois | C62: 384 | D62: 72 | E62: 85 | F62: 78 | I62: 0 | J62: 0 | K62: 0 | L62: 0 | M62: =E62+I62 -> 85 | N62: =F62+J62 -> 78 | O62: =G62+K62 -> 0 | P62: =H62+L62 -> 0
A63: Joliet 29 | B63: Illinois | C63: 384 | D63: 81 | E63: 80 | F63: 72 | I63: 0 | J63: 0 | K63: 0 | L63: 0 | M63: =E63+I63 -> 80 | N63: =F63+J63 -> 72 | O63: =G63+K63 -> 0 | P63: =H63+L63 -> 0
A64: Joliet 29 | B64: Illinois | C64: 384 | D64: 82 | E64: 86 | F64: 78 | I64: 0 | J64: 0 | K64: 0 | L64: 0 | M64: =E64+I64 -> 86 | N64: =F64+J64 -> 78 | O64: =G64+K64 -> 0 | P64: =H64+L64 -> 0
A65: Joliet 9 | B65: Illinois | C65: 874 | D65: 5 | E65: 7 | F65: 7 | I65: 0 | J65: 0 | K65: 0 | L65: 0 | M65: =E65+I65 -> 7 | N65: =F65+J65 -> 7 | O65: =G65+K65 -> 0 | P65: =H65+L65 -> 0
A66: Kendall Energy Facility | B66: Illinois | C66: 55131 | D66: GTG-1 | E66: 44 | F66: 44 | G66: 44 | H66: 44 | I66: 0 | J66: 0 | K66: 0 | L66: 0 | M66: =E66+I66 -> 44 | N66: =F66+J66 -> 44 | O66: =G66+K66 -> 44 | P66: =H66+L66 -> 44
A67: Kendall Energy Facility | B67: Illinois | C67: 55131 | D67: GTG-2 | E67: 41 | F67: 41 | G67: 41 | H67: 41 | I67: 0 | J67: 0 | K67: 0 | L67: 0 | M67: =E67+I67 -> 41 | N67: =F67+J67 -> 41 | O67: =G67+K67 -> 41 | P67: =H67+L67 -> 41
A68: Kendall Energy Facility | B68: Illinois | C68: 55131 | D68: GTG-3 | E68: 43 | F68: 43 | G68: 43 | H68: 43 | I68: 0 | J68: 0 | K68: 0 | L68: 0 | M68: =E68+I68 -> 43 | N68: =F68+J68 -> 43 | O68: =G68+K68 -> 43 | P68: =H68+L68 -> 43
A69: Kendall Energy Facility | B69: Illinois | C69: 55131 | D69: GTG-4 | E69: 48 | F69: 48 | G69: 48 | H69: 48 | I69: 0 | J69: 0 | K69: 0 | L69: 0 | M69: =E69+I69 -> 48 | N69: =F69+J69 -> 48 | O69: =G69+K69 -> 48 | P69: =H69+L69 -> 48
A70: Kincaid Generating Station | B70: Illinois | C70: 876 | D70: 1 | E70: 341 | F70: 310 | G70: 322 | H70: 322 | I70: 0 | J70: 0 | K70: 0 | L70: 0 | M70: =E70+I70 -> 341 | N70: =F70+J70 -> 310 | O70: =G70+K70 -> 322 | P70: =H70+L70 -> 322
A71: Kincaid Generating Station | B71: Illinois | C71: 876 | D71: 2 | E71: 315 | F71: 315 | G71: 315 | H71: 315 | I71: 0 | J71: 0 | K71: 0 | L71: 0 | M71: =E71+I71 -> 315 | N71: =F71+J71 -> 315 | O71: =G71+K71 -> 315 | P71: =H71+L71 -> 315
A72: Kinmundy Power Plant | B72: Illinois | C72: 55204 | D72: KCTG1 | E72: 3 | F72: 3 | G72: 3 | H72: 3 | I72: 0 | J72: 0 | K72: 0 | L72: 0 | M72: =E72+I72 -> 3 | N72: =F72+J72 -> 3 | O72: =G72+K72 -> 3 | P72: =H72+L72 -> 3
A73: Kinmundy Power Plant | B73: Illinois | C73: 55204 | D73: KCTG2 | E73: 3 | F73: 2 | G73: 2 | H73: 2 | I73: 0 | J73: 0 | K73: 0 | L73: 0 | M73: =E73+I73 -> 3 | N73: =F73+J73 -> 2 | O73: =G73+K73 -> 2 | P73: =H73+L73 -> 2
A74: LSP University Park, LLC | B74: Illinois | C74: 55640 | D74: CT01 | E74: 4 | F74: 4 | G74: 4 | H74: 4 | I74: 0 | J74: 0 | K74: 0 | L74: 0 | M74: =E74+I74 -> 4 | N74: =F74+J74 -> 4 | O74: =G74+K74 -> 4 | P74: =H74+L74 -> 4
A75: LSP University Park, LLC | B75: Illinois | C75: 55640 | D75: CT02 | E75: 4 | F75: 4 | G75: 4 | H75: 4 | I75: 0 | J75: 0 | K75: 0 | L75: 0 | M75: =E75+I75 -> 4 | N75: =F75+J75 -> 4 | O75: =G75+K75 -> 4 | P75: =H75+L75 -> 4
A76: LSP University Park, LLC | B76: Illinois | C76: 55640 | D76: CT03 | E76: 4 | F76: 4 | G76: 4 | H76: 4 | I76: 0 | J76: 0 | K76: 0 | L76: 0 | M76: =E76+I76 -> 4 | N76: =F76+J76 -> 4 | O76: =G76+K76 -> 4 | P76: =H76+L76 -> 4
A77: LSP University Park, LLC | B77: Illinois | C77: 55640 | D77: CT04 | E77: 4 | F77: 4 | G77: 4 | H77: 4 | I77: 0 | J77: 0 | K77: 0 | L77: 0 | M77: =E77+I77 -> 4 | N77: =F77+J77 -> 4 | O77: =G77+K77 -> 4 | P77: =H77+L77 -> 4
... A171: Zion Energy Center | B171: Illinois | C171: 55392 | D171: CT-3 | E171: 23 | F171: 23 | G171: 23 | H171: 23 | I171: 0 | J171: 0 | K171: 0 | L171: 0 | M171: =E171+I171 -> 23 | N171: =F171+J171 -> 23 | O171: =G171+K171 -> 23 | P171: =H171+L171 -> 23
A172: A B Brown Generating Station | B172: Indiana | C172: 6137 | D172: 1 | E172: 220 | F172: 219 | I172: 0 | J172: 0 | K172: 0 | L172: 0 | M172: =E172+I172 -> 220 | N172: =F172+J172 -> 219 | O172: =G172+K172 -> 0 | P172: =H172+L172 -> 0
A173: A B Brown Generating Station | B173: Indiana | C173: 6137 | D173: 2 | E173: 230 | F173: 229 | I173: 0 | J173: 0 | K173: 0 | L173: 0 | M173: =E173+I173 -> 230 | N173: =F173+J173 -> 229 | O173: =G173+K173 -> 0 | P173: =H173+L173 -> 0
A174: A B Brown Generating Station | B174: Indiana | C174: 6137 | D174: 3 | E174: 4 | F174: 4 | G174: 4 | H174: 4 | I174: 0 | J174: 0 | K174: 0 | L174: 0 | M174: =E174+I174 -> 4 | N174: =F174+J174 -> 4 | O174: =G174+K174 -> 4 | P174: =H174+L174 -> 4
A175: A B Brown Generating Station | B175: Indiana | C175: 6137 | D175: 4 | E175: 3 | F175: 3 | G175: 3 | H175: 3 | I175: 0 | J175: 0 | K175: 0 | L175: 0 | M175: =E175+I175 -> 3 | N175: =F175+J175 -> 3 | O175: =G175+K175 -> 3 | P175: =H175+L175 -> 3
A176: Alcoa Allowance Management Inc | B176: Indiana | C176: 6705 | D176: 4 | E176: 291 | F176: 289 | G176: 285 | H176: 285 | I176: 0 | J176: 0 | K176: 0 | L176: 0 | M176: =E176+I176 -> 291 | N176: =F176+J176 -> 289 | O176: =G176+K176 -> 285 | P176: =H176+L176 -> 285
A177: Anderson | B177: Indiana | C177: 7336 | D177: ACT1 | E177: 1 | F177: 1 | G177: 1 | H177: 1 | I177: 0 | J177: 0 | K177: 0 | L177: 0 | M177: =E177+I177 -> 1 | N177: =F177+J177 -> 1 | O177: =G177+K177 -> 1 | P177: =H177+L177 -> 1
A178: Anderson | B178: Indiana | C178: 7336 | D178: ACT2 | E178: 1 | F178: 1 | G178: 1 | H178: 1 | I178: 0 | J178: 0 | K178: 0 | L178: 0 | M178: =E178+I178 -> 1 | N178: =F178+J178 -> 1 | O178: =G178+K178 -> 1 | P178: =H178+L178 -> 1
...

Sheet Underlying Data for FIP
F1: Step 1 | K1: Steps 2 & 3 | N1: Step 4 | Q1: Step 5 | T1: Step 6 | AB1: Step 7 | AG1: Step 8 | AM1: Steps 9 & 10 | AQ1: Data Flags
A2: Plant Name | B2: State | C2: ORIS ID | D2: Boiler ID | E2: CAMD Unit ID | F2: 2017 Ozone Season Heat Input (mmBtu) | G2: 2018 Ozone Season Heat Input (mmBtu) | H2: 2019 Ozone Season Heat Input (mmBtu) | I2: 2020 Ozone Season Heat Input (mmBtu) | J2: 2021 Ozone Season Heat Input (mmBtu) | K2: Unit Level Average of 3 Highest Non-Zero Ozone Season Heat Inputs from 2017 to 2021 (mmBtu) for 2023 | L2: Unit Level Average of 3 Highest Non-Zero Ozone Season Heat Inputs from 2017 to 2021 (mmBtu) for 2024 | M2: Unit Level Average of 3 Highest Non-Zero Ozone Season Heat Inputs from 2017 to 2021 (mmBtu) for 2025 | N2: State Level Summation of Unit Level Three Year Average Ozone Season Heat Input (mmBtu) for 2023 | O2: State Level Summation of Unit Level Three Year Average Ozone Season Heat Input (mmBtu) for 2024 | P2: State Level Summation of Unit Level Three Year Average Ozone Season Heat Input (mmBtu) for 2025 | Q2: Unit 's Percentage Share of State's Ozone Season Heat Input for 2023 | R2: Unit 's Percentage Share of State's Ozone Season Heat Input for 2024 | S2: Unit 's Percentage Share of State's Ozone Season Heat Input for 2025 | T2: Ozone Season NOX Pro-Rated 2023 State Budget for Existing Units (tons) | U2: Ozone Season NOX 2023 State Budget for Existing Units (tons) | V2: Ozone Season NOX 2024 State Budget for Existing Units (tons) | W2: Ozone Season NOX 2025 State Budget for Existing Units (tons) | X2: Tentative Heat Input Based Pro-Rated 2023 Ozone Season NOX Allocation (tons) | Y2: Tentative Heat Input Based 2023 Ozone Season NOX Allocation (tons) | Z2: Tentative Heat Input Based 2024 Ozone Season NOX Allocation (tons) | AA2: Tentative Heat Input Based 2025 Ozone Season NOX Allocation (tons) | AB2: 2017 Ozone Season NOX Emissions (tons) | AC2: 2018 Ozone Season NOX Emissions (tons) | AD2: 2019 Ozone Season NOX Emissions (tons) | AE2: 2020 Ozone Season NOX Emissions (tons) | AF2: 2021 Ozone Season NOX Emissions (tons) | AG2: Ozone Season Historical Maximum Total NOX Emissions (tons) | AH2: 2024 Ozone Season Maximum Controlled Baseline (tons) | AI2: 2025 Ozone Season Maximum Controlled Baseline (tons) | AJ2: 2023 Ozone Season Cap | AK2: 2024 Ozone Season Cap | AL2: 2025 Ozone Season Cap | AM2: Unit Level NOX Ozone Season Allocation Pro-Rated 2023 (tons) | AN2: Unit Level NOX Ozone Season Allocation 2023 (tons) | AO2: Unit Level NOX Ozone Season Allocation 2024 (tons) | AP2: Unit Level NOX Ozone Season Allocation 2025 (tons) | AQ2: Existing Unit or Retired in 2023 | AR2: Existing Unit or Retired in 2024 | AS2: Existing Unit or Retired in 2025 | AT2: Additional (Not ARP or CSAPR) Unit | AU2: Unit Not Subject to State's SIP Authority
A3: Calculation | K3: Average of three highest non-zero values in columns F - J for Operating units | N3: Sum column K values to get State level totals | O3: Sum column L values to get State level totals | P3: Sum column M values to get State level totals | Q3: Column K divided by column N | R3: Column L divided by column O | S3: Column M divided by column P | X3: Column Q x column T | Y3: Column Q x column U | Z3: Column R x column V | AA3: Column S x column W | AG3: Highest value of columns AB - AF | AJ3: Column AG (no Maximum Controlled Baseline in 2023) | AK3: Lowest value of columns AG and AH | AL3: Lowest value of columns AG and AI | AM3: (Lesser of columns AJ and X + reapportionment if X < AJ | AN3: (Lesser of columns AJ and Y + reapportionment if Y < AJ | AO3: (Lesser of columns AK and Z + reapportionment if Z < AK | AP3: (Lesser of columns AL and AA + reapportionment if AA < AL
A4: Alsey Station | B4: Illinois | C4: 7818 | D4: ACT1 | E4: 89336 | F4: 7596.733 | G4: 12482.043 | H4: 19308.501 | I4: 40641.216 | J4: 36594.814 | K4: 32181.51 | L4: 32181.51 | M4: 32181.51 | N4: 2.672575e+08 | O4: 2.5751533e+08 | P4: 2.5751533e+08 | Q4: 0.00012041387 | R4: 0.0001249693 | S4: 0.0001249693 | T4: 7516.4 | U4: 7100.3 | V4: 6958.75 | W4: 6958.75 | X4: 0.90507883 | Y4: 0.85497461 | Z4: 0.86963012 | AA4: 0.86963012 | AB4: 0.778 | AC4: 1.276 | AD4: 2.239 | AE4: 4.952 | AF4: 3.493 | AG4: 4.952 | AJ4: 4.952 | AK4: 4.952 | AL4: 4.952 | AM4: 1 | AN4: 1 | AO4: 1 | AP4: 1 | AQ4: Existing Unit | AR4: Existing Unit | AS4: Existing Unit
A5: Alsey Station | B5: Illinois | C5: 7818 | D5: ACT2 | E5: 89337 | F5: 10992.727 | G5: 13421.704 | H5: 9651.756 | I5: 41226.431 | J5: 26118.731 | K5: 26922.289 | L5: 26922.289 | M5: 26922.289 | N5: 2.672575e+08 | O5: 2.5751533e+08 | P5: 2.5751533e+08 | Q5: 0.00010073539 | R5: 0.00010454635 | S5: 0.00010454635 | T5: 7516.4 | U5: 7100.3 | V5: 6958.75 | W5: 6958.75 | X5: 0.75716749 | Y5: 0.71525149 | Z5: 0.72751194 | AA5: 0.72751194 | AB5: 1.248 | AC5: 1.523 | AD5: 1.089 | AE5: 4.391 | AF5: 2.759 | AG5: 4.391 | AJ5: 4.391 | AK5: 4.391 | AL5: 4.391 | AM5: 1 | AN5: 1 | AO5: 1 | AP5: 1 | AQ5: Existing Unit | AR5: Existing Unit | AS5: Existing Unit
A6: Alsey Station | B6: Illinois | C6: 7818 | D6: ACT5 | E6: 89338 | F6: 7889.278 | G6: 8104.016 | H6: 8605.148 | I6: 26724.927 | J6: 23125.942 | K6: 19485.339 | L6: 19485.339 | M6: 19485.339 | N6: 2.672575e+08 | O6: 2.5751533e+08 | P6: 2.5751533e+08 | Q6: 7.2908483e-05 | R6: 7.5666715e-05 | S6: 7.5666715e-05 | T6: 7516.4 | U6: 7100.3 | V6: 6958.75 | W6: 6958.75 | X6: 0.54800932 | Y6: 0.51767211 | Z6: 0.52654575 | AA6: 0.52654575 | AB6: 1.187 | AC6: 1.244 | AD6: 1.356 | AE6: 4.461 | AF6: 3.382 | AG6: 4.461 | AJ6: 4.461 | AK6: 4.461 | AL6: 4.461 | AM6: 1 | AN6: 1 | AO6: 1 | AP6: 1 | AQ6: Existing Unit | AR6: Existing Unit | AS6: Existing Unit
A7: Alsey Station | B7: Illinois | C7: 7818 | D7: ACT6 | E7: 91126 | F7: 97458.825 | G7: 138068.25 | H7: 62151.13 | I7: 38881.803 | J7: 170360.38 | K7: 135295.82 | L7: 135295.82 | M7: 135295.82 | N7: 2.672575e+08 | O7: 2.5751533e+08 | P7: 2.5751533e+08 | Q7: 0.00050623768 | R7: 0.00052538937 | S7: 0.00052538937 | T7: 7516.4 | U7: 7100.3 | V7: 6958.75 | W7: 6958.75 | X7: 3.8050849 | Y7: 3.5944394 | Z7: 3.6560533 | AA7: 3.6560533 | AB7: 4.074 | AC7: 4.652 | AD7: 2.119 | AE7: 1.209 | AF7: 6.565 | AG7: 6.565 | AJ7: 6.565 | AK7: 6.565 | AL7: 6.565 | AM7: 5 | AN7: 4 | AO7: 5 | AP7: 5 | AQ7: Existing Unit | AR7: Existing Unit | AS7: Existing Unit
A8: Aurora | B8: Illinois | C8: 55279 | D8: AGS01 | E8: 4407 | F8: 455943.43 | G8: 838360.95 | H8: 898978.33 | I8: 1028202.5 | J8: 1234421.6 | K8: 1053867.5 | L8: 1053867.5 | M8: 1053867.5 | N8: 2.672575e+08 | O8: 2.5751533e+08 | P8: 2.5751533e+08 | Q8: 0.0039432663 | R8: 0.0040924457 | S8: 0.0040924457 | T8: 7516.4 | U8: 7100.3 | V8: 6958.75 | W8: 6958.75 | X8: 29.639167 | Y8: 27.998374 | Z8: 28.478306 | AA8: 28.478306 | AB8: 8.827 | AC8: 15.65 | AD8: 19.192 | AE8: 22.151 | AF8: 24.57 | AG8: 24.57 | AJ8: 24.57 | AK8: 24.57 | AL8: 24.57 | AM8: 25 | AN8: 25 | AO8: 25 | AP8: 25 | AQ8: Existing Unit | AR8: Existing Unit | AS8: Existing Unit
A9: Aurora | B9: Illinois | C9: 55279 | D9: AGS02 | E9: 4409 | F9: 422808.78 | G9: 799835.31 | H9: 857675.01 | I9: 1033439.4 | J9: 1100224.9 | K9: 997113.12 | L9: 997113.12 | M9: 997113.12 | N9: 2.672575e+08 | O9: 2.5751533e+08 | P9: 2.5751533e+08 | Q9: 0.0037309079 | R9: 0.0038720535 | S9: 0.0038720535 | T9: 7516.4 | U9: 7100.3 | V9: 6958.75 | W9: 6958.75 | X9: 28.042996 | Y9: 26.490565 | Z9: 26.944652 | AA9: 26.944652 | AB9: 7.277 | AC9: 14.926 | AD9: 15.857 | AE9: 18.169 | AF9: 17.822 | AG9: 18.169 | AJ9: 18.169 | AK9: 18.169 | AL9: 18.169 | AM9: 18 | AN9: 18 | AO9: 18 | AP9: 18 | AQ9: Existing Unit | AR9: Existing Unit | AS9: Existing Unit
A10: Aurora | B10: Illinois | C10: 55279 | D10: AGS03 | E10: 4410 | F10: 360446.4 | G10: 871069.91 | H10: 701353.6 | I10: 788370.4 | J10: 1095314 | K10: 918251.45 | L10: 918251.45 | M10: 918251.45 | N10: 2.672575e+08 | O10: 2.5751533e+08 | P10: 2.5751533e+08 | Q10: 0.0034358304 | R10: 0.0035658128 | S10: 0.0035658128 | T10: 7516.4 | U10: 7100.3 | V10: 6958.75 | W10: 6958.75 | X10: 25.825076 | Y10: 24.395427 | Z10: 24.8136 | AA10: 24.8136 | AB10: 6.279 | AC10: 15.238 | AD10: 13.637 | AE10: 15.996 | AF10: 19.235 | AG10: 19.235 | AJ10: 19.235 | AK10: 19.235 | AL10: 19.235 | AM10: 19 | AN10: 19 | AO10: 19 | AP10: 19 | AQ10: Existing Unit | AR10: Existing Unit | AS10: Existing Unit
A11: Aurora | B11: Illinois | C11: 55279 | D11: AGS04 | E11: 4411 | F11: 341064.7 | G11: 845356.4 | H11: 664544.77 | I11: 933562.36 | J11: 1093911 | K11: 957609.91 | L11: 957609.91 | M11: 957609.91 | N11: 2.672575e+08 | O11: 2.5751533e+08 | P11: 2.5751533e+08 | Q11: 0.0035830984 | R11: 0.0037186521 | S11: 0.0037186521 | T11: 7516.4 | U11: 7100.3 | V11: 6958.75 | W11: 6958.75 | X11: 26.932001 | Y11: 25.441073 | Z11: 25.87717 | AA11: 25.87717 | AB11: 5.845 | AC11: 14.223 | AD11: 11.422 | AE11: 17.461 | AF11: 22.183 | AG11: 22.183 | AJ11: 22.183 | AK11: 22.183 | AL11: 22.183 | AM11: 22 | AN11: 22 | AO11: 22 | AP11: 22 | AQ11: Existing Unit | AR11: Existing Unit | AS11: Existing Unit
A12: Aurora | B12: Illinois | C12: 55279 | D12: AGS05 | E12: 4412 | F12: 245089.33 | G12: 389279.41 | H12: 345703.83 | I12: 457130.61 | J12: 432238.33 | K12: 426216.12 | L12: 426216.12 | M12: 426216.12 | N12: 2.672575e+08 | O12: 2.5751533e+08 | P12: 2.5751533e+08 | Q12: 0.001594777 | R12: 0.0016551097 | S12: 0.0016551097 | T12: 7516.4 | U12: 7100.3 | V12: 6958.75 | W12: 6958.75 | X12: 11.986982 | Y12: 11.323395 | Z12: 11.517495 | AA12: 11.517495 | AB12: 8.869 | AC12: 15.694 | AD12: 15.561 | AE12: 19.283 | AF12: 18.552 | AG12: 19.283 | AJ12: 19.283 | AK12: 19.283 | AL12: 19.283 | AM12: 15 | AN12: 14 | AO12: 14 | AP12: 14 | AQ12: Existing Unit | AR12: Existing Unit | AS12: Existing Unit
A13: Aurora | B13: Illinois | C13: 55279 | D13: AGS06 | E13: 4413 | F13: 252823.53 | G13: 416239.01 | H13: 327503.15 | I13: 464140.03 | J13: 430750.95 | K13: 437043.33 | L13: 437043.33 | M13: 437043.33 | N13: 2.672575e+08 | O13: 2.5751533e+08 | P13: 2.5751533e+08 | Q13: 0.0016352893 | R13: 0.0016971546 | S13: 0.0016971546 | T13: 7516.4 | U13: 7100.3 | V13: 6958.75 | W13: 6958.75 | X13: 12.291489 | Y13: 11.611045 | Z13: 11.810075 | AA13: 11.810075 | AB13: 9.275 | AC13: 17.165 | AD13: 14.595 | AE13: 19.765 | AF13: 17.76 | AG13: 19.765 | AJ13: 19.765 | AK13: 19.765 | AL13: 19.765 | AM13: 16 | AN13: 14 | AO13: 15 | AP13: 15 | AQ13: Existing Unit | AR13: Existing Unit | AS13: Existing Unit
A14: Aurora | B14: Illinois | C14: 55279 | D14: AGS07 | E14: 4414 | F14: 260645.01 | G14: 436858.51 | H14: 380466.19 | I14: 454830.8 | J14: 441858.38 | K14: 444515.9 | L14: 444515.9 | M14: 444515.9 | N14: 2.672575e+08 | O14: 2.5751533e+08 | P14: 2.5751533e+08 | Q14: 0.0016632495 | R14: 0.0017261726 | S14: 0.0017261726 | T14: 7516.4 | U14: 7100.3 | V14: 6958.75 | W14: 6958.75 | X14: 12.501648 | Y14: 11.80957 | Z14: 12.012003 | AA14: 12.012003 | AB14: 10.868 | AC14: 17.712 | AD14: 16.769 | AE14: 18.837 | AF14: 17.65 | AG14: 18.837 | AJ14: 18.837 | AK14: 18.837 | AL14: 18.837 | AM14: 16 | AN14: 14 | AO14: 15 | AP14: 15 | AQ14: Existing Unit | AR14: Existing Unit | AS14: Existing Unit
A15: Aurora | B15: Illinois | C15: 55279 | D15: AGS08 | E15: 4415 | F15: 257425.28 | G15: 389137.51 | H15: 358092.49 | I15: 466207.33 | J15: 397230.84 | K15: 417525.23 | L15: 417525.23 | M15: 417525.23 | N15: 2.672575e+08 | O15: 2.5751533e+08 | P15: 2.5751533e+08 | Q15: 0.0015622582 | R15: 0.0016213607 | S15: 0.0016213607 | T15: 7516.4 | U15: 7100.3 | V15: 6958.75 | W15: 6958.75 | X15: 11.742558 | Y15: 11.092502 | Z15: 11.282644 | AA15: 11.282644 | AB15: 9.914 | AC15: 14.627 | AD15: 16.285 | AE15: 19.574 | AF15: 16.216 | AG15: 19.574 | AJ15: 19.574 | AK15: 19.574 | AL15: 19.574 | AM15: 15 | AN15: 14 | AO15: 14 | AP15: 14 | AQ15: Existing Unit | AR15: Existing Unit | AS15: Existing Unit
... A17: Aurora | B17: Illinois | C17: 55279 | D17: AGS10 | E17: 4408 | F17: 254390.99 | G17: 341772.16 | H17: 385461.23 | I17: 438302.7 | J17: 464776.28 | K17: 429513.4 | L17: 429513.4 | M17: 429513.4 | N17: 2.672575e+08 | O17: 2.5751533e+08 | P17: 2.5751533e+08 | Q17: 0.0016071145 | R17: 0.0016679139 | S17: 0.0016679139 | T17: 7516.4 | U17: 7100.3 | V17: 6958.75 | W17: 6958.75 | X17: 12.079715 | Y17: 11.410995 | Z17: 11.606596 | AA17: 11.606596 | AB17: 9.032 | AC17: 12.859 | AD17: 15.487 | AE17: 17.997 | AF17: 18.096 | AG17: 18.096 | AJ17: 18.096 | AK17: 18.096 | AL17: 18.096 | AM17: 15 | AN17: 14 | AO17: 14 | AP17: 14 | AQ17: Existing Unit | AR17: Existing Unit | AS17: Existing Unit
A18: Baldwin Energy Complex | B18: Illinois | C18: 889 | D18: 1 | E18: 611 | F18: 17067998 | G18: 14495068 | H18: 13165351 | I18: 10675690 | J18: 16875004 | K18: 16146023 | L18: 16146023 | M18: 16146023 | N18: 2.672575e+08 | O18: 2.5751533e+08 | P18: 2.5751533e+08 | Q18: 0.060413733 | R18: 0.06269927 | S18: 0.06269927 | T18: 7516.4 | U18: 7100.3 | V18: 6958.75 | W18: 6958.75 | X18: 454.09378 | Y18: 428.95563 | Z18: 436.30855 | AA18: 436.30855 | AB18: 710.335 | AC18: 619.24 | AD18: 574.874 | AE18: 433.732 | AF18: 390.335 | AG18: 710.335 | AH18: 682.7199 | AI18: 682.7199 | AJ18: 710.335 | AK18: 682.7199 | AL18: 682.7199 | AM18: 576 | AN18: 524 | AO18: 544 | AP18: 544 | AQ18: Existing Unit | AR18: Existing Unit | AS18: Existing Unit
A19: Baldwin Energy Complex | B19: Illinois | C19: 889 | D19: 2 | E19: 612 | F19: 18080345 | G19: 16675005 | H19: 13684320 | I19: 8776372.8 | J19: 16473645 | K19: 17076332 | L19: 17076332 | M19: 17076332 | N19: 2.672575e+08 | O19: 2.5751533e+08 | P19: 2.5751533e+08 | Q19: 0.063894677 | R19: 0.066311903 | S19: 0.066311903 | T19: 7516.4 | U19: 7100.3 | V19: 6958.75 | W19: 6958.75 | X19: 480.25795 | Y19: 453.67137 | Z19: 461.44796 | AA19: 461.44796 | AB19: 747.541 | AC19: 717.369 | AD19: 585.025 | AE19: 345.039 | AF19: 520.511 | AG19: 747.541 | AH19: 723.21381 | AI19: 723.21381 | AJ19: 747.541 | AK19: 723.21381 | AL19: 723.21381 | AM19: 610 | AN19: 554 | AO19: 576 | AP19: 576 | AQ19: Existing Unit | AR19: Existing Unit | AS19: Existing Unit
A20: Calumet Energy Team, LLC | B20: Illinois | C20: 55296 | D20: **1 | E20: 4469 | F20: 125724.08 | G20: 59192.451 | H20: 65627.017 | I20: 77245.227 | J20: 166893.13 | K20: 123287.48 | L20: 123287.48 | M20: 123287.48 | N20: 2.672575e+08 | O20: 2.5751533e+08 | P20: 2.5751533e+08 | Q20: 0.00046130597 | R20: 0.00047875783 | S20: 0.00047875783 | T20: 7516.4 | U20: 7100.3 | V20: 6958.75 | W20: 6958.75 | X20: 3.4673602 | Y20: 3.2754107 | Z20: 3.331556 | AA20: 3.331556 | AB20: 4.924 | AC20: 2.776 | AD20: 3.038 | AE20: 3.612 | AF20: 6.678 | AG20: 6.678 | AJ20: 6.678 | AK20: 6.678 | AL20: 6.678 | AM20: 4 | AN20: 4 | AO20: 4 | AP20: 4 | AQ20: Existing Unit | AR20: Existing Unit | AS20: Existing Unit
A21: Calumet Energy Team, LLC | B21: Illinois | C21: 55296 | D21: **2 | E21: 4470 | F21: 124275.51 | G21: 63460.437 | H21: 52681.33 | I21: 67964.998 | J21: 136120.19 | K21: 109453.57 | L21: 109453.57 | M21: 109453.57 | N21: 2.672575e+08 | O21: 2.5751533e+08 | P21: 2.5751533e+08 | Q21: 0.00040954349 | R21: 0.0004250371 | S21: 0.0004250371 | T21: 7516.4 | U21: 7100.3 | V21: 6958.75 | W21: 6958.75 | X21: 3.0782927 | Y21: 2.9078816 | Z21: 2.9577269 | AA21: 2.9577269 | AB21: 4.99 | AC21: 2.591 | AD21: 2.111 | AE21: 2.893 | AF21: 5.639 | AG21: 5.639 | AJ21: 5.639 | AK21: 5.639 | AL21: 5.639 | AM21: 4 | AN21: 4 | AO21: 4 | AP21: 4 | AQ21: Existing Unit | AR21: Existing Unit | AS21: Existing Unit
A22: Cordova Energy Company | B22: Illinois | C22: 55188 | D22: 1 | E22: 4081 | F22: 96798.281 | G22: 203800.32 | H22: 3802059.2 | I22: 2795798.8 | J22: 4685892.9 | K22: 3761250.3 | L22: 3761250.3 | M22: 3761250.3 | N22: 2.672575e+08 | O22: 2.5751533e+08 | P22: 2.5751533e+08 | Q22: 0.014073507 | R22: 0.014605928 | S22: 0.014605928 | T22: 7516.4 | U22: 7100.3 | V22: 6958.75 | W22: 6958.75 | X22: 105.78211 | Y22: 99.926121 | Z22: 101.639 | AA22: 101.639 | AB22: 0.634 | AC22: 1.011 | AD22: 17.013 | AE22: 18.626 | AF22: 30.757 | AG22: 30.757 | AJ22: 30.757 | AK22: 30.757 | AL22: 30.757 | AM22: 31 | AN22: 31 | AO22: 31 | AP22: 31 | AQ22: Existing Unit | AR22: Existing Unit | AS22: Existing Unit
A23: Cordova Energy Company | B23: Illinois | C23: 55188 | D23: 2 | E23: 4082 | F23: 93581.33 | G23: 206194.65 | H23: 3755718.5 | I23: 2791742.6 | J23: 4838226.1 | K23: 3795229.1 | L23: 3795229.1 | M23: 3795229.1 | N23: 2.672575e+08 | O23: 2.5751533e+08 | P23: 2.5751533e+08 | Q23: 0.014200646 | R23: 0.014737876 | S23: 0.014737876 | T23: 7516.4 | U23: 7100.3 | V23: 6958.75 | W23: 6958.75 | X23: 106.73773 | Y23: 100.82885 | Z23: 102.5572 | AA23: 102.5572 | AB23: 0.6 | AC23: 1.037 | AD23: 17.316 | AE23: 18.242 | AF23: 28.944 | AG23: 28.944 | AJ23: 28.944 | AK23: 28.944 | AL23: 28.944 | AM23: 29 | AN23: 29 | AO23: 29 | AP23: 29 | AQ23: Existing Unit | AR23: Existing Unit | AS23: Existing Unit
A24: Crete Energy Park | B24: Illinois | C24: 55253 | D24: GT1 | E24: 4339 | F24: 102560.04 | G24: 240336.95 | H24: 236496.4 | I24: 77201.013 | J24: 46518.713 | K24: 193131.13 | L24: 193131.13 | M24: 193131.13 | N24: 2.672575e+08 | O24: 2.5751533e+08 | P24: 2.5751533e+08 | Q24: 0.00072264063 | R24: 0.00074997916 | S24: 0.00074997916 | T24: 7516.4 | U24: 7100.3 | V24: 6958.75 | W24: 6958.75 | X24: 5.4316561 | Y24: 5.1309653 | Z24: 5.2189175 | AA24: 5.2189175 | AB24: 1.448 | AC24: 3.386 | AD24: 3.328 | AE24: 1.088 | AF24: 0.647 | AG24: 3.386 | AJ24: 3.386 | AK24: 3.386 | AL24: 3.386 | AM24: 3 | AN24: 3 | AO24: 3 | AP24: 3 | AQ24: Existing Unit | AR24: Existing Unit | AS24: Existing Unit
A25: Crete Energy Park | B25: Illinois | C25: 55253 | D25: GT2 | E25: 4340 | F25: 104681.21 | G25: 305309.13 | H25: 225474.74 | I25: 188215.02 | J25: 87307.239 | K25: 239666.3 | L25: 239666.3 | M25: 239666.3 | N25: 2.672575e+08 | O25: 2.5751533e+08 | P25: 2.5751533e+08 | Q25: 0.00089676173 | R25: 0.0009306875 | S25: 0.0009306875 | T25: 7516.4 | U25: 7100.3 | V25: 6958.75 | W25: 6958.75 | X25: 6.7404198 | Y25: 6.3672773 | Z25: 6.4764216 | AA25: 6.4764216 | AB25: 1.31 | AC25: 3.878 | AD25: 2.861 | AE25: 2.413 | AF25: 1.166 | AG25: 3.878 | AJ25: 3.878 | AK25: 3.878 | AL25: 3.878 | AM25: 4 | AN25: 4 | AO25: 4 | AP25: 4 | AQ25: Existing Unit | AR25: Existing Unit | AS25: Existing Unit
A26: Crete Energy Park | B26: Illinois | C26: 55253 | D26: GT3 | E26: 4341 | F26: 100440.56 | G26: 241291.89 | H26: 192234.7 | I26: 168069.52 | J26: 79922.536 | K26: 200532.03 | L26: 200532.03 | M26: 200532.03 | N26: 2.672575e+08 | O26: 2.5751533e+08 | P26: 2.5751533e+08 | Q26: 0.00075033267 | R26: 0.00077871883 | S26: 0.00077871883 | T26: 7516.4 | U26: 7100.3 | V26: 6958.75 | W26: 6958.75 | X26: 5.6398005 | Y26: 5.3275871 | Z26: 5.4189096 | AA26: 5.4189096 | AB26: 1.329 | AC26: 3.262 | AD26: 2.598 | AE26: 2.295 | AF26: 1.852 | AG26: 3.262 | AJ26: 3.262 | AK26: 3.262 | AL26: 3.262 | AM26: 3 | AN26: 3 | AO26: 3 | AP26: 3 | AQ26: Existing Unit | AR26: Existing Unit | AS26: Existing Unit
A27: Crete Energy Park | B27: Illinois | C27: 55253 | D27: GT4 | E27: 4342 | F27: 78886.203 | G27: 241036.56 | H27: 183624.3 | I27: 61801.523 | J27: 91678.882 | K27: 172113.25 | L27: 172113.25 | M27: 172113.25 | N27: 2.672575e+08 | O27: 2.5751533e+08 | P27: 2.5751533e+08 | Q27: 0.00064399782 | R27: 0.00066836117 | S27: 0.00066836117 | T27: 7516.4 | U27: 7100.3 | V27: 6958.75 | W27: 6958.75 | X27: 4.8405452 | Y27: 4.5725777 | Z27: 4.6509583 | AA27: 4.6509583 | AB27: 1.013 | AC27: 3.133 | AD27: 2.38 | AE27: 0.792 | AF27: 1.289 | AG27: 3.133 | AJ27: 3.133 | AK27: 3.133 | AL27: 3.133 | AM27: 3 | AN27: 3 | AO27: 3 | AP27: 3 | AQ27: Existing Unit | AR27: Existing Unit | AS27: Existing Unit
A28: Dallman | B28: Illinois | C28: 963 | D28: 33 | E28: 647 | F28: 3552061.6 | G28: 3493742.7 | H28: 3559904.1 | I28: 12023.857 | J28: 1192332.9 | N28: 2.672575e+08 | O28: 2.5751533e+08 | P28: 2.5751533e+08 | T28: 7516.4 | U28: 7100.3 | V28: 6958.75 | W28: 6958.75 | AB28: 118.252 | AC28: 111.906 | AD28: 120.81 | AE28: 0.259 | AF28: 37.283 | AG28: 120.81 | AH28: 142.39616 | AI28: 142.39616 | AJ28: 120.81 | AK28: 120.81 | AL28: 120.81 | AQ28: Retired | AR28: Retired | AS28: Retired
A29: Dallman | B29: Illinois | C29: 963 | D29: 4 | E29: 89910 | F29: 6223468.5 | G29: 6008522.5 | H29: 5035892.7 | I29: 3696688.2 | J29: 5506421.4 | K29: 5912804.1 | L29: 5912804.1 | M29: 5912804.1 | N29: 2.672575e+08 | O29: 2.5751533e+08 | P29: 2.5751533e+08 | Q29: 0.022123997 | R29: 0.022960979 | S29: 0.022960979 | T29: 7516.4 | U29: 7100.3 | V29: 6958.75 | W29: 6958.75 | X29: 166.29281 | Y29: 157.08702 | Z29: 159.77971 | AA29: 159.77971 | AB29: 193.413 | AC29: 179.654 | AD29: 146.011 | AE29: 114.891 | AF29: 159.101 | AG29: 193.413 | AH29: 248.93874 | AI29: 248.93874 | AJ29: 193.413 | AK29: 193.413 | AL29: 193.413 | AM29: 193 | AN29: 192 | AO29: 193 | AP29: 193 | AQ29: Existing Unit | AR29: Existing Unit | AS29: Existing Unit
A30: E D Edwards | B30: Illinois | C30: 856 | D30: 2 | E30: 569 | F30: 6405886.9 | G30: 7416046.1 | H30: 6473650.8 | I30: 6264544.6 | J30: 5920388.1 | N30: 2.672575e+08 | O30: 2.5751533e+08 | P30: 2.5751533e+08 | T30: 7516.4 | U30: 7100.3 | V30: 6958.75 | W30: 6958.75 | AB30: 656.443 | AC30: 748.8 | AD30: 673.039 | AE30: 648.717 | AF30: 597.402 | AG30: 748.8 | AJ30: 748.8 | AK30: 748.8 | AL30: 748.8 | AQ30: Retired | AR30: Retired | AS30: Retired
A31: E D Edwards | B31: Illinois | C31: 856 | D31: 3 | E31: 570 | F31: 7237202.6 | G31: 6002894.4 | H31: 8689438.4 | I31: 7420811.7 | J31: 7074864.6 | N31: 2.672575e+08 | O31: 2.5751533e+08 | P31: 2.5751533e+08 | T31: 7516.4 | U31: 7100.3 | V31: 6958.75 | W31: 6958.75 | AB31: 323.381 | AC31: 306.722 | AD31: 380.478 | AE31: 387.077 | AF31: 431.526 | AG31: 431.526 | AH31: 347.57754 | AI31: 347.57754 | AJ31: 431.526 | AK31: 347.57754 | AL31: 347.57754 | AQ31: Retired | AR31: Retired | AS31: Retired
A32: Elgin Energy Center, LLC | B32: Illinois | C32: 55438 | D32: CT01 | E32: 4751 | F32: 367317.31 | G32: 378130.89 | H32: 600330.83 | I32: 946170.29 | J32: 968046.65 | K32: 838182.59 | L32: 838182.59 | M32: 838182.59 | N32: 2.672575e+08 | O32: 2.5751533e+08 | P32: 2.5751533e+08 | Q32: 0.003136236 | R32: 0.0032548843 | S32: 0.0032548843 | T32: 7516.4 | U32: 7100.3 | V32: 6958.75 | W32: 6958.75 | X32: 23.573204 | Y32: 22.268216 | Z32: 22.649926 | AA32: 22.649926 | AB32: 11.831 | AC32: 11.634 | AD32: 17.325 | AE32: 25.815 | AF32: 25.709 | AG32: 25.815 | AJ32: 25.815 | AK32: 25.815 | AL32: 25.815 | AM32: 26 | AN32: 26 | AO32: 26 | AP32: 26 | AQ32: Existing Unit | AR32: Existing Unit | AS32: Existing Unit
A33: Elgin Energy Center, LLC | B33: Illinois | C33: 55438 | D33: CT02 | E33: 4752 | F33: 383103.23 | G33: 661920.43 | H33: 599756.36 | I33: 1153533.9 | J33: 1179407.8 | K33: 998287.36 | L33: 998287.36 | M33: 998287.36 | N33: 2.672575e+08 | O33: 2.5751533e+08 | P33: 2.5751533e+08 | Q33: 0.0037353016 | R33: 0.0038766133 | S33: 0.0038766133 | T33: 7516.4 | U33: 7100.3 | V33: 6958.75 | W33: 6958.75 | X33: 28.076021 | Y33: 26.521762 | Z33: 26.976383 | AA33: 26.976383 | AB33: 11.77 | AC33: 17.904 | AD33: 16.785 | AE33: 34.083 | AF33: 34.448 | AG33: 34.448 | AJ33: 34.448 | AK33: 34.448 | AL33: 34.448 | AM33: 34 | AN33: 32 | AO33: 34 | AP33: 34 | AQ33: Existing Unit | AR33: Existing Unit | AS33: Existing Unit
A34: Elgin Energy Center, LLC | B34: Illinois | C34: 55438 | D34: CT03 | E34: 4753 | F34: 327384.28 | G34: 372751.59 | H34: 576148.29 | I34: 929526.21 | J34: 816914.84 | K34: 774196.45 | L34: 774196.45 | M34: 774196.45 | N34: 2.672575e+08 | O34: 2.5751533e+08 | P34: 2.5751533e+08 | Q34: 0.0028968184 | R34: 0.0030064092 | S34: 0.0030064092 | T34: 7516.4 | U34: 7100.3 | V34: 6958.75 | W34: 6958.75 | X34: 21.773646 | Y34: 20.56828 | Z34: 20.92085 | AA34: 20.92085 | AB34: 11.489 | AC34: 12.013 | AD34: 17.047 | AE34: 25.083 | AF34: 21.621 | AG34: 25.083 | AJ34: 25.083 | AK34: 25.083 | AL34: 25.083 | AM34: 25 | AN34: 25 | AO34: 25 | AP34: 25 | AQ34: Existing Unit | AR34: Existing Unit | AS34: Existing Unit
A35: Elgin Energy Center, LLC | B35: Illinois | C35: 55438 | D35: CT04 | E35: 4754 | F35: 247309.2 | G35: 675119.56 | H35: 578742.05 | I35: 827403.96 | J35: 1199754.3 | K35: 900759.26 | L35: 900759.26 | M35: 900759.26 | N35: 2.672575e+08 | O35: 2.5751533e+08 | P35: 2.5751533e+08 | Q35: 0.0033703797 | R35: 0.003497886 | S35: 0.003497886 | T35: 7516.4 | U35: 7100.3 | V35: 6958.75 | W35: 6958.75 | X35: 25.333122 | Y35: 23.930707 | Z35: 24.340914 | AA35: 24.340914 | AB35: 8.249 | AC35: 19.658 | AD35: 16.617 | AE35: 25.876 | AF35: 37.49 | AG35: 37.49 | AJ35: 37.49 | AK35: 37.49 | AL35: 37.49 | AM35: 32 | AN35: 29 | AO35: 30 | AP35: 30 | AQ35: Existing Unit | AR35: Existing Unit | AS35: Existing Unit
A36: Elwood Energy Facility | B36: Illinois | C36: 55199 | D36: 1 | E36: 4110 | F36: 355500.58 | G36: 319134.19 | H36: 132810.63 | I36: 367773 | J36: 932102.59 | K36: 551792.06 | L36: 551792.06 | M36: 551792.06 | N36: 2.672575e+08 | O36: 2.5751533e+08 | P36: 2.5751533e+08 | Q36: 0.0020646457 | R36: 0.0021427542 | S36: 0.0021427542 | T36: 7516.4 | U36: 7100.3 | V36: 6958.75 | W36: 6958.75 | X36: 15.518703 | Y36: 14.659604 | Z36: 14.910891 | AA36: 14.910891 | AB36: 7.121 | AC36: 7.62 | AD36: 3.47 | AE36: 8.076 | AF36: 15.7 | AG36: 15.7 | AJ36: 15.7 | AK36: 15.7 | AL36: 15.7 | AM36: 16 | AN36: 16 | AO36: 16 | AP36: 16 | AQ36: Existing Unit | AR36: Existing Unit | AS36: Existing Unit
A37: Elwood Energy Facility | B37: Illinois | C37: 55199 | D37: 2 | E37: 4116 | F37: 298152.32 | G37: 303713.89 | H37: 145313.98 | I37: 298058.25 | J37: 408425.96 | K37: 336764.06 | L37: 336764.06 | M37: 336764.06 | N37: 2.672575e+08 | O37: 2.5751533e+08 | P37: 2.5751533e+08 | Q37: 0.0012600734 | R37: 0.0013077437 | S37: 0.0013077437 | T37: 7516.4 | U37: 7100.3 | V37: 6958.75 | W37: 6958.75 | X37: 9.4712154 | Y37: 8.9468989 | Z37: 9.1002617 | AA37: 9.1002617 | AB37: 5.315 | AC37: 5.925 | AD37: 3.601 | AE37: 5.454 | AF37: 7.773 | AG37: 7.773 | AJ37: 7.773 | AK37: 7.773 | AL37: 7.773 | AM37: 8 | AN37: 8 | AO37: 8 | AP37: 8 | AQ37: Existing Unit | AR37: Existing Unit | AS37: Existing Unit
A38: Elwood Energy Facility | B38: Illinois | C38: 55199 | D38: 3 | E38: 4117 | F38: 258953.39 | G38: 345847.49 | H38: 146734.44 | I38: 538020.66 | J38: 610600.71 | K38: 498156.29 | L38: 498156.29 | M38: 498156.29 | N38: 2.672575e+08 | O38: 2.5751533e+08 | P38: 2.5751533e+08 | Q38: 0.0018639563 | R38: 0.0019344724 | S38: 0.0019344724 | T38: 7516.4 | U38: 7100.3 | V38: 6958.75 | W38: 6958.75 | X38: 14.010241 | Y38: 13.234649 | Z38: 13.46151 | AA38: 13.46151 | AB38: 4.523 | AC38: 7.239 | AD38: 3.353 | AE38: 10.264 | AF38: 11.341 | AG38: 11.341 | AJ38: 11.341 | AK38: 11.341 | AL38: 11.341 | AM38: 11 | AN38: 11 | AO38: 11 | AP38: 11 | AQ38: Existing Unit | AR38: Existing Unit | AS38: Existing Unit
A39: Elwood Energy Facility | B39: Illinois | C39: 55199 | D39: 4 | E39: 4118 | F39: 215370.54 | G39: 292350.22 | H39: 141545.71 | I39: 403559.44 | J39: 516118 | K39: 404009.22 | L39: 404009.22 | M39: 404009.22 | N39: 2.672575e+08 | O39: 2.5751533e+08 | P39: 2.5751533e+08 | Q39: 0.0015116853 | R39: 0.0015688745 | S39: 0.0015688745 | T39: 7516.4 | U39: 7100.3 | V39: 6958.75 | W39: 6958.75 | X39: 11.362431 | Y39: 10.733419 | Z39: 10.917405 | AA39: 10.917405 | AB39: 4.019 | AC39: 5.812 | AD39: 2.998 | AE39: 7.291 | AF39: 8.807 | AG39: 8.807 | AJ39: 8.807 | AK39: 8.807 | AL39: 8.807 | AM39: 9 | AN39: 9 | AO39: 9 | AP39: 9 | AQ39: Existing Unit | AR39: Existing Unit | AS39: Existing Unit
A40: Elwood Energy Facility | B40: Illinois | C40: 55199 | D40: 5 | E40: 4119 | F40: 237111.51 | G40: 357194.2 | H40: 285687.13 | I40: 342111.16 | J40: 919885.03 | K40: 539730.13 | L40: 539730.13 | M40: 539730.13 | N40: 2.672575e+08 | O40: 2.5751533e+08 | P40: 2.5751533e+08 | Q40: 0.0020195135 | R40: 0.0020959146 | S40: 0.0020959146 | T40: 7516.4 | U40: 7100.3 | V40: 6958.75 | W40: 6958.75 | X40: 15.179471 | Y40: 14.339152 | Z40: 14.584945 | AA40: 14.584945 | AB40: 4.63 | AC40: 6.711 | AD40: 5.635 | AE40: 5.51 | AF40: 15.194 | AG40: 15.194 | AJ40: 15.194 | AK40: 15.194 | AL40: 15.194 | AM40: 15 | AN40: 15 | AO40: 15 | AP40: 15 | AQ40: Existing Unit | AR40: Existing Unit | AS40: Existing Unit
A41: Elwood Energy Facility | B41: Illinois | C41: 55199 | D41: 6 | E41: 4120 | F41: 160333.83 | G41: 410725 | H41: 235367.21 | I41: 445944.54 | J41: 484943.34 | K41: 447204.29 | L41: 447204.29 | M41: 447204.29 | N41: 2.672575e+08 | O41: 2.5751533e+08 | P41: 2.5751533e+08 | Q41: 0.0016733087 | R41: 0.0017366123 | S41: 0.0017366123 | T41: 7516.4 | U41: 7100.3 | V41: 6958.75 | W41: 6958.75 | X41: 12.577257 | Y41: 11.880994 | Z41: 12.084651 | AA41: 12.084651 | AB41: 2.776 | AC41: 7.232 | AD41: 4.306 | AE41: 7.581 | AF41: 7.606 | AG41: 7.606 | AJ41: 7.606 | AK41: 7.606 | AL41: 7.606 | AM41: 8 | AN41: 8 | AO41: 8 | AP41: 8 | AQ41: Existing Unit | AR41: Existing Unit | AS41: Existing Unit
...

Sheet Underlying Data for IN SIP
F1: Step 1 | N1: Steps 2 & 3 | Q1: Step 4 | T1: Step 5 | W1: Step 6 | AE1: Step 7 | AM1: Step 8 | AN1: Steps 9 & 10 | AR1: Data Flags
A2: Plant Name | B2: State | C2: ORIS ID | D2: Boiler ID | E2: CAMD Unit ID | F2: 2014 Ozone Season Heat Input (mmBtu) | G2: 2015 Ozone Season Heat Input (mmBtu) | H2: 2016 Ozone Season Heat Input (mmBtu) | I2: 2017 Ozone Season Heat Input (mmBtu) | J2: 2018 Ozone Season Heat Input (mmBtu) | K2: 2019 Ozone Season Heat Input (mmBtu) | L2: 2020 Ozone Season Heat Input (mmBtu) | M2: 2021 Ozone Season Heat Input (mmBtu) | N2: Unit Level Average of 3 Highest Non-Zero Ozone Season Heat Inputs from 2014 to 2021 (mmBtu) for 2023 | O2: Unit Level Average of 3 Highest Non-Zero Ozone Season Heat Inputs from 2014 to 2021 (mmBtu) for 2024 | P2: Unit Level Average of 3 Highest Non-Zero Ozone Season Heat Inputs from 2014 to 2021 (mmBtu) for 2025 | Q2: State Level Summation of Unit Level Three Year Average Ozone Season Heat Input (mmBtu) for 2023 | R2: State Level Summation of Unit Level Three Year Average Ozone Season Heat Input (mmBtu) for 2024 | S2: State Level Summation of Unit Level Three Year Average Ozone Season Heat Input (mmBtu) for 2025 | T2: Unit 's Percentage Share of State's Ozone Season Heat Input for 2023 | U2: Unit 's Percentage Share of State's Ozone Season Heat Input for 2024 | V2: Unit 's Percentage Share of State's Ozone Season Heat Input for 2025 | W2: Ozone Season NOX Pro-Rated 2023 State Budget for Existing Units (tons) | X2: Ozone Season NOX 2023 State Budget for Existing Units (tons) | Y2: Ozone Season NOX 2024 State Budget for Existing Units (tons) | Z2: Ozone Season NOX 2025 State Budget for Existing Units (tons) | AA2: Tentative Heat Input Based Pro-Rated 2023 Ozone Season NOX Allocation (tons) | AB2: Tentative Heat Input Based 2023 Ozone Season NOX Allocation (tons) | AC2: Tentative Heat Input Based 2024 Ozone Season NOX Allocation (tons) | AD2: Tentative Heat Input Based 2025 Ozone Season NOX Allocation (tons) | AE2: 2014 Ozone Season NOX Emissions (tons) | AF2: 2015 Ozone Season NOX Emissions (tons) | AG2: 2016 Ozone Season NOX Emissions (tons) | AH2: 2017 Ozone Season NOX Emissions (tons) | AI2: 2018 Ozone Season NOX Emissions (tons) | AJ2: 2019 Ozone Season NOX Emissions (tons) | AK2: 2020 Ozone Season NOX Emissions (tons) | AL2: 2021 Ozone Season NOX Emissions (tons) | AM2: Ozone Season NOX Maximum Historic Baseline (tons) | AN2: Unit Level NOX Ozone Season Allocation Pro-Rated 2023 (tons) | AO2: Unit Level NOX Ozone Season Allocation 2023 (tons) | AP2: Unit Level NOX Ozone Season Allocation 2024 (tons) | AQ2: Unit Level NOX Ozone Season Allocation 2025 (tons) | AR2: Existing Unit or Retired in 2023 | AS2: Existing Unit or Retired in 2024 | AT2: Existing Unit or Retired in 2025 | AU2: Additional (Not ARP or CSAPR) Unit | AV2: Unit Not Subject to State's SIP Authority
A3: Calculation | N3: Average of three highest non-zero values in columns F - M for Operating units | Q3: Sum column N values to get State level totals | R3: Sum column O values to get State level totals | S3: Sum column P values to get State level totals | T3: Column N divided by column Q | U3: Column O divided by column R | V3: Column P divided by column S | AA3: Column T x column W | AB3: Column T x column X | AC3: Column U x column Y | AD3: Column V x column Z | AM3: Highest value of columns AE - AL | AN3: (Lesser of columns AM and AA + reapportionment if AA < AM | AO3: (Lesser of columns AM and AB + reapportionment if AB < AM | AP3: (Lesser of columns AM and AC + reapportionment if AC < AM | AQ3: (Lesser of columns AM and AD + reapportionment if AD < AM
A4: A B Brown Generating Station | B4: Indiana | C4: 6137 | D4: 1 | E4: 2797 | F4: 7053263.3 | G4: 6895730.3 | H4: 1807145.5 | I4: 6384876.6 | J4: 7111879.9 | K4: 6903261.2 | L4: 5945199.6 | M4: 7730889.3 | N4: 7298677.5 | Q4: 4.6289385e+08 | R4: 4.3537531e+08 | S4: 4.3537531e+08 | T4: 0.015767497 | W4: 11884.5 | X4: 11818 | Y4: 10842.35 | Z4: 10842.35 | AA4: 187.38882 | AB4: 186.34028 | AE4: 617.056 | AF4: 539.497 | AG4: 150.651 | AH4: 268.582 | AI4: 423.875 | AJ4: 537.264 | AK4: 524.714 | AL4: 319.118 | AM4: 617.056 | AN4: 220 | AO4: 219 | AR4: Existing Unit | AS4: Retired | AT4: Retired
A5: A B Brown Generating Station | B5: Indiana | C5: 6137 | D5: 2 | E5: 2798 | F5: 7370109.6 | G5: 6954522.5 | H5: 7293656 | I5: 5424699.3 | J5: 6103665.3 | K5: 7423412.7 | L5: 6498848.2 | M5: 8138493.3 | N5: 7644005.2 | Q5: 4.6289385e+08 | R5: 4.3537531e+08 | S5: 4.3537531e+08 | T5: 0.016513516 | W5: 11884.5 | X5: 11818 | Y5: 10842.35 | Z5: 10842.35 | AA5: 196.25489 | AB5: 195.15674 | AE5: 606.719 | AF5: 465.394 | AG5: 452.136 | AH5: 312.828 | AI5: 405.72 | AJ5: 639.363 | AK5: 523.063 | AL5: 316.996 | AM5: 639.363 | AN5: 230 | AO5: 229 | AR5: Existing Unit | AS5: Retired | AT5: Retired
A6: A B Brown Generating Station | B6: Indiana | C6: 6137 | D6: 3 | E6: 2799 | F6: 8486.434 | G6: 35007.995 | H6: 110571.88 | I6: 80993.397 | J6: 103834.52 | K6: 53804.299 | L6: 82884.803 | M6: 157920.77 | N6: 124109.06 | O6: 124109.06 | P6: 124109.06 | Q6: 4.6289385e+08 | R6: 4.3537531e+08 | S6: 4.3537531e+08 | T6: 0.00026811558 | U6: 0.00028506223 | V6: 0.00028506223 | W6: 11884.5 | X6: 11818 | Y6: 10842.35 | Z6: 10842.35 | AA6: 3.1864197 | AB6: 3.16859 | AC6: 3.0907445 | AD6: 3.0907445 | AE6: 0.912 | AF6: 3.763 | AG6: 11.887 | AH6: 8.176 | AI6: 8.773 | AJ6: 4.202 | AK6: 6.54 | AL6: 12.492 | AM6: 12.492 | AN6: 4 | AO6: 4 | AP6: 4 | AQ6: 4 | AR6: Existing Unit | AS6: Existing Unit | AT6: Existing Unit
A7: A B Brown Generating Station | B7: Indiana | C7: 6137 | D7: 4 | E7: 10210 | F7: 44277.625 | G7: 172001.64 | H7: 142833.92 | I7: 133713.01 | J7: 228708.55 | K7: 66035.704 | L7: 84828.308 | M7: 180183.23 | N7: 193631.14 | O7: 193631.14 | P7: 193631.14 | Q7: 4.6289385e+08 | R7: 4.3537531e+08 | S7: 4.3537531e+08 | T7: 0.00041830571 | U7: 0.00044474534 | V7: 0.00044474534 | W7: 11884.5 | X7: 11818 | Y7: 10842.35 | Z7: 10842.35 | AA7: 4.9713542 | AB7: 4.9435369 | AC7: 4.8220847 | AD7: 4.8220847 | AE7: 0.468 | AF7: 1.708 | AG7: 1.778 | AH7: 1.854 | AI7: 3.051 | AJ7: 0.889 | AK7: 0.705 | AL7: 1.721 | AM7: 3.051 | AN7: 3 | AO7: 3 | AP7: 3 | AQ7: 3 | AR7: Existing Unit | AS7: Existing Unit | AT7: Existing Unit
A8: Alcoa Allowance Management Inc | B8: Indiana | C8: 6705 | D8: 4 | E8: 2905 | F8: 9257162.8 | G8: 9132100.4 | H8: 9835483.9 | I8: 8161099.4 | J8: 9244813 | K8: 6807159.2 | L8: 9867546.1 | M8: 7942112.1 | N8: 9653397.6 | O8: 9653397.6 | P8: 9653397.6 | Q8: 4.6289385e+08 | R8: 4.3537531e+08 | S8: 4.3537531e+08 | T8: 0.020854452 | U8: 0.022172589 | V8: 0.022172589 | W8: 11884.5 | X8: 11818 | Y8: 10842.35 | Z8: 10842.35 | AA8: 247.84474 | AB8: 246.45791 | AC8: 240.40297 | AD8: 240.40297 | AE8: 1320.436 | AF8: 1306.954 | AG8: 1452.104 | AH8: 327.611 | AI8: 1162.299 | AJ8: 1118.507 | AK8: 1514.147 | AL8: 644.855 | AM8: 1514.147 | AN8: 291 | AO8: 289 | AP8: 285 | AQ8: 285 | AR8: Existing Unit | AS8: Existing Unit | AT8: Existing Unit
A9: Anderson | B9: Indiana | C9: 7336 | D9: ACT1 | E9: 3099 | F9: 3478.525 | G9: 34421.4 | H9: 17279.475 | I9: 16034.475 | J9: 17657.6 | K9: 4708.15 | L9: 18436.503 | M9: 34119.454 | N9: 28992.452 | O9: 28992.452 | P9: 28992.452 | Q9: 4.6289385e+08 | R9: 4.3537531e+08 | S9: 4.3537531e+08 | T9: 6.2633047e-05 | U9: 6.6591862e-05 | V9: 6.6591862e-05 | W9: 11884.5 | X9: 11818 | Y9: 10842.35 | Z9: 10842.35 | AA9: 0.74436245 | AB9: 0.74019735 | AC9: 0.72201228 | AD9: 0.72201228 | AE9: 0.23 | AF9: 2.299 | AG9: 1.148 | AH9: 1.071 | AI9: 1.164 | AJ9: 0.289 | AK9: 1.204 | AL9: 2.199 | AM9: 2.299 | AN9: 1 | AO9: 1 | AP9: 1 | AQ9: 1 | AR9: Existing Unit | AS9: Existing Unit | AT9: Existing Unit
A10: Anderson | B10: Indiana | C10: 7336 | D10: ACT2 | E10: 3100 | F10: 3295.175 | G10: 33263.475 | H10: 17197.8 | I10: 13853.725 | J10: 17161.25 | K10: 4568.4 | L10: 25526.576 | M10: 35537.429 | N10: 31442.493 | O10: 31442.493 | P10: 31442.493 | Q10: 4.6289385e+08 | R10: 4.3537531e+08 | S10: 4.3537531e+08 | T10: 6.7925926e-05 | U10: 7.2219285e-05 | V10: 7.2219285e-05 | W10: 11884.5 | X10: 11818 | Y10: 10842.35 | Z10: 10842.35 | AA10: 0.80726567 | AB10: 0.80274859 | AC10: 0.78302677 | AD10: 0.78302677 | AE10: 0.213 | AF10: 2.118 | AG10: 1.112 | AH10: 0.89 | AI10: 1.09 | AJ10: 0.311 | AK10: 1.853 | AL10: 2.519 | AM10: 2.519 | AN10: 1 | AO10: 1 | AP10: 1 | AQ10: 1 | AR10: Existing Unit | AS10: Existing Unit | AT10: Existing Unit
A11: Anderson | B11: Indiana | C11: 7336 | D11: ACT3 | E11: 9578 | F11: 8142.95 | G11: 65519.2 | H11: 45366.425 | I11: 29291.375 | J11: 82775.425 | K11: 15031.5 | L11: 68089.936 | M11: 131156.85 | N11: 94007.405 | O11: 94007.405 | P11: 94007.405 | Q11: 4.6289385e+08 | R11: 4.3537531e+08 | S11: 4.3537531e+08 | T11: 0.00020308631 | U11: 0.00021592268 | V11: 0.00021592268 | W11: 11884.5 | X11: 11818 | Y11: 10842.35 | Z11: 10842.35 | AA11: 2.4135793 | AB11: 2.400074 | AC11: 2.3411093 | AD11: 2.3411093 | AE11: 0.134 | AF11: 1.034 | AG11: 0.74 | AH11: 0.475 | AI11: 1.835 | AJ11: 0.256 | AK11: 1.157 | AL11: 2.191 | AM11: 2.191 | AN11: 2 | AO11: 2 | AP11: 2 | AQ11: 2 | AR11: Existing Unit | AS11: Existing Unit | AT11: Existing Unit
A12: Cayuga | B12: Indiana | C12: 1001 | D12: 1 | E12: 706 | F12: 13270828 | G12: 14180006 | H12: 10363170 | I12: 14794651 | J12: 10055334 | K12: 10369735 | L12: 12925230 | M12: 12612484 | N12: 14081828 | O12: 14081828 | P12: 14081828 | Q12: 4.6289385e+08 | R12: 4.3537531e+08 | S12: 4.3537531e+08 | T12: 0.03042129 | U12: 0.032344113 | V12: 0.032344113 | W12: 11884.5 | X12: 11818 | Y12: 10842.35 | Z12: 10842.35 | AA12: 361.54182 | AB12: 359.51881 | AC12: 350.6862 | AD12: 350.6862 | AE12: 2282.018 | AF12: 2655.464 | AG12: 1690.323 | AH12: 624.929 | AI12: 740.155 | AJ12: 426.565 | AK12: 645.806 | AL12: 420.369 | AM12: 2655.464 | AN12: 424 | AO12: 422 | AP12: 415 | AQ12: 415 | AR12: Existing Unit | AS12: Existing Unit | AT12: Existing Unit
A13: Cayuga | B13: Indiana | C13: 1001 | D13: 2 | E13: 707 | F13: 10751160 | G13: 10536757 | H13: 15407920 | I13: 11057752 | J13: 13730374 | K13: 6136971.8 | L13: 8429380.8 | M13: 12414303 | N13: 13850866 | O13: 13850866 | P13: 13850866 | Q13: 4.6289385e+08 | R13: 4.3537531e+08 | S13: 4.3537531e+08 | T13: 0.029922337 | U13: 0.031813622 | V13: 0.031813622 | W13: 11884.5 | X13: 11818 | Y13: 10842.35 | Z13: 10842.35 | AA13: 355.61201 | AB13: 353.62217 | AC13: 344.93443 | AD13: 344.93443 | AE13: 1751.593 | AF13: 1705.812 | AG13: 2319.778 | AH13: 498.174 | AI13: 596.325 | AJ13: 306.134 | AK13: 457.751 | AL13: 434.597 | AM13: 2319.778 | AN13: 417 | AO13: 415 | AP13: 409 | AQ13: 409 | AR13: Existing Unit | AS13: Existing Unit | AT13: Existing Unit
