Workbook
Name CEMID: OFFSET(Lists!$M$2,0,0,SUMPRODUCT(--(Lists!$M$2:$M$101<>"")),1)
Name CompanyRecord: OFFSET(Lists!$H$2,0,0,SUMPRODUCT(--(Lists!$H$2:$H$11<>"")),1)
Name DeviationCauses: Lists!$P$16:$P$21
Name EmissionLimits: Lists!$P$34:$P$53
Name EWPDeviations: Lists!$P$34:$P$53
Name IDandSH: OFFSET(Lists!$Z$2,0,0,SUMPRODUCT(--(Lists!$Z$2:$Z$100<>"")),1)
Name IDSHCMS: OFFSET(Lists!$BJ$2,0,0,SUMPRODUCT(--(Lists!$BJ$2:$BJ$478<>"")),1)
Name Periods: Lists!$P$28:$P$31
Name ShortHand: OFFSET(Lists!$E$2,0,0,SUMPRODUCT(--(Lists!$E$2:$E$500<>"")),1)
Name states: Lists!$AP$2:$AP$57
Name UnitID: OFFSET(Lists!$C$2,0,0,SUMPRODUCT(--(Lists!$C$2:$C$500<>"")),1)
Name Yes_No: Lists!$P$24:$P$25

Sheet Lists
A1: Rank | B1: Name | C1: Unitlist | D1: Column1 | E1: ShorthandName | F1: Column2 | G1: Column1 | H1: Companylist | I1: Column3 | K1: Rank | L1: Cem | M1: CEMName | N1: Column1 | P1: CMSCauseList | R1: Limits | T1: Column5 | U1: RecordID | V1: Source | W1: Time | X1: IDandSH1 | Y1: IDandSH2 | Z1: IDandSH3 | AA1: ProcessedID | AB1: ProcessedSH | AC1: Hours | AE1: Column5 | AF1: Facility | AG1: Source | AH1: Limit | AI1: Unique | AJ1: Column4 | AK1: Column42 | AL1: Column43 | AM1: Column432 | AP1: states | AR1: Column5 | AS1: Facility | AT1: Source | AU1: Limit | AV1: Unique | AW1: Column4 | AX1: Column42 | AY1: Column43 | AZ1: Column432 | BC1: Column5 | BD1: RecordID | BE1: Source | BF1: CMSID | BG1: Time | BH1: IDandSH1 | BI1: IDandSH2 | BJ1: IDandSH3 | BK1: ProcessedID | BL1: ProcessedSH | BM1: ProcessedCMS
A2: =+IF(D2="","",MAX(A1:A$1)+1) | B2: =IF(Affected_Source!C24="","",Affected_Source!C24) | C2: =+IFERROR(INDEX(B$2:B$501,MATCH(ROW()-ROW($C$1),A$2:A$501,0)),"") | D2: =IF(COUNTIF(B$2:B2,B2)=1,B2,"") | E2: =IF(Affected_Source!D24="","",Affected_Source!D24) | F2: =+IF(I2="","",MAX(F1:F$1)+1) | G2: =+IF(Company_Information!B24="","",Company_Information!B24) | H2: =+IFERROR(INDEX(G$2:G$501,MATCH(ROW()-ROW($H$1),F$2:F$501,0)),"") | I2: =IF(COUNTIF(G$2:G2,G2)=1,G2,"") | K2: =+IF(N2="","",MAX(K1:K$1)+1) | L2: =IF(CMS_Identification!E24="","",CMS_Identification!E24) | M2: =+IFERROR(INDEX(L$2:L$501,MATCH(ROW()-ROW($M$1),K$2:K$501,0)),"") | N2: =IF(COUNTIF(L$2:L2,L2)=1,L2,"") | P2: Monitoring Equipment Malfunctions | R2: Particulate Matter | T2: =+IF(Y2="","",MAX(T1:T$1)+1) | U2: =IF(Affected_Source!B24="","",Affected_Source!B24) | V2: =IF(Affected_Source!D24="","",Affected_Source!D24) | W2: =IF(Affected_Source!E24="","",Affected_Source!E24) | X2: =U2&V2 | Y2: =IF(COUNTIF(X$2:X2,X2)=1,X2,"") | Z2: =AA2&" "&AB2 | AA2: =+IFERROR(INDEX(U$2:U$955,MATCH(ROW()-ROW($AA$1),T$2:T$955,0)),"") | AB2: =+IFERROR(INDEX(V$2:V$955,MATCH(ROW()-ROW($AA$1),T$2:T$955,0)),"") | AC2: =+IFERROR(INDEX(W$2:W$955,MATCH(ROW()-ROW($AA$1),T$2:T$955,0)),"") | AE2: =+IF(AJ2="","",MAX(AE1:AE$1)+1) | AF2: =IF(CMS_Inoperative_OoC!B24="","",CMS_Inoperative_OoC!B24) | AG2: =IF(CMS_Inoperative_OoC!C24="","",CMS_Inoperative_OoC!C24) | AH2: =IF(CMS_Inoperative_OoC!D24="","",CMS_Inoperative_OoC!D24) | AI2: =AF2&AG2&AH2 | AJ2: =IF(COUNTIF(AI$2:AI2,AI2)=1,AI2,"") | AK2: =+IFERROR(INDEX(AF$2:AF$955,MATCH(ROW()-ROW(IE$1),AE$2:AE$955,0)),"") | AL2: =+IFERROR(INDEX(AG$2:AG$955,MATCH(ROW()-ROW(AJ$1),AE$2:AE$955,0)),"") | AM2: =+IFERROR(INDEX(AH$2:AH$955,MATCH(ROW()-ROW(AJ$1),AE$2:AE$955,0)),"") | AN2: =IF(AM2="","",VLOOKUP(AK2&AL2,$Y$2:$AC$478,5,FALSE)) | AP2: AK | AR2: =+IF(AW2="","",MAX(AR1:AR$1)+1) | AS2: =IF(Limit_Deviation_Detail!B24="","",Limit_Deviation_Detail!B24) | AT2: =IF(Limit_Deviation_Detail!C24="","",Limit_Deviation_Detail!C24) | AU2: =IF(Limit_Deviation_Detail!F24="","",Limit_Deviation_Detail!F24) | AV2: =AS2&AT2&AU2 | AW2: =IF(COUNTIF(AV$2:AV2,AV2)=1,AV2,"") | AX2: =+IFERROR(INDEX(AS$2:AS$955,MATCH(ROW()-ROW(IQ$1),AR$2:AR$955,0)),"") | AY2: =+IFERROR(INDEX(AT$2:AT$955,MATCH(ROW()-ROW(AW$1),AR$2:AR$955,0)),"") | AZ2: =+IFERROR(INDEX(AU$2:AU$955,MATCH(ROW()-ROW(AW$1),AR$2:AR$955,0)),"") | BA2: =IF(AZ2="","",VLOOKUP(AX2&AY2,$Y$2:$AC$478,5,FALSE)) | BC2: =+IF(BI2="","",MAX(BC1:BC$1)+1) | BD2: =IF(CMS_Identification!B24="","",CMS_Identification!B24) | BE2: =IF(CMS_Identification!C24="","",CMS_Identification!C24) | BF2: =IF(CMS_Identification!E24="","",CMS_Identification!E24) | BG2: =IF(Affected_Source!AL24="","",Affected_Source!AL24) | BH2: =BD2&BE2&BF2 | BI2: =IF(COUNTIF(BH$2:BH2,BH2)=1,BH2,"") | BJ2: =BK2&" "&BL2&" "&BM2 | BK2: =+IFERROR(INDEX(BD$2:BD$955,MATCH(ROW()-ROW($BJ$1),BC$2:BC$955,0)),"") | BL2: =+IFERROR(INDEX(BE$2:BE$955,MATCH(ROW()-ROW($BJ$1),BC$2:BC$955,0)),"") | BM2: =+IFERROR(INDEX(BF$2:BF$955,MATCH(ROW()-ROW($BJ$1),BC$2:BC$955,0)),"")
A3: =+IF(D3="","",MAX(A$1:A2)+1) | B3: =IF(Affected_Source!C25="","",Affected_Source!C25) | C3: =+IFERROR(INDEX(B$2:B$501,MATCH(ROW()-ROW($C$1),A$2:A$501,0)),"") | D3: =IF(COUNTIF(B$2:B3,B3)=1,B3,"") | E3: =IF(Affected_Source!D25="","",Affected_Source!D25) | F3: =+IF(I3="","",MAX(F$1:F2)+1) | G3: =+IF(Company_Information!B25="","",Company_Information!B25) | H3: =+IFERROR(INDEX(G$2:G$501,MATCH(ROW()-ROW($H$1),F$2:F$501,0)),"") | I3: =IF(COUNTIF(G$2:G3,G3)=1,G3,"") | K3: =+IF(N3="","",MAX(K$1:K2)+1) | L3: =IF(CMS_Identification!E25="","",CMS_Identification!E25) | M3: =+IFERROR(INDEX(L$2:L$501,MATCH(ROW()-ROW($M$1),K$2:K$501,0)),"") | N3: =IF(COUNTIF(L$2:L3,L3)=1,L3,"") | P3: Nonmonitoring Equipment Malfunctions | R3: Opacity | T3: =+IF(Y3="","",MAX(T$1:T2)+1) | U3: =IF(Affected_Source!B25="","",Affected_Source!B25) | V3: =IF(Affected_Source!D25="","",Affected_Source!D25) | W3: =IF(Affected_Source!E25="","",Affected_Source!E25) | X3: =U3&V3 | Y3: =IF(COUNTIF(X$2:X3,X3)=1,X3,"") | Z3: =AA3&" "&AB3 | AA3: =+IFERROR(INDEX(U$2:U$955,MATCH(ROW()-ROW($AA$1),T$2:T$955,0)),"") | AB3: =+IFERROR(INDEX(V$2:V$955,MATCH(ROW()-ROW($AA$1),T$2:T$955,0)),"") | AC3: =+IFERROR(INDEX(W$2:W$955,MATCH(ROW()-ROW($AA$1),U$2:U$955,0)),"") | AE3: =+IF(AJ3="","",MAX(AE$1:AE2)+1) | AF3: =IF(CMS_Inoperative_OoC!B25="","",CMS_Inoperative_OoC!B25) | AG3: =IF(CMS_Inoperative_OoC!C25="","",CMS_Inoperative_OoC!C25) | AH3: =IF(CMS_Inoperative_OoC!D25="","",CMS_Inoperative_OoC!D25) | AI3: =AF3&AG3&AH3 | AJ3: =IF(COUNTIF(AI$2:AI3,AI3)=1,AI3,"") | AK3: =+IFERROR(INDEX(AF$2:AF$955,MATCH(ROW()-ROW(IE$1),AE$2:AE$955,0)),"") | AL3: =+IFERROR(INDEX(AG$2:AG$955,MATCH(ROW()-ROW(AJ$1),AE$2:AE$955,0)),"") | AM3: =+IFERROR(INDEX(AH$2:AH$955,MATCH(ROW()-ROW(AJ$1),AE$2:AE$955,0)),"") | AN3: =IF(AM3="","",VLOOKUP(AK3&AL3,$Y$2:$AC$478,5,FALSE)) | AP3: AL | AR3: =+IF(AW3="","",MAX(AR$1:AR2)+1) | AS3: =IF(Limit_Deviation_Detail!B25="","",Limit_Deviation_Detail!B25) | AT3: =IF(Limit_Deviation_Detail!C25="","",Limit_Deviation_Detail!C25) | AU3: =IF(Limit_Deviation_Detail!F25="","",Limit_Deviation_Detail!F25) | AV3: =AS3&AT3&AU3 | AW3: =IF(COUNTIF(AV$2:AV3,AV3)=1,AV3,"") | AX3: =+IFERROR(INDEX(AS$2:AS$955,MATCH(ROW()-ROW(IQ$1),AR$2:AR$955,0)),"") | AY3: =+IFERROR(INDEX(AT$2:AT$955,MATCH(ROW()-ROW(AW$1),AR$2:AR$955,0)),"") | AZ3: =+IFERROR(INDEX(AU$2:AU$955,MATCH(ROW()-ROW(AW$1),AR$2:AR$955,0)),"") | BA3: =IF(AZ3="","",VLOOKUP(AX3&AY3,$Y$2:$AC$478,5,FALSE)) | BC3: =+IF(BI3="","",MAX(BC$1:BC2)+1) | BD3: =IF(CMS_Identification!B25="","",CMS_Identification!B25) | BE3: =IF(CMS_Identification!C25="","",CMS_Identification!C25) | BF3: =IF(CMS_Identification!E25="","",CMS_Identification!E25) | BG3: =IF(Affected_Source!AL25="","",Affected_Source!AL25) | BH3: =BD3&BE3&BF3 | BI3: =IF(COUNTIF(BH$2:BH3,BH3)=1,BH3,"") | BJ3: =BK3&" "&BL3&" "&BM3 | BK3: =+IFERROR(INDEX(BD$2:BD$955,MATCH(ROW()-ROW($BJ$1),BC$2:BC$955,0)),"") | BL3: =+IFERROR(INDEX(BE$2:BE$955,MATCH(ROW()-ROW($BJ$1),BC$2:BC$955,0)),"") | BM3: =+IFERROR(INDEX(BF$2:BF$955,MATCH(ROW()-ROW($BJ$1),BC$2:BC$955,0)),"")
A4: =+IF(D4="","",MAX(A$1:A3)+1) | B4: =IF(Affected_Source!C26="","",Affected_Source!C26) | C4: =+IFERROR(INDEX(B$2:B$501,MATCH(ROW()-ROW($C$1),A$2:A$501,0)),"") | D4: =IF(COUNTIF(B$2:B4,B4)=1,B4,"") | E4: =IF(Affected_Source!D26="","",Affected_Source!D26) | F4: =+IF(I4="","",MAX(F$1:F3)+1) | G4: =+IF(Company_Information!B26="","",Company_Information!B26) | H4: =+IFERROR(INDEX(G$2:G$501,MATCH(ROW()-ROW($H$1),F$2:F$501,0)),"") | I4: =IF(COUNTIF(G$2:G4,G4)=1,G4,"") | K4: =+IF(N4="","",MAX(K$1:K3)+1) | L4: =IF(CMS_Identification!E26="","",CMS_Identification!E26) | M4: =+IFERROR(INDEX(L$2:L$501,MATCH(ROW()-ROW($M$1),K$2:K$501,0)),"") | N4: =IF(COUNTIF(L$2:L4,L4)=1,L4,"") | P4: Quality Assurance/Quality Control Calibrations | R4: Scrubber pressure drop | T4: =+IF(Y4="","",MAX(T$1:T3)+1) | U4: =IF(Affected_Source!B26="","",Affected_Source!B26) | V4: =IF(Affected_Source!D26="","",Affected_Source!D26) | W4: =IF(Affected_Source!E26="","",Affected_Source!E26) | X4: =U4&V4 | Y4: =IF(COUNTIF(X$2:X4,X4)=1,X4,"") | Z4: =AA4&" "&AB4 | AA4: =+IFERROR(INDEX(U$2:U$955,MATCH(ROW()-ROW($AA$1),T$2:T$955,0)),"") | AB4: =+IFERROR(INDEX(V$2:V$955,MATCH(ROW()-ROW($AA$1),T$2:T$955,0)),"") | AC4: =+IFERROR(INDEX(W$2:W$955,MATCH(ROW()-ROW($AA$1),U$2:U$955,0)),"") | AE4: =+IF(AJ4="","",MAX(AE$1:AE3)+1) | AF4: =IF(CMS_Inoperative_OoC!B26="","",CMS_Inoperative_OoC!B26) | AG4: =IF(CMS_Inoperative_OoC!C26="","",CMS_Inoperative_OoC!C26) | AH4: =IF(CMS_Inoperative_OoC!D26="","",CMS_Inoperative_OoC!D26) | AI4: =AF4&AG4&AH4 | AJ4: =IF(COUNTIF(AI$2:AI4,AI4)=1,AI4,"") | AK4: =+IFERROR(INDEX(AF$2:AF$955,MATCH(ROW()-ROW(IE$1),AE$2:AE$955,0)),"") | AL4: =+IFERROR(INDEX(AG$2:AG$955,MATCH(ROW()-ROW(AJ$1),AE$2:AE$955,0)),"") | AM4: =+IFERROR(INDEX(AH$2:AH$955,MATCH(ROW()-ROW(AJ$1),AE$2:AE$955,0)),"") | AN4: =IF(AM4="","",VLOOKUP(AK4&AL4,$Y$2:$AC$478,5,FALSE)) | AP4: AR | AR4: =+IF(AW4="","",MAX(AR$1:AR3)+1) | AS4: =IF(Limit_Deviation_Detail!B26="","",Limit_Deviation_Detail!B26) | AT4: =IF(Limit_Deviation_Detail!C26="","",Limit_Deviation_Detail!C26) | AU4: =IF(Limit_Deviation_Detail!F26="","",Limit_Deviation_Detail!F26) | AV4: =AS4&AT4&AU4 | AW4: =IF(COUNTIF(AV$2:AV4,AV4)=1,AV4,"") | AX4: =+IFERROR(INDEX(AS$2:AS$955,MATCH(ROW()-ROW(IQ$1),AR$2:AR$955,0)),"") | AY4: =+IFERROR(INDEX(AT$2:AT$955,MATCH(ROW()-ROW(AW$1),AR$2:AR$955,0)),"") | AZ4: =+IFERROR(INDEX(AU$2:AU$955,MATCH(ROW()-ROW(AW$1),AR$2:AR$955,0)),"") | BA4: =IF(AZ4="","",VLOOKUP(AX4&AY4,$Y$2:$AC$478,5,FALSE)) | BC4: =+IF(BI4="","",MAX(BC$1:BC3)+1) | BD4: =IF(CMS_Identification!B26="","",CMS_Identification!B26) | BE4: =IF(CMS_Identification!C26="","",CMS_Identification!C26) | BF4: =IF(CMS_Identification!E26="","",CMS_Identification!E26) | BG4: =IF(Affected_Source!AL26="","",Affected_Source!AL26) | BH4: =BD4&BE4&BF4 | BI4: =IF(COUNTIF(BH$2:BH4,BH4)=1,BH4,"") | BJ4: =BK4&" "&BL4&" "&BM4 | BK4: =+IFERROR(INDEX(BD$2:BD$955,MATCH(ROW()-ROW($BJ$1),BC$2:BC$955,0)),"") | BL4: =+IFERROR(INDEX(BE$2:BE$955,MATCH(ROW()-ROW($BJ$1),BC$2:BC$955,0)),"") | BM4: =+IFERROR(INDEX(BF$2:BF$955,MATCH(ROW()-ROW($BJ$1),BC$2:BC$955,0)),"")
A5: =+IF(D5="","",MAX(A$1:A4)+1) | B5: =IF(Affected_Source!C27="","",Affected_Source!C27) | C5: =+IFERROR(INDEX(B$2:B$501,MATCH(ROW()-ROW($C$1),A$2:A$501,0)),"") | D5: =IF(COUNTIF(B$2:B5,B5)=1,B5,"") | E5: =IF(Affected_Source!D27="","",Affected_Source!D27) | F5: =+IF(I5="","",MAX(F$1:F4)+1) | G5: =+IF(Company_Information!B27="","",Company_Information!B27) | H5: =+IFERROR(INDEX(G$2:G$501,MATCH(ROW()-ROW($H$1),F$2:F$501,0)),"") | I5: =IF(COUNTIF(G$2:G5,G5)=1,G5,"") | K5: =+IF(N5="","",MAX(K$1:K4)+1) | L5: =IF(CMS_Identification!E27="","",CMS_Identification!E27) | M5: =+IFERROR(INDEX(L$2:L$501,MATCH(ROW()-ROW($M$1),K$2:K$501,0)),"") | N5: =IF(COUNTIF(L$2:L5,L5)=1,L5,"") | P5: Other Known Causes | R5: Scrubber liquid flow rate | T5: =+IF(Y5="","",MAX(T$1:T4)+1) | U5: =IF(Affected_Source!B27="","",Affected_Source!B27) | V5: =IF(Affected_Source!D27="","",Affected_Source!D27) | W5: =IF(Affected_Source!E27="","",Affected_Source!E27) | X5: =U5&V5 | Y5: =IF(COUNTIF(X$2:X5,X5)=1,X5,"") | Z5: =AA5&" "&AB5 | AA5: =+IFERROR(INDEX(U$2:U$955,MATCH(ROW()-ROW($AA$1),T$2:T$955,0)),"") | AB5: =+IFERROR(INDEX(V$2:V$955,MATCH(ROW()-ROW($AA$1),T$2:T$955,0)),"") | AC5: =+IFERROR(INDEX(W$2:W$955,MATCH(ROW()-ROW($AA$1),U$2:U$955,0)),"") | AE5: =+IF(AJ5="","",MAX(AE$1:AE4)+1) | AF5: =IF(CMS_Inoperative_OoC!B27="","",CMS_Inoperative_OoC!B27) | AG5: =IF(CMS_Inoperative_OoC!C27="","",CMS_Inoperative_OoC!C27) | AH5: =IF(CMS_Inoperative_OoC!D27="","",CMS_Inoperative_OoC!D27) | AI5: =AF5&AG5&AH5 | AJ5: =IF(COUNTIF(AI$2:AI5,AI5)=1,AI5,"") | AK5: =+IFERROR(INDEX(AF$2:AF$955,MATCH(ROW()-ROW(IE$1),AE$2:AE$955,0)),"") | AL5: =+IFERROR(INDEX(AG$2:AG$955,MATCH(ROW()-ROW(AJ$1),AE$2:AE$955,0)),"") | AM5: =+IFERROR(INDEX(AH$2:AH$955,MATCH(ROW()-ROW(AJ$1),AE$2:AE$955,0)),"") | AN5: =IF(AM5="","",VLOOKUP(AK5&AL5,$Y$2:$AC$478,5,FALSE)) | AP5: AS | AR5: =+IF(AW5="","",MAX(AR$1:AR4)+1) | AS5: =IF(Limit_Deviation_Detail!B27="","",Limit_Deviation_Detail!B27) | AT5: =IF(Limit_Deviation_Detail!C27="","",Limit_Deviation_Detail!C27) | AU5: =IF(Limit_Deviation_Detail!F27="","",Limit_Deviation_Detail!F27) | AV5: =AS5&AT5&AU5 | AW5: =IF(COUNTIF(AV$2:AV5,AV5)=1,AV5,"") | AX5: =+IFERROR(INDEX(AS$2:AS$955,MATCH(ROW()-ROW(IQ$1),AR$2:AR$955,0)),"") | AY5: =+IFERROR(INDEX(AT$2:AT$955,MATCH(ROW()-ROW(AW$1),AR$2:AR$955,0)),"") | AZ5: =+IFERROR(INDEX(AU$2:AU$955,MATCH(ROW()-ROW(AW$1),AR$2:AR$955,0)),"") | BA5: =IF(AZ5="","",VLOOKUP(AX5&AY5,$Y$2:$AC$478,5,FALSE)) | BC5: =+IF(BI5="","",MAX(BC$1:BC4)+1) | BD5: =IF(CMS_Identification!B27="","",CMS_Identification!B27) | BE5: =IF(CMS_Identification!C27="","",CMS_Identification!C27) | BF5: =IF(CMS_Identification!E27="","",CMS_Identification!E27) | BG5: =IF(Affected_Source!AL27="","",Affected_Source!AL27) | BH5: =BD5&BE5&BF5 | BI5: =IF(COUNTIF(BH$2:BH5,BH5)=1,BH5,"") | BJ5: =BK5&" "&BL5&" "&BM5 | BK5: =+IFERROR(INDEX(BD$2:BD$955,MATCH(ROW()-ROW($BJ$1),BC$2:BC$955,0)),"") | BL5: =+IFERROR(INDEX(BE$2:BE$955,MATCH(ROW()-ROW($BJ$1),BC$2:BC$955,0)),"") | BM5: =+IFERROR(INDEX(BF$2:BF$955,MATCH(ROW()-ROW($BJ$1),BC$2:BC$955,0)),"")
A6: =+IF(D6="","",MAX(A$1:A5)+1) | B6: =IF(Affected_Source!C28="","",Affected_Source!C28) | C6: =+IFERROR(INDEX(B$2:B$501,MATCH(ROW()-ROW($C$1),A$2:A$501,0)),"") | D6: =IF(COUNTIF(B$2:B6,B6)=1,B6,"") | E6: =IF(Affected_Source!D28="","",Affected_Source!D28) | F6: =+IF(I6="","",MAX(F$1:F5)+1) | G6: =+IF(Company_Information!B28="","",Company_Information!B28) | H6: =+IFERROR(INDEX(G$2:G$501,MATCH(ROW()-ROW($H$1),F$2:F$501,0)),"") | I6: =IF(COUNTIF(G$2:G6,G6)=1,G6,"") | K6: =+IF(N6="","",MAX(K$1:K5)+1) | L6: =IF(CMS_Identification!E28="","",CMS_Identification!E28) | M6: =+IFERROR(INDEX(L$2:L$501,MATCH(ROW()-ROW($M$1),K$2:K$501,0)),"") | N6: =IF(COUNTIF(L$2:L6,L6)=1,L6,"") | P6: Unknown Causes | R6: Operation of capture system | T6: =+IF(Y6="","",MAX(T$1:T5)+1) | U6: =IF(Affected_Source!B28="","",Affected_Source!B28) | V6: =IF(Affected_Source!D28="","",Affected_Source!D28) | W6: =IF(Affected_Source!E28="","",Affected_Source!E28) | X6: =U6&V6 | Y6: =IF(COUNTIF(X$2:X6,X6)=1,X6,"") | Z6: =AA6&" "&AB6 | AA6: =+IFERROR(INDEX(U$2:U$955,MATCH(ROW()-ROW($AA$1),T$2:T$955,0)),"") | AB6: =+IFERROR(INDEX(V$2:V$955,MATCH(ROW()-ROW($AA$1),T$2:T$955,0)),"") | AC6: =+IFERROR(INDEX(W$2:W$955,MATCH(ROW()-ROW($AA$1),U$2:U$955,0)),"") | AE6: =+IF(AJ6="","",MAX(AE$1:AE5)+1) | AF6: =IF(CMS_Inoperative_OoC!B28="","",CMS_Inoperative_OoC!B28) | AG6: =IF(CMS_Inoperative_OoC!C28="","",CMS_Inoperative_OoC!C28) | AH6: =IF(CMS_Inoperative_OoC!D28="","",CMS_Inoperative_OoC!D28) | AI6: =AF6&AG6&AH6 | AJ6: =IF(COUNTIF(AI$2:AI6,AI6)=1,AI6,"") | AK6: =+IFERROR(INDEX(AF$2:AF$955,MATCH(ROW()-ROW(IE$1),AE$2:AE$955,0)),"") | AL6: =+IFERROR(INDEX(AG$2:AG$955,MATCH(ROW()-ROW(AJ$1),AE$2:AE$955,0)),"") | AM6: =+IFERROR(INDEX(AH$2:AH$955,MATCH(ROW()-ROW(AJ$1),AE$2:AE$955,0)),"") | AN6: =IF(AM6="","",VLOOKUP(AK6&AL6,$Y$2:$AC$478,5,FALSE)) | AP6: AZ | AR6: =+IF(AW6="","",MAX(AR$1:AR5)+1) | AS6: =IF(Limit_Deviation_Detail!B28="","",Limit_Deviation_Detail!B28) | AT6: =IF(Limit_Deviation_Detail!C28="","",Limit_Deviation_Detail!C28) | AU6: =IF(Limit_Deviation_Detail!F28="","",Limit_Deviation_Detail!F28) | AV6: =AS6&AT6&AU6 | AW6: =IF(COUNTIF(AV$2:AV6,AV6)=1,AV6,"") | AX6: =+IFERROR(INDEX(AS$2:AS$955,MATCH(ROW()-ROW(IQ$1),AR$2:AR$955,0)),"") | AY6: =+IFERROR(INDEX(AT$2:AT$955,MATCH(ROW()-ROW(AW$1),AR$2:AR$955,0)),"") | AZ6: =+IFERROR(INDEX(AU$2:AU$955,MATCH(ROW()-ROW(AW$1),AR$2:AR$955,0)),"") | BA6: =IF(AZ6="","",VLOOKUP(AX6&AY6,$Y$2:$AC$478,5,FALSE)) | BC6: =+IF(BI6="","",MAX(BC$1:BC5)+1) | BD6: =IF(CMS_Identification!B28="","",CMS_Identification!B28) | BE6: =IF(CMS_Identification!C28="","",CMS_Identification!C28) | BF6: =IF(CMS_Identification!E28="","",CMS_Identification!E28) | BG6: =IF(Affected_Source!AL28="","",Affected_Source!AL28) | BH6: =BD6&BE6&BF6 | BI6: =IF(COUNTIF(BH$2:BH6,BH6)=1,BH6,"") | BJ6: =BK6&" "&BL6&" "&BM6 | BK6: =+IFERROR(INDEX(BD$2:BD$955,MATCH(ROW()-ROW($BJ$1),BC$2:BC$955,0)),"") | BL6: =+IFERROR(INDEX(BE$2:BE$955,MATCH(ROW()-ROW($BJ$1),BC$2:BC$955,0)),"") | BM6: =+IFERROR(INDEX(BF$2:BF$955,MATCH(ROW()-ROW($BJ$1),BC$2:BC$955,0)),"")
A7: =+IF(D7="","",MAX(A$1:A6)+1) | B7: =IF(Affected_Source!C29="","",Affected_Source!C29) | C7: =+IFERROR(INDEX(B$2:B$501,MATCH(ROW()-ROW($C$1),A$2:A$501,0)),"") | D7: =IF(COUNTIF(B$2:B7,B7)=1,B7,"") | E7: =IF(Affected_Source!D29="","",Affected_Source!D29) | F7: =+IF(I7="","",MAX(F$1:F6)+1) | G7: =+IF(Company_Information!B29="","",Company_Information!B29) | H7: =+IFERROR(INDEX(G$2:G$501,MATCH(ROW()-ROW($H$1),F$2:F$501,0)),"") | I7: =IF(COUNTIF(G$2:G7,G7)=1,G7,"") | K7: =+IF(N7="","",MAX(K$1:K6)+1) | L7: =IF(CMS_Identification!E29="","",CMS_Identification!E29) | M7: =+IFERROR(INDEX(L$2:L$501,MATCH(ROW()-ROW($M$1),K$2:K$501,0)),"") | N7: =IF(COUNTIF(L$2:L7,L7)=1,L7,"") | R7: SSM meet work practices in §63.7090(c) | T7: =+IF(Y7="","",MAX(T$1:T6)+1) | U7: =IF(Affected_Source!B29="","",Affected_Source!B29) | V7: =IF(Affected_Source!D29="","",Affected_Source!D29) | W7: =IF(Affected_Source!E29="","",Affected_Source!E29) | X7: =U7&V7 | Y7: =IF(COUNTIF(X$2:X7,X7)=1,X7,"") | Z7: =AA7&" "&AB7 | AA7: =+IFERROR(INDEX(U$2:U$955,MATCH(ROW()-ROW($AA$1),T$2:T$955,0)),"") | AB7: =+IFERROR(INDEX(V$2:V$955,MATCH(ROW()-ROW($AA$1),T$2:T$955,0)),"") | AC7: =+IFERROR(INDEX(W$2:W$955,MATCH(ROW()-ROW($AA$1),U$2:U$955,0)),"") | AE7: =+IF(AJ7="","",MAX(AE$1:AE6)+1) | AF7: =IF(CMS_Inoperative_OoC!B29="","",CMS_Inoperative_OoC!B29) | AG7: =IF(CMS_Inoperative_OoC!C29="","",CMS_Inoperative_OoC!C29) | AH7: =IF(CMS_Inoperative_OoC!D29="","",CMS_Inoperative_OoC!D29) | AI7: =AF7&AG7&AH7 | AJ7: =IF(COUNTIF(AI$2:AI7,AI7)=1,AI7,"") | AK7: =+IFERROR(INDEX(AF$2:AF$955,MATCH(ROW()-ROW(IE$1),AE$2:AE$955,0)),"") | AL7: =+IFERROR(INDEX(AG$2:AG$955,MATCH(ROW()-ROW(AJ$1),AE$2:AE$955,0)),"") | AM7: =+IFERROR(INDEX(AH$2:AH$955,MATCH(ROW()-ROW(AJ$1),AE$2:AE$955,0)),"") | AN7: =IF(AM7="","",VLOOKUP(AK7&AL7,$Y$2:$AC$478,5,FALSE)) | AP7: CA | AR7: =+IF(AW7="","",MAX(AR$1:AR6)+1) | AS7: =IF(Limit_Deviation_Detail!B29="","",Limit_Deviation_Detail!B29) | AT7: =IF(Limit_Deviation_Detail!C29="","",Limit_Deviation_Detail!C29) | AU7: =IF(Limit_Deviation_Detail!F29="","",Limit_Deviation_Detail!F29) | AV7: =AS7&AT7&AU7 | AW7: =IF(COUNTIF(AV$2:AV7,AV7)=1,AV7,"") | AX7: =+IFERROR(INDEX(AS$2:AS$955,MATCH(ROW()-ROW(IQ$1),AR$2:AR$955,0)),"") | AY7: =+IFERROR(INDEX(AT$2:AT$955,MATCH(ROW()-ROW(AW$1),AR$2:AR$955,0)),"") | AZ7: =+IFERROR(INDEX(AU$2:AU$955,MATCH(ROW()-ROW(AW$1),AR$2:AR$955,0)),"") | BA7: =IF(AZ7="","",VLOOKUP(AX7&AY7,$Y$2:$AC$478,5,FALSE)) | BC7: =+IF(BI7="","",MAX(BC$1:BC6)+1) | BD7: =IF(CMS_Identification!B29="","",CMS_Identification!B29) | BE7: =IF(CMS_Identification!C29="","",CMS_Identification!C29) | BF7: =IF(CMS_Identification!E29="","",CMS_Identification!E29) | BG7: =IF(Affected_Source!AL29="","",Affected_Source!AL29) | BH7: =BD7&BE7&BF7 | BI7: =IF(COUNTIF(BH$2:BH7,BH7)=1,BH7,"") | BJ7: =BK7&" "&BL7&" "&BM7 | BK7: =+IFERROR(INDEX(BD$2:BD$955,MATCH(ROW()-ROW($BJ$1),BC$2:BC$955,0)),"") | BL7: =+IFERROR(INDEX(BE$2:BE$955,MATCH(ROW()-ROW($BJ$1),BC$2:BC$955,0)),"") | BM7: =+IFERROR(INDEX(BF$2:BF$955,MATCH(ROW()-ROW($BJ$1),BC$2:BC$955,0)),"")
A8: =+IF(D8="","",MAX(A$1:A7)+1) | B8: =IF(Affected_Source!C30="","",Affected_Source!C30) | C8: =+IFERROR(INDEX(B$2:B$501,MATCH(ROW()-ROW($C$1),A$2:A$501,0)),"") | D8: =IF(COUNTIF(B$2:B8,B8)=1,B8,"") | E8: =IF(Affected_Source!D30="","",Affected_Source!D30) | F8: =+IF(I8="","",MAX(F$1:F7)+1) | G8: =+IF(Company_Information!B30="","",Company_Information!B30) | H8: =+IFERROR(INDEX(G$2:G$501,MATCH(ROW()-ROW($H$1),F$2:F$501,0)),"") | I8: =IF(COUNTIF(G$2:G8,G8)=1,G8,"") | K8: =+IF(N8="","",MAX(K$1:K7)+1) | L8: =IF(CMS_Identification!E30="","",CMS_Identification!E30) | M8: =+IFERROR(INDEX(L$2:L$501,MATCH(ROW()-ROW($M$1),K$2:K$501,0)),"") | N8: =IF(COUNTIF(L$2:L8,L8)=1,L8,"") | R8: Other control device operating parameters | T8: =+IF(Y8="","",MAX(T$1:T7)+1) | U8: =IF(Affected_Source!B30="","",Affected_Source!B30) | V8: =IF(Affected_Source!D30="","",Affected_Source!D30) | W8: =IF(Affected_Source!E30="","",Affected_Source!E30) | X8: =U8&V8 | Y8: =IF(COUNTIF(X$2:X8,X8)=1,X8,"") | Z8: =AA8&" "&AB8 | AA8: =+IFERROR(INDEX(U$2:U$955,MATCH(ROW()-ROW($AA$1),T$2:T$955,0)),"") | AB8: =+IFERROR(INDEX(V$2:V$955,MATCH(ROW()-ROW($AA$1),T$2:T$955,0)),"") | AC8: =+IFERROR(INDEX(W$2:W$955,MATCH(ROW()-ROW($AA$1),U$2:U$955,0)),"") | AE8: =+IF(AJ8="","",MAX(AE$1:AE7)+1) | AF8: =IF(CMS_Inoperative_OoC!B30="","",CMS_Inoperative_OoC!B30) | AG8: =IF(CMS_Inoperative_OoC!C30="","",CMS_Inoperative_OoC!C30) | AH8: =IF(CMS_Inoperative_OoC!D30="","",CMS_Inoperative_OoC!D30) | AI8: =AF8&AG8&AH8 | AJ8: =IF(COUNTIF(AI$2:AI8,AI8)=1,AI8,"") | AK8: =+IFERROR(INDEX(AF$2:AF$955,MATCH(ROW()-ROW(IE$1),AE$2:AE$955,0)),"") | AL8: =+IFERROR(INDEX(AG$2:AG$955,MATCH(ROW()-ROW(AJ$1),AE$2:AE$955,0)),"") | AM8: =+IFERROR(INDEX(AH$2:AH$955,MATCH(ROW()-ROW(AJ$1),AE$2:AE$955,0)),"") | AN8: =IF(AM8="","",VLOOKUP(AK8&AL8,$Y$2:$AC$478,5,FALSE)) | AP8: CO | AR8: =+IF(AW8="","",MAX(AR$1:AR7)+1) | AS8: =IF(Limit_Deviation_Detail!B30="","",Limit_Deviation_Detail!B30) | AT8: =IF(Limit_Deviation_Detail!C30="","",Limit_Deviation_Detail!C30) | AU8: =IF(Limit_Deviation_Detail!F30="","",Limit_Deviation_Detail!F30) | AV8: =AS8&AT8&AU8 | AW8: =IF(COUNTIF(AV$2:AV8,AV8)=1,AV8,"") | AX8: =+IFERROR(INDEX(AS$2:AS$955,MATCH(ROW()-ROW(IQ$1),AR$2:AR$955,0)),"") | AY8: =+IFERROR(INDEX(AT$2:AT$955,MATCH(ROW()-ROW(AW$1),AR$2:AR$955,0)),"") | AZ8: =+IFERROR(INDEX(AU$2:AU$955,MATCH(ROW()-ROW(AW$1),AR$2:AR$955,0)),"") | BA8: =IF(AZ8="","",VLOOKUP(AX8&AY8,$Y$2:$AC$478,5,FALSE)) | BC8: =+IF(BI8="","",MAX(BC$1:BC7)+1) | BD8: =IF(CMS_Identification!B30="","",CMS_Identification!B30) | BE8: =IF(CMS_Identification!C30="","",CMS_Identification!C30) | BF8: =IF(CMS_Identification!E30="","",CMS_Identification!E30) | BG8: =IF(Affected_Source!AL30="","",Affected_Source!AL30) | BH8: =BD8&BE8&BF8 | BI8: =IF(COUNTIF(BH$2:BH8,BH8)=1,BH8,"") | BJ8: =BK8&" "&BL8&" "&BM8 | BK8: =+IFERROR(INDEX(BD$2:BD$955,MATCH(ROW()-ROW($BJ$1),BC$2:BC$955,0)),"") | BL8: =+IFERROR(INDEX(BE$2:BE$955,MATCH(ROW()-ROW($BJ$1),BC$2:BC$955,0)),"") | BM8: =+IFERROR(INDEX(BF$2:BF$955,MATCH(ROW()-ROW($BJ$1),BC$2:BC$955,0)),"")
A9: =+IF(D9="","",MAX(A$1:A8)+1) | B9: =IF(Affected_Source!C31="","",Affected_Source!C31) | C9: =+IFERROR(INDEX(B$2:B$501,MATCH(ROW()-ROW($C$1),A$2:A$501,0)),"") | D9: =IF(COUNTIF(B$2:B9,B9)=1,B9,"") | E9: =IF(Affected_Source!D31="","",Affected_Source!D31) | F9: =+IF(I9="","",MAX(F$1:F8)+1) | G9: =+IF(Company_Information!B31="","",Company_Information!B31) | H9: =+IFERROR(INDEX(G$2:G$501,MATCH(ROW()-ROW($H$1),F$2:F$501,0)),"") | I9: =IF(COUNTIF(G$2:G9,G9)=1,G9,"") | K9: =+IF(N9="","",MAX(K$1:K8)+1) | L9: =IF(CMS_Identification!E31="","",CMS_Identification!E31) | M9: =+IFERROR(INDEX(L$2:L$501,MATCH(ROW()-ROW($M$1),K$2:K$501,0)),"") | N9: =IF(COUNTIF(L$2:L9,L9)=1,L9,"") | R9: BLDS or PM detector alarm | T9: =+IF(Y9="","",MAX(T$1:T8)+1) | U9: =IF(Affected_Source!B31="","",Affected_Source!B31) | V9: =IF(Affected_Source!D31="","",Affected_Source!D31) | W9: =IF(Affected_Source!E31="","",Affected_Source!E31) | X9: =U9&V9 | Y9: =IF(COUNTIF(X$2:X9,X9)=1,X9,"") | Z9: =AA9&" "&AB9 | AA9: =+IFERROR(INDEX(U$2:U$955,MATCH(ROW()-ROW($AA$1),T$2:T$955,0)),"") | AB9: =+IFERROR(INDEX(V$2:V$955,MATCH(ROW()-ROW($AA$1),T$2:T$955,0)),"") | AC9: =+IFERROR(INDEX(W$2:W$955,MATCH(ROW()-ROW($AA$1),U$2:U$955,0)),"") | AE9: =+IF(AJ9="","",MAX(AE$1:AE8)+1) | AF9: =IF(CMS_Inoperative_OoC!B31="","",CMS_Inoperative_OoC!B31) | AG9: =IF(CMS_Inoperative_OoC!C31="","",CMS_Inoperative_OoC!C31) | AH9: =IF(CMS_Inoperative_OoC!D31="","",CMS_Inoperative_OoC!D31) | AI9: =AF9&AG9&AH9 | AJ9: =IF(COUNTIF(AI$2:AI9,AI9)=1,AI9,"") | AK9: =+IFERROR(INDEX(AF$2:AF$955,MATCH(ROW()-ROW(IE$1),AE$2:AE$955,0)),"") | AL9: =+IFERROR(INDEX(AG$2:AG$955,MATCH(ROW()-ROW(AJ$1),AE$2:AE$955,0)),"") | AM9: =+IFERROR(INDEX(AH$2:AH$955,MATCH(ROW()-ROW(AJ$1),AE$2:AE$955,0)),"") | AN9: =IF(AM9="","",VLOOKUP(AK9&AL9,$Y$2:$AC$478,5,FALSE)) | AP9: CT | AR9: =+IF(AW9="","",MAX(AR$1:AR8)+1) | AS9: =IF(Limit_Deviation_Detail!B31="","",Limit_Deviation_Detail!B31) | AT9: =IF(Limit_Deviation_Detail!C31="","",Limit_Deviation_Detail!C31) | AU9: =IF(Limit_Deviation_Detail!F31="","",Limit_Deviation_Detail!F31) | AV9: =AS9&AT9&AU9 | AW9: =IF(COUNTIF(AV$2:AV9,AV9)=1,AV9,"") | AX9: =+IFERROR(INDEX(AS$2:AS$955,MATCH(ROW()-ROW(IQ$1),AR$2:AR$955,0)),"") | AY9: =+IFERROR(INDEX(AT$2:AT$955,MATCH(ROW()-ROW(AW$1),AR$2:AR$955,0)),"") | AZ9: =+IFERROR(INDEX(AU$2:AU$955,MATCH(ROW()-ROW(AW$1),AR$2:AR$955,0)),"") | BA9: =IF(AZ9="","",VLOOKUP(AX9&AY9,$Y$2:$AC$478,5,FALSE)) | BC9: =+IF(BI9="","",MAX(BC$1:BC8)+1) | BD9: =IF(CMS_Identification!B31="","",CMS_Identification!B31) | BE9: =IF(CMS_Identification!C31="","",CMS_Identification!C31) | BF9: =IF(CMS_Identification!E31="","",CMS_Identification!E31) | BG9: =IF(Affected_Source!AL31="","",Affected_Source!AL31) | BH9: =BD9&BE9&BF9 | BI9: =IF(COUNTIF(BH$2:BH9,BH9)=1,BH9,"") | BJ9: =BK9&" "&BL9&" "&BM9 | BK9: =+IFERROR(INDEX(BD$2:BD$955,MATCH(ROW()-ROW($BJ$1),BC$2:BC$955,0)),"") | BL9: =+IFERROR(INDEX(BE$2:BE$955,MATCH(ROW()-ROW($BJ$1),BC$2:BC$955,0)),"") | BM9: =+IFERROR(INDEX(BF$2:BF$955,MATCH(ROW()-ROW($BJ$1),BC$2:BC$955,0)),"")
A10: =+IF(D10="","",MAX(A$1:A9)+1) | B10: =IF(Affected_Source!C32="","",Affected_Source!C32) | C10: =+IFERROR(INDEX(B$2:B$501,MATCH(ROW()-ROW($C$1),A$2:A$501,0)),"") | D10: =IF(COUNTIF(B$2:B10,B10)=1,B10,"") | E10: =IF(Affected_Source!D32="","",Affected_Source!D32) | F10: =+IF(I10="","",MAX(F$1:F9)+1) | G10: =+IF(Company_Information!B32="","",Company_Information!B32) | H10: =+IFERROR(INDEX(G$2:G$501,MATCH(ROW()-ROW($H$1),F$2:F$501,0)),"") | I10: =IF(COUNTIF(G$2:G10,G10)=1,G10,"") | K10: =+IF(N10="","",MAX(K$1:K9)+1) | L10: =IF(CMS_Identification!E32="","",CMS_Identification!E32) | M10: =+IFERROR(INDEX(L$2:L$501,MATCH(ROW()-ROW($M$1),K$2:K$501,0)),"") | N10: =IF(COUNTIF(L$2:L10,L10)=1,L10,"") | T10: =+IF(Y10="","",MAX(T$1:T9)+1) | U10: =IF(Affected_Source!B32="","",Affected_Source!B32) | V10: =IF(Affected_Source!D32="","",Affected_Source!D32) | W10: =IF(Affected_Source!E32="","",Affected_Source!E32) | X10: =U10&V10 | Y10: =IF(COUNTIF(X$2:X10,X10)=1,X10,"") | Z10: =AA10&" "&AB10 | AA10: =+IFERROR(INDEX(U$2:U$955,MATCH(ROW()-ROW($AA$1),T$2:T$955,0)),"") | AB10: =+IFERROR(INDEX(V$2:V$955,MATCH(ROW()-ROW($AA$1),T$2:T$955,0)),"") | AC10: =+IFERROR(INDEX(W$2:W$955,MATCH(ROW()-ROW($AA$1),U$2:U$955,0)),"") | AE10: =+IF(AJ10="","",MAX(AE$1:AE9)+1) | AF10: =IF(CMS_Inoperative_OoC!B32="","",CMS_Inoperative_OoC!B32) | AG10: =IF(CMS_Inoperative_OoC!C32="","",CMS_Inoperative_OoC!C32) | AH10: =IF(CMS_Inoperative_OoC!D32="","",CMS_Inoperative_OoC!D32) | AI10: =AF10&AG10&AH10 | AJ10: =IF(COUNTIF(AI$2:AI10,AI10)=1,AI10,"") | AK10: =+IFERROR(INDEX(AF$2:AF$955,MATCH(ROW()-ROW(IE$1),AE$2:AE$955,0)),"") | AL10: =+IFERROR(INDEX(AG$2:AG$955,MATCH(ROW()-ROW(AJ$1),AE$2:AE$955,0)),"") | AM10: =+IFERROR(INDEX(AH$2:AH$955,MATCH(ROW()-ROW(AJ$1),AE$2:AE$955,0)),"") | AN10: =IF(AM10="","",VLOOKUP(AK10&AL10,$Y$2:$AC$478,5,FALSE)) | AP10: DC | AR10: =+IF(AW10="","",MAX(AR$1:AR9)+1) | AS10: =IF(Limit_Deviation_Detail!B32="","",Limit_Deviation_Detail!B32) | AT10: =IF(Limit_Deviation_Detail!C32="","",Limit_Deviation_Detail!C32) | AU10: =IF(Limit_Deviation_Detail!F32="","",Limit_Deviation_Detail!F32) | AV10: =AS10&AT10&AU10 | AW10: =IF(COUNTIF(AV$2:AV10,AV10)=1,AV10,"") | AX10: =+IFERROR(INDEX(AS$2:AS$955,MATCH(ROW()-ROW(IQ$1),AR$2:AR$955,0)),"") | AY10: =+IFERROR(INDEX(AT$2:AT$955,MATCH(ROW()-ROW(AW$1),AR$2:AR$955,0)),"") | AZ10: =+IFERROR(INDEX(AU$2:AU$955,MATCH(ROW()-ROW(AW$1),AR$2:AR$955,0)),"") | BA10: =IF(AZ10="","",VLOOKUP(AX10&AY10,$Y$2:$AC$478,5,FALSE)) | BC10: =+IF(BI10="","",MAX(BC$1:BC9)+1) | BD10: =IF(CMS_Identification!B32="","",CMS_Identification!B32) | BE10: =IF(CMS_Identification!C32="","",CMS_Identification!C32) | BF10: =IF(CMS_Identification!E32="","",CMS_Identification!E32) | BG10: =IF(Affected_Source!AL32="","",Affected_Source!AL32) | BH10: =BD10&BE10&BF10 | BI10: =IF(COUNTIF(BH$2:BH10,BH10)=1,BH10,"") | BJ10: =BK10&" "&BL10&" "&BM10 | BK10: =+IFERROR(INDEX(BD$2:BD$955,MATCH(ROW()-ROW($BJ$1),BC$2:BC$955,0)),"") | BL10: =+IFERROR(INDEX(BE$2:BE$955,MATCH(ROW()-ROW($BJ$1),BC$2:BC$955,0)),"") | BM10: =+IFERROR(INDEX(BF$2:BF$955,MATCH(ROW()-ROW($BJ$1),BC$2:BC$955,0)),"")
A11: =+IF(D11="","",MAX(A$1:A10)+1) | B11: =IF(Affected_Source!C33="","",Affected_Source!C33) | C11: =+IFERROR(INDEX(B$2:B$501,MATCH(ROW()-ROW($C$1),A$2:A$501,0)),"") | D11: =IF(COUNTIF(B$2:B11,B11)=1,B11,"") | E11: =IF(Affected_Source!D33="","",Affected_Source!D33) | F11: =+IF(I11="","",MAX(F$1:F10)+1) | G11: =+IF(Company_Information!B33="","",Company_Information!B33) | H11: =+IFERROR(INDEX(G$2:G$501,MATCH(ROW()-ROW($H$1),F$2:F$501,0)),"") | I11: =IF(COUNTIF(G$2:G11,G11)=1,G11,"") | K11: =+IF(N11="","",MAX(K$1:K10)+1) | L11: =IF(CMS_Identification!E33="","",CMS_Identification!E33) | M11: =+IFERROR(INDEX(L$2:L$501,MATCH(ROW()-ROW($M$1),K$2:K$501,0)),"") | N11: =IF(COUNTIF(L$2:L11,L11)=1,L11,"") | T11: =+IF(Y11="","",MAX(T$1:T10)+1) | U11: =IF(Affected_Source!B33="","",Affected_Source!B33) | V11: =IF(Affected_Source!D33="","",Affected_Source!D33) | W11: =IF(Affected_Source!E33="","",Affected_Source!E33) | X11: =U11&V11 | Y11: =IF(COUNTIF(X$2:X11,X11)=1,X11,"") | Z11: =AA11&" "&AB11 | AA11: =+IFERROR(INDEX(U$2:U$955,MATCH(ROW()-ROW($AA$1),T$2:T$955,0)),"") | AB11: =+IFERROR(INDEX(V$2:V$955,MATCH(ROW()-ROW($AA$1),T$2:T$955,0)),"") | AC11: =+IFERROR(INDEX(W$2:W$955,MATCH(ROW()-ROW($AA$1),U$2:U$955,0)),"") | AE11: =+IF(AJ11="","",MAX(AE$1:AE10)+1) | AF11: =IF(CMS_Inoperative_OoC!B33="","",CMS_Inoperative_OoC!B33) | AG11: =IF(CMS_Inoperative_OoC!C33="","",CMS_Inoperative_OoC!C33) | AH11: =IF(CMS_Inoperative_OoC!D33="","",CMS_Inoperative_OoC!D33) | AI11: =AF11&AG11&AH11 | AJ11: =IF(COUNTIF(AI$2:AI11,AI11)=1,AI11,"") | AK11: =+IFERROR(INDEX(AF$2:AF$955,MATCH(ROW()-ROW(IE$1),AE$2:AE$955,0)),"") | AL11: =+IFERROR(INDEX(AG$2:AG$955,MATCH(ROW()-ROW(AJ$1),AE$2:AE$955,0)),"") | AM11: =+IFERROR(INDEX(AH$2:AH$955,MATCH(ROW()-ROW(AJ$1),AE$2:AE$955,0)),"") | AN11: =IF(AM11="","",VLOOKUP(AK11&AL11,$Y$2:$AC$478,5,FALSE)) | AP11: DE | AR11: =+IF(AW11="","",MAX(AR$1:AR10)+1) | AS11: =IF(Limit_Deviation_Detail!B33="","",Limit_Deviation_Detail!B33) | AT11: =IF(Limit_Deviation_Detail!C33="","",Limit_Deviation_Detail!C33) | AU11: =IF(Limit_Deviation_Detail!F33="","",Limit_Deviation_Detail!F33) | AV11: =AS11&AT11&AU11 | AW11: =IF(COUNTIF(AV$2:AV11,AV11)=1,AV11,"") | AX11: =+IFERROR(INDEX(AS$2:AS$955,MATCH(ROW()-ROW(IQ$1),AR$2:AR$955,0)),"") | AY11: =+IFERROR(INDEX(AT$2:AT$955,MATCH(ROW()-ROW(AW$1),AR$2:AR$955,0)),"") | AZ11: =+IFERROR(INDEX(AU$2:AU$955,MATCH(ROW()-ROW(AW$1),AR$2:AR$955,0)),"") | BA11: =IF(AZ11="","",VLOOKUP(AX11&AY11,$Y$2:$AC$478,5,FALSE)) | BC11: =+IF(BI11="","",MAX(BC$1:BC10)+1) | BD11: =IF(CMS_Identification!B33="","",CMS_Identification!B33) | BE11: =IF(CMS_Identification!C33="","",CMS_Identification!C33) | BF11: =IF(CMS_Identification!E33="","",CMS_Identification!E33) | BG11: =IF(Affected_Source!AL33="","",Affected_Source!AL33) | BH11: =BD11&BE11&BF11 | BI11: =IF(COUNTIF(BH$2:BH11,BH11)=1,BH11,"") | BJ11: =BK11&" "&BL11&" "&BM11 | BK11: =+IFERROR(INDEX(BD$2:BD$955,MATCH(ROW()-ROW($BJ$1),BC$2:BC$955,0)),"") | BL11: =+IFERROR(INDEX(BE$2:BE$955,MATCH(ROW()-ROW($BJ$1),BC$2:BC$955,0)),"") | BM11: =+IFERROR(INDEX(BF$2:BF$955,MATCH(ROW()-ROW($BJ$1),BC$2:BC$955,0)),"")
A12: =+IF(D12="","",MAX(A$1:A11)+1) | B12: =IF(Affected_Source!C34="","",Affected_Source!C34) | C12: =+IFERROR(INDEX(B$2:B$501,MATCH(ROW()-ROW($C$1),A$2:A$501,0)),"") | D12: =IF(COUNTIF(B$2:B12,B12)=1,B12,"") | E12: =IF(Affected_Source!D34="","",Affected_Source!D34) | K12: =+IF(N12="","",MAX(K$1:K11)+1) | L12: =IF(CMS_Identification!E34="","",CMS_Identification!E34) | M12: =+IFERROR(INDEX(L$2:L$501,MATCH(ROW()-ROW($M$1),K$2:K$501,0)),"") | N12: =IF(COUNTIF(L$2:L12,L12)=1,L12,"") | P12: Malfunction | T12: =+IF(Y12="","",MAX(T$1:T11)+1) | U12: =IF(Affected_Source!B34="","",Affected_Source!B34) | V12: =IF(Affected_Source!D34="","",Affected_Source!D34) | W12: =IF(Affected_Source!E34="","",Affected_Source!E34) | X12: =U12&V12 | Y12: =IF(COUNTIF(X$2:X12,X12)=1,X12,"") | Z12: =AA12&" "&AB12 | AA12: =+IFERROR(INDEX(U$2:U$955,MATCH(ROW()-ROW($AA$1),T$2:T$955,0)),"") | AB12: =+IFERROR(INDEX(V$2:V$955,MATCH(ROW()-ROW($AA$1),T$2:T$955,0)),"") | AC12: =+IFERROR(INDEX(W$2:W$955,MATCH(ROW()-ROW($AA$1),U$2:U$955,0)),"") | AE12: =+IF(AJ12="","",MAX(AE$1:AE11)+1) | AF12: =IF(CMS_Inoperative_OoC!B34="","",CMS_Inoperative_OoC!B34) | AG12: =IF(CMS_Inoperative_OoC!C34="","",CMS_Inoperative_OoC!C34) | AH12: =IF(CMS_Inoperative_OoC!D34="","",CMS_Inoperative_OoC!D34) | AI12: =AF12&AG12&AH12 | AJ12: =IF(COUNTIF(AI$2:AI12,AI12)=1,AI12,"") | AK12: =+IFERROR(INDEX(AF$2:AF$955,MATCH(ROW()-ROW(IE$1),AE$2:AE$955,0)),"") | AL12: =+IFERROR(INDEX(AG$2:AG$955,MATCH(ROW()-ROW(AJ$1),AE$2:AE$955,0)),"") | AM12: =+IFERROR(INDEX(AH$2:AH$955,MATCH(ROW()-ROW(AJ$1),AE$2:AE$955,0)),"") | AN12: =IF(AM12="","",VLOOKUP(AK12&AL12,$Y$2:$AC$478,5,FALSE)) | AP12: FL | AR12: =+IF(AW12="","",MAX(AR$1:AR11)+1) | AS12: =IF(Limit_Deviation_Detail!B34="","",Limit_Deviation_Detail!B34) | AT12: =IF(Limit_Deviation_Detail!C34="","",Limit_Deviation_Detail!C34) | AU12: =IF(Limit_Deviation_Detail!F34="","",Limit_Deviation_Detail!F34) | AV12: =AS12&AT12&AU12 | AW12: =IF(COUNTIF(AV$2:AV12,AV12)=1,AV12,"") | AX12: =+IFERROR(INDEX(AS$2:AS$955,MATCH(ROW()-ROW(IQ$1),AR$2:AR$955,0)),"") | AY12: =+IFERROR(INDEX(AT$2:AT$955,MATCH(ROW()-ROW(AW$1),AR$2:AR$955,0)),"") | AZ12: =+IFERROR(INDEX(AU$2:AU$955,MATCH(ROW()-ROW(AW$1),AR$2:AR$955,0)),"") | BA12: =IF(AZ12="","",VLOOKUP(AX12&AY12,$Y$2:$AC$478,5,FALSE)) | BC12: =+IF(BI12="","",MAX(BC$1:BC11)+1) | BD12: =IF(CMS_Identification!B34="","",CMS_Identification!B34) | BE12: =IF(CMS_Identification!C34="","",CMS_Identification!C34) | BF12: =IF(CMS_Identification!E34="","",CMS_Identification!E34) | BG12: =IF(Affected_Source!AL34="","",Affected_Source!AL34) | BH12: =BD12&BE12&BF12 | BI12: =IF(COUNTIF(BH$2:BH12,BH12)=1,BH12,"") | BJ12: =BK12&" "&BL12&" "&BM12 | BK12: =+IFERROR(INDEX(BD$2:BD$955,MATCH(ROW()-ROW($BJ$1),BC$2:BC$955,0)),"") | BL12: =+IFERROR(INDEX(BE$2:BE$955,MATCH(ROW()-ROW($BJ$1),BC$2:BC$955,0)),"") | BM12: =+IFERROR(INDEX(BF$2:BF$955,MATCH(ROW()-ROW($BJ$1),BC$2:BC$955,0)),"")
A13: =+IF(D13="","",MAX(A$1:A12)+1) | B13: =IF(Affected_Source!C35="","",Affected_Source!C35) | C13: =+IFERROR(INDEX(B$2:B$501,MATCH(ROW()-ROW($C$1),A$2:A$501,0)),"") | D13: =IF(COUNTIF(B$2:B13,B13)=1,B13,"") | E13: =IF(Affected_Source!D35="","",Affected_Source!D35) | K13: =+IF(N13="","",MAX(K$1:K12)+1) | L13: =IF(CMS_Identification!E35="","",CMS_Identification!E35) | M13: =+IFERROR(INDEX(L$2:L$501,MATCH(ROW()-ROW($M$1),K$2:K$501,0)),"") | N13: =IF(COUNTIF(L$2:L13,L13)=1,L13,"") | P13: Other Period | T13: =+IF(Y13="","",MAX(T$1:T12)+1) | U13: =IF(Affected_Source!B35="","",Affected_Source!B35) | V13: =IF(Affected_Source!D35="","",Affected_Source!D35) | W13: =IF(Affected_Source!E35="","",Affected_Source!E35) | X13: =U13&V13 | Y13: =IF(COUNTIF(X$2:X13,X13)=1,X13,"") | Z13: =AA13&" "&AB13 | AA13: =+IFERROR(INDEX(U$2:U$955,MATCH(ROW()-ROW($AA$1),T$2:T$955,0)),"") | AB13: =+IFERROR(INDEX(V$2:V$955,MATCH(ROW()-ROW($AA$1),T$2:T$955,0)),"") | AC13: =+IFERROR(INDEX(W$2:W$955,MATCH(ROW()-ROW($AA$1),U$2:U$955,0)),"") | AE13: =+IF(AJ13="","",MAX(AE$1:AE12)+1) | AF13: =IF(CMS_Inoperative_OoC!B35="","",CMS_Inoperative_OoC!B35) | AG13: =IF(CMS_Inoperative_OoC!C35="","",CMS_Inoperative_OoC!C35) | AH13: =IF(CMS_Inoperative_OoC!D35="","",CMS_Inoperative_OoC!D35) | AI13: =AF13&AG13&AH13 | AJ13: =IF(COUNTIF(AI$2:AI13,AI13)=1,AI13,"") | AK13: =+IFERROR(INDEX(AF$2:AF$955,MATCH(ROW()-ROW(IE$1),AE$2:AE$955,0)),"") | AL13: =+IFERROR(INDEX(AG$2:AG$955,MATCH(ROW()-ROW(AJ$1),AE$2:AE$955,0)),"") | AM13: =+IFERROR(INDEX(AH$2:AH$955,MATCH(ROW()-ROW(AJ$1),AE$2:AE$955,0)),"") | AN13: =IF(AM13="","",VLOOKUP(AK13&AL13,$Y$2:$AC$478,5,FALSE)) | AP13: GA | AR13: =+IF(AW13="","",MAX(AR$1:AR12)+1) | AS13: =IF(Limit_Deviation_Detail!B35="","",Limit_Deviation_Detail!B35) | AT13: =IF(Limit_Deviation_Detail!C35="","",Limit_Deviation_Detail!C35) | AU13: =IF(Limit_Deviation_Detail!F35="","",Limit_Deviation_Detail!F35) | AV13: =AS13&AT13&AU13 | AW13: =IF(COUNTIF(AV$2:AV13,AV13)=1,AV13,"") | AX13: =+IFERROR(INDEX(AS$2:AS$955,MATCH(ROW()-ROW(IQ$1),AR$2:AR$955,0)),"") | AY13: =+IFERROR(INDEX(AT$2:AT$955,MATCH(ROW()-ROW(AW$1),AR$2:AR$955,0)),"") | AZ13: =+IFERROR(INDEX(AU$2:AU$955,MATCH(ROW()-ROW(AW$1),AR$2:AR$955,0)),"") | BA13: =IF(AZ13="","",VLOOKUP(AX13&AY13,$Y$2:$AC$478,5,FALSE)) | BC13: =+IF(BI13="","",MAX(BC$1:BC12)+1) | BD13: =IF(CMS_Identification!B35="","",CMS_Identification!B35) | BE13: =IF(CMS_Identification!C35="","",CMS_Identification!C35) | BF13: =IF(CMS_Identification!E35="","",CMS_Identification!E35) | BG13: =IF(Affected_Source!AL35="","",Affected_Source!AL35) | BH13: =BD13&BE13&BF13 | BI13: =IF(COUNTIF(BH$2:BH13,BH13)=1,BH13,"") | BJ13: =BK13&" "&BL13&" "&BM13 | BK13: =+IFERROR(INDEX(BD$2:BD$955,MATCH(ROW()-ROW($BJ$1),BC$2:BC$955,0)),"") | BL13: =+IFERROR(INDEX(BE$2:BE$955,MATCH(ROW()-ROW($BJ$1),BC$2:BC$955,0)),"") | BM13: =+IFERROR(INDEX(BF$2:BF$955,MATCH(ROW()-ROW($BJ$1),BC$2:BC$955,0)),"")
A14: =+IF(D14="","",MAX(A$1:A13)+1) | B14: =IF(Affected_Source!C36="","",Affected_Source!C36) | C14: =+IFERROR(INDEX(B$2:B$501,MATCH(ROW()-ROW($C$1),A$2:A$501,0)),"") | D14: =IF(COUNTIF(B$2:B14,B14)=1,B14,"") | E14: =IF(Affected_Source!D36="","",Affected_Source!D36) | K14: =+IF(N14="","",MAX(K$1:K13)+1) | L14: =IF(CMS_Identification!E36="","",CMS_Identification!E36) | M14: =+IFERROR(INDEX(L$2:L$501,MATCH(ROW()-ROW($M$1),K$2:K$501,0)),"") | N14: =IF(COUNTIF(L$2:L14,L14)=1,L14,"") | T14: =+IF(Y14="","",MAX(T$1:T13)+1) | U14: =IF(Affected_Source!B36="","",Affected_Source!B36) | V14: =IF(Affected_Source!D36="","",Affected_Source!D36) | W14: =IF(Affected_Source!E36="","",Affected_Source!E36) | X14: =U14&V14 | Y14: =IF(COUNTIF(X$2:X14,X14)=1,X14,"") | Z14: =AA14&" "&AB14 | AA14: =+IFERROR(INDEX(U$2:U$955,MATCH(ROW()-ROW($AA$1),T$2:T$955,0)),"") | AB14: =+IFERROR(INDEX(V$2:V$955,MATCH(ROW()-ROW($AA$1),T$2:T$955,0)),"") | AC14: =+IFERROR(INDEX(W$2:W$955,MATCH(ROW()-ROW($AA$1),U$2:U$955,0)),"") | AE14: =+IF(AJ14="","",MAX(AE$1:AE13)+1) | AF14: =IF(CMS_Inoperative_OoC!B36="","",CMS_Inoperative_OoC!B36) | AG14: =IF(CMS_Inoperative_OoC!C36="","",CMS_Inoperative_OoC!C36) | AH14: =IF(CMS_Inoperative_OoC!D36="","",CMS_Inoperative_OoC!D36) | AI14: =AF14&AG14&AH14 | AJ14: =IF(COUNTIF(AI$2:AI14,AI14)=1,AI14,"") | AK14: =+IFERROR(INDEX(AF$2:AF$955,MATCH(ROW()-ROW(IE$1),AE$2:AE$955,0)),"") | AL14: =+IFERROR(INDEX(AG$2:AG$955,MATCH(ROW()-ROW(AJ$1),AE$2:AE$955,0)),"") | AM14: =+IFERROR(INDEX(AH$2:AH$955,MATCH(ROW()-ROW(AJ$1),AE$2:AE$955,0)),"") | AN14: =IF(AM14="","",VLOOKUP(AK14&AL14,$Y$2:$AC$478,5,FALSE)) | AP14: GU | AR14: =+IF(AW14="","",MAX(AR$1:AR13)+1) | AS14: =IF(Limit_Deviation_Detail!B36="","",Limit_Deviation_Detail!B36) | AT14: =IF(Limit_Deviation_Detail!C36="","",Limit_Deviation_Detail!C36) | AU14: =IF(Limit_Deviation_Detail!F36="","",Limit_Deviation_Detail!F36) | AV14: =AS14&AT14&AU14 | AW14: =IF(COUNTIF(AV$2:AV14,AV14)=1,AV14,"") | AX14: =+IFERROR(INDEX(AS$2:AS$955,MATCH(ROW()-ROW(IQ$1),AR$2:AR$955,0)),"") | AY14: =+IFERROR(INDEX(AT$2:AT$955,MATCH(ROW()-ROW(AW$1),AR$2:AR$955,0)),"") | AZ14: =+IFERROR(INDEX(AU$2:AU$955,MATCH(ROW()-ROW(AW$1),AR$2:AR$955,0)),"") | BA14: =IF(AZ14="","",VLOOKUP(AX14&AY14,$Y$2:$AC$478,5,FALSE)) | BC14: =+IF(BI14="","",MAX(BC$1:BC13)+1) | BD14: =IF(CMS_Identification!B36="","",CMS_Identification!B36) | BE14: =IF(CMS_Identification!C36="","",CMS_Identification!C36) | BF14: =IF(CMS_Identification!E36="","",CMS_Identification!E36) | BG14: =IF(Affected_Source!AL36="","",Affected_Source!AL36) | BH14: =BD14&BE14&BF14 | BI14: =IF(COUNTIF(BH$2:BH14,BH14)=1,BH14,"") | BJ14: =BK14&" "&BL14&" "&BM14 | BK14: =+IFERROR(INDEX(BD$2:BD$955,MATCH(ROW()-ROW($BJ$1),BC$2:BC$955,0)),"") | BL14: =+IFERROR(INDEX(BE$2:BE$955,MATCH(ROW()-ROW($BJ$1),BC$2:BC$955,0)),"") | BM14: =+IFERROR(INDEX(BF$2:BF$955,MATCH(ROW()-ROW($BJ$1),BC$2:BC$955,0)),"")
A15: =+IF(D15="","",MAX(A$1:A14)+1) | B15: =IF(Affected_Source!C37="","",Affected_Source!C37) | C15: =+IFERROR(INDEX(B$2:B$501,MATCH(ROW()-ROW($C$1),A$2:A$501,0)),"") | D15: =IF(COUNTIF(B$2:B15,B15)=1,B15,"") | E15: =IF(Affected_Source!D37="","",Affected_Source!D37) | K15: =+IF(N15="","",MAX(K$1:K14)+1) | L15: =IF(CMS_Identification!E37="","",CMS_Identification!E37) | M15: =+IFERROR(INDEX(L$2:L$501,MATCH(ROW()-ROW($M$1),K$2:K$501,0)),"") | N15: =IF(COUNTIF(L$2:L15,L15)=1,L15,"") | P15: Deviation Causes | T15: =+IF(Y15="","",MAX(T$1:T14)+1) | U15: =IF(Affected_Source!B37="","",Affected_Source!B37) | V15: =IF(Affected_Source!D37="","",Affected_Source!D37) | W15: =IF(Affected_Source!E37="","",Affected_Source!E37) | X15: =U15&V15 | Y15: =IF(COUNTIF(X$2:X15,X15)=1,X15,"") | Z15: =AA15&" "&AB15 | AA15: =+IFERROR(INDEX(U$2:U$955,MATCH(ROW()-ROW($AA$1),T$2:T$955,0)),"") | AB15: =+IFERROR(INDEX(V$2:V$955,MATCH(ROW()-ROW($AA$1),T$2:T$955,0)),"") | AC15: =+IFERROR(INDEX(W$2:W$955,MATCH(ROW()-ROW($AA$1),U$2:U$955,0)),"") | AE15: =+IF(AJ15="","",MAX(AE$1:AE14)+1) | AF15: =IF(CMS_Inoperative_OoC!B37="","",CMS_Inoperative_OoC!B37) | AG15: =IF(CMS_Inoperative_OoC!C37="","",CMS_Inoperative_OoC!C37) | AH15: =IF(CMS_Inoperative_OoC!D37="","",CMS_Inoperative_OoC!D37) | AI15: =AF15&AG15&AH15 | AJ15: =IF(COUNTIF(AI$2:AI15,AI15)=1,AI15,"") | AK15: =+IFERROR(INDEX(AF$2:AF$955,MATCH(ROW()-ROW(IE$1),AE$2:AE$955,0)),"") | AL15: =+IFERROR(INDEX(AG$2:AG$955,MATCH(ROW()-ROW(AJ$1),AE$2:AE$955,0)),"") | AM15: =+IFERROR(INDEX(AH$2:AH$955,MATCH(ROW()-ROW(AJ$1),AE$2:AE$955,0)),"") | AN15: =IF(AM15="","",VLOOKUP(AK15&AL15,$Y$2:$AC$478,5,FALSE)) | AP15: HI | AR15: =+IF(AW15="","",MAX(AR$1:AR14)+1) | AS15: =IF(Limit_Deviation_Detail!B37="","",Limit_Deviation_Detail!B37) | AT15: =IF(Limit_Deviation_Detail!C37="","",Limit_Deviation_Detail!C37) | AU15: =IF(Limit_Deviation_Detail!F37="","",Limit_Deviation_Detail!F37) | AV15: =AS15&AT15&AU15 | AW15: =IF(COUNTIF(AV$2:AV15,AV15)=1,AV15,"") | AX15: =+IFERROR(INDEX(AS$2:AS$955,MATCH(ROW()-ROW(IQ$1),AR$2:AR$955,0)),"") | AY15: =+IFERROR(INDEX(AT$2:AT$955,MATCH(ROW()-ROW(AW$1),AR$2:AR$955,0)),"") | AZ15: =+IFERROR(INDEX(AU$2:AU$955,MATCH(ROW()-ROW(AW$1),AR$2:AR$955,0)),"") | BA15: =IF(AZ15="","",VLOOKUP(AX15&AY15,$Y$2:$AC$478,5,FALSE)) | BC15: =+IF(BI15="","",MAX(BC$1:BC14)+1) | BD15: =IF(CMS_Identification!B37="","",CMS_Identification!B37) | BE15: =IF(CMS_Identification!C37="","",CMS_Identification!C37) | BF15: =IF(CMS_Identification!E37="","",CMS_Identification!E37) | BG15: =IF(Affected_Source!AL37="","",Affected_Source!AL37) | BH15: =BD15&BE15&BF15 | BI15: =IF(COUNTIF(BH$2:BH15,BH15)=1,BH15,"") | BJ15: =BK15&" "&BL15&" "&BM15 | BK15: =+IFERROR(INDEX(BD$2:BD$955,MATCH(ROW()-ROW($BJ$1),BC$2:BC$955,0)),"") | BL15: =+IFERROR(INDEX(BE$2:BE$955,MATCH(ROW()-ROW($BJ$1),BC$2:BC$955,0)),"") | BM15: =+IFERROR(INDEX(BF$2:BF$955,MATCH(ROW()-ROW($BJ$1),BC$2:BC$955,0)),"")
A16: =+IF(D16="","",MAX(A$1:A15)+1) | B16: =IF(Affected_Source!C38="","",Affected_Source!C38) | C16: =+IFERROR(INDEX(B$2:B$501,MATCH(ROW()-ROW($C$1),A$2:A$501,0)),"") | D16: =IF(COUNTIF(B$2:B16,B16)=1,B16,"") | E16: =IF(Affected_Source!D38="","",Affected_Source!D38) | K16: =+IF(N16="","",MAX(K$1:K15)+1) | L16: =IF(CMS_Identification!E38="","",CMS_Identification!E38) | M16: =+IFERROR(INDEX(L$2:L$501,MATCH(ROW()-ROW($M$1),K$2:K$501,0)),"") | N16: =IF(COUNTIF(L$2:L16,L16)=1,L16,"") | P16: Startup | T16: =+IF(Y16="","",MAX(T$1:T15)+1) | U16: =IF(Affected_Source!B38="","",Affected_Source!B38) | V16: =IF(Affected_Source!D38="","",Affected_Source!D38) | W16: =IF(Affected_Source!E38="","",Affected_Source!E38) | X16: =U16&V16 | Y16: =IF(COUNTIF(X$2:X16,X16)=1,X16,"") | Z16: =AA16&" "&AB16 | AA16: =+IFERROR(INDEX(U$2:U$955,MATCH(ROW()-ROW($AA$1),T$2:T$955,0)),"") | AB16: =+IFERROR(INDEX(V$2:V$955,MATCH(ROW()-ROW($AA$1),T$2:T$955,0)),"") | AC16: =+IFERROR(INDEX(W$2:W$955,MATCH(ROW()-ROW($AA$1),U$2:U$955,0)),"") | AE16: =+IF(AJ16="","",MAX(AE$1:AE15)+1) | AF16: =IF(CMS_Inoperative_OoC!B38="","",CMS_Inoperative_OoC!B38) | AG16: =IF(CMS_Inoperative_OoC!C38="","",CMS_Inoperative_OoC!C38) | AH16: =IF(CMS_Inoperative_OoC!D38="","",CMS_Inoperative_OoC!D38) | AI16: =AF16&AG16&AH16 | AJ16: =IF(COUNTIF(AI$2:AI16,AI16)=1,AI16,"") | AK16: =+IFERROR(INDEX(AF$2:AF$955,MATCH(ROW()-ROW(IE$1),AE$2:AE$955,0)),"") | AL16: =+IFERROR(INDEX(AG$2:AG$955,MATCH(ROW()-ROW(AJ$1),AE$2:AE$955,0)),"") | AM16: =+IFERROR(INDEX(AH$2:AH$955,MATCH(ROW()-ROW(AJ$1),AE$2:AE$955,0)),"") | AN16: =IF(AM16="","",VLOOKUP(AK16&AL16,$Y$2:$AC$478,5,FALSE)) | AP16: IA | AR16: =+IF(AW16="","",MAX(AR$1:AR15)+1) | AS16: =IF(Limit_Deviation_Detail!B38="","",Limit_Deviation_Detail!B38) | AT16: =IF(Limit_Deviation_Detail!C38="","",Limit_Deviation_Detail!C38) | AU16: =IF(Limit_Deviation_Detail!F38="","",Limit_Deviation_Detail!F38) | AV16: =AS16&AT16&AU16 | AW16: =IF(COUNTIF(AV$2:AV16,AV16)=1,AV16,"") | AX16: =+IFERROR(INDEX(AS$2:AS$955,MATCH(ROW()-ROW(IQ$1),AR$2:AR$955,0)),"") | AY16: =+IFERROR(INDEX(AT$2:AT$955,MATCH(ROW()-ROW(AW$1),AR$2:AR$955,0)),"") | AZ16: =+IFERROR(INDEX(AU$2:AU$955,MATCH(ROW()-ROW(AW$1),AR$2:AR$955,0)),"") | BA16: =IF(AZ16="","",VLOOKUP(AX16&AY16,$Y$2:$AC$478,5,FALSE)) | BC16: =+IF(BI16="","",MAX(BC$1:BC15)+1) | BD16: =IF(CMS_Identification!B38="","",CMS_Identification!B38) | BE16: =IF(CMS_Identification!C38="","",CMS_Identification!C38) | BF16: =IF(CMS_Identification!E38="","",CMS_Identification!E38) | BG16: =IF(Affected_Source!AL38="","",Affected_Source!AL38) | BH16: =BD16&BE16&BF16 | BI16: =IF(COUNTIF(BH$2:BH16,BH16)=1,BH16,"") | BJ16: =BK16&" "&BL16&" "&BM16 | BK16: =+IFERROR(INDEX(BD$2:BD$955,MATCH(ROW()-ROW($BJ$1),BC$2:BC$955,0)),"") | BL16: =+IFERROR(INDEX(BE$2:BE$955,MATCH(ROW()-ROW($BJ$1),BC$2:BC$955,0)),"") | BM16: =+IFERROR(INDEX(BF$2:BF$955,MATCH(ROW()-ROW($BJ$1),BC$2:BC$955,0)),"")
A17: =+IF(D17="","",MAX(A$1:A16)+1) | B17: =IF(Affected_Source!C39="","",Affected_Source!C39) | C17: =+IFERROR(INDEX(B$2:B$501,MATCH(ROW()-ROW($C$1),A$2:A$501,0)),"") | D17: =IF(COUNTIF(B$2:B17,B17)=1,B17,"") | E17: =IF(Affected_Source!D39="","",Affected_Source!D39) | K17: =+IF(N17="","",MAX(K$1:K16)+1) | L17: =IF(CMS_Identification!E39="","",CMS_Identification!E39) | M17: =+IFERROR(INDEX(L$2:L$501,MATCH(ROW()-ROW($M$1),K$2:K$501,0)),"") | N17: =IF(COUNTIF(L$2:L17,L17)=1,L17,"") | P17: Shutdown | R17: There were no deviations from any emission limitations that apply to this facility during the reporting period. | T17: =+IF(Y17="","",MAX(T$1:T16)+1) | U17: =IF(Affected_Source!B39="","",Affected_Source!B39) | V17: =IF(Affected_Source!D39="","",Affected_Source!D39) | W17: =IF(Affected_Source!E39="","",Affected_Source!E39) | X17: =U17&V17 | Y17: =IF(COUNTIF(X$2:X17,X17)=1,X17,"") | Z17: =AA17&" "&AB17 | AA17: =+IFERROR(INDEX(U$2:U$955,MATCH(ROW()-ROW($AA$1),T$2:T$955,0)),"") | AB17: =+IFERROR(INDEX(V$2:V$955,MATCH(ROW()-ROW($AA$1),T$2:T$955,0)),"") | AC17: =+IFERROR(INDEX(W$2:W$955,MATCH(ROW()-ROW($AA$1),U$2:U$955,0)),"") | AE17: =+IF(AJ17="","",MAX(AE$1:AE16)+1) | AF17: =IF(CMS_Inoperative_OoC!B39="","",CMS_Inoperative_OoC!B39) | AG17: =IF(CMS_Inoperative_OoC!C39="","",CMS_Inoperative_OoC!C39) | AH17: =IF(CMS_Inoperative_OoC!D39="","",CMS_Inoperative_OoC!D39) | AI17: =AF17&AG17&AH17 | AJ17: =IF(COUNTIF(AI$2:AI17,AI17)=1,AI17,"") | AK17: =+IFERROR(INDEX(AF$2:AF$955,MATCH(ROW()-ROW(IE$1),AE$2:AE$955,0)),"") | AL17: =+IFERROR(INDEX(AG$2:AG$955,MATCH(ROW()-ROW(AJ$1),AE$2:AE$955,0)),"") | AM17: =+IFERROR(INDEX(AH$2:AH$955,MATCH(ROW()-ROW(AJ$1),AE$2:AE$955,0)),"") | AN17: =IF(AM17="","",VLOOKUP(AK17&AL17,$Y$2:$AC$478,5,FALSE)) | AP17: ID | AR17: =+IF(AW17="","",MAX(AR$1:AR16)+1) | AS17: =IF(Limit_Deviation_Detail!B39="","",Limit_Deviation_Detail!B39) | AT17: =IF(Limit_Deviation_Detail!C39="","",Limit_Deviation_Detail!C39) | AU17: =IF(Limit_Deviation_Detail!F39="","",Limit_Deviation_Detail!F39) | AV17: =AS17&AT17&AU17 | AW17: =IF(COUNTIF(AV$2:AV17,AV17)=1,AV17,"") | AX17: =+IFERROR(INDEX(AS$2:AS$955,MATCH(ROW()-ROW(IQ$1),AR$2:AR$955,0)),"") | AY17: =+IFERROR(INDEX(AT$2:AT$955,MATCH(ROW()-ROW(AW$1),AR$2:AR$955,0)),"") | AZ17: =+IFERROR(INDEX(AU$2:AU$955,MATCH(ROW()-ROW(AW$1),AR$2:AR$955,0)),"") | BA17: =IF(AZ17="","",VLOOKUP(AX17&AY17,$Y$2:$AC$478,5,FALSE)) | BC17: =+IF(BI17="","",MAX(BC$1:BC16)+1) | BD17: =IF(CMS_Identification!B39="","",CMS_Identification!B39) | BE17: =IF(CMS_Identification!C39="","",CMS_Identification!C39) | BF17: =IF(CMS_Identification!E39="","",CMS_Identification!E39) | BG17: =IF(Affected_Source!AL39="","",Affected_Source!AL39) | BH17: =BD17&BE17&BF17 | BI17: =IF(COUNTIF(BH$2:BH17,BH17)=1,BH17,"") | BJ17: =BK17&" "&BL17&" "&BM17 | BK17: =+IFERROR(INDEX(BD$2:BD$955,MATCH(ROW()-ROW($BJ$1),BC$2:BC$955,0)),"") | BL17: =+IFERROR(INDEX(BE$2:BE$955,MATCH(ROW()-ROW($BJ$1),BC$2:BC$955,0)),"") | BM17: =+IFERROR(INDEX(BF$2:BF$955,MATCH(ROW()-ROW($BJ$1),BC$2:BC$955,0)),"")
A18: =+IF(D18="","",MAX(A$1:A17)+1) | B18: =IF(Affected_Source!C40="","",Affected_Source!C40) | C18: =+IFERROR(INDEX(B$2:B$501,MATCH(ROW()-ROW($C$1),A$2:A$501,0)),"") | D18: =IF(COUNTIF(B$2:B18,B18)=1,B18,"") | E18: =IF(Affected_Source!D40="","",Affected_Source!D40) | K18: =+IF(N18="","",MAX(K$1:K17)+1) | L18: =IF(CMS_Identification!E40="","",CMS_Identification!E40) | M18: =+IFERROR(INDEX(L$2:L$501,MATCH(ROW()-ROW($M$1),K$2:K$501,0)),"") | N18: =IF(COUNTIF(L$2:L18,L18)=1,L18,"") | P18: Control Equipment Problems | R18: There was a deviation from any emission limitation that applies to this facility during the reporting period. | T18: =+IF(Y18="","",MAX(T$1:T17)+1) | U18: =IF(Affected_Source!B40="","",Affected_Source!B40) | V18: =IF(Affected_Source!D40="","",Affected_Source!D40) | W18: =IF(Affected_Source!E40="","",Affected_Source!E40) | X18: =U18&V18 | Y18: =IF(COUNTIF(X$2:X18,X18)=1,X18,"") | Z18: =AA18&" "&AB18 | AA18: =+IFERROR(INDEX(U$2:U$955,MATCH(ROW()-ROW($AA$1),T$2:T$955,0)),"") | AB18: =+IFERROR(INDEX(V$2:V$955,MATCH(ROW()-ROW($AA$1),T$2:T$955,0)),"") | AC18: =+IFERROR(INDEX(W$2:W$955,MATCH(ROW()-ROW($AA$1),U$2:U$955,0)),"") | AE18: =+IF(AJ18="","",MAX(AE$1:AE17)+1) | AF18: =IF(CMS_Inoperative_OoC!B40="","",CMS_Inoperative_OoC!B40) | AG18: =IF(CMS_Inoperative_OoC!C40="","",CMS_Inoperative_OoC!C40) | AH18: =IF(CMS_Inoperative_OoC!D40="","",CMS_Inoperative_OoC!D40) | AI18: =AF18&AG18&AH18 | AJ18: =IF(COUNTIF(AI$2:AI18,AI18)=1,AI18,"") | AK18: =+IFERROR(INDEX(AF$2:AF$955,MATCH(ROW()-ROW(IE$1),AE$2:AE$955,0)),"") | AL18: =+IFERROR(INDEX(AG$2:AG$955,MATCH(ROW()-ROW(AJ$1),AE$2:AE$955,0)),"") | AM18: =+IFERROR(INDEX(AH$2:AH$955,MATCH(ROW()-ROW(AJ$1),AE$2:AE$955,0)),"") | AN18: =IF(AM18="","",VLOOKUP(AK18&AL18,$Y$2:$AC$478,5,FALSE)) | AP18: IL | AR18: =+IF(AW18="","",MAX(AR$1:AR17)+1) | AS18: =IF(Limit_Deviation_Detail!B40="","",Limit_Deviation_Detail!B40) | AT18: =IF(Limit_Deviation_Detail!C40="","",Limit_Deviation_Detail!C40) | AU18: =IF(Limit_Deviation_Detail!F40="","",Limit_Deviation_Detail!F40) | AV18: =AS18&AT18&AU18 | AW18: =IF(COUNTIF(AV$2:AV18,AV18)=1,AV18,"") | AX18: =+IFERROR(INDEX(AS$2:AS$955,MATCH(ROW()-ROW(IQ$1),AR$2:AR$955,0)),"") | AY18: =+IFERROR(INDEX(AT$2:AT$955,MATCH(ROW()-ROW(AW$1),AR$2:AR$955,0)),"") | AZ18: =+IFERROR(INDEX(AU$2:AU$955,MATCH(ROW()-ROW(AW$1),AR$2:AR$955,0)),"") | BA18: =IF(AZ18="","",VLOOKUP(AX18&AY18,$Y$2:$AC$478,5,FALSE)) | BC18: =+IF(BI18="","",MAX(BC$1:BC17)+1) | BD18: =IF(CMS_Identification!B40="","",CMS_Identification!B40) | BE18: =IF(CMS_Identification!C40="","",CMS_Identification!C40) | BF18: =IF(CMS_Identification!E40="","",CMS_Identification!E40) | BG18: =IF(Affected_Source!AL40="","",Affected_Source!AL40) | BH18: =BD18&BE18&BF18 | BI18: =IF(COUNTIF(BH$2:BH18,BH18)=1,BH18,"") | BJ18: =BK18&" "&BL18&" "&BM18 | BK18: =+IFERROR(INDEX(BD$2:BD$955,MATCH(ROW()-ROW($BJ$1),BC$2:BC$955,0)),"") | BL18: =+IFERROR(INDEX(BE$2:BE$955,MATCH(ROW()-ROW($BJ$1),BC$2:BC$955,0)),"") | BM18: =+IFERROR(INDEX(BF$2:BF$955,MATCH(ROW()-ROW($BJ$1),BC$2:BC$955,0)),"")
A19: =+IF(D19="","",MAX(A$1:A18)+1) | B19: =IF(Affected_Source!C41="","",Affected_Source!C41) | C19: =+IFERROR(INDEX(B$2:B$501,MATCH(ROW()-ROW($C$1),A$2:A$501,0)),"") | D19: =IF(COUNTIF(B$2:B19,B19)=1,B19,"") | E19: =IF(Affected_Source!D41="","",Affected_Source!D41) | K19: =+IF(N19="","",MAX(K$1:K18)+1) | L19: =IF(CMS_Identification!E41="","",CMS_Identification!E41) | M19: =+IFERROR(INDEX(L$2:L$501,MATCH(ROW()-ROW($M$1),K$2:K$501,0)),"") | N19: =IF(COUNTIF(L$2:L19,L19)=1,L19,"") | P19: Process Problems | T19: =+IF(Y19="","",MAX(T$1:T18)+1) | U19: =IF(Affected_Source!B41="","",Affected_Source!B41) | V19: =IF(Affected_Source!D41="","",Affected_Source!D41) | W19: =IF(Affected_Source!E41="","",Affected_Source!E41) | X19: =U19&V19 | Y19: =IF(COUNTIF(X$2:X19,X19)=1,X19,"") | Z19: =AA19&" "&AB19 | AA19: =+IFERROR(INDEX(U$2:U$955,MATCH(ROW()-ROW($AA$1),T$2:T$955,0)),"") | AB19: =+IFERROR(INDEX(V$2:V$955,MATCH(ROW()-ROW($AA$1),T$2:T$955,0)),"") | AC19: =+IFERROR(INDEX(W$2:W$955,MATCH(ROW()-ROW($AA$1),U$2:U$955,0)),"") | AE19: =+IF(AJ19="","",MAX(AE$1:AE18)+1) | AF19: =IF(CMS_Inoperative_OoC!B41="","",CMS_Inoperative_OoC!B41) | AG19: =IF(CMS_Inoperative_OoC!C41="","",CMS_Inoperative_OoC!C41) | AH19: =IF(CMS_Inoperative_OoC!D41="","",CMS_Inoperative_OoC!D41) | AI19: =AF19&AG19&AH19 | AJ19: =IF(COUNTIF(AI$2:AI19,AI19)=1,AI19,"") | AK19: =+IFERROR(INDEX(AF$2:AF$955,MATCH(ROW()-ROW(IE$1),AE$2:AE$955,0)),"") | AL19: =+IFERROR(INDEX(AG$2:AG$955,MATCH(ROW()-ROW(AJ$1),AE$2:AE$955,0)),"") | AM19: =+IFERROR(INDEX(AH$2:AH$955,MATCH(ROW()-ROW(AJ$1),AE$2:AE$955,0)),"") | AN19: =IF(AM19="","",VLOOKUP(AK19&AL19,$Y$2:$AC$478,5,FALSE)) | AP19: IN | AR19: =+IF(AW19="","",MAX(AR$1:AR18)+1) | AS19: =IF(Limit_Deviation_Detail!B41="","",Limit_Deviation_Detail!B41) | AT19: =IF(Limit_Deviation_Detail!C41="","",Limit_Deviation_Detail!C41) | AU19: =IF(Limit_Deviation_Detail!F41="","",Limit_Deviation_Detail!F41) | AV19: =AS19&AT19&AU19 | AW19: =IF(COUNTIF(AV$2:AV19,AV19)=1,AV19,"") | AX19: =+IFERROR(INDEX(AS$2:AS$955,MATCH(ROW()-ROW(IQ$1),AR$2:AR$955,0)),"") | AY19: =+IFERROR(INDEX(AT$2:AT$955,MATCH(ROW()-ROW(AW$1),AR$2:AR$955,0)),"") | AZ19: =+IFERROR(INDEX(AU$2:AU$955,MATCH(ROW()-ROW(AW$1),AR$2:AR$955,0)),"") | BA19: =IF(AZ19="","",VLOOKUP(AX19&AY19,$Y$2:$AC$478,5,FALSE)) | BC19: =+IF(BI19="","",MAX(BC$1:BC18)+1) | BD19: =IF(CMS_Identification!B41="","",CMS_Identification!B41) | BE19: =IF(CMS_Identification!C41="","",CMS_Identification!C41) | BF19: =IF(CMS_Identification!E41="","",CMS_Identification!E41) | BG19: =IF(Affected_Source!AL41="","",Affected_Source!AL41) | BH19: =BD19&BE19&BF19 | BI19: =IF(COUNTIF(BH$2:BH19,BH19)=1,BH19,"") | BJ19: =BK19&" "&BL19&" "&BM19 | BK19: =+IFERROR(INDEX(BD$2:BD$955,MATCH(ROW()-ROW($BJ$1),BC$2:BC$955,0)),"") | BL19: =+IFERROR(INDEX(BE$2:BE$955,MATCH(ROW()-ROW($BJ$1),BC$2:BC$955,0)),"") | BM19: =+IFERROR(INDEX(BF$2:BF$955,MATCH(ROW()-ROW($BJ$1),BC$2:BC$955,0)),"")
A20: =+IF(D20="","",MAX(A$1:A19)+1) | B20: =IF(Affected_Source!C42="","",Affected_Source!C42) | C20: =+IFERROR(INDEX(B$2:B$501,MATCH(ROW()-ROW($C$1),A$2:A$501,0)),"") | D20: =IF(COUNTIF(B$2:B20,B20)=1,B20,"") | E20: =IF(Affected_Source!D42="","",Affected_Source!D42) | K20: =+IF(N20="","",MAX(K$1:K19)+1) | L20: =IF(CMS_Identification!E42="","",CMS_Identification!E42) | M20: =+IFERROR(INDEX(L$2:L$501,MATCH(ROW()-ROW($M$1),K$2:K$501,0)),"") | N20: =IF(COUNTIF(L$2:L20,L20)=1,L20,"") | P20: Other Known Causes | R20: There were no periods during which the CMS were out-of-control during the reporting period. | T20: =+IF(Y20="","",MAX(T$1:T19)+1) | U20: =IF(Affected_Source!B42="","",Affected_Source!B42) | V20: =IF(Affected_Source!D42="","",Affected_Source!D42) | W20: =IF(Affected_Source!E42="","",Affected_Source!E42) | X20: =U20&V20 | Y20: =IF(COUNTIF(X$2:X20,X20)=1,X20,"") | Z20: =AA20&" "&AB20 | AA20: =+IFERROR(INDEX(U$2:U$955,MATCH(ROW()-ROW($AA$1),T$2:T$955,0)),"") | AB20: =+IFERROR(INDEX(V$2:V$955,MATCH(ROW()-ROW($AA$1),T$2:T$955,0)),"") | AC20: =+IFERROR(INDEX(W$2:W$955,MATCH(ROW()-ROW($AA$1),U$2:U$955,0)),"") | AE20: =+IF(AJ20="","",MAX(AE$1:AE19)+1) | AF20: =IF(CMS_Inoperative_OoC!B42="","",CMS_Inoperative_OoC!B42) | AG20: =IF(CMS_Inoperative_OoC!C42="","",CMS_Inoperative_OoC!C42) | AH20: =IF(CMS_Inoperative_OoC!D42="","",CMS_Inoperative_OoC!D42) | AI20: =AF20&AG20&AH20 | AJ20: =IF(COUNTIF(AI$2:AI20,AI20)=1,AI20,"") | AK20: =+IFERROR(INDEX(AF$2:AF$955,MATCH(ROW()-ROW(IE$1),AE$2:AE$955,0)),"") | AL20: =+IFERROR(INDEX(AG$2:AG$955,MATCH(ROW()-ROW(AJ$1),AE$2:AE$955,0)),"") | AM20: =+IFERROR(INDEX(AH$2:AH$955,MATCH(ROW()-ROW(AJ$1),AE$2:AE$955,0)),"") | AN20: =IF(AM20="","",VLOOKUP(AK20&AL20,$Y$2:$AC$478,5,FALSE)) | AP20: KS | AR20: =+IF(AW20="","",MAX(AR$1:AR19)+1) | AS20: =IF(Limit_Deviation_Detail!B42="","",Limit_Deviation_Detail!B42) | AT20: =IF(Limit_Deviation_Detail!C42="","",Limit_Deviation_Detail!C42) | AU20: =IF(Limit_Deviation_Detail!F42="","",Limit_Deviation_Detail!F42) | AV20: =AS20&AT20&AU20 | AW20: =IF(COUNTIF(AV$2:AV20,AV20)=1,AV20,"") | AX20: =+IFERROR(INDEX(AS$2:AS$955,MATCH(ROW()-ROW(IQ$1),AR$2:AR$955,0)),"") | AY20: =+IFERROR(INDEX(AT$2:AT$955,MATCH(ROW()-ROW(AW$1),AR$2:AR$955,0)),"") | AZ20: =+IFERROR(INDEX(AU$2:AU$955,MATCH(ROW()-ROW(AW$1),AR$2:AR$955,0)),"") | BA20: =IF(AZ20="","",VLOOKUP(AX20&AY20,$Y$2:$AC$478,5,FALSE)) | BC20: =+IF(BI20="","",MAX(BC$1:BC19)+1) | BD20: =IF(CMS_Identification!B42="","",CMS_Identification!B42) | BE20: =IF(CMS_Identification!C42="","",CMS_Identification!C42) | BF20: =IF(CMS_Identification!E42="","",CMS_Identification!E42) | BG20: =IF(Affected_Source!AL42="","",Affected_Source!AL42) | BH20: =BD20&BE20&BF20 | BI20: =IF(COUNTIF(BH$2:BH20,BH20)=1,BH20,"") | BJ20: =BK20&" "&BL20&" "&BM20 | BK20: =+IFERROR(INDEX(BD$2:BD$955,MATCH(ROW()-ROW($BJ$1),BC$2:BC$955,0)),"") | BL20: =+IFERROR(INDEX(BE$2:BE$955,MATCH(ROW()-ROW($BJ$1),BC$2:BC$955,0)),"") | BM20: =+IFERROR(INDEX(BF$2:BF$955,MATCH(ROW()-ROW($BJ$1),BC$2:BC$955,0)),"")
A21: =+IF(D21="","",MAX(A$1:A20)+1) | B21: =IF(Affected_Source!C43="","",Affected_Source!C43) | C21: =+IFERROR(INDEX(B$2:B$501,MATCH(ROW()-ROW($C$1),A$2:A$501,0)),"") | D21: =IF(COUNTIF(B$2:B21,B21)=1,B21,"") | E21: =IF(Affected_Source!D43="","",Affected_Source!D43) | K21: =+IF(N21="","",MAX(K$1:K20)+1) | L21: =IF(CMS_Identification!E43="","",CMS_Identification!E43) | M21: =+IFERROR(INDEX(L$2:L$501,MATCH(ROW()-ROW($M$1),K$2:K$501,0)),"") | N21: =IF(COUNTIF(L$2:L21,L21)=1,L21,"") | P21: Other Unknown Causes | R21: There were periods during which the operating parameter monitoring systems were out-of-control. | T21: =+IF(Y21="","",MAX(T$1:T20)+1) | U21: =IF(Affected_Source!B43="","",Affected_Source!B43) | V21: =IF(Affected_Source!D43="","",Affected_Source!D43) | W21: =IF(Affected_Source!E43="","",Affected_Source!E43) | X21: =U21&V21 | Y21: =IF(COUNTIF(X$2:X21,X21)=1,X21,"") | Z21: =AA21&" "&AB21 | AA21: =+IFERROR(INDEX(U$2:U$955,MATCH(ROW()-ROW($AA$1),T$2:T$955,0)),"") | AB21: =+IFERROR(INDEX(V$2:V$955,MATCH(ROW()-ROW($AA$1),T$2:T$955,0)),"") | AC21: =+IFERROR(INDEX(W$2:W$955,MATCH(ROW()-ROW($AA$1),U$2:U$955,0)),"") | AE21: =+IF(AJ21="","",MAX(AE$1:AE20)+1) | AF21: =IF(CMS_Inoperative_OoC!B43="","",CMS_Inoperative_OoC!B43) | AG21: =IF(CMS_Inoperative_OoC!C43="","",CMS_Inoperative_OoC!C43) | AH21: =IF(CMS_Inoperative_OoC!D43="","",CMS_Inoperative_OoC!D43) | AI21: =AF21&AG21&AH21 | AJ21: =IF(COUNTIF(AI$2:AI21,AI21)=1,AI21,"") | AK21: =+IFERROR(INDEX(AF$2:AF$955,MATCH(ROW()-ROW(IE$1),AE$2:AE$955,0)),"") | AL21: =+IFERROR(INDEX(AG$2:AG$955,MATCH(ROW()-ROW(AJ$1),AE$2:AE$955,0)),"") | AM21: =+IFERROR(INDEX(AH$2:AH$955,MATCH(ROW()-ROW(AJ$1),AE$2:AE$955,0)),"") | AN21: =IF(AM21="","",VLOOKUP(AK21&AL21,$Y$2:$AC$478,5,FALSE)) | AP21: KY | AR21: =+IF(AW21="","",MAX(AR$1:AR20)+1) | AS21: =IF(Limit_Deviation_Detail!B43="","",Limit_Deviation_Detail!B43) | AT21: =IF(Limit_Deviation_Detail!C43="","",Limit_Deviation_Detail!C43) | AU21: =IF(Limit_Deviation_Detail!F43="","",Limit_Deviation_Detail!F43) | AV21: =AS21&AT21&AU21 | AW21: =IF(COUNTIF(AV$2:AV21,AV21)=1,AV21,"") | AX21: =+IFERROR(INDEX(AS$2:AS$955,MATCH(ROW()-ROW(IQ$1),AR$2:AR$955,0)),"") | AY21: =+IFERROR(INDEX(AT$2:AT$955,MATCH(ROW()-ROW(AW$1),AR$2:AR$955,0)),"") | AZ21: =+IFERROR(INDEX(AU$2:AU$955,MATCH(ROW()-ROW(AW$1),AR$2:AR$955,0)),"") | BA21: =IF(AZ21="","",VLOOKUP(AX21&AY21,$Y$2:$AC$478,5,FALSE)) | BC21: =+IF(BI21="","",MAX(BC$1:BC20)+1) | BD21: =IF(CMS_Identification!B43="","",CMS_Identification!B43) | BE21: =IF(CMS_Identification!C43="","",CMS_Identification!C43) | BF21: =IF(CMS_Identification!E43="","",CMS_Identification!E43) | BG21: =IF(Affected_Source!AL43="","",Affected_Source!AL43) | BH21: =BD21&BE21&BF21 | BI21: =IF(COUNTIF(BH$2:BH21,BH21)=1,BH21,"") | BJ21: =BK21&" "&BL21&" "&BM21 | BK21: =+IFERROR(INDEX(BD$2:BD$955,MATCH(ROW()-ROW($BJ$1),BC$2:BC$955,0)),"") | BL21: =+IFERROR(INDEX(BE$2:BE$955,MATCH(ROW()-ROW($BJ$1),BC$2:BC$955,0)),"") | BM21: =+IFERROR(INDEX(BF$2:BF$955,MATCH(ROW()-ROW($BJ$1),BC$2:BC$955,0)),"")
A22: =+IF(D22="","",MAX(A$1:A21)+1) | B22: =IF(Affected_Source!C44="","",Affected_Source!C44) | C22: =+IFERROR(INDEX(B$2:B$501,MATCH(ROW()-ROW($C$1),A$2:A$501,0)),"") | D22: =IF(COUNTIF(B$2:B22,B22)=1,B22,"") | E22: =IF(Affected_Source!D44="","",Affected_Source!D44) | K22: =+IF(N22="","",MAX(K$1:K21)+1) | L22: =IF(CMS_Identification!E44="","",CMS_Identification!E44) | M22: =+IFERROR(INDEX(L$2:L$501,MATCH(ROW()-ROW($M$1),K$2:K$501,0)),"") | N22: =IF(COUNTIF(L$2:L22,L22)=1,L22,"") | T22: =+IF(Y22="","",MAX(T$1:T21)+1) | U22: =IF(Affected_Source!B44="","",Affected_Source!B44) | V22: =IF(Affected_Source!D44="","",Affected_Source!D44) | W22: =IF(Affected_Source!E44="","",Affected_Source!E44) | X22: =U22&V22 | Y22: =IF(COUNTIF(X$2:X22,X22)=1,X22,"") | Z22: =AA22&" "&AB22 | AA22: =+IFERROR(INDEX(U$2:U$955,MATCH(ROW()-ROW($AA$1),T$2:T$955,0)),"") | AB22: =+IFERROR(INDEX(V$2:V$955,MATCH(ROW()-ROW($AA$1),T$2:T$955,0)),"") | AC22: =+IFERROR(INDEX(W$2:W$955,MATCH(ROW()-ROW($AA$1),U$2:U$955,0)),"") | AE22: =+IF(AJ22="","",MAX(AE$1:AE21)+1) | AF22: =IF(CMS_Inoperative_OoC!B44="","",CMS_Inoperative_OoC!B44) | AG22: =IF(CMS_Inoperative_OoC!C44="","",CMS_Inoperative_OoC!C44) | AH22: =IF(CMS_Inoperative_OoC!D44="","",CMS_Inoperative_OoC!D44) | AI22: =AF22&AG22&AH22 | AJ22: =IF(COUNTIF(AI$2:AI22,AI22)=1,AI22,"") | AK22: =+IFERROR(INDEX(AF$2:AF$955,MATCH(ROW()-ROW(IE$1),AE$2:AE$955,0)),"") | AL22: =+IFERROR(INDEX(AG$2:AG$955,MATCH(ROW()-ROW(AJ$1),AE$2:AE$955,0)),"") | AM22: =+IFERROR(INDEX(AH$2:AH$955,MATCH(ROW()-ROW(AJ$1),AE$2:AE$955,0)),"") | AN22: =IF(AM22="","",VLOOKUP(AK22&AL22,$Y$2:$AC$478,5,FALSE)) | AP22: LA | AR22: =+IF(AW22="","",MAX(AR$1:AR21)+1) | AS22: =IF(Limit_Deviation_Detail!B44="","",Limit_Deviation_Detail!B44) | AT22: =IF(Limit_Deviation_Detail!C44="","",Limit_Deviation_Detail!C44) | AU22: =IF(Limit_Deviation_Detail!F44="","",Limit_Deviation_Detail!F44) | AV22: =AS22&AT22&AU22 | AW22: =IF(COUNTIF(AV$2:AV22,AV22)=1,AV22,"") | AX22: =+IFERROR(INDEX(AS$2:AS$955,MATCH(ROW()-ROW(IQ$1),AR$2:AR$955,0)),"") | AY22: =+IFERROR(INDEX(AT$2:AT$955,MATCH(ROW()-ROW(AW$1),AR$2:AR$955,0)),"") | AZ22: =+IFERROR(INDEX(AU$2:AU$955,MATCH(ROW()-ROW(AW$1),AR$2:AR$955,0)),"") | BA22: =IF(AZ22="","",VLOOKUP(AX22&AY22,$Y$2:$AC$478,5,FALSE)) | BC22: =+IF(BI22="","",MAX(BC$1:BC21)+1) | BD22: =IF(CMS_Identification!B44="","",CMS_Identification!B44) | BE22: =IF(CMS_Identification!C44="","",CMS_Identification!C44) | BF22: =IF(CMS_Identification!E44="","",CMS_Identification!E44) | BG22: =IF(Affected_Source!AL44="","",Affected_Source!AL44) | BH22: =BD22&BE22&BF22 | BI22: =IF(COUNTIF(BH$2:BH22,BH22)=1,BH22,"") | BJ22: =BK22&" "&BL22&" "&BM22 | BK22: =+IFERROR(INDEX(BD$2:BD$955,MATCH(ROW()-ROW($BJ$1),BC$2:BC$955,0)),"") | BL22: =+IFERROR(INDEX(BE$2:BE$955,MATCH(ROW()-ROW($BJ$1),BC$2:BC$955,0)),"") | BM22: =+IFERROR(INDEX(BF$2:BF$955,MATCH(ROW()-ROW($BJ$1),BC$2:BC$955,0)),"")
A23: =+IF(D23="","",MAX(A$1:A22)+1) | B23: =IF(Affected_Source!C45="","",Affected_Source!C45) | C23: =+IFERROR(INDEX(B$2:B$501,MATCH(ROW()-ROW($C$1),A$2:A$501,0)),"") | D23: =IF(COUNTIF(B$2:B23,B23)=1,B23,"") | E23: =IF(Affected_Source!D45="","",Affected_Source!D45) | K23: =+IF(N23="","",MAX(K$1:K22)+1) | L23: =IF(CMS_Identification!E45="","",CMS_Identification!E45) | M23: =+IFERROR(INDEX(L$2:L$501,MATCH(ROW()-ROW($M$1),K$2:K$501,0)),"") | N23: =IF(COUNTIF(L$2:L23,L23)=1,L23,"") | P23: Yes No | T23: =+IF(Y23="","",MAX(T$1:T22)+1) | U23: =IF(Affected_Source!B45="","",Affected_Source!B45) | V23: =IF(Affected_Source!D45="","",Affected_Source!D45) | W23: =IF(Affected_Source!E45="","",Affected_Source!E45) | X23: =U23&V23 | Y23: =IF(COUNTIF(X$2:X23,X23)=1,X23,"") | Z23: =AA23&" "&AB23 | AA23: =+IFERROR(INDEX(U$2:U$955,MATCH(ROW()-ROW($AA$1),T$2:T$955,0)),"") | AB23: =+IFERROR(INDEX(V$2:V$955,MATCH(ROW()-ROW($AA$1),T$2:T$955,0)),"") | AC23: =+IFERROR(INDEX(W$2:W$955,MATCH(ROW()-ROW($AA$1),U$2:U$955,0)),"") | AE23: =+IF(AJ23="","",MAX(AE$1:AE22)+1) | AF23: =IF(CMS_Inoperative_OoC!B45="","",CMS_Inoperative_OoC!B45) | AG23: =IF(CMS_Inoperative_OoC!C45="","",CMS_Inoperative_OoC!C45) | AH23: =IF(CMS_Inoperative_OoC!D45="","",CMS_Inoperative_OoC!D45) | AI23: =AF23&AG23&AH23 | AJ23: =IF(COUNTIF(AI$2:AI23,AI23)=1,AI23,"") | AK23: =+IFERROR(INDEX(AF$2:AF$955,MATCH(ROW()-ROW(IE$1),AE$2:AE$955,0)),"") | AL23: =+IFERROR(INDEX(AG$2:AG$955,MATCH(ROW()-ROW(AJ$1),AE$2:AE$955,0)),"") | AM23: =+IFERROR(INDEX(AH$2:AH$955,MATCH(ROW()-ROW(AJ$1),AE$2:AE$955,0)),"") | AN23: =IF(AM23="","",VLOOKUP(AK23&AL23,$Y$2:$AC$478,5,FALSE)) | AP23: MA | AR23: =+IF(AW23="","",MAX(AR$1:AR22)+1) | AS23: =IF(Limit_Deviation_Detail!B45="","",Limit_Deviation_Detail!B45) | AT23: =IF(Limit_Deviation_Detail!C45="","",Limit_Deviation_Detail!C45) | AU23: =IF(Limit_Deviation_Detail!F45="","",Limit_Deviation_Detail!F45) | AV23: =AS23&AT23&AU23 | AW23: =IF(COUNTIF(AV$2:AV23,AV23)=1,AV23,"") | AX23: =+IFERROR(INDEX(AS$2:AS$955,MATCH(ROW()-ROW(IQ$1),AR$2:AR$955,0)),"") | AY23: =+IFERROR(INDEX(AT$2:AT$955,MATCH(ROW()-ROW(AW$1),AR$2:AR$955,0)),"") | AZ23: =+IFERROR(INDEX(AU$2:AU$955,MATCH(ROW()-ROW(AW$1),AR$2:AR$955,0)),"") | BA23: =IF(AZ23="","",VLOOKUP(AX23&AY23,$Y$2:$AC$478,5,FALSE)) | BC23: =+IF(BI23="","",MAX(BC$1:BC22)+1) | BD23: =IF(CMS_Identification!B45="","",CMS_Identification!B45) | BE23: =IF(CMS_Identification!C45="","",CMS_Identification!C45) | BF23: =IF(CMS_Identification!E45="","",CMS_Identification!E45) | BG23: =IF(Affected_Source!AL45="","",Affected_Source!AL45) | BH23: =BD23&BE23&BF23 | BI23: =IF(COUNTIF(BH$2:BH23,BH23)=1,BH23,"") | BJ23: =BK23&" "&BL23&" "&BM23 | BK23: =+IFERROR(INDEX(BD$2:BD$955,MATCH(ROW()-ROW($BJ$1),BC$2:BC$955,0)),"") | BL23: =+IFERROR(INDEX(BE$2:BE$955,MATCH(ROW()-ROW($BJ$1),BC$2:BC$955,0)),"") | BM23: =+IFERROR(INDEX(BF$2:BF$955,MATCH(ROW()-ROW($BJ$1),BC$2:BC$955,0)),"")
A24: =+IF(D24="","",MAX(A$1:A23)+1) | B24: =IF(Affected_Source!C46="","",Affected_Source!C46) | C24: =+IFERROR(INDEX(B$2:B$501,MATCH(ROW()-ROW($C$1),A$2:A$501,0)),"") | D24: =IF(COUNTIF(B$2:B24,B24)=1,B24,"") | E24: =IF(Affected_Source!D46="","",Affected_Source!D46) | K24: =+IF(N24="","",MAX(K$1:K23)+1) | L24: =IF(CMS_Identification!E46="","",CMS_Identification!E46) | M24: =+IFERROR(INDEX(L$2:L$501,MATCH(ROW()-ROW($M$1),K$2:K$501,0)),"") | N24: =IF(COUNTIF(L$2:L24,L24)=1,L24,"") | P24: Yes | T24: =+IF(Y24="","",MAX(T$1:T23)+1) | U24: =IF(Affected_Source!B46="","",Affected_Source!B46) | V24: =IF(Affected_Source!D46="","",Affected_Source!D46) | W24: =IF(Affected_Source!E46="","",Affected_Source!E46) | X24: =U24&V24 | Y24: =IF(COUNTIF(X$2:X24,X24)=1,X24,"") | Z24: =AA24&" "&AB24 | AA24: =+IFERROR(INDEX(U$2:U$955,MATCH(ROW()-ROW($AA$1),T$2:T$955,0)),"") | AB24: =+IFERROR(INDEX(V$2:V$955,MATCH(ROW()-ROW($AA$1),T$2:T$955,0)),"") | AC24: =+IFERROR(INDEX(W$2:W$955,MATCH(ROW()-ROW($AA$1),U$2:U$955,0)),"") | AE24: =+IF(AJ24="","",MAX(AE$1:AE23)+1) | AF24: =IF(CMS_Inoperative_OoC!B46="","",CMS_Inoperative_OoC!B46) | AG24: =IF(CMS_Inoperative_OoC!C46="","",CMS_Inoperative_OoC!C46) | AH24: =IF(CMS_Inoperative_OoC!D46="","",CMS_Inoperative_OoC!D46) | AI24: =AF24&AG24&AH24 | AJ24: =IF(COUNTIF(AI$2:AI24,AI24)=1,AI24,"") | AK24: =+IFERROR(INDEX(AF$2:AF$955,MATCH(ROW()-ROW(IE$1),AE$2:AE$955,0)),"") | AL24: =+IFERROR(INDEX(AG$2:AG$955,MATCH(ROW()-ROW(AJ$1),AE$2:AE$955,0)),"") | AM24: =+IFERROR(INDEX(AH$2:AH$955,MATCH(ROW()-ROW(AJ$1),AE$2:AE$955,0)),"") | AN24: =IF(AM24="","",VLOOKUP(AK24&AL24,$Y$2:$AC$478,5,FALSE)) | AP24: MD | AR24: =+IF(AW24="","",MAX(AR$1:AR23)+1) | AS24: =IF(Limit_Deviation_Detail!B46="","",Limit_Deviation_Detail!B46) | AT24: =IF(Limit_Deviation_Detail!C46="","",Limit_Deviation_Detail!C46) | AU24: =IF(Limit_Deviation_Detail!F46="","",Limit_Deviation_Detail!F46) | AV24: =AS24&AT24&AU24 | AW24: =IF(COUNTIF(AV$2:AV24,AV24)=1,AV24,"") | AX24: =+IFERROR(INDEX(AS$2:AS$955,MATCH(ROW()-ROW(IQ$1),AR$2:AR$955,0)),"") | AY24: =+IFERROR(INDEX(AT$2:AT$955,MATCH(ROW()-ROW(AW$1),AR$2:AR$955,0)),"") | AZ24: =+IFERROR(INDEX(AU$2:AU$955,MATCH(ROW()-ROW(AW$1),AR$2:AR$955,0)),"") | BA24: =IF(AZ24="","",VLOOKUP(AX24&AY24,$Y$2:$AC$478,5,FALSE)) | BC24: =+IF(BI24="","",MAX(BC$1:BC23)+1) | BD24: =IF(CMS_Identification!B46="","",CMS_Identification!B46) | BE24: =IF(CMS_Identification!C46="","",CMS_Identification!C46) | BF24: =IF(CMS_Identification!E46="","",CMS_Identification!E46) | BG24: =IF(Affected_Source!AL46="","",Affected_Source!AL46) | BH24: =BD24&BE24&BF24 | BI24: =IF(COUNTIF(BH$2:BH24,BH24)=1,BH24,"") | BJ24: =BK24&" "&BL24&" "&BM24 | BK24: =+IFERROR(INDEX(BD$2:BD$955,MATCH(ROW()-ROW($BJ$1),BC$2:BC$955,0)),"") | BL24: =+IFERROR(INDEX(BE$2:BE$955,MATCH(ROW()-ROW($BJ$1),BC$2:BC$955,0)),"") | BM24: =+IFERROR(INDEX(BF$2:BF$955,MATCH(ROW()-ROW($BJ$1),BC$2:BC$955,0)),"")
A25: =+IF(D25="","",MAX(A$1:A24)+1) | B25: =IF(Affected_Source!C47="","",Affected_Source!C47) | C25: =+IFERROR(INDEX(B$2:B$501,MATCH(ROW()-ROW($C$1),A$2:A$501,0)),"") | D25: =IF(COUNTIF(B$2:B25,B25)=1,B25,"") | E25: =IF(Affected_Source!D47="","",Affected_Source!D47) | K25: =+IF(N25="","",MAX(K$1:K24)+1) | L25: =IF(CMS_Identification!E47="","",CMS_Identification!E47) | M25: =+IFERROR(INDEX(L$2:L$501,MATCH(ROW()-ROW($M$1),K$2:K$501,0)),"") | N25: =IF(COUNTIF(L$2:L25,L25)=1,L25,"") | P25: No | T25: =+IF(Y25="","",MAX(T$1:T24)+1) | U25: =IF(Affected_Source!B47="","",Affected_Source!B47) | V25: =IF(Affected_Source!D47="","",Affected_Source!D47) | W25: =IF(Affected_Source!E47="","",Affected_Source!E47) | X25: =U25&V25 | Y25: =IF(COUNTIF(X$2:X25,X25)=1,X25,"") | Z25: =AA25&" "&AB25 | AA25: =+IFERROR(INDEX(U$2:U$955,MATCH(ROW()-ROW($AA$1),T$2:T$955,0)),"") | AB25: =+IFERROR(INDEX(V$2:V$955,MATCH(ROW()-ROW($AA$1),T$2:T$955,0)),"") | AC25: =+IFERROR(INDEX(W$2:W$955,MATCH(ROW()-ROW($AA$1),U$2:U$955,0)),"") | AE25: =+IF(AJ25="","",MAX(AE$1:AE24)+1) | AF25: =IF(CMS_Inoperative_OoC!B47="","",CMS_Inoperative_OoC!B47) | AG25: =IF(CMS_Inoperative_OoC!C47="","",CMS_Inoperative_OoC!C47) | AH25: =IF(CMS_Inoperative_OoC!D47="","",CMS_Inoperative_OoC!D47) | AI25: =AF25&AG25&AH25 | AJ25: =IF(COUNTIF(AI$2:AI25,AI25)=1,AI25,"") | AK25: =+IFERROR(INDEX(AF$2:AF$955,MATCH(ROW()-ROW(IE$1),AE$2:AE$955,0)),"") | AL25: =+IFERROR(INDEX(AG$2:AG$955,MATCH(ROW()-ROW(AJ$1),AE$2:AE$955,0)),"") | AM25: =+IFERROR(INDEX(AH$2:AH$955,MATCH(ROW()-ROW(AJ$1),AE$2:AE$955,0)),"") | AN25: =IF(AM25="","",VLOOKUP(AK25&AL25,$Y$2:$AC$478,5,FALSE)) | AP25: ME | AR25: =+IF(AW25="","",MAX(AR$1:AR24)+1) | AS25: =IF(Limit_Deviation_Detail!B47="","",Limit_Deviation_Detail!B47) | AT25: =IF(Limit_Deviation_Detail!C47="","",Limit_Deviation_Detail!C47) | AU25: =IF(Limit_Deviation_Detail!F47="","",Limit_Deviation_Detail!F47) | AV25: =AS25&AT25&AU25 | AW25: =IF(COUNTIF(AV$2:AV25,AV25)=1,AV25,"") | AX25: =+IFERROR(INDEX(AS$2:AS$955,MATCH(ROW()-ROW(IQ$1),AR$2:AR$955,0)),"") | AY25: =+IFERROR(INDEX(AT$2:AT$955,MATCH(ROW()-ROW(AW$1),AR$2:AR$955,0)),"") | AZ25: =+IFERROR(INDEX(AU$2:AU$955,MATCH(ROW()-ROW(AW$1),AR$2:AR$955,0)),"") | BA25: =IF(AZ25="","",VLOOKUP(AX25&AY25,$Y$2:$AC$478,5,FALSE)) | BC25: =+IF(BI25="","",MAX(BC$1:BC24)+1) | BD25: =IF(CMS_Identification!B47="","",CMS_Identification!B47) | BE25: =IF(CMS_Identification!C47="","",CMS_Identification!C47) | BF25: =IF(CMS_Identification!E47="","",CMS_Identification!E47) | BG25: =IF(Affected_Source!AL47="","",Affected_Source!AL47) | BH25: =BD25&BE25&BF25 | BI25: =IF(COUNTIF(BH$2:BH25,BH25)=1,BH25,"") | BJ25: =BK25&" "&BL25&" "&BM25 | BK25: =+IFERROR(INDEX(BD$2:BD$955,MATCH(ROW()-ROW($BJ$1),BC$2:BC$955,0)),"") | BL25: =+IFERROR(INDEX(BE$2:BE$955,MATCH(ROW()-ROW($BJ$1),BC$2:BC$955,0)),"") | BM25: =+IFERROR(INDEX(BF$2:BF$955,MATCH(ROW()-ROW($BJ$1),BC$2:BC$955,0)),"")
A26: =+IF(D26="","",MAX(A$1:A25)+1) | B26: =IF(Affected_Source!C48="","",Affected_Source!C48) | C26: =+IFERROR(INDEX(B$2:B$501,MATCH(ROW()-ROW($C$1),A$2:A$501,0)),"") | D26: =IF(COUNTIF(B$2:B26,B26)=1,B26,"") | E26: =IF(Affected_Source!D48="","",Affected_Source!D48) | K26: =+IF(N26="","",MAX(K$1:K25)+1) | L26: =IF(CMS_Identification!E48="","",CMS_Identification!E48) | M26: =+IFERROR(INDEX(L$2:L$501,MATCH(ROW()-ROW($M$1),K$2:K$501,0)),"") | N26: =IF(COUNTIF(L$2:L26,L26)=1,L26,"") | T26: =+IF(Y26="","",MAX(T$1:T25)+1) | U26: =IF(Affected_Source!B48="","",Affected_Source!B48) | V26: =IF(Affected_Source!D48="","",Affected_Source!D48) | W26: =IF(Affected_Source!E48="","",Affected_Source!E48) | X26: =U26&V26 | Y26: =IF(COUNTIF(X$2:X26,X26)=1,X26,"") | Z26: =AA26&" "&AB26 | AA26: =+IFERROR(INDEX(U$2:U$955,MATCH(ROW()-ROW($AA$1),T$2:T$955,0)),"") | AB26: =+IFERROR(INDEX(V$2:V$955,MATCH(ROW()-ROW($AA$1),T$2:T$955,0)),"") | AC26: =+IFERROR(INDEX(W$2:W$955,MATCH(ROW()-ROW($AA$1),U$2:U$955,0)),"") | AE26: =+IF(AJ26="","",MAX(AE$1:AE25)+1) | AF26: =IF(CMS_Inoperative_OoC!B48="","",CMS_Inoperative_OoC!B48) | AG26: =IF(CMS_Inoperative_OoC!C48="","",CMS_Inoperative_OoC!C48) | AH26: =IF(CMS_Inoperative_OoC!D48="","",CMS_Inoperative_OoC!D48) | AI26: =AF26&AG26&AH26 | AJ26: =IF(COUNTIF(AI$2:AI26,AI26)=1,AI26,"") | AK26: =+IFERROR(INDEX(AF$2:AF$955,MATCH(ROW()-ROW(IE$1),AE$2:AE$955,0)),"") | AL26: =+IFERROR(INDEX(AG$2:AG$955,MATCH(ROW()-ROW(AJ$1),AE$2:AE$955,0)),"") | AM26: =+IFERROR(INDEX(AH$2:AH$955,MATCH(ROW()-ROW(AJ$1),AE$2:AE$955,0)),"") | AN26: =IF(AM26="","",VLOOKUP(AK26&AL26,$Y$2:$AC$478,5,FALSE)) | AP26: MI | AR26: =+IF(AW26="","",MAX(AR$1:AR25)+1) | AS26: =IF(Limit_Deviation_Detail!B48="","",Limit_Deviation_Detail!B48) | AT26: =IF(Limit_Deviation_Detail!C48="","",Limit_Deviation_Detail!C48) | AU26: =IF(Limit_Deviation_Detail!F48="","",Limit_Deviation_Detail!F48) | AV26: =AS26&AT26&AU26 | AW26: =IF(COUNTIF(AV$2:AV26,AV26)=1,AV26,"") | AX26: =+IFERROR(INDEX(AS$2:AS$955,MATCH(ROW()-ROW(IQ$1),AR$2:AR$955,0)),"") | AY26: =+IFERROR(INDEX(AT$2:AT$955,MATCH(ROW()-ROW(AW$1),AR$2:AR$955,0)),"") | AZ26: =+IFERROR(INDEX(AU$2:AU$955,MATCH(ROW()-ROW(AW$1),AR$2:AR$955,0)),"") | BA26: =IF(AZ26="","",VLOOKUP(AX26&AY26,$Y$2:$AC$478,5,FALSE)) | BC26: =+IF(BI26="","",MAX(BC$1:BC25)+1) | BD26: =IF(CMS_Identification!B48="","",CMS_Identification!B48) | BE26: =IF(CMS_Identification!C48="","",CMS_Identification!C48) | BF26: =IF(CMS_Identification!E48="","",CMS_Identification!E48) | BG26: =IF(Affected_Source!AL48="","",Affected_Source!AL48) | BH26: =BD26&BE26&BF26 | BI26: =IF(COUNTIF(BH$2:BH26,BH26)=1,BH26,"") | BJ26: =BK26&" "&BL26&" "&BM26 | BK26: =+IFERROR(INDEX(BD$2:BD$955,MATCH(ROW()-ROW($BJ$1),BC$2:BC$955,0)),"") | BL26: =+IFERROR(INDEX(BE$2:BE$955,MATCH(ROW()-ROW($BJ$1),BC$2:BC$955,0)),"") | BM26: =+IFERROR(INDEX(BF$2:BF$955,MATCH(ROW()-ROW($BJ$1),BC$2:BC$955,0)),"")
A27: =+IF(D27="","",MAX(A$1:A26)+1) | B27: =IF(Affected_Source!C49="","",Affected_Source!C49) | C27: =+IFERROR(INDEX(B$2:B$501,MATCH(ROW()-ROW($C$1),A$2:A$501,0)),"") | D27: =IF(COUNTIF(B$2:B27,B27)=1,B27,"") | E27: =IF(Affected_Source!D49="","",Affected_Source!D49) | K27: =+IF(N27="","",MAX(K$1:K26)+1) | L27: =IF(CMS_Identification!E49="","",CMS_Identification!E49) | M27: =+IFERROR(INDEX(L$2:L$501,MATCH(ROW()-ROW($M$1),K$2:K$501,0)),"") | N27: =IF(COUNTIF(L$2:L27,L27)=1,L27,"") | P27: Periods | T27: =+IF(Y27="","",MAX(T$1:T26)+1) | U27: =IF(Affected_Source!B49="","",Affected_Source!B49) | V27: =IF(Affected_Source!D49="","",Affected_Source!D49) | W27: =IF(Affected_Source!E49="","",Affected_Source!E49) | X27: =U27&V27 | Y27: =IF(COUNTIF(X$2:X27,X27)=1,X27,"") | Z27: =AA27&" "&AB27 | AA27: =+IFERROR(INDEX(U$2:U$955,MATCH(ROW()-ROW($AA$1),T$2:T$955,0)),"") | AB27: =+IFERROR(INDEX(V$2:V$955,MATCH(ROW()-ROW($AA$1),T$2:T$955,0)),"") | AC27: =+IFERROR(INDEX(W$2:W$955,MATCH(ROW()-ROW($AA$1),U$2:U$955,0)),"") | AE27: =+IF(AJ27="","",MAX(AE$1:AE26)+1) | AF27: =IF(CMS_Inoperative_OoC!B49="","",CMS_Inoperative_OoC!B49) | AG27: =IF(CMS_Inoperative_OoC!C49="","",CMS_Inoperative_OoC!C49) | AH27: =IF(CMS_Inoperative_OoC!D49="","",CMS_Inoperative_OoC!D49) | AI27: =AF27&AG27&AH27 | AJ27: =IF(COUNTIF(AI$2:AI27,AI27)=1,AI27,"") | AK27: =+IFERROR(INDEX(AF$2:AF$955,MATCH(ROW()-ROW(IE$1),AE$2:AE$955,0)),"") | AL27: =+IFERROR(INDEX(AG$2:AG$955,MATCH(ROW()-ROW(AJ$1),AE$2:AE$955,0)),"") | AM27: =+IFERROR(INDEX(AH$2:AH$955,MATCH(ROW()-ROW(AJ$1),AE$2:AE$955,0)),"") | AN27: =IF(AM27="","",VLOOKUP(AK27&AL27,$Y$2:$AC$478,5,FALSE)) | AP27: MN | AR27: =+IF(AW27="","",MAX(AR$1:AR26)+1) | AS27: =IF(Limit_Deviation_Detail!B49="","",Limit_Deviation_Detail!B49) | AT27: =IF(Limit_Deviation_Detail!C49="","",Limit_Deviation_Detail!C49) | AU27: =IF(Limit_Deviation_Detail!F49="","",Limit_Deviation_Detail!F49) | AV27: =AS27&AT27&AU27 | AW27: =IF(COUNTIF(AV$2:AV27,AV27)=1,AV27,"") | AX27: =+IFERROR(INDEX(AS$2:AS$955,MATCH(ROW()-ROW(IQ$1),AR$2:AR$955,0)),"") | AY27: =+IFERROR(INDEX(AT$2:AT$955,MATCH(ROW()-ROW(AW$1),AR$2:AR$955,0)),"") | AZ27: =+IFERROR(INDEX(AU$2:AU$955,MATCH(ROW()-ROW(AW$1),AR$2:AR$955,0)),"") | BA27: =IF(AZ27="","",VLOOKUP(AX27&AY27,$Y$2:$AC$478,5,FALSE)) | BC27: =+IF(BI27="","",MAX(BC$1:BC26)+1) | BD27: =IF(CMS_Identification!B49="","",CMS_Identification!B49) | BE27: =IF(CMS_Identification!C49="","",CMS_Identification!C49) | BF27: =IF(CMS_Identification!E49="","",CMS_Identification!E49) | BG27: =IF(Affected_Source!AL49="","",Affected_Source!AL49) | BH27: =BD27&BE27&BF27 | BI27: =IF(COUNTIF(BH$2:BH27,BH27)=1,BH27,"") | BJ27: =BK27&" "&BL27&" "&BM27 | BK27: =+IFERROR(INDEX(BD$2:BD$955,MATCH(ROW()-ROW($BJ$1),BC$2:BC$955,0)),"") | BL27: =+IFERROR(INDEX(BE$2:BE$955,MATCH(ROW()-ROW($BJ$1),BC$2:BC$955,0)),"") | BM27: =+IFERROR(INDEX(BF$2:BF$955,MATCH(ROW()-ROW($BJ$1),BC$2:BC$955,0)),"")
A28: =+IF(D28="","",MAX(A$1:A27)+1) | B28: =IF(Affected_Source!C50="","",Affected_Source!C50) | C28: =+IFERROR(INDEX(B$2:B$501,MATCH(ROW()-ROW($C$1),A$2:A$501,0)),"") | D28: =IF(COUNTIF(B$2:B28,B28)=1,B28,"") | E28: =IF(Affected_Source!D50="","",Affected_Source!D50) | K28: =+IF(N28="","",MAX(K$1:K27)+1) | L28: =IF(CMS_Identification!E50="","",CMS_Identification!E50) | M28: =+IFERROR(INDEX(L$2:L$501,MATCH(ROW()-ROW($M$1),K$2:K$501,0)),"") | N28: =IF(COUNTIF(L$2:L28,L28)=1,L28,"") | P28: Startup | T28: =+IF(Y28="","",MAX(T$1:T27)+1) | U28: =IF(Affected_Source!B50="","",Affected_Source!B50) | V28: =IF(Affected_Source!D50="","",Affected_Source!D50) | W28: =IF(Affected_Source!E50="","",Affected_Source!E50) | X28: =U28&V28 | Y28: =IF(COUNTIF(X$2:X28,X28)=1,X28,"") | Z28: =AA28&" "&AB28 | AA28: =+IFERROR(INDEX(U$2:U$955,MATCH(ROW()-ROW($AA$1),T$2:T$955,0)),"") | AB28: =+IFERROR(INDEX(V$2:V$955,MATCH(ROW()-ROW($AA$1),T$2:T$955,0)),"") | AC28: =+IFERROR(INDEX(W$2:W$955,MATCH(ROW()-ROW($AA$1),U$2:U$955,0)),"") | AE28: =+IF(AJ28="","",MAX(AE$1:AE27)+1) | AF28: =IF(CMS_Inoperative_OoC!B50="","",CMS_Inoperative_OoC!B50) | AG28: =IF(CMS_Inoperative_OoC!C50="","",CMS_Inoperative_OoC!C50) | AH28: =IF(CMS_Inoperative_OoC!D50="","",CMS_Inoperative_OoC!D50) | AI28: =AF28&AG28&AH28 | AJ28: =IF(COUNTIF(AI$2:AI28,AI28)=1,AI28,"") | AK28: =+IFERROR(INDEX(AF$2:AF$955,MATCH(ROW()-ROW(IE$1),AE$2:AE$955,0)),"") | AL28: =+IFERROR(INDEX(AG$2:AG$955,MATCH(ROW()-ROW(AJ$1),AE$2:AE$955,0)),"") | AM28: =+IFERROR(INDEX(AH$2:AH$955,MATCH(ROW()-ROW(AJ$1),AE$2:AE$955,0)),"") | AN28: =IF(AM28="","",VLOOKUP(AK28&AL28,$Y$2:$AC$478,5,FALSE)) | AP28: MO | AR28: =+IF(AW28="","",MAX(AR$1:AR27)+1) | AS28: =IF(Limit_Deviation_Detail!B50="","",Limit_Deviation_Detail!B50) | AT28: =IF(Limit_Deviation_Detail!C50="","",Limit_Deviation_Detail!C50) | AU28: =IF(Limit_Deviation_Detail!F50="","",Limit_Deviation_Detail!F50) | AV28: =AS28&AT28&AU28 | AW28: =IF(COUNTIF(AV$2:AV28,AV28)=1,AV28,"") | AX28: =+IFERROR(INDEX(AS$2:AS$955,MATCH(ROW()-ROW(IQ$1),AR$2:AR$955,0)),"") | AY28: =+IFERROR(INDEX(AT$2:AT$955,MATCH(ROW()-ROW(AW$1),AR$2:AR$955,0)),"") | AZ28: =+IFERROR(INDEX(AU$2:AU$955,MATCH(ROW()-ROW(AW$1),AR$2:AR$955,0)),"") | BA28: =IF(AZ28="","",VLOOKUP(AX28&AY28,$Y$2:$AC$478,5,FALSE)) | BC28: =+IF(BI28="","",MAX(BC$1:BC27)+1) | BD28: =IF(CMS_Identification!B50="","",CMS_Identification!B50) | BE28: =IF(CMS_Identification!C50="","",CMS_Identification!C50) | BF28: =IF(CMS_Identification!E50="","",CMS_Identification!E50) | BG28: =IF(Affected_Source!AL50="","",Affected_Source!AL50) | BH28: =BD28&BE28&BF28 | BI28: =IF(COUNTIF(BH$2:BH28,BH28)=1,BH28,"") | BJ28: =BK28&" "&BL28&" "&BM28 | BK28: =+IFERROR(INDEX(BD$2:BD$955,MATCH(ROW()-ROW($BJ$1),BC$2:BC$955,0)),"") | BL28: =+IFERROR(INDEX(BE$2:BE$955,MATCH(ROW()-ROW($BJ$1),BC$2:BC$955,0)),"") | BM28: =+IFERROR(INDEX(BF$2:BF$955,MATCH(ROW()-ROW($BJ$1),BC$2:BC$955,0)),"")
A29: =+IF(D29="","",MAX(A$1:A28)+1) | B29: =IF(Affected_Source!C51="","",Affected_Source!C51) | C29: =+IFERROR(INDEX(B$2:B$501,MATCH(ROW()-ROW($C$1),A$2:A$501,0)),"") | D29: =IF(COUNTIF(B$2:B29,B29)=1,B29,"") | E29: =IF(Affected_Source!D51="","",Affected_Source!D51) | K29: =+IF(N29="","",MAX(K$1:K28)+1) | L29: =IF(CMS_Identification!E51="","",CMS_Identification!E51) | M29: =+IFERROR(INDEX(L$2:L$501,MATCH(ROW()-ROW($M$1),K$2:K$501,0)),"") | N29: =IF(COUNTIF(L$2:L29,L29)=1,L29,"") | P29: Shutdown | T29: =+IF(Y29="","",MAX(T$1:T28)+1) | U29: =IF(Affected_Source!B51="","",Affected_Source!B51) | V29: =IF(Affected_Source!D51="","",Affected_Source!D51) | W29: =IF(Affected_Source!E51="","",Affected_Source!E51) | X29: =U29&V29 | Y29: =IF(COUNTIF(X$2:X29,X29)=1,X29,"") | Z29: =AA29&" "&AB29 | AA29: =+IFERROR(INDEX(U$2:U$955,MATCH(ROW()-ROW($AA$1),T$2:T$955,0)),"") | AB29: =+IFERROR(INDEX(V$2:V$955,MATCH(ROW()-ROW($AA$1),T$2:T$955,0)),"") | AC29: =+IFERROR(INDEX(W$2:W$955,MATCH(ROW()-ROW($AA$1),U$2:U$955,0)),"") | AE29: =+IF(AJ29="","",MAX(AE$1:AE28)+1) | AF29: =IF(CMS_Inoperative_OoC!B51="","",CMS_Inoperative_OoC!B51) | AG29: =IF(CMS_Inoperative_OoC!C51="","",CMS_Inoperative_OoC!C51) | AH29: =IF(CMS_Inoperative_OoC!D51="","",CMS_Inoperative_OoC!D51) | AI29: =AF29&AG29&AH29 | AJ29: =IF(COUNTIF(AI$2:AI29,AI29)=1,AI29,"") | AK29: =+IFERROR(INDEX(AF$2:AF$955,MATCH(ROW()-ROW(IE$1),AE$2:AE$955,0)),"") | AL29: =+IFERROR(INDEX(AG$2:AG$955,MATCH(ROW()-ROW(AJ$1),AE$2:AE$955,0)),"") | AM29: =+IFERROR(INDEX(AH$2:AH$955,MATCH(ROW()-ROW(AJ$1),AE$2:AE$955,0)),"") | AN29: =IF(AM29="","",VLOOKUP(AK29&AL29,$Y$2:$AC$478,5,FALSE)) | AP29: MP | AR29: =+IF(AW29="","",MAX(AR$1:AR28)+1) | AS29: =IF(Limit_Deviation_Detail!B51="","",Limit_Deviation_Detail!B51) | AT29: =IF(Limit_Deviation_Detail!C51="","",Limit_Deviation_Detail!C51) | AU29: =IF(Limit_Deviation_Detail!F51="","",Limit_Deviation_Detail!F51) | AV29: =AS29&AT29&AU29 | AW29: =IF(COUNTIF(AV$2:AV29,AV29)=1,AV29,"") | AX29: =+IFERROR(INDEX(AS$2:AS$955,MATCH(ROW()-ROW(IQ$1),AR$2:AR$955,0)),"") | AY29: =+IFERROR(INDEX(AT$2:AT$955,MATCH(ROW()-ROW(AW$1),AR$2:AR$955,0)),"") | AZ29: =+IFERROR(INDEX(AU$2:AU$955,MATCH(ROW()-ROW(AW$1),AR$2:AR$955,0)),"") | BA29: =IF(AZ29="","",VLOOKUP(AX29&AY29,$Y$2:$AC$478,5,FALSE)) | BC29: =+IF(BI29="","",MAX(BC$1:BC28)+1) | BD29: =IF(CMS_Identification!B51="","",CMS_Identification!B51) | BE29: =IF(CMS_Identification!C51="","",CMS_Identification!C51) | BF29: =IF(CMS_Identification!E51="","",CMS_Identification!E51) | BG29: =IF(Affected_Source!AL51="","",Affected_Source!AL51) | BH29: =BD29&BE29&BF29 | BI29: =IF(COUNTIF(BH$2:BH29,BH29)=1,BH29,"") | BJ29: =BK29&" "&BL29&" "&BM29 | BK29: =+IFERROR(INDEX(BD$2:BD$955,MATCH(ROW()-ROW($BJ$1),BC$2:BC$955,0)),"") | BL29: =+IFERROR(INDEX(BE$2:BE$955,MATCH(ROW()-ROW($BJ$1),BC$2:BC$955,0)),"") | BM29: =+IFERROR(INDEX(BF$2:BF$955,MATCH(ROW()-ROW($BJ$1),BC$2:BC$955,0)),"")
A30: =+IF(D30="","",MAX(A$1:A29)+1) | B30: =IF(Affected_Source!C52="","",Affected_Source!C52) | C30: =+IFERROR(INDEX(B$2:B$501,MATCH(ROW()-ROW($C$1),A$2:A$501,0)),"") | D30: =IF(COUNTIF(B$2:B30,B30)=1,B30,"") | E30: =IF(Affected_Source!D52="","",Affected_Source!D52) | K30: =+IF(N30="","",MAX(K$1:K29)+1) | L30: =IF(CMS_Identification!E52="","",CMS_Identification!E52) | M30: =+IFERROR(INDEX(L$2:L$501,MATCH(ROW()-ROW($M$1),K$2:K$501,0)),"") | N30: =IF(COUNTIF(L$2:L30,L30)=1,L30,"") | P30: Malfunction | T30: =+IF(Y30="","",MAX(T$1:T29)+1) | U30: =IF(Affected_Source!B52="","",Affected_Source!B52) | V30: =IF(Affected_Source!D52="","",Affected_Source!D52) | W30: =IF(Affected_Source!E52="","",Affected_Source!E52) | X30: =U30&V30 | Y30: =IF(COUNTIF(X$2:X30,X30)=1,X30,"") | Z30: =AA30&" "&AB30 | AA30: =+IFERROR(INDEX(U$2:U$955,MATCH(ROW()-ROW($AA$1),T$2:T$955,0)),"") | AB30: =+IFERROR(INDEX(V$2:V$955,MATCH(ROW()-ROW($AA$1),T$2:T$955,0)),"") | AC30: =+IFERROR(INDEX(W$2:W$955,MATCH(ROW()-ROW($AA$1),U$2:U$955,0)),"") | AE30: =+IF(AJ30="","",MAX(AE$1:AE29)+1) | AF30: =IF(CMS_Inoperative_OoC!B52="","",CMS_Inoperative_OoC!B52) | AG30: =IF(CMS_Inoperative_OoC!C52="","",CMS_Inoperative_OoC!C52) | AH30: =IF(CMS_Inoperative_OoC!D52="","",CMS_Inoperative_OoC!D52) | AI30: =AF30&AG30&AH30 | AJ30: =IF(COUNTIF(AI$2:AI30,AI30)=1,AI30,"") | AK30: =+IFERROR(INDEX(AF$2:AF$955,MATCH(ROW()-ROW(IE$1),AE$2:AE$955,0)),"") | AL30: =+IFERROR(INDEX(AG$2:AG$955,MATCH(ROW()-ROW(AJ$1),AE$2:AE$955,0)),"") | AM30: =+IFERROR(INDEX(AH$2:AH$955,MATCH(ROW()-ROW(AJ$1),AE$2:AE$955,0)),"") | AN30: =IF(AM30="","",VLOOKUP(AK30&AL30,$Y$2:$AC$478,5,FALSE)) | AP30: MS | AR30: =+IF(AW30="","",MAX(AR$1:AR29)+1) | AS30: =IF(Limit_Deviation_Detail!B52="","",Limit_Deviation_Detail!B52) | AT30: =IF(Limit_Deviation_Detail!C52="","",Limit_Deviation_Detail!C52) | AU30: =IF(Limit_Deviation_Detail!F52="","",Limit_Deviation_Detail!F52) | AV30: =AS30&AT30&AU30 | AW30: =IF(COUNTIF(AV$2:AV30,AV30)=1,AV30,"") | AX30: =+IFERROR(INDEX(AS$2:AS$955,MATCH(ROW()-ROW(IQ$1),AR$2:AR$955,0)),"") | AY30: =+IFERROR(INDEX(AT$2:AT$955,MATCH(ROW()-ROW(AW$1),AR$2:AR$955,0)),"") | AZ30: =+IFERROR(INDEX(AU$2:AU$955,MATCH(ROW()-ROW(AW$1),AR$2:AR$955,0)),"") | BA30: =IF(AZ30="","",VLOOKUP(AX30&AY30,$Y$2:$AC$478,5,FALSE)) | BC30: =+IF(BI30="","",MAX(BC$1:BC29)+1) | BD30: =IF(CMS_Identification!B52="","",CMS_Identification!B52) | BE30: =IF(CMS_Identification!C52="","",CMS_Identification!C52) | BF30: =IF(CMS_Identification!E52="","",CMS_Identification!E52) | BG30: =IF(Affected_Source!AL52="","",Affected_Source!AL52) | BH30: =BD30&BE30&BF30 | BI30: =IF(COUNTIF(BH$2:BH30,BH30)=1,BH30,"") | BJ30: =BK30&" "&BL30&" "&BM30 | BK30: =+IFERROR(INDEX(BD$2:BD$955,MATCH(ROW()-ROW($BJ$1),BC$2:BC$955,0)),"") | BL30: =+IFERROR(INDEX(BE$2:BE$955,MATCH(ROW()-ROW($BJ$1),BC$2:BC$955,0)),"") | BM30: =+IFERROR(INDEX(BF$2:BF$955,MATCH(ROW()-ROW($BJ$1),BC$2:BC$955,0)),"")
A31: =+IF(D31="","",MAX(A$1:A30)+1) | B31: =IF(Affected_Source!C53="","",Affected_Source!C53) | C31: =+IFERROR(INDEX(B$2:B$501,MATCH(ROW()-ROW($C$1),A$2:A$501,0)),"") | D31: =IF(COUNTIF(B$2:B31,B31)=1,B31,"") | E31: =IF(Affected_Source!D53="","",Affected_Source!D53) | K31: =+IF(N31="","",MAX(K$1:K30)+1) | L31: =IF(CMS_Identification!E53="","",CMS_Identification!E53) | M31: =+IFERROR(INDEX(L$2:L$501,MATCH(ROW()-ROW($M$1),K$2:K$501,0)),"") | N31: =IF(COUNTIF(L$2:L31,L31)=1,L31,"") | P31: Other | T31: =+IF(Y31="","",MAX(T$1:T30)+1) | U31: =IF(Affected_Source!B53="","",Affected_Source!B53) | V31: =IF(Affected_Source!D53="","",Affected_Source!D53) | W31: =IF(Affected_Source!E53="","",Affected_Source!E53) | X31: =U31&V31 | Y31: =IF(COUNTIF(X$2:X31,X31)=1,X31,"") | Z31: =AA31&" "&AB31 | AA31: =+IFERROR(INDEX(U$2:U$955,MATCH(ROW()-ROW($AA$1),T$2:T$955,0)),"") | AB31: =+IFERROR(INDEX(V$2:V$955,MATCH(ROW()-ROW($AA$1),T$2:T$955,0)),"") | AC31: =+IFERROR(INDEX(W$2:W$955,MATCH(ROW()-ROW($AA$1),U$2:U$955,0)),"") | AE31: =+IF(AJ31="","",MAX(AE$1:AE30)+1) | AF31: =IF(CMS_Inoperative_OoC!B53="","",CMS_Inoperative_OoC!B53) | AG31: =IF(CMS_Inoperative_OoC!C53="","",CMS_Inoperative_OoC!C53) | AH31: =IF(CMS_Inoperative_OoC!D53="","",CMS_Inoperative_OoC!D53) | AI31: =AF31&AG31&AH31 | AJ31: =IF(COUNTIF(AI$2:AI31,AI31)=1,AI31,"") | AK31: =+IFERROR(INDEX(AF$2:AF$955,MATCH(ROW()-ROW(IE$1),AE$2:AE$955,0)),"") | AL31: =+IFERROR(INDEX(AG$2:AG$955,MATCH(ROW()-ROW(AJ$1),AE$2:AE$955,0)),"") | AM31: =+IFERROR(INDEX(AH$2:AH$955,MATCH(ROW()-ROW(AJ$1),AE$2:AE$955,0)),"") | AN31: =IF(AM31="","",VLOOKUP(AK31&AL31,$Y$2:$AC$478,5,FALSE)) | AP31: MT | AR31: =+IF(AW31="","",MAX(AR$1:AR30)+1) | AS31: =IF(Limit_Deviation_Detail!B53="","",Limit_Deviation_Detail!B53) | AT31: =IF(Limit_Deviation_Detail!C53="","",Limit_Deviation_Detail!C53) | AU31: =IF(Limit_Deviation_Detail!F53="","",Limit_Deviation_Detail!F53) | AV31: =AS31&AT31&AU31 | AW31: =IF(COUNTIF(AV$2:AV31,AV31)=1,AV31,"") | AX31: =+IFERROR(INDEX(AS$2:AS$955,MATCH(ROW()-ROW(IQ$1),AR$2:AR$955,0)),"") | AY31: =+IFERROR(INDEX(AT$2:AT$955,MATCH(ROW()-ROW(AW$1),AR$2:AR$955,0)),"") | AZ31: =+IFERROR(INDEX(AU$2:AU$955,MATCH(ROW()-ROW(AW$1),AR$2:AR$955,0)),"") | BA31: =IF(AZ31="","",VLOOKUP(AX31&AY31,$Y$2:$AC$478,5,FALSE)) | BC31: =+IF(BI31="","",MAX(BC$1:BC30)+1) | BD31: =IF(CMS_Identification!B53="","",CMS_Identification!B53) | BE31: =IF(CMS_Identification!C53="","",CMS_Identification!C53) | BF31: =IF(CMS_Identification!E53="","",CMS_Identification!E53) | BG31: =IF(Affected_Source!AL53="","",Affected_Source!AL53) | BH31: =BD31&BE31&BF31 | BI31: =IF(COUNTIF(BH$2:BH31,BH31)=1,BH31,"") | BJ31: =BK31&" "&BL31&" "&BM31 | BK31: =+IFERROR(INDEX(BD$2:BD$955,MATCH(ROW()-ROW($BJ$1),BC$2:BC$955,0)),"") | BL31: =+IFERROR(INDEX(BE$2:BE$955,MATCH(ROW()-ROW($BJ$1),BC$2:BC$955,0)),"") | BM31: =+IFERROR(INDEX(BF$2:BF$955,MATCH(ROW()-ROW($BJ$1),BC$2:BC$955,0)),"")
A32: =+IF(D32="","",MAX(A$1:A31)+1) | B32: =IF(Affected_Source!C54="","",Affected_Source!C54) | C32: =+IFERROR(INDEX(B$2:B$501,MATCH(ROW()-ROW($C$1),A$2:A$501,0)),"") | D32: =IF(COUNTIF(B$2:B32,B32)=1,B32,"") | E32: =IF(Affected_Source!D54="","",Affected_Source!D54) | K32: =+IF(N32="","",MAX(K$1:K31)+1) | L32: =IF(CMS_Identification!E54="","",CMS_Identification!E54) | M32: =+IFERROR(INDEX(L$2:L$501,MATCH(ROW()-ROW($M$1),K$2:K$501,0)),"") | N32: =IF(COUNTIF(L$2:L32,L32)=1,L32,"") | T32: =+IF(Y32="","",MAX(T$1:T31)+1) | U32: =IF(Affected_Source!B54="","",Affected_Source!B54) | V32: =IF(Affected_Source!D54="","",Affected_Source!D54) | W32: =IF(Affected_Source!E54="","",Affected_Source!E54) | X32: =U32&V32 | Y32: =IF(COUNTIF(X$2:X32,X32)=1,X32,"") | Z32: =AA32&" "&AB32 | AA32: =+IFERROR(INDEX(U$2:U$955,MATCH(ROW()-ROW($AA$1),T$2:T$955,0)),"") | AB32: =+IFERROR(INDEX(V$2:V$955,MATCH(ROW()-ROW($AA$1),T$2:T$955,0)),"") | AC32: =+IFERROR(INDEX(W$2:W$955,MATCH(ROW()-ROW($AA$1),U$2:U$955,0)),"") | AE32: =+IF(AJ32="","",MAX(AE$1:AE31)+1) | AF32: =IF(CMS_Inoperative_OoC!B54="","",CMS_Inoperative_OoC!B54) | AG32: =IF(CMS_Inoperative_OoC!C54="","",CMS_Inoperative_OoC!C54) | AH32: =IF(CMS_Inoperative_OoC!D54="","",CMS_Inoperative_OoC!D54) | AI32: =AF32&AG32&AH32 | AJ32: =IF(COUNTIF(AI$2:AI32,AI32)=1,AI32,"") | AK32: =+IFERROR(INDEX(AF$2:AF$955,MATCH(ROW()-ROW(IE$1),AE$2:AE$955,0)),"") | AL32: =+IFERROR(INDEX(AG$2:AG$955,MATCH(ROW()-ROW(AJ$1),AE$2:AE$955,0)),"") | AM32: =+IFERROR(INDEX(AH$2:AH$955,MATCH(ROW()-ROW(AJ$1),AE$2:AE$955,0)),"") | AN32: =IF(AM32="","",VLOOKUP(AK32&AL32,$Y$2:$AC$478,5,FALSE)) | AP32: NC | AR32: =+IF(AW32="","",MAX(AR$1:AR31)+1) | AS32: =IF(Limit_Deviation_Detail!B54="","",Limit_Deviation_Detail!B54) | AT32: =IF(Limit_Deviation_Detail!C54="","",Limit_Deviation_Detail!C54) | AU32: =IF(Limit_Deviation_Detail!F54="","",Limit_Deviation_Detail!F54) | AV32: =AS32&AT32&AU32 | AW32: =IF(COUNTIF(AV$2:AV32,AV32)=1,AV32,"") | AX32: =+IFERROR(INDEX(AS$2:AS$955,MATCH(ROW()-ROW(IQ$1),AR$2:AR$955,0)),"") | AY32: =+IFERROR(INDEX(AT$2:AT$955,MATCH(ROW()-ROW(AW$1),AR$2:AR$955,0)),"") | AZ32: =+IFERROR(INDEX(AU$2:AU$955,MATCH(ROW()-ROW(AW$1),AR$2:AR$955,0)),"") | BA32: =IF(AZ32="","",VLOOKUP(AX32&AY32,$Y$2:$AC$478,5,FALSE)) | BC32: =+IF(BI32="","",MAX(BC$1:BC31)+1) | BD32: =IF(CMS_Identification!B54="","",CMS_Identification!B54) | BE32: =IF(CMS_Identification!C54="","",CMS_Identification!C54) | BF32: =IF(CMS_Identification!E54="","",CMS_Identification!E54) | BG32: =IF(Affected_Source!AL54="","",Affected_Source!AL54) | BH32: =BD32&BE32&BF32 | BI32: =IF(COUNTIF(BH$2:BH32,BH32)=1,BH32,"") | BJ32: =BK32&" "&BL32&" "&BM32 | BK32: =+IFERROR(INDEX(BD$2:BD$955,MATCH(ROW()-ROW($BJ$1),BC$2:BC$955,0)),"") | BL32: =+IFERROR(INDEX(BE$2:BE$955,MATCH(ROW()-ROW($BJ$1),BC$2:BC$955,0)),"") | BM32: =+IFERROR(INDEX(BF$2:BF$955,MATCH(ROW()-ROW($BJ$1),BC$2:BC$955,0)),"")
A33: =+IF(D33="","",MAX(A$1:A32)+1) | B33: =IF(Affected_Source!C55="","",Affected_Source!C55) | C33: =+IFERROR(INDEX(B$2:B$501,MATCH(ROW()-ROW($C$1),A$2:A$501,0)),"") | D33: =IF(COUNTIF(B$2:B33,B33)=1,B33,"") | E33: =IF(Affected_Source!D55="","",Affected_Source!D55) | K33: =+IF(N33="","",MAX(K$1:K32)+1) | L33: =IF(CMS_Identification!E55="","",CMS_Identification!E55) | M33: =+IFERROR(INDEX(L$2:L$501,MATCH(ROW()-ROW($M$1),K$2:K$501,0)),"") | N33: =IF(COUNTIF(L$2:L33,L33)=1,L33,"") | P33: Deviations | T33: =+IF(Y33="","",MAX(T$1:T32)+1) | U33: =IF(Affected_Source!B55="","",Affected_Source!B55) | V33: =IF(Affected_Source!D55="","",Affected_Source!D55) | W33: =IF(Affected_Source!E55="","",Affected_Source!E55) | X33: =U33&V33 | Y33: =IF(COUNTIF(X$2:X33,X33)=1,X33,"") | Z33: =AA33&" "&AB33 | AA33: =+IFERROR(INDEX(U$2:U$955,MATCH(ROW()-ROW($AA$1),T$2:T$955,0)),"") | AB33: =+IFERROR(INDEX(V$2:V$955,MATCH(ROW()-ROW($AA$1),T$2:T$955,0)),"") | AC33: =+IFERROR(INDEX(W$2:W$955,MATCH(ROW()-ROW($AA$1),U$2:U$955,0)),"") | AE33: =+IF(AJ33="","",MAX(AE$1:AE32)+1) | AF33: =IF(CMS_Inoperative_OoC!B55="","",CMS_Inoperative_OoC!B55) | AG33: =IF(CMS_Inoperative_OoC!C55="","",CMS_Inoperative_OoC!C55) | AH33: =IF(CMS_Inoperative_OoC!D55="","",CMS_Inoperative_OoC!D55) | AI33: =AF33&AG33&AH33 | AJ33: =IF(COUNTIF(AI$2:AI33,AI33)=1,AI33,"") | AK33: =+IFERROR(INDEX(AF$2:AF$955,MATCH(ROW()-ROW(IE$1),AE$2:AE$955,0)),"") | AL33: =+IFERROR(INDEX(AG$2:AG$955,MATCH(ROW()-ROW(AJ$1),AE$2:AE$955,0)),"") | AM33: =+IFERROR(INDEX(AH$2:AH$955,MATCH(ROW()-ROW(AJ$1),AE$2:AE$955,0)),"") | AN33: =IF(AM33="","",VLOOKUP(AK33&AL33,$Y$2:$AC$478,5,FALSE)) | AP33: ND | AR33: =+IF(AW33="","",MAX(AR$1:AR32)+1) | AS33: =IF(Limit_Deviation_Detail!B55="","",Limit_Deviation_Detail!B55) | AT33: =IF(Limit_Deviation_Detail!C55="","",Limit_Deviation_Detail!C55) | AU33: =IF(Limit_Deviation_Detail!F55="","",Limit_Deviation_Detail!F55) | AV33: =AS33&AT33&AU33 | AW33: =IF(COUNTIF(AV$2:AV33,AV33)=1,AV33,"") | AX33: =+IFERROR(INDEX(AS$2:AS$955,MATCH(ROW()-ROW(IQ$1),AR$2:AR$955,0)),"") | AY33: =+IFERROR(INDEX(AT$2:AT$955,MATCH(ROW()-ROW(AW$1),AR$2:AR$955,0)),"") | AZ33: =+IFERROR(INDEX(AU$2:AU$955,MATCH(ROW()-ROW(AW$1),AR$2:AR$955,0)),"") | BA33: =IF(AZ33="","",VLOOKUP(AX33&AY33,$Y$2:$AC$478,5,FALSE)) | BC33: =+IF(BI33="","",MAX(BC$1:BC32)+1) | BD33: =IF(CMS_Identification!B55="","",CMS_Identification!B55) | BE33: =IF(CMS_Identification!C55="","",CMS_Identification!C55) | BF33: =IF(CMS_Identification!E55="","",CMS_Identification!E55) | BG33: =IF(Affected_Source!AL55="","",Affected_Source!AL55) | BH33: =BD33&BE33&BF33 | BI33: =IF(COUNTIF(BH$2:BH33,BH33)=1,BH33,"") | BJ33: =BK33&" "&BL33&" "&BM33 | BK33: =+IFERROR(INDEX(BD$2:BD$955,MATCH(ROW()-ROW($BJ$1),BC$2:BC$955,0)),"") | BL33: =+IFERROR(INDEX(BE$2:BE$955,MATCH(ROW()-ROW($BJ$1),BC$2:BC$955,0)),"") | BM33: =+IFERROR(INDEX(BF$2:BF$955,MATCH(ROW()-ROW($BJ$1),BC$2:BC$955,0)),"")
A34: =+IF(D34="","",MAX(A$1:A33)+1) | B34: =IF(Affected_Source!C56="","",Affected_Source!C56) | C34: =+IFERROR(INDEX(B$2:B$501,MATCH(ROW()-ROW($C$1),A$2:A$501,0)),"") | D34: =IF(COUNTIF(B$2:B34,B34)=1,B34,"") | E34: =IF(Affected_Source!D56="","",Affected_Source!D56) | K34: =+IF(N34="","",MAX(K$1:K33)+1) | L34: =IF(CMS_Identification!E56="","",CMS_Identification!E56) | M34: =+IFERROR(INDEX(L$2:L$501,MATCH(ROW()-ROW($M$1),K$2:K$501,0)),"") | N34: =IF(COUNTIF(L$2:L34,L34)=1,L34,"") | P34: Process Vent, Existing Source - 99% HCl Reduction | T34: =+IF(Y34="","",MAX(T$1:T33)+1) | U34: =IF(Affected_Source!B56="","",Affected_Source!B56) | V34: =IF(Affected_Source!D56="","",Affected_Source!D56) | W34: =IF(Affected_Source!E56="","",Affected_Source!E56) | X34: =U34&V34 | Y34: =IF(COUNTIF(X$2:X34,X34)=1,X34,"") | Z34: =AA34&" "&AB34 | AA34: =+IFERROR(INDEX(U$2:U$955,MATCH(ROW()-ROW($AA$1),T$2:T$955,0)),"") | AB34: =+IFERROR(INDEX(V$2:V$955,MATCH(ROW()-ROW($AA$1),T$2:T$955,0)),"") | AC34: =+IFERROR(INDEX(W$2:W$955,MATCH(ROW()-ROW($AA$1),U$2:U$955,0)),"") | AE34: =+IF(AJ34="","",MAX(AE$1:AE33)+1) | AF34: =IF(CMS_Inoperative_OoC!B56="","",CMS_Inoperative_OoC!B56) | AG34: =IF(CMS_Inoperative_OoC!C56="","",CMS_Inoperative_OoC!C56) | AH34: =IF(CMS_Inoperative_OoC!D56="","",CMS_Inoperative_OoC!D56) | AI34: =AF34&AG34&AH34 | AJ34: =IF(COUNTIF(AI$2:AI34,AI34)=1,AI34,"") | AK34: =+IFERROR(INDEX(AF$2:AF$955,MATCH(ROW()-ROW(IE$1),AE$2:AE$955,0)),"") | AL34: =+IFERROR(INDEX(AG$2:AG$955,MATCH(ROW()-ROW(AJ$1),AE$2:AE$955,0)),"") | AM34: =+IFERROR(INDEX(AH$2:AH$955,MATCH(ROW()-ROW(AJ$1),AE$2:AE$955,0)),"") | AN34: =IF(AM34="","",VLOOKUP(AK34&AL34,$Y$2:$AC$478,5,FALSE)) | AP34: NE | AR34: =+IF(AW34="","",MAX(AR$1:AR33)+1) | AS34: =IF(Limit_Deviation_Detail!B56="","",Limit_Deviation_Detail!B56) | AT34: =IF(Limit_Deviation_Detail!C56="","",Limit_Deviation_Detail!C56) | AU34: =IF(Limit_Deviation_Detail!F56="","",Limit_Deviation_Detail!F56) | AV34: =AS34&AT34&AU34 | AW34: =IF(COUNTIF(AV$2:AV34,AV34)=1,AV34,"") | AX34: =+IFERROR(INDEX(AS$2:AS$955,MATCH(ROW()-ROW(IQ$1),AR$2:AR$955,0)),"") | AY34: =+IFERROR(INDEX(AT$2:AT$955,MATCH(ROW()-ROW(AW$1),AR$2:AR$955,0)),"") | AZ34: =+IFERROR(INDEX(AU$2:AU$955,MATCH(ROW()-ROW(AW$1),AR$2:AR$955,0)),"") | BA34: =IF(AZ34="","",VLOOKUP(AX34&AY34,$Y$2:$AC$478,5,FALSE)) | BC34: =+IF(BI34="","",MAX(BC$1:BC33)+1) | BD34: =IF(CMS_Identification!B56="","",CMS_Identification!B56) | BE34: =IF(CMS_Identification!C56="","",CMS_Identification!C56) | BF34: =IF(CMS_Identification!E56="","",CMS_Identification!E56) | BG34: =IF(Affected_Source!AL56="","",Affected_Source!AL56) | BH34: =BD34&BE34&BF34 | BI34: =IF(COUNTIF(BH$2:BH34,BH34)=1,BH34,"") | BJ34: =BK34&" "&BL34&" "&BM34 | BK34: =+IFERROR(INDEX(BD$2:BD$955,MATCH(ROW()-ROW($BJ$1),BC$2:BC$955,0)),"") | BL34: =+IFERROR(INDEX(BE$2:BE$955,MATCH(ROW()-ROW($BJ$1),BC$2:BC$955,0)),"") | BM34: =+IFERROR(INDEX(BF$2:BF$955,MATCH(ROW()-ROW($BJ$1),BC$2:BC$955,0)),"")
A35: =+IF(D35="","",MAX(A$1:A34)+1) | B35: =IF(Affected_Source!C57="","",Affected_Source!C57) | C35: =+IFERROR(INDEX(B$2:B$501,MATCH(ROW()-ROW($C$1),A$2:A$501,0)),"") | D35: =IF(COUNTIF(B$2:B35,B35)=1,B35,"") | E35: =IF(Affected_Source!D57="","",Affected_Source!D57) | K35: =+IF(N35="","",MAX(K$1:K34)+1) | L35: =IF(CMS_Identification!E57="","",CMS_Identification!E57) | M35: =+IFERROR(INDEX(L$2:L$501,MATCH(ROW()-ROW($M$1),K$2:K$501,0)),"") | N35: =IF(COUNTIF(L$2:L35,L35)=1,L35,"") | P35: Process Vent, Existing Source - 20 ppm HCl by Volume | T35: =+IF(Y35="","",MAX(T$1:T34)+1) | U35: =IF(Affected_Source!B57="","",Affected_Source!B57) | V35: =IF(Affected_Source!D57="","",Affected_Source!D57) | W35: =IF(Affected_Source!E57="","",Affected_Source!E57) | X35: =U35&V35 | Y35: =IF(COUNTIF(X$2:X35,X35)=1,X35,"") | Z35: =AA35&" "&AB35 | AA35: =+IFERROR(INDEX(U$2:U$955,MATCH(ROW()-ROW($AA$1),T$2:T$955,0)),"") | AB35: =+IFERROR(INDEX(V$2:V$955,MATCH(ROW()-ROW($AA$1),T$2:T$955,0)),"") | AC35: =+IFERROR(INDEX(W$2:W$955,MATCH(ROW()-ROW($AA$1),U$2:U$955,0)),"") | AE35: =+IF(AJ35="","",MAX(AE$1:AE34)+1) | AF35: =IF(CMS_Inoperative_OoC!B57="","",CMS_Inoperative_OoC!B57) | AG35: =IF(CMS_Inoperative_OoC!C57="","",CMS_Inoperative_OoC!C57) | AH35: =IF(CMS_Inoperative_OoC!D57="","",CMS_Inoperative_OoC!D57) | AI35: =AF35&AG35&AH35 | AJ35: =IF(COUNTIF(AI$2:AI35,AI35)=1,AI35,"") | AK35: =+IFERROR(INDEX(AF$2:AF$955,MATCH(ROW()-ROW(IE$1),AE$2:AE$955,0)),"") | AL35: =+IFERROR(INDEX(AG$2:AG$955,MATCH(ROW()-ROW(AJ$1),AE$2:AE$955,0)),"") | AM35: =+IFERROR(INDEX(AH$2:AH$955,MATCH(ROW()-ROW(AJ$1),AE$2:AE$955,0)),"") | AN35: =IF(AM35="","",VLOOKUP(AK35&AL35,$Y$2:$AC$478,5,FALSE)) | AP35: NH | AR35: =+IF(AW35="","",MAX(AR$1:AR34)+1) | AS35: =IF(Limit_Deviation_Detail!B57="","",Limit_Deviation_Detail!B57) | AT35: =IF(Limit_Deviation_Detail!C57="","",Limit_Deviation_Detail!C57) | AU35: =IF(Limit_Deviation_Detail!F57="","",Limit_Deviation_Detail!F57) | AV35: =AS35&AT35&AU35 | AW35: =IF(COUNTIF(AV$2:AV35,AV35)=1,AV35,"") | AX35: =+IFERROR(INDEX(AS$2:AS$955,MATCH(ROW()-ROW(IQ$1),AR$2:AR$955,0)),"") | AY35: =+IFERROR(INDEX(AT$2:AT$955,MATCH(ROW()-ROW(AW$1),AR$2:AR$955,0)),"") | AZ35: =+IFERROR(INDEX(AU$2:AU$955,MATCH(ROW()-ROW(AW$1),AR$2:AR$955,0)),"") | BA35: =IF(AZ35="","",VLOOKUP(AX35&AY35,$Y$2:$AC$478,5,FALSE)) | BC35: =+IF(BI35="","",MAX(BC$1:BC34)+1) | BD35: =IF(CMS_Identification!B57="","",CMS_Identification!B57) | BE35: =IF(CMS_Identification!C57="","",CMS_Identification!C57) | BF35: =IF(CMS_Identification!E57="","",CMS_Identification!E57) | BG35: =IF(Affected_Source!AL57="","",Affected_Source!AL57) | BH35: =BD35&BE35&BF35 | BI35: =IF(COUNTIF(BH$2:BH35,BH35)=1,BH35,"") | BJ35: =BK35&" "&BL35&" "&BM35 | BK35: =+IFERROR(INDEX(BD$2:BD$955,MATCH(ROW()-ROW($BJ$1),BC$2:BC$955,0)),"") | BL35: =+IFERROR(INDEX(BE$2:BE$955,MATCH(ROW()-ROW($BJ$1),BC$2:BC$955,0)),"") | BM35: =+IFERROR(INDEX(BF$2:BF$955,MATCH(ROW()-ROW($BJ$1),BC$2:BC$955,0)),"")
A36: =+IF(D36="","",MAX(A$1:A35)+1) | B36: =IF(Affected_Source!C58="","",Affected_Source!C58) | C36: =+IFERROR(INDEX(B$2:B$501,MATCH(ROW()-ROW($C$1),A$2:A$501,0)),"") | D36: =IF(COUNTIF(B$2:B36,B36)=1,B36,"") | E36: =IF(Affected_Source!D58="","",Affected_Source!D58) | K36: =+IF(N36="","",MAX(K$1:K35)+1) | L36: =IF(CMS_Identification!E58="","",CMS_Identification!E58) | M36: =+IFERROR(INDEX(L$2:L$501,MATCH(ROW()-ROW($M$1),K$2:K$501,0)),"") | N36: =IF(COUNTIF(L$2:L36,L36)=1,L36,"") | P36: Process Vent, Existing Source - 99% CL2 Reduction | T36: =+IF(Y36="","",MAX(T$1:T35)+1) | U36: =IF(Affected_Source!B58="","",Affected_Source!B58) | V36: =IF(Affected_Source!D58="","",Affected_Source!D58) | W36: =IF(Affected_Source!E58="","",Affected_Source!E58) | X36: =U36&V36 | Y36: =IF(COUNTIF(X$2:X36,X36)=1,X36,"") | Z36: =AA36&" "&AB36 | AA36: =+IFERROR(INDEX(U$2:U$955,MATCH(ROW()-ROW($AA$1),T$2:T$955,0)),"") | AB36: =+IFERROR(INDEX(V$2:V$955,MATCH(ROW()-ROW($AA$1),T$2:T$955,0)),"") | AC36: =+IFERROR(INDEX(W$2:W$955,MATCH(ROW()-ROW($AA$1),U$2:U$955,0)),"") | AE36: =+IF(AJ36="","",MAX(AE$1:AE35)+1) | AF36: =IF(CMS_Inoperative_OoC!B58="","",CMS_Inoperative_OoC!B58) | AG36: =IF(CMS_Inoperative_OoC!C58="","",CMS_Inoperative_OoC!C58) | AH36: =IF(CMS_Inoperative_OoC!D58="","",CMS_Inoperative_OoC!D58) | AI36: =AF36&AG36&AH36 | AJ36: =IF(COUNTIF(AI$2:AI36,AI36)=1,AI36,"") | AK36: =+IFERROR(INDEX(AF$2:AF$955,MATCH(ROW()-ROW(IE$1),AE$2:AE$955,0)),"") | AL36: =+IFERROR(INDEX(AG$2:AG$955,MATCH(ROW()-ROW(AJ$1),AE$2:AE$955,0)),"") | AM36: =+IFERROR(INDEX(AH$2:AH$955,MATCH(ROW()-ROW(AJ$1),AE$2:AE$955,0)),"") | AN36: =IF(AM36="","",VLOOKUP(AK36&AL36,$Y$2:$AC$478,5,FALSE)) | AP36: NJ | AR36: =+IF(AW36="","",MAX(AR$1:AR35)+1) | AS36: =IF(Limit_Deviation_Detail!B58="","",Limit_Deviation_Detail!B58) | AT36: =IF(Limit_Deviation_Detail!C58="","",Limit_Deviation_Detail!C58) | AU36: =IF(Limit_Deviation_Detail!F58="","",Limit_Deviation_Detail!F58) | AV36: =AS36&AT36&AU36 | AW36: =IF(COUNTIF(AV$2:AV36,AV36)=1,AV36,"") | AX36: =+IFERROR(INDEX(AS$2:AS$955,MATCH(ROW()-ROW(IQ$1),AR$2:AR$955,0)),"") | AY36: =+IFERROR(INDEX(AT$2:AT$955,MATCH(ROW()-ROW(AW$1),AR$2:AR$955,0)),"") | AZ36: =+IFERROR(INDEX(AU$2:AU$955,MATCH(ROW()-ROW(AW$1),AR$2:AR$955,0)),"") | BA36: =IF(AZ36="","",VLOOKUP(AX36&AY36,$Y$2:$AC$478,5,FALSE)) | BC36: =+IF(BI36="","",MAX(BC$1:BC35)+1) | BD36: =IF(CMS_Identification!B58="","",CMS_Identification!B58) | BE36: =IF(CMS_Identification!C58="","",CMS_Identification!C58) | BF36: =IF(CMS_Identification!E58="","",CMS_Identification!E58) | BG36: =IF(Affected_Source!AL58="","",Affected_Source!AL58) | BH36: =BD36&BE36&BF36 | BI36: =IF(COUNTIF(BH$2:BH36,BH36)=1,BH36,"") | BJ36: =BK36&" "&BL36&" "&BM36 | BK36: =+IFERROR(INDEX(BD$2:BD$955,MATCH(ROW()-ROW($BJ$1),BC$2:BC$955,0)),"") | BL36: =+IFERROR(INDEX(BE$2:BE$955,MATCH(ROW()-ROW($BJ$1),BC$2:BC$955,0)),"") | BM36: =+IFERROR(INDEX(BF$2:BF$955,MATCH(ROW()-ROW($BJ$1),BC$2:BC$955,0)),"")
A37: =+IF(D37="","",MAX(A$1:A36)+1) | B37: =IF(Affected_Source!C59="","",Affected_Source!C59) | C37: =+IFERROR(INDEX(B$2:B$501,MATCH(ROW()-ROW($C$1),A$2:A$501,0)),"") | D37: =IF(COUNTIF(B$2:B37,B37)=1,B37,"") | E37: =IF(Affected_Source!D59="","",Affected_Source!D59) | K37: =+IF(N37="","",MAX(K$1:K36)+1) | L37: =IF(CMS_Identification!E59="","",CMS_Identification!E59) | M37: =+IFERROR(INDEX(L$2:L$501,MATCH(ROW()-ROW($M$1),K$2:K$501,0)),"") | N37: =IF(COUNTIF(L$2:L37,L37)=1,L37,"") | P37: Process Vent, Existing Source - 100 ppm CL2 by Volume | T37: =+IF(Y37="","",MAX(T$1:T36)+1) | U37: =IF(Affected_Source!B59="","",Affected_Source!B59) | V37: =IF(Affected_Source!D59="","",Affected_Source!D59) | W37: =IF(Affected_Source!E59="","",Affected_Source!E59) | X37: =U37&V37 | Y37: =IF(COUNTIF(X$2:X37,X37)=1,X37,"") | Z37: =AA37&" "&AB37 | AA37: =+IFERROR(INDEX(U$2:U$955,MATCH(ROW()-ROW($AA$1),T$2:T$955,0)),"") | AB37: =+IFERROR(INDEX(V$2:V$955,MATCH(ROW()-ROW($AA$1),T$2:T$955,0)),"") | AC37: =+IFERROR(INDEX(W$2:W$955,MATCH(ROW()-ROW($AA$1),U$2:U$955,0)),"") | AE37: =+IF(AJ37="","",MAX(AE$1:AE36)+1) | AF37: =IF(CMS_Inoperative_OoC!B59="","",CMS_Inoperative_OoC!B59) | AG37: =IF(CMS_Inoperative_OoC!C59="","",CMS_Inoperative_OoC!C59) | AH37: =IF(CMS_Inoperative_OoC!D59="","",CMS_Inoperative_OoC!D59) | AI37: =AF37&AG37&AH37 | AJ37: =IF(COUNTIF(AI$2:AI37,AI37)=1,AI37,"") | AK37: =+IFERROR(INDEX(AF$2:AF$955,MATCH(ROW()-ROW(IE$1),AE$2:AE$955,0)),"") | AL37: =+IFERROR(INDEX(AG$2:AG$955,MATCH(ROW()-ROW(AJ$1),AE$2:AE$955,0)),"") | AM37: =+IFERROR(INDEX(AH$2:AH$955,MATCH(ROW()-ROW(AJ$1),AE$2:AE$955,0)),"") | AN37: =IF(AM37="","",VLOOKUP(AK37&AL37,$Y$2:$AC$478,5,FALSE)) | AP37: NM | AR37: =+IF(AW37="","",MAX(AR$1:AR36)+1) | AS37: =IF(Limit_Deviation_Detail!B59="","",Limit_Deviation_Detail!B59) | AT37: =IF(Limit_Deviation_Detail!C59="","",Limit_Deviation_Detail!C59) | AU37: =IF(Limit_Deviation_Detail!F59="","",Limit_Deviation_Detail!F59) | AV37: =AS37&AT37&AU37 | AW37: =IF(COUNTIF(AV$2:AV37,AV37)=1,AV37,"") | AX37: =+IFERROR(INDEX(AS$2:AS$955,MATCH(ROW()-ROW(IQ$1),AR$2:AR$955,0)),"") | AY37: =+IFERROR(INDEX(AT$2:AT$955,MATCH(ROW()-ROW(AW$1),AR$2:AR$955,0)),"") | AZ37: =+IFERROR(INDEX(AU$2:AU$955,MATCH(ROW()-ROW(AW$1),AR$2:AR$955,0)),"") | BA37: =IF(AZ37="","",VLOOKUP(AX37&AY37,$Y$2:$AC$478,5,FALSE)) | BC37: =+IF(BI37="","",MAX(BC$1:BC36)+1) | BD37: =IF(CMS_Identification!B59="","",CMS_Identification!B59) | BE37: =IF(CMS_Identification!C59="","",CMS_Identification!C59) | BF37: =IF(CMS_Identification!E59="","",CMS_Identification!E59) | BG37: =IF(Affected_Source!AL59="","",Affected_Source!AL59) | BH37: =BD37&BE37&BF37 | BI37: =IF(COUNTIF(BH$2:BH37,BH37)=1,BH37,"") | BJ37: =BK37&" "&BL37&" "&BM37 | BK37: =+IFERROR(INDEX(BD$2:BD$955,MATCH(ROW()-ROW($BJ$1),BC$2:BC$955,0)),"") | BL37: =+IFERROR(INDEX(BE$2:BE$955,MATCH(ROW()-ROW($BJ$1),BC$2:BC$955,0)),"") | BM37: =+IFERROR(INDEX(BF$2:BF$955,MATCH(ROW()-ROW($BJ$1),BC$2:BC$955,0)),"")
A38: =+IF(D38="","",MAX(A$1:A37)+1) | B38: =IF(Affected_Source!C60="","",Affected_Source!C60) | C38: =+IFERROR(INDEX(B$2:B$501,MATCH(ROW()-ROW($C$1),A$2:A$501,0)),"") | D38: =IF(COUNTIF(B$2:B38,B38)=1,B38,"") | E38: =IF(Affected_Source!D60="","",Affected_Source!D60) | K38: =+IF(N38="","",MAX(K$1:K37)+1) | L38: =IF(CMS_Identification!E60="","",CMS_Identification!E60) | M38: =+IFERROR(INDEX(L$2:L$501,MATCH(ROW()-ROW($M$1),K$2:K$501,0)),"") | N38: =IF(COUNTIF(L$2:L38,L38)=1,L38,"") | P38: Storage Tank, Existing Source - 99% HCl Reduction | T38: =+IF(Y38="","",MAX(T$1:T37)+1) | U38: =IF(Affected_Source!B60="","",Affected_Source!B60) | V38: =IF(Affected_Source!D60="","",Affected_Source!D60) | W38: =IF(Affected_Source!E60="","",Affected_Source!E60) | X38: =U38&V38 | Y38: =IF(COUNTIF(X$2:X38,X38)=1,X38,"") | Z38: =AA38&" "&AB38 | AA38: =+IFERROR(INDEX(U$2:U$955,MATCH(ROW()-ROW($AA$1),T$2:T$955,0)),"") | AB38: =+IFERROR(INDEX(V$2:V$955,MATCH(ROW()-ROW($AA$1),T$2:T$955,0)),"") | AC38: =+IFERROR(INDEX(W$2:W$955,MATCH(ROW()-ROW($AA$1),U$2:U$955,0)),"") | AE38: =+IF(AJ38="","",MAX(AE$1:AE37)+1) | AF38: =IF(CMS_Inoperative_OoC!B60="","",CMS_Inoperative_OoC!B60) | AG38: =IF(CMS_Inoperative_OoC!C60="","",CMS_Inoperative_OoC!C60) | AH38: =IF(CMS_Inoperative_OoC!D60="","",CMS_Inoperative_OoC!D60) | AI38: =AF38&AG38&AH38 | AJ38: =IF(COUNTIF(AI$2:AI38,AI38)=1,AI38,"") | AK38: =+IFERROR(INDEX(AF$2:AF$955,MATCH(ROW()-ROW(IE$1),AE$2:AE$955,0)),"") | AL38: =+IFERROR(INDEX(AG$2:AG$955,MATCH(ROW()-ROW(AJ$1),AE$2:AE$955,0)),"") | AM38: =+IFERROR(INDEX(AH$2:AH$955,MATCH(ROW()-ROW(AJ$1),AE$2:AE$955,0)),"") | AN38: =IF(AM38="","",VLOOKUP(AK38&AL38,$Y$2:$AC$478,5,FALSE)) | AP38: NV | AR38: =+IF(AW38="","",MAX(AR$1:AR37)+1) | AS38: =IF(Limit_Deviation_Detail!B60="","",Limit_Deviation_Detail!B60) | AT38: =IF(Limit_Deviation_Detail!C60="","",Limit_Deviation_Detail!C60) | AU38: =IF(Limit_Deviation_Detail!F60="","",Limit_Deviation_Detail!F60) | AV38: =AS38&AT38&AU38 | AW38: =IF(COUNTIF(AV$2:AV38,AV38)=1,AV38,"") | AX38: =+IFERROR(INDEX(AS$2:AS$955,MATCH(ROW()-ROW(IQ$1),AR$2:AR$955,0)),"") | AY38: =+IFERROR(INDEX(AT$2:AT$955,MATCH(ROW()-ROW(AW$1),AR$2:AR$955,0)),"") | AZ38: =+IFERROR(INDEX(AU$2:AU$955,MATCH(ROW()-ROW(AW$1),AR$2:AR$955,0)),"") | BA38: =IF(AZ38="","",VLOOKUP(AX38&AY38,$Y$2:$AC$478,5,FALSE)) | BC38: =+IF(BI38="","",MAX(BC$1:BC37)+1) | BD38: =IF(CMS_Identification!B60="","",CMS_Identification!B60) | BE38: =IF(CMS_Identification!C60="","",CMS_Identification!C60) | BF38: =IF(CMS_Identification!E60="","",CMS_Identification!E60) | BG38: =IF(Affected_Source!AL60="","",Affected_Source!AL60) | BH38: =BD38&BE38&BF38 | BI38: =IF(COUNTIF(BH$2:BH38,BH38)=1,BH38,"") | BJ38: =BK38&" "&BL38&" "&BM38 | BK38: =+IFERROR(INDEX(BD$2:BD$955,MATCH(ROW()-ROW($BJ$1),BC$2:BC$955,0)),"") | BL38: =+IFERROR(INDEX(BE$2:BE$955,MATCH(ROW()-ROW($BJ$1),BC$2:BC$955,0)),"") | BM38: =+IFERROR(INDEX(BF$2:BF$955,MATCH(ROW()-ROW($BJ$1),BC$2:BC$955,0)),"")
A39: =+IF(D39="","",MAX(A$1:A38)+1) | B39: =IF(Affected_Source!C61="","",Affected_Source!C61) | C39: =+IFERROR(INDEX(B$2:B$501,MATCH(ROW()-ROW($C$1),A$2:A$501,0)),"") | D39: =IF(COUNTIF(B$2:B39,B39)=1,B39,"") | E39: =IF(Affected_Source!D61="","",Affected_Source!D61) | K39: =+IF(N39="","",MAX(K$1:K38)+1) | L39: =IF(CMS_Identification!E61="","",CMS_Identification!E61) | M39: =+IFERROR(INDEX(L$2:L$501,MATCH(ROW()-ROW($M$1),K$2:K$501,0)),"") | N39: =IF(COUNTIF(L$2:L39,L39)=1,L39,"") | P39: Storage Tank, Existing Source - 120 ppm HCl by Volume | T39: =+IF(Y39="","",MAX(T$1:T38)+1) | U39: =IF(Affected_Source!B61="","",Affected_Source!B61) | V39: =IF(Affected_Source!D61="","",Affected_Source!D61) | W39: =IF(Affected_Source!E61="","",Affected_Source!E61) | X39: =U39&V39 | Y39: =IF(COUNTIF(X$2:X39,X39)=1,X39,"") | Z39: =AA39&" "&AB39 | AA39: =+IFERROR(INDEX(U$2:U$955,MATCH(ROW()-ROW($AA$1),T$2:T$955,0)),"") | AB39: =+IFERROR(INDEX(V$2:V$955,MATCH(ROW()-ROW($AA$1),T$2:T$955,0)),"") | AC39: =+IFERROR(INDEX(W$2:W$955,MATCH(ROW()-ROW($AA$1),U$2:U$955,0)),"") | AE39: =+IF(AJ39="","",MAX(AE$1:AE38)+1) | AF39: =IF(CMS_Inoperative_OoC!B61="","",CMS_Inoperative_OoC!B61) | AG39: =IF(CMS_Inoperative_OoC!C61="","",CMS_Inoperative_OoC!C61) | AH39: =IF(CMS_Inoperative_OoC!D61="","",CMS_Inoperative_OoC!D61) | AI39: =AF39&AG39&AH39 | AJ39: =IF(COUNTIF(AI$2:AI39,AI39)=1,AI39,"") | AK39: =+IFERROR(INDEX(AF$2:AF$955,MATCH(ROW()-ROW(IE$1),AE$2:AE$955,0)),"") | AL39: =+IFERROR(INDEX(AG$2:AG$955,MATCH(ROW()-ROW(AJ$1),AE$2:AE$955,0)),"") | AM39: =+IFERROR(INDEX(AH$2:AH$955,MATCH(ROW()-ROW(AJ$1),AE$2:AE$955,0)),"") | AN39: =IF(AM39="","",VLOOKUP(AK39&AL39,$Y$2:$AC$478,5,FALSE)) | AP39: NY | AR39: =+IF(AW39="","",MAX(AR$1:AR38)+1) | AS39: =IF(Limit_Deviation_Detail!B61="","",Limit_Deviation_Detail!B61) | AT39: =IF(Limit_Deviation_Detail!C61="","",Limit_Deviation_Detail!C61) | AU39: =IF(Limit_Deviation_Detail!F61="","",Limit_Deviation_Detail!F61) | AV39: =AS39&AT39&AU39 | AW39: =IF(COUNTIF(AV$2:AV39,AV39)=1,AV39,"") | AX39: =+IFERROR(INDEX(AS$2:AS$955,MATCH(ROW()-ROW(IQ$1),AR$2:AR$955,0)),"") | AY39: =+IFERROR(INDEX(AT$2:AT$955,MATCH(ROW()-ROW(AW$1),AR$2:AR$955,0)),"") | AZ39: =+IFERROR(INDEX(AU$2:AU$955,MATCH(ROW()-ROW(AW$1),AR$2:AR$955,0)),"") | BA39: =IF(AZ39="","",VLOOKUP(AX39&AY39,$Y$2:$AC$478,5,FALSE)) | BC39: =+IF(BI39="","",MAX(BC$1:BC38)+1) | BD39: =IF(CMS_Identification!B61="","",CMS_Identification!B61) | BE39: =IF(CMS_Identification!C61="","",CMS_Identification!C61) | BF39: =IF(CMS_Identification!E61="","",CMS_Identification!E61) | BG39: =IF(Affected_Source!AL61="","",Affected_Source!AL61) | BH39: =BD39&BE39&BF39 | BI39: =IF(COUNTIF(BH$2:BH39,BH39)=1,BH39,"") | BJ39: =BK39&" "&BL39&" "&BM39 | BK39: =+IFERROR(INDEX(BD$2:BD$955,MATCH(ROW()-ROW($BJ$1),BC$2:BC$955,0)),"") | BL39: =+IFERROR(INDEX(BE$2:BE$955,MATCH(ROW()-ROW($BJ$1),BC$2:BC$955,0)),"") | BM39: =+IFERROR(INDEX(BF$2:BF$955,MATCH(ROW()-ROW($BJ$1),BC$2:BC$955,0)),"")
A40: =+IF(D40="","",MAX(A$1:A39)+1) | B40: =IF(Affected_Source!C62="","",Affected_Source!C62) | C40: =+IFERROR(INDEX(B$2:B$501,MATCH(ROW()-ROW($C$1),A$2:A$501,0)),"") | D40: =IF(COUNTIF(B$2:B40,B40)=1,B40,"") | E40: =IF(Affected_Source!D62="","",Affected_Source!D62) | K40: =+IF(N40="","",MAX(K$1:K39)+1) | L40: =IF(CMS_Identification!E62="","",CMS_Identification!E62) | M40: =+IFERROR(INDEX(L$2:L$501,MATCH(ROW()-ROW($M$1),K$2:K$501,0)),"") | N40: =IF(COUNTIF(L$2:L40,L40)=1,L40,"") | P40: Transfer Operation, Existing Source - 99% HCl Reduction | T40: =+IF(Y40="","",MAX(T$1:T39)+1) | U40: =IF(Affected_Source!B62="","",Affected_Source!B62) | V40: =IF(Affected_Source!D62="","",Affected_Source!D62) | W40: =IF(Affected_Source!E62="","",Affected_Source!E62) | X40: =U40&V40 | Y40: =IF(COUNTIF(X$2:X40,X40)=1,X40,"") | Z40: =AA40&" "&AB40 | AA40: =+IFERROR(INDEX(U$2:U$955,MATCH(ROW()-ROW($AA$1),T$2:T$955,0)),"") | AB40: =+IFERROR(INDEX(V$2:V$955,MATCH(ROW()-ROW($AA$1),T$2:T$955,0)),"") | AC40: =+IFERROR(INDEX(W$2:W$955,MATCH(ROW()-ROW($AA$1),U$2:U$955,0)),"") | AE40: =+IF(AJ40="","",MAX(AE$1:AE39)+1) | AF40: =IF(CMS_Inoperative_OoC!B62="","",CMS_Inoperative_OoC!B62) | AG40: =IF(CMS_Inoperative_OoC!C62="","",CMS_Inoperative_OoC!C62) | AH40: =IF(CMS_Inoperative_OoC!D62="","",CMS_Inoperative_OoC!D62) | AI40: =AF40&AG40&AH40 | AJ40: =IF(COUNTIF(AI$2:AI40,AI40)=1,AI40,"") | AK40: =+IFERROR(INDEX(AF$2:AF$955,MATCH(ROW()-ROW(IE$1),AE$2:AE$955,0)),"") | AL40: =+IFERROR(INDEX(AG$2:AG$955,MATCH(ROW()-ROW(AJ$1),AE$2:AE$955,0)),"") | AM40: =+IFERROR(INDEX(AH$2:AH$955,MATCH(ROW()-ROW(AJ$1),AE$2:AE$955,0)),"") | AN40: =IF(AM40="","",VLOOKUP(AK40&AL40,$Y$2:$AC$478,5,FALSE)) | AP40: OH | AR40: =+IF(AW40="","",MAX(AR$1:AR39)+1) | AS40: =IF(Limit_Deviation_Detail!B62="","",Limit_Deviation_Detail!B62) | AT40: =IF(Limit_Deviation_Detail!C62="","",Limit_Deviation_Detail!C62) | AU40: =IF(Limit_Deviation_Detail!F62="","",Limit_Deviation_Detail!F62) | AV40: =AS40&AT40&AU40 | AW40: =IF(COUNTIF(AV$2:AV40,AV40)=1,AV40,"") | AX40: =+IFERROR(INDEX(AS$2:AS$955,MATCH(ROW()-ROW(IQ$1),AR$2:AR$955,0)),"") | AY40: =+IFERROR(INDEX(AT$2:AT$955,MATCH(ROW()-ROW(AW$1),AR$2:AR$955,0)),"") | AZ40: =+IFERROR(INDEX(AU$2:AU$955,MATCH(ROW()-ROW(AW$1),AR$2:AR$955,0)),"") | BA40: =IF(AZ40="","",VLOOKUP(AX40&AY40,$Y$2:$AC$478,5,FALSE)) | BC40: =+IF(BI40="","",MAX(BC$1:BC39)+1) | BD40: =IF(CMS_Identification!B62="","",CMS_Identification!B62) | BE40: =IF(CMS_Identification!C62="","",CMS_Identification!C62) | BF40: =IF(CMS_Identification!E62="","",CMS_Identification!E62) | BG40: =IF(Affected_Source!AL62="","",Affected_Source!AL62) | BH40: =BD40&BE40&BF40 | BI40: =IF(COUNTIF(BH$2:BH40,BH40)=1,BH40,"") | BJ40: =BK40&" "&BL40&" "&BM40 | BK40: =+IFERROR(INDEX(BD$2:BD$955,MATCH(ROW()-ROW($BJ$1),BC$2:BC$955,0)),"") | BL40: =+IFERROR(INDEX(BE$2:BE$955,MATCH(ROW()-ROW($BJ$1),BC$2:BC$955,0)),"") | BM40: =+IFERROR(INDEX(BF$2:BF$955,MATCH(ROW()-ROW($BJ$1),BC$2:BC$955,0)),"")
A41: =+IF(D41="","",MAX(A$1:A40)+1) | B41: =IF(Affected_Source!C63="","",Affected_Source!C63) | C41: =+IFERROR(INDEX(B$2:B$501,MATCH(ROW()-ROW($C$1),A$2:A$501,0)),"") | D41: =IF(COUNTIF(B$2:B41,B41)=1,B41,"") | E41: =IF(Affected_Source!D63="","",Affected_Source!D63) | K41: =+IF(N41="","",MAX(K$1:K40)+1) | L41: =IF(CMS_Identification!E63="","",CMS_Identification!E63) | M41: =+IFERROR(INDEX(L$2:L$501,MATCH(ROW()-ROW($M$1),K$2:K$501,0)),"") | N41: =IF(COUNTIF(L$2:L41,L41)=1,L41,"") | P41: Transfer Operation, Existing Source - 120 ppm HCl by Volume | T41: =+IF(Y41="","",MAX(T$1:T40)+1) | U41: =IF(Affected_Source!B63="","",Affected_Source!B63) | V41: =IF(Affected_Source!D63="","",Affected_Source!D63) | W41: =IF(Affected_Source!E63="","",Affected_Source!E63) | X41: =U41&V41 | Y41: =IF(COUNTIF(X$2:X41,X41)=1,X41,"") | Z41: =AA41&" "&AB41 | AA41: =+IFERROR(INDEX(U$2:U$955,MATCH(ROW()-ROW($AA$1),T$2:T$955,0)),"") | AB41: =+IFERROR(INDEX(V$2:V$955,MATCH(ROW()-ROW($AA$1),T$2:T$955,0)),"") | AC41: =+IFERROR(INDEX(W$2:W$955,MATCH(ROW()-ROW($AA$1),U$2:U$955,0)),"") | AE41: =+IF(AJ41="","",MAX(AE$1:AE40)+1) | AF41: =IF(CMS_Inoperative_OoC!B63="","",CMS_Inoperative_OoC!B63) | AG41: =IF(CMS_Inoperative_OoC!C63="","",CMS_Inoperative_OoC!C63) | AH41: =IF(CMS_Inoperative_OoC!D63="","",CMS_Inoperative_OoC!D63) | AI41: =AF41&AG41&AH41 | AJ41: =IF(COUNTIF(AI$2:AI41,AI41)=1,AI41,"") | AK41: =+IFERROR(INDEX(AF$2:AF$955,MATCH(ROW()-ROW(IE$1),AE$2:AE$955,0)),"") | AL41: =+IFERROR(INDEX(AG$2:AG$955,MATCH(ROW()-ROW(AJ$1),AE$2:AE$955,0)),"") | AM41: =+IFERROR(INDEX(AH$2:AH$955,MATCH(ROW()-ROW(AJ$1),AE$2:AE$955,0)),"") | AN41: =IF(AM41="","",VLOOKUP(AK41&AL41,$Y$2:$AC$478,5,FALSE)) | AP41: OK | AR41: =+IF(AW41="","",MAX(AR$1:AR40)+1) | AS41: =IF(Limit_Deviation_Detail!B63="","",Limit_Deviation_Detail!B63) | AT41: =IF(Limit_Deviation_Detail!C63="","",Limit_Deviation_Detail!C63) | AU41: =IF(Limit_Deviation_Detail!F63="","",Limit_Deviation_Detail!F63) | AV41: =AS41&AT41&AU41 | AW41: =IF(COUNTIF(AV$2:AV41,AV41)=1,AV41,"") | AX41: =+IFERROR(INDEX(AS$2:AS$955,MATCH(ROW()-ROW(IQ$1),AR$2:AR$955,0)),"") | AY41: =+IFERROR(INDEX(AT$2:AT$955,MATCH(ROW()-ROW(AW$1),AR$2:AR$955,0)),"") | AZ41: =+IFERROR(INDEX(AU$2:AU$955,MATCH(ROW()-ROW(AW$1),AR$2:AR$955,0)),"") | BA41: =IF(AZ41="","",VLOOKUP(AX41&AY41,$Y$2:$AC$478,5,FALSE)) | BC41: =+IF(BI41="","",MAX(BC$1:BC40)+1) | BD41: =IF(CMS_Identification!B63="","",CMS_Identification!B63) | BE41: =IF(CMS_Identification!C63="","",CMS_Identification!C63) | BF41: =IF(CMS_Identification!E63="","",CMS_Identification!E63) | BG41: =IF(Affected_Source!AL63="","",Affected_Source!AL63) | BH41: =BD41&BE41&BF41 | BI41: =IF(COUNTIF(BH$2:BH41,BH41)=1,BH41,"") | BJ41: =BK41&" "&BL41&" "&BM41 | BK41: =+IFERROR(INDEX(BD$2:BD$955,MATCH(ROW()-ROW($BJ$1),BC$2:BC$955,0)),"") | BL41: =+IFERROR(INDEX(BE$2:BE$955,MATCH(ROW()-ROW($BJ$1),BC$2:BC$955,0)),"") | BM41: =+IFERROR(INDEX(BF$2:BF$955,MATCH(ROW()-ROW($BJ$1),BC$2:BC$955,0)),"")
A42: =+IF(D42="","",MAX(A$1:A41)+1) | B42: =IF(Affected_Source!C64="","",Affected_Source!C64) | C42: =+IFERROR(INDEX(B$2:B$501,MATCH(ROW()-ROW($C$1),A$2:A$501,0)),"") | D42: =IF(COUNTIF(B$2:B42,B42)=1,B42,"") | E42: =IF(Affected_Source!D64="","",Affected_Source!D64) | K42: =+IF(N42="","",MAX(K$1:K41)+1) | L42: =IF(CMS_Identification!E64="","",CMS_Identification!E64) | M42: =+IFERROR(INDEX(L$2:L$501,MATCH(ROW()-ROW($M$1),K$2:K$501,0)),"") | N42: =IF(COUNTIF(L$2:L42,L42)=1,L42,"") | P42: Process Vent, New Source - 99.4% HCl Reduction | T42: =+IF(Y42="","",MAX(T$1:T41)+1) | U42: =IF(Affected_Source!B64="","",Affected_Source!B64) | V42: =IF(Affected_Source!D64="","",Affected_Source!D64) | W42: =IF(Affected_Source!E64="","",Affected_Source!E64) | X42: =U42&V42 | Y42: =IF(COUNTIF(X$2:X42,X42)=1,X42,"") | Z42: =AA42&" "&AB42 | AA42: =+IFERROR(INDEX(U$2:U$955,MATCH(ROW()-ROW($AA$1),T$2:T$955,0)),"") | AB42: =+IFERROR(INDEX(V$2:V$955,MATCH(ROW()-ROW($AA$1),T$2:T$955,0)),"") | AC42: =+IFERROR(INDEX(W$2:W$955,MATCH(ROW()-ROW($AA$1),U$2:U$955,0)),"") | AE42: =+IF(AJ42="","",MAX(AE$1:AE41)+1) | AF42: =IF(CMS_Inoperative_OoC!B64="","",CMS_Inoperative_OoC!B64) | AG42: =IF(CMS_Inoperative_OoC!C64="","",CMS_Inoperative_OoC!C64) | AH42: =IF(CMS_Inoperative_OoC!D64="","",CMS_Inoperative_OoC!D64) | AI42: =AF42&AG42&AH42 | AJ42: =IF(COUNTIF(AI$2:AI42,AI42)=1,AI42,"") | AK42: =+IFERROR(INDEX(AF$2:AF$955,MATCH(ROW()-ROW(IE$1),AE$2:AE$955,0)),"") | AL42: =+IFERROR(INDEX(AG$2:AG$955,MATCH(ROW()-ROW(AJ$1),AE$2:AE$955,0)),"") | AM42: =+IFERROR(INDEX(AH$2:AH$955,MATCH(ROW()-ROW(AJ$1),AE$2:AE$955,0)),"") | AN42: =IF(AM42="","",VLOOKUP(AK42&AL42,$Y$2:$AC$478,5,FALSE)) | AP42: OR | AR42: =+IF(AW42="","",MAX(AR$1:AR41)+1) | AS42: =IF(Limit_Deviation_Detail!B64="","",Limit_Deviation_Detail!B64) | AT42: =IF(Limit_Deviation_Detail!C64="","",Limit_Deviation_Detail!C64) | AU42: =IF(Limit_Deviation_Detail!F64="","",Limit_Deviation_Detail!F64) | AV42: =AS42&AT42&AU42 | AW42: =IF(COUNTIF(AV$2:AV42,AV42)=1,AV42,"") | AX42: =+IFERROR(INDEX(AS$2:AS$955,MATCH(ROW()-ROW(IQ$1),AR$2:AR$955,0)),"") | AY42: =+IFERROR(INDEX(AT$2:AT$955,MATCH(ROW()-ROW(AW$1),AR$2:AR$955,0)),"") | AZ42: =+IFERROR(INDEX(AU$2:AU$955,MATCH(ROW()-ROW(AW$1),AR$2:AR$955,0)),"") | BA42: =IF(AZ42="","",VLOOKUP(AX42&AY42,$Y$2:$AC$478,5,FALSE)) | BC42: =+IF(BI42="","",MAX(BC$1:BC41)+1) | BD42: =IF(CMS_Identification!B64="","",CMS_Identification!B64) | BE42: =IF(CMS_Identification!C64="","",CMS_Identification!C64) | BF42: =IF(CMS_Identification!E64="","",CMS_Identification!E64) | BG42: =IF(Affected_Source!AL64="","",Affected_Source!AL64) | BH42: =BD42&BE42&BF42 | BI42: =IF(COUNTIF(BH$2:BH42,BH42)=1,BH42,"") | BJ42: =BK42&" "&BL42&" "&BM42 | BK42: =+IFERROR(INDEX(BD$2:BD$955,MATCH(ROW()-ROW($BJ$1),BC$2:BC$955,0)),"") | BL42: =+IFERROR(INDEX(BE$2:BE$955,MATCH(ROW()-ROW($BJ$1),BC$2:BC$955,0)),"") | BM42: =+IFERROR(INDEX(BF$2:BF$955,MATCH(ROW()-ROW($BJ$1),BC$2:BC$955,0)),"")
A43: =+IF(D43="","",MAX(A$1:A42)+1) | B43: =IF(Affected_Source!C65="","",Affected_Source!C65) | C43: =+IFERROR(INDEX(B$2:B$501,MATCH(ROW()-ROW($C$1),A$2:A$501,0)),"") | D43: =IF(COUNTIF(B$2:B43,B43)=1,B43,"") | E43: =IF(Affected_Source!D65="","",Affected_Source!D65) | K43: =+IF(N43="","",MAX(K$1:K42)+1) | L43: =IF(CMS_Identification!E65="","",CMS_Identification!E65) | M43: =+IFERROR(INDEX(L$2:L$501,MATCH(ROW()-ROW($M$1),K$2:K$501,0)),"") | N43: =IF(COUNTIF(L$2:L43,L43)=1,L43,"") | P43: Process Vent, New Source - 12 ppm HCl by Volume | T43: =+IF(Y43="","",MAX(T$1:T42)+1) | U43: =IF(Affected_Source!B65="","",Affected_Source!B65) | V43: =IF(Affected_Source!D65="","",Affected_Source!D65) | W43: =IF(Affected_Source!E65="","",Affected_Source!E65) | X43: =U43&V43 | Y43: =IF(COUNTIF(X$2:X43,X43)=1,X43,"") | Z43: =AA43&" "&AB43 | AA43: =+IFERROR(INDEX(U$2:U$955,MATCH(ROW()-ROW($AA$1),T$2:T$955,0)),"") | AB43: =+IFERROR(INDEX(V$2:V$955,MATCH(ROW()-ROW($AA$1),T$2:T$955,0)),"") | AC43: =+IFERROR(INDEX(W$2:W$955,MATCH(ROW()-ROW($AA$1),U$2:U$955,0)),"") | AE43: =+IF(AJ43="","",MAX(AE$1:AE42)+1) | AF43: =IF(CMS_Inoperative_OoC!B65="","",CMS_Inoperative_OoC!B65) | AG43: =IF(CMS_Inoperative_OoC!C65="","",CMS_Inoperative_OoC!C65) | AH43: =IF(CMS_Inoperative_OoC!D65="","",CMS_Inoperative_OoC!D65) | AI43: =AF43&AG43&AH43 | AJ43: =IF(COUNTIF(AI$2:AI43,AI43)=1,AI43,"") | AK43: =+IFERROR(INDEX(AF$2:AF$955,MATCH(ROW()-ROW(IE$1),AE$2:AE$955,0)),"") | AL43: =+IFERROR(INDEX(AG$2:AG$955,MATCH(ROW()-ROW(AJ$1),AE$2:AE$955,0)),"") | AM43: =+IFERROR(INDEX(AH$2:AH$955,MATCH(ROW()-ROW(AJ$1),AE$2:AE$955,0)),"") | AN43: =IF(AM43="","",VLOOKUP(AK43&AL43,$Y$2:$AC$478,5,FALSE)) | AP43: PA | AR43: =+IF(AW43="","",MAX(AR$1:AR42)+1) | AS43: =IF(Limit_Deviation_Detail!B65="","",Limit_Deviation_Detail!B65) | AT43: =IF(Limit_Deviation_Detail!C65="","",Limit_Deviation_Detail!C65) | AU43: =IF(Limit_Deviation_Detail!F65="","",Limit_Deviation_Detail!F65) | AV43: =AS43&AT43&AU43 | AW43: =IF(COUNTIF(AV$2:AV43,AV43)=1,AV43,"") | AX43: =+IFERROR(INDEX(AS$2:AS$955,MATCH(ROW()-ROW(IQ$1),AR$2:AR$955,0)),"") | AY43: =+IFERROR(INDEX(AT$2:AT$955,MATCH(ROW()-ROW(AW$1),AR$2:AR$955,0)),"") | AZ43: =+IFERROR(INDEX(AU$2:AU$955,MATCH(ROW()-ROW(AW$1),AR$2:AR$955,0)),"") | BA43: =IF(AZ43="","",VLOOKUP(AX43&AY43,$Y$2:$AC$478,5,FALSE)) | BC43: =+IF(BI43="","",MAX(BC$1:BC42)+1) | BD43: =IF(CMS_Identification!B65="","",CMS_Identification!B65) | BE43: =IF(CMS_Identification!C65="","",CMS_Identification!C65) | BF43: =IF(CMS_Identification!E65="","",CMS_Identification!E65) | BG43: =IF(Affected_Source!AL65="","",Affected_Source!AL65) | BH43: =BD43&BE43&BF43 | BI43: =IF(COUNTIF(BH$2:BH43,BH43)=1,BH43,"") | BJ43: =BK43&" "&BL43&" "&BM43 | BK43: =+IFERROR(INDEX(BD$2:BD$955,MATCH(ROW()-ROW($BJ$1),BC$2:BC$955,0)),"") | BL43: =+IFERROR(INDEX(BE$2:BE$955,MATCH(ROW()-ROW($BJ$1),BC$2:BC$955,0)),"") | BM43: =+IFERROR(INDEX(BF$2:BF$955,MATCH(ROW()-ROW($BJ$1),BC$2:BC$955,0)),"")
A44: =+IF(D44="","",MAX(A$1:A43)+1) | B44: =IF(Affected_Source!C66="","",Affected_Source!C66) | C44: =+IFERROR(INDEX(B$2:B$501,MATCH(ROW()-ROW($C$1),A$2:A$501,0)),"") | D44: =IF(COUNTIF(B$2:B44,B44)=1,B44,"") | E44: =IF(Affected_Source!D66="","",Affected_Source!D66) | K44: =+IF(N44="","",MAX(K$1:K43)+1) | L44: =IF(CMS_Identification!E66="","",CMS_Identification!E66) | M44: =+IFERROR(INDEX(L$2:L$501,MATCH(ROW()-ROW($M$1),K$2:K$501,0)),"") | N44: =IF(COUNTIF(L$2:L44,L44)=1,L44,"") | P44: Process Vent, New Source - 99.8% CL2 Reduction | T44: =+IF(Y44="","",MAX(T$1:T43)+1) | U44: =IF(Affected_Source!B66="","",Affected_Source!B66) | V44: =IF(Affected_Source!D66="","",Affected_Source!D66) | W44: =IF(Affected_Source!E66="","",Affected_Source!E66) | X44: =U44&V44 | Y44: =IF(COUNTIF(X$2:X44,X44)=1,X44,"") | Z44: =AA44&" "&AB44 | AA44: =+IFERROR(INDEX(U$2:U$955,MATCH(ROW()-ROW($AA$1),T$2:T$955,0)),"") | AB44: =+IFERROR(INDEX(V$2:V$955,MATCH(ROW()-ROW($AA$1),T$2:T$955,0)),"") | AC44: =+IFERROR(INDEX(W$2:W$955,MATCH(ROW()-ROW($AA$1),U$2:U$955,0)),"") | AE44: =+IF(AJ44="","",MAX(AE$1:AE43)+1) | AF44: =IF(CMS_Inoperative_OoC!B66="","",CMS_Inoperative_OoC!B66) | AG44: =IF(CMS_Inoperative_OoC!C66="","",CMS_Inoperative_OoC!C66) | AH44: =IF(CMS_Inoperative_OoC!D66="","",CMS_Inoperative_OoC!D66) | AI44: =AF44&AG44&AH44 | AJ44: =IF(COUNTIF(AI$2:AI44,AI44)=1,AI44,"") | AK44: =+IFERROR(INDEX(AF$2:AF$955,MATCH(ROW()-ROW(IE$1),AE$2:AE$955,0)),"") | AL44: =+IFERROR(INDEX(AG$2:AG$955,MATCH(ROW()-ROW(AJ$1),AE$2:AE$955,0)),"") | AM44: =+IFERROR(INDEX(AH$2:AH$955,MATCH(ROW()-ROW(AJ$1),AE$2:AE$955,0)),"") | AN44: =IF(AM44="","",VLOOKUP(AK44&AL44,$Y$2:$AC$478,5,FALSE)) | AP44: PR | AR44: =+IF(AW44="","",MAX(AR$1:AR43)+1) | AS44: =IF(Limit_Deviation_Detail!B66="","",Limit_Deviation_Detail!B66) | AT44: =IF(Limit_Deviation_Detail!C66="","",Limit_Deviation_Detail!C66) | AU44: =IF(Limit_Deviation_Detail!F66="","",Limit_Deviation_Detail!F66) | AV44: =AS44&AT44&AU44 | AW44: =IF(COUNTIF(AV$2:AV44,AV44)=1,AV44,"") | AX44: =+IFERROR(INDEX(AS$2:AS$955,MATCH(ROW()-ROW(IQ$1),AR$2:AR$955,0)),"") | AY44: =+IFERROR(INDEX(AT$2:AT$955,MATCH(ROW()-ROW(AW$1),AR$2:AR$955,0)),"") | AZ44: =+IFERROR(INDEX(AU$2:AU$955,MATCH(ROW()-ROW(AW$1),AR$2:AR$955,0)),"") | BA44: =IF(AZ44="","",VLOOKUP(AX44&AY44,$Y$2:$AC$478,5,FALSE)) | BC44: =+IF(BI44="","",MAX(BC$1:BC43)+1) | BD44: =IF(CMS_Identification!B66="","",CMS_Identification!B66) | BE44: =IF(CMS_Identification!C66="","",CMS_Identification!C66) | BF44: =IF(CMS_Identification!E66="","",CMS_Identification!E66) | BG44: =IF(Affected_Source!AL66="","",Affected_Source!AL66) | BH44: =BD44&BE44&BF44 | BI44: =IF(COUNTIF(BH$2:BH44,BH44)=1,BH44,"") | BJ44: =BK44&" "&BL44&" "&BM44 | BK44: =+IFERROR(INDEX(BD$2:BD$955,MATCH(ROW()-ROW($BJ$1),BC$2:BC$955,0)),"") | BL44: =+IFERROR(INDEX(BE$2:BE$955,MATCH(ROW()-ROW($BJ$1),BC$2:BC$955,0)),"") | BM44: =+IFERROR(INDEX(BF$2:BF$955,MATCH(ROW()-ROW($BJ$1),BC$2:BC$955,0)),"")
... A53: =+IF(D53="","",MAX(A$1:A52)+1) | B53: =IF(Affected_Source!C75="","",Affected_Source!C75) | C53: =+IFERROR(INDEX(B$2:B$501,MATCH(ROW()-ROW($C$1),A$2:A$501,0)),"") | D53: =IF(COUNTIF(B$2:B53,B53)=1,B53,"") | E53: =IF(Affected_Source!D75="","",Affected_Source!D75) | K53: =+IF(N53="","",MAX(K$1:K52)+1) | L53: =IF(CMS_Identification!E75="","",CMS_Identification!E75) | M53: =+IFERROR(INDEX(L$2:L$501,MATCH(ROW()-ROW($M$1),K$2:K$501,0)),"") | N53: =IF(COUNTIF(L$2:L53,L53)=1,L53,"") | P53: Other Control Device to Which HCl Emissions are Ducted - established limits (define here) | T53: =+IF(Y53="","",MAX(T$1:T52)+1) | U53: =IF(Affected_Source!B75="","",Affected_Source!B75) | V53: =IF(Affected_Source!D75="","",Affected_Source!D75) | W53: =IF(Affected_Source!E75="","",Affected_Source!E75) | X53: =U53&V53 | Y53: =IF(COUNTIF(X$2:X53,X53)=1,X53,"") | Z53: =AA53&" "&AB53 | AA53: =+IFERROR(INDEX(U$2:U$955,MATCH(ROW()-ROW($AA$1),T$2:T$955,0)),"") | AB53: =+IFERROR(INDEX(V$2:V$955,MATCH(ROW()-ROW($AA$1),T$2:T$955,0)),"") | AC53: =+IFERROR(INDEX(W$2:W$955,MATCH(ROW()-ROW($AA$1),U$2:U$955,0)),"") | AE53: =+IF(AJ53="","",MAX(AE$1:AE52)+1) | AF53: =IF(CMS_Inoperative_OoC!B75="","",CMS_Inoperative_OoC!B75) | AG53: =IF(CMS_Inoperative_OoC!C75="","",CMS_Inoperative_OoC!C75) | AH53: =IF(CMS_Inoperative_OoC!D75="","",CMS_Inoperative_OoC!D75) | AI53: =AF53&AG53&AH53 | AJ53: =IF(COUNTIF(AI$2:AI53,AI53)=1,AI53,"") | AK53: =+IFERROR(INDEX(AF$2:AF$955,MATCH(ROW()-ROW(IE$1),AE$2:AE$955,0)),"") | AL53: =+IFERROR(INDEX(AG$2:AG$955,MATCH(ROW()-ROW(AJ$1),AE$2:AE$955,0)),"") | AM53: =+IFERROR(INDEX(AH$2:AH$955,MATCH(ROW()-ROW(AJ$1),AE$2:AE$955,0)),"") | AN53: =IF(AM53="","",VLOOKUP(AK53&AL53,$Y$2:$AC$478,5,FALSE)) | AP53: VT | AR53: =+IF(AW53="","",MAX(AR$1:AR52)+1) | AS53: =IF(Limit_Deviation_Detail!B75="","",Limit_Deviation_Detail!B75) | AT53: =IF(Limit_Deviation_Detail!C75="","",Limit_Deviation_Detail!C75) | AU53: =IF(Limit_Deviation_Detail!F75="","",Limit_Deviation_Detail!F75) | AV53: =AS53&AT53&AU53 | AW53: =IF(COUNTIF(AV$2:AV53,AV53)=1,AV53,"") | AX53: =+IFERROR(INDEX(AS$2:AS$955,MATCH(ROW()-ROW(IQ$1),AR$2:AR$955,0)),"") | AY53: =+IFERROR(INDEX(AT$2:AT$955,MATCH(ROW()-ROW(AW$1),AR$2:AR$955,0)),"") | AZ53: =+IFERROR(INDEX(AU$2:AU$955,MATCH(ROW()-ROW(AW$1),AR$2:AR$955,0)),"") | BA53: =IF(AZ53="","",VLOOKUP(AX53&AY53,$Y$2:$AC$478,5,FALSE)) | BC53: =+IF(BI53="","",MAX(BC$1:BC52)+1) | BD53: =IF(CMS_Identification!B75="","",CMS_Identification!B75) | BE53: =IF(CMS_Identification!C75="","",CMS_Identification!C75) | BF53: =IF(CMS_Identification!E75="","",CMS_Identification!E75) | BG53: =IF(Affected_Source!AL75="","",Affected_Source!AL75) | BH53: =BD53&BE53&BF53 | BI53: =IF(COUNTIF(BH$2:BH53,BH53)=1,BH53,"") | BJ53: =BK53&" "&BL53&" "&BM53 | BK53: =+IFERROR(INDEX(BD$2:BD$955,MATCH(ROW()-ROW($BJ$1),BC$2:BC$955,0)),"") | BL53: =+IFERROR(INDEX(BE$2:BE$955,MATCH(ROW()-ROW($BJ$1),BC$2:BC$955,0)),"") | BM53: =+IFERROR(INDEX(BF$2:BF$955,MATCH(ROW()-ROW($BJ$1),BC$2:BC$955,0)),"")
A54: =+IF(D54="","",MAX(A$1:A53)+1) | B54: =IF(Affected_Source!C76="","",Affected_Source!C76) | C54: =+IFERROR(INDEX(B$2:B$501,MATCH(ROW()-ROW($C$1),A$2:A$501,0)),"") | D54: =IF(COUNTIF(B$2:B54,B54)=1,B54,"") | E54: =IF(Affected_Source!D76="","",Affected_Source!D76) | K54: =+IF(N54="","",MAX(K$1:K53)+1) | L54: =IF(CMS_Identification!E76="","",CMS_Identification!E76) | M54: =+IFERROR(INDEX(L$2:L$501,MATCH(ROW()-ROW($M$1),K$2:K$501,0)),"") | N54: =IF(COUNTIF(L$2:L54,L54)=1,L54,"") | T54: =+IF(Y54="","",MAX(T$1:T53)+1) | U54: =IF(Affected_Source!B76="","",Affected_Source!B76) | V54: =IF(Affected_Source!D76="","",Affected_Source!D76) | W54: =IF(Affected_Source!E76="","",Affected_Source!E76) | X54: =U54&V54 | Y54: =IF(COUNTIF(X$2:X54,X54)=1,X54,"") | Z54: =AA54&" "&AB54 | AA54: =+IFERROR(INDEX(U$2:U$955,MATCH(ROW()-ROW($AA$1),T$2:T$955,0)),"") | AB54: =+IFERROR(INDEX(V$2:V$955,MATCH(ROW()-ROW($AA$1),T$2:T$955,0)),"") | AC54: =+IFERROR(INDEX(W$2:W$955,MATCH(ROW()-ROW($AA$1),U$2:U$955,0)),"") | AE54: =+IF(AJ54="","",MAX(AE$1:AE53)+1) | AF54: =IF(CMS_Inoperative_OoC!B76="","",CMS_Inoperative_OoC!B76) | AG54: =IF(CMS_Inoperative_OoC!C76="","",CMS_Inoperative_OoC!C76) | AH54: =IF(CMS_Inoperative_OoC!D76="","",CMS_Inoperative_OoC!D76) | AI54: =AF54&AG54&AH54 | AJ54: =IF(COUNTIF(AI$2:AI54,AI54)=1,AI54,"") | AK54: =+IFERROR(INDEX(AF$2:AF$955,MATCH(ROW()-ROW(IE$1),AE$2:AE$955,0)),"") | AL54: =+IFERROR(INDEX(AG$2:AG$955,MATCH(ROW()-ROW(AJ$1),AE$2:AE$955,0)),"") | AM54: =+IFERROR(INDEX(AH$2:AH$955,MATCH(ROW()-ROW(AJ$1),AE$2:AE$955,0)),"") | AN54: =IF(AM54="","",VLOOKUP(AK54&AL54,$Y$2:$AC$478,5,FALSE)) | AP54: WA | AR54: =+IF(AW54="","",MAX(AR$1:AR53)+1) | AS54: =IF(Limit_Deviation_Detail!B76="","",Limit_Deviation_Detail!B76) | AT54: =IF(Limit_Deviation_Detail!C76="","",Limit_Deviation_Detail!C76) | AU54: =IF(Limit_Deviation_Detail!F76="","",Limit_Deviation_Detail!F76) | AV54: =AS54&AT54&AU54 | AW54: =IF(COUNTIF(AV$2:AV54,AV54)=1,AV54,"") | AX54: =+IFERROR(INDEX(AS$2:AS$955,MATCH(ROW()-ROW(IQ$1),AR$2:AR$955,0)),"") | AY54: =+IFERROR(INDEX(AT$2:AT$955,MATCH(ROW()-ROW(AW$1),AR$2:AR$955,0)),"") | AZ54: =+IFERROR(INDEX(AU$2:AU$955,MATCH(ROW()-ROW(AW$1),AR$2:AR$955,0)),"") | BA54: =IF(AZ54="","",VLOOKUP(AX54&AY54,$Y$2:$AC$478,5,FALSE)) | BC54: =+IF(BI54="","",MAX(BC$1:BC53)+1) | BD54: =IF(CMS_Identification!B76="","",CMS_Identification!B76) | BE54: =IF(CMS_Identification!C76="","",CMS_Identification!C76) | BF54: =IF(CMS_Identification!E76="","",CMS_Identification!E76) | BG54: =IF(Affected_Source!AL76="","",Affected_Source!AL76) | BH54: =BD54&BE54&BF54 | BI54: =IF(COUNTIF(BH$2:BH54,BH54)=1,BH54,"") | BJ54: =BK54&" "&BL54&" "&BM54 | BK54: =+IFERROR(INDEX(BD$2:BD$955,MATCH(ROW()-ROW($BJ$1),BC$2:BC$955,0)),"") | BL54: =+IFERROR(INDEX(BE$2:BE$955,MATCH(ROW()-ROW($BJ$1),BC$2:BC$955,0)),"") | BM54: =+IFERROR(INDEX(BF$2:BF$955,MATCH(ROW()-ROW($BJ$1),BC$2:BC$955,0)),"")
A55: =+IF(D55="","",MAX(A$1:A54)+1) | B55: =IF(Affected_Source!C77="","",Affected_Source!C77) | C55: =+IFERROR(INDEX(B$2:B$501,MATCH(ROW()-ROW($C$1),A$2:A$501,0)),"") | D55: =IF(COUNTIF(B$2:B55,B55)=1,B55,"") | E55: =IF(Affected_Source!D77="","",Affected_Source!D77) | K55: =+IF(N55="","",MAX(K$1:K54)+1) | L55: =IF(CMS_Identification!E77="","",CMS_Identification!E77) | M55: =+IFERROR(INDEX(L$2:L$501,MATCH(ROW()-ROW($M$1),K$2:K$501,0)),"") | N55: =IF(COUNTIF(L$2:L55,L55)=1,L55,"") | T55: =+IF(Y55="","",MAX(T$1:T54)+1) | U55: =IF(Affected_Source!B77="","",Affected_Source!B77) | V55: =IF(Affected_Source!D77="","",Affected_Source!D77) | W55: =IF(Affected_Source!E77="","",Affected_Source!E77) | X55: =U55&V55 | Y55: =IF(COUNTIF(X$2:X55,X55)=1,X55,"") | Z55: =AA55&" "&AB55 | AA55: =+IFERROR(INDEX(U$2:U$955,MATCH(ROW()-ROW($AA$1),T$2:T$955,0)),"") | AB55: =+IFERROR(INDEX(V$2:V$955,MATCH(ROW()-ROW($AA$1),T$2:T$955,0)),"") | AC55: =+IFERROR(INDEX(W$2:W$955,MATCH(ROW()-ROW($AA$1),U$2:U$955,0)),"") | AE55: =+IF(AJ55="","",MAX(AE$1:AE54)+1) | AF55: =IF(CMS_Inoperative_OoC!B77="","",CMS_Inoperative_OoC!B77) | AG55: =IF(CMS_Inoperative_OoC!C77="","",CMS_Inoperative_OoC!C77) | AH55: =IF(CMS_Inoperative_OoC!D77="","",CMS_Inoperative_OoC!D77) | AI55: =AF55&AG55&AH55 | AJ55: =IF(COUNTIF(AI$2:AI55,AI55)=1,AI55,"") | AK55: =+IFERROR(INDEX(AF$2:AF$955,MATCH(ROW()-ROW(IE$1),AE$2:AE$955,0)),"") | AL55: =+IFERROR(INDEX(AG$2:AG$955,MATCH(ROW()-ROW(AJ$1),AE$2:AE$955,0)),"") | AM55: =+IFERROR(INDEX(AH$2:AH$955,MATCH(ROW()-ROW(AJ$1),AE$2:AE$955,0)),"") | AN55: =IF(AM55="","",VLOOKUP(AK55&AL55,$Y$2:$AC$478,5,FALSE)) | AP55: WI | AR55: =+IF(AW55="","",MAX(AR$1:AR54)+1) | AS55: =IF(Limit_Deviation_Detail!B77="","",Limit_Deviation_Detail!B77) | AT55: =IF(Limit_Deviation_Detail!C77="","",Limit_Deviation_Detail!C77) | AU55: =IF(Limit_Deviation_Detail!F77="","",Limit_Deviation_Detail!F77) | AV55: =AS55&AT55&AU55 | AW55: =IF(COUNTIF(AV$2:AV55,AV55)=1,AV55,"") | AX55: =+IFERROR(INDEX(AS$2:AS$955,MATCH(ROW()-ROW(IQ$1),AR$2:AR$955,0)),"") | AY55: =+IFERROR(INDEX(AT$2:AT$955,MATCH(ROW()-ROW(AW$1),AR$2:AR$955,0)),"") | AZ55: =+IFERROR(INDEX(AU$2:AU$955,MATCH(ROW()-ROW(AW$1),AR$2:AR$955,0)),"") | BA55: =IF(AZ55="","",VLOOKUP(AX55&AY55,$Y$2:$AC$478,5,FALSE)) | BC55: =+IF(BI55="","",MAX(BC$1:BC54)+1) | BD55: =IF(CMS_Identification!B77="","",CMS_Identification!B77) | BE55: =IF(CMS_Identification!C77="","",CMS_Identification!C77) | BF55: =IF(CMS_Identification!E77="","",CMS_Identification!E77) | BG55: =IF(Affected_Source!AL77="","",Affected_Source!AL77) | BH55: =BD55&BE55&BF55 | BI55: =IF(COUNTIF(BH$2:BH55,BH55)=1,BH55,"") | BJ55: =BK55&" "&BL55&" "&BM55 | BK55: =+IFERROR(INDEX(BD$2:BD$955,MATCH(ROW()-ROW($BJ$1),BC$2:BC$955,0)),"") | BL55: =+IFERROR(INDEX(BE$2:BE$955,MATCH(ROW()-ROW($BJ$1),BC$2:BC$955,0)),"") | BM55: =+IFERROR(INDEX(BF$2:BF$955,MATCH(ROW()-ROW($BJ$1),BC$2:BC$955,0)),"")
A56: =+IF(D56="","",MAX(A$1:A55)+1) | B56: =IF(Affected_Source!C78="","",Affected_Source!C78) | C56: =+IFERROR(INDEX(B$2:B$501,MATCH(ROW()-ROW($C$1),A$2:A$501,0)),"") | D56: =IF(COUNTIF(B$2:B56,B56)=1,B56,"") | E56: =IF(Affected_Source!D78="","",Affected_Source!D78) | K56: =+IF(N56="","",MAX(K$1:K55)+1) | L56: =IF(CMS_Identification!E78="","",CMS_Identification!E78) | M56: =+IFERROR(INDEX(L$2:L$501,MATCH(ROW()-ROW($M$1),K$2:K$501,0)),"") | N56: =IF(COUNTIF(L$2:L56,L56)=1,L56,"") | T56: =+IF(Y56="","",MAX(T$1:T55)+1) | U56: =IF(Affected_Source!B78="","",Affected_Source!B78) | V56: =IF(Affected_Source!D78="","",Affected_Source!D78) | W56: =IF(Affected_Source!E78="","",Affected_Source!E78) | X56: =U56&V56 | Y56: =IF(COUNTIF(X$2:X56,X56)=1,X56,"") | Z56: =AA56&" "&AB56 | AA56: =+IFERROR(INDEX(U$2:U$955,MATCH(ROW()-ROW($AA$1),T$2:T$955,0)),"") | AB56: =+IFERROR(INDEX(V$2:V$955,MATCH(ROW()-ROW($AA$1),T$2:T$955,0)),"") | AC56: =+IFERROR(INDEX(W$2:W$955,MATCH(ROW()-ROW($AA$1),U$2:U$955,0)),"") | AE56: =+IF(AJ56="","",MAX(AE$1:AE55)+1) | AF56: =IF(CMS_Inoperative_OoC!B78="","",CMS_Inoperative_OoC!B78) | AG56: =IF(CMS_Inoperative_OoC!C78="","",CMS_Inoperative_OoC!C78) | AH56: =IF(CMS_Inoperative_OoC!D78="","",CMS_Inoperative_OoC!D78) | AI56: =AF56&AG56&AH56 | AJ56: =IF(COUNTIF(AI$2:AI56,AI56)=1,AI56,"") | AK56: =+IFERROR(INDEX(AF$2:AF$955,MATCH(ROW()-ROW(IE$1),AE$2:AE$955,0)),"") | AL56: =+IFERROR(INDEX(AG$2:AG$955,MATCH(ROW()-ROW(AJ$1),AE$2:AE$955,0)),"") | AM56: =+IFERROR(INDEX(AH$2:AH$955,MATCH(ROW()-ROW(AJ$1),AE$2:AE$955,0)),"") | AN56: =IF(AM56="","",VLOOKUP(AK56&AL56,$Y$2:$AC$478,5,FALSE)) | AP56: WV | AR56: =+IF(AW56="","",MAX(AR$1:AR55)+1) | AS56: =IF(Limit_Deviation_Detail!B78="","",Limit_Deviation_Detail!B78) | AT56: =IF(Limit_Deviation_Detail!C78="","",Limit_Deviation_Detail!C78) | AU56: =IF(Limit_Deviation_Detail!F78="","",Limit_Deviation_Detail!F78) | AV56: =AS56&AT56&AU56 | AW56: =IF(COUNTIF(AV$2:AV56,AV56)=1,AV56,"") | AX56: =+IFERROR(INDEX(AS$2:AS$955,MATCH(ROW()-ROW(IQ$1),AR$2:AR$955,0)),"") | AY56: =+IFERROR(INDEX(AT$2:AT$955,MATCH(ROW()-ROW(AW$1),AR$2:AR$955,0)),"") | AZ56: =+IFERROR(INDEX(AU$2:AU$955,MATCH(ROW()-ROW(AW$1),AR$2:AR$955,0)),"") | BA56: =IF(AZ56="","",VLOOKUP(AX56&AY56,$Y$2:$AC$478,5,FALSE)) | BC56: =+IF(BI56="","",MAX(BC$1:BC55)+1) | BD56: =IF(CMS_Identification!B78="","",CMS_Identification!B78) | BE56: =IF(CMS_Identification!C78="","",CMS_Identification!C78) | BF56: =IF(CMS_Identification!E78="","",CMS_Identification!E78) | BG56: =IF(Affected_Source!AL78="","",Affected_Source!AL78) | BH56: =BD56&BE56&BF56 | BI56: =IF(COUNTIF(BH$2:BH56,BH56)=1,BH56,"") | BJ56: =BK56&" "&BL56&" "&BM56 | BK56: =+IFERROR(INDEX(BD$2:BD$955,MATCH(ROW()-ROW($BJ$1),BC$2:BC$955,0)),"") | BL56: =+IFERROR(INDEX(BE$2:BE$955,MATCH(ROW()-ROW($BJ$1),BC$2:BC$955,0)),"") | BM56: =+IFERROR(INDEX(BF$2:BF$955,MATCH(ROW()-ROW($BJ$1),BC$2:BC$955,0)),"")
A57: =+IF(D57="","",MAX(A$1:A56)+1) | B57: =IF(Affected_Source!C79="","",Affected_Source!C79) | C57: =+IFERROR(INDEX(B$2:B$501,MATCH(ROW()-ROW($C$1),A$2:A$501,0)),"") | D57: =IF(COUNTIF(B$2:B57,B57)=1,B57,"") | E57: =IF(Affected_Source!D79="","",Affected_Source!D79) | K57: =+IF(N57="","",MAX(K$1:K56)+1) | L57: =IF(CMS_Identification!E79="","",CMS_Identification!E79) | M57: =+IFERROR(INDEX(L$2:L$501,MATCH(ROW()-ROW($M$1),K$2:K$501,0)),"") | N57: =IF(COUNTIF(L$2:L57,L57)=1,L57,"") | T57: =+IF(Y57="","",MAX(T$1:T56)+1) | U57: =IF(Affected_Source!B79="","",Affected_Source!B79) | V57: =IF(Affected_Source!D79="","",Affected_Source!D79) | W57: =IF(Affected_Source!E79="","",Affected_Source!E79) | X57: =U57&V57 | Y57: =IF(COUNTIF(X$2:X57,X57)=1,X57,"") | Z57: =AA57&" "&AB57 | AA57: =+IFERROR(INDEX(U$2:U$955,MATCH(ROW()-ROW($AA$1),T$2:T$955,0)),"") | AB57: =+IFERROR(INDEX(V$2:V$955,MATCH(ROW()-ROW($AA$1),T$2:T$955,0)),"") | AC57: =+IFERROR(INDEX(W$2:W$955,MATCH(ROW()-ROW($AA$1),U$2:U$955,0)),"") | AE57: =+IF(AJ57="","",MAX(AE$1:AE56)+1) | AF57: =IF(CMS_Inoperative_OoC!B79="","",CMS_Inoperative_OoC!B79) | AG57: =IF(CMS_Inoperative_OoC!C79="","",CMS_Inoperative_OoC!C79) | AH57: =IF(CMS_Inoperative_OoC!D79="","",CMS_Inoperative_OoC!D79) | AI57: =AF57&AG57&AH57 | AJ57: =IF(COUNTIF(AI$2:AI57,AI57)=1,AI57,"") | AK57: =+IFERROR(INDEX(AF$2:AF$955,MATCH(ROW()-ROW(IE$1),AE$2:AE$955,0)),"") | AL57: =+IFERROR(INDEX(AG$2:AG$955,MATCH(ROW()-ROW(AJ$1),AE$2:AE$955,0)),"") | AM57: =+IFERROR(INDEX(AH$2:AH$955,MATCH(ROW()-ROW(AJ$1),AE$2:AE$955,0)),"") | AN57: =IF(AM57="","",VLOOKUP(AK57&AL57,$Y$2:$AC$478,5,FALSE)) | AP57: WY | AR57: =+IF(AW57="","",MAX(AR$1:AR56)+1) | AS57: =IF(Limit_Deviation_Detail!B79="","",Limit_Deviation_Detail!B79) | AT57: =IF(Limit_Deviation_Detail!C79="","",Limit_Deviation_Detail!C79) | AU57: =IF(Limit_Deviation_Detail!F79="","",Limit_Deviation_Detail!F79) | AV57: =AS57&AT57&AU57 | AW57: =IF(COUNTIF(AV$2:AV57,AV57)=1,AV57,"") | AX57: =+IFERROR(INDEX(AS$2:AS$955,MATCH(ROW()-ROW(IQ$1),AR$2:AR$955,0)),"") | AY57: =+IFERROR(INDEX(AT$2:AT$955,MATCH(ROW()-ROW(AW$1),AR$2:AR$955,0)),"") | AZ57: =+IFERROR(INDEX(AU$2:AU$955,MATCH(ROW()-ROW(AW$1),AR$2:AR$955,0)),"") | BA57: =IF(AZ57="","",VLOOKUP(AX57&AY57,$Y$2:$AC$478,5,FALSE)) | BC57: =+IF(BI57="","",MAX(BC$1:BC56)+1) | BD57: =IF(CMS_Identification!B79="","",CMS_Identification!B79) | BE57: =IF(CMS_Identification!C79="","",CMS_Identification!C79) | BF57: =IF(CMS_Identification!E79="","",CMS_Identification!E79) | BG57: =IF(Affected_Source!AL79="","",Affected_Source!AL79) | BH57: =BD57&BE57&BF57 | BI57: =IF(COUNTIF(BH$2:BH57,BH57)=1,BH57,"") | BJ57: =BK57&" "&BL57&" "&BM57 | BK57: =+IFERROR(INDEX(BD$2:BD$955,MATCH(ROW()-ROW($BJ$1),BC$2:BC$955,0)),"") | BL57: =+IFERROR(INDEX(BE$2:BE$955,MATCH(ROW()-ROW($BJ$1),BC$2:BC$955,0)),"") | BM57: =+IFERROR(INDEX(BF$2:BF$955,MATCH(ROW()-ROW($BJ$1),BC$2:BC$955,0)),"")
A58: =+IF(D58="","",MAX(A$1:A57)+1) | B58: =IF(Affected_Source!C80="","",Affected_Source!C80) | C58: =+IFERROR(INDEX(B$2:B$501,MATCH(ROW()-ROW($C$1),A$2:A$501,0)),"") | D58: =IF(COUNTIF(B$2:B58,B58)=1,B58,"") | E58: =IF(Affected_Source!D80="","",Affected_Source!D80) | K58: =+IF(N58="","",MAX(K$1:K57)+1) | L58: =IF(CMS_Identification!E80="","",CMS_Identification!E80) | M58: =+IFERROR(INDEX(L$2:L$501,MATCH(ROW()-ROW($M$1),K$2:K$501,0)),"") | N58: =IF(COUNTIF(L$2:L58,L58)=1,L58,"") | T58: =+IF(Y58="","",MAX(T$1:T57)+1) | U58: =IF(Affected_Source!B80="","",Affected_Source!B80) | V58: =IF(Affected_Source!D80="","",Affected_Source!D80) | W58: =IF(Affected_Source!E80="","",Affected_Source!E80) | X58: =U58&V58 | Y58: =IF(COUNTIF(X$2:X58,X58)=1,X58,"") | Z58: =AA58&" "&AB58 | AA58: =+IFERROR(INDEX(U$2:U$955,MATCH(ROW()-ROW($AA$1),T$2:T$955,0)),"") | AB58: =+IFERROR(INDEX(V$2:V$955,MATCH(ROW()-ROW($AA$1),T$2:T$955,0)),"") | AC58: =+IFERROR(INDEX(W$2:W$955,MATCH(ROW()-ROW($AA$1),U$2:U$955,0)),"") | AE58: =+IF(AJ58="","",MAX(AE$1:AE57)+1) | AF58: =IF(CMS_Inoperative_OoC!B80="","",CMS_Inoperative_OoC!B80) | AG58: =IF(CMS_Inoperative_OoC!C80="","",CMS_Inoperative_OoC!C80) | AH58: =IF(CMS_Inoperative_OoC!D80="","",CMS_Inoperative_OoC!D80) | AI58: =AF58&AG58&AH58 | AJ58: =IF(COUNTIF(AI$2:AI58,AI58)=1,AI58,"") | AK58: =+IFERROR(INDEX(AF$2:AF$955,MATCH(ROW()-ROW(IE$1),AE$2:AE$955,0)),"") | AL58: =+IFERROR(INDEX(AG$2:AG$955,MATCH(ROW()-ROW(AJ$1),AE$2:AE$955,0)),"") | AM58: =+IFERROR(INDEX(AH$2:AH$955,MATCH(ROW()-ROW(AJ$1),AE$2:AE$955,0)),"") | AN58: =IF(AM58="","",VLOOKUP(AK58&AL58,$Y$2:$AC$478,5,FALSE)) | AR58: =+IF(AW58="","",MAX(AR$1:AR57)+1) | AS58: =IF(Limit_Deviation_Detail!B80="","",Limit_Deviation_Detail!B80) | AT58: =IF(Limit_Deviation_Detail!C80="","",Limit_Deviation_Detail!C80) | AU58: =IF(Limit_Deviation_Detail!F80="","",Limit_Deviation_Detail!F80) | AV58: =AS58&AT58&AU58 | AW58: =IF(COUNTIF(AV$2:AV58,AV58)=1,AV58,"") | AX58: =+IFERROR(INDEX(AS$2:AS$955,MATCH(ROW()-ROW(IQ$1),AR$2:AR$955,0)),"") | AY58: =+IFERROR(INDEX(AT$2:AT$955,MATCH(ROW()-ROW(AW$1),AR$2:AR$955,0)),"") | AZ58: =+IFERROR(INDEX(AU$2:AU$955,MATCH(ROW()-ROW(AW$1),AR$2:AR$955,0)),"") | BA58: =IF(AZ58="","",VLOOKUP(AX58&AY58,$Y$2:$AC$478,5,FALSE)) | BC58: =+IF(BI58="","",MAX(BC$1:BC57)+1) | BD58: =IF(CMS_Identification!B80="","",CMS_Identification!B80) | BE58: =IF(CMS_Identification!C80="","",CMS_Identification!C80) | BF58: =IF(CMS_Identification!E80="","",CMS_Identification!E80) | BG58: =IF(Affected_Source!AL80="","",Affected_Source!AL80) | BH58: =BD58&BE58&BF58 | BI58: =IF(COUNTIF(BH$2:BH58,BH58)=1,BH58,"") | BJ58: =BK58&" "&BL58&" "&BM58 | BK58: =+IFERROR(INDEX(BD$2:BD$955,MATCH(ROW()-ROW($BJ$1),BC$2:BC$955,0)),"") | BL58: =+IFERROR(INDEX(BE$2:BE$955,MATCH(ROW()-ROW($BJ$1),BC$2:BC$955,0)),"") | BM58: =+IFERROR(INDEX(BF$2:BF$955,MATCH(ROW()-ROW($BJ$1),BC$2:BC$955,0)),"")
A59: =+IF(D59="","",MAX(A$1:A58)+1) | B59: =IF(Affected_Source!C81="","",Affected_Source!C81) | C59: =+IFERROR(INDEX(B$2:B$501,MATCH(ROW()-ROW($C$1),A$2:A$501,0)),"") | D59: =IF(COUNTIF(B$2:B59,B59)=1,B59,"") | E59: =IF(Affected_Source!D81="","",Affected_Source!D81) | K59: =+IF(N59="","",MAX(K$1:K58)+1) | L59: =IF(CMS_Identification!E81="","",CMS_Identification!E81) | M59: =+IFERROR(INDEX(L$2:L$501,MATCH(ROW()-ROW($M$1),K$2:K$501,0)),"") | N59: =IF(COUNTIF(L$2:L59,L59)=1,L59,"") | T59: =+IF(Y59="","",MAX(T$1:T58)+1) | U59: =IF(Affected_Source!B81="","",Affected_Source!B81) | V59: =IF(Affected_Source!D81="","",Affected_Source!D81) | W59: =IF(Affected_Source!E81="","",Affected_Source!E81) | X59: =U59&V59 | Y59: =IF(COUNTIF(X$2:X59,X59)=1,X59,"") | Z59: =AA59&" "&AB59 | AA59: =+IFERROR(INDEX(U$2:U$955,MATCH(ROW()-ROW($AA$1),T$2:T$955,0)),"") | AB59: =+IFERROR(INDEX(V$2:V$955,MATCH(ROW()-ROW($AA$1),T$2:T$955,0)),"") | AC59: =+IFERROR(INDEX(W$2:W$955,MATCH(ROW()-ROW($AA$1),U$2:U$955,0)),"") | AE59: =+IF(AJ59="","",MAX(AE$1:AE58)+1) | AF59: =IF(CMS_Inoperative_OoC!B81="","",CMS_Inoperative_OoC!B81) | AG59: =IF(CMS_Inoperative_OoC!C81="","",CMS_Inoperative_OoC!C81) | AH59: =IF(CMS_Inoperative_OoC!D81="","",CMS_Inoperative_OoC!D81) | AI59: =AF59&AG59&AH59 | AJ59: =IF(COUNTIF(AI$2:AI59,AI59)=1,AI59,"") | AK59: =+IFERROR(INDEX(AF$2:AF$955,MATCH(ROW()-ROW(IE$1),AE$2:AE$955,0)),"") | AL59: =+IFERROR(INDEX(AG$2:AG$955,MATCH(ROW()-ROW(AJ$1),AE$2:AE$955,0)),"") | AM59: =+IFERROR(INDEX(AH$2:AH$955,MATCH(ROW()-ROW(AJ$1),AE$2:AE$955,0)),"") | AN59: =IF(AM59="","",VLOOKUP(AK59&AL59,$Y$2:$AC$478,5,FALSE)) | AR59: =+IF(AW59="","",MAX(AR$1:AR58)+1) | AS59: =IF(Limit_Deviation_Detail!B81="","",Limit_Deviation_Detail!B81) | AT59: =IF(Limit_Deviation_Detail!C81="","",Limit_Deviation_Detail!C81) | AU59: =IF(Limit_Deviation_Detail!F81="","",Limit_Deviation_Detail!F81) | AV59: =AS59&AT59&AU59 | AW59: =IF(COUNTIF(AV$2:AV59,AV59)=1,AV59,"") | AX59: =+IFERROR(INDEX(AS$2:AS$955,MATCH(ROW()-ROW(IQ$1),AR$2:AR$955,0)),"") | AY59: =+IFERROR(INDEX(AT$2:AT$955,MATCH(ROW()-ROW(AW$1),AR$2:AR$955,0)),"") | AZ59: =+IFERROR(INDEX(AU$2:AU$955,MATCH(ROW()-ROW(AW$1),AR$2:AR$955,0)),"") | BA59: =IF(AZ59="","",VLOOKUP(AX59&AY59,$Y$2:$AC$478,5,FALSE)) | BC59: =+IF(BI59="","",MAX(BC$1:BC58)+1) | BD59: =IF(CMS_Identification!B81="","",CMS_Identification!B81) | BE59: =IF(CMS_Identification!C81="","",CMS_Identification!C81) | BF59: =IF(CMS_Identification!E81="","",CMS_Identification!E81) | BG59: =IF(Affected_Source!AL81="","",Affected_Source!AL81) | BH59: =BD59&BE59&BF59 | BI59: =IF(COUNTIF(BH$2:BH59,BH59)=1,BH59,"") | BJ59: =BK59&" "&BL59&" "&BM59 | BK59: =+IFERROR(INDEX(BD$2:BD$955,MATCH(ROW()-ROW($BJ$1),BC$2:BC$955,0)),"") | BL59: =+IFERROR(INDEX(BE$2:BE$955,MATCH(ROW()-ROW($BJ$1),BC$2:BC$955,0)),"") | BM59: =+IFERROR(INDEX(BF$2:BF$955,MATCH(ROW()-ROW($BJ$1),BC$2:BC$955,0)),"")
A60: =+IF(D60="","",MAX(A$1:A59)+1) | B60: =IF(Affected_Source!C82="","",Affected_Source!C82) | C60: =+IFERROR(INDEX(B$2:B$501,MATCH(ROW()-ROW($C$1),A$2:A$501,0)),"") | D60: =IF(COUNTIF(B$2:B60,B60)=1,B60,"") | E60: =IF(Affected_Source!D82="","",Affected_Source!D82) | K60: =+IF(N60="","",MAX(K$1:K59)+1) | L60: =IF(CMS_Identification!E82="","",CMS_Identification!E82) | M60: =+IFERROR(INDEX(L$2:L$501,MATCH(ROW()-ROW($M$1),K$2:K$501,0)),"") | N60: =IF(COUNTIF(L$2:L60,L60)=1,L60,"") | T60: =+IF(Y60="","",MAX(T$1:T59)+1) | U60: =IF(Affected_Source!B82="","",Affected_Source!B82) | V60: =IF(Affected_Source!D82="","",Affected_Source!D82) | W60: =IF(Affected_Source!E82="","",Affected_Source!E82) | X60: =U60&V60 | Y60: =IF(COUNTIF(X$2:X60,X60)=1,X60,"") | Z60: =AA60&" "&AB60 | AA60: =+IFERROR(INDEX(U$2:U$955,MATCH(ROW()-ROW($AA$1),T$2:T$955,0)),"") | AB60: =+IFERROR(INDEX(V$2:V$955,MATCH(ROW()-ROW($AA$1),T$2:T$955,0)),"") | AC60: =+IFERROR(INDEX(W$2:W$955,MATCH(ROW()-ROW($AA$1),U$2:U$955,0)),"") | AE60: =+IF(AJ60="","",MAX(AE$1:AE59)+1) | AF60: =IF(CMS_Inoperative_OoC!B82="","",CMS_Inoperative_OoC!B82) | AG60: =IF(CMS_Inoperative_OoC!C82="","",CMS_Inoperative_OoC!C82) | AH60: =IF(CMS_Inoperative_OoC!D82="","",CMS_Inoperative_OoC!D82) | AI60: =AF60&AG60&AH60 | AJ60: =IF(COUNTIF(AI$2:AI60,AI60)=1,AI60,"") | AK60: =+IFERROR(INDEX(AF$2:AF$955,MATCH(ROW()-ROW(IE$1),AE$2:AE$955,0)),"") | AL60: =+IFERROR(INDEX(AG$2:AG$955,MATCH(ROW()-ROW(AJ$1),AE$2:AE$955,0)),"") | AM60: =+IFERROR(INDEX(AH$2:AH$955,MATCH(ROW()-ROW(AJ$1),AE$2:AE$955,0)),"") | AN60: =IF(AM60="","",VLOOKUP(AK60&AL60,$Y$2:$AC$478,5,FALSE)) | AR60: =+IF(AW60="","",MAX(AR$1:AR59)+1) | AS60: =IF(Limit_Deviation_Detail!B82="","",Limit_Deviation_Detail!B82) | AT60: =IF(Limit_Deviation_Detail!C82="","",Limit_Deviation_Detail!C82) | AU60: =IF(Limit_Deviation_Detail!F82="","",Limit_Deviation_Detail!F82) | AV60: =AS60&AT60&AU60 | AW60: =IF(COUNTIF(AV$2:AV60,AV60)=1,AV60,"") | AX60: =+IFERROR(INDEX(AS$2:AS$955,MATCH(ROW()-ROW(IQ$1),AR$2:AR$955,0)),"") | AY60: =+IFERROR(INDEX(AT$2:AT$955,MATCH(ROW()-ROW(AW$1),AR$2:AR$955,0)),"") | AZ60: =+IFERROR(INDEX(AU$2:AU$955,MATCH(ROW()-ROW(AW$1),AR$2:AR$955,0)),"") | BA60: =IF(AZ60="","",VLOOKUP(AX60&AY60,$Y$2:$AC$478,5,FALSE)) | BC60: =+IF(BI60="","",MAX(BC$1:BC59)+1) | BD60: =IF(CMS_Identification!B82="","",CMS_Identification!B82) | BE60: =IF(CMS_Identification!C82="","",CMS_Identification!C82) | BF60: =IF(CMS_Identification!E82="","",CMS_Identification!E82) | BG60: =IF(Affected_Source!AL82="","",Affected_Source!AL82) | BH60: =BD60&BE60&BF60 | BI60: =IF(COUNTIF(BH$2:BH60,BH60)=1,BH60,"") | BJ60: =BK60&" "&BL60&" "&BM60 | BK60: =+IFERROR(INDEX(BD$2:BD$955,MATCH(ROW()-ROW($BJ$1),BC$2:BC$955,0)),"") | BL60: =+IFERROR(INDEX(BE$2:BE$955,MATCH(ROW()-ROW($BJ$1),BC$2:BC$955,0)),"") | BM60: =+IFERROR(INDEX(BF$2:BF$955,MATCH(ROW()-ROW($BJ$1),BC$2:BC$955,0)),"")
A61: =+IF(D61="","",MAX(A$1:A60)+1) | B61: =IF(Affected_Source!C83="","",Affected_Source!C83) | C61: =+IFERROR(INDEX(B$2:B$501,MATCH(ROW()-ROW($C$1),A$2:A$501,0)),"") | D61: =IF(COUNTIF(B$2:B61,B61)=1,B61,"") | E61: =IF(Affected_Source!D83="","",Affected_Source!D83) | K61: =+IF(N61="","",MAX(K$1:K60)+1) | L61: =IF(CMS_Identification!E83="","",CMS_Identification!E83) | M61: =+IFERROR(INDEX(L$2:L$501,MATCH(ROW()-ROW($M$1),K$2:K$501,0)),"") | N61: =IF(COUNTIF(L$2:L61,L61)=1,L61,"") | T61: =+IF(Y61="","",MAX(T$1:T60)+1) | U61: =IF(Affected_Source!B83="","",Affected_Source!B83) | V61: =IF(Affected_Source!D83="","",Affected_Source!D83) | W61: =IF(Affected_Source!E83="","",Affected_Source!E83) | X61: =U61&V61 | Y61: =IF(COUNTIF(X$2:X61,X61)=1,X61,"") | Z61: =AA61&" "&AB61 | AA61: =+IFERROR(INDEX(U$2:U$955,MATCH(ROW()-ROW($AA$1),T$2:T$955,0)),"") | AB61: =+IFERROR(INDEX(V$2:V$955,MATCH(ROW()-ROW($AA$1),T$2:T$955,0)),"") | AC61: =+IFERROR(INDEX(W$2:W$955,MATCH(ROW()-ROW($AA$1),U$2:U$955,0)),"") | AE61: =+IF(AJ61="","",MAX(AE$1:AE60)+1) | AF61: =IF(CMS_Inoperative_OoC!B83="","",CMS_Inoperative_OoC!B83) | AG61: =IF(CMS_Inoperative_OoC!C83="","",CMS_Inoperative_OoC!C83) | AH61: =IF(CMS_Inoperative_OoC!D83="","",CMS_Inoperative_OoC!D83) | AI61: =AF61&AG61&AH61 | AJ61: =IF(COUNTIF(AI$2:AI61,AI61)=1,AI61,"") | AK61: =+IFERROR(INDEX(AF$2:AF$955,MATCH(ROW()-ROW(IE$1),AE$2:AE$955,0)),"") | AL61: =+IFERROR(INDEX(AG$2:AG$955,MATCH(ROW()-ROW(AJ$1),AE$2:AE$955,0)),"") | AM61: =+IFERROR(INDEX(AH$2:AH$955,MATCH(ROW()-ROW(AJ$1),AE$2:AE$955,0)),"") | AN61: =IF(AM61="","",VLOOKUP(AK61&AL61,$Y$2:$AC$478,5,FALSE)) | AR61: =+IF(AW61="","",MAX(AR$1:AR60)+1) | AS61: =IF(Limit_Deviation_Detail!B83="","",Limit_Deviation_Detail!B83) | AT61: =IF(Limit_Deviation_Detail!C83="","",Limit_Deviation_Detail!C83) | AU61: =IF(Limit_Deviation_Detail!F83="","",Limit_Deviation_Detail!F83) | AV61: =AS61&AT61&AU61 | AW61: =IF(COUNTIF(AV$2:AV61,AV61)=1,AV61,"") | AX61: =+IFERROR(INDEX(AS$2:AS$955,MATCH(ROW()-ROW(IQ$1),AR$2:AR$955,0)),"") | AY61: =+IFERROR(INDEX(AT$2:AT$955,MATCH(ROW()-ROW(AW$1),AR$2:AR$955,0)),"") | AZ61: =+IFERROR(INDEX(AU$2:AU$955,MATCH(ROW()-ROW(AW$1),AR$2:AR$955,0)),"") | BA61: =IF(AZ61="","",VLOOKUP(AX61&AY61,$Y$2:$AC$478,5,FALSE)) | BC61: =+IF(BI61="","",MAX(BC$1:BC60)+1) | BD61: =IF(CMS_Identification!B83="","",CMS_Identification!B83) | BE61: =IF(CMS_Identification!C83="","",CMS_Identification!C83) | BF61: =IF(CMS_Identification!E83="","",CMS_Identification!E83) | BG61: =IF(Affected_Source!AL83="","",Affected_Source!AL83) | BH61: =BD61&BE61&BF61 | BI61: =IF(COUNTIF(BH$2:BH61,BH61)=1,BH61,"") | BJ61: =BK61&" "&BL61&" "&BM61 | BK61: =+IFERROR(INDEX(BD$2:BD$955,MATCH(ROW()-ROW($BJ$1),BC$2:BC$955,0)),"") | BL61: =+IFERROR(INDEX(BE$2:BE$955,MATCH(ROW()-ROW($BJ$1),BC$2:BC$955,0)),"") | BM61: =+IFERROR(INDEX(BF$2:BF$955,MATCH(ROW()-ROW($BJ$1),BC$2:BC$955,0)),"")
A62: =+IF(D62="","",MAX(A$1:A61)+1) | B62: =IF(Affected_Source!C84="","",Affected_Source!C84) | C62: =+IFERROR(INDEX(B$2:B$501,MATCH(ROW()-ROW($C$1),A$2:A$501,0)),"") | D62: =IF(COUNTIF(B$2:B62,B62)=1,B62,"") | E62: =IF(Affected_Source!D84="","",Affected_Source!D84) | K62: =+IF(N62="","",MAX(K$1:K61)+1) | L62: =IF(CMS_Identification!E84="","",CMS_Identification!E84) | M62: =+IFERROR(INDEX(L$2:L$501,MATCH(ROW()-ROW($M$1),K$2:K$501,0)),"") | N62: =IF(COUNTIF(L$2:L62,L62)=1,L62,"") | T62: =+IF(Y62="","",MAX(T$1:T61)+1) | U62: =IF(Affected_Source!B84="","",Affected_Source!B84) | V62: =IF(Affected_Source!D84="","",Affected_Source!D84) | W62: =IF(Affected_Source!E84="","",Affected_Source!E84) | X62: =U62&V62 | Y62: =IF(COUNTIF(X$2:X62,X62)=1,X62,"") | Z62: =AA62&" "&AB62 | AA62: =+IFERROR(INDEX(U$2:U$955,MATCH(ROW()-ROW($AA$1),T$2:T$955,0)),"") | AB62: =+IFERROR(INDEX(V$2:V$955,MATCH(ROW()-ROW($AA$1),T$2:T$955,0)),"") | AC62: =+IFERROR(INDEX(W$2:W$955,MATCH(ROW()-ROW($AA$1),U$2:U$955,0)),"") | AE62: =+IF(AJ62="","",MAX(AE$1:AE61)+1) | AF62: =IF(CMS_Inoperative_OoC!B84="","",CMS_Inoperative_OoC!B84) | AG62: =IF(CMS_Inoperative_OoC!C84="","",CMS_Inoperative_OoC!C84) | AH62: =IF(CMS_Inoperative_OoC!D84="","",CMS_Inoperative_OoC!D84) | AI62: =AF62&AG62&AH62 | AJ62: =IF(COUNTIF(AI$2:AI62,AI62)=1,AI62,"") | AK62: =+IFERROR(INDEX(AF$2:AF$955,MATCH(ROW()-ROW(IE$1),AE$2:AE$955,0)),"") | AL62: =+IFERROR(INDEX(AG$2:AG$955,MATCH(ROW()-ROW(AJ$1),AE$2:AE$955,0)),"") | AM62: =+IFERROR(INDEX(AH$2:AH$955,MATCH(ROW()-ROW(AJ$1),AE$2:AE$955,0)),"") | AN62: =IF(AM62="","",VLOOKUP(AK62&AL62,$Y$2:$AC$478,5,FALSE)) | AR62: =+IF(AW62="","",MAX(AR$1:AR61)+1) | AS62: =IF(Limit_Deviation_Detail!B84="","",Limit_Deviation_Detail!B84) | AT62: =IF(Limit_Deviation_Detail!C84="","",Limit_Deviation_Detail!C84) | AU62: =IF(Limit_Deviation_Detail!F84="","",Limit_Deviation_Detail!F84) | AV62: =AS62&AT62&AU62 | AW62: =IF(COUNTIF(AV$2:AV62,AV62)=1,AV62,"") | AX62: =+IFERROR(INDEX(AS$2:AS$955,MATCH(ROW()-ROW(IQ$1),AR$2:AR$955,0)),"") | AY62: =+IFERROR(INDEX(AT$2:AT$955,MATCH(ROW()-ROW(AW$1),AR$2:AR$955,0)),"") | AZ62: =+IFERROR(INDEX(AU$2:AU$955,MATCH(ROW()-ROW(AW$1),AR$2:AR$955,0)),"") | BA62: =IF(AZ62="","",VLOOKUP(AX62&AY62,$Y$2:$AC$478,5,FALSE)) | BC62: =+IF(BI62="","",MAX(BC$1:BC61)+1) | BD62: =IF(CMS_Identification!B84="","",CMS_Identification!B84) | BE62: =IF(CMS_Identification!C84="","",CMS_Identification!C84) | BF62: =IF(CMS_Identification!E84="","",CMS_Identification!E84) | BG62: =IF(Affected_Source!AL84="","",Affected_Source!AL84) | BH62: =BD62&BE62&BF62 | BI62: =IF(COUNTIF(BH$2:BH62,BH62)=1,BH62,"") | BJ62: =BK62&" "&BL62&" "&BM62 | BK62: =+IFERROR(INDEX(BD$2:BD$955,MATCH(ROW()-ROW($BJ$1),BC$2:BC$955,0)),"") | BL62: =+IFERROR(INDEX(BE$2:BE$955,MATCH(ROW()-ROW($BJ$1),BC$2:BC$955,0)),"") | BM62: =+IFERROR(INDEX(BF$2:BF$955,MATCH(ROW()-ROW($BJ$1),BC$2:BC$955,0)),"")
A63: =+IF(D63="","",MAX(A$1:A62)+1) | B63: =IF(Affected_Source!C85="","",Affected_Source!C85) | C63: =+IFERROR(INDEX(B$2:B$501,MATCH(ROW()-ROW($C$1),A$2:A$501,0)),"") | D63: =IF(COUNTIF(B$2:B63,B63)=1,B63,"") | E63: =IF(Affected_Source!D85="","",Affected_Source!D85) | K63: =+IF(N63="","",MAX(K$1:K62)+1) | L63: =IF(CMS_Identification!E85="","",CMS_Identification!E85) | M63: =+IFERROR(INDEX(L$2:L$501,MATCH(ROW()-ROW($M$1),K$2:K$501,0)),"") | N63: =IF(COUNTIF(L$2:L63,L63)=1,L63,"") | T63: =+IF(Y63="","",MAX(T$1:T62)+1) | U63: =IF(Affected_Source!B85="","",Affected_Source!B85) | V63: =IF(Affected_Source!D85="","",Affected_Source!D85) | W63: =IF(Affected_Source!E85="","",Affected_Source!E85) | X63: =U63&V63 | Y63: =IF(COUNTIF(X$2:X63,X63)=1,X63,"") | Z63: =AA63&" "&AB63 | AA63: =+IFERROR(INDEX(U$2:U$955,MATCH(ROW()-ROW($AA$1),T$2:T$955,0)),"") | AB63: =+IFERROR(INDEX(V$2:V$955,MATCH(ROW()-ROW($AA$1),T$2:T$955,0)),"") | AC63: =+IFERROR(INDEX(W$2:W$955,MATCH(ROW()-ROW($AA$1),U$2:U$955,0)),"") | AE63: =+IF(AJ63="","",MAX(AE$1:AE62)+1) | AF63: =IF(CMS_Inoperative_OoC!B85="","",CMS_Inoperative_OoC!B85) | AG63: =IF(CMS_Inoperative_OoC!C85="","",CMS_Inoperative_OoC!C85) | AH63: =IF(CMS_Inoperative_OoC!D85="","",CMS_Inoperative_OoC!D85) | AI63: =AF63&AG63&AH63 | AJ63: =IF(COUNTIF(AI$2:AI63,AI63)=1,AI63,"") | AK63: =+IFERROR(INDEX(AF$2:AF$955,MATCH(ROW()-ROW(IE$1),AE$2:AE$955,0)),"") | AL63: =+IFERROR(INDEX(AG$2:AG$955,MATCH(ROW()-ROW(AJ$1),AE$2:AE$955,0)),"") | AM63: =+IFERROR(INDEX(AH$2:AH$955,MATCH(ROW()-ROW(AJ$1),AE$2:AE$955,0)),"") | AN63: =IF(AM63="","",VLOOKUP(AK63&AL63,$Y$2:$AC$478,5,FALSE)) | AR63: =+IF(AW63="","",MAX(AR$1:AR62)+1) | AS63: =IF(Limit_Deviation_Detail!B85="","",Limit_Deviation_Detail!B85) | AT63: =IF(Limit_Deviation_Detail!C85="","",Limit_Deviation_Detail!C85) | AU63: =IF(Limit_Deviation_Detail!F85="","",Limit_Deviation_Detail!F85) | AV63: =AS63&AT63&AU63 | AW63: =IF(COUNTIF(AV$2:AV63,AV63)=1,AV63,"") | AX63: =+IFERROR(INDEX(AS$2:AS$955,MATCH(ROW()-ROW(IQ$1),AR$2:AR$955,0)),"") | AY63: =+IFERROR(INDEX(AT$2:AT$955,MATCH(ROW()-ROW(AW$1),AR$2:AR$955,0)),"") | AZ63: =+IFERROR(INDEX(AU$2:AU$955,MATCH(ROW()-ROW(AW$1),AR$2:AR$955,0)),"") | BA63: =IF(AZ63="","",VLOOKUP(AX63&AY63,$Y$2:$AC$478,5,FALSE)) | BC63: =+IF(BI63="","",MAX(BC$1:BC62)+1) | BD63: =IF(CMS_Identification!B85="","",CMS_Identification!B85) | BE63: =IF(CMS_Identification!C85="","",CMS_Identification!C85) | BF63: =IF(CMS_Identification!E85="","",CMS_Identification!E85) | BG63: =IF(Affected_Source!AL85="","",Affected_Source!AL85) | BH63: =BD63&BE63&BF63 | BI63: =IF(COUNTIF(BH$2:BH63,BH63)=1,BH63,"") | BJ63: =BK63&" "&BL63&" "&BM63 | BK63: =+IFERROR(INDEX(BD$2:BD$955,MATCH(ROW()-ROW($BJ$1),BC$2:BC$955,0)),"") | BL63: =+IFERROR(INDEX(BE$2:BE$955,MATCH(ROW()-ROW($BJ$1),BC$2:BC$955,0)),"") | BM63: =+IFERROR(INDEX(BF$2:BF$955,MATCH(ROW()-ROW($BJ$1),BC$2:BC$955,0)),"")
A64: =+IF(D64="","",MAX(A$1:A63)+1) | B64: =IF(Affected_Source!C86="","",Affected_Source!C86) | C64: =+IFERROR(INDEX(B$2:B$501,MATCH(ROW()-ROW($C$1),A$2:A$501,0)),"") | D64: =IF(COUNTIF(B$2:B64,B64)=1,B64,"") | E64: =IF(Affected_Source!D86="","",Affected_Source!D86) | K64: =+IF(N64="","",MAX(K$1:K63)+1) | L64: =IF(CMS_Identification!E86="","",CMS_Identification!E86) | M64: =+IFERROR(INDEX(L$2:L$501,MATCH(ROW()-ROW($M$1),K$2:K$501,0)),"") | N64: =IF(COUNTIF(L$2:L64,L64)=1,L64,"") | T64: =+IF(Y64="","",MAX(T$1:T63)+1) | U64: =IF(Affected_Source!B86="","",Affected_Source!B86) | V64: =IF(Affected_Source!D86="","",Affected_Source!D86) | W64: =IF(Affected_Source!E86="","",Affected_Source!E86) | X64: =U64&V64 | Y64: =IF(COUNTIF(X$2:X64,X64)=1,X64,"") | Z64: =AA64&" "&AB64 | AA64: =+IFERROR(INDEX(U$2:U$955,MATCH(ROW()-ROW($AA$1),T$2:T$955,0)),"") | AB64: =+IFERROR(INDEX(V$2:V$955,MATCH(ROW()-ROW($AA$1),T$2:T$955,0)),"") | AC64: =+IFERROR(INDEX(W$2:W$955,MATCH(ROW()-ROW($AA$1),U$2:U$955,0)),"") | AE64: =+IF(AJ64="","",MAX(AE$1:AE63)+1) | AF64: =IF(CMS_Inoperative_OoC!B86="","",CMS_Inoperative_OoC!B86) | AG64: =IF(CMS_Inoperative_OoC!C86="","",CMS_Inoperative_OoC!C86) | AH64: =IF(CMS_Inoperative_OoC!D86="","",CMS_Inoperative_OoC!D86) | AI64: =AF64&AG64&AH64 | AJ64: =IF(COUNTIF(AI$2:AI64,AI64)=1,AI64,"") | AK64: =+IFERROR(INDEX(AF$2:AF$955,MATCH(ROW()-ROW(IE$1),AE$2:AE$955,0)),"") | AL64: =+IFERROR(INDEX(AG$2:AG$955,MATCH(ROW()-ROW(AJ$1),AE$2:AE$955,0)),"") | AM64: =+IFERROR(INDEX(AH$2:AH$955,MATCH(ROW()-ROW(AJ$1),AE$2:AE$955,0)),"") | AN64: =IF(AM64="","",VLOOKUP(AK64&AL64,$Y$2:$AC$478,5,FALSE)) | AR64: =+IF(AW64="","",MAX(AR$1:AR63)+1) | AS64: =IF(Limit_Deviation_Detail!B86="","",Limit_Deviation_Detail!B86) | AT64: =IF(Limit_Deviation_Detail!C86="","",Limit_Deviation_Detail!C86) | AU64: =IF(Limit_Deviation_Detail!F86="","",Limit_Deviation_Detail!F86) | AV64: =AS64&AT64&AU64 | AW64: =IF(COUNTIF(AV$2:AV64,AV64)=1,AV64,"") | AX64: =+IFERROR(INDEX(AS$2:AS$955,MATCH(ROW()-ROW(IQ$1),AR$2:AR$955,0)),"") | AY64: =+IFERROR(INDEX(AT$2:AT$955,MATCH(ROW()-ROW(AW$1),AR$2:AR$955,0)),"") | AZ64: =+IFERROR(INDEX(AU$2:AU$955,MATCH(ROW()-ROW(AW$1),AR$2:AR$955,0)),"") | BA64: =IF(AZ64="","",VLOOKUP(AX64&AY64,$Y$2:$AC$478,5,FALSE)) | BC64: =+IF(BI64="","",MAX(BC$1:BC63)+1) | BD64: =IF(CMS_Identification!B86="","",CMS_Identification!B86) | BE64: =IF(CMS_Identification!C86="","",CMS_Identification!C86) | BF64: =IF(CMS_Identification!E86="","",CMS_Identification!E86) | BG64: =IF(Affected_Source!AL86="","",Affected_Source!AL86) | BH64: =BD64&BE64&BF64 | BI64: =IF(COUNTIF(BH$2:BH64,BH64)=1,BH64,"") | BJ64: =BK64&" "&BL64&" "&BM64 | BK64: =+IFERROR(INDEX(BD$2:BD$955,MATCH(ROW()-ROW($BJ$1),BC$2:BC$955,0)),"") | BL64: =+IFERROR(INDEX(BE$2:BE$955,MATCH(ROW()-ROW($BJ$1),BC$2:BC$955,0)),"") | BM64: =+IFERROR(INDEX(BF$2:BF$955,MATCH(ROW()-ROW($BJ$1),BC$2:BC$955,0)),"")
A65: =+IF(D65="","",MAX(A$1:A64)+1) | B65: =IF(Affected_Source!C87="","",Affected_Source!C87) | C65: =+IFERROR(INDEX(B$2:B$501,MATCH(ROW()-ROW($C$1),A$2:A$501,0)),"") | D65: =IF(COUNTIF(B$2:B65,B65)=1,B65,"") | E65: =IF(Affected_Source!D87="","",Affected_Source!D87) | K65: =+IF(N65="","",MAX(K$1:K64)+1) | L65: =IF(CMS_Identification!E87="","",CMS_Identification!E87) | M65: =+IFERROR(INDEX(L$2:L$501,MATCH(ROW()-ROW($M$1),K$2:K$501,0)),"") | N65: =IF(COUNTIF(L$2:L65,L65)=1,L65,"") | T65: =+IF(Y65="","",MAX(T$1:T64)+1) | U65: =IF(Affected_Source!B87="","",Affected_Source!B87) | V65: =IF(Affected_Source!D87="","",Affected_Source!D87) | W65: =IF(Affected_Source!E87="","",Affected_Source!E87) | X65: =U65&V65 | Y65: =IF(COUNTIF(X$2:X65,X65)=1,X65,"") | Z65: =AA65&" "&AB65 | AA65: =+IFERROR(INDEX(U$2:U$955,MATCH(ROW()-ROW($AA$1),T$2:T$955,0)),"") | AB65: =+IFERROR(INDEX(V$2:V$955,MATCH(ROW()-ROW($AA$1),T$2:T$955,0)),"") | AC65: =+IFERROR(INDEX(W$2:W$955,MATCH(ROW()-ROW($AA$1),U$2:U$955,0)),"") | AE65: =+IF(AJ65="","",MAX(AE$1:AE64)+1) | AF65: =IF(CMS_Inoperative_OoC!B87="","",CMS_Inoperative_OoC!B87) | AG65: =IF(CMS_Inoperative_OoC!C87="","",CMS_Inoperative_OoC!C87) | AH65: =IF(CMS_Inoperative_OoC!D87="","",CMS_Inoperative_OoC!D87) | AI65: =AF65&AG65&AH65 | AJ65: =IF(COUNTIF(AI$2:AI65,AI65)=1,AI65,"") | AK65: =+IFERROR(INDEX(AF$2:AF$955,MATCH(ROW()-ROW(IE$1),AE$2:AE$955,0)),"") | AL65: =+IFERROR(INDEX(AG$2:AG$955,MATCH(ROW()-ROW(AJ$1),AE$2:AE$955,0)),"") | AM65: =+IFERROR(INDEX(AH$2:AH$955,MATCH(ROW()-ROW(AJ$1),AE$2:AE$955,0)),"") | AN65: =IF(AM65="","",VLOOKUP(AK65&AL65,$Y$2:$AC$478,5,FALSE)) | AR65: =+IF(AW65="","",MAX(AR$1:AR64)+1) | AS65: =IF(Limit_Deviation_Detail!B87="","",Limit_Deviation_Detail!B87) | AT65: =IF(Limit_Deviation_Detail!C87="","",Limit_Deviation_Detail!C87) | AU65: =IF(Limit_Deviation_Detail!F87="","",Limit_Deviation_Detail!F87) | AV65: =AS65&AT65&AU65 | AW65: =IF(COUNTIF(AV$2:AV65,AV65)=1,AV65,"") | AX65: =+IFERROR(INDEX(AS$2:AS$955,MATCH(ROW()-ROW(IQ$1),AR$2:AR$955,0)),"") | AY65: =+IFERROR(INDEX(AT$2:AT$955,MATCH(ROW()-ROW(AW$1),AR$2:AR$955,0)),"") | AZ65: =+IFERROR(INDEX(AU$2:AU$955,MATCH(ROW()-ROW(AW$1),AR$2:AR$955,0)),"") | BA65: =IF(AZ65="","",VLOOKUP(AX65&AY65,$Y$2:$AC$478,5,FALSE)) | BC65: =+IF(BI65="","",MAX(BC$1:BC64)+1) | BD65: =IF(CMS_Identification!B87="","",CMS_Identification!B87) | BE65: =IF(CMS_Identification!C87="","",CMS_Identification!C87) | BF65: =IF(CMS_Identification!E87="","",CMS_Identification!E87) | BG65: =IF(Affected_Source!AL87="","",Affected_Source!AL87) | BH65: =BD65&BE65&BF65 | BI65: =IF(COUNTIF(BH$2:BH65,BH65)=1,BH65,"") | BJ65: =BK65&" "&BL65&" "&BM65 | BK65: =+IFERROR(INDEX(BD$2:BD$955,MATCH(ROW()-ROW($BJ$1),BC$2:BC$955,0)),"") | BL65: =+IFERROR(INDEX(BE$2:BE$955,MATCH(ROW()-ROW($BJ$1),BC$2:BC$955,0)),"") | BM65: =+IFERROR(INDEX(BF$2:BF$955,MATCH(ROW()-ROW($BJ$1),BC$2:BC$955,0)),"")
A66: =+IF(D66="","",MAX(A$1:A65)+1) | B66: =IF(Affected_Source!C88="","",Affected_Source!C88) | C66: =+IFERROR(INDEX(B$2:B$501,MATCH(ROW()-ROW($C$1),A$2:A$501,0)),"") | D66: =IF(COUNTIF(B$2:B66,B66)=1,B66,"") | E66: =IF(Affected_Source!D88="","",Affected_Source!D88) | K66: =+IF(N66="","",MAX(K$1:K65)+1) | L66: =IF(CMS_Identification!E88="","",CMS_Identification!E88) | M66: =+IFERROR(INDEX(L$2:L$501,MATCH(ROW()-ROW($M$1),K$2:K$501,0)),"") | N66: =IF(COUNTIF(L$2:L66,L66)=1,L66,"") | T66: =+IF(Y66="","",MAX(T$1:T65)+1) | U66: =IF(Affected_Source!B88="","",Affected_Source!B88) | V66: =IF(Affected_Source!D88="","",Affected_Source!D88) | W66: =IF(Affected_Source!E88="","",Affected_Source!E88) | X66: =U66&V66 | Y66: =IF(COUNTIF(X$2:X66,X66)=1,X66,"") | Z66: =AA66&" "&AB66 | AA66: =+IFERROR(INDEX(U$2:U$955,MATCH(ROW()-ROW($AA$1),T$2:T$955,0)),"") | AB66: =+IFERROR(INDEX(V$2:V$955,MATCH(ROW()-ROW($AA$1),T$2:T$955,0)),"") | AC66: =+IFERROR(INDEX(W$2:W$955,MATCH(ROW()-ROW($AA$1),U$2:U$955,0)),"") | AE66: =+IF(AJ66="","",MAX(AE$1:AE65)+1) | AF66: =IF(CMS_Inoperative_OoC!B88="","",CMS_Inoperative_OoC!B88) | AG66: =IF(CMS_Inoperative_OoC!C88="","",CMS_Inoperative_OoC!C88) | AH66: =IF(CMS_Inoperative_OoC!D88="","",CMS_Inoperative_OoC!D88) | AI66: =AF66&AG66&AH66 | AJ66: =IF(COUNTIF(AI$2:AI66,AI66)=1,AI66,"") | AK66: =+IFERROR(INDEX(AF$2:AF$955,MATCH(ROW()-ROW(IE$1),AE$2:AE$955,0)),"") | AL66: =+IFERROR(INDEX(AG$2:AG$955,MATCH(ROW()-ROW(AJ$1),AE$2:AE$955,0)),"") | AM66: =+IFERROR(INDEX(AH$2:AH$955,MATCH(ROW()-ROW(AJ$1),AE$2:AE$955,0)),"") | AN66: =IF(AM66="","",VLOOKUP(AK66&AL66,$Y$2:$AC$478,5,FALSE)) | AR66: =+IF(AW66="","",MAX(AR$1:AR65)+1) | AS66: =IF(Limit_Deviation_Detail!B88="","",Limit_Deviation_Detail!B88) | AT66: =IF(Limit_Deviation_Detail!C88="","",Limit_Deviation_Detail!C88) | AU66: =IF(Limit_Deviation_Detail!F88="","",Limit_Deviation_Detail!F88) | AV66: =AS66&AT66&AU66 | AW66: =IF(COUNTIF(AV$2:AV66,AV66)=1,AV66,"") | AX66: =+IFERROR(INDEX(AS$2:AS$955,MATCH(ROW()-ROW(IQ$1),AR$2:AR$955,0)),"") | AY66: =+IFERROR(INDEX(AT$2:AT$955,MATCH(ROW()-ROW(AW$1),AR$2:AR$955,0)),"") | AZ66: =+IFERROR(INDEX(AU$2:AU$955,MATCH(ROW()-ROW(AW$1),AR$2:AR$955,0)),"") | BA66: =IF(AZ66="","",VLOOKUP(AX66&AY66,$Y$2:$AC$478,5,FALSE)) | BC66: =+IF(BI66="","",MAX(BC$1:BC65)+1) | BD66: =IF(CMS_Identification!B88="","",CMS_Identification!B88) | BE66: =IF(CMS_Identification!C88="","",CMS_Identification!C88) | BF66: =IF(CMS_Identification!E88="","",CMS_Identification!E88) | BG66: =IF(Affected_Source!AL88="","",Affected_Source!AL88) | BH66: =BD66&BE66&BF66 | BI66: =IF(COUNTIF(BH$2:BH66,BH66)=1,BH66,"") | BJ66: =BK66&" "&BL66&" "&BM66 | BK66: =+IFERROR(INDEX(BD$2:BD$955,MATCH(ROW()-ROW($BJ$1),BC$2:BC$955,0)),"") | BL66: =+IFERROR(INDEX(BE$2:BE$955,MATCH(ROW()-ROW($BJ$1),BC$2:BC$955,0)),"") | BM66: =+IFERROR(INDEX(BF$2:BF$955,MATCH(ROW()-ROW($BJ$1),BC$2:BC$955,0)),"")
A67: =+IF(D67="","",MAX(A$1:A66)+1) | B67: =IF(Affected_Source!C89="","",Affected_Source!C89) | C67: =+IFERROR(INDEX(B$2:B$501,MATCH(ROW()-ROW($C$1),A$2:A$501,0)),"") | D67: =IF(COUNTIF(B$2:B67,B67)=1,B67,"") | E67: =IF(Affected_Source!D89="","",Affected_Source!D89) | K67: =+IF(N67="","",MAX(K$1:K66)+1) | L67: =IF(CMS_Identification!E89="","",CMS_Identification!E89) | M67: =+IFERROR(INDEX(L$2:L$501,MATCH(ROW()-ROW($M$1),K$2:K$501,0)),"") | N67: =IF(COUNTIF(L$2:L67,L67)=1,L67,"") | T67: =+IF(Y67="","",MAX(T$1:T66)+1) | U67: =IF(Affected_Source!B89="","",Affected_Source!B89) | V67: =IF(Affected_Source!D89="","",Affected_Source!D89) | W67: =IF(Affected_Source!E89="","",Affected_Source!E89) | X67: =U67&V67 | Y67: =IF(COUNTIF(X$2:X67,X67)=1,X67,"") | Z67: =AA67&" "&AB67 | AA67: =+IFERROR(INDEX(U$2:U$955,MATCH(ROW()-ROW($AA$1),T$2:T$955,0)),"") | AB67: =+IFERROR(INDEX(V$2:V$955,MATCH(ROW()-ROW($AA$1),T$2:T$955,0)),"") | AC67: =+IFERROR(INDEX(W$2:W$955,MATCH(ROW()-ROW($AA$1),U$2:U$955,0)),"") | AE67: =+IF(AJ67="","",MAX(AE$1:AE66)+1) | AF67: =IF(CMS_Inoperative_OoC!B89="","",CMS_Inoperative_OoC!B89) | AG67: =IF(CMS_Inoperative_OoC!C89="","",CMS_Inoperative_OoC!C89) | AH67: =IF(CMS_Inoperative_OoC!D89="","",CMS_Inoperative_OoC!D89) | AI67: =AF67&AG67&AH67 | AJ67: =IF(COUNTIF(AI$2:AI67,AI67)=1,AI67,"") | AK67: =+IFERROR(INDEX(AF$2:AF$955,MATCH(ROW()-ROW(IE$1),AE$2:AE$955,0)),"") | AL67: =+IFERROR(INDEX(AG$2:AG$955,MATCH(ROW()-ROW(AJ$1),AE$2:AE$955,0)),"") | AM67: =+IFERROR(INDEX(AH$2:AH$955,MATCH(ROW()-ROW(AJ$1),AE$2:AE$955,0)),"") | AN67: =IF(AM67="","",VLOOKUP(AK67&AL67,$Y$2:$AC$478,5,FALSE)) | AR67: =+IF(AW67="","",MAX(AR$1:AR66)+1) | AS67: =IF(Limit_Deviation_Detail!B89="","",Limit_Deviation_Detail!B89) | AT67: =IF(Limit_Deviation_Detail!C89="","",Limit_Deviation_Detail!C89) | AU67: =IF(Limit_Deviation_Detail!F89="","",Limit_Deviation_Detail!F89) | AV67: =AS67&AT67&AU67 | AW67: =IF(COUNTIF(AV$2:AV67,AV67)=1,AV67,"") | AX67: =+IFERROR(INDEX(AS$2:AS$955,MATCH(ROW()-ROW(IQ$1),AR$2:AR$955,0)),"") | AY67: =+IFERROR(INDEX(AT$2:AT$955,MATCH(ROW()-ROW(AW$1),AR$2:AR$955,0)),"") | AZ67: =+IFERROR(INDEX(AU$2:AU$955,MATCH(ROW()-ROW(AW$1),AR$2:AR$955,0)),"") | BA67: =IF(AZ67="","",VLOOKUP(AX67&AY67,$Y$2:$AC$478,5,FALSE)) | BC67: =+IF(BI67="","",MAX(BC$1:BC66)+1) | BD67: =IF(CMS_Identification!B89="","",CMS_Identification!B89) | BE67: =IF(CMS_Identification!C89="","",CMS_Identification!C89) | BF67: =IF(CMS_Identification!E89="","",CMS_Identification!E89) | BG67: =IF(Affected_Source!AL89="","",Affected_Source!AL89) | BH67: =BD67&BE67&BF67 | BI67: =IF(COUNTIF(BH$2:BH67,BH67)=1,BH67,"") | BJ67: =BK67&" "&BL67&" "&BM67 | BK67: =+IFERROR(INDEX(BD$2:BD$955,MATCH(ROW()-ROW($BJ$1),BC$2:BC$955,0)),"") | BL67: =+IFERROR(INDEX(BE$2:BE$955,MATCH(ROW()-ROW($BJ$1),BC$2:BC$955,0)),"") | BM67: =+IFERROR(INDEX(BF$2:BF$955,MATCH(ROW()-ROW($BJ$1),BC$2:BC$955,0)),"")
A68: =+IF(D68="","",MAX(A$1:A67)+1) | B68: =IF(Affected_Source!C90="","",Affected_Source!C90) | C68: =+IFERROR(INDEX(B$2:B$501,MATCH(ROW()-ROW($C$1),A$2:A$501,0)),"") | D68: =IF(COUNTIF(B$2:B68,B68)=1,B68,"") | E68: =IF(Affected_Source!D90="","",Affected_Source!D90) | K68: =+IF(N68="","",MAX(K$1:K67)+1) | L68: =IF(CMS_Identification!E90="","",CMS_Identification!E90) | M68: =+IFERROR(INDEX(L$2:L$501,MATCH(ROW()-ROW($M$1),K$2:K$501,0)),"") | N68: =IF(COUNTIF(L$2:L68,L68)=1,L68,"") | T68: =+IF(Y68="","",MAX(T$1:T67)+1) | U68: =IF(Affected_Source!B90="","",Affected_Source!B90) | V68: =IF(Affected_Source!D90="","",Affected_Source!D90) | W68: =IF(Affected_Source!E90="","",Affected_Source!E90) | X68: =U68&V68 | Y68: =IF(COUNTIF(X$2:X68,X68)=1,X68,"") | Z68: =AA68&" "&AB68 | AA68: =+IFERROR(INDEX(U$2:U$955,MATCH(ROW()-ROW($AA$1),T$2:T$955,0)),"") | AB68: =+IFERROR(INDEX(V$2:V$955,MATCH(ROW()-ROW($AA$1),T$2:T$955,0)),"") | AC68: =+IFERROR(INDEX(W$2:W$955,MATCH(ROW()-ROW($AA$1),U$2:U$955,0)),"") | AE68: =+IF(AJ68="","",MAX(AE$1:AE67)+1) | AF68: =IF(CMS_Inoperative_OoC!B90="","",CMS_Inoperative_OoC!B90) | AG68: =IF(CMS_Inoperative_OoC!C90="","",CMS_Inoperative_OoC!C90) | AH68: =IF(CMS_Inoperative_OoC!D90="","",CMS_Inoperative_OoC!D90) | AI68: =AF68&AG68&AH68 | AJ68: =IF(COUNTIF(AI$2:AI68,AI68)=1,AI68,"") | AK68: =+IFERROR(INDEX(AF$2:AF$955,MATCH(ROW()-ROW(IE$1),AE$2:AE$955,0)),"") | AL68: =+IFERROR(INDEX(AG$2:AG$955,MATCH(ROW()-ROW(AJ$1),AE$2:AE$955,0)),"") | AM68: =+IFERROR(INDEX(AH$2:AH$955,MATCH(ROW()-ROW(AJ$1),AE$2:AE$955,0)),"") | AN68: =IF(AM68="","",VLOOKUP(AK68&AL68,$Y$2:$AC$478,5,FALSE)) | AR68: =+IF(AW68="","",MAX(AR$1:AR67)+1) | AS68: =IF(Limit_Deviation_Detail!B90="","",Limit_Deviation_Detail!B90) | AT68: =IF(Limit_Deviation_Detail!C90="","",Limit_Deviation_Detail!C90) | AU68: =IF(Limit_Deviation_Detail!F90="","",Limit_Deviation_Detail!F90) | AV68: =AS68&AT68&AU68 | AW68: =IF(COUNTIF(AV$2:AV68,AV68)=1,AV68,"") | AX68: =+IFERROR(INDEX(AS$2:AS$955,MATCH(ROW()-ROW(IQ$1),AR$2:AR$955,0)),"") | AY68: =+IFERROR(INDEX(AT$2:AT$955,MATCH(ROW()-ROW(AW$1),AR$2:AR$955,0)),"") | AZ68: =+IFERROR(INDEX(AU$2:AU$955,MATCH(ROW()-ROW(AW$1),AR$2:AR$955,0)),"") | BA68: =IF(AZ68="","",VLOOKUP(AX68&AY68,$Y$2:$AC$478,5,FALSE)) | BC68: =+IF(BI68="","",MAX(BC$1:BC67)+1) | BD68: =IF(CMS_Identification!B90="","",CMS_Identification!B90) | BE68: =IF(CMS_Identification!C90="","",CMS_Identification!C90) | BF68: =IF(CMS_Identification!E90="","",CMS_Identification!E90) | BG68: =IF(Affected_Source!AL90="","",Affected_Source!AL90) | BH68: =BD68&BE68&BF68 | BI68: =IF(COUNTIF(BH$2:BH68,BH68)=1,BH68,"") | BJ68: =BK68&" "&BL68&" "&BM68 | BK68: =+IFERROR(INDEX(BD$2:BD$955,MATCH(ROW()-ROW($BJ$1),BC$2:BC$955,0)),"") | BL68: =+IFERROR(INDEX(BE$2:BE$955,MATCH(ROW()-ROW($BJ$1),BC$2:BC$955,0)),"") | BM68: =+IFERROR(INDEX(BF$2:BF$955,MATCH(ROW()-ROW($BJ$1),BC$2:BC$955,0)),"")
A69: =+IF(D69="","",MAX(A$1:A68)+1) | B69: =IF(Affected_Source!C91="","",Affected_Source!C91) | C69: =+IFERROR(INDEX(B$2:B$501,MATCH(ROW()-ROW($C$1),A$2:A$501,0)),"") | D69: =IF(COUNTIF(B$2:B69,B69)=1,B69,"") | E69: =IF(Affected_Source!D91="","",Affected_Source!D91) | K69: =+IF(N69="","",MAX(K$1:K68)+1) | L69: =IF(CMS_Identification!E91="","",CMS_Identification!E91) | M69: =+IFERROR(INDEX(L$2:L$501,MATCH(ROW()-ROW($M$1),K$2:K$501,0)),"") | N69: =IF(COUNTIF(L$2:L69,L69)=1,L69,"") | T69: =+IF(Y69="","",MAX(T$1:T68)+1) | U69: =IF(Affected_Source!B91="","",Affected_Source!B91) | V69: =IF(Affected_Source!D91="","",Affected_Source!D91) | W69: =IF(Affected_Source!E91="","",Affected_Source!E91) | X69: =U69&V69 | Y69: =IF(COUNTIF(X$2:X69,X69)=1,X69,"") | Z69: =AA69&" "&AB69 | AA69: =+IFERROR(INDEX(U$2:U$955,MATCH(ROW()-ROW($AA$1),T$2:T$955,0)),"") | AB69: =+IFERROR(INDEX(V$2:V$955,MATCH(ROW()-ROW($AA$1),T$2:T$955,0)),"") | AC69: =+IFERROR(INDEX(W$2:W$955,MATCH(ROW()-ROW($AA$1),U$2:U$955,0)),"") | AE69: =+IF(AJ69="","",MAX(AE$1:AE68)+1) | AF69: =IF(CMS_Inoperative_OoC!B91="","",CMS_Inoperative_OoC!B91) | AG69: =IF(CMS_Inoperative_OoC!C91="","",CMS_Inoperative_OoC!C91) | AH69: =IF(CMS_Inoperative_OoC!D91="","",CMS_Inoperative_OoC!D91) | AI69: =AF69&AG69&AH69 | AJ69: =IF(COUNTIF(AI$2:AI69,AI69)=1,AI69,"") | AK69: =+IFERROR(INDEX(AF$2:AF$955,MATCH(ROW()-ROW(IE$1),AE$2:AE$955,0)),"") | AL69: =+IFERROR(INDEX(AG$2:AG$955,MATCH(ROW()-ROW(AJ$1),AE$2:AE$955,0)),"") | AM69: =+IFERROR(INDEX(AH$2:AH$955,MATCH(ROW()-ROW(AJ$1),AE$2:AE$955,0)),"") | AN69: =IF(AM69="","",VLOOKUP(AK69&AL69,$Y$2:$AC$478,5,FALSE)) | AR69: =+IF(AW69="","",MAX(AR$1:AR68)+1) | AS69: =IF(Limit_Deviation_Detail!B91="","",Limit_Deviation_Detail!B91) | AT69: =IF(Limit_Deviation_Detail!C91="","",Limit_Deviation_Detail!C91) | AU69: =IF(Limit_Deviation_Detail!F91="","",Limit_Deviation_Detail!F91) | AV69: =AS69&AT69&AU69 | AW69: =IF(COUNTIF(AV$2:AV69,AV69)=1,AV69,"") | AX69: =+IFERROR(INDEX(AS$2:AS$955,MATCH(ROW()-ROW(IQ$1),AR$2:AR$955,0)),"") | AY69: =+IFERROR(INDEX(AT$2:AT$955,MATCH(ROW()-ROW(AW$1),AR$2:AR$955,0)),"") | AZ69: =+IFERROR(INDEX(AU$2:AU$955,MATCH(ROW()-ROW(AW$1),AR$2:AR$955,0)),"") | BA69: =IF(AZ69="","",VLOOKUP(AX69&AY69,$Y$2:$AC$478,5,FALSE)) | BC69: =+IF(BI69="","",MAX(BC$1:BC68)+1) | BD69: =IF(CMS_Identification!B91="","",CMS_Identification!B91) | BE69: =IF(CMS_Identification!C91="","",CMS_Identification!C91) | BF69: =IF(CMS_Identification!E91="","",CMS_Identification!E91) | BG69: =IF(Affected_Source!AL91="","",Affected_Source!AL91) | BH69: =BD69&BE69&BF69 | BI69: =IF(COUNTIF(BH$2:BH69,BH69)=1,BH69,"") | BJ69: =BK69&" "&BL69&" "&BM69 | BK69: =+IFERROR(INDEX(BD$2:BD$955,MATCH(ROW()-ROW($BJ$1),BC$2:BC$955,0)),"") | BL69: =+IFERROR(INDEX(BE$2:BE$955,MATCH(ROW()-ROW($BJ$1),BC$2:BC$955,0)),"") | BM69: =+IFERROR(INDEX(BF$2:BF$955,MATCH(ROW()-ROW($BJ$1),BC$2:BC$955,0)),"")
... A101: =+IF(D101="","",MAX(A$1:A100)+1) | B101: =IF(Affected_Source!C123="","",Affected_Source!C123) | C101: =+IFERROR(INDEX(B$2:B$501,MATCH(ROW()-ROW($C$1),A$2:A$501,0)),"") | D101: =IF(COUNTIF(B$2:B101,B101)=1,B101,"") | E101: =IF(Affected_Source!D123="","",Affected_Source!D123) | K101: =+IF(N101="","",MAX(K$1:K100)+1) | L101: =IF(CMS_Identification!E123="","",CMS_Identification!E123) | M101: =+IFERROR(INDEX(L$2:L$501,MATCH(ROW()-ROW($M$1),K$2:K$501,0)),"") | N101: =IF(COUNTIF(L$2:L101,L101)=1,L101,"") | T101: =+IF(Y101="","",MAX(T$1:T100)+1) | U101: =IF(Affected_Source!B123="","",Affected_Source!B123) | V101: =IF(Affected_Source!D123="","",Affected_Source!D123) | W101: =IF(Affected_Source!E123="","",Affected_Source!E123) | X101: =U101&V101 | Y101: =IF(COUNTIF(X$2:X101,X101)=1,X101,"") | Z101: =AA101&" "&AB101 | AA101: =+IFERROR(INDEX(U$2:U$955,MATCH(ROW()-ROW($AA$1),T$2:T$955,0)),"") | AB101: =+IFERROR(INDEX(V$2:V$955,MATCH(ROW()-ROW($AA$1),T$2:T$955,0)),"") | AC101: =+IFERROR(INDEX(W$2:W$955,MATCH(ROW()-ROW($AA$1),U$2:U$955,0)),"") | AE101: =+IF(AJ101="","",MAX(AE$1:AE100)+1) | AF101: =IF(CMS_Inoperative_OoC!B123="","",CMS_Inoperative_OoC!B123) | AG101: =IF(CMS_Inoperative_OoC!C123="","",CMS_Inoperative_OoC!C123) | AH101: =IF(CMS_Inoperative_OoC!D123="","",CMS_Inoperative_OoC!D123) | AI101: =AF101&AG101&AH101 | AJ101: =IF(COUNTIF(AI$2:AI101,AI101)=1,AI101,"") | AK101: =+IFERROR(INDEX(AF$2:AF$955,MATCH(ROW()-ROW(IE$1),AE$2:AE$955,0)),"") | AL101: =+IFERROR(INDEX(AG$2:AG$955,MATCH(ROW()-ROW(AJ$1),AE$2:AE$955,0)),"") | AM101: =+IFERROR(INDEX(AH$2:AH$955,MATCH(ROW()-ROW(AJ$1),AE$2:AE$955,0)),"") | AN101: =IF(AM101="","",VLOOKUP(AK101&AL101,$Y$2:$AC$478,5,FALSE)) | AR101: =+IF(AW101="","",MAX(AR$1:AR100)+1) | AS101: =IF(Limit_Deviation_Detail!B123="","",Limit_Deviation_Detail!B123) | AT101: =IF(Limit_Deviation_Detail!C123="","",Limit_Deviation_Detail!C123) | AU101: =IF(Limit_Deviation_Detail!F123="","",Limit_Deviation_Detail!F123) | AV101: =AS101&AT101&AU101 | AW101: =IF(COUNTIF(AV$2:AV101,AV101)=1,AV101,"") | AX101: =+IFERROR(INDEX(AS$2:AS$955,MATCH(ROW()-ROW(IQ$1),AR$2:AR$955,0)),"") | AY101: =+IFERROR(INDEX(AT$2:AT$955,MATCH(ROW()-ROW(AW$1),AR$2:AR$955,0)),"") | AZ101: =+IFERROR(INDEX(AU$2:AU$955,MATCH(ROW()-ROW(AW$1),AR$2:AR$955,0)),"") | BA101: =IF(AZ101="","",VLOOKUP(AX101&AY101,$Y$2:$AC$478,5,FALSE)) | BC101: =+IF(BI101="","",MAX(BC$1:BC100)+1) | BD101: =IF(CMS_Identification!B123="","",CMS_Identification!B123) | BE101: =IF(CMS_Identification!C123="","",CMS_Identification!C123) | BF101: =IF(CMS_Identification!E123="","",CMS_Identification!E123) | BG101: =IF(Affected_Source!AL123="","",Affected_Source!AL123) | BH101: =BD101&BE101&BF101 | BI101: =IF(COUNTIF(BH$2:BH101,BH101)=1,BH101,"") | BJ101: =BK101&" "&BL101&" "&BM101 | BK101: =+IFERROR(INDEX(BD$2:BD$955,MATCH(ROW()-ROW($BJ$1),BC$2:BC$955,0)),"") | BL101: =+IFERROR(INDEX(BE$2:BE$955,MATCH(ROW()-ROW($BJ$1),BC$2:BC$955,0)),"") | BM101: =+IFERROR(INDEX(BF$2:BF$955,MATCH(ROW()-ROW($BJ$1),BC$2:BC$955,0)),"")
A102: =+IF(D102="","",MAX(A$1:A101)+1) | B102: =IF(Affected_Source!C124="","",Affected_Source!C124) | C102: =+IFERROR(INDEX(B$2:B$501,MATCH(ROW()-ROW($C$1),A$2:A$501,0)),"") | D102: =IF(COUNTIF(B$2:B102,B102)=1,B102,"") | E102: =IF(Affected_Source!D124="","",Affected_Source!D124) | T102: =+IF(Y102="","",MAX(T$1:T101)+1) | U102: =IF(Affected_Source!B124="","",Affected_Source!B124) | V102: =IF(Affected_Source!D124="","",Affected_Source!D124) | W102: =IF(Affected_Source!E124="","",Affected_Source!E124) | X102: =U102&V102 | Y102: =IF(COUNTIF(X$2:X102,X102)=1,X102,"") | Z102: =AA102&" "&AB102 | AA102: =+IFERROR(INDEX(U$2:U$955,MATCH(ROW()-ROW($AA$1),T$2:T$955,0)),"") | AB102: =+IFERROR(INDEX(V$2:V$955,MATCH(ROW()-ROW($AA$1),T$2:T$955,0)),"") | AC102: =+IFERROR(INDEX(W$2:W$955,MATCH(ROW()-ROW($AA$1),U$2:U$955,0)),"") | AE102: =+IF(AJ102="","",MAX(AE$1:AE101)+1) | AF102: =IF(CMS_Inoperative_OoC!B124="","",CMS_Inoperative_OoC!B124) | AG102: =IF(CMS_Inoperative_OoC!C124="","",CMS_Inoperative_OoC!C124) | AH102: =IF(CMS_Inoperative_OoC!D124="","",CMS_Inoperative_OoC!D124) | AI102: =AF102&AG102&AH102 | AJ102: =IF(COUNTIF(AI$2:AI102,AI102)=1,AI102,"") | AK102: =+IFERROR(INDEX(AF$2:AF$955,MATCH(ROW()-ROW(IE$1),AE$2:AE$955,0)),"") | AL102: =+IFERROR(INDEX(AG$2:AG$955,MATCH(ROW()-ROW(AJ$1),AE$2:AE$955,0)),"") | AM102: =+IFERROR(INDEX(AH$2:AH$955,MATCH(ROW()-ROW(AJ$1),AE$2:AE$955,0)),"") | AN102: =IF(AM102="","",VLOOKUP(AK102&AL102,$Y$2:$AC$478,5,FALSE)) | AR102: =+IF(AW102="","",MAX(AR$1:AR101)+1) | AS102: =IF(Limit_Deviation_Detail!B124="","",Limit_Deviation_Detail!B124) | AT102: =IF(Limit_Deviation_Detail!C124="","",Limit_Deviation_Detail!C124) | AU102: =IF(Limit_Deviation_Detail!F124="","",Limit_Deviation_Detail!F124) | AV102: =AS102&AT102&AU102 | AW102: =IF(COUNTIF(AV$2:AV102,AV102)=1,AV102,"") | AX102: =+IFERROR(INDEX(AS$2:AS$955,MATCH(ROW()-ROW(IQ$1),AR$2:AR$955,0)),"") | AY102: =+IFERROR(INDEX(AT$2:AT$955,MATCH(ROW()-ROW(AW$1),AR$2:AR$955,0)),"") | AZ102: =+IFERROR(INDEX(AU$2:AU$955,MATCH(ROW()-ROW(AW$1),AR$2:AR$955,0)),"") | BA102: =IF(AZ102="","",VLOOKUP(AX102&AY102,$Y$2:$AC$478,5,FALSE)) | BC102: =+IF(BI102="","",MAX(BC$1:BC101)+1) | BD102: =IF(CMS_Identification!B124="","",CMS_Identification!B124) | BE102: =IF(CMS_Identification!C124="","",CMS_Identification!C124) | BF102: =IF(CMS_Identification!E124="","",CMS_Identification!E124) | BG102: =IF(Affected_Source!AL124="","",Affected_Source!AL124) | BH102: =BD102&BE102&BF102 | BI102: =IF(COUNTIF(BH$2:BH102,BH102)=1,BH102,"") | BJ102: =BK102&" "&BL102&" "&BM102 | BK102: =+IFERROR(INDEX(BD$2:BD$955,MATCH(ROW()-ROW($BJ$1),BC$2:BC$955,0)),"") | BL102: =+IFERROR(INDEX(BE$2:BE$955,MATCH(ROW()-ROW($BJ$1),BC$2:BC$955,0)),"") | BM102: =+IFERROR(INDEX(BF$2:BF$955,MATCH(ROW()-ROW($BJ$1),BC$2:BC$955,0)),"")
A103: =+IF(D103="","",MAX(A$1:A102)+1) | B103: =IF(Affected_Source!C125="","",Affected_Source!C125) | C103: =+IFERROR(INDEX(B$2:B$501,MATCH(ROW()-ROW($C$1),A$2:A$501,0)),"") | D103: =IF(COUNTIF(B$2:B103,B103)=1,B103,"") | E103: =IF(Affected_Source!D125="","",Affected_Source!D125) | T103: =+IF(Y103="","",MAX(T$1:T102)+1) | U103: =IF(Affected_Source!B125="","",Affected_Source!B125) | V103: =IF(Affected_Source!D125="","",Affected_Source!D125) | W103: =IF(Affected_Source!E125="","",Affected_Source!E125) | X103: =U103&V103 | Y103: =IF(COUNTIF(X$2:X103,X103)=1,X103,"") | Z103: =AA103&" "&AB103 | AA103: =+IFERROR(INDEX(U$2:U$955,MATCH(ROW()-ROW($AA$1),T$2:T$955,0)),"") | AB103: =+IFERROR(INDEX(V$2:V$955,MATCH(ROW()-ROW($AA$1),T$2:T$955,0)),"") | AC103: =+IFERROR(INDEX(W$2:W$955,MATCH(ROW()-ROW($AA$1),U$2:U$955,0)),"") | AE103: =+IF(AJ103="","",MAX(AE$1:AE102)+1) | AF103: =IF(CMS_Inoperative_OoC!B125="","",CMS_Inoperative_OoC!B125) | AG103: =IF(CMS_Inoperative_OoC!C125="","",CMS_Inoperative_OoC!C125) | AH103: =IF(CMS_Inoperative_OoC!D125="","",CMS_Inoperative_OoC!D125) | AI103: =AF103&AG103&AH103 | AJ103: =IF(COUNTIF(AI$2:AI103,AI103)=1,AI103,"") | AK103: =+IFERROR(INDEX(AF$2:AF$955,MATCH(ROW()-ROW(IE$1),AE$2:AE$955,0)),"") | AL103: =+IFERROR(INDEX(AG$2:AG$955,MATCH(ROW()-ROW(AJ$1),AE$2:AE$955,0)),"") | AM103: =+IFERROR(INDEX(AH$2:AH$955,MATCH(ROW()-ROW(AJ$1),AE$2:AE$955,0)),"") | AN103: =IF(AM103="","",VLOOKUP(AK103&AL103,$Y$2:$AC$478,5,FALSE)) | AR103: =+IF(AW103="","",MAX(AR$1:AR102)+1) | AS103: =IF(Limit_Deviation_Detail!B125="","",Limit_Deviation_Detail!B125) | AT103: =IF(Limit_Deviation_Detail!C125="","",Limit_Deviation_Detail!C125) | AU103: =IF(Limit_Deviation_Detail!F125="","",Limit_Deviation_Detail!F125) | AV103: =AS103&AT103&AU103 | AW103: =IF(COUNTIF(AV$2:AV103,AV103)=1,AV103,"") | AX103: =+IFERROR(INDEX(AS$2:AS$955,MATCH(ROW()-ROW(IQ$1),AR$2:AR$955,0)),"") | AY103: =+IFERROR(INDEX(AT$2:AT$955,MATCH(ROW()-ROW(AW$1),AR$2:AR$955,0)),"") | AZ103: =+IFERROR(INDEX(AU$2:AU$955,MATCH(ROW()-ROW(AW$1),AR$2:AR$955,0)),"") | BA103: =IF(AZ103="","",VLOOKUP(AX103&AY103,$Y$2:$AC$478,5,FALSE)) | BC103: =+IF(BI103="","",MAX(BC$1:BC102)+1) | BD103: =IF(CMS_Identification!B125="","",CMS_Identification!B125) | BE103: =IF(CMS_Identification!C125="","",CMS_Identification!C125) | BF103: =IF(CMS_Identification!E125="","",CMS_Identification!E125) | BG103: =IF(Affected_Source!AL125="","",Affected_Source!AL125) | BH103: =BD103&BE103&BF103 | BI103: =IF(COUNTIF(BH$2:BH103,BH103)=1,BH103,"") | BJ103: =BK103&" "&BL103&" "&BM103 | BK103: =+IFERROR(INDEX(BD$2:BD$955,MATCH(ROW()-ROW($BJ$1),BC$2:BC$955,0)),"") | BL103: =+IFERROR(INDEX(BE$2:BE$955,MATCH(ROW()-ROW($BJ$1),BC$2:BC$955,0)),"") | BM103: =+IFERROR(INDEX(BF$2:BF$955,MATCH(ROW()-ROW($BJ$1),BC$2:BC$955,0)),"")
A104: =+IF(D104="","",MAX(A$1:A103)+1) | B104: =IF(Affected_Source!C126="","",Affected_Source!C126) | C104: =+IFERROR(INDEX(B$2:B$501,MATCH(ROW()-ROW($C$1),A$2:A$501,0)),"") | D104: =IF(COUNTIF(B$2:B104,B104)=1,B104,"") | E104: =IF(Affected_Source!D126="","",Affected_Source!D126) | T104: =+IF(Y104="","",MAX(T$1:T103)+1) | U104: =IF(Affected_Source!B126="","",Affected_Source!B126) | V104: =IF(Affected_Source!D126="","",Affected_Source!D126) | W104: =IF(Affected_Source!E126="","",Affected_Source!E126) | X104: =U104&V104 | Y104: =IF(COUNTIF(X$2:X104,X104)=1,X104,"") | Z104: =AA104&" "&AB104 | AA104: =+IFERROR(INDEX(U$2:U$955,MATCH(ROW()-ROW($AA$1),T$2:T$955,0)),"") | AB104: =+IFERROR(INDEX(V$2:V$955,MATCH(ROW()-ROW($AA$1),T$2:T$955,0)),"") | AC104: =+IFERROR(INDEX(W$2:W$955,MATCH(ROW()-ROW($AA$1),U$2:U$955,0)),"") | AE104: =+IF(AJ104="","",MAX(AE$1:AE103)+1) | AF104: =IF(CMS_Inoperative_OoC!B126="","",CMS_Inoperative_OoC!B126) | AG104: =IF(CMS_Inoperative_OoC!C126="","",CMS_Inoperative_OoC!C126) | AH104: =IF(CMS_Inoperative_OoC!D126="","",CMS_Inoperative_OoC!D126) | AI104: =AF104&AG104&AH104 | AJ104: =IF(COUNTIF(AI$2:AI104,AI104)=1,AI104,"") | AK104: =+IFERROR(INDEX(AF$2:AF$955,MATCH(ROW()-ROW(IE$1),AE$2:AE$955,0)),"") | AL104: =+IFERROR(INDEX(AG$2:AG$955,MATCH(ROW()-ROW(AJ$1),AE$2:AE$955,0)),"") | AM104: =+IFERROR(INDEX(AH$2:AH$955,MATCH(ROW()-ROW(AJ$1),AE$2:AE$955,0)),"") | AN104: =IF(AM104="","",VLOOKUP(AK104&AL104,$Y$2:$AC$478,5,FALSE)) | AR104: =+IF(AW104="","",MAX(AR$1:AR103)+1) | AS104: =IF(Limit_Deviation_Detail!B126="","",Limit_Deviation_Detail!B126) | AT104: =IF(Limit_Deviation_Detail!C126="","",Limit_Deviation_Detail!C126) | AU104: =IF(Limit_Deviation_Detail!F126="","",Limit_Deviation_Detail!F126) | AV104: =AS104&AT104&AU104 | AW104: =IF(COUNTIF(AV$2:AV104,AV104)=1,AV104,"") | AX104: =+IFERROR(INDEX(AS$2:AS$955,MATCH(ROW()-ROW(IQ$1),AR$2:AR$955,0)),"") | AY104: =+IFERROR(INDEX(AT$2:AT$955,MATCH(ROW()-ROW(AW$1),AR$2:AR$955,0)),"") | AZ104: =+IFERROR(INDEX(AU$2:AU$955,MATCH(ROW()-ROW(AW$1),AR$2:AR$955,0)),"") | BA104: =IF(AZ104="","",VLOOKUP(AX104&AY104,$Y$2:$AC$478,5,FALSE)) | BC104: =+IF(BI104="","",MAX(BC$1:BC103)+1) | BD104: =IF(CMS_Identification!B126="","",CMS_Identification!B126) | BE104: =IF(CMS_Identification!C126="","",CMS_Identification!C126) | BF104: =IF(CMS_Identification!E126="","",CMS_Identification!E126) | BG104: =IF(Affected_Source!AL126="","",Affected_Source!AL126) | BH104: =BD104&BE104&BF104 | BI104: =IF(COUNTIF(BH$2:BH104,BH104)=1,BH104,"") | BJ104: =BK104&" "&BL104&" "&BM104 | BK104: =+IFERROR(INDEX(BD$2:BD$955,MATCH(ROW()-ROW($BJ$1),BC$2:BC$955,0)),"") | BL104: =+IFERROR(INDEX(BE$2:BE$955,MATCH(ROW()-ROW($BJ$1),BC$2:BC$955,0)),"") | BM104: =+IFERROR(INDEX(BF$2:BF$955,MATCH(ROW()-ROW($BJ$1),BC$2:BC$955,0)),"")
A105: =+IF(D105="","",MAX(A$1:A104)+1) | B105: =IF(Affected_Source!C127="","",Affected_Source!C127) | C105: =+IFERROR(INDEX(B$2:B$501,MATCH(ROW()-ROW($C$1),A$2:A$501,0)),"") | D105: =IF(COUNTIF(B$2:B105,B105)=1,B105,"") | E105: =IF(Affected_Source!D127="","",Affected_Source!D127) | T105: =+IF(Y105="","",MAX(T$1:T104)+1) | U105: =IF(Affected_Source!B127="","",Affected_Source!B127) | V105: =IF(Affected_Source!D127="","",Affected_Source!D127) | W105: =IF(Affected_Source!E127="","",Affected_Source!E127) | X105: =U105&V105 | Y105: =IF(COUNTIF(X$2:X105,X105)=1,X105,"") | Z105: =AA105&" "&AB105 | AA105: =+IFERROR(INDEX(U$2:U$955,MATCH(ROW()-ROW($AA$1),T$2:T$955,0)),"") | AB105: =+IFERROR(INDEX(V$2:V$955,MATCH(ROW()-ROW($AA$1),T$2:T$955,0)),"") | AC105: =+IFERROR(INDEX(W$2:W$955,MATCH(ROW()-ROW($AA$1),U$2:U$955,0)),"") | AE105: =+IF(AJ105="","",MAX(AE$1:AE104)+1) | AF105: =IF(CMS_Inoperative_OoC!B127="","",CMS_Inoperative_OoC!B127) | AG105: =IF(CMS_Inoperative_OoC!C127="","",CMS_Inoperative_OoC!C127) | AH105: =IF(CMS_Inoperative_OoC!D127="","",CMS_Inoperative_OoC!D127) | AI105: =AF105&AG105&AH105 | AJ105: =IF(COUNTIF(AI$2:AI105,AI105)=1,AI105,"") | AK105: =+IFERROR(INDEX(AF$2:AF$955,MATCH(ROW()-ROW(IE$1),AE$2:AE$955,0)),"") | AL105: =+IFERROR(INDEX(AG$2:AG$955,MATCH(ROW()-ROW(AJ$1),AE$2:AE$955,0)),"") | AM105: =+IFERROR(INDEX(AH$2:AH$955,MATCH(ROW()-ROW(AJ$1),AE$2:AE$955,0)),"") | AN105: =IF(AM105="","",VLOOKUP(AK105&AL105,$Y$2:$AC$478,5,FALSE)) | AR105: =+IF(AW105="","",MAX(AR$1:AR104)+1) | AS105: =IF(Limit_Deviation_Detail!B127="","",Limit_Deviation_Detail!B127) | AT105: =IF(Limit_Deviation_Detail!C127="","",Limit_Deviation_Detail!C127) | AU105: =IF(Limit_Deviation_Detail!F127="","",Limit_Deviation_Detail!F127) | AV105: =AS105&AT105&AU105 | AW105: =IF(COUNTIF(AV$2:AV105,AV105)=1,AV105,"") | AX105: =+IFERROR(INDEX(AS$2:AS$955,MATCH(ROW()-ROW(IQ$1),AR$2:AR$955,0)),"") | AY105: =+IFERROR(INDEX(AT$2:AT$955,MATCH(ROW()-ROW(AW$1),AR$2:AR$955,0)),"") | AZ105: =+IFERROR(INDEX(AU$2:AU$955,MATCH(ROW()-ROW(AW$1),AR$2:AR$955,0)),"") | BA105: =IF(AZ105="","",VLOOKUP(AX105&AY105,$Y$2:$AC$478,5,FALSE)) | BC105: =+IF(BI105="","",MAX(BC$1:BC104)+1) | BD105: =IF(CMS_Identification!B127="","",CMS_Identification!B127) | BE105: =IF(CMS_Identification!C127="","",CMS_Identification!C127) | BF105: =IF(CMS_Identification!E127="","",CMS_Identification!E127) | BG105: =IF(Affected_Source!AL127="","",Affected_Source!AL127) | BH105: =BD105&BE105&BF105 | BI105: =IF(COUNTIF(BH$2:BH105,BH105)=1,BH105,"") | BJ105: =BK105&" "&BL105&" "&BM105 | BK105: =+IFERROR(INDEX(BD$2:BD$955,MATCH(ROW()-ROW($BJ$1),BC$2:BC$955,0)),"") | BL105: =+IFERROR(INDEX(BE$2:BE$955,MATCH(ROW()-ROW($BJ$1),BC$2:BC$955,0)),"") | BM105: =+IFERROR(INDEX(BF$2:BF$955,MATCH(ROW()-ROW($BJ$1),BC$2:BC$955,0)),"")
A106: =+IF(D106="","",MAX(A$1:A105)+1) | B106: =IF(Affected_Source!C128="","",Affected_Source!C128) | C106: =+IFERROR(INDEX(B$2:B$501,MATCH(ROW()-ROW($C$1),A$2:A$501,0)),"") | D106: =IF(COUNTIF(B$2:B106,B106)=1,B106,"") | E106: =IF(Affected_Source!D128="","",Affected_Source!D128) | T106: =+IF(Y106="","",MAX(T$1:T105)+1) | U106: =IF(Affected_Source!B128="","",Affected_Source!B128) | V106: =IF(Affected_Source!D128="","",Affected_Source!D128) | W106: =IF(Affected_Source!E128="","",Affected_Source!E128) | X106: =U106&V106 | Y106: =IF(COUNTIF(X$2:X106,X106)=1,X106,"") | Z106: =AA106&" "&AB106 | AA106: =+IFERROR(INDEX(U$2:U$955,MATCH(ROW()-ROW($AA$1),T$2:T$955,0)),"") | AB106: =+IFERROR(INDEX(V$2:V$955,MATCH(ROW()-ROW($AA$1),T$2:T$955,0)),"") | AC106: =+IFERROR(INDEX(W$2:W$955,MATCH(ROW()-ROW($AA$1),U$2:U$955,0)),"") | AE106: =+IF(AJ106="","",MAX(AE$1:AE105)+1) | AF106: =IF(CMS_Inoperative_OoC!B128="","",CMS_Inoperative_OoC!B128) | AG106: =IF(CMS_Inoperative_OoC!C128="","",CMS_Inoperative_OoC!C128) | AH106: =IF(CMS_Inoperative_OoC!D128="","",CMS_Inoperative_OoC!D128) | AI106: =AF106&AG106&AH106 | AJ106: =IF(COUNTIF(AI$2:AI106,AI106)=1,AI106,"") | AK106: =+IFERROR(INDEX(AF$2:AF$955,MATCH(ROW()-ROW(IE$1),AE$2:AE$955,0)),"") | AL106: =+IFERROR(INDEX(AG$2:AG$955,MATCH(ROW()-ROW(AJ$1),AE$2:AE$955,0)),"") | AM106: =+IFERROR(INDEX(AH$2:AH$955,MATCH(ROW()-ROW(AJ$1),AE$2:AE$955,0)),"") | AN106: =IF(AM106="","",VLOOKUP(AK106&AL106,$Y$2:$AC$478,5,FALSE)) | AR106: =+IF(AW106="","",MAX(AR$1:AR105)+1) | AS106: =IF(Limit_Deviation_Detail!B128="","",Limit_Deviation_Detail!B128) | AT106: =IF(Limit_Deviation_Detail!C128="","",Limit_Deviation_Detail!C128) | AU106: =IF(Limit_Deviation_Detail!F128="","",Limit_Deviation_Detail!F128) | AV106: =AS106&AT106&AU106 | AW106: =IF(COUNTIF(AV$2:AV106,AV106)=1,AV106,"") | AX106: =+IFERROR(INDEX(AS$2:AS$955,MATCH(ROW()-ROW(IQ$1),AR$2:AR$955,0)),"") | AY106: =+IFERROR(INDEX(AT$2:AT$955,MATCH(ROW()-ROW(AW$1),AR$2:AR$955,0)),"") | AZ106: =+IFERROR(INDEX(AU$2:AU$955,MATCH(ROW()-ROW(AW$1),AR$2:AR$955,0)),"") | BA106: =IF(AZ106="","",VLOOKUP(AX106&AY106,$Y$2:$AC$478,5,FALSE)) | BC106: =+IF(BI106="","",MAX(BC$1:BC105)+1) | BD106: =IF(CMS_Identification!B128="","",CMS_Identification!B128) | BE106: =IF(CMS_Identification!C128="","",CMS_Identification!C128) | BF106: =IF(CMS_Identification!E128="","",CMS_Identification!E128) | BG106: =IF(Affected_Source!AL128="","",Affected_Source!AL128) | BH106: =BD106&BE106&BF106 | BI106: =IF(COUNTIF(BH$2:BH106,BH106)=1,BH106,"") | BJ106: =BK106&" "&BL106&" "&BM106 | BK106: =+IFERROR(INDEX(BD$2:BD$955,MATCH(ROW()-ROW($BJ$1),BC$2:BC$955,0)),"") | BL106: =+IFERROR(INDEX(BE$2:BE$955,MATCH(ROW()-ROW($BJ$1),BC$2:BC$955,0)),"") | BM106: =+IFERROR(INDEX(BF$2:BF$955,MATCH(ROW()-ROW($BJ$1),BC$2:BC$955,0)),"")
A107: =+IF(D107="","",MAX(A$1:A106)+1) | B107: =IF(Affected_Source!C129="","",Affected_Source!C129) | C107: =+IFERROR(INDEX(B$2:B$501,MATCH(ROW()-ROW($C$1),A$2:A$501,0)),"") | D107: =IF(COUNTIF(B$2:B107,B107)=1,B107,"") | E107: =IF(Affected_Source!D129="","",Affected_Source!D129) | T107: =+IF(Y107="","",MAX(T$1:T106)+1) | U107: =IF(Affected_Source!B129="","",Affected_Source!B129) | V107: =IF(Affected_Source!D129="","",Affected_Source!D129) | W107: =IF(Affected_Source!E129="","",Affected_Source!E129) | X107: =U107&V107 | Y107: =IF(COUNTIF(X$2:X107,X107)=1,X107,"") | Z107: =AA107&" "&AB107 | AA107: =+IFERROR(INDEX(U$2:U$955,MATCH(ROW()-ROW($AA$1),T$2:T$955,0)),"") | AB107: =+IFERROR(INDEX(V$2:V$955,MATCH(ROW()-ROW($AA$1),T$2:T$955,0)),"") | AC107: =+IFERROR(INDEX(W$2:W$955,MATCH(ROW()-ROW($AA$1),U$2:U$955,0)),"") | AE107: =+IF(AJ107="","",MAX(AE$1:AE106)+1) | AF107: =IF(CMS_Inoperative_OoC!B129="","",CMS_Inoperative_OoC!B129) | AG107: =IF(CMS_Inoperative_OoC!C129="","",CMS_Inoperative_OoC!C129) | AH107: =IF(CMS_Inoperative_OoC!D129="","",CMS_Inoperative_OoC!D129) | AI107: =AF107&AG107&AH107 | AJ107: =IF(COUNTIF(AI$2:AI107,AI107)=1,AI107,"") | AK107: =+IFERROR(INDEX(AF$2:AF$955,MATCH(ROW()-ROW(IE$1),AE$2:AE$955,0)),"") | AL107: =+IFERROR(INDEX(AG$2:AG$955,MATCH(ROW()-ROW(AJ$1),AE$2:AE$955,0)),"") | AM107: =+IFERROR(INDEX(AH$2:AH$955,MATCH(ROW()-ROW(AJ$1),AE$2:AE$955,0)),"") | AN107: =IF(AM107="","",VLOOKUP(AK107&AL107,$Y$2:$AC$478,5,FALSE)) | AR107: =+IF(AW107="","",MAX(AR$1:AR106)+1) | AS107: =IF(Limit_Deviation_Detail!B129="","",Limit_Deviation_Detail!B129) | AT107: =IF(Limit_Deviation_Detail!C129="","",Limit_Deviation_Detail!C129) | AU107: =IF(Limit_Deviation_Detail!F129="","",Limit_Deviation_Detail!F129) | AV107: =AS107&AT107&AU107 | AW107: =IF(COUNTIF(AV$2:AV107,AV107)=1,AV107,"") | AX107: =+IFERROR(INDEX(AS$2:AS$955,MATCH(ROW()-ROW(IQ$1),AR$2:AR$955,0)),"") | AY107: =+IFERROR(INDEX(AT$2:AT$955,MATCH(ROW()-ROW(AW$1),AR$2:AR$955,0)),"") | AZ107: =+IFERROR(INDEX(AU$2:AU$955,MATCH(ROW()-ROW(AW$1),AR$2:AR$955,0)),"") | BA107: =IF(AZ107="","",VLOOKUP(AX107&AY107,$Y$2:$AC$478,5,FALSE)) | BC107: =+IF(BI107="","",MAX(BC$1:BC106)+1) | BD107: =IF(CMS_Identification!B129="","",CMS_Identification!B129) | BE107: =IF(CMS_Identification!C129="","",CMS_Identification!C129) | BF107: =IF(CMS_Identification!E129="","",CMS_Identification!E129) | BG107: =IF(Affected_Source!AL129="","",Affected_Source!AL129) | BH107: =BD107&BE107&BF107 | BI107: =IF(COUNTIF(BH$2:BH107,BH107)=1,BH107,"") | BJ107: =BK107&" "&BL107&" "&BM107 | BK107: =+IFERROR(INDEX(BD$2:BD$955,MATCH(ROW()-ROW($BJ$1),BC$2:BC$955,0)),"") | BL107: =+IFERROR(INDEX(BE$2:BE$955,MATCH(ROW()-ROW($BJ$1),BC$2:BC$955,0)),"") | BM107: =+IFERROR(INDEX(BF$2:BF$955,MATCH(ROW()-ROW($BJ$1),BC$2:BC$955,0)),"")
