Workbook
Name CEMID: OFFSET(Lists!$M$2,0,0,SUMPRODUCT(--(Lists!$M$2:$M$101<>"")),1)
Name CompanyRecord: OFFSET(Lists!$H$2,0,0,SUMPRODUCT(--(Lists!$H$2:$H$11<>"")),1)
Name DeviationCauses: Lists!$P$16:$P$21
Name EmissionLimits: Lists!$P$34:$P$53
Name EWPDeviations: Lists!$P$34:$P$53
Name IDandSH: OFFSET(Lists!$Z$2,0,0,SUMPRODUCT(--(Lists!$Z$2:$Z$100<>"")),1)
Name IDSHCMS: OFFSET(Lists!$BJ$2,0,0,SUMPRODUCT(--(Lists!$BJ$2:$BJ$478<>"")),1)
Name Periods: Lists!$P$28:$P$31
Name ShortHand: OFFSET(Lists!$E$2,0,0,SUMPRODUCT(--(Lists!$E$2:$E$500<>"")),1)
Name states: Lists!$AP$2:$AP$57
Name UnitID: OFFSET(Lists!$C$2,0,0,SUMPRODUCT(--(Lists!$C$2:$C$500<>"")),1)
Name Yes_No: Lists!$P$24:$P$25

Sheet Lists
A1: Rank | B1: Name | C1: Unitlist | D1: Column1 | E1: ShorthandName | F1: Column2 | G1: Column1 | H1: Companylist | I1: Column3 | K1: Rank | L1: Cem | M1: CEMName | N1: Column1 | P1: CMSCauseList | R1: Limits | T1: Column5 | U1: RecordID | V1: Source | W1: Time | X1: IDandSH1 | Y1: IDandSH2 | Z1: IDandSH3 | AA1: ProcessedID | AB1: ProcessedSH | AC1: Hours | AE1: Column5 | AF1: Facility | AG1: Source | AH1: Limit | AI1: Unique | AJ1: Column4 | AK1: Column42 | AL1: Column43 | AM1: Column432 | AP1: states | AR1: Column5 | AS1: Facility | AT1: Source | AU1: Limit | AV1: Unique | AW1: Column4 | AX1: Column42 | AY1: Column43 | AZ1: Column432 | BC1: Column5 | BD1: RecordID | BE1: Source | BF1: CMSID | BG1: Time | BH1: IDandSH1 | BI1: IDandSH2 | BJ1: IDandSH3 | BK1: ProcessedID | BL1: ProcessedSH | BM1: ProcessedCMS
A2: =+IF(D2="","",MAX(A1:A$1)+1) | B2: =IF(Affected_Source!C24="","",Affected_Source!C24) | C2: =+IFERROR(INDEX(B$2:B$501,MATCH(ROW()-ROW($C$1),A$2:A$501,0)),"") | D2: =IF(COUNTIF(B$2:B2,B2)=1,B2,"") | E2: =IF(Affected_Source!D24="","",Affected_Source!D24) | F2: =+IF(I2="","",MAX(F1:F$1)+1) | G2: =+IF(Company_Information!B24="","",Company_Information!B24) | H2: =+IFERROR(INDEX(G$2:G$501,MATCH(ROW()-ROW($H$1),F$2:F$501,0)),"") | I2: =IF(COUNTIF(G$2:G2,G2)=1,G2,"") | K2: =+IF(N2="","",MAX(K1:K$1)+1) | L2: =IF(CMS_Identification!E24="","",CMS_Identification!E24) | M2: =+IFERROR(INDEX(L$2:L$501,MATCH(ROW()-ROW($M$1),K$2:K$501,0)),"") | N2: =IF(COUNTIF(L$2:L2,L2)=1,L2,"") | P2: Monitoring Equipment Malfunctions | R2: Particulate Matter | T2: =+IF(Y2="","",MAX(T1:T$1)+1) | U2: =IF(Affected_Source!B24="","",Affected_Source!B24) | V2: =IF(Affected_Source!D24="","",Affected_Source!D24) | W2: =IF(Affected_Source!E24="","",Affected_Source!E24) | X2: =U2&V2 | Y2: =IF(COUNTIF(X$2:X2,X2)=1,X2,"") | Z2: =AA2&" "&AB2 | AA2: =+IFERROR(INDEX(U$2:U$955,MATCH(ROW()-ROW($AA$1),T$2:T$955,0)),"") | AB2: =+IFERROR(INDEX(V$2:V$955,MATCH(ROW()-ROW($AA$1),T$2:T$955,0)),"") | AC2: =+IFERROR(INDEX(W$2:W$955,MATCH(ROW()-ROW($AA$1),T$2:T$955,0)),"") | AE2: =+IF(AJ2="","",MAX(AE1:AE$1)+1) | AF2: =IF(CMS_Inoperative_OoC!B24="","",CMS_Inoperative_OoC!B24) | AG2: =IF(CMS_Inoperative_OoC!C24="","",CMS_Inoperative_OoC!C24) | AH2: =IF(CMS_Inoperative_OoC!D24="","",CMS_Inoperative_OoC!D24) | AI2: =AF2&AG2&AH2 | AJ2: =IF(COUNTIF(AI$2:AI2,AI2)=1,AI2,"") | AK2: =+IFERROR(INDEX(AF$2:AF$955,MATCH(ROW()-ROW(IE$1),AE$2:AE$955,0)),"") | AL2: =+IFERROR(INDEX(AG$2:AG$955,MATCH(ROW()-ROW(AJ$1),AE$2:AE$955,0)),"") | AM2: =+IFERROR(INDEX(AH$2:AH$955,MATCH(ROW()-ROW(AJ$1),AE$2:AE$955,0)),"") | AN2: =IF(AM2="","",VLOOKUP(AK2&AL2,$Y$2:$AC$478,5,FALSE)) | AP2: AK | AR2: =+IF(AW2="","",MAX(AR1:AR$1)+1) | AS2: =IF(Limit_Deviation_Detail!B24="","",Limit_Deviation_Detail!B24) | AT2: =IF(Limit_Deviation_Detail!C24="","",Limit_Deviation_Detail!C24) | AU2: =IF(Limit_Deviation_Detail!F24="","",Limit_Deviation_Detail!F24) | AV2: =AS2&AT2&AU2 | AW2: =IF(COUNTIF(AV$2:AV2,AV2)=1,AV2,"") | AX2: =+IFERROR(INDEX(AS$2:AS$955,MATCH(ROW()-ROW(IQ$1),AR$2:AR$955,0)),"") | AY2: =+IFERROR(INDEX(AT$2:AT$955,MATCH(ROW()-ROW(AW$1),AR$2:AR$955,0)),"") | AZ2: =+IFERROR(INDEX(AU$2:AU$955,MATCH(ROW()-ROW(AW$1),AR$2:AR$955,0)),"") | BA2: =IF(AZ2="","",VLOOKUP(AX2&AY2,$Y$2:$AC$478,5,FALSE)) | BC2: =+IF(BI2="","",MAX(BC1:BC$1)+1) | BD2: =IF(CMS_Identification!B24="","",CMS_Identification!B24) | BE2: =IF(CMS_Identification!C24="","",CMS_Identification!C24) | BF2: =IF(CMS_Identification!E24="","",CMS_Identification!E24) | BG2: =IF(Affected_Source!AL24="","",Affected_Source!AL24) | BH2: =BD2&BE2&BF2 | BI2: =IF(COUNTIF(BH$2:BH2,BH2)=1,BH2,"") | BJ2: =BK2&" "&BL2&" "&BM2 | BK2: =+IFERROR(INDEX(BD$2:BD$955,MATCH(ROW()-ROW($BJ$1),BC$2:BC$955,0)),"") | BL2: =+IFERROR(INDEX(BE$2:BE$955,MATCH(ROW()-ROW($BJ$1),BC$2:BC$955,0)),"") | BM2: =+IFERROR(INDEX(BF$2:BF$955,MATCH(ROW()-ROW($BJ$1),BC$2:BC$955,0)),"")
A3: =+IF(D3="","",MAX(A$1:A2)+1) | B3: =IF(Affected_Source!C25="","",Affected_Source!C25) | C3: =+IFERROR(INDEX(B$2:B$501,MATCH(ROW()-ROW($C$1),A$2:A$501,0)),"") | D3: =IF(COUNTIF(B$2:B3,B3)=1,B3,"") | E3: =IF(Affected_Source!D25="","",Affected_Source!D25) | F3: =+IF(I3="","",MAX(F$1:F2)+1) | G3: =+IF(Company_Information!B25="","",Company_Information!B25) | H3: =+IFERROR(INDEX(G$2:G$501,MATCH(ROW()-ROW($H$1),F$2:F$501,0)),"") | I3: =IF(COUNTIF(G$2:G3,G3)=1,G3,"") | K3: =+IF(N3="","",MAX(K$1:K2)+1) | L3: =IF(CMS_Identification!E25="","",CMS_Identification!E25) | M3: =+IFERROR(INDEX(L$2:L$501,MATCH(ROW()-ROW($M$1),K$2:K$501,0)),"") | N3: =IF(COUNTIF(L$2:L3,L3)=1,L3,"") | P3: Nonmonitoring Equipment Malfunctions | R3: Opacity | T3: =+IF(Y3="","",MAX(T$1:T2)+1) | U3: =IF(Affected_Source!B25="","",Affected_Source!B25) | V3: =IF(Affected_Source!D25="","",Affected_Source!D25) | W3: =IF(Affected_Source!E25="","",Affected_Source!E25) | X3: =U3&V3 | Y3: =IF(COUNTIF(X$2:X3,X3)=1,X3,"") | Z3: =AA3&" "&AB3 | AA3: =+IFERROR(INDEX(U$2:U$955,MATCH(ROW()-ROW($AA$1),T$2:T$955,0)),"") | AB3: =+IFERROR(INDEX(V$2:V$955,MATCH(ROW()-ROW($AA$1),T$2:T$955,0)),"") | AC3: =+IFERROR(INDEX(W$2:W$955,MATCH(ROW()-ROW($AA$1),U$2:U$955,0)),"") | AE3: =+IF(AJ3="","",MAX(AE$1:AE2)+1) | AF3: =IF(CMS_Inoperative_OoC!B25="","",CMS_Inoperative_OoC!B25) | AG3: =IF(CMS_Inoperative_OoC!C25="","",CMS_Inoperative_OoC!C25) | AH3: =IF(CMS_Inoperative_OoC!D25="","",CMS_Inoperative_OoC!D25) | AI3: =AF3&AG3&AH3 | AJ3: =IF(COUNTIF(AI$2:AI3,AI3)=1,AI3,"") | AK3: =+IFERROR(INDEX(AF$2:AF$955,MATCH(ROW()-ROW(IE$1),AE$2:AE$955,0)),"") | AL3: =+IFERROR(INDEX(AG$2:AG$955,MATCH(ROW()-ROW(AJ$1),AE$2:AE$955,0)),"") | AM3: =+IFERROR(INDEX(AH$2:AH$955,MATCH(ROW()-ROW(AJ$1),AE$2:AE$955,0)),"") | AN3: =IF(AM3="","",VLOOKUP(AK3&AL3,$Y$2:$AC$478,5,FALSE)) | AP3: AL | AR3: =+IF(AW3="","",MAX(AR$1:AR2)+1) | AS3: =IF(Limit_Deviation_Detail!B25="","",Limit_Deviation_Detail!B25) | AT3: =IF(Limit_Deviation_Detail!C25="","",Limit_Deviation_Detail!C25) | AU3: =IF(Limit_Deviation_Detail!F25="","",Limit_Deviation_Detail!F25) | AV3: =AS3&AT3&AU3 | AW3: =IF(COUNTIF(AV$2:AV3,AV3)=1,AV3,"") | AX3: =+IFERROR(INDEX(AS$2:AS$955,MATCH(ROW()-ROW(IQ$1),AR$2:AR$955,0)),"") | AY3: =+IFERROR(INDEX(AT$2:AT$955,MATCH(ROW()-ROW(AW$1),AR$2:AR$955,0)),"") | AZ3: =+IFERROR(INDEX(AU$2:AU$955,MATCH(ROW()-ROW(AW$1),AR$2:AR$955,0)),"") | BA3: =IF(AZ3="","",VLOOKUP(AX3&AY3,$Y$2:$AC$478,5,FALSE)) | BC3: =+IF(BI3="","",MAX(BC$1:BC2)+1) | BD3: =IF(CMS_Identification!B25="","",CMS_Identification!B25) | BE3: =IF(CMS_Identification!C25="","",CMS_Identification!C25) | BF3: =IF(CMS_Identification!E25="","",CMS_Identification!E25) | BG3: =IF(Affected_Source!AL25="","",Affected_Source!AL25) | BH3: =BD3&BE3&BF3 | BI3: =IF(COUNTIF(BH$2:BH3,BH3)=1,BH3,"") | BJ3: =BK3&" "&BL3&" "&BM3 | BK3: =+IFERROR(INDEX(BD$2:BD$955,MATCH(ROW()-ROW($BJ$1),BC$2:BC$955,0)),"") | BL3: =+IFERROR(INDEX(BE$2:BE$955,MATCH(ROW()-ROW($BJ$1),BC$2:BC$955,0)),"") | BM3: =+IFERROR(INDEX(BF$2:BF$955,MATCH(ROW()-ROW($BJ$1),BC$2:BC$955,0)),"")
A4: =+IF(D4="","",MAX(A$1:A3)+1) | B4: =IF(Affected_Source!C26="","",Affected_Source!C26) | C4: =+IFERROR(INDEX(B$2:B$501,MATCH(ROW()-ROW($C$1),A$2:A$501,0)),"") | D4: =IF(COUNTIF(B$2:B4,B4)=1,B4,"") | E4: =IF(Affected_Source!D26="","",Affected_Source!D26) | F4: =+IF(I4="","",MAX(F$1:F3)+1) | G4: =+IF(Company_Information!B26="","",Company_Information!B26) | H4: =+IFERROR(INDEX(G$2:G$501,MATCH(ROW()-ROW($H$1),F$2:F$501,0)),"") | I4: =IF(COUNTIF(G$2:G4,G4)=1,G4,"") | K4: =+IF(N4="","",MAX(K$1:K3)+1) | L4: =IF(CMS_Identification!E26="","",CMS_Identification!E26) | M4: =+IFERROR(INDEX(L$2:L$501,MATCH(ROW()-ROW($M$1),K$2:K$501,0)),"") | N4: =IF(COUNTIF(L$2:L4,L4)=1,L4,"") | P4: Quality Assurance/Quality Control Calibrations | R4: Scrubber pressure drop | T4: =+IF(Y4="","",MAX(T$1:T3)+1) | U4: =IF(Affected_Source!B26="","",Affected_Source!B26) | V4: =IF(Affected_Source!D26="","",Affected_Source!D26) | W4: =IF(Affected_Source!E26="","",Affected_Source!E26) | X4: =U4&V4 | Y4: =IF(COUNTIF(X$2:X4,X4)=1,X4,"") | Z4: =AA4&" "&AB4 | AA4: =+IFERROR(INDEX(U$2:U$955,MATCH(ROW()-ROW($AA$1),T$2:T$955,0)),"") | AB4: =+IFERROR(INDEX(V$2:V$955,MATCH(ROW()-ROW($AA$1),T$2:T$955,0)),"") | AC4: =+IFERROR(INDEX(W$2:W$955,MATCH(ROW()-ROW($AA$1),U$2:U$955,0)),"") | AE4: =+IF(AJ4="","",MAX(AE$1:AE3)+1) | AF4: =IF(CMS_Inoperative_OoC!B26="","",CMS_Inoperative_OoC!B26) | AG4: =IF(CMS_Inoperative_OoC!C26="","",CMS_Inoperative_OoC!C26) | AH4: =IF(CMS_Inoperative_OoC!D26="","",CMS_Inoperative_OoC!D26) | AI4: =AF4&AG4&AH4 | AJ4: =IF(COUNTIF(AI$2:AI4,AI4)=1,AI4,"") | AK4: =+IFERROR(INDEX(AF$2:AF$955,MATCH(ROW()-ROW(IE$1),AE$2:AE$955,0)),"") | AL4: =+IFERROR(INDEX(AG$2:AG$955,MATCH(ROW()-ROW(AJ$1),AE$2:AE$955,0)),"") | AM4: =+IFERROR(INDEX(AH$2:AH$955,MATCH(ROW()-ROW(AJ$1),AE$2:AE$955,0)),"") | AN4: =IF(AM4="","",VLOOKUP(AK4&AL4,$Y$2:$AC$478,5,FALSE)) | AP4: AR | AR4: =+IF(AW4="","",MAX(AR$1:AR3)+1) | AS4: =IF(Limit_Deviation_Detail!B26="","",Limit_Deviation_Detail!B26) | AT4: =IF(Limit_Deviation_Detail!C26="","",Limit_Deviation_Detail!C26) | AU4: =IF(Limit_Deviation_Detail!F26="","",Limit_Deviation_Detail!F26) | AV4: =AS4&AT4&AU4 | AW4: =IF(COUNTIF(AV$2:AV4,AV4)=1,AV4,"") | AX4: =+IFERROR(INDEX(AS$2:AS$955,MATCH(ROW()-ROW(IQ$1),AR$2:AR$955,0)),"") | AY4: =+IFERROR(INDEX(AT$2:AT$955,MATCH(ROW()-ROW(AW$1),AR$2:AR$955,0)),"") | AZ4: =+IFERROR(INDEX(AU$2:AU$955,MATCH(ROW()-ROW(AW$1),AR$2:AR$955,0)),"") | BA4: =IF(AZ4="","",VLOOKUP(AX4&AY4,$Y$2:$AC$478,5,FALSE)) | BC4: =+IF(BI4="","",MAX(BC$1:BC3)+1) | BD4: =IF(CMS_Identification!B26="","",CMS_Identification!B26) | BE4: =IF(CMS_Identification!C26="","",CMS_Identification!C26) | BF4: =IF(CMS_Identification!E26="","",CMS_Identification!E26) | BG4: =IF(Affected_Source!AL26="","",Affected_Source!AL26) | BH4: =BD4&BE4&BF4 | BI4: =IF(COUNTIF(BH$2:BH4,BH4)=1,BH4,"") | BJ4: =BK4&" "&BL4&" "&BM4 | BK4: =+IFERROR(INDEX(BD$2:BD$955,MATCH(ROW()-ROW($BJ$1),BC$2:BC$955,0)),"") | BL4: =+IFERROR(INDEX(BE$2:BE$955,MATCH(ROW()-ROW($BJ$1),BC$2:BC$955,0)),"") | BM4: =+IFERROR(INDEX(BF$2:BF$955,MATCH(ROW()-ROW($BJ$1),BC$2:BC$955,0)),"")
A5: =+IF(D5="","",MAX(A$1:A4)+1) | B5: =IF(Affected_Source!C27="","",Affected_Source!C27) | C5: =+IFERROR(INDEX(B$2:B$501,MATCH(ROW()-ROW($C$1),A$2:A$501,0)),"") | D5: =IF(COUNTIF(B$2:B5,B5)=1,B5,"") | E5: =IF(Affected_Source!D27="","",Affected_Source!D27) | F5: =+IF(I5="","",MAX(F$1:F4)+1) | G5: =+IF(Company_Information!B27="","",Company_Information!B27) | H5: =+IFERROR(INDEX(G$2:G$501,MATCH(ROW()-ROW($H$1),F$2:F$501,0)),"") | I5: =IF(COUNTIF(G$2:G5,G5)=1,G5,"") | K5: =+IF(N5="","",MAX(K$1:K4)+1) | L5: =IF(CMS_Identification!E27="","",CMS_Identification!E27) | M5: =+IFERROR(INDEX(L$2:L$501,MATCH(ROW()-ROW($M$1),K$2:K$501,0)),"") | N5: =IF(COUNTIF(L$2:L5,L5)=1,L5,"") | P5: Other Known Causes | R5: Scrubber liquid flow rate | T5: =+IF(Y5="","",MAX(T$1:T4)+1) | U5: =IF(Affected_Source!B27="","",Affected_Source!B27) | V5: =IF(Affected_Source!D27="","",Affected_Source!D27) | W5: =IF(Affected_Source!E27="","",Affected_Source!E27) | X5: =U5&V5 | Y5: =IF(COUNTIF(X$2:X5,X5)=1,X5,"") | Z5: =AA5&" "&AB5 | AA5: =+IFERROR(INDEX(U$2:U$955,MATCH(ROW()-ROW($AA$1),T$2:T$955,0)),"") | AB5: =+IFERROR(INDEX(V$2:V$955,MATCH(ROW()-ROW($AA$1),T$2:T$955,0)),"") | AC5: =+IFERROR(INDEX(W$2:W$955,MATCH(ROW()-ROW($AA$1),U$2:U$955,0)),"") | AE5: =+IF(AJ5="","",MAX(AE$1:AE4)+1) | AF5: =IF(CMS_Inoperative_OoC!B27="","",CMS_Inoperative_OoC!B27) | AG5: =IF(CMS_Inoperative_OoC!C27="","",CMS_Inoperative_OoC!C27) | AH5: =IF(CMS_Inoperative_OoC!D27="","",CMS_Inoperative_OoC!D27) | AI5: =AF5&AG5&AH5 | AJ5: =IF(COUNTIF(AI$2:AI5,AI5)=1,AI5,"") | AK5: =+IFERROR(INDEX(AF$2:AF$955,MATCH(ROW()-ROW(IE$1),AE$2:AE$955,0)),"") | AL5: =+IFERROR(INDEX(AG$2:AG$955,MATCH(ROW()-ROW(AJ$1),AE$2:AE$955,0)),"") | AM5: =+IFERROR(INDEX(AH$2:AH$955,MATCH(ROW()-ROW(AJ$1),AE$2:AE$955,0)),"") | AN5: =IF(AM5="","",VLOOKUP(AK5&AL5,$Y$2:$AC$478,5,FALSE)) | AP5: AS | AR5: =+IF(AW5="","",MAX(AR$1:AR4)+1) | AS5: =IF(Limit_Deviation_Detail!B27="","",Limit_Deviation_Detail!B27) | AT5: =IF(Limit_Deviation_Detail!C27="","",Limit_Deviation_Detail!C27) | AU5: =IF(Limit_Deviation_Detail!F27="","",Limit_Deviation_Detail!F27) | AV5: =AS5&AT5&AU5 | AW5: =IF(COUNTIF(AV$2:AV5,AV5)=1,AV5,"") | AX5: =+IFERROR(INDEX(AS$2:AS$955,MATCH(ROW()-ROW(IQ$1),AR$2:AR$955,0)),"") | AY5: =+IFERROR(INDEX(AT$2:AT$955,MATCH(ROW()-ROW(AW$1),AR$2:AR$955,0)),"") | AZ5: =+IFERROR(INDEX(AU$2:AU$955,MATCH(ROW()-ROW(AW$1),AR$2:AR$955,0)),"") | BA5: =IF(AZ5="","",VLOOKUP(AX5&AY5,$Y$2:$AC$478,5,FALSE)) | BC5: =+IF(BI5="","",MAX(BC$1:BC4)+1) | BD5: =IF(CMS_Identification!B27="","",CMS_Identification!B27) | BE5: =IF(CMS_Identification!C27="","",CMS_Identification!C27) | BF5: =IF(CMS_Identification!E27="","",CMS_Identification!E27) | BG5: =IF(Affected_Source!AL27="","",Affected_Source!AL27) | BH5: =BD5&BE5&BF5 | BI5: =IF(COUNTIF(BH$2:BH5,BH5)=1,BH5,"") | BJ5: =BK5&" "&BL5&" "&BM5 | BK5: =+IFERROR(INDEX(BD$2:BD$955,MATCH(ROW()-ROW($BJ$1),BC$2:BC$955,0)),"") | BL5: =+IFERROR(INDEX(BE$2:BE$955,MATCH(ROW()-ROW($BJ$1),BC$2:BC$955,0)),"") | BM5: =+IFERROR(INDEX(BF$2:BF$955,MATCH(ROW()-ROW($BJ$1),BC$2:BC$955,0)),"")
A6: =+IF(D6="","",MAX(A$1:A5)+1) | B6: =IF(Affected_Source!C28="","",Affected_Source!C28) | C6: =+IFERROR(INDEX(B$2:B$501,MATCH(ROW()-ROW($C$1),A$2:A$501,0)),"") | D6: =IF(COUNTIF(B$2:B6,B6)=1,B6,"") | E6: =IF(Affected_Source!D28="","",Affected_Source!D28) | F6: =+IF(I6="","",MAX(F$1:F5)+1) | G6: =+IF(Company_Information!B28="","",Company_Information!B28) | H6: =+IFERROR(INDEX(G$2:G$501,MATCH(ROW()-ROW($H$1),F$2:F$501,0)),"") | I6: =IF(COUNTIF(G$2:G6,G6)=1,G6,"") | K6: =+IF(N6="","",MAX(K$1:K5)+1) | L6: =IF(CMS_Identification!E28="","",CMS_Identification!E28) | M6: =+IFERROR(INDEX(L$2:L$501,MATCH(ROW()-ROW($M$1),K$2:K$501,0)),"") | N6: =IF(COUNTIF(L$2:L6,L6)=1,L6,"") | P6: Unknown Causes | R6: Operation of capture system | T6: =+IF(Y6="","",MAX(T$1:T5)+1) | U6: =IF(Affected_Source!B28="","",Affected_Source!B28) | V6: =IF(Affected_Source!D28="","",Affected_Source!D28) | W6: =IF(Affected_Source!E28="","",Affected_Source!E28) | X6: =U6&V6 | Y6: =IF(COUNTIF(X$2:X6,X6)=1,X6,"") | Z6: =AA6&" "&AB6 | AA6: =+IFERROR(INDEX(U$2:U$955,MATCH(ROW()-ROW($AA$1),T$2:T$955,0)),"") | AB6: =+IFERROR(INDEX(V$2:V$955,MATCH(ROW()-ROW($AA$1),T$2:T$955,0)),"") | AC6: =+IFERROR(INDEX(W$2:W$955,MATCH(ROW()-ROW($AA$1),U$2:U$955,0)),"") | AE6: =+IF(AJ6="","",MAX(AE$1:AE5)+1) | AF6: =IF(CMS_Inoperative_OoC!B28="","",CMS_Inoperative_OoC!B28) | AG6: =IF(CMS_Inoperative_OoC!C28="","",CMS_Inoperative_OoC!C28) | AH6: =IF(CMS_Inoperative_OoC!D28="","",CMS_Inoperative_OoC!D28) | AI6: =AF6&AG6&AH6 | AJ6: =IF(COUNTIF(AI$2:AI6,AI6)=1,AI6,"") | AK6: =+IFERROR(INDEX(AF$2:AF$955,MATCH(ROW()-ROW(IE$1),AE$2:AE$955,0)),"") | AL6: =+IFERROR(INDEX(AG$2:AG$955,MATCH(ROW()-ROW(AJ$1),AE$2:AE$955,0)),"") | AM6: =+IFERROR(INDEX(AH$2:AH$955,MATCH(ROW()-ROW(AJ$1),AE$2:AE$955,0)),"") | AN6: =IF(AM6="","",VLOOKUP(AK6&AL6,$Y$2:$AC$478,5,FALSE)) | AP6: AZ | AR6: =+IF(AW6="","",MAX(AR$1:AR5)+1) | AS6: =IF(Limit_Deviation_Detail!B28="","",Limit_Deviation_Detail!B28) | AT6: =IF(Limit_Deviation_Detail!C28="","",Limit_Deviation_Detail!C28) | AU6: =IF(Limit_Deviation_Detail!F28="","",Limit_Deviation_Detail!F28) | AV6: =AS6&AT6&AU6 | AW6: =IF(COUNTIF(AV$2:AV6,AV6)=1,AV6,"") | AX6: =+IFERROR(INDEX(AS$2:AS$955,MATCH(ROW()-ROW(IQ$1),AR$2:AR$955,0)),"") | AY6: =+IFERROR(INDEX(AT$2:AT$955,MATCH(ROW()-ROW(AW$1),AR$2:AR$955,0)),"") | AZ6: =+IFERROR(INDEX(AU$2:AU$955,MATCH(ROW()-ROW(AW$1),AR$2:AR$955,0)),"") | BA6: =IF(AZ6="","",VLOOKUP(AX6&AY6,$Y$2:$AC$478,5,FALSE)) | BC6: =+IF(BI6="","",MAX(BC$1:BC5)+1) | BD6: =IF(CMS_Identification!B28="","",CMS_Identification!B28) | BE6: =IF(CMS_Identification!C28="","",CMS_Identification!C28) | BF6: =IF(CMS_Identification!E28="","",CMS_Identification!E28) | BG6: =IF(Affected_Source!AL28="","",Affected_Source!AL28) | BH6: =BD6&BE6&BF6 | BI6: =IF(COUNTIF(BH$2:BH6,BH6)=1,BH6,"") | BJ6: =BK6&" "&BL6&" "&BM6 | BK6: =+IFERROR(INDEX(BD$2:BD$955,MATCH(ROW()-ROW($BJ$1),BC$2:BC$955,0)),"") | BL6: =+IFERROR(INDEX(BE$2:BE$955,MATCH(ROW()-ROW($BJ$1),BC$2:BC$955,0)),"") | BM6: =+IFERROR(INDEX(BF$2:BF$955,MATCH(ROW()-ROW($BJ$1),BC$2:BC$955,0)),"")
A7: =+IF(D7="","",MAX(A$1:A6)+1) | B7: =IF(Affected_Source!C29="","",Affected_Source!C29) | C7: =+IFERROR(INDEX(B$2:B$501,MATCH(ROW()-ROW($C$1),A$2:A$501,0)),"") | D7: =IF(COUNTIF(B$2:B7,B7)=1,B7,"") | E7: =IF(Affected_Source!D29="","",Affected_Source!D29) | F7: =+IF(I7="","",MAX(F$1:F6)+1) | G7: =+IF(Company_Information!B29="","",Company_Information!B29) | H7: =+IFERROR(INDEX(G$2:G$501,MATCH(ROW()-ROW($H$1),F$2:F$501,0)),"") | I7: =IF(COUNTIF(G$2:G7,G7)=1,G7,"") | K7: =+IF(N7="","",MAX(K$1:K6)+1) | L7: =IF(CMS_Identification!E29="","",CMS_Identification!E29) | M7: =+IFERROR(INDEX(L$2:L$501,MATCH(ROW()-ROW($M$1),K$2:K$501,0)),"") | N7: =IF(COUNTIF(L$2:L7,L7)=1,L7,"") | R7: SSM meet work practices in §63.7090(c) | T7: =+IF(Y7="","",MAX(T$1:T6)+1) | U7: =IF(Affected_Source!B29="","",Affected_Source!B29) | V7: =IF(Affected_Source!D29="","",Affected_Source!D29) | W7: =IF(Affected_Source!E29="","",Affected_Source!E29) | X7: =U7&V7 | Y7: =IF(COUNTIF(X$2:X7,X7)=1,X7,"") | Z7: =AA7&" "&AB7 | AA7: =+IFERROR(INDEX(U$2:U$955,MATCH(ROW()-ROW($AA$1),T$2:T$955,0)),"") | AB7: =+IFERROR(INDEX(V$2:V$955,MATCH(ROW()-ROW($AA$1),T$2:T$955,0)),"") | AC7: =+IFERROR(INDEX(W$2:W$955,MATCH(ROW()-ROW($AA$1),U$2:U$955,0)),"") | AE7: =+IF(AJ7="","",MAX(AE$1:AE6)+1) | AF7: =IF(CMS_Inoperative_OoC!B29="","",CMS_Inoperative_OoC!B29) | AG7: =IF(CMS_Inoperative_OoC!C29="","",CMS_Inoperative_OoC!C29) | AH7: =IF(CMS_Inoperative_OoC!D29="","",CMS_Inoperative_OoC!D29) | AI7: =AF7&AG7&AH7 | AJ7: =IF(COUNTIF(AI$2:AI7,AI7)=1,AI7,"") | AK7: =+IFERROR(INDEX(AF$2:AF$955,MATCH(ROW()-ROW(IE$1),AE$2:AE$955,0)),"") | AL7: =+IFERROR(INDEX(AG$2:AG$955,MATCH(ROW()-ROW(AJ$1),AE$2:AE$955,0)),"") | AM7: =+IFERROR(INDEX(AH$2:AH$955,MATCH(ROW()-ROW(AJ$1),AE$2:AE$955,0)),"") | AN7: =IF(AM7="","",VLOOKUP(AK7&AL7,$Y$2:$AC$478,5,FALSE)) | AP7: CA | AR7: =+IF(AW7="","",MAX(AR$1:AR6)+1) | AS7: =IF(Limit_Deviation_Detail!B29="","",Limit_Deviation_Detail!B29) | AT7: =IF(Limit_Deviation_Detail!C29="","",Limit_Deviation_Detail!C29) | AU7: =IF(Limit_Deviation_Detail!F29="","",Limit_Deviation_Detail!F29) | AV7: =AS7&AT7&AU7 | AW7: =IF(COUNTIF(AV$2:AV7,AV7)=1,AV7,"") | AX7: =+IFERROR(INDEX(AS$2:AS$955,MATCH(ROW()-ROW(IQ$1),AR$2:AR$955,0)),"") | AY7: =+IFERROR(INDEX(AT$2:AT$955,MATCH(ROW()-ROW(AW$1),AR$2:AR$955,0)),"") | AZ7: =+IFERROR(INDEX(AU$2:AU$955,MATCH(ROW()-ROW(AW$1),AR$2:AR$955,0)),"") | BA7: =IF(AZ7="","",VLOOKUP(AX7&AY7,$Y$2:$AC$478,5,FALSE)) | BC7: =+IF(BI7="","",MAX(BC$1:BC6)+1) | BD7: =IF(CMS_Identification!B29="","",CMS_Identification!B29) | BE7: =IF(CMS_Identification!C29="","",CMS_Identification!C29) | BF7: =IF(CMS_Identification!E29="","",CMS_Identification!E29) | BG7: =IF(Affected_Source!AL29="","",Affected_Source!AL29) | BH7: =BD7&BE7&BF7 | BI7: =IF(COUNTIF(BH$2:BH7,BH7)=1,BH7,"") | BJ7: =BK7&" "&BL7&" "&BM7 | BK7: =+IFERROR(INDEX(BD$2:BD$955,MATCH(ROW()-ROW($BJ$1),BC$2:BC$955,0)),"") | BL7: =+IFERROR(INDEX(BE$2:BE$955,MATCH(ROW()-ROW($BJ$1),BC$2:BC$955,0)),"") | BM7: =+IFERROR(INDEX(BF$2:BF$955,MATCH(ROW()-ROW($BJ$1),BC$2:BC$955,0)),"")
A8: =+IF(D8="","",MAX(A$1:A7)+1) | B8: =IF(Affected_Source!C30="","",Affected_Source!C30) | C8: =+IFERROR(INDEX(B$2:B$501,MATCH(ROW()-ROW($C$1),A$2:A$501,0)),"") | D8: =IF(COUNTIF(B$2:B8,B8)=1,B8,"") | E8: =IF(Affected_Source!D30="","",Affected_Source!D30) | F8: =+IF(I8="","",MAX(F$1:F7)+1) | G8: =+IF(Company_Information!B30="","",Company_Information!B30) | H8: =+IFERROR(INDEX(G$2:G$501,MATCH(ROW()-ROW($H$1),F$2:F$501,0)),"") | I8: =IF(COUNTIF(G$2:G8,G8)=1,G8,"") | K8: =+IF(N8="","",MAX(K$1:K7)+1) | L8: =IF(CMS_Identification!E30="","",CMS_Identification!E30) | M8: =+IFERROR(INDEX(L$2:L$501,MATCH(ROW()-ROW($M$1),K$2:K$501,0)),"") | N8: =IF(COUNTIF(L$2:L8,L8)=1,L8,"") | R8: Other control device operating parameters | T8: =+IF(Y8="","",MAX(T$1:T7)+1) | U8: =IF(Affected_Source!B30="","",Affected_Source!B30) | V8: =IF(Affected_Source!D30="","",Affected_Source!D30) | W8: =IF(Affected_Source!E30="","",Affected_Source!E30) | X8: =U8&V8 | Y8: =IF(COUNTIF(X$2:X8,X8)=1,X8,"") | Z8: =AA8&" "&AB8 | AA8: =+IFERROR(INDEX(U$2:U$955,MATCH(ROW()-ROW($AA$1),T$2:T$955,0)),"") | AB8: =+IFERROR(INDEX(V$2:V$955,MATCH(ROW()-ROW($AA$1),T$2:T$955,0)),"") | AC8: =+IFERROR(INDEX(W$2:W$955,MATCH(ROW()-ROW($AA$1),U$2:U$955,0)),"") | AE8: =+IF(AJ8="","",MAX(AE$1:AE7)+1) | AF8: =IF(CMS_Inoperative_OoC!B30="","",CMS_Inoperative_OoC!B30) | AG8: =IF(CMS_Inoperative_OoC!C30="","",CMS_Inoperative_OoC!C30) | AH8: =IF(CMS_Inoperative_OoC!D30="","",CMS_Inoperative_OoC!D30) | AI8: =AF8&AG8&AH8 | AJ8: =IF(COUNTIF(AI$2:AI8,AI8)=1,AI8,"") | AK8: =+IFERROR(INDEX(AF$2:AF$955,MATCH(ROW()-ROW(IE$1),AE$2:AE$955,0)),"") | AL8: =+IFERROR(INDEX(AG$2:AG$955,MATCH(ROW()-ROW(AJ$1),AE$2:AE$955,0)),"") | AM8: =+IFERROR(INDEX(AH$2:AH$955,MATCH(ROW()-ROW(AJ$1),AE$2:AE$955,0)),"") | AN8: =IF(AM8="","",VLOOKUP(AK8&AL8,$Y$2:$AC$478,5,FALSE)) | AP8: CO | AR8: =+IF(AW8="","",MAX(AR$1:AR7)+1) | AS8: =IF(Limit_Deviation_Detail!B30="","",Limit_Deviation_Detail!B30) | AT8: =IF(Limit_Deviation_Detail!C30="","",Limit_Deviation_Detail!C30) | AU8: =IF(Limit_Deviation_Detail!F30="","",Limit_Deviation_Detail!F30) | AV8: =AS8&AT8&AU8 | AW8: =IF(COUNTIF(AV$2:AV8,AV8)=1,AV8,"") | AX8: =+IFERROR(INDEX(AS$2:AS$955,MATCH(ROW()-ROW(IQ$1),AR$2:AR$955,0)),"") | AY8: =+IFERROR(INDEX(AT$2:AT$955,MATCH(ROW()-ROW(AW$1),AR$2:AR$955,0)),"") | AZ8: =+IFERROR(INDEX(AU$2:AU$955,MATCH(ROW()-ROW(AW$1),AR$2:AR$955,0)),"") | BA8: =IF(AZ8="","",VLOOKUP(AX8&AY8,$Y$2:$AC$478,5,FALSE)) | BC8: =+IF(BI8="","",MAX(BC$1:BC7)+1) | BD8: =IF(CMS_Identification!B30="","",CMS_Identification!B30) | BE8: =IF(CMS_Identification!C30="","",CMS_Identification!C30) | BF8: =IF(CMS_Identification!E30="","",CMS_Identification!E30) | BG8: =IF(Affected_Source!AL30="","",Affected_Source!AL30) | BH8: =BD8&BE8&BF8 | BI8: =IF(COUNTIF(BH$2:BH8,BH8)=1,BH8,"") | BJ8: =BK8&" "&BL8&" "&BM8 | BK8: =+IFERROR(INDEX(BD$2:BD$955,MATCH(ROW()-ROW($BJ$1),BC$2:BC$955,0)),"") | BL8: =+IFERROR(INDEX(BE$2:BE$955,MATCH(ROW()-ROW($BJ$1),BC$2:BC$955,0)),"") | BM8: =+IFERROR(INDEX(BF$2:BF$955,MATCH(ROW()-ROW($BJ$1),BC$2:BC$955,0)),"")
A9: =+IF(D9="","",MAX(A$1:A8)+1) | B9: =IF(Affected_Source!C31="","",Affected_Source!C31) | C9: =+IFERROR(INDEX(B$2:B$501,MATCH(ROW()-ROW($C$1),A$2:A$501,0)),"") | D9: =IF(COUNTIF(B$2:B9,B9)=1,B9,"") | E9: =IF(Affected_Source!D31="","",Affected_Source!D31) | F9: =+IF(I9="","",MAX(F$1:F8)+1) | G9: =+IF(Company_Information!B31="","",Company_Information!B31) | H9: =+IFERROR(INDEX(G$2:G$501,MATCH(ROW()-ROW($H$1),F$2:F$501,0)),"") | I9: =IF(COUNTIF(G$2:G9,G9)=1,G9,"") | K9: =+IF(N9="","",MAX(K$1:K8)+1) | L9: =IF(CMS_Identification!E31="","",CMS_Identification!E31) | M9: =+IFERROR(INDEX(L$2:L$501,MATCH(ROW()-ROW($M$1),K$2:K$501,0)),"") | N9: =IF(COUNTIF(L$2:L9,L9)=1,L9,"") | R9: BLDS or PM detector alarm | T9: =+IF(Y9="","",MAX(T$1:T8)+1) | U9: =IF(Affected_Source!B31="","",Affected_Source!B31) | V9: =IF(Affected_Source!D31="","",Affected_Source!D31) | W9: =IF(Affected_Source!E31="","",Affected_Source!E31) | X9: =U9&V9 | Y9: =IF(COUNTIF(X$2:X9,X9)=1,X9,"") | Z9: =AA9&" "&AB9 | AA9: =+IFERROR(INDEX(U$2:U$955,MATCH(ROW()-ROW($AA$1),T$2:T$955,0)),"") | AB9: =+IFERROR(INDEX(V$2:V$955,MATCH(ROW()-ROW($AA$1),T$2:T$955,0)),"") | AC9: =+IFERROR(INDEX(W$2:W$955,MATCH(ROW()-ROW($AA$1),U$2:U$955,0)),"") | AE9: =+IF(AJ9="","",MAX(AE$1:AE8)+1) | AF9: =IF(CMS_Inoperative_OoC!B31="","",CMS_Inoperative_OoC!B31) | AG9: =IF(CMS_Inoperative_OoC!C31="","",CMS_Inoperative_OoC!C31) | AH9: =IF(CMS_Inoperative_OoC!D31="","",CMS_Inoperative_OoC!D31) | AI9: =AF9&AG9&AH9 | AJ9: =IF(COUNTIF(AI$2:AI9,AI9)=1,AI9,"") | AK9: =+IFERROR(INDEX(AF$2:AF$955,MATCH(ROW()-ROW(IE$1),AE$2:AE$955,0)),"") | AL9: =+IFERROR(INDEX(AG$2:AG$955,MATCH(ROW()-ROW(AJ$1),AE$2:AE$955,0)),"") | AM9: =+IFERROR(INDEX(AH$2:AH$955,MATCH(ROW()-ROW(AJ$1),AE$2:AE$955,0)),"") | AN9: =IF(AM9="","",VLOOKUP(AK9&AL9,$Y$2:$AC$478,5,FALSE)) | AP9: CT | AR9: =+IF(AW9="","",MAX(AR$1:AR8)+1) | AS9: =IF(Limit_Deviation_Detail!B31="","",Limit_Deviation_Detail!B31) | AT9: =IF(Limit_Deviation_Detail!C31="","",Limit_Deviation_Detail!C31) | AU9: =IF(Limit_Deviation_Detail!F31="","",Limit_Deviation_Detail!F31) | AV9: =AS9&AT9&AU9 | AW9: =IF(COUNTIF(AV$2:AV9,AV9)=1,AV9,"") | AX9: =+IFERROR(INDEX(AS$2:AS$955,MATCH(ROW()-ROW(IQ$1),AR$2:AR$955,0)),"") | AY9: =+IFERROR(INDEX(AT$2:AT$955,MATCH(ROW()-ROW(AW$1),AR$2:AR$955,0)),"") | AZ9: =+IFERROR(INDEX(AU$2:AU$955,MATCH(ROW()-ROW(AW$1),AR$2:AR$955,0)),"") | BA9: =IF(AZ9="","",VLOOKUP(AX9&AY9,$Y$2:$AC$478,5,FALSE)) | BC9: =+IF(BI9="","",MAX(BC$1:BC8)+1) | BD9: =IF(CMS_Identification!B31="","",CMS_Identification!B31) | BE9: =IF(CMS_Identification!C31="","",CMS_Identification!C31) | BF9: =IF(CMS_Identification!E31="","",CMS_Identification!E31) | BG9: =IF(Affected_Source!AL31="","",Affected_Source!AL31) | BH9: =BD9&BE9&BF9 | BI9: =IF(COUNTIF(BH$2:BH9,BH9)=1,BH9,"") | BJ9: =BK9&" "&BL9&" "&BM9 | BK9: =+IFERROR(INDEX(BD$2:BD$955,MATCH(ROW()-ROW($BJ$1),BC$2:BC$955,0)),"") | BL9: =+IFERROR(INDEX(BE$2:BE$955,MATCH(ROW()-ROW($BJ$1),BC$2:BC$955,0)),"") | BM9: =+IFERROR(INDEX(BF$2:BF$955,MATCH(ROW()-ROW($BJ$1),BC$2:BC$955,0)),"")
A10: =+IF(D10="","",MAX(A$1:A9)+1) | B10: =IF(Affected_Source!C32="","",Affected_Source!C32) | C10: =+IFERROR(INDEX(B$2:B$501,MATCH(ROW()-ROW($C$1),A$2:A$501,0)),"") | D10: =IF(COUNTIF(B$2:B10,B10)=1,B10,"") | E10: =IF(Affected_Source!D32="","",Affected_Source!D32) | F10: =+IF(I10="","",MAX(F$1:F9)+1) | G10: =+IF(Company_Information!B32="","",Company_Information!B32) | H10: =+IFERROR(INDEX(G$2:G$501,MATCH(ROW()-ROW($H$1),F$2:F$501,0)),"") | I10: =IF(COUNTIF(G$2:G10,G10)=1,G10,"") | K10: =+IF(N10="","",MAX(K$1:K9)+1) | L10: =IF(CMS_Identification!E32="","",CMS_Identification!E32) | M10: =+IFERROR(INDEX(L$2:L$501,MATCH(ROW()-ROW($M$1),K$2:K$501,0)),"") | N10: =IF(COUNTIF(L$2:L10,L10)=1,L10,"") | T10: =+IF(Y10="","",MAX(T$1:T9)+1) | U10: =IF(Affected_Source!B32="","",Affected_Source!B32) | V10: =IF(Affected_Source!D32="","",Affected_Source!D32) | W10: =IF(Affected_Source!E32="","",Affected_Source!E32) | X10: =U10&V10 | Y10: =IF(COUNTIF(X$2:X10,X10)=1,X10,"") | Z10: =AA10&" "&AB10 | AA10: =+IFERROR(INDEX(U$2:U$955,MATCH(ROW()-ROW($AA$1),T$2:T$955,0)),"") | AB10: =+IFERROR(INDEX(V$2:V$955,MATCH(ROW()-ROW($AA$1),T$2:T$955,0)),"") | AC10: =+IFERROR(INDEX(W$2:W$955,MATCH(ROW()-ROW($AA$1),U$2:U$955,0)),"") | AE10: =+IF(AJ10="","",MAX(AE$1:AE9)+1) | AF10: =IF(CMS_Inoperative_OoC!B32="","",CMS_Inoperative_OoC!B32) | AG10: =IF(CMS_Inoperative_OoC!C32="","",CMS_Inoperative_OoC!C32) | AH10: =IF(CMS_Inoperative_OoC!D32="","",CMS_Inoperative_OoC!D32) | AI10: =AF10&AG10&AH10 | AJ10: =IF(COUNTIF(AI$2:AI10,AI10)=1,AI10,"") | AK10: =+IFERROR(INDEX(AF$2:AF$955,MATCH(ROW()-ROW(IE$1),AE$2:AE$955,0)),"") | AL10: =+IFERROR(INDEX(AG$2:AG$955,MATCH(ROW()-ROW(AJ$1),AE$2:AE$955,0)),"") | AM10: =+IFERROR(INDEX(AH$2:AH$955,MATCH(ROW()-ROW(AJ$1),AE$2:AE$955,0)),"") | AN10: =IF(AM10="","",VLOOKUP(AK10&AL10,$Y$2:$AC$478,5,FALSE)) | AP10: DC | AR10: =+IF(AW10="","",MAX(AR$1:AR9)+1) | AS10: =IF(Limit_Deviation_Detail!B32="","",Limit_Deviation_Detail!B32) | AT10: =IF(Limit_Deviation_Detail!C32="","",Limit_Deviation_Detail!C32) | AU10: =IF(Limit_Deviation_Detail!F32="","",Limit_Deviation_Detail!F32) | AV10: =AS10&AT10&AU10 | AW10: =IF(COUNTIF(AV$2:AV10,AV10)=1,AV10,"") | AX10: =+IFERROR(INDEX(AS$2:AS$955,MATCH(ROW()-ROW(IQ$1),AR$2:AR$955,0)),"") | AY10: =+IFERROR(INDEX(AT$2:AT$955,MATCH(ROW()-ROW(AW$1),AR$2:AR$955,0)),"") | AZ10: =+IFERROR(INDEX(AU$2:AU$955,MATCH(ROW()-ROW(AW$1),AR$2:AR$955,0)),"") | BA10: =IF(AZ10="","",VLOOKUP(AX10&AY10,$Y$2:$AC$478,5,FALSE)) | BC10: =+IF(BI10="","",MAX(BC$1:BC9)+1) | BD10: =IF(CMS_Identification!B32="","",CMS_Identification!B32) | BE10: =IF(CMS_Identification!C32="","",CMS_Identification!C32) | BF10: =IF(CMS_Identification!E32="","",CMS_Identification!E32) | BG10: =IF(Affected_Source!AL32="","",Affected_Source!AL32) | BH10: =BD10&BE10&BF10 | BI10: =IF(COUNTIF(BH$2:BH10,BH10)=1,BH10,"") | BJ10: =BK10&" "&BL10&" "&BM10 | BK10: =+IFERROR(INDEX(BD$2:BD$955,MATCH(ROW()-ROW($BJ$1),BC$2:BC$955,0)),"") | BL10: =+IFERROR(INDEX(BE$2:BE$955,MATCH(ROW()-ROW($BJ$1),BC$2:BC$955,0)),"") | BM10: =+IFERROR(INDEX(BF$2:BF$955,MATCH(ROW()-ROW($BJ$1),BC$2:BC$955,0)),"")
A11: =+IF(D11="","",MAX(A$1:A10)+1) | B11: =IF(Affected_Source!C33="","",Affected_Source!C33) | C11: =+IFERROR(INDEX(B$2:B$501,MATCH(ROW()-ROW($C$1),A$2:A$501,0)),"") | D11: =IF(COUNTIF(B$2:B11,B11)=1,B11,"") | E11: =IF(Affected_Source!D33="","",Affected_Source!D33) | F11: =+IF(I11="","",MAX(F$1:F10)+1) | G11: =+IF(Company_Information!B33="","",Company_Information!B33) | H11: =+IFERROR(INDEX(G$2:G$501,MATCH(ROW()-ROW($H$1),F$2:F$501,0)),"") | I11: =IF(COUNTIF(G$2:G11,G11)=1,G11,"") | K11: =+IF(N11="","",MAX(K$1:K10)+1) | L11: =IF(CMS_Identification!E33="","",CMS_Identification!E33) | M11: =+IFERROR(INDEX(L$2:L$501,MATCH(ROW()-ROW($M$1),K$2:K$501,0)),"") | N11: =IF(COUNTIF(L$2:L11,L11)=1,L11,"") | T11: =+IF(Y11="","",MAX(T$1:T10)+1) | U11: =IF(Affected_Source!B33="","",Affected_Source!B33) | V11: =IF(Affected_Source!D33="","",Affected_Source!D33) | W11: =IF(Affected_Source!E33="","",Affected_Source!E33) | X11: =U11&V11 | Y11: =IF(COUNTIF(X$2:X11,X11)=1,X11,"") | Z11: =AA11&" "&AB11 | AA11: =+IFERROR(INDEX(U$2:U$955,MATCH(ROW()-ROW($AA$1),T$2:T$955,0)),"") | AB11: =+IFERROR(INDEX(V$2:V$955,MATCH(ROW()-ROW($AA$1),T$2:T$955,0)),"") | AC11: =+IFERROR(INDEX(W$2:W$955,MATCH(ROW()-ROW($AA$1),U$2:U$955,0)),"") | AE11: =+IF(AJ11="","",MAX(AE$1:AE10)+1) | AF11: =IF(CMS_Inoperative_OoC!B33="","",CMS_Inoperative_OoC!B33) | AG11: =IF(CMS_Inoperative_OoC!C33="","",CMS_Inoperative_OoC!C33) | AH11: =IF(CMS_Inoperative_OoC!D33="","",CMS_Inoperative_OoC!D33) | AI11: =AF11&AG11&AH11 | AJ11: =IF(COUNTIF(AI$2:AI11,AI11)=1,AI11,"") | AK11: =+IFERROR(INDEX(AF$2:AF$955,MATCH(ROW()-ROW(IE$1),AE$2:AE$955,0)),"") | AL11: =+IFERROR(INDEX(AG$2:AG$955,MATCH(ROW()-ROW(AJ$1),AE$2:AE$955,0)),"") | AM11: =+IFERROR(INDEX(AH$2:AH$955,MATCH(ROW()-ROW(AJ$1),AE$2:AE$955,0)),"") | AN11: =IF(AM11="","",VLOOKUP(AK11&AL11,$Y$2:$AC$478,5,FALSE)) | AP11: DE | AR11: =+IF(AW11="","",MAX(AR$1:AR10)+1) | AS11: =IF(Limit_Deviation_Detail!B33="","",Limit_Deviation_Detail!B33) | AT11: =IF(Limit_Deviation_Detail!C33="","",Limit_Deviation_Detail!C33) | AU11: =IF(Limit_Deviation_Detail!F33="","",Limit_Deviation_Detail!F33) | AV11: =AS11&AT11&AU11 | AW11: =IF(COUNTIF(AV$2:AV11,AV11)=1,AV11,"") | AX11: =+IFERROR(INDEX(AS$2:AS$955,MATCH(ROW()-ROW(IQ$1),AR$2:AR$955,0)),"") | AY11: =+IFERROR(INDEX(AT$2:AT$955,MATCH(ROW()-ROW(AW$1),AR$2:AR$955,0)),"") | AZ11: =+IFERROR(INDEX(AU$2:AU$955,MATCH(ROW()-ROW(AW$1),AR$2:AR$955,0)),"") | BA11: =IF(AZ11="","",VLOOKUP(AX11&AY11,$Y$2:$AC$478,5,FALSE)) | BC11: =+IF(BI11="","",MAX(BC$1:BC10)+1) | BD11: =IF(CMS_Identification!B33="","",CMS_Identification!B33) | BE11: =IF(CMS_Identification!C33="","",CMS_Identification!C33) | BF11: =IF(CMS_Identification!E33="","",CMS_Identification!E33) | BG11: =IF(Affected_Source!AL33="","",Affected_Source!AL33) | BH11: =BD11&BE11&BF11 | BI11: =IF(COUNTIF(BH$2:BH11,BH11)=1,BH11,"") | BJ11: =BK11&" "&BL11&" "&BM11 | BK11: =+IFERROR(INDEX(BD$2:BD$955,MATCH(ROW()-ROW($BJ$1),BC$2:BC$955,0)),"") | BL11: =+IFERROR(INDEX(BE$2:BE$955,MATCH(ROW()-ROW($BJ$1),BC$2:BC$955,0)),"") | BM11: =+IFERROR(INDEX(BF$2:BF$955,MATCH(ROW()-ROW($BJ$1),BC$2:BC$955,0)),"")
A12: =+IF(D12="","",MAX(A$1:A11)+1) | B12: =IF(Affected_Source!C34="","",Affected_Source!C34) | C12: =+IFERROR(INDEX(B$2:B$501,MATCH(ROW()-ROW($C$1),A$2:A$501,0)),"") | D12: =IF(COUNTIF(B$2:B12,B12)=1,B12,"") | E12: =IF(Affected_Source!D34="","",Affected_Source!D34) | K12: =+IF(N12="","",MAX(K$1:K11)+1) | L12: =IF(CMS_Identification!E34="","",CMS_Identification!E34) | M12: =+IFERROR(INDEX(L$2:L$501,MATCH(ROW()-ROW($M$1),K$2:K$501,0)),"") | N12: =IF(COUNTIF(L$2:L12,L12)=1,L12,"") | P12: Malfunction | T12: =+IF(Y12="","",MAX(T$1:T11)+1) | U12: =IF(Affected_Source!B34="","",Affected_Source!B34) | V12: =IF(Affected_Source!D34="","",Affected_Source!D34) | W12: =IF(Affected_Source!E34="","",Affected_Source!E34) | X12: =U12&V12 | Y12: =IF(COUNTIF(X$2:X12,X12)=1,X12,"") | Z12: =AA12&" "&AB12 | AA12: =+IFERROR(INDEX(U$2:U$955,MATCH(ROW()-ROW($AA$1),T$2:T$955,0)),"") | AB12: =+IFERROR(INDEX(V$2:V$955,MATCH(ROW()-ROW($AA$1),T$2:T$955,0)),"") | AC12: =+IFERROR(INDEX(W$2:W$955,MATCH(ROW()-ROW($AA$1),U$2:U$955,0)),"") | AE12: =+IF(AJ12="","",MAX(AE$1:AE11)+1) | AF12: =IF(CMS_Inoperative_OoC!B34="","",CMS_Inoperative_OoC!B34) | AG12: =IF(CMS_Inoperative_OoC!C34="","",CMS_Inoperative_OoC!C34) | AH12: =IF(CMS_Inoperative_OoC!D34="","",CMS_Inoperative_OoC!D34) | AI12: =AF12&AG12&AH12 | AJ12: =IF(COUNTIF(AI$2:AI12,AI12)=1,AI12,"") | AK12: =+IFERROR(INDEX(AF$2:AF$955,MATCH(ROW()-ROW(IE$1),AE$2:AE$955,0)),"") | AL12: =+IFERROR(INDEX(AG$2:AG$955,MATCH(ROW()-ROW(AJ$1),AE$2:AE$955,0)),"") | AM12: =+IFERROR(INDEX(AH$2:AH$955,MATCH(ROW()-ROW(AJ$1),AE$2:AE$955,0)),"") | AN12: =IF(AM12="","",VLOOKUP(AK12&AL12,$Y$2:$AC$478,5,FALSE)) | AP12: FL | AR12: =+IF(AW12="","",MAX(AR$1:AR11)+1) | AS12: =IF(Limit_Deviation_Detail!B34="","",Limit_Deviation_Detail!B34) | AT12: =IF(Limit_Deviation_Detail!C34="","",Limit_Deviation_Detail!C34) | AU12: =IF(Limit_Deviation_Detail!F34="","",Limit_Deviation_Detail!F34) | AV12: =AS12&AT12&AU12 | AW12: =IF(COUNTIF(AV$2:AV12,AV12)=1,AV12,"") | AX12: =+IFERROR(INDEX(AS$2:AS$955,MATCH(ROW()-ROW(IQ$1),AR$2:AR$955,0)),"") | AY12: =+IFERROR(INDEX(AT$2:AT$955,MATCH(ROW()-ROW(AW$1),AR$2:AR$955,0)),"") | AZ12: =+IFERROR(INDEX(AU$2:AU$955,MATCH(ROW()-ROW(AW$1),AR$2:AR$955,0)),"") | BA12: =IF(AZ12="","",VLOOKUP(AX12&AY12,$Y$2:$AC$478,5,FALSE)) | BC12: =+IF(BI12="","",MAX(BC$1:BC11)+1) | BD12: =IF(CMS_Identification!B34="","",CMS_Identification!B34) | BE12: =IF(CMS_Identification!C34="","",CMS_Identification!C34) | BF12: =IF(CMS_Identification!E34="","",CMS_Identification!E34) | BG12: =IF(Affected_Source!AL34="","",Affected_Source!AL34) | BH12: =BD12&BE12&BF12 | BI12: =IF(COUNTIF(BH$2:BH12,BH12)=1,BH12,"") | BJ12: =BK12&" "&BL12&" "&BM12 | BK12: =+IFERROR(INDEX(BD$2:BD$955,MATCH(ROW()-ROW($BJ$1),BC$2:BC$955,0)),"") | BL12: =+IFERROR(INDEX(BE$2:BE$955,MATCH(ROW()-ROW($BJ$1),BC$2:BC$955,0)),"") | BM12: =+IFERROR(INDEX(BF$2:BF$955,MATCH(ROW()-ROW($BJ$1),BC$2:BC$955,0)),"")
A13: =+IF(D13="","",MAX(A$1:A12)+1) | B13: =IF(Affected_Source!C35="","",Affected_Source!C35) | C13: =+IFERROR(INDEX(B$2:B$501,MATCH(ROW()-ROW($C$1),A$2:A$501,0)),"") | D13: =IF(COUNTIF(B$2:B13,B13)=1,B13,"") | E13: =IF(Affected_Source!D35="","",Affected_Source!D35) | K13: =+IF(N13="","",MAX(K$1:K12)+1) | L13: =IF(CMS_Identification!E35="","",CMS_Identification!E35) | M13: =+IFERROR(INDEX(L$2:L$501,MATCH(ROW()-ROW($M$1),K$2:K$501,0)),"") | N13: =IF(COUNTIF(L$2:L13,L13)=1,L13,"") | P13: Other Period | T13: =+IF(Y13="","",MAX(T$1:T12)+1) | U13: =IF(Affected_Source!B35="","",Affected_Source!B35) | V13: =IF(Affected_Source!D35="","",Affected_Source!D35) | W13: =IF(Affected_Source!E35="","",Affected_Source!E35) | X13: =U13&V13 | Y13: =IF(COUNTIF(X$2:X13,X13)=1,X13,"") | Z13: =AA13&" "&AB13 | AA13: =+IFERROR(INDEX(U$2:U$955,MATCH(ROW()-ROW($AA$1),T$2:T$955,0)),"") | AB13: =+IFERROR(INDEX(V$2:V$955,MATCH(ROW()-ROW($AA$1),T$2:T$955,0)),"") | AC13: =+IFERROR(INDEX(W$2:W$955,MATCH(ROW()-ROW($AA$1),U$2:U$955,0)),"") | AE13: =+IF(AJ13="","",MAX(AE$1:AE12)+1) | AF13: =IF(CMS_Inoperative_OoC!B35="","",CMS_Inoperative_OoC!B35) | AG13: =IF(CMS_Inoperative_OoC!C35="","",CMS_Inoperative_OoC!C35) | AH13: =IF(CMS_Inoperative_OoC!D35="","",CMS_Inoperative_OoC!D35) | AI13: =AF13&AG13&AH13 | AJ13: =IF(COUNTIF(AI$2:AI13,AI13)=1,AI13,"") | AK13: =+IFERROR(INDEX(AF$2:AF$955,MATCH(ROW()-ROW(IE$1),AE$2:AE$955,0)),"") | AL13: =+IFERROR(INDEX(AG$2:AG$955,MATCH(ROW()-ROW(AJ$1),AE$2:AE$955,0)),"") | AM13: =+IFERROR(INDEX(AH$2:AH$955,MATCH(ROW()-ROW(AJ$1),AE$2:AE$955,0)),"") | AN13: =IF(AM13="","",VLOOKUP(AK13&AL13,$Y$2:$AC$478,5,FALSE)) | AP13: GA | AR13: =+IF(AW13="","",MAX(AR$1:AR12)+1) | AS13: =IF(Limit_Deviation_Detail!B35="","",Limit_Deviation_Detail!B35) | AT13: =IF(Limit_Deviation_Detail!C35="","",Limit_Deviation_Detail!C35) | AU13: =IF(Limit_Deviation_Detail!F35="","",Limit_Deviation_Detail!F35) | AV13: =AS13&AT13&AU13 | AW13: =IF(COUNTIF(AV$2:AV13,AV13)=1,AV13,"") | AX13: =+IFERROR(INDEX(AS$2:AS$955,MATCH(ROW()-ROW(IQ$1),AR$2:AR$955,0)),"") | AY13: =+IFERROR(INDEX(AT$2:AT$955,MATCH(ROW()-ROW(AW$1),AR$2:AR$955,0)),"") | AZ13: =+IFERROR(INDEX(AU$2:AU$955,MATCH(ROW()-ROW(AW$1),AR$2:AR$955,0)),"") | BA13: =IF(AZ13="","",VLOOKUP(AX13&AY13,$Y$2:$AC$478,5,FALSE)) | BC13: =+IF(BI13="","",MAX(BC$1:BC12)+1) | BD13: =IF(CMS_Identification!B35="","",CMS_Identification!B35) | BE13: =IF(CMS_Identification!C35="","",CMS_Identification!C35) | BF13: =IF(CMS_Identification!E35="","",CMS_Identification!E35) | BG13: =IF(Affected_Source!AL35="","",Affected_Source!AL35) | BH13: =BD13&BE13&BF13 | BI13: =IF(COUNTIF(BH$2:BH13,BH13)=1,BH13,"") | BJ13: =BK13&" "&BL13&" "&BM13 | BK13: =+IFERROR(INDEX(BD$2:BD$955,MATCH(ROW()-ROW($BJ$1),BC$2:BC$955,0)),"") | BL13: =+IFERROR(INDEX(BE$2:BE$955,MATCH(ROW()-ROW($BJ$1),BC$2:BC$955,0)),"") | BM13: =+IFERROR(INDEX(BF$2:BF$955,MATCH(ROW()-ROW($BJ$1),BC$2:BC$955,0)),"")
A14: =+IF(D14="","",MAX(A$1:A13)+1) | B14: =IF(Affected_Source!C36="","",Affected_Source!C36) | C14: =+IFERROR(INDEX(B$2:B$501,MATCH(ROW()-ROW($C$1),A$2:A$501,0)),"") | D14: =IF(COUNTIF(B$2:B14,B14)=1,B14,"") | E14: =IF(Affected_Source!D36="","",Affected_Source!D36) | K14: =+IF(N14="","",MAX(K$1:K13)+1) | L14: =IF(CMS_Identification!E36="","",CMS_Identification!E36) | M14: =+IFERROR(INDEX(L$2:L$501,MATCH(ROW()-ROW($M$1),K$2:K$501,0)),"") | N14: =IF(COUNTIF(L$2:L14,L14)=1,L14,"") | T14: =+IF(Y14="","",MAX(T$1:T13)+1) | U14: =IF(Affected_Source!B36="","",Affected_Source!B36) | V14: =IF(Affected_Source!D36="","",Affected_Source!D36) | W14: =IF(Affected_Source!E36="","",Affected_Source!E36) | X14: =U14&V14 | Y14: =IF(COUNTIF(X$2:X14,X14)=1,X14,"") | Z14: =AA14&" "&AB14 | AA14: =+IFERROR(INDEX(U$2:U$955,MATCH(ROW()-ROW($AA$1),T$2:T$955,0)),"") | AB14: =+IFERROR(INDEX(V$2:V$955,MATCH(ROW()-ROW($AA$1),T$2:T$955,0)),"") | AC14: =+IFERROR(INDEX(W$2:W$955,MATCH(ROW()-ROW($AA$1),U$2:U$955,0)),"") | AE14: =+IF(AJ14="","",MAX(AE$1:AE13)+1) | AF14: =IF(CMS_Inoperative_OoC!B36="","",CMS_Inoperative_OoC!B36) | AG14: =IF(CMS_Inoperative_OoC!C36="","",CMS_Inoperative_OoC!C36) | AH14: =IF(CMS_Inoperative_OoC!D36="","",CMS_Inoperative_OoC!D36) | AI14: =AF14&AG14&AH14 | AJ14: =IF(COUNTIF(AI$2:AI14,AI14)=1,AI14,"") | AK14: =+IFERROR(INDEX(AF$2:AF$955,MATCH(ROW()-ROW(IE$1),AE$2:AE$955,0)),"") | AL14: =+IFERROR(INDEX(AG$2:AG$955,MATCH(ROW()-ROW(AJ$1),AE$2:AE$955,0)),"") | AM14: =+IFERROR(INDEX(AH$2:AH$955,MATCH(ROW()-ROW(AJ$1),AE$2:AE$955,0)),"") | AN14: =IF(AM14="","",VLOOKUP(AK14&AL14,$Y$2:$AC$478,5,FALSE)) | AP14: GU | AR14: =+IF(AW14="","",MAX(AR$1:AR13)+1) | AS14: =IF(Limit_Deviation_Detail!B36="","",Limit_Deviation_Detail!B36) | AT14: =IF(Limit_Deviation_Detail!C36="","",Limit_Deviation_Detail!C36) | AU14: =IF(Limit_Deviation_Detail!F36="","",Limit_Deviation_Detail!F36) | AV14: =AS14&AT14&AU14 | AW14: =IF(COUNTIF(AV$2:AV14,AV14)=1,AV14,"") | AX14: =+IFERROR(INDEX(AS$2:AS$955,MATCH(ROW()-ROW(IQ$1),AR$2:AR$955,0)),"") | AY14: =+IFERROR(INDEX(AT$2:AT$955,MATCH(ROW()-ROW(AW$1),AR$2:AR$955,0)),"") | AZ14: =+IFERROR(INDEX(AU$2:AU$955,MATCH(ROW()-ROW(AW$1),AR$2:AR$955,0)),"") | BA14: =IF(AZ14="","",VLOOKUP(AX14&AY14,$Y$2:$AC$478,5,FALSE)) | BC14: =+IF(BI14="","",MAX(BC$1:BC13)+1) | BD14: =IF(CMS_Identification!B36="","",CMS_Identification!B36) | BE14: =IF(CMS_Identification!C36="","",CMS_Identification!C36) | BF14: =IF(CMS_Identification!E36="","",CMS_Identification!E36) | BG14: =IF(Affected_Source!AL36="","",Affected_Source!AL36) | BH14: =BD14&BE14&BF14 | BI14: =IF(COUNTIF(BH$2:BH14,BH14)=1,BH14,"") | BJ14: =BK14&" "&BL14&" "&BM14 | BK14: =+IFERROR(INDEX(BD$2:BD$955,MATCH(ROW()-ROW($BJ$1),BC$2:BC$955,0)),"") | BL14: =+IFERROR(INDEX(BE$2:BE$955,MATCH(ROW()-ROW($BJ$1),BC$2:BC$955,0)),"") | BM14: =+IFERROR(INDEX(BF$2:BF$955,MATCH(ROW()-ROW($BJ$1),BC$2:BC$955,0)),"")
A15: =+IF(D15="","",MAX(A$1:A14)+1) | B15: =IF(Affected_Source!C37="","",Affected_Source!C37) | C15: =+IFERROR(INDEX(B$2:B$501,MATCH(ROW()-ROW($C$1),A$2:A$501,0)),"") | D15: =IF(COUNTIF(B$2:B15,B15)=1,B15,"") | E15: =IF(Affected_Source!D37="","",Affected_Source!D37) | K15: =+IF(N15="","",MAX(K$1:K14)+1) | L15: =IF(CMS_Identification!E37="","",CMS_Identification!E37) | M15: =+IFERROR(INDEX(L$2:L$501,MATCH(ROW()-ROW($M$1),K$2:K$501,0)),"") | N15: =IF(COUNTIF(L$2:L15,L15)=1,L15,"") | P15: Deviation Causes | T15: =+IF(Y15="","",MAX(T$1:T14)+1) | U15: =IF(Affected_Source!B37="","",Affected_Source!B37) | V15: =IF(Affected_Source!D37="","",Affected_Source!D37) | W15: =IF(Affected_Source!E37="","",Affected_Source!E37) | X15: =U15&V15 | Y15: =IF(COUNTIF(X$2:X15,X15)=1,X15,"") | Z15: =AA15&" "&AB15 | AA15: =+IFERROR(INDEX(U$2:U$955,MATCH(ROW()-ROW($AA$1),T$2:T$955,0)),"") | AB15: =+IFERROR(INDEX(V$2:V$955,MATCH(ROW()-ROW($AA$1),T$2:T$955,0)),"") | AC15: =+IFERROR(INDEX(W$2:W$955,MATCH(ROW()-ROW($AA$1),U$2:U$955,0)),"") | AE15: =+IF(AJ15="","",MAX(AE$1:AE14)+1) | AF15: =IF(CMS_Inoperative_OoC!B37="","",CMS_Inoperative_OoC!B37) | AG15: =IF(CMS_Inoperative_OoC!C37="","",CMS_Inoperative_OoC!C37) | AH15: =IF(CMS_Inoperative_OoC!D37="","",CMS_Inoperative_OoC!D37) | AI15: =AF15&AG15&AH15 | AJ15: =IF(COUNTIF(AI$2:AI15,AI15)=1,AI15,"") | AK15: =+IFERROR(INDEX(AF$2:AF$955,MATCH(ROW()-ROW(IE$1),AE$2:AE$955,0)),"") | AL15: =+IFERROR(INDEX(AG$2:AG$955,MATCH(ROW()-ROW(AJ$1),AE$2:AE$955,0)),"") | AM15: =+IFERROR(INDEX(AH$2:AH$955,MATCH(ROW()-ROW(AJ$1),AE$2:AE$955,0)),"") | AN15: =IF(AM15="","",VLOOKUP(AK15&AL15,$Y$2:$AC$478,5,FALSE)) | AP15: HI | AR15: =+IF(AW15="","",MAX(AR$1:AR14)+1) | AS15: =IF(Limit_Deviation_Detail!B37="","",Limit_Deviation_Detail!B37) | AT15: =IF(Limit_Deviation_Detail!C37="","",Limit_Deviation_Detail!C37) | AU15: =IF(Limit_Deviation_Detail!F37="","",Limit_Deviation_Detail!F37) | AV15: =AS15&AT15&AU15 | AW15: =IF(COUNTIF(AV$2:AV15,AV15)=1,AV15,"") | AX15: =+IFERROR(INDEX(AS$2:AS$955,MATCH(ROW()-ROW(IQ$1),AR$2:AR$955,0)),"") | AY15: =+IFERROR(INDEX(AT$2:AT$955,MATCH(ROW()-ROW(AW$1),AR$2:AR$955,0)),"") | AZ15: =+IFERROR(INDEX(AU$2:AU$955,MATCH(ROW()-ROW(AW$1),AR$2:AR$955,0)),"") | BA15: =IF(AZ15="","",VLOOKUP(AX15&AY15,$Y$2:$AC$478,5,FALSE)) | BC15: =+IF(BI15="","",MAX(BC$1:BC14)+1) | BD15: =IF(CMS_Identification!B37="","",CMS_Identification!B37) | BE15: =IF(CMS_Identification!C37="","",CMS_Identification!C37) | BF15: =IF(CMS_Identification!E37="","",CMS_Identification!E37) | BG15: =IF(Affected_Source!AL37="","",Affected_Source!AL37) | BH15: =BD15&BE15&BF15 | BI15: =IF(COUNTIF(BH$2:BH15,BH15)=1,BH15,"") | BJ15: =BK15&" "&BL15&" "&BM15 | BK15: =+IFERROR(INDEX(BD$2:BD$955,MATCH(ROW()-ROW($BJ$1),BC$2:BC$955,0)),"") | BL15: =+IFERROR(INDEX(BE$2:BE$955,MATCH(ROW()-ROW($BJ$1),BC$2:BC$955,0)),"") | BM15: =+IFERROR(INDEX(BF$2:BF$955,MATCH(ROW()-ROW($BJ$1),BC$2:BC$955,0)),"")
A16: =+IF(D16="","",MAX(A$1:A15)+1) | B16: =IF(Affected_Source!C38="","",Affected_Source!C38) | C16: =+IFERROR(INDEX(B$2:B$501,MATCH(ROW()-ROW($C$1),A$2:A$501,0)),"") | D16: =IF(COUNTIF(B$2:B16,B16)=1,B16,"") | E16: =IF(Affected_Source!D38="","",Affected_Source!D38) | K16: =+IF(N16="","",MAX(K$1:K15)+1) | L16: =IF(CMS_Identification!E38="","",CMS_Identification!E38) | M16: =+IFERROR(INDEX(L$2:L$501,MATCH(ROW()-ROW($M$1),K$2:K$501,0)),"") | N16: =IF(COUNTIF(L$2:L16,L16)=1,L16,"") | P16: Startup | T16: =+IF(Y16="","",MAX(T$1:T15)+1) | U16: =IF(Affected_Source!B38="","",Affected_Source!B38) | V16: =IF(Affected_Source!D38="","",Affected_Source!D38) | W16: =IF(Affected_Source!E38="","",Affected_Source!E38) | X16: =U16&V16 | Y16: =IF(COUNTIF(X$2:X16,X16)=1,X16,"") | Z16: =AA16&" "&AB16 | AA16: =+IFERROR(INDEX(U$2:U$955,MATCH(ROW()-ROW($AA$1),T$2:T$955,0)),"") | AB16: =+IFERROR(INDEX(V$2:V$955,MATCH(ROW()-ROW($AA$1),T$2:T$955,0)),"") | AC16: =+IFERROR(INDEX(W$2:W$955,MATCH(ROW()-ROW($AA$1),U$2:U$955,0)),"") | AE16: =+IF(AJ16="","",MAX(AE$1:AE15)+1) | AF16: =IF(CMS_Inoperative_OoC!B38="","",CMS_Inoperative_OoC!B38) | AG16: =IF(CMS_Inoperative_OoC!C38="","",CMS_Inoperative_OoC!C38) | AH16: =IF(CMS_Inoperative_OoC!D38="","",CMS_Inoperative_OoC!D38) | AI16: =AF16&AG16&AH16 | AJ16: =IF(COUNTIF(AI$2:AI16,AI16)=1,AI16,"") | AK16: =+IFERROR(INDEX(AF$2:AF$955,MATCH(ROW()-ROW(IE$1),AE$2:AE$955,0)),"") | AL16: =+IFERROR(INDEX(AG$2:AG$955,MATCH(ROW()-ROW(AJ$1),AE$2:AE$955,0)),"") | AM16: =+IFERROR(INDEX(AH$2:AH$955,MATCH(ROW()-ROW(AJ$1),AE$2:AE$955,0)),"") | AN16: =IF(AM16="","",VLOOKUP(AK16&AL16,$Y$2:$AC$478,5,FALSE)) | AP16: IA | AR16: =+IF(AW16="","",MAX(AR$1:AR15)+1) | AS16: =IF(Limit_Deviation_Detail!B38="","",Limit_Deviation_Detail!B38) | AT16: =IF(Limit_Deviation_Detail!C38="","",Limit_Deviation_Detail!C38) | AU16: =IF(Limit_Deviation_Detail!F38="","",Limit_Deviation_Detail!F38) | AV16: =AS16&AT16&AU16 | AW16: =IF(COUNTIF(AV$2:AV16,AV16)=1,AV16,"") | AX16: =+IFERROR(INDEX(AS$2:AS$955,MATCH(ROW()-ROW(IQ$1),AR$2:AR$955,0)),"") | AY16: =+IFERROR(INDEX(AT$2:AT$955,MATCH(ROW()-ROW(AW$1),AR$2:AR$955,0)),"") | AZ16: =+IFERROR(INDEX(AU$2:AU$955,MATCH(ROW()-ROW(AW$1),AR$2:AR$955,0)),"") | BA16: =IF(AZ16="","",VLOOKUP(AX16&AY16,$Y$2:$AC$478,5,FALSE)) | BC16: =+IF(BI16="","",MAX(BC$1:BC15)+1) | BD16: =IF(CMS_Identification!B38="","",CMS_Identification!B38) | BE16: =IF(CMS_Identification!C38="","",CMS_Identification!C38) | BF16: =IF(CMS_Identification!E38="","",CMS_Identification!E38) | BG16: =IF(Affected_Source!AL38="","",Affected_Source!AL38) | BH16: =BD16&BE16&BF16 | BI16: =IF(COUNTIF(BH$2:BH16,BH16)=1,BH16,"") | BJ16: =BK16&" "&BL16&" "&BM16 | BK16: =+IFERROR(INDEX(BD$2:BD$955,MATCH(ROW()-ROW($BJ$1),BC$2:BC$955,0)),"") | BL16: =+IFERROR(INDEX(BE$2:BE$955,MATCH(ROW()-ROW($BJ$1),BC$2:BC$955,0)),"") | BM16: =+IFERROR(INDEX(BF$2:BF$955,MATCH(ROW()-ROW($BJ$1),BC$2:BC$955,0)),"")
A17: =+IF(D17="","",MAX(A$1:A16)+1) | B17: =IF(Affected_Source!C39="","",Affected_Source!C39) | C17: =+IFERROR(INDEX(B$2:B$501,MATCH(ROW()-ROW($C$1),A$2:A$501,0)),"") | D17: =IF(COUNTIF(B$2:B17,B17)=1,B17,"") | E17: =IF(Affected_Source!D39="","",Affected_Source!D39) | K17: =+IF(N17="","",MAX(K$1:K16)+1) | L17: =IF(CMS_Identification!E39="","",CMS_Identification!E39) | M17: =+IFERROR(INDEX(L$2:L$501,MATCH(ROW()-ROW($M$1),K$2:K$501,0)),"") | N17: =IF(COUNTIF(L$2:L17,L17)=1,L17,"") | P17: Shutdown | R17: There were no deviations from any emission limitations that apply to this facility during the reporting period. | T17: =+IF(Y17="","",MAX(T$1:T16)+1) | U17: =IF(Affected_Source!B39="","",Affected_Source!B39) | V17: =IF(Affected_Source!D39="","",Affected_Source!D39) | W17: =IF(Affected_Source!E39="","",Affected_Source!E39) | X17: =U17&V17 | Y17: =IF(COUNTIF(X$2:X17,X17)=1,X17,"") | Z17: =AA17&" "&AB17 | AA17: =+IFERROR(INDEX(U$2:U$955,MATCH(ROW()-ROW($AA$1),T$2:T$955,0)),"") | AB17: =+IFERROR(INDEX(V$2:V$955,MATCH(ROW()-ROW($AA$1),T$2:T$955,0)),"") | AC17: =+IFERROR(INDEX(W$2:W$955,MATCH(ROW()-ROW($AA$1),U$2:U$955,0)),"") | AE17: =+IF(AJ17="","",MAX(AE$1:AE16)+1) | AF17: =IF(CMS_Inoperative_OoC!B39="","",CMS_Inoperative_OoC!B39) | AG17: =IF(CMS_Inoperative_OoC!C39="","",CMS_Inoperative_OoC!C39) | AH17: =IF(CMS_Inoperative_OoC!D39="","",CMS_Inoperative_OoC!D39) | AI17: =AF17&AG17&AH17 | AJ17: =IF(COUNTIF(AI$2:AI17,AI17)=1,AI17,"") | AK17: =+IFERROR(INDEX(AF$2:AF$955,MATCH(ROW()-ROW(IE$1),AE$2:AE$955,0)),"") | AL17: =+IFERROR(INDEX(AG$2:AG$955,MATCH(ROW()-ROW(AJ$1),AE$2:AE$955,0)),"") | AM17: =+IFERROR(INDEX(AH$2:AH$955,MATCH(ROW()-ROW(AJ$1),AE$2:AE$955,0)),"") | AN17: =IF(AM17="","",VLOOKUP(AK17&AL17,$Y$2:$AC$478,5,FALSE)) | AP17: ID | AR17: =+IF(AW17="","",MAX(AR$1:AR16)+1) | AS17: =IF(Limit_Deviation_Detail!B39="","",Limit_Deviation_Detail!B39) | AT17: =IF(Limit_Deviation_Detail!C39="","",Limit_Deviation_Detail!C39) | AU17: =IF(Limit_Deviation_Detail!F39="","",Limit_Deviation_Detail!F39) | AV17: =AS17&AT17&AU17 | AW17: =IF(COUNTIF(AV$2:AV17,AV17)=1,AV17,"") | AX17: =+IFERROR(INDEX(AS$2:AS$955,MATCH(ROW()-ROW(IQ$1),AR$2:AR$955,0)),"") | AY17: =+IFERROR(INDEX(AT$2:AT$955,MATCH(ROW()-ROW(AW$1),AR$2:AR$955,0)),"") | AZ17: =+IFERROR(INDEX(AU$2:AU$955,MATCH(ROW()-ROW(AW$1),AR$2:AR$955,0)),"") | BA17: =IF(AZ17="","",VLOOKUP(AX17&AY17,$Y$2:$AC$478,5,FALSE)) | BC17: =+IF(BI17="","",MAX(BC$1:BC16)+1) | BD17: =IF(CMS_Identification!B39="","",CMS_Identification!B39) | BE17: =IF(CMS_Identification!C39="","",CMS_Identification!C39) | BF17: =IF(CMS_Identification!E39="","",CMS_Identification!E39) | BG17: =IF(Affected_Source!AL39="","",Affected_Source!AL39) | BH17: =BD17&BE17&BF17 | BI17: =IF(COUNTIF(BH$2:BH17,BH17)=1,BH17,"") | BJ17: =BK17&" "&BL17&" "&BM17 | BK17: =+IFERROR(INDEX(BD$2:BD$955,MATCH(ROW()-ROW($BJ$1),BC$2:BC$955,0)),"") | BL17: =+IFERROR(INDEX(BE$2:BE$955,MATCH(ROW()-ROW($BJ$1),BC$2:BC$955,0)),"") | BM17: =+IFERROR(INDEX(BF$2:BF$955,MATCH(ROW()-ROW($BJ$1),BC$2:BC$955,0)),"")
A18: =+IF(D18="","",MAX(A$1:A17)+1) | B18: =IF(Affected_Source!C40="","",Affected_Source!C40) | C18: =+IFERROR(INDEX(B$2:B$501,MATCH(ROW()-ROW($C$1),A$2:A$501,0)),"") | D18: =IF(COUNTIF(B$2:B18,B18)=1,B18,"") | E18: =IF(Affected_Source!D40="","",Affected_Source!D40) | K18: =+IF(N18="","",MAX(K$1:K17)+1) | L18: =IF(CMS_Identification!E40="","",CMS_Identification!E40) | M18: =+IFERROR(INDEX(L$2:L$501,MATCH(ROW()-ROW($M$1),K$2:K$501,0)),"") | N18: =IF(COUNTIF(L$2:L18,L18)=1,L18,"") | P18: Control Equipment Problems | R18: There was a deviation from any emission limitation that applies to this facility during the reporting period. | T18: =+IF(Y18="","",MAX(T$1:T17)+1) | U18: =IF(Affected_Source!B40="","",Affected_Source!B40) | V18: =IF(Affected_Source!D40="","",Affected_Source!D40) | W18: =IF(Affected_Source!E40="","",Affected_Source!E40) | X18: =U18&V18 | Y18: =IF(COUNTIF(X$2:X18,X18)=1,X18,"") | Z18: =AA18&" "&AB18 | AA18: =+IFERROR(INDEX(U$2:U$955,MATCH(ROW()-ROW($AA$1),T$2:T$955,0)),"") | AB18: =+IFERROR(INDEX(V$2:V$955,MATCH(ROW()-ROW($AA$1),T$2:T$955,0)),"") | AC18: =+IFERROR(INDEX(W$2:W$955,MATCH(ROW()-ROW($AA$1),U$2:U$955,0)),"") | AE18: =+IF(AJ18="","",MAX(AE$1:AE17)+1) | AF18: =IF(CMS_Inoperative_OoC!B40="","",CMS_Inoperative_OoC!B40) | AG18: =IF(CMS_Inoperative_OoC!C40="","",CMS_Inoperative_OoC!C40) | AH18: =IF(CMS_Inoperative_OoC!D40="","",CMS_Inoperative_OoC!D40) | AI18: =AF18&AG18&AH18 | AJ18: =IF(COUNTIF(AI$2:AI18,AI18)=1,AI18,"") | AK18: =+IFERROR(INDEX(AF$2:AF$955,MATCH(ROW()-ROW(IE$1),AE$2:AE$955,0)),"") | AL18: =+IFERROR(INDEX(AG$2:AG$955,MATCH(ROW()-ROW(AJ$1),AE$2:AE$955,0)),"") | AM18: =+IFERROR(INDEX(AH$2:AH$955,MATCH(ROW()-ROW(AJ$1),AE$2:AE$955,0)),"") | AN18: =IF(AM18="","",VLOOKUP(AK18&AL18,$Y$2:$AC$478,5,FALSE)) | AP18: IL | AR18: =+IF(AW18="","",MAX(AR$1:AR17)+1) | AS18: =IF(Limit_Deviation_Detail!B40="","",Limit_Deviation_Detail!B40) | AT18: =IF(Limit_Deviation_Detail!C40="","",Limit_Deviation_Detail!C40) | AU18: =IF(Limit_Deviation_Detail!F40="","",Limit_Deviation_Detail!F40) | AV18: =AS18&AT18&AU18 | AW18: =IF(COUNTIF(AV$2:AV18,AV18)=1,AV18,"") | AX18: =+IFERROR(INDEX(AS$2:AS$955,MATCH(ROW()-ROW(IQ$1),AR$2:AR$955,0)),"") | AY18: =+IFERROR(INDEX(AT$2:AT$955,MATCH(ROW()-ROW(AW$1),AR$2:AR$955,0)),"") | AZ18: =+IFERROR(INDEX(AU$2:AU$955,MATCH(ROW()-ROW(AW$1),AR$2:AR$955,0)),"") | BA18: =IF(AZ18="","",VLOOKUP(AX18&AY18,$Y$2:$AC$478,5,FALSE)) | BC18: =+IF(BI18="","",MAX(BC$1:BC17)+1) | BD18: =IF(CMS_Identification!B40="","",CMS_Identification!B40) | BE18: =IF(CMS_Identification!C40="","",CMS_Identification!C40) | BF18: =IF(CMS_Identification!E40="","",CMS_Identification!E40) | BG18: =IF(Affected_Source!AL40="","",Affected_Source!AL40) | BH18: =BD18&BE18&BF18 | BI18: =IF(COUNTIF(BH$2:BH18,BH18)=1,BH18,"") | BJ18: =BK18&" "&BL18&" "&BM18 | BK18: =+IFERROR(INDEX(BD$2:BD$955,MATCH(ROW()-ROW($BJ$1),BC$2:BC$955,0)),"") | BL18: =+IFERROR(INDEX(BE$2:BE$955,MATCH(ROW()-ROW($BJ$1),BC$2:BC$955,0)),"") | BM18: =+IFERROR(INDEX(BF$2:BF$955,MATCH(ROW()-ROW($BJ$1),BC$2:BC$955,0)),"")
A19: =+IF(D19="","",MAX(A$1:A18)+1) | B19: =IF(Affected_Source!C41="","",Affected_Source!C41) | C19: =+IFERROR(INDEX(B$2:B$501,MATCH(ROW()-ROW($C$1),A$2:A$501,0)),"") | D19: =IF(COUNTIF(B$2:B19,B19)=1,B19,"") | E19: =IF(Affected_Source!D41="","",Affected_Source!D41) | K19: =+IF(N19="","",MAX(K$1:K18)+1) | L19: =IF(CMS_Identification!E41="","",CMS_Identification!E41) | M19: =+IFERROR(INDEX(L$2:L$501,MATCH(ROW()-ROW($M$1),K$2:K$501,0)),"") | N19: =IF(COUNTIF(L$2:L19,L19)=1,L19,"") | P19: Process Problems | T19: =+IF(Y19="","",MAX(T$1:T18)+1) | U19: =IF(Affected_Source!B41="","",Affected_Source!B41) | V19: =IF(Affected_Source!D41="","",Affected_Source!D41) | W19: =IF(Affected_Source!E41="","",Affected_Source!E41) | X19: =U19&V19 | Y19: =IF(COUNTIF(X$2:X19,X19)=1,X19,"") | Z19: =AA19&" "&AB19 | AA19: =+IFERROR(INDEX(U$2:U$955,MATCH(ROW()-ROW($AA$1),T$2:T$955,0)),"") | AB19: =+IFERROR(INDEX(V$2:V$955,MATCH(ROW()-ROW($AA$1),T$2:T$955,0)),"") | AC19: =+IFERROR(INDEX(W$2:W$955,MATCH(ROW()-ROW($AA$1),U$2:U$955,0)),"") | AE19: =+IF(AJ19="","",MAX(AE$1:AE18)+1) | AF19: =IF(CMS_Inoperative_OoC!B41="","",CMS_Inoperative_OoC!B41) | AG19: =IF(CMS_Inoperative_OoC!C41="","",CMS_Inoperative_OoC!C41) | AH19: =IF(CMS_Inoperative_OoC!D41="","",CMS_Inoperative_OoC!D41) | AI19: =AF19&AG19&AH19 | AJ19: =IF(COUNTIF(AI$2:AI19,AI19)=1,AI19,"") | AK19: =+IFERROR(INDEX(AF$2:AF$955,MATCH(ROW()-ROW(IE$1),AE$2:AE$955,0)),"") | AL19: =+IFERROR(INDEX(AG$2:AG$955,MATCH(ROW()-ROW(AJ$1),AE$2:AE$955,0)),"") | AM19: =+IFERROR(INDEX(AH$2:AH$955,MATCH(ROW()-ROW(AJ$1),AE$2:AE$955,0)),"") | AN19: =IF(AM19="","",VLOOKUP(AK19&AL19,$Y$2:$AC$478,5,FALSE)) | AP19: IN | AR19: =+IF(AW19="","",MAX(AR$1:AR18)+1) | AS19: =IF(Limit_Deviation_Detail!B41="","",Limit_Deviation_Detail!B41) | AT19: =IF(Limit_Deviation_Detail!C41="","",Limit_Deviation_Detail!C41) | AU19: =IF(Limit_Deviation_Detail!F41="","",Limit_Deviation_Detail!F41) | AV19: =AS19&AT19&AU19 | AW19: =IF(COUNTIF(AV$2:AV19,AV19)=1,AV19,"") | AX19: =+IFERROR(INDEX(AS$2:AS$955,MATCH(ROW()-ROW(IQ$1),AR$2:AR$955,0)),"") | AY19: =+IFERROR(INDEX(AT$2:AT$955,MATCH(ROW()-ROW(AW$1),AR$2:AR$955,0)),"") | AZ19: =+IFERROR(INDEX(AU$2:AU$955,MATCH(ROW()-ROW(AW$1),AR$2:AR$955,0)),"") | BA19: =IF(AZ19="","",VLOOKUP(AX19&AY19,$Y$2:$AC$478,5,FALSE)) | BC19: =+IF(BI19="","",MAX(BC$1:BC18)+1) | BD19: =IF(CMS_Identification!B41="","",CMS_Identification!B41) | BE19: =IF(CMS_Identification!C41="","",CMS_Identification!C41) | BF19: =IF(CMS_Identification!E41="","",CMS_Identification!E41) | BG19: =IF(Affected_Source!AL41="","",Affected_Source!AL41) | BH19: =BD19&BE19&BF19 | BI19: =IF(COUNTIF(BH$2:BH19,BH19)=1,BH19,"") | BJ19: =BK19&" "&BL19&" "&BM19 | BK19: =+IFERROR(INDEX(BD$2:BD$955,MATCH(ROW()-ROW($BJ$1),BC$2:BC$955,0)),"") | BL19: =+IFERROR(INDEX(BE$2:BE$955,MATCH(ROW()-ROW($BJ$1),BC$2:BC$955,0)),"") | BM19: =+IFERROR(INDEX(BF$2:BF$955,MATCH(ROW()-ROW($BJ$1),BC$2:BC$955,0)),"")
A20: =+IF(D20="","",MAX(A$1:A19)+1) | B20: =IF(Affected_Source!C42="","",Affected_Source!C42) | C20: =+IFERROR(INDEX(B$2:B$501,MATCH(ROW()-ROW($C$1),A$2:A$501,0)),"") | D20: =IF(COUNTIF(B$2:B20,B20)=1,B20,"") | E20: =IF(Affected_Source!D42="","",Affected_Source!D42) | K20: =+IF(N20="","",MAX(K$1:K19)+1) | L20: =IF(CMS_Identification!E42="","",CMS_Identification!E42) | M20: =+IFERROR(INDEX(L$2:L$501,MATCH(ROW()-ROW($M$1),K$2:K$501,0)),"") | N20: =IF(COUNTIF(L$2:L20,L20)=1,L20,"") | P20: Other Known Causes | R20: There were no periods during which the CMS were out-of-control during the reporting period. | T20: =+IF(Y20="","",MAX(T$1:T19)+1) | U20: =IF(Affected_Source!B42="","",Affected_Source!B42) | V20: =IF(Affected_Source!D42="","",Affected_Source!D42) | W20: =IF(Affected_Source!E42="","",Affected_Source!E42) | X20: =U20&V20 | Y20: =IF(COUNTIF(X$2:X20,X20)=1,X20,"") | Z20: =AA20&" "&AB20 | AA20: =+IFERROR(INDEX(U$2:U$955,MATCH(ROW()-ROW($AA$1),T$2:T$955,0)),"") | AB20: =+IFERROR(INDEX(V$2:V$955,MATCH(ROW()-ROW($AA$1),T$2:T$955,0)),"") | AC20: =+IFERROR(INDEX(W$2:W$955,MATCH(ROW()-ROW($AA$1),U$2:U$955,0)),"") | AE20: =+IF(AJ20="","",MAX(AE$1:AE19)+1) | AF20: =IF(CMS_Inoperative_OoC!B42="","",CMS_Inoperative_OoC!B42) | AG20: =IF(CMS_Inoperative_OoC!C42="","",CMS_Inoperative_OoC!C42) | AH20: =IF(CMS_Inoperative_OoC!D42="","",CMS_Inoperative_OoC!D42) | AI20: =AF20&AG20&AH20 | AJ20: =IF(COUNTIF(AI$2:AI20,AI20)=1,AI20,"") | AK20: =+IFERROR(INDEX(AF$2:AF$955,MATCH(ROW()-ROW(IE$1),AE$2:AE$955,0)),"") | AL20: =+IFERROR(INDEX(AG$2:AG$955,MATCH(ROW()-ROW(AJ$1),AE$2:AE$955,0)),"") | AM20: =+IFERROR(INDEX(AH$2:AH$955,MATCH(ROW()-ROW(AJ$1),AE$2:AE$955,0)),"") | AN20: =IF(AM20="","",VLOOKUP(AK20&AL20,$Y$2:$AC$478,5,FALSE)) | AP20: KS | AR20: =+IF(AW20="","",MAX(AR$1:AR19)+1) | AS20: =IF(Limit_Deviation_Detail!B42="","",Limit_Deviation_Detail!B42) | AT20: =IF(Limit_Deviation_Detail!C42="","",Limit_Deviation_Detail!C42) | AU20: =IF(Limit_Deviation_Detail!F42="","",Limit_Deviation_Detail!F42) | AV20: =AS20&AT20&AU20 | AW20: =IF(COUNTIF(AV$2:AV20,AV20)=1,AV20,"") | AX20: =+IFERROR(INDEX(AS$2:AS$955,MATCH(ROW()-ROW(IQ$1),AR$2:AR$955,0)),"") | AY20: =+IFERROR(INDEX(AT$2:AT$955,MATCH(ROW()-ROW(AW$1),AR$2:AR$955,0)),"") | AZ20: =+IFERROR(INDEX(AU$2:AU$955,MATCH(ROW()-ROW(AW$1),AR$2:AR$955,0)),"") | BA20: =IF(AZ20="","",VLOOKUP(AX20&AY20,$Y$2:$AC$478,5,FALSE)) | BC20: =+IF(BI20="","",MAX(BC$1:BC19)+1) | BD20: =IF(CMS_Identification!B42="","",CMS_Identification!B42) | BE20: =IF(CMS_Identification!C42="","",CMS_Identification!C42) | BF20: =IF(CMS_Identification!E42="","",CMS_Identification!E42) | BG20: =IF(Affected_Source!AL42="","",Affected_Source!AL42) | BH20: =BD20&BE20&BF20 | BI20: =IF(COUNTIF(BH$2:BH20,BH20)=1,BH20,"") | BJ20: =BK20&" "&BL20&" "&BM20 | BK20: =+IFERROR(INDEX(BD$2:BD$955,MATCH(ROW()-ROW($BJ$1),BC$2:BC$955,0)),"") | BL20: =+IFERROR(INDEX(BE$2:BE$955,MATCH(ROW()-ROW($BJ$1),BC$2:BC$955,0)),"") | BM20: =+IFERROR(INDEX(BF$2:BF$955,MATCH(ROW()-ROW($BJ$1),BC$2:BC$955,0)),"")
