Workbook

Sheet Sampling Plan Cover Sheet
A1: Sampling Plan Cover Sheet
A2: Building/Project Name: | B2: Building #101
A3: Owner: | B3: James Shew
A4: Date of Construction: | B4: 1960
A5: Person(s) Developing the Sampling Plan: | B5: ABC Consultants
A7: Date the Sampling Plan was Completed: | B7: October 2021
A8: Desired Conclusion:
A9: The probability that this sampling plan would detect PCBs ≥ X ppm* is at least Y** if the true underlying proportion of materials containing them were greater than or equal to Z***
A10: Write the Conclusion Probability here: Y** | B10: 0.95
A11: Write the Conclusion Proportion here: Z*** | B11: 0.05
A12: *Where 'X' is the desired threshold specification (e.g., 50 ppm, 1 ppm, or other concentration). The threshold specification is independent of the statistical assurance level used for the testing (i.e., the specification will not change the number of samples recommended for the material category to achieve the selected confidence levels).
A13: ** Where ‘Y’ is the desired conclusion probability (e.g. 90%, 95%, or 99%
A14: *** Where ‘Z’ is the desired conclusion proportion (e.g. 1%, 5%, or 10%)

Sheet Worksheet1
A1: Omitted from PCB Testing
B2: In each row, place an 'x' in columns A-C if appropriate.
B3: There is none of this material in the building | C3: Every item is documented to have PCB concentrations < X ppm. | D3: Every item can be assumed to have PCB concentrations < X ppm due to documented year and place of manufacture or installation. | E3: Every item can either be documented or assumed to have PCB concentrations < X ppm.
A4: Suspect MPP Category | B4: A | C4: B | D4: C | E4: D
A5: Suspended Ceiling Tile A | E5: {=_xlfn.IFS(B5="X", "X", C5="X", "X", D5="X", "X", TRUE,"")}
A6: Gypsum Wall Board A | E6: {=_xlfn.IFS(B6="X", "X", C6="X", "X", D6="X", "X", TRUE,"")}
A7: Carmet Mastic | E7: {=_xlfn.IFS(B7="X", "X", C7="X", "X", D7="X", "X", TRUE,"")}
A8: Thermal System Insulation | E8: {=_xlfn.IFS(B8="X", "X", C8="X", "X", D8="X", "X", TRUE,"")}
A9: Spray-on Insulation | E9: {=_xlfn.IFS(B9="X", "X", C9="X", "X", D9="X", "X", TRUE,"")}
A10: Vinyl Floor Tile | D10: X | E10: {=_xlfn.IFS(B10="X", "X", C10="X", "X", D10="X", "X", TRUE,"")} -> X
A11: Mastic | E11: {=_xlfn.IFS(B11="X", "X", C11="X", "X", D11="X", "X", TRUE,"")}
A12: Paint | E12: {=_xlfn.IFS(B12="X", "X", C12="X", "X", D12="X", "X", TRUE,"")}
A13: Covebase | D13: X | E13: {=_xlfn.IFS(B13="X", "X", C13="X", "X", D13="X", "X", TRUE,"")} -> X
A14: Suspended Ceiling Tile B | D14: X | E14: {=_xlfn.IFS(B14="X", "X", C14="X", "X", D14="X", "X", TRUE,"")} -> X
A15: Replacement Window Caulking | E15: {=_xlfn.IFS(B15="X", "X", C15="X", "X", D15="X", "X", TRUE,"")}
A16: Flue Connector | E16: {=_xlfn.IFS(B16="X", "X", C16="X", "X", D16="X", "X", TRUE,"")}
A17: Adhesive | E17: {=_xlfn.IFS(B17="X", "X", C17="X", "X", D17="X", "X", TRUE,"")}
A18: Sink Undercoating A | E18: {=_xlfn.IFS(B18="X", "X", C18="X", "X", D18="X", "X", TRUE,"")}
A19: Suspended Ceiling Tile C | E19: {=_xlfn.IFS(B19="X", "X", C19="X", "X", D19="X", "X", TRUE,"")}
A20: Sink Undercoating B | D20: X | E20: {=_xlfn.IFS(B20="X", "X", C20="X", "X", D20="X", "X", TRUE,"")} -> X
A21: Fire Stop Caulk | E21: {=_xlfn.IFS(B21="X", "X", C21="X", "X", D21="X", "X", TRUE,"")}
A22: Gypsum Wall Board B | D22: X | E22: {=_xlfn.IFS(B22="X", "X", C22="X", "X", D22="X", "X", TRUE,"")} -> X
A23: Expansion Joint Caulking | E23: {=_xlfn.IFS(B23="X", "X", C23="X", "X", D23="X", "X", TRUE,"")}
A24: Dust Seam Sealant | D24: X | E24: {=_xlfn.IFS(B24="X", "X", C24="X", "X", D24="X", "X", TRUE,"")} -> X
A26: NCT= | B26: =COUNTIF(E5:E24,"") -> 14

Sheet Worksheet2
A1: Items that May Contain PCBs >/=50ppm
A2: Not Omitted from PCB Testing
F3: Population: Total number of items in this suspect MPP category in the building | G3: Number that are documented to have PCB concentrations < X ppm. | H3: Number that can be assumed to have PCB concentrations < X ppm due to documented year and place of manufacture or installation. | I3: Sampling Frame: Total number of items in this suspect MPP category that cannot be documented or assumed to have PCB concentrations < X ppm. (H = E - F - G)
A4: Suspect MPP Category | F4: E | G4: F | H4: G | I4: H
A5: {=_xlfn._xlws.FILTER(Worksheet1!A5:E24,Worksheet1!E5:E24="","X")} -> Suspended Ceiling Tile A | B5: 0 | C5: 0 | D5: 0 | F5: 184 | I5: =F5-G5-H5 -> 184
A6: Gypsum Wall Board A | B6: 0 | C6: 0 | D6: 0 | F6: 199 | I6: =F6-G6-H6 -> 199
A7: Carmet Mastic | B7: 0 | C7: 0 | D7: 0 | F7: 16 | I7: =F7-G7-H7 -> 16
A8: Thermal System Insulation | B8: 0 | C8: 0 | D8: 0 | F8: 25 | I8: =F8-G8-H8 -> 25
A9: Spray-on Insulation | B9: 0 | C9: 0 | D9: 0 | F9: 15 | I9: =F9-G9-H9 -> 15
A10: Mastic | B10: 0 | C10: 0 | D10: 0 | F10: 109 | I10: =F10-G10-H10 -> 109
A11: Paint | B11: 0 | C11: 0 | D11: 0 | F11: 62 | I11: =F11-G11-H11 -> 62
A12: Replacement Window Caulking | B12: 0 | C12: 0 | D12: 0 | F12: 144 | I12: =F12-G12-H12 -> 144
A13: Flue Connector | B13: 0 | C13: 0 | D13: 0 | F13: 15 | I13: =F13-G13-H13 -> 15
A14: Adhesive | B14: 0 | C14: 0 | D14: 0 | F14: 8 | I14: =F14-G14-H14 -> 8
A15: Sink Undercoating A | B15: 0 | C15: 0 | D15: 0 | F15: 6 | I15: =F15-G15-H15 -> 6
A16: Suspended Ceiling Tile C | B16: 0 | C16: 0 | D16: 0 | F16: 88 | I16: =F16-G16-H16 -> 88
A17: Fire Stop Caulk | B17: 0 | C17: 0 | D17: 0 | F17: 14 | I17: =F17-G17-H17 -> 14
A18: Expansion Joint Caulking | B18: 0 | C18: 0 | D18: 0 | F18: 46 | I18: =F18-G18-H18 -> 46
I19: =F19-G19-H19 -> 0
I20: =F20-G20-H20 -> 0
I21: =F21-G21-H21 -> 0
I22: =F22-G22-H22 -> 0

Sheet Worksheet3
A1: Items that May Contain PCBs >/=50ppm
A2: Not Omitted from PCB Testing
F3: Proportion of items in this suspect MPP category for which results are not currently known (I=H/E) | G3: ="Sample Size Based Statistical Distribution& NCT= "& F24 -> Sample Size Based Statistical Distribution& NCT= 14 | H3: Preliminary expected number of suspect MPP items that will need to be tested (K=JxI)
A4: Suspect MPP Category | F4: I | G4: J | H4: K
A5: {=_xlfn._xlws.FILTER(Worksheet1!A5:E24,Worksheet1!E5:E24="","X")} -> Suspended Ceiling Tile A | B5: 0 | C5: 0 | D5: 0 | F5: =Worksheet2!I5/Worksheet2!F5 -> 1 | G5: =_xlfn.IFNA(SampleSizeCalc!B6,Worksheet2!I5) -> 84 | H5: =CEILING(G5*F5,1) -> 84
A6: Gypsum Wall Board A | B6: 0 | C6: 0 | D6: 0 | F6: =Worksheet2!I6/Worksheet2!F6 -> 1 | G6: =_xlfn.IFNA(SampleSizeCalc!B7,Worksheet2!I6) -> 91 | H6: =CEILING(G6*F6,1) -> 91
A7: Carmet Mastic | B7: 0 | C7: 0 | D7: 0 | F7: =Worksheet2!I7/Worksheet2!F7 -> 1 | G7: =_xlfn.IFNA(SampleSizeCalc!B8,Worksheet2!I7) -> 16 | H7: =CEILING(G7*F7,1) -> 16
A8: Thermal System Insulation | B8: 0 | C8: 0 | D8: 0 | F8: =Worksheet2!I8/Worksheet2!F8 -> 1 | G8: =_xlfn.IFNA(SampleSizeCalc!B9,Worksheet2!I8) -> 25 | H8: =CEILING(G8*F8,1) -> 25
A9: Spray-on Insulation | B9: 0 | C9: 0 | D9: 0 | F9: =Worksheet2!I9/Worksheet2!F9 -> 1 | G9: =_xlfn.IFNA(SampleSizeCalc!B10,Worksheet2!I9) -> 15 | H9: =CEILING(G9*F9,1) -> 15
A10: Mastic | B10: 0 | C10: 0 | D10: 0 | F10: =Worksheet2!I10/Worksheet2!F10 -> 1 | G10: =_xlfn.IFNA(SampleSizeCalc!B11,Worksheet2!I10) -> 73 | H10: =CEILING(G10*F10,1) -> 73
A11: Paint | B11: 0 | C11: 0 | D11: 0 | F11: =Worksheet2!I11/Worksheet2!F11 -> 1 | G11: =_xlfn.IFNA(SampleSizeCalc!B12,Worksheet2!I11) -> 52 | H11: =CEILING(G11*F11,1) -> 52
A12: Replacement Window Caulking | B12: 0 | C12: 0 | D12: 0 | F12: =Worksheet2!I12/Worksheet2!F12 -> 1 | G12: =_xlfn.IFNA(SampleSizeCalc!B13,Worksheet2!I12) -> 78 | H12: =CEILING(G12*F12,1) -> 78
A13: Flue Connector | B13: 0 | C13: 0 | D13: 0 | F13: =Worksheet2!I13/Worksheet2!F13 -> 1 | G13: =_xlfn.IFNA(SampleSizeCalc!B14,Worksheet2!I13) -> 15 | H13: =CEILING(G13*F13,1) -> 15
A14: Adhesive | B14: 0 | C14: 0 | D14: 0 | F14: =Worksheet2!I14/Worksheet2!F14 -> 1 | G14: =_xlfn.IFNA(SampleSizeCalc!B15,Worksheet2!I14) -> 8 | H14: =CEILING(G14*F14,1) -> 8
A15: Sink Undercoating A | B15: 0 | C15: 0 | D15: 0 | F15: =Worksheet2!I15/Worksheet2!F15 -> 1 | G15: =_xlfn.IFNA(SampleSizeCalc!B16,Worksheet2!I15) -> 6 | H15: =CEILING(G15*F15,1) -> 6
A16: Suspended Ceiling Tile C | B16: 0 | C16: 0 | D16: 0 | F16: =Worksheet2!I16/Worksheet2!F16 -> 1 | G16: =_xlfn.IFNA(SampleSizeCalc!B17,Worksheet2!I16) -> 66 | H16: =CEILING(G16*F16,1) -> 66
A17: Fire Stop Caulk | B17: 0 | C17: 0 | D17: 0 | F17: =Worksheet2!I17/Worksheet2!F17 -> 1 | G17: =_xlfn.IFNA(SampleSizeCalc!B18,Worksheet2!I17) -> 14 | H17: =CEILING(G17*F17,1) -> 14
A18: Expansion Joint Caulking | B18: 0 | C18: 0 | D18: 0 | F18: =Worksheet2!I18/Worksheet2!F18 -> 1 | G18: =_xlfn.IFNA(SampleSizeCalc!B19,Worksheet2!I18) -> 43 | H18: =CEILING(G18*F18,1) -> 43
F19: =Worksheet2!I19/Worksheet2!F19 -> #DIV/0! | G19: =SampleSizeCalc!B20 -> #N/A | H19: =CEILING(G19*F19,1) -> #N/A
F20: =Worksheet2!I20/Worksheet2!F20 -> #DIV/0! | G20: =SampleSizeCalc!B21 -> #N/A | H20: =CEILING(G20*F20,1) -> #N/A
F21: =Worksheet2!I21/Worksheet2!F21 -> #DIV/0! | G21: =SampleSizeCalc!B22 -> #N/A | H21: =CEILING(G21*F21,1) -> #N/A
F22: =Worksheet2!I22/Worksheet2!F22 -> #DIV/0! | G22: =SampleSizeCalc!B23 -> #N/A | H22: =CEILING(G22*F22,1) -> #N/A
A24: NCT (From Worksheet1) = | F24: =Worksheet1!B26 -> 14

Sheet Worksheet4
A1: Sample Size for PCB Testing
B2: Enter an 'X' here if J is "ALL" or if K>H or if K is close enough to H that you wish to test all items in H to reduce the number of suspect MPP categories for sampling (NCS) | C2: Sample size based on NCS (statistically calculated)
A3: Suspect MPP Category | B3: L | C3: M
A4: {=_xlfn._xlws.FILTER(Worksheet1!A5:A24,Worksheet1!E5:E24="","X")} -> Suspended Ceiling Tile A | B4: =IF(OR(Worksheet3!G5=Worksheet2!I5,Worksheet3!H5>Worksheet2!I5),"X","") | C4: =_xlfn.IFNA(SampleSizeCalc!B31,Worksheet3!G5) -> 77
A5: Gypsum Wall Board A | B5: =IF(OR(Worksheet3!G6=Worksheet2!I6,Worksheet3!H6>Worksheet2!I6),"X","") | C5: =_xlfn.IFNA(SampleSizeCalc!B32,Worksheet3!G6) -> 83
A6: Carmet Mastic | B6: =IF(OR(Worksheet3!G7=Worksheet2!I7,Worksheet3!H7>Worksheet2!I7),"X","") -> X | C6: =_xlfn.IFNA(SampleSizeCalc!B33,Worksheet3!G7) -> 16
A7: Thermal System Insulation | B7: =IF(OR(Worksheet3!G8=Worksheet2!I8,Worksheet3!H8>Worksheet2!I8),"X","") -> X | C7: =_xlfn.IFNA(SampleSizeCalc!B34,Worksheet3!G8) -> 25
A8: Spray-on Insulation | B8: =IF(OR(Worksheet3!G9=Worksheet2!I9,Worksheet3!H9>Worksheet2!I9),"X","") -> X | C8: =_xlfn.IFNA(SampleSizeCalc!B35,Worksheet3!G9) -> 15
A9: Mastic | B9: =IF(OR(Worksheet3!G10=Worksheet2!I10,Worksheet3!H10>Worksheet2!I10),"X","") | C9: =_xlfn.IFNA(SampleSizeCalc!B36,Worksheet3!G10) -> 68
A10: Paint | B10: =IF(OR(Worksheet3!G11=Worksheet2!I11,Worksheet3!H11>Worksheet2!I11),"X","") | C10: =_xlfn.IFNA(SampleSizeCalc!B37,Worksheet3!G11) -> 50
A11: Replacement Window Caulking | B11: =IF(OR(Worksheet3!G12=Worksheet2!I12,Worksheet3!H12>Worksheet2!I12),"X","") | C11: =_xlfn.IFNA(SampleSizeCalc!B38,Worksheet3!G12) -> 72
A12: Flue Connector | B12: =IF(OR(Worksheet3!G13=Worksheet2!I13,Worksheet3!H13>Worksheet2!I13),"X","") -> X | C12: =_xlfn.IFNA(SampleSizeCalc!B39,Worksheet3!G13) -> 15
A13: Adhesive | B13: =IF(OR(Worksheet3!G14=Worksheet2!I14,Worksheet3!H14>Worksheet2!I14),"X","") -> X | C13: =_xlfn.IFNA(SampleSizeCalc!B40,Worksheet3!G14) -> 8
A14: Sink Undercoating A | B14: =IF(OR(Worksheet3!G15=Worksheet2!I15,Worksheet3!H15>Worksheet2!I15),"X","") -> X | C14: =_xlfn.IFNA(SampleSizeCalc!B41,Worksheet3!G15) -> 6
A15: Suspended Ceiling Tile C | B15: =IF(OR(Worksheet3!G16=Worksheet2!I16,Worksheet3!H16>Worksheet2!I16),"X","") | C15: =_xlfn.IFNA(SampleSizeCalc!B42,Worksheet3!G16) -> 62
A16: Fire Stop Caulk | B16: =IF(OR(Worksheet3!G17=Worksheet2!I17,Worksheet3!H17>Worksheet2!I17),"X","") -> X | C16: =_xlfn.IFNA(SampleSizeCalc!B43,Worksheet3!G17) -> 14
A17: Expansion Joint Caulking | B17: =IF(OR(Worksheet3!G18=Worksheet2!I18,Worksheet3!H18>Worksheet2!I18),"X","") | C17: =_xlfn.IFNA(SampleSizeCalc!B44,Worksheet3!G18) -> 42
B18: =IF(OR(Worksheet3!G19=Worksheet2!I19,Worksheet3!H19>Worksheet2!I19),"X","") -> #N/A | C18: =_xlfn.IFNA(SampleSizeCalc!B45,Worksheet3!G19) -> #N/A
B19: =IF(OR(Worksheet3!G20=Worksheet2!I20,Worksheet3!H20>Worksheet2!I20),"X","") -> #N/A | C19: =_xlfn.IFNA(SampleSizeCalc!B46,Worksheet3!G20) -> #N/A
B20: =IF(OR(Worksheet3!G21=Worksheet2!I21,Worksheet3!H21>Worksheet2!I21),"X","") -> #N/A | C20: =_xlfn.IFNA(SampleSizeCalc!B47,Worksheet3!G21) -> #N/A
B21: =IF(OR(Worksheet3!G22=Worksheet2!I22,Worksheet3!H22>Worksheet2!I22),"X","") -> #N/A | C21: =_xlfn.IFNA(SampleSizeCalc!B48,Worksheet3!G22) -> #N/A
A23: NCT (from Worksheet 1) = | B23: =Worksheet1!B26 -> 14
A24: Number of suspect MPP Categories for Census Testing (NCC) (equivalent to the number marked with 'X' in column L)= | B24: =COUNTIF(B4:B22,"X") -> 7
A25: If NCC equals zero (ie- there are no 'X' in Column L), STOP. The sample sizes in column J comprise your sampling plan. Column M in this case should reflect Colum H in Worksheet 2.
A26: Number of Suspect MPP Categories to Sample (NCS) = | B26: =B23-B24 -> 7
A27: If NCC>0 and NCS>0, then a new sample size will be calculated automatically by this sheet. Alternatively, you may use the values in Worksheet 2 where the "Number of Categories" = Number of Categories to Sample (NCS). This sample size based on NCS will be based on column H to give the value of the new sample size, which is auto-calculated in column M. These sample sizes will be as small as or smaller than those in column J.

Sheet SampleSizeCalc
A1: Calculation for Worksheet 3
A2: NCT | B2: =Worksheet3!F24 -> 14
A3: Alpha | B3: =1-(1-'Sampling Plan Cover Sheet'!B10)/B2 -> 0.99642857
A5: Column H | B5: J | C5: Sample Size | D5: 1 | E5: 2 | F5: 3 | G5: 4 | H5: 5 | I5: 6 | J5: 7 | K5: 8 | L5: 9 | M5: 10 | N5: 11 | O5: 12 | P5: 13 | Q5: 14 | R5: 15 | S5: 16 | T5: 17 | U5: 18 | V5: 19 | W5: 20 | X5: 21 | Y5: 22 | Z5: 23 | AA5: 24 | AB5: 25 | AC5: 26 | AD5: 27 | AE5: 28 | AF5: 29 | AG5: 30 | AH5: 31 | AI5: 32 | AJ5: 33 | AK5: 34 | AL5: 35 | AM5: 36 | AN5: 37 | AO5: 38 | AP5: 39 | AQ5: 40 | AR5: 41 | AS5: 42 | AT5: 43 | AU5: 44 | AV5: 45 | AW5: 46 | AX5: 47 | AY5: 48 | AZ5: 49 | BA5: 50 | BB5: 51 | BC5: 52 | BD5: 53 | BE5: 54 | BF5: 55 | BG5: 56 | BH5: 57 | BI5: 58 | BJ5: 59 | BK5: 60 | BL5: 61 | BM5: 62 | BN5: 63 | BO5: 64 | BP5: 65 | BQ5: 66 | BR5: 67 | BS5: 68 | BT5: 69 | BU5: 70 | BV5: 71 | BW5: 72 | BX5: 73 | BY5: 74 | BZ5: 75 | CA5: 76 | CB5: 77 | CC5: 78 | CD5: 79 | CE5: 80 | CF5: 81 | CG5: 82 | CH5: 83 | CI5: 84 | CJ5: 85 | CK5: 86 | CL5: 87 | CM5: 88 | CN5: 89 | CO5: 90 | CP5: 91 | CQ5: 92 | CR5: 93 | CS5: 94 | CT5: 95 | CU5: 96 | CV5: 97 | CW5: 98 | CX5: 99 | CY5: 100 | CZ5: 101 | DA5: 102 | DB5: 103 | DC5: 104 | DD5: 105 | DE5: 106 | DF5: 107 | DG5: 108 | DH5: 109 | DI5: 110 | DJ5: 111 | DK5: 112 | DL5: 113 | DM5: 114 | DN5: 115 | DO5: 116 | DP5: 117 | DQ5: 118 | DR5: 119 | DS5: 120 | DT5: 121 | DU5: 122 | DV5: 123 | DW5: 124 | DX5: 125 | DY5: 126 | DZ5: 127 | EA5: 128 | EB5: 129 | EC5: 130 | ED5: 131 | EE5: 132 | EF5: 133 | EG5: 134 | EH5: 135 | EI5: 136 | EJ5: 137 | EK5: 138 | EL5: 139 | EM5: 140 | EN5: 141 | EO5: 142 | EP5: 143 | EQ5: 144 | ER5: 145 | ES5: 146 | ET5: 147 | EU5: 148 | EV5: 149 | EW5: 150 | EX5: 151 | EY5: 152 | EZ5: 153 | FA5: 154 | FB5: 155 | FC5: 156 | FD5: 157 | FE5: 158 | FF5: 159 | FG5: 160 | FH5: 161 | FI5: 162 | FJ5: 163 | FK5: 164 | FL5: 165 | FM5: 166 | FN5: 167 | FO5: 168 | FP5: 169 | FQ5: 170 | FR5: 171 | FS5: 172 | FT5: 173 | FU5: 174 | FV5: 175 | FW5: 176 | FX5: 177 | FY5: 178 | FZ5: 179 | GA5: 180 | GB5: 181 | GC5: 182 | GD5: 183 | GE5: 184 | GF5: 185 | GG5: 186 | GH5: 187 | GI5: 188 | GJ5: 189 | GK5: 190 | GL5: 191 | GM5: 192 | GN5: 193 | GO5: 194 | GP5: 195 | GQ5: 196 | GR5: 197 | GS5: 198 | GT5: 199 | GU5: 200 | GV5: 201 | GW5: 202 | GX5: 203 | GY5: 204 | GZ5: 205 | HA5: 206 | HB5: 207 | HC5: 208 | HD5: 209 | HE5: 210 | HF5: 211 | HG5: 212 | HH5: 213 | HI5: 214 | HJ5: 215 | HK5: 216 | HL5: 217 | HM5: 218 | HN5: 219 | HO5: 220 | HP5: 221 | HQ5: 222 | HR5: 223 | HS5: 224 | HT5: 225 | HU5: 226 | HV5: 227 | HW5: 228 | HX5: 229 | HY5: 230 | HZ5: 231 | IA5: 232 | IB5: 233 | IC5: 234 | ID5: 235 | IE5: 236 | IF5: 237 | IG5: 238 | IH5: 239 | II5: 240 | IJ5: 241 | IK5: 242 | IL5: 243 | IM5: 244 | IN5: 245 | IO5: 246 | IP5: 247 | IQ5: 248 | IR5: 249 | IS5: 250 | IT5: 251 | IU5: 252 | IV5: 253 | IW5: 254 | IX5: 255 | IY5: 256 | IZ5: 257 | JA5: 258 | JB5: 259 | JC5: 260 | JD5: 261 | JE5: 262 | JF5: 263 | JG5: 264 | JH5: 265 | JI5: 266 | JJ5: 267 | JK5: 268 | JL5: 269 | JM5: 270 | JN5: 271 | JO5: 272 | JP5: 273 | JQ5: 274 | JR5: 275 | JS5: 276 | JT5: 277 | JU5: 278 | JV5: 279 | JW5: 280 | JX5: 281 | JY5: 282 | JZ5: 283 | KA5: 284 | KB5: 285 | KC5: 286 | KD5: 287 | KE5: 288 | KF5: 289 | KG5: 290 | KH5: 291 | KI5: 292 | KJ5: 293 | KK5: 294 | KL5: 295 | KM5: 296 | KN5: 297 | KO5: 298 | KP5: 299 | KQ5: 300 | KR5: 301 | KS5: 302 | KT5: 303 | KU5: 304 | KV5: 305 | KW5: 306 | KX5: 307 | KY5: 308 | KZ5: 309 | LA5: 310 | LB5: 311 | LC5: 312 | LD5: 313 | LE5: 314 | LF5: 315 | LG5: 316 | LH5: 317 | LI5: 318 | LJ5: 319 | LK5: 320 | LL5: 321 | LM5: 322 | LN5: 323 | LO5: 324 | LP5: 325 | LQ5: 326 | LR5: 327 | LS5: 328 | LT5: 329 | LU5: 330 | LV5: 331 | LW5: 332 | LX5: 333 | LY5: 334 | LZ5: 335 | MA5: 336 | MB5: 337 | MC5: 338 | MD5: 339 | ME5: 340 | MF5: 341 | MG5: 342 | MH5: 343 | MI5: 344 | MJ5: 345 | MK5: 346 | ML5: 347 | MM5: 348 | MN5: 349 | MO5: 350 | MP5: 351 | MQ5: 352 | MR5: 353 | MS5: 354 | MT5: 355 | MU5: 356 | MV5: 357 | MW5: 358 | MX5: 359 | MY5: 360 | MZ5: 361 | NA5: 362 | NB5: 363 | NC5: 364 | ND5: 365 | NE5: 366 | NF5: 367 | NG5: 368 | NH5: 369 | NI5: 370 | NJ5: 371 | NK5: 372 | NL5: 373 | NM5: 374 | NN5: 375 | NO5: 376 | NP5: 377 | NQ5: 378 | NR5: 379 | NS5: 380 | NT5: 381 | NU5: 382 | NV5: 383 | NW5: 384 | NX5: 385 | NY5: 386 | NZ5: 387 | OA5: 388 | OB5: 389 | OC5: 390 | OD5: 391 | OE5: 392 | OF5: 393 | OG5: 394 | OH5: 395 | OI5: 396 | OJ5: 397 | OK5: 398 | OL5: 399 | OM5: 400 | ON5: 401 | OO5: 402 | OP5: 403 | OQ5: 404 | OR5: 405 | OS5: 406 | OT5: 407 | OU5: 408 | OV5: 409 | OW5: 410 | OX5: 411 | OY5: 412 | OZ5: 413 | PA5: 414 | PB5: 415 | PC5: 416 | PD5: 417 | PE5: 418 | PF5: 419 | PG5: 420 | PH5: 421 | PI5: 422 | PJ5: 423 | PK5: 424 | PL5: 425 | PM5: 426 | PN5: 427 | PO5: 428 | PP5: 429 | PQ5: 430 | PR5: 431 | PS5: 432 | PT5: 433 | PU5: 434 | PV5: 435 | PW5: 436 | PX5: 437 | PY5: 438 | PZ5: 439 | QA5: 440 | QB5: 441 | QC5: 442 | QD5: 443 | QE5: 444 | QF5: 445 | QG5: 446 | QH5: 447 | QI5: 448 | QJ5: 449 | QK5: 450 | QL5: 451 | QM5: 452 | QN5: 453 | QO5: 454 | QP5: 455 | QQ5: 456 | QR5: 457 | QS5: 458 | QT5: 459 | QU5: 460 | QV5: 461 | QW5: 462 | QX5: 463 | QY5: 464 | QZ5: 465 | RA5: 466 | RB5: 467 | RC5: 468 | RD5: 469 | RE5: 470 | RF5: 471 | RG5: 472 | RH5: 473 | RI5: 474 | RJ5: 475 | RK5: 476 | RL5: 477 | RM5: 478 | RN5: 479 | RO5: 480 | RP5: 481 | RQ5: 482 | RR5: 483 | RS5: 484 | RT5: 485 | RU5: 486 | RV5: 487 | RW5: 488 | RX5: 489 | RY5: 490 | RZ5: 491 | SA5: 492 | SB5: 493 | SC5: 494 | SD5: 495 | SE5: 496 | SF5: 497 | SG5: 498 | SH5: 499 | SI5: 500 | SJ5: 501 | SK5: 502 | SL5: 503 | SM5: 504 | SN5: 505 | SO5: 506 | SP5: 507 | SQ5: 508 | SR5: 509 | SS5: 510 | ST5: 511 | SU5: 512 | SV5: 513 | SW5: 514 | SX5: 515 | SY5: 516 | SZ5: 517 | TA5: 518 | TB5: 519 | TC5: 520 | TD5: 521 | TE5: 522 | TF5: 523 | TG5: 524 | TH5: 525 | TI5: 526 | TJ5: 527 | TK5: 528 | TL5: 529 | TM5: 530 | TN5: 531 | TO5: 532 | TP5: 533 | TQ5: 534 | TR5: 535 | TS5: 536 | TT5: 537 | TU5: 538 | TV5: 539 | TW5: 540 | TX5: 541 | TY5: 542 | TZ5: 543 | UA5: 544 | UB5: 545 | UC5: 546 | UD5: 547 | UE5: 548 | UF5: 549 | UG5: 550 | UH5: 551 | UI5: 552 | UJ5: 553 | UK5: 554 | UL5: 555 | UM5: 556 | UN5: 557 | UO5: 558 | UP5: 559 | UQ5: 560 | UR5: 561 | US5: 562 | UT5: 563 | UU5: 564 | UV5: 565 | UW5: 566 | UX5: 567 | UY5: 568 | UZ5: 569 | VA5: 570 | VB5: 571 | VC5: 572 | VD5: 573 | VE5: 574 | VF5: 575 | VG5: 576 | VH5: 577 | VI5: 578 | VJ5: 579 | VK5: 580 | VL5: 581 | VM5: 582 | VN5: 583 | VO5: 584 | VP5: 585 | VQ5: 586 | VR5: 587 | VS5: 588 | VT5: 589 | VU5: 590 | VV5: 591 | VW5: 592 | VX5: 593 | VY5: 594 | VZ5: 595 | WA5: 596 | WB5: 597 | WC5: 598 | WD5: 599 | WE5: 600 | WF5: 601 | WG5: 602 | WH5: 603 | WI5: 604 | WJ5: 605 | WK5: 606 | WL5: 607 | WM5: 608 | WN5: 609 | WO5: 610 | WP5: 611 | WQ5: 612 | WR5: 613 | WS5: 614 | WT5: 615 | WU5: 616 | WV5: 617 | WW5: 618 | WX5: 619 | WY5: 620 | WZ5: 621 | XA5: 622 | XB5: 623 | XC5: 624 | XD5: 625 | XE5: 626 | XF5: 627 | XG5: 628 | XH5: 629 | XI5: 630 | XJ5: 631 | XK5: 632 | XL5: 633 | XM5: 634 | XN5: 635 | XO5: 636 | XP5: 637 | XQ5: 638 | XR5: 639 | XS5: 640 | XT5: 641 | XU5: 642 | XV5: 643 | XW5: 644 | XX5: 645 | XY5: 646 | XZ5: 647 | YA5: 648 | YB5: 649 | YC5: 650 | YD5: 651 | YE5: 652 | YF5: 653 | YG5: 654 | YH5: 655 | YI5: 656 | YJ5: 657 | YK5: 658 | YL5: 659 | YM5: 660 | YN5: 661 | YO5: 662 | YP5: 663 | YQ5: 664 | YR5: 665 | YS5: 666 | YT5: 667 | YU5: 668 | YV5: 669 | YW5: 670 | YX5: 671 | YY5: 672 | YZ5: 673 | ZA5: 674 | ZB5: 675 | ZC5: 676 | ZD5: 677 | ZE5: 678 | ZF5: 679 | ZG5: 680 | ZH5: 681 | ZI5: 682 | ZJ5: 683 | ZK5: 684 | ZL5: 685 | ZM5: 686 | ZN5: 687 | ZO5: 688 | ZP5: 689 | ZQ5: 690 | ZR5: 691 | ZS5: 692 | ZT5: 693 | ZU5: 694 | ZV5: 695 | ZW5: 696 | ZX5: 697 | ZY5: 698 | ZZ5: 699 | AAA5: 700 | AAB5: 701 | AAC5: 702 | AAD5: 703 | AAE5: 704 | AAF5: 705 | AAG5: 706 | AAH5: 707 | AAI5: 708 | AAJ5: 709 | AAK5: 710 | AAL5: 711 | AAM5: 712 | AAN5: 713 | AAO5: 714 | AAP5: 715 | AAQ5: 716 | AAR5: 717 | AAS5: 718 | AAT5: 719 | AAU5: 720 | AAV5: 721 | AAW5: 722 | AAX5: 723 | AAY5: 724 | AAZ5: 725 | ABA5: 726 | ABB5: 727 | ABC5: 728 | ABD5: 729 | ABE5: 730 | ABF5: 731 | ABG5: 732 | ABH5: 733 | ABI5: 734 | ABJ5: 735 | ABK5: 736 | ABL5: 737 | ABM5: 738 | ABN5: 739 | ABO5: 740 | ABP5: 741 | ABQ5: 742 | ABR5: 743 | ABS5: 744 | ABT5: 745 | ABU5: 746 | ABV5: 747 | ABW5: 748 | ABX5: 749 | ABY5: 750 | ABZ5: 751 | ACA5: 752 | ACB5: 753 | ACC5: 754 | ACD5: 755 | ACE5: 756 | ACF5: 757 | ACG5: 758 | ACH5: 759 | ACI5: 760 | ACJ5: 761 | ACK5: 762 | ACL5: 763 | ACM5: 764 | ACN5: 765 | ACO5: 766 | ACP5: 767 | ACQ5: 768 | ACR5: 769 | ACS5: 770 | ACT5: 771 | ACU5: 772 | ACV5: 773 | ACW5: 774 | ACX5: 775 | ACY5: 776 | ACZ5: 777 | ADA5: 778 | ADB5: 779 | ADC5: 780 | ADD5: 781 | ADE5: 782 | ADF5: 783 | ADG5: 784 | ADH5: 785 | ADI5: 786 | ADJ5: 787 | ADK5: 788 | ADL5: 789 | ADM5: 790 | ADN5: 791 | ADO5: 792 | ADP5: 793 | ADQ5: 794 | ADR5: 795 | ADS5: 796 | ADT5: 797 | ADU5: 798 | ADV5: 799 | ADW5: 800 | ADX5: 801 | ADY5: 802 | ADZ5: 803 | AEA5: 804 | AEB5: 805 | AEC5: 806 | AED5: 807 | AEE5: 808 | AEF5: 809 | AEG5: 810 | AEH5: 811 | AEI5: 812 | AEJ5: 813 | AEK5: 814 | AEL5: 815 | AEM5: 816 | AEN5: 817 | AEO5: 818 | AEP5: 819 | AEQ5: 820 | AER5: 821 | AES5: 822 | AET5: 823 | AEU5: 824 | AEV5: 825 | AEW5: 826 | AEX5: 827 | AEY5: 828 | AEZ5: 829 | AFA5: 830 | AFB5: 831 | AFC5: 832 | AFD5: 833 | AFE5: 834 | AFF5: 835 | AFG5: 836 | AFH5: 837 | AFI5: 838 | AFJ5: 839 | AFK5: 840 | AFL5: 841 | AFM5: 842 | AFN5: 843 | AFO5: 844 | AFP5: 845 | AFQ5: 846 | AFR5: 847 | AFS5: 848 | AFT5: 849 | AFU5: 850 | AFV5: 851 | AFW5: 852 | AFX5: 853 | AFY5: 854 | AFZ5: 855 | AGA5: 856 | AGB5: 857 | AGC5: 858 | AGD5: 859 | AGE5: 860 | AGF5: 861 | AGG5: 862 | AGH5: 863 | AGI5: 864 | AGJ5: 865 | AGK5: 866 | AGL5: 867 | AGM5: 868 | AGN5: 869 | AGO5: 870 | AGP5: 871 | AGQ5: 872 | AGR5: 873 | AGS5: 874 | AGT5: 875 | AGU5: 876 | AGV5: 877 | AGW5: 878 | AGX5: 879 | AGY5: 880 | AGZ5: 881 | AHA5: 882 | AHB5: 883 | AHC5: 884 | AHD5: 885 | AHE5: 886 | AHF5: 887 | AHG5: 888 | AHH5: 889 | AHI5: 890 | AHJ5: 891 | AHK5: 892 | AHL5: 893 | AHM5: 894 | AHN5: 895 | AHO5: 896 | AHP5: 897 | AHQ5: 898 | AHR5: 899 | AHS5: 900 | AHT5: 901 | AHU5: 902 | AHV5: 903 | AHW5: 904 | AHX5: 905 | AHY5: 906 | AHZ5: 907 | AIA5: 908 | AIB5: 909 | AIC5: 910 | AID5: 911 | AIE5: 912 | AIF5: 913 | AIG5: 914 | AIH5: 915 | AII5: 916 | AIJ5: 917 | AIK5: 918 | AIL5: 919 | AIM5: 920 | AIN5: 921 | AIO5: 922 | AIP5: 923 | AIQ5: 924 | AIR5: 925 | AIS5: 926 | AIT5: 927 | AIU5: 928 | AIV5: 929 | AIW5: 930 | AIX5: 931 | AIY5: 932 | AIZ5: 933 | AJA5: 934 | AJB5: 935 | AJC5: 936 | AJD5: 937 | AJE5: 938 | AJF5: 939 | AJG5: 940 | AJH5: 941 | AJI5: 942 | AJJ5: 943 | AJK5: 944 | AJL5: 945 | AJM5: 946 | AJN5: 947 | AJO5: 948 | AJP5: 949 | AJQ5: 950 | AJR5: 951 | AJS5: 952 | AJT5: 953 | AJU5: 954 | AJV5: 955 | AJW5: 956 | AJX5: 957 | AJY5: 958 | AJZ5: 959 | AKA5: 960 | AKB5: 961 | AKC5: 962 | AKD5: 963 | AKE5: 964 | AKF5: 965 | AKG5: 966 | AKH5: 967 | AKI5: 968 | AKJ5: 969 | AKK5: 970 | AKL5: 971 | AKM5: 972 | AKN5: 973 | AKO5: 974 | AKP5: 975 | AKQ5: 976 | AKR5: 977 | AKS5: 978 | AKT5: 979 | AKU5: 980 | AKV5: 981 | AKW5: 982 | AKX5: 983 | AKY5: 984 | AKZ5: 985 | ALA5: 986 | ALB5: 987 | ALC5: 988 | ALD5: 989 | ALE5: 990 | ALF5: 991 | ALG5: 992 | ALH5: 993 | ALI5: 994 | ALJ5: 995 | ALK5: 996 | ALL5: 997 | ALM5: 998 | ALN5: 999 | ALO5: 1000 | ALP5: 1001 | ALQ5: 1002 | ALR5: 1003 | ALS5: 1004 | ALT5: 1005 | ALU5: 1006 | ALV5: 1007 | ALW5: 1008 | ALX5: 1009 | ALY5: 1010 | ALZ5: 1011 | AMA5: 1012 | AMB5: 1013 | AMC5: 1014 | AMD5: 1015 | AME5: 1016 | AMF5: 1017 | AMG5: 1018 | AMH5: 1019 | AMI5: 1020 | AMJ5: 1021 | AMK5: 1022 | AML5: 1023 | AMM5: 1024 | AMN5: 1025 | AMO5: 1026 | AMP5: 1027 | AMQ5: 1028 | AMR5: 1029 | AMS5: 1030 | AMT5: 1031 | AMU5: 1032 | AMV5: 1033 | AMW5: 1034 | AMX5: 1035 | AMY5: 1036 | AMZ5: 1037 | ANA5: 1038 | ANB5: 1039 | ANC5: 1040 | AND5: 1041 | ANE5: 1042 | ANF5: 1043 | ANG5: 1044 | ANH5: 1045 | ANI5: 1046 | ANJ5: 1047 | ANK5: 1048 | ANL5: 1049 | ANM5: 1050 | ANN5: 1051 | ANO5: 1052 | ANP5: 1053 | ANQ5: 1054 | ANR5: 1055 | ANS5: 1056 | ANT5: 1057 | ANU5: 1058 | ANV5: 1059 | ANW5: 1060 | ANX5: 1061 | ANY5: 1062 | ANZ5: 1063 | AOA5: 1064 | AOB5: 1065 | AOC5: 1066 | AOD5: 1067 | AOE5: 1068 | AOF5: 1069 | AOG5: 1070 | AOH5: 1071 | AOI5: 1072 | AOJ5: 1073 | AOK5: 1074 | AOL5: 1075 | AOM5: 1076 | AON5: 1077 | AOO5: 1078 | AOP5: 1079 | AOQ5: 1080 | AOR5: 1081 | AOS5: 1082 | AOT5: 1083 | AOU5: 1084 | AOV5: 1085 | AOW5: 1086 | AOX5: 1087 | AOY5: 1088 | AOZ5: 1089 | APA5: 1090 | APB5: 1091 | APC5: 1092 | APD5: 1093 | APE5: 1094 | APF5: 1095 | APG5: 1096 | APH5: 1097 | API5: 1098 | APJ5: 1099 | APK5: 1100 | APL5: 1101 | APM5: 1102 | APN5: 1103 | APO5: 1104 | APP5: 1105 | APQ5: 1106 | APR5: 1107 | APS5: 1108 | APT5: 1109 | APU5: 1110 | APV5: 1111 | APW5: 1112 | APX5: 1113 | APY5: 1114 | APZ5: 1115 | AQA5: 1116 | AQB5: 1117 | AQC5: 1118 | AQD5: 1119 | AQE5: 1120 | AQF5: 1121 | AQG5: 1122 | AQH5: 1123 | AQI5: 1124 | AQJ5: 1125 | AQK5: 1126 | AQL5: 1127 | AQM5: 1128 | AQN5: 1129 | AQO5: 1130 | AQP5: 1131 | AQQ5: 1132 | AQR5: 1133 | AQS5: 1134 | AQT5: 1135 | AQU5: 1136 | AQV5: 1137 | AQW5: 1138 | AQX5: 1139 | AQY5: 1140 | AQZ5: 1141 | ARA5: 1142 | ARB5: 1143 | ARC5: 1144 | ARD5: 1145 | ARE5: 1146 | ARF5: 1147 | ARG5: 1148 | ARH5: 1149 | ARI5: 1150 | ARJ5: 1151 | ARK5: 1152 | ARL5: 1153 | ARM5: 1154 | ARN5: 1155 | ARO5: 1156 | ARP5: 1157 | ARQ5: 1158 | ARR5: 1159 | ARS5: 1160 | ART5: 1161 | ARU5: 1162 | ARV5: 1163 | ARW5: 1164 | ARX5: 1165 | ARY5: 1166 | ARZ5: 1167 | ASA5: 1168 | ASB5: 1169 | ASC5: 1170 | ASD5: 1171 | ASE5: 1172 | ASF5: 1173 | ASG5: 1174 | ASH5: 1175 | ASI5: 1176 | ASJ5: 1177 | ASK5: 1178 | ASL5: 1179 | ASM5: 1180 | ASN5: 1181 | ASO5: 1182 | ASP5: 1183 | ASQ5: 1184 | ASR5: 1185 | ASS5: 1186 | AST5: 1187 | ASU5: 1188 | ASV5: 1189 | ASW5: 1190 | ASX5: 1191 | ASY5: 1192 | ASZ5: 1193 | ATA5: 1194 | ATB5: 1195 | ATC5: 1196 | ATD5: 1197 | ATE5: 1198 | ATF5: 1199 | ATG5: 1200 | ATH5: 1201 | ATI5: 1202 | ATJ5: 1203 | ATK5: 1204 | ATL5: 1205 | ATM5: 1206 | ATN5: 1207 | ATO5: 1208 | ATP5: 1209 | ATQ5: 1210 | ATR5: 1211 | ATS5: 1212 | ATT5: 1213 | ATU5: 1214 | ATV5: 1215 | ATW5: 1216 | ATX5: 1217 | ATY5: 1218 | ATZ5: 1219 | AUA5: 1220 | AUB5: 1221 | AUC5: 1222 | AUD5: 1223 | AUE5: 1224 | AUF5: 1225 | AUG5: 1226 | AUH5: 1227 | AUI5: 1228 | AUJ5: 1229 | AUK5: 1230 | AUL5: 1231 | AUM5: 1232 | AUN5: 1233 | AUO5: 1234 | AUP5: 1235 | AUQ5: 1236 | AUR5: 1237 | AUS5: 1238 | AUT5: 1239 | AUU5: 1240 | AUV5: 1241 | AUW5: 1242 | AUX5: 1243 | AUY5: 1244 | AUZ5: 1245 | AVA5: 1246 | AVB5: 1247 | AVC5: 1248 | AVD5: 1249 | AVE5: 1250 | AVF5: 1251 | AVG5: 1252 | AVH5: 1253 | AVI5: 1254 | AVJ5: 1255 | AVK5: 1256 | AVL5: 1257 | AVM5: 1258 | AVN5: 1259 | AVO5: 1260 | AVP5: 1261 | AVQ5: 1262 | AVR5: 1263 | AVS5: 1264 | AVT5: 1265 | AVU5: 1266 | AVV5: 1267 | AVW5: 1268 | AVX5: 1269 | AVY5: 1270 | AVZ5: 1271 | AWA5: 1272 | AWB5: 1273 | AWC5: 1274 | AWD5: 1275 | AWE5: 1276 | AWF5: 1277 | AWG5: 1278 | AWH5: 1279 | AWI5: 1280 | AWJ5: 1281 | AWK5: 1282 | AWL5: 1283 | AWM5: 1284 | AWN5: 1285 | AWO5: 1286 | AWP5: 1287 | AWQ5: 1288 | AWR5: 1289 | AWS5: 1290 | AWT5: 1291 | AWU5: 1292 | AWV5: 1293 | AWW5: 1294 | AWX5: 1295 | AWY5: 1296 | AWZ5: 1297 | AXA5: 1298 | AXB5: 1299 | AXC5: 1300 | AXD5: 1301 | AXE5: 1302 | AXF5: 1303 | AXG5: 1304 | AXH5: 1305 | AXI5: 1306 | AXJ5: 1307 | AXK5: 1308 | AXL5: 1309 | AXM5: 1310 | AXN5: 1311 | AXO5: 1312 | AXP5: 1313 | AXQ5: 1314 | AXR5: 1315 | AXS5: 1316 | AXT5: 1317 | AXU5: 1318 | AXV5: 1319 | AXW5: 1320 | AXX5: 1321 | AXY5: 1322 | AXZ5: 1323 | AYA5: 1324 | AYB5: 1325 | AYC5: 1326 | AYD5: 1327 | AYE5: 1328 | AYF5: 1329 | AYG5: 1330 | AYH5: 1331 | AYI5: 1332 | AYJ5: 1333 | AYK5: 1334 | AYL5: 1335 | AYM5: 1336 | AYN5: 1337 | AYO5: 1338 | AYP5: 1339 | AYQ5: 1340 | AYR5: 1341 | AYS5: 1342 | AYT5: 1343 | AYU5: 1344 | AYV5: 1345 | AYW5: 1346 | AYX5: 1347 | AYY5: 1348 | AYZ5: 1349 | AZA5: 1350 | AZB5: 1351 | AZC5: 1352 | AZD5: 1353 | AZE5: 1354 | AZF5: 1355 | AZG5: 1356 | AZH5: 1357 | AZI5: 1358 | AZJ5: 1359 | AZK5: 1360 | AZL5: 1361 | AZM5: 1362 | AZN5: 1363 | AZO5: 1364 | AZP5: 1365 | AZQ5: 1366 | AZR5: 1367 | AZS5: 1368 | AZT5: 1369 | AZU5: 1370 | AZV5: 1371 | AZW5: 1372 | AZX5: 1373 | AZY5: 1374 | AZZ5: 1375 | BAA5: 1376 | BAB5: 1377 | BAC5: 1378 | BAD5: 1379 | BAE5: 1380 | BAF5: 1381 | BAG5: 1382 | BAH5: 1383 | BAI5: 1384 | BAJ5: 1385 | BAK5: 1386 | BAL5: 1387 | BAM5: 1388 | BAN5: 1389 | BAO5: 1390 | BAP5: 1391 | BAQ5: 1392 | BAR5: 1393 | BAS5: 1394 | BAT5: 1395 | BAU5: 1396 | BAV5: 1397 | BAW5: 1398 | BAX5: 1399 | BAY5: 1400 | BAZ5: 1401 | BBA5: 1402 | BBB5: 1403 | BBC5: 1404 | BBD5: 1405 | BBE5: 1406 | BBF5: 1407 | BBG5: 1408 | BBH5: 1409 | BBI5: 1410 | BBJ5: 1411 | BBK5: 1412 | BBL5: 1413 | BBM5: 1414 | BBN5: 1415 | BBO5: 1416 | BBP5: 1417 | BBQ5: 1418 | BBR5: 1419 | BBS5: 1420 | BBT5: 1421 | BBU5: 1422 | BBV5: 1423 | BBW5: 1424 | BBX5: 1425 | BBY5: 1426 | BBZ5: 1427 | BCA5: 1428 | BCB5: 1429 | BCC5: 1430 | BCD5: 1431 | BCE5: 1432 | BCF5: 1433 | BCG5: 1434 | BCH5: 1435 | BCI5: 1436 | BCJ5: 1437 | BCK5: 1438 | BCL5: 1439 | BCM5: 1440 | BCN5: 1441 | BCO5: 1442 | BCP5: 1443 | BCQ5: 1444 | BCR5: 1445 | BCS5: 1446 | BCT5: 1447 | BCU5: 1448 | BCV5: 1449 | BCW5: 1450 | BCX5: 1451 | BCY5: 1452 | BCZ5: 1453 | BDA5: 1454 | BDB5: 1455 | BDC5: 1456 | BDD5: 1457 | BDE5: 1458 | BDF5: 1459 | BDG5: 1460 | BDH5: 1461 | BDI5: 1462 | BDJ5: 1463 | BDK5: 1464 | BDL5: 1465 | BDM5: 1466 | BDN5: 1467 | BDO5: 1468 | BDP5: 1469 | BDQ5: 1470 | BDR5: 1471 | BDS5: 1472 | BDT5: 1473 | BDU5: 1474 | BDV5: 1475 | BDW5: 1476 | BDX5: 1477 | BDY5: 1478 | BDZ5: 1479 | BEA5: 1480 | BEB5: 1481 | BEC5: 1482 | BED5: 1483 | BEE5: 1484 | BEF5: 1485 | BEG5: 1486 | BEH5: 1487 | BEI5: 1488 | BEJ5: 1489 | BEK5: 1490 | BEL5: 1491 | BEM5: 1492 | BEN5: 1493 | BEO5: 1494 | BEP5: 1495 | BEQ5: 1496 | BER5: 1497 | BES5: 1498 | BET5: 1499 | BEU5: 1500 | BEV5: 1501 | BEW5: 1502 | BEX5: 1503 | BEY5: 1504 | BEZ5: 1505 | BFA5: 1506 | BFB5: 1507 | BFC5: 1508 | BFD5: 1509 | BFE5: 1510 | BFF5: 1511 | BFG5: 1512 | BFH5: 1513 | BFI5: 1514 | BFJ5: 1515 | BFK5: 1516 | BFL5: 1517 | BFM5: 1518 | BFN5: 1519 | BFO5: 1520 | BFP5: 1521 | BFQ5: 1522 | BFR5: 1523 | BFS5: 1524 | BFT5: 1525 | BFU5: 1526 | BFV5: 1527 | BFW5: 1528 | BFX5: 1529 | BFY5: 1530 | BFZ5: 1531 | BGA5: 1532 | BGB5: 1533 | BGC5: 1534 | BGD5: 1535 | BGE5: 1536 | BGF5: 1537 | BGG5: 1538 | BGH5: 1539 | BGI5: 1540 | BGJ5: 1541 | BGK5: 1542 | BGL5: 1543 | BGM5: 1544 | BGN5: 1545 | BGO5: 1546 | BGP5: 1547 | BGQ5: 1548 | BGR5: 1549 | BGS5: 1550 | BGT5: 1551 | BGU5: 1552 | BGV5: 1553 | BGW5: 1554 | BGX5: 1555 | BGY5: 1556 | BGZ5: 1557 | BHA5: 1558 | BHB5: 1559 | BHC5: 1560 | BHD5: 1561 | BHE5: 1562 | BHF5: 1563 | BHG5: 1564 | BHH5: 1565 | BHI5: 1566 | BHJ5: 1567 | BHK5: 1568 | BHL5: 1569 | BHM5: 1570 | BHN5: 1571 | BHO5: 1572 | BHP5: 1573 | BHQ5: 1574 | BHR5: 1575 | BHS5: 1576 | BHT5: 1577 | BHU5: 1578 | BHV5: 1579 | BHW5: 1580 | BHX5: 1581 | BHY5: 1582 | BHZ5: 1583 | BIA5: 1584 | BIB5: 1585 | BIC5: 1586 | BID5: 1587 | BIE5: 1588 | BIF5: 1589 | BIG5: 1590 | BIH5: 1591 | BII5: 1592 | BIJ5: 1593 | BIK5: 1594 | BIL5: 1595 | BIM5: 1596 | BIN5: 1597 | BIO5: 1598 | BIP5: 1599 | BIQ5: 1600 | BIR5: 1601 | BIS5: 1602 | BIT5: 1603 | BIU5: 1604 | BIV5: 1605 | BIW5: 1606 | BIX5: 1607 | BIY5: 1608 | BIZ5: 1609 | BJA5: 1610 | BJB5: 1611 | BJC5: 1612 | BJD5: 1613 | BJE5: 1614 | BJF5: 1615 | BJG5: 1616 | BJH5: 1617 | BJI5: 1618 | BJJ5: 1619 | BJK5: 1620 | BJL5: 1621 | BJM5: 1622 | BJN5: 1623 | BJO5: 1624 | BJP5: 1625 | BJQ5: 1626 | BJR5: 1627 | BJS5: 1628 | BJT5: 1629 | BJU5: 1630 | BJV5: 1631 | BJW5: 1632 | BJX5: 1633 | BJY5: 1634 | BJZ5: 1635 | BKA5: 1636 | BKB5: 1637 | BKC5: 1638 | BKD5: 1639 | BKE5: 1640 | BKF5: 1641 | BKG5: 1642 | BKH5: 1643 | BKI5: 1644 | BKJ5: 1645 | BKK5: 1646 | BKL5: 1647 | BKM5: 1648 | BKN5: 1649 | BKO5: 1650 | BKP5: 1651 | BKQ5: 1652 | BKR5: 1653 | BKS5: 1654 | BKT5: 1655 | BKU5: 1656 | BKV5: 1657 | BKW5: 1658 | BKX5: 1659 | BKY5: 1660 | BKZ5: 1661 | BLA5: 1662 | BLB5: 1663 | BLC5: 1664 | BLD5: 1665 | BLE5: 1666 | BLF5: 1667 | BLG5: 1668 | BLH5: 1669 | BLI5: 1670 | BLJ5: 1671 | BLK5: 1672 | BLL5: 1673 | BLM5: 1674 | BLN5: 1675 | BLO5: 1676 | BLP5: 1677 | BLQ5: 1678 | BLR5: 1679 | BLS5: 1680 | BLT5: 1681 | BLU5: 1682 | BLV5: 1683 | BLW5: 1684 | BLX5: 1685 | BLY5: 1686 | BLZ5: 1687 | BMA5: 1688 | BMB5: 1689 | BMC5: 1690 | BMD5: 1691 | BME5: 1692 | BMF5: 1693 | BMG5: 1694 | BMH5: 1695 | BMI5: 1696 | BMJ5: 1697 | BMK5: 1698 | BML5: 1699 | BMM5: 1700 | BMN5: 1701 | BMO5: 1702 | BMP5: 1703 | BMQ5: 1704 | BMR5: 1705 | BMS5: 1706 | BMT5: 1707 | BMU5: 1708 | BMV5: 1709 | BMW5: 1710 | BMX5: 1711 | BMY5: 1712 | BMZ5: 1713 | BNA5: 1714 | BNB5: 1715 | BNC5: 1716 | BND5: 1717 | BNE5: 1718 | BNF5: 1719 | BNG5: 1720 | BNH5: 1721 | BNI5: 1722 | BNJ5: 1723 | BNK5: 1724 | BNL5: 1725 | BNM5: 1726 | BNN5: 1727 | BNO5: 1728 | BNP5: 1729 | BNQ5: 1730 | BNR5: 1731 | BNS5: 1732 | BNT5: 1733 | BNU5: 1734 | BNV5: 1735 | BNW5: 1736 | BNX5: 1737 | BNY5: 1738 | BNZ5: 1739 | BOA5: 1740 | BOB5: 1741 | BOC5: 1742 | BOD5: 1743 | BOE5: 1744 | BOF5: 1745 | BOG5: 1746 | BOH5: 1747 | BOI5: 1748 | BOJ5: 1749 | BOK5: 1750 | BOL5: 1751 | BOM5: 1752 | BON5: 1753 | BOO5: 1754 | BOP5: 1755 | BOQ5: 1756 | BOR5: 1757 | BOS5: 1758 | BOT5: 1759 | BOU5: 1760 | BOV5: 1761 | BOW5: 1762 | BOX5: 1763 | BOY5: 1764 | BOZ5: 1765 | BPA5: 1766 | BPB5: 1767 | BPC5: 1768 | BPD5: 1769 | BPE5: 1770 | BPF5: 1771 | BPG5: 1772 | BPH5: 1773 | BPI5: 1774 | BPJ5: 1775 | BPK5: 1776 | BPL5: 1777 | BPM5: 1778 | BPN5: 1779 | BPO5: 1780 | BPP5: 1781 | BPQ5: 1782 | BPR5: 1783 | BPS5: 1784 | BPT5: 1785 | BPU5: 1786 | BPV5: 1787 | BPW5: 1788 | BPX5: 1789 | BPY5: 1790 | BPZ5: 1791 | BQA5: 1792 | BQB5: 1793 | BQC5: 1794 | BQD5: 1795 | BQE5: 1796 | BQF5: 1797 | BQG5: 1798 | BQH5: 1799 | BQI5: 1800 | BQJ5: 1801 | BQK5: 1802 | BQL5: 1803 | BQM5: 1804 | BQN5: 1805 | BQO5: 1806 | BQP5: 1807 | BQQ5: 1808 | BQR5: 1809 | BQS5: 1810 | BQT5: 1811 | BQU5: 1812 | BQV5: 1813 | BQW5: 1814 | BQX5: 1815 | BQY5: 1816 | BQZ5: 1817 | BRA5: 1818 | BRB5: 1819 | BRC5: 1820 | BRD5: 1821 | BRE5: 1822 | BRF5: 1823 | BRG5: 1824 | BRH5: 1825 | BRI5: 1826 | BRJ5: 1827 | BRK5: 1828 | BRL5: 1829 | BRM5: 1830 | BRN5: 1831 | BRO5: 1832 | BRP5: 1833 | BRQ5: 1834 | BRR5: 1835 | BRS5: 1836 | BRT5: 1837 | BRU5: 1838 | BRV5: 1839 | BRW5: 1840 | BRX5: 1841 | BRY5: 1842 | BRZ5: 1843 | BSA5: 1844 | BSB5: 1845 | BSC5: 1846 | BSD5: 1847 | BSE5: 1848 | BSF5: 1849 | BSG5: 1850 | BSH5: 1851 | BSI5: 1852 | BSJ5: 1853 | BSK5: 1854 | BSL5: 1855 | BSM5: 1856 | BSN5: 1857 | BSO5: 1858 | BSP5: 1859 | BSQ5: 1860 | BSR5: 1861 | BSS5: 1862 | BST5: 1863 | BSU5: 1864 | BSV5: 1865 | BSW5: 1866 | BSX5: 1867 | BSY5: 1868 | BSZ5: 1869 | BTA5: 1870 | BTB5: 1871 | BTC5: 1872 | BTD5: 1873 | BTE5: 1874 | BTF5: 1875 | BTG5: 1876 | BTH5: 1877 | BTI5: 1878 | BTJ5: 1879 | BTK5: 1880 | BTL5: 1881 | BTM5: 1882 | BTN5: 1883 | BTO5: 1884 | BTP5: 1885 | BTQ5: 1886 | BTR5: 1887 | BTS5: 1888 | BTT5: 1889 | BTU5: 1890 | BTV5: 1891 | BTW5: 1892 | BTX5: 1893 | BTY5: 1894 | BTZ5: 1895 | BUA5: 1896 | BUB5: 1897 | BUC5: 1898 | BUD5: 1899 | BUE5: 1900 | BUF5: 1901 | BUG5: 1902 | BUH5: 1903 | BUI5: 1904 | BUJ5: 1905 | BUK5: 1906 | BUL5: 1907 | BUM5: 1908 | BUN5: 1909 | BUO5: 1910 | BUP5: 1911 | BUQ5: 1912 | BUR5: 1913 | BUS5: 1914 | BUT5: 1915 | BUU5: 1916 | BUV5: 1917 | BUW5: 1918 | BUX5: 1919 | BUY5: 1920 | BUZ5: 1921 | BVA5: 1922 | BVB5: 1923 | BVC5: 1924 | BVD5: 1925 | BVE5: 1926 | BVF5: 1927 | BVG5: 1928 | BVH5: 1929 | BVI5: 1930 | BVJ5: 1931 | BVK5: 1932 | BVL5: 1933 | BVM5: 1934 | BVN5: 1935 | BVO5: 1936 | BVP5: 1937 | BVQ5: 1938 | BVR5: 1939 | BVS5: 1940 | BVT5: 1941 | BVU5: 1942 | BVV5: 1943 | BVW5: 1944 | BVX5: 1945 | BVY5: 1946 | BVZ5: 1947 | BWA5: 1948 | BWB5: 1949 | BWC5: 1950 | BWD5: 1951 | BWE5: 1952 | BWF5: 1953 | BWG5: 1954 | BWH5: 1955 | BWI5: 1956 | BWJ5: 1957 | BWK5: 1958 | BWL5: 1959 | BWM5: 1960 | BWN5: 1961 | BWO5: 1962 | BWP5: 1963 | BWQ5: 1964 | BWR5: 1965 | BWS5: 1966 | BWT5: 1967 | BWU5: 1968 | BWV5: 1969 | BWW5: 1970 | BWX5: 1971 | BWY5: 1972 | BWZ5: 1973 | BXA5: 1974 | BXB5: 1975 | BXC5: 1976 | BXD5: 1977 | BXE5: 1978 | BXF5: 1979 | BXG5: 1980 | BXH5: 1981 | BXI5: 1982 | BXJ5: 1983 | BXK5: 1984 | BXL5: 1985 | BXM5: 1986 | BXN5: 1987 | BXO5: 1988 | BXP5: 1989 | BXQ5: 1990 | BXR5: 1991 | BXS5: 1992 | BXT5: 1993 | BXU5: 1994 | BXV5: 1995 | BXW5: 1996 | BXX5: 1997 | BXY5: 1998 | BXZ5: 1999 | BYA5: 2000
A6: =Worksheet2!I5 -> 184 | B6: {=MATCH(TRUE,D6:BYA6>$B$3,0)} -> 84 | C6: =Worksheet3!A5 -> Suspended Ceiling Tile A | D6: =1-_xlfn.HYPGEOM.DIST(0,D$5,$A6*'Sampling Plan Cover Sheet'!$B$11,$A6,FALSE) -> 0.048913043 | E6: =1-_xlfn.HYPGEOM.DIST(0,E$5,$A6*'Sampling Plan Cover Sheet'!$B$11,$A6,FALSE) -> 0.095687812 | F6: =1-_xlfn.HYPGEOM.DIST(0,F$5,$A6*'Sampling Plan Cover Sheet'!$B$11,$A6,FALSE) -> 0.14040655 | G6: =1-_xlfn.HYPGEOM.DIST(0,G$5,$A6*'Sampling Plan Cover Sheet'!$B$11,$A6,FALSE) -> 0.18314876 | H6: =1-_xlfn.HYPGEOM.DIST(0,H$5,$A6*'Sampling Plan Cover Sheet'!$B$11,$A6,FALSE) -> 0.22399132 | I6: =1-_xlfn.HYPGEOM.DIST(0,I$5,$A6*'Sampling Plan Cover Sheet'!$B$11,$A6,FALSE) -> 0.26300852 | J6: =1-_xlfn.HYPGEOM.DIST(0,J$5,$A6*'Sampling Plan Cover Sheet'!$B$11,$A6,FALSE) -> 0.30027213 | K6: =1-_xlfn.HYPGEOM.DIST(0,K$5,$A6*'Sampling Plan Cover Sheet'!$B$11,$A6,FALSE) -> 0.33585152 | ... BYA6: =1-_xlfn.HYPGEOM.DIST(0,BYA$5,$A6*'Sampling Plan Cover Sheet'!$B$11,$A6,FALSE) -> #NUM!
A7: =Worksheet2!I6 -> 199 | B7: {=MATCH(TRUE,D7:BYA7>$B$3,0)} -> 91 | C7: =Worksheet3!A6 -> Gypsum Wall Board A | D7: =1-_xlfn.HYPGEOM.DIST(0,D$5,$A7*'Sampling Plan Cover Sheet'!$B$11,$A7,FALSE) -> 0.045226131 | E7: =1-_xlfn.HYPGEOM.DIST(0,E$5,$A7*'Sampling Plan Cover Sheet'!$B$11,$A7,FALSE) -> 0.088624943 | F7: =1-_xlfn.HYPGEOM.DIST(0,F$5,$A7*'Sampling Plan Cover Sheet'!$B$11,$A7,FALSE) -> 0.13026137 | G7: =1-_xlfn.HYPGEOM.DIST(0,G$5,$A7*'Sampling Plan Cover Sheet'!$B$11,$A7,FALSE) -> 0.17019834 | H7: =1-_xlfn.HYPGEOM.DIST(0,H$5,$A7*'Sampling Plan Cover Sheet'!$B$11,$A7,FALSE) -> 0.20849688 | I7: =1-_xlfn.HYPGEOM.DIST(0,I$5,$A7*'Sampling Plan Cover Sheet'!$B$11,$A7,FALSE) -> 0.2452161 | J7: =1-_xlfn.HYPGEOM.DIST(0,J$5,$A7*'Sampling Plan Cover Sheet'!$B$11,$A7,FALSE) -> 0.28041328 | K7: =1-_xlfn.HYPGEOM.DIST(0,K$5,$A7*'Sampling Plan Cover Sheet'!$B$11,$A7,FALSE) -> 0.3141439 | ... BYA7: =1-_xlfn.HYPGEOM.DIST(0,BYA$5,$A7*'Sampling Plan Cover Sheet'!$B$11,$A7,FALSE) -> #NUM!
A8: =Worksheet2!I7 -> 16 | B8: {=MATCH(TRUE,D8:BYA8>$B$3,0)} -> #N/A | C8: =Worksheet3!A7 -> Carmet Mastic | D8: =1-_xlfn.HYPGEOM.DIST(0,D$5,$A8*'Sampling Plan Cover Sheet'!$B$11,$A8,FALSE) -> 0 | E8: =1-_xlfn.HYPGEOM.DIST(0,E$5,$A8*'Sampling Plan Cover Sheet'!$B$11,$A8,FALSE) -> 0 | F8: =1-_xlfn.HYPGEOM.DIST(0,F$5,$A8*'Sampling Plan Cover Sheet'!$B$11,$A8,FALSE) -> 0 | G8: =1-_xlfn.HYPGEOM.DIST(0,G$5,$A8*'Sampling Plan Cover Sheet'!$B$11,$A8,FALSE) -> 0 | H8: =1-_xlfn.HYPGEOM.DIST(0,H$5,$A8*'Sampling Plan Cover Sheet'!$B$11,$A8,FALSE) -> 0 | I8: =1-_xlfn.HYPGEOM.DIST(0,I$5,$A8*'Sampling Plan Cover Sheet'!$B$11,$A8,FALSE) -> 0 | J8: =1-_xlfn.HYPGEOM.DIST(0,J$5,$A8*'Sampling Plan Cover Sheet'!$B$11,$A8,FALSE) -> 0 | K8: =1-_xlfn.HYPGEOM.DIST(0,K$5,$A8*'Sampling Plan Cover Sheet'!$B$11,$A8,FALSE) -> 0 | ... BYA8: =1-_xlfn.HYPGEOM.DIST(0,BYA$5,$A8*'Sampling Plan Cover Sheet'!$B$11,$A8,FALSE) -> #NUM!
A9: =Worksheet2!I8 -> 25 | B9: {=MATCH(TRUE,D9:BYA9>$B$3,0)} -> 25 | C9: =Worksheet3!A8 -> Thermal System Insulation | D9: =1-_xlfn.HYPGEOM.DIST(0,D$5,$A9*'Sampling Plan Cover Sheet'!$B$11,$A9,FALSE) -> 0.04 | E9: =1-_xlfn.HYPGEOM.DIST(0,E$5,$A9*'Sampling Plan Cover Sheet'!$B$11,$A9,FALSE) -> 0.08 | F9: =1-_xlfn.HYPGEOM.DIST(0,F$5,$A9*'Sampling Plan Cover Sheet'!$B$11,$A9,FALSE) -> 0.12 | G9: =1-_xlfn.HYPGEOM.DIST(0,G$5,$A9*'Sampling Plan Cover Sheet'!$B$11,$A9,FALSE) -> 0.16 | H9: =1-_xlfn.HYPGEOM.DIST(0,H$5,$A9*'Sampling Plan Cover Sheet'!$B$11,$A9,FALSE) -> 0.2 | I9: =1-_xlfn.HYPGEOM.DIST(0,I$5,$A9*'Sampling Plan Cover Sheet'!$B$11,$A9,FALSE) -> 0.24 | J9: =1-_xlfn.HYPGEOM.DIST(0,J$5,$A9*'Sampling Plan Cover Sheet'!$B$11,$A9,FALSE) -> 0.28 | K9: =1-_xlfn.HYPGEOM.DIST(0,K$5,$A9*'Sampling Plan Cover Sheet'!$B$11,$A9,FALSE) -> 0.32 | ... BYA9: =1-_xlfn.HYPGEOM.DIST(0,BYA$5,$A9*'Sampling Plan Cover Sheet'!$B$11,$A9,FALSE) -> #NUM!
A10: =Worksheet2!I9 -> 15 | B10: {=MATCH(TRUE,D10:BYA10>$B$3,0)} -> #N/A | C10: =Worksheet3!A9 -> Spray-on Insulation | D10: =1-_xlfn.HYPGEOM.DIST(0,D$5,$A10*'Sampling Plan Cover Sheet'!$B$11,$A10,FALSE) -> 0 | E10: =1-_xlfn.HYPGEOM.DIST(0,E$5,$A10*'Sampling Plan Cover Sheet'!$B$11,$A10,FALSE) -> 0 | F10: =1-_xlfn.HYPGEOM.DIST(0,F$5,$A10*'Sampling Plan Cover Sheet'!$B$11,$A10,FALSE) -> 0 | G10: =1-_xlfn.HYPGEOM.DIST(0,G$5,$A10*'Sampling Plan Cover Sheet'!$B$11,$A10,FALSE) -> 0 | H10: =1-_xlfn.HYPGEOM.DIST(0,H$5,$A10*'Sampling Plan Cover Sheet'!$B$11,$A10,FALSE) -> 0 | I10: =1-_xlfn.HYPGEOM.DIST(0,I$5,$A10*'Sampling Plan Cover Sheet'!$B$11,$A10,FALSE) -> 0 | J10: =1-_xlfn.HYPGEOM.DIST(0,J$5,$A10*'Sampling Plan Cover Sheet'!$B$11,$A10,FALSE) -> 0 | K10: =1-_xlfn.HYPGEOM.DIST(0,K$5,$A10*'Sampling Plan Cover Sheet'!$B$11,$A10,FALSE) -> 0 | ... BYA10: =1-_xlfn.HYPGEOM.DIST(0,BYA$5,$A10*'Sampling Plan Cover Sheet'!$B$11,$A10,FALSE) -> #NUM!
A11: =Worksheet2!I10 -> 109 | B11: {=MATCH(TRUE,D11:BYA11>$B$3,0)} -> 73 | C11: =Worksheet3!A10 -> Mastic | D11: =1-_xlfn.HYPGEOM.DIST(0,D$5,$A11*'Sampling Plan Cover Sheet'!$B$11,$A11,FALSE) -> 0.04587156 | E11: =1-_xlfn.HYPGEOM.DIST(0,E$5,$A11*'Sampling Plan Cover Sheet'!$B$11,$A11,FALSE) -> 0.090044173 | F11: =1-_xlfn.HYPGEOM.DIST(0,F$5,$A11*'Sampling Plan Cover Sheet'!$B$11,$A11,FALSE) -> 0.13256547 | G11: =1-_xlfn.HYPGEOM.DIST(0,G$5,$A11*'Sampling Plan Cover Sheet'!$B$11,$A11,FALSE) -> 0.1734822 | H11: =1-_xlfn.HYPGEOM.DIST(0,H$5,$A11*'Sampling Plan Cover Sheet'!$B$11,$A11,FALSE) -> 0.21284019 | I11: =1-_xlfn.HYPGEOM.DIST(0,I$5,$A11*'Sampling Plan Cover Sheet'!$B$11,$A11,FALSE) -> 0.25068441 | J11: =1-_xlfn.HYPGEOM.DIST(0,J$5,$A11*'Sampling Plan Cover Sheet'!$B$11,$A11,FALSE) -> 0.28705895 | K11: =1-_xlfn.HYPGEOM.DIST(0,K$5,$A11*'Sampling Plan Cover Sheet'!$B$11,$A11,FALSE) -> 0.32200704 | ... BYA11: =1-_xlfn.HYPGEOM.DIST(0,BYA$5,$A11*'Sampling Plan Cover Sheet'!$B$11,$A11,FALSE) -> #NUM!
A12: =Worksheet2!I11 -> 62 | B12: {=MATCH(TRUE,D12:BYA12>$B$3,0)} -> 52 | C12: =Worksheet3!A11 -> Paint | D12: =1-_xlfn.HYPGEOM.DIST(0,D$5,$A12*'Sampling Plan Cover Sheet'!$B$11,$A12,FALSE) -> 0.048387097 | E12: =1-_xlfn.HYPGEOM.DIST(0,E$5,$A12*'Sampling Plan Cover Sheet'!$B$11,$A12,FALSE) -> 0.095187731 | F12: =1-_xlfn.HYPGEOM.DIST(0,F$5,$A12*'Sampling Plan Cover Sheet'!$B$11,$A12,FALSE) -> 0.14042834 | G12: =1-_xlfn.HYPGEOM.DIST(0,G$5,$A12*'Sampling Plan Cover Sheet'!$B$11,$A12,FALSE) -> 0.18413538 | H12: =1-_xlfn.HYPGEOM.DIST(0,H$5,$A12*'Sampling Plan Cover Sheet'!$B$11,$A12,FALSE) -> 0.22633527 | I12: =1-_xlfn.HYPGEOM.DIST(0,I$5,$A12*'Sampling Plan Cover Sheet'!$B$11,$A12,FALSE) -> 0.26705447 | J12: =1-_xlfn.HYPGEOM.DIST(0,J$5,$A12*'Sampling Plan Cover Sheet'!$B$11,$A12,FALSE) -> 0.30631941 | K12: =1-_xlfn.HYPGEOM.DIST(0,K$5,$A12*'Sampling Plan Cover Sheet'!$B$11,$A12,FALSE) -> 0.34415653 | ... BYA12: =1-_xlfn.HYPGEOM.DIST(0,BYA$5,$A12*'Sampling Plan Cover Sheet'!$B$11,$A12,FALSE) -> #NUM!
A13: =Worksheet2!I12 -> 144 | B13: {=MATCH(TRUE,D13:BYA13>$B$3,0)} -> 78 | C13: =Worksheet3!A12 -> Replacement Window Caulking | D13: =1-_xlfn.HYPGEOM.DIST(0,D$5,$A13*'Sampling Plan Cover Sheet'!$B$11,$A13,FALSE) -> 0.048611111 | E13: =1-_xlfn.HYPGEOM.DIST(0,E$5,$A13*'Sampling Plan Cover Sheet'!$B$11,$A13,FALSE) -> 0.095182595 | F13: =1-_xlfn.HYPGEOM.DIST(0,F$5,$A13*'Sampling Plan Cover Sheet'!$B$11,$A13,FALSE) -> 0.13978627 | G13: =1-_xlfn.HYPGEOM.DIST(0,G$5,$A13*'Sampling Plan Cover Sheet'!$B$11,$A13,FALSE) -> 0.18249192 | H13: =1-_xlfn.HYPGEOM.DIST(0,H$5,$A13*'Sampling Plan Cover Sheet'!$B$11,$A13,FALSE) -> 0.22336732 | I13: =1-_xlfn.HYPGEOM.DIST(0,I$5,$A13*'Sampling Plan Cover Sheet'!$B$11,$A13,FALSE) -> 0.26247832 | J13: =1-_xlfn.HYPGEOM.DIST(0,J$5,$A13*'Sampling Plan Cover Sheet'!$B$11,$A13,FALSE) -> 0.29988884 | K13: =1-_xlfn.HYPGEOM.DIST(0,K$5,$A13*'Sampling Plan Cover Sheet'!$B$11,$A13,FALSE) -> 0.33566094 | ... BYA13: =1-_xlfn.HYPGEOM.DIST(0,BYA$5,$A13*'Sampling Plan Cover Sheet'!$B$11,$A13,FALSE) -> #NUM!
A14: =Worksheet2!I13 -> 15 | B14: {=MATCH(TRUE,D14:BYA14>$B$3,0)} -> #N/A | C14: =Worksheet3!A13 -> Flue Connector | D14: =1-_xlfn.HYPGEOM.DIST(0,D$5,$A14*'Sampling Plan Cover Sheet'!$B$11,$A14,FALSE) -> 0 | E14: =1-_xlfn.HYPGEOM.DIST(0,E$5,$A14*'Sampling Plan Cover Sheet'!$B$11,$A14,FALSE) -> 0 | F14: =1-_xlfn.HYPGEOM.DIST(0,F$5,$A14*'Sampling Plan Cover Sheet'!$B$11,$A14,FALSE) -> 0 | G14: =1-_xlfn.HYPGEOM.DIST(0,G$5,$A14*'Sampling Plan Cover Sheet'!$B$11,$A14,FALSE) -> 0 | H14: =1-_xlfn.HYPGEOM.DIST(0,H$5,$A14*'Sampling Plan Cover Sheet'!$B$11,$A14,FALSE) -> 0 | I14: =1-_xlfn.HYPGEOM.DIST(0,I$5,$A14*'Sampling Plan Cover Sheet'!$B$11,$A14,FALSE) -> 0 | J14: =1-_xlfn.HYPGEOM.DIST(0,J$5,$A14*'Sampling Plan Cover Sheet'!$B$11,$A14,FALSE) -> 0 | K14: =1-_xlfn.HYPGEOM.DIST(0,K$5,$A14*'Sampling Plan Cover Sheet'!$B$11,$A14,FALSE) -> 0 | ... BYA14: =1-_xlfn.HYPGEOM.DIST(0,BYA$5,$A14*'Sampling Plan Cover Sheet'!$B$11,$A14,FALSE) -> #NUM!
A15: =Worksheet2!I14 -> 8 | B15: {=MATCH(TRUE,D15:BYA15>$B$3,0)} -> #N/A | C15: =Worksheet3!A14 -> Adhesive | D15: =1-_xlfn.HYPGEOM.DIST(0,D$5,$A15*'Sampling Plan Cover Sheet'!$B$11,$A15,FALSE) -> 0 | E15: =1-_xlfn.HYPGEOM.DIST(0,E$5,$A15*'Sampling Plan Cover Sheet'!$B$11,$A15,FALSE) -> 0 | F15: =1-_xlfn.HYPGEOM.DIST(0,F$5,$A15*'Sampling Plan Cover Sheet'!$B$11,$A15,FALSE) -> 0 | G15: =1-_xlfn.HYPGEOM.DIST(0,G$5,$A15*'Sampling Plan Cover Sheet'!$B$11,$A15,FALSE) -> 0 | H15: =1-_xlfn.HYPGEOM.DIST(0,H$5,$A15*'Sampling Plan Cover Sheet'!$B$11,$A15,FALSE) -> 0 | I15: =1-_xlfn.HYPGEOM.DIST(0,I$5,$A15*'Sampling Plan Cover Sheet'!$B$11,$A15,FALSE) -> 0 | J15: =1-_xlfn.HYPGEOM.DIST(0,J$5,$A15*'Sampling Plan Cover Sheet'!$B$11,$A15,FALSE) -> 0 | K15: =1-_xlfn.HYPGEOM.DIST(0,K$5,$A15*'Sampling Plan Cover Sheet'!$B$11,$A15,FALSE) -> 0 | ... BYA15: =1-_xlfn.HYPGEOM.DIST(0,BYA$5,$A15*'Sampling Plan Cover Sheet'!$B$11,$A15,FALSE) -> #NUM!
A16: =Worksheet2!I15 -> 6 | B16: {=MATCH(TRUE,D16:BYA16>$B$3,0)} -> #N/A | C16: =Worksheet3!A15 -> Sink Undercoating A | D16: =1-_xlfn.HYPGEOM.DIST(0,D$5,$A16*'Sampling Plan Cover Sheet'!$B$11,$A16,FALSE) -> 0 | E16: =1-_xlfn.HYPGEOM.DIST(0,E$5,$A16*'Sampling Plan Cover Sheet'!$B$11,$A16,FALSE) -> 0 | F16: =1-_xlfn.HYPGEOM.DIST(0,F$5,$A16*'Sampling Plan Cover Sheet'!$B$11,$A16,FALSE) -> 0 | G16: =1-_xlfn.HYPGEOM.DIST(0,G$5,$A16*'Sampling Plan Cover Sheet'!$B$11,$A16,FALSE) -> 0 | H16: =1-_xlfn.HYPGEOM.DIST(0,H$5,$A16*'Sampling Plan Cover Sheet'!$B$11,$A16,FALSE) -> 0 | I16: =1-_xlfn.HYPGEOM.DIST(0,I$5,$A16*'Sampling Plan Cover Sheet'!$B$11,$A16,FALSE) -> 0 | J16: =1-_xlfn.HYPGEOM.DIST(0,J$5,$A16*'Sampling Plan Cover Sheet'!$B$11,$A16,FALSE) -> #NUM! | K16: =1-_xlfn.HYPGEOM.DIST(0,K$5,$A16*'Sampling Plan Cover Sheet'!$B$11,$A16,FALSE) -> #NUM! | ... BYA16: =1-_xlfn.HYPGEOM.DIST(0,BYA$5,$A16*'Sampling Plan Cover Sheet'!$B$11,$A16,FALSE) -> #NUM!
A17: =Worksheet2!I16 -> 88 | B17: {=MATCH(TRUE,D17:BYA17>$B$3,0)} -> 66 | C17: =Worksheet3!A16 -> Suspended Ceiling Tile C | D17: =1-_xlfn.HYPGEOM.DIST(0,D$5,$A17*'Sampling Plan Cover Sheet'!$B$11,$A17,FALSE) -> 0.045454545 | E17: =1-_xlfn.HYPGEOM.DIST(0,E$5,$A17*'Sampling Plan Cover Sheet'!$B$11,$A17,FALSE) -> 0.089341693 | F17: =1-_xlfn.HYPGEOM.DIST(0,F$5,$A17*'Sampling Plan Cover Sheet'!$B$11,$A17,FALSE) -> 0.13169789 | G17: =1-_xlfn.HYPGEOM.DIST(0,G$5,$A17*'Sampling Plan Cover Sheet'!$B$11,$A17,FALSE) -> 0.17255917 | H17: =1-_xlfn.HYPGEOM.DIST(0,H$5,$A17*'Sampling Plan Cover Sheet'!$B$11,$A17,FALSE) -> 0.21196111 | I17: =1-_xlfn.HYPGEOM.DIST(0,I$5,$A17*'Sampling Plan Cover Sheet'!$B$11,$A17,FALSE) -> 0.24993889 | J17: =1-_xlfn.HYPGEOM.DIST(0,J$5,$A17*'Sampling Plan Cover Sheet'!$B$11,$A17,FALSE) -> 0.28652724 | K17: =1-_xlfn.HYPGEOM.DIST(0,K$5,$A17*'Sampling Plan Cover Sheet'!$B$11,$A17,FALSE) -> 0.32176046 | ... BYA17: =1-_xlfn.HYPGEOM.DIST(0,BYA$5,$A17*'Sampling Plan Cover Sheet'!$B$11,$A17,FALSE) -> #NUM!
... A23: =Worksheet2!I22 -> 0 | B23: {=MATCH(TRUE,D23:BYA23>$B$3,0)} -> #N/A | C23: =Worksheet3!A22 -> 0 | D23: =1-_xlfn.HYPGEOM.DIST(0,D$5,$A23*'Sampling Plan Cover Sheet'!$B$11,$A23,FALSE) -> #NUM! | E23: =1-_xlfn.HYPGEOM.DIST(0,E$5,$A23*'Sampling Plan Cover Sheet'!$B$11,$A23,FALSE) -> #NUM! | F23: =1-_xlfn.HYPGEOM.DIST(0,F$5,$A23*'Sampling Plan Cover Sheet'!$B$11,$A23,FALSE) -> #NUM! | G23: =1-_xlfn.HYPGEOM.DIST(0,G$5,$A23*'Sampling Plan Cover Sheet'!$B$11,$A23,FALSE) -> #NUM! | H23: =1-_xlfn.HYPGEOM.DIST(0,H$5,$A23*'Sampling Plan Cover Sheet'!$B$11,$A23,FALSE) -> #NUM! | I23: =1-_xlfn.HYPGEOM.DIST(0,I$5,$A23*'Sampling Plan Cover Sheet'!$B$11,$A23,FALSE) -> #NUM! | J23: =1-_xlfn.HYPGEOM.DIST(0,J$5,$A23*'Sampling Plan Cover Sheet'!$B$11,$A23,FALSE) -> #NUM! | K23: =1-_xlfn.HYPGEOM.DIST(0,K$5,$A23*'Sampling Plan Cover Sheet'!$B$11,$A23,FALSE) -> #NUM! | ... BYA23: =1-_xlfn.HYPGEOM.DIST(0,BYA$5,$A23*'Sampling Plan Cover Sheet'!$B$11,$A23,FALSE) -> #NUM!
A26: Calculation for Worksheet 4
A27: NCS | B27: =Worksheet4!B26 -> 7
A28: Alpha | B28: =1-(1-'Sampling Plan Cover Sheet'!B10)/B27 -> 0.99285714
A30: =A5 -> Column H | B30: M | C30: Sample Size | D30: 1 | E30: 2 | F30: 3 | G30: 4 | H30: 5 | I30: 6 | J30: 7 | K30: 8 | L30: 9 | M30: 10 | N30: 11 | O30: 12 | P30: 13 | Q30: 14 | R30: 15 | S30: 16 | T30: 17 | U30: 18 | V30: 19 | W30: 20 | X30: 21 | Y30: 22 | Z30: 23 | AA30: 24 | AB30: 25 | AC30: 26 | AD30: 27 | AE30: 28 | AF30: 29 | AG30: 30 | AH30: 31 | AI30: 32 | AJ30: 33 | AK30: 34 | AL30: 35 | AM30: 36 | AN30: 37 | AO30: 38 | AP30: 39 | AQ30: 40 | AR30: 41 | AS30: 42 | AT30: 43 | AU30: 44 | AV30: 45 | AW30: 46 | AX30: 47 | AY30: 48 | AZ30: 49 | BA30: 50 | BB30: 51 | BC30: 52 | BD30: 53 | BE30: 54 | BF30: 55 | BG30: 56 | BH30: 57 | BI30: 58 | BJ30: 59 | BK30: 60 | BL30: 61 | BM30: 62 | BN30: 63 | BO30: 64 | BP30: 65 | BQ30: 66 | BR30: 67 | BS30: 68 | BT30: 69 | BU30: 70 | BV30: 71 | BW30: 72 | BX30: 73 | BY30: 74 | BZ30: 75 | CA30: 76 | CB30: 77 | CC30: 78 | CD30: 79 | CE30: 80 | CF30: 81 | CG30: 82 | CH30: 83 | CI30: 84 | CJ30: 85 | CK30: 86 | CL30: 87 | CM30: 88 | CN30: 89 | CO30: 90 | CP30: 91 | CQ30: 92 | CR30: 93 | CS30: 94 | CT30: 95 | CU30: 96 | CV30: 97 | CW30: 98 | CX30: 99 | CY30: 100 | CZ30: 101 | DA30: 102 | DB30: 103 | DC30: 104 | DD30: 105 | DE30: 106 | DF30: 107 | DG30: 108 | DH30: 109 | DI30: 110 | DJ30: 111 | DK30: 112 | DL30: 113 | DM30: 114 | DN30: 115 | DO30: 116 | DP30: 117 | DQ30: 118 | DR30: 119 | DS30: 120 | DT30: 121 | DU30: 122 | DV30: 123 | DW30: 124 | DX30: 125 | DY30: 126 | DZ30: 127 | EA30: 128 | EB30: 129 | EC30: 130 | ED30: 131 | EE30: 132 | EF30: 133 | EG30: 134 | EH30: 135 | EI30: 136 | EJ30: 137 | EK30: 138 | EL30: 139 | EM30: 140 | EN30: 141 | EO30: 142 | EP30: 143 | EQ30: 144 | ER30: 145 | ES30: 146 | ET30: 147 | EU30: 148 | EV30: 149 | EW30: 150 | EX30: 151 | EY30: 152 | EZ30: 153 | FA30: 154 | FB30: 155 | FC30: 156 | FD30: 157 | FE30: 158 | FF30: 159 | FG30: 160 | FH30: 161 | FI30: 162 | FJ30: 163 | FK30: 164 | FL30: 165 | FM30: 166 | FN30: 167 | FO30: 168 | FP30: 169 | FQ30: 170 | FR30: 171 | FS30: 172 | FT30: 173 | FU30: 174 | FV30: 175 | FW30: 176 | FX30: 177 | FY30: 178 | FZ30: 179 | GA30: 180 | GB30: 181 | GC30: 182 | GD30: 183 | GE30: 184 | GF30: 185 | GG30: 186 | GH30: 187 | GI30: 188 | GJ30: 189 | GK30: 190 | GL30: 191 | GM30: 192 | GN30: 193 | GO30: 194 | GP30: 195 | GQ30: 196 | GR30: 197 | GS30: 198 | GT30: 199 | GU30: 200 | GV30: 201 | GW30: 202 | GX30: 203 | GY30: 204 | GZ30: 205 | HA30: 206 | HB30: 207 | HC30: 208 | HD30: 209 | HE30: 210 | HF30: 211 | HG30: 212 | HH30: 213 | HI30: 214 | HJ30: 215 | HK30: 216 | HL30: 217 | HM30: 218 | HN30: 219 | HO30: 220 | HP30: 221 | HQ30: 222 | HR30: 223 | HS30: 224 | HT30: 225 | HU30: 226 | HV30: 227 | HW30: 228 | HX30: 229 | HY30: 230 | HZ30: 231 | IA30: 232 | IB30: 233 | IC30: 234 | ID30: 235 | IE30: 236 | IF30: 237 | IG30: 238 | IH30: 239 | II30: 240 | IJ30: 241 | IK30: 242 | IL30: 243 | IM30: 244 | IN30: 245 | IO30: 246 | IP30: 247 | IQ30: 248 | IR30: 249 | IS30: 250 | IT30: 251 | IU30: 252 | IV30: 253 | IW30: 254 | IX30: 255 | IY30: 256 | IZ30: 257 | JA30: 258 | JB30: 259 | JC30: 260 | JD30: 261 | JE30: 262 | JF30: 263 | JG30: 264 | JH30: 265 | JI30: 266 | JJ30: 267 | JK30: 268 | JL30: 269 | JM30: 270 | JN30: 271 | JO30: 272 | JP30: 273 | JQ30: 274 | JR30: 275 | JS30: 276 | JT30: 277 | JU30: 278 | JV30: 279 | JW30: 280 | JX30: 281 | JY30: 282 | JZ30: 283 | KA30: 284 | KB30: 285 | KC30: 286 | KD30: 287 | KE30: 288 | KF30: 289 | KG30: 290 | KH30: 291 | KI30: 292 | KJ30: 293 | KK30: 294 | KL30: 295 | KM30: 296 | KN30: 297 | KO30: 298 | KP30: 299 | KQ30: 300 | KR30: 301 | KS30: 302 | KT30: 303 | KU30: 304 | KV30: 305 | KW30: 306 | KX30: 307 | KY30: 308 | KZ30: 309 | LA30: 310 | LB30: 311 | LC30: 312 | LD30: 313 | LE30: 314 | LF30: 315 | LG30: 316 | LH30: 317 | LI30: 318 | LJ30: 319 | LK30: 320 | LL30: 321 | LM30: 322 | LN30: 323 | LO30: 324 | LP30: 325 | LQ30: 326 | LR30: 327 | LS30: 328 | LT30: 329 | LU30: 330 | LV30: 331 | LW30: 332 | LX30: 333 | LY30: 334 | LZ30: 335 | MA30: 336 | MB30: 337 | MC30: 338 | MD30: 339 | ME30: 340 | MF30: 341 | MG30: 342 | MH30: 343 | MI30: 344 | MJ30: 345 | MK30: 346 | ML30: 347 | MM30: 348 | MN30: 349 | MO30: 350 | MP30: 351 | MQ30: 352 | MR30: 353 | MS30: 354 | MT30: 355 | MU30: 356 | MV30: 357 | MW30: 358 | MX30: 359 | MY30: 360 | MZ30: 361 | NA30: 362 | NB30: 363 | NC30: 364 | ND30: 365 | NE30: 366 | NF30: 367 | NG30: 368 | NH30: 369 | NI30: 370 | NJ30: 371 | NK30: 372 | NL30: 373 | NM30: 374 | NN30: 375 | NO30: 376 | NP30: 377 | NQ30: 378 | NR30: 379 | NS30: 380 | NT30: 381 | NU30: 382 | NV30: 383 | NW30: 384 | NX30: 385 | NY30: 386 | NZ30: 387 | OA30: 388 | OB30: 389 | OC30: 390 | OD30: 391 | OE30: 392 | OF30: 393 | OG30: 394 | OH30: 395 | OI30: 396 | OJ30: 397 | OK30: 398 | OL30: 399 | OM30: 400 | ON30: 401 | OO30: 402 | OP30: 403 | OQ30: 404 | OR30: 405 | OS30: 406 | OT30: 407 | OU30: 408 | OV30: 409 | OW30: 410 | OX30: 411 | OY30: 412 | OZ30: 413 | PA30: 414 | PB30: 415 | PC30: 416 | PD30: 417 | PE30: 418 | PF30: 419 | PG30: 420 | PH30: 421 | PI30: 422 | PJ30: 423 | PK30: 424 | PL30: 425 | PM30: 426 | PN30: 427 | PO30: 428 | PP30: 429 | PQ30: 430 | PR30: 431 | PS30: 432 | PT30: 433 | PU30: 434 | PV30: 435 | PW30: 436 | PX30: 437 | PY30: 438 | PZ30: 439 | QA30: 440 | QB30: 441 | QC30: 442 | QD30: 443 | QE30: 444 | QF30: 445 | QG30: 446 | QH30: 447 | QI30: 448 | QJ30: 449 | QK30: 450 | QL30: 451 | QM30: 452 | QN30: 453 | QO30: 454 | QP30: 455 | QQ30: 456 | QR30: 457 | QS30: 458 | QT30: 459 | QU30: 460 | QV30: 461 | QW30: 462 | QX30: 463 | QY30: 464 | QZ30: 465 | RA30: 466 | RB30: 467 | RC30: 468 | RD30: 469 | RE30: 470 | RF30: 471 | RG30: 472 | RH30: 473 | RI30: 474 | RJ30: 475 | RK30: 476 | RL30: 477 | RM30: 478 | RN30: 479 | RO30: 480 | RP30: 481 | RQ30: 482 | RR30: 483 | RS30: 484 | RT30: 485 | RU30: 486 | RV30: 487 | RW30: 488 | RX30: 489 | RY30: 490 | RZ30: 491 | SA30: 492 | SB30: 493 | SC30: 494 | SD30: 495 | SE30: 496 | SF30: 497 | SG30: 498 | SH30: 499 | SI30: 500 | SJ30: 501 | SK30: 502 | SL30: 503 | SM30: 504 | SN30: 505 | SO30: 506 | SP30: 507 | SQ30: 508 | SR30: 509 | SS30: 510 | ST30: 511 | SU30: 512 | SV30: 513 | SW30: 514 | SX30: 515 | SY30: 516 | SZ30: 517 | TA30: 518 | TB30: 519 | TC30: 520 | TD30: 521 | TE30: 522 | TF30: 523 | TG30: 524 | TH30: 525 | TI30: 526 | TJ30: 527 | TK30: 528 | TL30: 529 | TM30: 530 | TN30: 531 | TO30: 532 | TP30: 533 | TQ30: 534 | TR30: 535 | TS30: 536 | TT30: 537 | TU30: 538 | TV30: 539 | TW30: 540 | TX30: 541 | TY30: 542 | TZ30: 543 | UA30: 544 | UB30: 545 | UC30: 546 | UD30: 547 | UE30: 548 | UF30: 549 | UG30: 550 | UH30: 551 | UI30: 552 | UJ30: 553 | UK30: 554 | UL30: 555 | UM30: 556 | UN30: 557 | UO30: 558 | UP30: 559 | UQ30: 560 | UR30: 561 | US30: 562 | UT30: 563 | UU30: 564 | UV30: 565 | UW30: 566 | UX30: 567 | UY30: 568 | UZ30: 569 | VA30: 570 | VB30: 571 | VC30: 572 | VD30: 573 | VE30: 574 | VF30: 575 | VG30: 576 | VH30: 577 | VI30: 578 | VJ30: 579 | VK30: 580 | VL30: 581 | VM30: 582 | VN30: 583 | VO30: 584 | VP30: 585 | VQ30: 586 | VR30: 587 | VS30: 588 | VT30: 589 | VU30: 590 | VV30: 591 | VW30: 592 | VX30: 593 | VY30: 594 | VZ30: 595 | WA30: 596 | WB30: 597 | WC30: 598 | WD30: 599 | WE30: 600 | WF30: 601 | WG30: 602 | WH30: 603 | WI30: 604 | WJ30: 605 | WK30: 606 | WL30: 607 | WM30: 608 | WN30: 609 | WO30: 610 | WP30: 611 | WQ30: 612 | WR30: 613 | WS30: 614 | WT30: 615 | WU30: 616 | WV30: 617 | WW30: 618 | WX30: 619 | WY30: 620 | WZ30: 621 | XA30: 622 | XB30: 623 | XC30: 624 | XD30: 625 | XE30: 626 | XF30: 627 | XG30: 628 | XH30: 629 | XI30: 630 | XJ30: 631 | XK30: 632 | XL30: 633 | XM30: 634 | XN30: 635 | XO30: 636 | XP30: 637 | XQ30: 638 | XR30: 639 | XS30: 640 | XT30: 641 | XU30: 642 | XV30: 643 | XW30: 644 | XX30: 645 | XY30: 646 | XZ30: 647 | YA30: 648 | YB30: 649 | YC30: 650 | YD30: 651 | YE30: 652 | YF30: 653 | YG30: 654 | YH30: 655 | YI30: 656 | YJ30: 657 | YK30: 658 | YL30: 659 | YM30: 660 | YN30: 661 | YO30: 662 | YP30: 663 | YQ30: 664 | YR30: 665 | YS30: 666 | YT30: 667 | YU30: 668 | YV30: 669 | YW30: 670 | YX30: 671 | YY30: 672 | YZ30: 673 | ZA30: 674 | ZB30: 675 | ZC30: 676 | ZD30: 677 | ZE30: 678 | ZF30: 679 | ZG30: 680 | ZH30: 681 | ZI30: 682 | ZJ30: 683 | ZK30: 684 | ZL30: 685 | ZM30: 686 | ZN30: 687 | ZO30: 688 | ZP30: 689 | ZQ30: 690 | ZR30: 691 | ZS30: 692 | ZT30: 693 | ZU30: 694 | ZV30: 695 | ZW30: 696 | ZX30: 697 | ZY30: 698 | ZZ30: 699 | AAA30: 700 | AAB30: 701 | AAC30: 702 | AAD30: 703 | AAE30: 704 | AAF30: 705 | AAG30: 706 | AAH30: 707 | AAI30: 708 | AAJ30: 709 | AAK30: 710 | AAL30: 711 | AAM30: 712 | AAN30: 713 | AAO30: 714 | AAP30: 715 | AAQ30: 716 | AAR30: 717 | AAS30: 718 | AAT30: 719 | AAU30: 720 | AAV30: 721 | AAW30: 722 | AAX30: 723 | AAY30: 724 | AAZ30: 725 | ABA30: 726 | ABB30: 727 | ABC30: 728 | ABD30: 729 | ABE30: 730 | ABF30: 731 | ABG30: 732 | ABH30: 733 | ABI30: 734 | ABJ30: 735 | ABK30: 736 | ABL30: 737 | ABM30: 738 | ABN30: 739 | ABO30: 740 | ABP30: 741 | ABQ30: 742 | ABR30: 743 | ABS30: 744 | ABT30: 745 | ABU30: 746 | ABV30: 747 | ABW30: 748 | ABX30: 749 | ABY30: 750 | ABZ30: 751 | ACA30: 752 | ACB30: 753 | ACC30: 754 | ACD30: 755 | ACE30: 756 | ACF30: 757 | ACG30: 758 | ACH30: 759 | ACI30: 760 | ACJ30: 761 | ACK30: 762 | ACL30: 763 | ACM30: 764 | ACN30: 765 | ACO30: 766 | ACP30: 767 | ACQ30: 768 | ACR30: 769 | ACS30: 770 | ACT30: 771 | ACU30: 772 | ACV30: 773 | ACW30: 774 | ACX30: 775 | ACY30: 776 | ACZ30: 777 | ADA30: 778 | ADB30: 779 | ADC30: 780 | ADD30: 781 | ADE30: 782 | ADF30: 783 | ADG30: 784 | ADH30: 785 | ADI30: 786 | ADJ30: 787 | ADK30: 788 | ADL30: 789 | ADM30: 790 | ADN30: 791 | ADO30: 792 | ADP30: 793 | ADQ30: 794 | ADR30: 795 | ADS30: 796 | ADT30: 797 | ADU30: 798 | ADV30: 799 | ADW30: 800 | ADX30: 801 | ADY30: 802 | ADZ30: 803 | AEA30: 804 | AEB30: 805 | AEC30: 806 | AED30: 807 | AEE30: 808 | AEF30: 809 | AEG30: 810 | AEH30: 811 | AEI30: 812 | AEJ30: 813 | AEK30: 814 | AEL30: 815 | AEM30: 816 | AEN30: 817 | AEO30: 818 | AEP30: 819 | AEQ30: 820 | AER30: 821 | AES30: 822 | AET30: 823 | AEU30: 824 | AEV30: 825 | AEW30: 826 | AEX30: 827 | AEY30: 828 | AEZ30: 829 | AFA30: 830 | AFB30: 831 | AFC30: 832 | AFD30: 833 | AFE30: 834 | AFF30: 835 | AFG30: 836 | AFH30: 837 | AFI30: 838 | AFJ30: 839 | AFK30: 840 | AFL30: 841 | AFM30: 842 | AFN30: 843 | AFO30: 844 | AFP30: 845 | AFQ30: 846 | AFR30: 847 | AFS30: 848 | AFT30: 849 | AFU30: 850 | AFV30: 851 | AFW30: 852 | AFX30: 853 | AFY30: 854 | AFZ30: 855 | AGA30: 856 | AGB30: 857 | AGC30: 858 | AGD30: 859 | AGE30: 860 | AGF30: 861 | AGG30: 862 | AGH30: 863 | AGI30: 864 | AGJ30: 865 | AGK30: 866 | AGL30: 867 | AGM30: 868 | AGN30: 869 | AGO30: 870 | AGP30: 871 | AGQ30: 872 | AGR30: 873 | AGS30: 874 | AGT30: 875 | AGU30: 876 | AGV30: 877 | AGW30: 878 | AGX30: 879 | AGY30: 880 | AGZ30: 881 | AHA30: 882 | AHB30: 883 | AHC30: 884 | AHD30: 885 | AHE30: 886 | AHF30: 887 | AHG30: 888 | AHH30: 889 | AHI30: 890 | AHJ30: 891 | AHK30: 892 | AHL30: 893 | AHM30: 894 | AHN30: 895 | AHO30: 896 | AHP30: 897 | AHQ30: 898 | AHR30: 899 | AHS30: 900 | AHT30: 901 | AHU30: 902 | AHV30: 903 | AHW30: 904 | AHX30: 905 | AHY30: 906 | AHZ30: 907 | AIA30: 908 | AIB30: 909 | AIC30: 910 | AID30: 911 | AIE30: 912 | AIF30: 913 | AIG30: 914 | AIH30: 915 | AII30: 916 | AIJ30: 917 | AIK30: 918 | AIL30: 919 | AIM30: 920 | AIN30: 921 | AIO30: 922 | AIP30: 923 | AIQ30: 924 | AIR30: 925 | AIS30: 926 | AIT30: 927 | AIU30: 928 | AIV30: 929 | AIW30: 930 | AIX30: 931 | AIY30: 932 | AIZ30: 933 | AJA30: 934 | AJB30: 935 | AJC30: 936 | AJD30: 937 | AJE30: 938 | AJF30: 939 | AJG30: 940 | AJH30: 941 | AJI30: 942 | AJJ30: 943 | AJK30: 944 | AJL30: 945 | AJM30: 946 | AJN30: 947 | AJO30: 948 | AJP30: 949 | AJQ30: 950 | AJR30: 951 | AJS30: 952 | AJT30: 953 | AJU30: 954 | AJV30: 955 | AJW30: 956 | AJX30: 957 | AJY30: 958 | AJZ30: 959 | AKA30: 960 | AKB30: 961 | AKC30: 962 | AKD30: 963 | AKE30: 964 | AKF30: 965 | AKG30: 966 | AKH30: 967 | AKI30: 968 | AKJ30: 969 | AKK30: 970 | AKL30: 971 | AKM30: 972 | AKN30: 973 | AKO30: 974 | AKP30: 975 | AKQ30: 976 | AKR30: 977 | AKS30: 978 | AKT30: 979 | AKU30: 980 | AKV30: 981 | AKW30: 982 | AKX30: 983 | AKY30: 984 | AKZ30: 985 | ALA30: 986 | ALB30: 987 | ALC30: 988 | ALD30: 989 | ALE30: 990 | ALF30: 991 | ALG30: 992 | ALH30: 993 | ALI30: 994 | ALJ30: 995 | ALK30: 996 | ALL30: 997 | ALM30: 998 | ALN30: 999 | ALO30: 1000 | ALP30: 1001 | ALQ30: 1002 | ALR30: 1003 | ALS30: 1004 | ALT30: 1005 | ALU30: 1006 | ALV30: 1007 | ALW30: 1008 | ALX30: 1009 | ALY30: 1010 | ALZ30: 1011 | AMA30: 1012 | AMB30: 1013 | AMC30: 1014 | AMD30: 1015 | AME30: 1016 | AMF30: 1017 | AMG30: 1018 | AMH30: 1019 | AMI30: 1020 | AMJ30: 1021 | AMK30: 1022 | AML30: 1023 | AMM30: 1024 | AMN30: 1025 | AMO30: 1026 | AMP30: 1027 | AMQ30: 1028 | AMR30: 1029 | AMS30: 1030 | AMT30: 1031 | AMU30: 1032 | AMV30: 1033 | AMW30: 1034 | AMX30: 1035 | AMY30: 1036 | AMZ30: 1037 | ANA30: 1038 | ANB30: 1039 | ANC30: 1040 | AND30: 1041 | ANE30: 1042 | ANF30: 1043 | ANG30: 1044 | ANH30: 1045 | ANI30: 1046 | ANJ30: 1047 | ANK30: 1048 | ANL30: 1049 | ANM30: 1050 | ANN30: 1051 | ANO30: 1052 | ANP30: 1053 | ANQ30: 1054 | ANR30: 1055 | ANS30: 1056 | ANT30: 1057 | ANU30: 1058 | ANV30: 1059 | ANW30: 1060 | ANX30: 1061 | ANY30: 1062 | ANZ30: 1063 | AOA30: 1064 | AOB30: 1065 | AOC30: 1066 | AOD30: 1067 | AOE30: 1068 | AOF30: 1069 | AOG30: 1070 | AOH30: 1071 | AOI30: 1072 | AOJ30: 1073 | AOK30: 1074 | AOL30: 1075 | AOM30: 1076 | AON30: 1077 | AOO30: 1078 | AOP30: 1079 | AOQ30: 1080 | AOR30: 1081 | AOS30: 1082 | AOT30: 1083 | AOU30: 1084 | AOV30: 1085 | AOW30: 1086 | AOX30: 1087 | AOY30: 1088 | AOZ30: 1089 | APA30: 1090 | APB30: 1091 | APC30: 1092 | APD30: 1093 | APE30: 1094 | APF30: 1095 | APG30: 1096 | APH30: 1097 | API30: 1098 | APJ30: 1099 | APK30: 1100 | APL30: 1101 | APM30: 1102 | APN30: 1103 | APO30: 1104 | APP30: 1105 | APQ30: 1106 | APR30: 1107 | APS30: 1108 | APT30: 1109 | APU30: 1110 | APV30: 1111 | APW30: 1112 | APX30: 1113 | APY30: 1114 | APZ30: 1115 | AQA30: 1116 | AQB30: 1117 | AQC30: 1118 | AQD30: 1119 | AQE30: 1120 | AQF30: 1121 | AQG30: 1122 | AQH30: 1123 | AQI30: 1124 | AQJ30: 1125 | AQK30: 1126 | AQL30: 1127 | AQM30: 1128 | AQN30: 1129 | AQO30: 1130 | AQP30: 1131 | AQQ30: 1132 | AQR30: 1133 | AQS30: 1134 | AQT30: 1135 | AQU30: 1136 | AQV30: 1137 | AQW30: 1138 | AQX30: 1139 | AQY30: 1140 | AQZ30: 1141 | ARA30: 1142 | ARB30: 1143 | ARC30: 1144 | ARD30: 1145 | ARE30: 1146 | ARF30: 1147 | ARG30: 1148 | ARH30: 1149 | ARI30: 1150 | ARJ30: 1151 | ARK30: 1152 | ARL30: 1153 | ARM30: 1154 | ARN30: 1155 | ARO30: 1156 | ARP30: 1157 | ARQ30: 1158 | ARR30: 1159 | ARS30: 1160 | ART30: 1161 | ARU30: 1162 | ARV30: 1163 | ARW30: 1164 | ARX30: 1165 | ARY30: 1166 | ARZ30: 1167 | ASA30: 1168 | ASB30: 1169 | ASC30: 1170 | ASD30: 1171 | ASE30: 1172 | ASF30: 1173 | ASG30: 1174 | ASH30: 1175 | ASI30: 1176 | ASJ30: 1177 | ASK30: 1178 | ASL30: 1179 | ASM30: 1180 | ASN30: 1181 | ASO30: 1182 | ASP30: 1183 | ASQ30: 1184 | ASR30: 1185 | ASS30: 1186 | AST30: 1187 | ASU30: 1188 | ASV30: 1189 | ASW30: 1190 | ASX30: 1191 | ASY30: 1192 | ASZ30: 1193 | ATA30: 1194 | ATB30: 1195 | ATC30: 1196 | ATD30: 1197 | ATE30: 1198 | ATF30: 1199 | ATG30: 1200 | ATH30: 1201 | ATI30: 1202 | ATJ30: 1203 | ATK30: 1204 | ATL30: 1205 | ATM30: 1206 | ATN30: 1207 | ATO30: 1208 | ATP30: 1209 | ATQ30: 1210 | ATR30: 1211 | ATS30: 1212 | ATT30: 1213 | ATU30: 1214 | ATV30: 1215 | ATW30: 1216 | ATX30: 1217 | ATY30: 1218 | ATZ30: 1219 | AUA30: 1220 | AUB30: 1221 | AUC30: 1222 | AUD30: 1223 | AUE30: 1224 | AUF30: 1225 | AUG30: 1226 | AUH30: 1227 | AUI30: 1228 | AUJ30: 1229 | AUK30: 1230 | AUL30: 1231 | AUM30: 1232 | AUN30: 1233 | AUO30: 1234 | AUP30: 1235 | AUQ30: 1236 | AUR30: 1237 | AUS30: 1238 | AUT30: 1239 | AUU30: 1240 | AUV30: 1241 | AUW30: 1242 | AUX30: 1243 | AUY30: 1244 | AUZ30: 1245 | AVA30: 1246 | AVB30: 1247 | AVC30: 1248 | AVD30: 1249 | AVE30: 1250 | AVF30: 1251 | AVG30: 1252 | AVH30: 1253 | AVI30: 1254 | AVJ30: 1255 | AVK30: 1256 | AVL30: 1257 | AVM30: 1258 | AVN30: 1259 | AVO30: 1260 | AVP30: 1261 | AVQ30: 1262 | AVR30: 1263 | AVS30: 1264 | AVT30: 1265 | AVU30: 1266 | AVV30: 1267 | AVW30: 1268 | AVX30: 1269 | AVY30: 1270 | AVZ30: 1271 | AWA30: 1272 | AWB30: 1273 | AWC30: 1274 | AWD30: 1275 | AWE30: 1276 | AWF30: 1277 | AWG30: 1278 | AWH30: 1279 | AWI30: 1280 | AWJ30: 1281 | AWK30: 1282 | AWL30: 1283 | AWM30: 1284 | AWN30: 1285 | AWO30: 1286 | AWP30: 1287 | AWQ30: 1288 | AWR30: 1289 | AWS30: 1290 | AWT30: 1291 | AWU30: 1292 | AWV30: 1293 | AWW30: 1294 | AWX30: 1295 | AWY30: 1296 | AWZ30: 1297 | AXA30: 1298 | AXB30: 1299 | AXC30: 1300 | AXD30: 1301 | AXE30: 1302 | AXF30: 1303 | AXG30: 1304 | AXH30: 1305 | AXI30: 1306 | AXJ30: 1307 | AXK30: 1308 | AXL30: 1309 | AXM30: 1310 | AXN30: 1311 | AXO30: 1312 | AXP30: 1313 | AXQ30: 1314 | AXR30: 1315 | AXS30: 1316 | AXT30: 1317 | AXU30: 1318 | AXV30: 1319 | AXW30: 1320 | AXX30: 1321 | AXY30: 1322 | AXZ30: 1323 | AYA30: 1324 | AYB30: 1325 | AYC30: 1326 | AYD30: 1327 | AYE30: 1328 | AYF30: 1329 | AYG30: 1330 | AYH30: 1331 | AYI30: 1332 | AYJ30: 1333 | AYK30: 1334 | AYL30: 1335 | AYM30: 1336 | AYN30: 1337 | AYO30: 1338 | AYP30: 1339 | AYQ30: 1340 | AYR30: 1341 | AYS30: 1342 | AYT30: 1343 | AYU30: 1344 | AYV30: 1345 | AYW30: 1346 | AYX30: 1347 | AYY30: 1348 | AYZ30: 1349 | AZA30: 1350 | AZB30: 1351 | AZC30: 1352 | AZD30: 1353 | AZE30: 1354 | AZF30: 1355 | AZG30: 1356 | AZH30: 1357 | AZI30: 1358 | AZJ30: 1359 | AZK30: 1360 | AZL30: 1361 | AZM30: 1362 | AZN30: 1363 | AZO30: 1364 | AZP30: 1365 | AZQ30: 1366 | AZR30: 1367 | AZS30: 1368 | AZT30: 1369 | AZU30: 1370 | AZV30: 1371 | AZW30: 1372 | AZX30: 1373 | AZY30: 1374 | AZZ30: 1375 | BAA30: 1376 | BAB30: 1377 | BAC30: 1378 | BAD30: 1379 | BAE30: 1380 | BAF30: 1381 | BAG30: 1382 | BAH30: 1383 | BAI30: 1384 | BAJ30: 1385 | BAK30: 1386 | BAL30: 1387 | BAM30: 1388 | BAN30: 1389 | BAO30: 1390 | BAP30: 1391 | BAQ30: 1392 | BAR30: 1393 | BAS30: 1394 | BAT30: 1395 | BAU30: 1396 | BAV30: 1397 | BAW30: 1398 | BAX30: 1399 | BAY30: 1400 | BAZ30: 1401 | BBA30: 1402 | BBB30: 1403 | BBC30: 1404 | BBD30: 1405 | BBE30: 1406 | BBF30: 1407 | BBG30: 1408 | BBH30: 1409 | BBI30: 1410 | BBJ30: 1411 | BBK30: 1412 | BBL30: 1413 | BBM30: 1414 | BBN30: 1415 | BBO30: 1416 | BBP30: 1417 | BBQ30: 1418 | BBR30: 1419 | BBS30: 1420 | BBT30: 1421 | BBU30: 1422 | BBV30: 1423 | BBW30: 1424 | BBX30: 1425 | BBY30: 1426 | BBZ30: 1427 | BCA30: 1428 | BCB30: 1429 | BCC30: 1430 | BCD30: 1431 | BCE30: 1432 | BCF30: 1433 | BCG30: 1434 | BCH30: 1435 | BCI30: 1436 | BCJ30: 1437 | BCK30: 1438 | BCL30: 1439 | BCM30: 1440 | BCN30: 1441 | BCO30: 1442 | BCP30: 1443 | BCQ30: 1444 | BCR30: 1445 | BCS30: 1446 | BCT30: 1447 | BCU30: 1448 | BCV30: 1449 | BCW30: 1450 | BCX30: 1451 | BCY30: 1452 | BCZ30: 1453 | BDA30: 1454 | BDB30: 1455 | BDC30: 1456 | BDD30: 1457 | BDE30: 1458 | BDF30: 1459 | BDG30: 1460 | BDH30: 1461 | BDI30: 1462 | BDJ30: 1463 | BDK30: 1464 | BDL30: 1465 | BDM30: 1466 | BDN30: 1467 | BDO30: 1468 | BDP30: 1469 | BDQ30: 1470 | BDR30: 1471 | BDS30: 1472 | BDT30: 1473 | BDU30: 1474 | BDV30: 1475 | BDW30: 1476 | BDX30: 1477 | BDY30: 1478 | BDZ30: 1479 | BEA30: 1480 | BEB30: 1481 | BEC30: 1482 | BED30: 1483 | BEE30: 1484 | BEF30: 1485 | BEG30: 1486 | BEH30: 1487 | BEI30: 1488 | BEJ30: 1489 | BEK30: 1490 | BEL30: 1491 | BEM30: 1492 | BEN30: 1493 | BEO30: 1494 | BEP30: 1495 | BEQ30: 1496 | BER30: 1497 | BES30: 1498 | BET30: 1499 | BEU30: 1500 | BEV30: 1501 | BEW30: 1502 | BEX30: 1503 | BEY30: 1504 | BEZ30: 1505 | BFA30: 1506 | BFB30: 1507 | BFC30: 1508 | BFD30: 1509 | BFE30: 1510 | BFF30: 1511 | BFG30: 1512 | BFH30: 1513 | BFI30: 1514 | BFJ30: 1515 | BFK30: 1516 | BFL30: 1517 | BFM30: 1518 | BFN30: 1519 | BFO30: 1520 | BFP30: 1521 | BFQ30: 1522 | BFR30: 1523 | BFS30: 1524 | BFT30: 1525 | BFU30: 1526 | BFV30: 1527 | BFW30: 1528 | BFX30: 1529 | BFY30: 1530 | BFZ30: 1531 | BGA30: 1532 | BGB30: 1533 | BGC30: 1534 | BGD30: 1535 | BGE30: 1536 | BGF30: 1537 | BGG30: 1538 | BGH30: 1539 | BGI30: 1540 | BGJ30: 1541 | BGK30: 1542 | BGL30: 1543 | BGM30: 1544 | BGN30: 1545 | BGO30: 1546 | BGP30: 1547 | BGQ30: 1548 | BGR30: 1549 | BGS30: 1550 | BGT30: 1551 | BGU30: 1552 | BGV30: 1553 | BGW30: 1554 | BGX30: 1555 | BGY30: 1556 | BGZ30: 1557 | BHA30: 1558 | BHB30: 1559 | BHC30: 1560 | BHD30: 1561 | BHE30: 1562 | BHF30: 1563 | BHG30: 1564 | BHH30: 1565 | BHI30: 1566 | BHJ30: 1567 | BHK30: 1568 | BHL30: 1569 | BHM30: 1570 | BHN30: 1571 | BHO30: 1572 | BHP30: 1573 | BHQ30: 1574 | BHR30: 1575 | BHS30: 1576 | BHT30: 1577 | BHU30: 1578 | BHV30: 1579 | BHW30: 1580 | BHX30: 1581 | BHY30: 1582 | BHZ30: 1583 | BIA30: 1584 | BIB30: 1585 | BIC30: 1586 | BID30: 1587 | BIE30: 1588 | BIF30: 1589 | BIG30: 1590 | BIH30: 1591 | BII30: 1592 | BIJ30: 1593 | BIK30: 1594 | BIL30: 1595 | BIM30: 1596 | BIN30: 1597 | BIO30: 1598 | BIP30: 1599 | BIQ30: 1600 | BIR30: 1601 | BIS30: 1602 | BIT30: 1603 | BIU30: 1604 | BIV30: 1605 | BIW30: 1606 | BIX30: 1607 | BIY30: 1608 | BIZ30: 1609 | BJA30: 1610 | BJB30: 1611 | BJC30: 1612 | BJD30: 1613 | BJE30: 1614 | BJF30: 1615 | BJG30: 1616 | BJH30: 1617 | BJI30: 1618 | BJJ30: 1619 | BJK30: 1620 | BJL30: 1621 | BJM30: 1622 | BJN30: 1623 | BJO30: 1624 | BJP30: 1625 | BJQ30: 1626 | BJR30: 1627 | BJS30: 1628 | BJT30: 1629 | BJU30: 1630 | BJV30: 1631 | BJW30: 1632 | BJX30: 1633 | BJY30: 1634 | BJZ30: 1635 | BKA30: 1636 | BKB30: 1637 | BKC30: 1638 | BKD30: 1639 | BKE30: 1640 | BKF30: 1641 | BKG30: 1642 | BKH30: 1643 | BKI30: 1644 | BKJ30: 1645 | BKK30: 1646 | BKL30: 1647 | BKM30: 1648 | BKN30: 1649 | BKO30: 1650 | BKP30: 1651 | BKQ30: 1652 | BKR30: 1653 | BKS30: 1654 | BKT30: 1655 | BKU30: 1656 | BKV30: 1657 | BKW30: 1658 | BKX30: 1659 | BKY30: 1660 | BKZ30: 1661 | BLA30: 1662 | BLB30: 1663 | BLC30: 1664 | BLD30: 1665 | BLE30: 1666 | BLF30: 1667 | BLG30: 1668 | BLH30: 1669 | BLI30: 1670 | BLJ30: 1671 | BLK30: 1672 | BLL30: 1673 | BLM30: 1674 | BLN30: 1675 | BLO30: 1676 | BLP30: 1677 | BLQ30: 1678 | BLR30: 1679 | BLS30: 1680 | BLT30: 1681 | BLU30: 1682 | BLV30: 1683 | BLW30: 1684 | BLX30: 1685 | BLY30: 1686 | BLZ30: 1687 | BMA30: 1688 | BMB30: 1689 | BMC30: 1690 | BMD30: 1691 | BME30: 1692 | BMF30: 1693 | BMG30: 1694 | BMH30: 1695 | BMI30: 1696 | BMJ30: 1697 | BMK30: 1698 | BML30: 1699 | BMM30: 1700 | BMN30: 1701 | BMO30: 1702 | BMP30: 1703 | BMQ30: 1704 | BMR30: 1705 | BMS30: 1706 | BMT30: 1707 | BMU30: 1708 | BMV30: 1709 | BMW30: 1710 | BMX30: 1711 | BMY30: 1712 | BMZ30: 1713 | BNA30: 1714 | BNB30: 1715 | BNC30: 1716 | BND30: 1717 | BNE30: 1718 | BNF30: 1719 | BNG30: 1720 | BNH30: 1721 | BNI30: 1722 | BNJ30: 1723 | BNK30: 1724 | BNL30: 1725 | BNM30: 1726 | BNN30: 1727 | BNO30: 1728 | BNP30: 1729 | BNQ30: 1730 | BNR30: 1731 | BNS30: 1732 | BNT30: 1733 | BNU30: 1734 | BNV30: 1735 | BNW30: 1736 | BNX30: 1737 | BNY30: 1738 | BNZ30: 1739 | BOA30: 1740 | BOB30: 1741 | BOC30: 1742 | BOD30: 1743 | BOE30: 1744 | BOF30: 1745 | BOG30: 1746 | BOH30: 1747 | BOI30: 1748 | BOJ30: 1749 | BOK30: 1750 | BOL30: 1751 | BOM30: 1752 | BON30: 1753 | BOO30: 1754 | BOP30: 1755 | BOQ30: 1756 | BOR30: 1757 | BOS30: 1758 | BOT30: 1759 | BOU30: 1760 | BOV30: 1761 | BOW30: 1762 | BOX30: 1763 | BOY30: 1764 | BOZ30: 1765 | BPA30: 1766 | BPB30: 1767 | BPC30: 1768 | BPD30: 1769 | BPE30: 1770 | BPF30: 1771 | BPG30: 1772 | BPH30: 1773 | BPI30: 1774 | BPJ30: 1775 | BPK30: 1776 | BPL30: 1777 | BPM30: 1778 | BPN30: 1779 | BPO30: 1780 | BPP30: 1781 | BPQ30: 1782 | BPR30: 1783 | BPS30: 1784 | BPT30: 1785 | BPU30: 1786 | BPV30: 1787 | BPW30: 1788 | BPX30: 1789 | BPY30: 1790 | BPZ30: 1791 | BQA30: 1792 | BQB30: 1793 | BQC30: 1794 | BQD30: 1795 | BQE30: 1796 | BQF30: 1797 | BQG30: 1798 | BQH30: 1799 | BQI30: 1800 | BQJ30: 1801 | BQK30: 1802 | BQL30: 1803 | BQM30: 1804 | BQN30: 1805 | BQO30: 1806 | BQP30: 1807 | BQQ30: 1808 | BQR30: 1809 | BQS30: 1810 | BQT30: 1811 | BQU30: 1812 | BQV30: 1813 | BQW30: 1814 | BQX30: 1815 | BQY30: 1816 | BQZ30: 1817 | BRA30: 1818 | BRB30: 1819 | BRC30: 1820 | BRD30: 1821 | BRE30: 1822 | BRF30: 1823 | BRG30: 1824 | BRH30: 1825 | BRI30: 1826 | BRJ30: 1827 | BRK30: 1828 | BRL30: 1829 | BRM30: 1830 | BRN30: 1831 | BRO30: 1832 | BRP30: 1833 | BRQ30: 1834 | BRR30: 1835 | BRS30: 1836 | BRT30: 1837 | BRU30: 1838 | BRV30: 1839 | BRW30: 1840 | BRX30: 1841 | BRY30: 1842 | BRZ30: 1843 | BSA30: 1844 | BSB30: 1845 | BSC30: 1846 | BSD30: 1847 | BSE30: 1848 | BSF30: 1849 | BSG30: 1850 | BSH30: 1851 | BSI30: 1852 | BSJ30: 1853 | BSK30: 1854 | BSL30: 1855 | BSM30: 1856 | BSN30: 1857 | BSO30: 1858 | BSP30: 1859 | BSQ30: 1860 | BSR30: 1861 | BSS30: 1862 | BST30: 1863 | BSU30: 1864 | BSV30: 1865 | BSW30: 1866 | BSX30: 1867 | BSY30: 1868 | BSZ30: 1869 | BTA30: 1870 | BTB30: 1871 | BTC30: 1872 | BTD30: 1873 | BTE30: 1874 | BTF30: 1875 | BTG30: 1876 | BTH30: 1877 | BTI30: 1878 | BTJ30: 1879 | BTK30: 1880 | BTL30: 1881 | BTM30: 1882 | BTN30: 1883 | BTO30: 1884 | BTP30: 1885 | BTQ30: 1886 | BTR30: 1887 | BTS30: 1888 | BTT30: 1889 | BTU30: 1890 | BTV30: 1891 | BTW30: 1892 | BTX30: 1893 | BTY30: 1894 | BTZ30: 1895 | BUA30: 1896 | BUB30: 1897 | BUC30: 1898 | BUD30: 1899 | BUE30: 1900 | BUF30: 1901 | BUG30: 1902 | BUH30: 1903 | BUI30: 1904 | BUJ30: 1905 | BUK30: 1906 | BUL30: 1907 | BUM30: 1908 | BUN30: 1909 | BUO30: 1910 | BUP30: 1911 | BUQ30: 1912 | BUR30: 1913 | BUS30: 1914 | BUT30: 1915 | BUU30: 1916 | BUV30: 1917 | BUW30: 1918 | BUX30: 1919 | BUY30: 1920 | BUZ30: 1921 | BVA30: 1922 | BVB30: 1923 | BVC30: 1924 | BVD30: 1925 | BVE30: 1926 | BVF30: 1927 | BVG30: 1928 | BVH30: 1929 | BVI30: 1930 | BVJ30: 1931 | BVK30: 1932 | BVL30: 1933 | BVM30: 1934 | BVN30: 1935 | BVO30: 1936 | BVP30: 1937 | BVQ30: 1938 | BVR30: 1939 | BVS30: 1940 | BVT30: 1941 | BVU30: 1942 | BVV30: 1943 | BVW30: 1944 | BVX30: 1945 | BVY30: 1946 | BVZ30: 1947 | BWA30: 1948 | BWB30: 1949 | BWC30: 1950 | BWD30: 1951 | BWE30: 1952 | BWF30: 1953 | BWG30: 1954 | BWH30: 1955 | BWI30: 1956 | BWJ30: 1957 | BWK30: 1958 | BWL30: 1959 | BWM30: 1960 | BWN30: 1961 | BWO30: 1962 | BWP30: 1963 | BWQ30: 1964 | BWR30: 1965 | BWS30: 1966 | BWT30: 1967 | BWU30: 1968 | BWV30: 1969 | BWW30: 1970 | BWX30: 1971 | BWY30: 1972 | BWZ30: 1973 | BXA30: 1974 | BXB30: 1975 | BXC30: 1976 | BXD30: 1977 | BXE30: 1978 | BXF30: 1979 | BXG30: 1980 | BXH30: 1981 | BXI30: 1982 | BXJ30: 1983 | BXK30: 1984 | BXL30: 1985 | BXM30: 1986 | BXN30: 1987 | BXO30: 1988 | BXP30: 1989 | BXQ30: 1990 | BXR30: 1991 | BXS30: 1992 | BXT30: 1993 | BXU30: 1994 | BXV30: 1995 | BXW30: 1996 | BXX30: 1997 | BXY30: 1998 | BXZ30: 1999 | BYA30: 2000
A31: =A6 -> 184 | B31: {=MATCH(TRUE,D31:BYA31>$B$28,0)} -> 77 | C31: =Worksheet4!A4 -> Suspended Ceiling Tile A | D31: =1-_xlfn.HYPGEOM.DIST(0,D$30,$A31*'Sampling Plan Cover Sheet'!$B$11,$A31,FALSE) -> 0.048913043 | E31: =1-_xlfn.HYPGEOM.DIST(0,E$30,$A31*'Sampling Plan Cover Sheet'!$B$11,$A31,FALSE) -> 0.095687812 | F31: =1-_xlfn.HYPGEOM.DIST(0,F$30,$A31*'Sampling Plan Cover Sheet'!$B$11,$A31,FALSE) -> 0.14040655 | G31: =1-_xlfn.HYPGEOM.DIST(0,G$30,$A31*'Sampling Plan Cover Sheet'!$B$11,$A31,FALSE) -> 0.18314876 | H31: =1-_xlfn.HYPGEOM.DIST(0,H$30,$A31*'Sampling Plan Cover Sheet'!$B$11,$A31,FALSE) -> 0.22399132 | I31: =1-_xlfn.HYPGEOM.DIST(0,I$30,$A31*'Sampling Plan Cover Sheet'!$B$11,$A31,FALSE) -> 0.26300852 | J31: =1-_xlfn.HYPGEOM.DIST(0,J$30,$A31*'Sampling Plan Cover Sheet'!$B$11,$A31,FALSE) -> 0.30027213 | K31: =1-_xlfn.HYPGEOM.DIST(0,K$30,$A31*'Sampling Plan Cover Sheet'!$B$11,$A31,FALSE) -> 0.33585152 | ... BYA31: =1-_xlfn.HYPGEOM.DIST(0,BYA$30,$A31*'Sampling Plan Cover Sheet'!$B$11,$A31,FALSE) -> #NUM!
A32: =A7 -> 199 | B32: {=MATCH(TRUE,D32:BYA32>$B$28,0)} -> 83 | C32: =Worksheet4!A5 -> Gypsum Wall Board A | D32: =1-_xlfn.HYPGEOM.DIST(0,D$30,$A32*'Sampling Plan Cover Sheet'!$B$11,$A32,FALSE) -> 0.045226131 | E32: =1-_xlfn.HYPGEOM.DIST(0,E$30,$A32*'Sampling Plan Cover Sheet'!$B$11,$A32,FALSE) -> 0.088624943 | F32: =1-_xlfn.HYPGEOM.DIST(0,F$30,$A32*'Sampling Plan Cover Sheet'!$B$11,$A32,FALSE) -> 0.13026137 | G32: =1-_xlfn.HYPGEOM.DIST(0,G$30,$A32*'Sampling Plan Cover Sheet'!$B$11,$A32,FALSE) -> 0.17019834 | H32: =1-_xlfn.HYPGEOM.DIST(0,H$30,$A32*'Sampling Plan Cover Sheet'!$B$11,$A32,FALSE) -> 0.20849688 | I32: =1-_xlfn.HYPGEOM.DIST(0,I$30,$A32*'Sampling Plan Cover Sheet'!$B$11,$A32,FALSE) -> 0.2452161 | J32: =1-_xlfn.HYPGEOM.DIST(0,J$30,$A32*'Sampling Plan Cover Sheet'!$B$11,$A32,FALSE) -> 0.28041328 | K32: =1-_xlfn.HYPGEOM.DIST(0,K$30,$A32*'Sampling Plan Cover Sheet'!$B$11,$A32,FALSE) -> 0.3141439 | ... BYA32: =1-_xlfn.HYPGEOM.DIST(0,BYA$30,$A32*'Sampling Plan Cover Sheet'!$B$11,$A32,FALSE) -> #NUM!
A33: =A8 -> 16 | B33: {=MATCH(TRUE,D33:BYA33>$B$28,0)} -> #N/A | C33: =Worksheet4!A6 -> Carmet Mastic | D33: =1-_xlfn.HYPGEOM.DIST(0,D$30,$A33*'Sampling Plan Cover Sheet'!$B$11,$A33,FALSE) -> 0 | E33: =1-_xlfn.HYPGEOM.DIST(0,E$30,$A33*'Sampling Plan Cover Sheet'!$B$11,$A33,FALSE) -> 0 | F33: =1-_xlfn.HYPGEOM.DIST(0,F$30,$A33*'Sampling Plan Cover Sheet'!$B$11,$A33,FALSE) -> 0 | G33: =1-_xlfn.HYPGEOM.DIST(0,G$30,$A33*'Sampling Plan Cover Sheet'!$B$11,$A33,FALSE) -> 0 | H33: =1-_xlfn.HYPGEOM.DIST(0,H$30,$A33*'Sampling Plan Cover Sheet'!$B$11,$A33,FALSE) -> 0 | I33: =1-_xlfn.HYPGEOM.DIST(0,I$30,$A33*'Sampling Plan Cover Sheet'!$B$11,$A33,FALSE) -> 0 | J33: =1-_xlfn.HYPGEOM.DIST(0,J$30,$A33*'Sampling Plan Cover Sheet'!$B$11,$A33,FALSE) -> 0 | K33: =1-_xlfn.HYPGEOM.DIST(0,K$30,$A33*'Sampling Plan Cover Sheet'!$B$11,$A33,FALSE) -> 0 | ... BYA33: =1-_xlfn.HYPGEOM.DIST(0,BYA$30,$A33*'Sampling Plan Cover Sheet'!$B$11,$A33,FALSE) -> #NUM!
A34: =A9 -> 25 | B34: {=MATCH(TRUE,D34:BYA34>$B$28,0)} -> 25 | C34: =Worksheet4!A7 -> Thermal System Insulation | D34: =1-_xlfn.HYPGEOM.DIST(0,D$30,$A34*'Sampling Plan Cover Sheet'!$B$11,$A34,FALSE) -> 0.04 | E34: =1-_xlfn.HYPGEOM.DIST(0,E$30,$A34*'Sampling Plan Cover Sheet'!$B$11,$A34,FALSE) -> 0.08 | F34: =1-_xlfn.HYPGEOM.DIST(0,F$30,$A34*'Sampling Plan Cover Sheet'!$B$11,$A34,FALSE) -> 0.12 | G34: =1-_xlfn.HYPGEOM.DIST(0,G$30,$A34*'Sampling Plan Cover Sheet'!$B$11,$A34,FALSE) -> 0.16 | H34: =1-_xlfn.HYPGEOM.DIST(0,H$30,$A34*'Sampling Plan Cover Sheet'!$B$11,$A34,FALSE) -> 0.2 | I34: =1-_xlfn.HYPGEOM.DIST(0,I$30,$A34*'Sampling Plan Cover Sheet'!$B$11,$A34,FALSE) -> 0.24 | J34: =1-_xlfn.HYPGEOM.DIST(0,J$30,$A34*'Sampling Plan Cover Sheet'!$B$11,$A34,FALSE) -> 0.28 | K34: =1-_xlfn.HYPGEOM.DIST(0,K$30,$A34*'Sampling Plan Cover Sheet'!$B$11,$A34,FALSE) -> 0.32 | ... BYA34: =1-_xlfn.HYPGEOM.DIST(0,BYA$30,$A34*'Sampling Plan Cover Sheet'!$B$11,$A34,FALSE) -> #NUM!
A35: =A10 -> 15 | B35: {=MATCH(TRUE,D35:BYA35>$B$28,0)} -> #N/A | C35: =Worksheet4!A8 -> Spray-on Insulation | D35: =1-_xlfn.HYPGEOM.DIST(0,D$30,$A35*'Sampling Plan Cover Sheet'!$B$11,$A35,FALSE) -> 0 | E35: =1-_xlfn.HYPGEOM.DIST(0,E$30,$A35*'Sampling Plan Cover Sheet'!$B$11,$A35,FALSE) -> 0 | F35: =1-_xlfn.HYPGEOM.DIST(0,F$30,$A35*'Sampling Plan Cover Sheet'!$B$11,$A35,FALSE) -> 0 | G35: =1-_xlfn.HYPGEOM.DIST(0,G$30,$A35*'Sampling Plan Cover Sheet'!$B$11,$A35,FALSE) -> 0 | H35: =1-_xlfn.HYPGEOM.DIST(0,H$30,$A35*'Sampling Plan Cover Sheet'!$B$11,$A35,FALSE) -> 0 | I35: =1-_xlfn.HYPGEOM.DIST(0,I$30,$A35*'Sampling Plan Cover Sheet'!$B$11,$A35,FALSE) -> 0 | J35: =1-_xlfn.HYPGEOM.DIST(0,J$30,$A35*'Sampling Plan Cover Sheet'!$B$11,$A35,FALSE) -> 0 | K35: =1-_xlfn.HYPGEOM.DIST(0,K$30,$A35*'Sampling Plan Cover Sheet'!$B$11,$A35,FALSE) -> 0 | ... BYA35: =1-_xlfn.HYPGEOM.DIST(0,BYA$30,$A35*'Sampling Plan Cover Sheet'!$B$11,$A35,FALSE) -> #NUM!
A36: =A11 -> 109 | B36: {=MATCH(TRUE,D36:BYA36>$B$28,0)} -> 68 | C36: =Worksheet4!A9 -> Mastic | D36: =1-_xlfn.HYPGEOM.DIST(0,D$30,$A36*'Sampling Plan Cover Sheet'!$B$11,$A36,FALSE) -> 0.04587156 | E36: =1-_xlfn.HYPGEOM.DIST(0,E$30,$A36*'Sampling Plan Cover Sheet'!$B$11,$A36,FALSE) -> 0.090044173 | F36: =1-_xlfn.HYPGEOM.DIST(0,F$30,$A36*'Sampling Plan Cover Sheet'!$B$11,$A36,FALSE) -> 0.13256547 | G36: =1-_xlfn.HYPGEOM.DIST(0,G$30,$A36*'Sampling Plan Cover Sheet'!$B$11,$A36,FALSE) -> 0.1734822 | H36: =1-_xlfn.HYPGEOM.DIST(0,H$30,$A36*'Sampling Plan Cover Sheet'!$B$11,$A36,FALSE) -> 0.21284019 | I36: =1-_xlfn.HYPGEOM.DIST(0,I$30,$A36*'Sampling Plan Cover Sheet'!$B$11,$A36,FALSE) -> 0.25068441 | J36: =1-_xlfn.HYPGEOM.DIST(0,J$30,$A36*'Sampling Plan Cover Sheet'!$B$11,$A36,FALSE) -> 0.28705895 | K36: =1-_xlfn.HYPGEOM.DIST(0,K$30,$A36*'Sampling Plan Cover Sheet'!$B$11,$A36,FALSE) -> 0.32200704 | ... BYA36: =1-_xlfn.HYPGEOM.DIST(0,BYA$30,$A36*'Sampling Plan Cover Sheet'!$B$11,$A36,FALSE) -> #NUM!
A37: =A12 -> 62 | B37: {=MATCH(TRUE,D37:BYA37>$B$28,0)} -> 50 | C37: =Worksheet4!A10 -> Paint | D37: =1-_xlfn.HYPGEOM.DIST(0,D$30,$A37*'Sampling Plan Cover Sheet'!$B$11,$A37,FALSE) -> 0.048387097 | E37: =1-_xlfn.HYPGEOM.DIST(0,E$30,$A37*'Sampling Plan Cover Sheet'!$B$11,$A37,FALSE) -> 0.095187731 | F37: =1-_xlfn.HYPGEOM.DIST(0,F$30,$A37*'Sampling Plan Cover Sheet'!$B$11,$A37,FALSE) -> 0.14042834 | G37: =1-_xlfn.HYPGEOM.DIST(0,G$30,$A37*'Sampling Plan Cover Sheet'!$B$11,$A37,FALSE) -> 0.18413538 | H37: =1-_xlfn.HYPGEOM.DIST(0,H$30,$A37*'Sampling Plan Cover Sheet'!$B$11,$A37,FALSE) -> 0.22633527 | I37: =1-_xlfn.HYPGEOM.DIST(0,I$30,$A37*'Sampling Plan Cover Sheet'!$B$11,$A37,FALSE) -> 0.26705447 | J37: =1-_xlfn.HYPGEOM.DIST(0,J$30,$A37*'Sampling Plan Cover Sheet'!$B$11,$A37,FALSE) -> 0.30631941 | K37: =1-_xlfn.HYPGEOM.DIST(0,K$30,$A37*'Sampling Plan Cover Sheet'!$B$11,$A37,FALSE) -> 0.34415653 | ... BYA37: =1-_xlfn.HYPGEOM.DIST(0,BYA$30,$A37*'Sampling Plan Cover Sheet'!$B$11,$A37,FALSE) -> #NUM!
A38: =A13 -> 144 | B38: {=MATCH(TRUE,D38:BYA38>$B$28,0)} -> 72 | C38: =Worksheet4!A11 -> Replacement Window Caulking | D38: =1-_xlfn.HYPGEOM.DIST(0,D$30,$A38*'Sampling Plan Cover Sheet'!$B$11,$A38,FALSE) -> 0.048611111 | E38: =1-_xlfn.HYPGEOM.DIST(0,E$30,$A38*'Sampling Plan Cover Sheet'!$B$11,$A38,FALSE) -> 0.095182595 | F38: =1-_xlfn.HYPGEOM.DIST(0,F$30,$A38*'Sampling Plan Cover Sheet'!$B$11,$A38,FALSE) -> 0.13978627 | G38: =1-_xlfn.HYPGEOM.DIST(0,G$30,$A38*'Sampling Plan Cover Sheet'!$B$11,$A38,FALSE) -> 0.18249192 | H38: =1-_xlfn.HYPGEOM.DIST(0,H$30,$A38*'Sampling Plan Cover Sheet'!$B$11,$A38,FALSE) -> 0.22336732 | I38: =1-_xlfn.HYPGEOM.DIST(0,I$30,$A38*'Sampling Plan Cover Sheet'!$B$11,$A38,FALSE) -> 0.26247832 | J38: =1-_xlfn.HYPGEOM.DIST(0,J$30,$A38*'Sampling Plan Cover Sheet'!$B$11,$A38,FALSE) -> 0.29988884 | K38: =1-_xlfn.HYPGEOM.DIST(0,K$30,$A38*'Sampling Plan Cover Sheet'!$B$11,$A38,FALSE) -> 0.33566094 | ... BYA38: =1-_xlfn.HYPGEOM.DIST(0,BYA$30,$A38*'Sampling Plan Cover Sheet'!$B$11,$A38,FALSE) -> #NUM!
A39: =A14 -> 15 | B39: {=MATCH(TRUE,D39:BYA39>$B$28,0)} -> #N/A | C39: =Worksheet4!A12 -> Flue Connector | D39: =1-_xlfn.HYPGEOM.DIST(0,D$30,$A39*'Sampling Plan Cover Sheet'!$B$11,$A39,FALSE) -> 0 | E39: =1-_xlfn.HYPGEOM.DIST(0,E$30,$A39*'Sampling Plan Cover Sheet'!$B$11,$A39,FALSE) -> 0 | F39: =1-_xlfn.HYPGEOM.DIST(0,F$30,$A39*'Sampling Plan Cover Sheet'!$B$11,$A39,FALSE) -> 0 | G39: =1-_xlfn.HYPGEOM.DIST(0,G$30,$A39*'Sampling Plan Cover Sheet'!$B$11,$A39,FALSE) -> 0 | H39: =1-_xlfn.HYPGEOM.DIST(0,H$30,$A39*'Sampling Plan Cover Sheet'!$B$11,$A39,FALSE) -> 0 | I39: =1-_xlfn.HYPGEOM.DIST(0,I$30,$A39*'Sampling Plan Cover Sheet'!$B$11,$A39,FALSE) -> 0 | J39: =1-_xlfn.HYPGEOM.DIST(0,J$30,$A39*'Sampling Plan Cover Sheet'!$B$11,$A39,FALSE) -> 0 | K39: =1-_xlfn.HYPGEOM.DIST(0,K$30,$A39*'Sampling Plan Cover Sheet'!$B$11,$A39,FALSE) -> 0 | ... BYA39: =1-_xlfn.HYPGEOM.DIST(0,BYA$30,$A39*'Sampling Plan Cover Sheet'!$B$11,$A39,FALSE) -> #NUM!
A40: =A15 -> 8 | B40: {=MATCH(TRUE,D40:BYA40>$B$28,0)} -> #N/A | C40: =Worksheet4!A13 -> Adhesive | D40: =1-_xlfn.HYPGEOM.DIST(0,D$30,$A40*'Sampling Plan Cover Sheet'!$B$11,$A40,FALSE) -> 0 | E40: =1-_xlfn.HYPGEOM.DIST(0,E$30,$A40*'Sampling Plan Cover Sheet'!$B$11,$A40,FALSE) -> 0 | F40: =1-_xlfn.HYPGEOM.DIST(0,F$30,$A40*'Sampling Plan Cover Sheet'!$B$11,$A40,FALSE) -> 0 | G40: =1-_xlfn.HYPGEOM.DIST(0,G$30,$A40*'Sampling Plan Cover Sheet'!$B$11,$A40,FALSE) -> 0 | H40: =1-_xlfn.HYPGEOM.DIST(0,H$30,$A40*'Sampling Plan Cover Sheet'!$B$11,$A40,FALSE) -> 0 | I40: =1-_xlfn.HYPGEOM.DIST(0,I$30,$A40*'Sampling Plan Cover Sheet'!$B$11,$A40,FALSE) -> 0 | J40: =1-_xlfn.HYPGEOM.DIST(0,J$30,$A40*'Sampling Plan Cover Sheet'!$B$11,$A40,FALSE) -> 0 | K40: =1-_xlfn.HYPGEOM.DIST(0,K$30,$A40*'Sampling Plan Cover Sheet'!$B$11,$A40,FALSE) -> 0 | ... BYA40: =1-_xlfn.HYPGEOM.DIST(0,BYA$30,$A40*'Sampling Plan Cover Sheet'!$B$11,$A40,FALSE) -> #NUM!
A41: =A16 -> 6 | B41: {=MATCH(TRUE,D41:BYA41>$B$28,0)} -> #N/A | C41: =Worksheet4!A14 -> Sink Undercoating A | D41: =1-_xlfn.HYPGEOM.DIST(0,D$30,$A41*'Sampling Plan Cover Sheet'!$B$11,$A41,FALSE) -> 0 | E41: =1-_xlfn.HYPGEOM.DIST(0,E$30,$A41*'Sampling Plan Cover Sheet'!$B$11,$A41,FALSE) -> 0 | F41: =1-_xlfn.HYPGEOM.DIST(0,F$30,$A41*'Sampling Plan Cover Sheet'!$B$11,$A41,FALSE) -> 0 | G41: =1-_xlfn.HYPGEOM.DIST(0,G$30,$A41*'Sampling Plan Cover Sheet'!$B$11,$A41,FALSE) -> 0 | H41: =1-_xlfn.HYPGEOM.DIST(0,H$30,$A41*'Sampling Plan Cover Sheet'!$B$11,$A41,FALSE) -> 0 | I41: =1-_xlfn.HYPGEOM.DIST(0,I$30,$A41*'Sampling Plan Cover Sheet'!$B$11,$A41,FALSE) -> 0 | J41: =1-_xlfn.HYPGEOM.DIST(0,J$30,$A41*'Sampling Plan Cover Sheet'!$B$11,$A41,FALSE) -> #NUM! | K41: =1-_xlfn.HYPGEOM.DIST(0,K$30,$A41*'Sampling Plan Cover Sheet'!$B$11,$A41,FALSE) -> #NUM! | ... BYA41: =1-_xlfn.HYPGEOM.DIST(0,BYA$30,$A41*'Sampling Plan Cover Sheet'!$B$11,$A41,FALSE) -> #NUM!
A42: =A17 -> 88 | B42: {=MATCH(TRUE,D42:BYA42>$B$28,0)} -> 62 | C42: =Worksheet4!A15 -> Suspended Ceiling Tile C | D42: =1-_xlfn.HYPGEOM.DIST(0,D$30,$A42*'Sampling Plan Cover Sheet'!$B$11,$A42,FALSE) -> 0.045454545 | E42: =1-_xlfn.HYPGEOM.DIST(0,E$30,$A42*'Sampling Plan Cover Sheet'!$B$11,$A42,FALSE) -> 0.089341693 | F42: =1-_xlfn.HYPGEOM.DIST(0,F$30,$A42*'Sampling Plan Cover Sheet'!$B$11,$A42,FALSE) -> 0.13169789 | G42: =1-_xlfn.HYPGEOM.DIST(0,G$30,$A42*'Sampling Plan Cover Sheet'!$B$11,$A42,FALSE) -> 0.17255917 | H42: =1-_xlfn.HYPGEOM.DIST(0,H$30,$A42*'Sampling Plan Cover Sheet'!$B$11,$A42,FALSE) -> 0.21196111 | I42: =1-_xlfn.HYPGEOM.DIST(0,I$30,$A42*'Sampling Plan Cover Sheet'!$B$11,$A42,FALSE) -> 0.24993889 | J42: =1-_xlfn.HYPGEOM.DIST(0,J$30,$A42*'Sampling Plan Cover Sheet'!$B$11,$A42,FALSE) -> 0.28652724 | K42: =1-_xlfn.HYPGEOM.DIST(0,K$30,$A42*'Sampling Plan Cover Sheet'!$B$11,$A42,FALSE) -> 0.32176046 | ... BYA42: =1-_xlfn.HYPGEOM.DIST(0,BYA$30,$A42*'Sampling Plan Cover Sheet'!$B$11,$A42,FALSE) -> #NUM!
... A48: =A23 -> 0 | B48: {=MATCH(TRUE,D48:BYA48>$B$28,0)} -> #N/A | C48: =Worksheet4!A21 -> 0 | D48: =1-_xlfn.HYPGEOM.DIST(0,D$30,$A48*'Sampling Plan Cover Sheet'!$B$11,$A48,FALSE) -> #NUM! | E48: =1-_xlfn.HYPGEOM.DIST(0,E$30,$A48*'Sampling Plan Cover Sheet'!$B$11,$A48,FALSE) -> #NUM! | F48: =1-_xlfn.HYPGEOM.DIST(0,F$30,$A48*'Sampling Plan Cover Sheet'!$B$11,$A48,FALSE) -> #NUM! | G48: =1-_xlfn.HYPGEOM.DIST(0,G$30,$A48*'Sampling Plan Cover Sheet'!$B$11,$A48,FALSE) -> #NUM! | H48: =1-_xlfn.HYPGEOM.DIST(0,H$30,$A48*'Sampling Plan Cover Sheet'!$B$11,$A48,FALSE) -> #NUM! | I48: =1-_xlfn.HYPGEOM.DIST(0,I$30,$A48*'Sampling Plan Cover Sheet'!$B$11,$A48,FALSE) -> #NUM! | J48: =1-_xlfn.HYPGEOM.DIST(0,J$30,$A48*'Sampling Plan Cover Sheet'!$B$11,$A48,FALSE) -> #NUM! | K48: =1-_xlfn.HYPGEOM.DIST(0,K$30,$A48*'Sampling Plan Cover Sheet'!$B$11,$A48,FALSE) -> #NUM! | ... BYA48: =1-_xlfn.HYPGEOM.DIST(0,BYA$30,$A48*'Sampling Plan Cover Sheet'!$B$11,$A48,FALSE) -> #NUM!
