Workbook

Sheet Sampling Plan Cover Sheet
A1: Sampling Plan Cover Sheet
A2: Building/Project Name: | B2: Building #101
A3: Owner: | B3: James Shew
A4: Date of Construction: | B4: 1960
A5: Person(s) Developing the Sampling Plan: | B5: ABC Consultants
A7: Date the Sampling Plan was Completed: | B7: October 2021
A8: Desired Conclusion:
A9: The probability that this sampling plan would detect PCBs ≥ X ppm* is at least Y** if the true underlying proportion of materials containing them were greater than or equal to Z***
A10: Write the Conclusion Probability here: Y** | B10: 0.95
A11: Write the Conclusion Proportion here: Z*** | B11: 0.05
A12: *Where 'X' is the desired threshold specification (e.g., 50 ppm, 1 ppm, or other concentration). The threshold specification is independent of the statistical assurance level used for the testing (i.e., the specification will not change the number of samples recommended for the material category to achieve the selected confidence levels).
A13: ** Where ‘Y’ is the desired conclusion probability (e.g. 90%, 95%, or 99%
A14: *** Where ‘Z’ is the desired conclusion proportion (e.g. 1%, 5%, or 10%)

Sheet Worksheet1
A1: Omitted from PCB Testing
B2: In each row, place an 'x' in columns A-C if appropriate.
B3: There is none of this material in the building | C3: Every item is documented to have PCB concentrations < X ppm. | D3: Every item can be assumed to have PCB concentrations < X ppm due to documented year and place of manufacture or installation. | E3: Every item can either be documented or assumed to have PCB concentrations < X ppm.
A4: Suspect MPP Category | B4: A | C4: B | D4: C | E4: D
A5: Suspended Ceiling Tile A | E5: {=_xlfn.IFS(B5="X", "X", C5="X", "X", D5="X", "X", TRUE,"")}
A6: Gypsum Wall Board A | E6: {=_xlfn.IFS(B6="X", "X", C6="X", "X", D6="X", "X", TRUE,"")}
A7: Carmet Mastic | E7: {=_xlfn.IFS(B7="X", "X", C7="X", "X", D7="X", "X", TRUE,"")}
A8: Thermal System Insulation | E8: {=_xlfn.IFS(B8="X", "X", C8="X", "X", D8="X", "X", TRUE,"")}
A9: Spray-on Insulation | E9: {=_xlfn.IFS(B9="X", "X", C9="X", "X", D9="X", "X", TRUE,"")}
A10: Vinyl Floor Tile | D10: X | E10: {=_xlfn.IFS(B10="X", "X", C10="X", "X", D10="X", "X", TRUE,"")} -> X
A11: Mastic | E11: {=_xlfn.IFS(B11="X", "X", C11="X", "X", D11="X", "X", TRUE,"")}
A12: Paint | E12: {=_xlfn.IFS(B12="X", "X", C12="X", "X", D12="X", "X", TRUE,"")}
A13: Covebase | D13: X | E13: {=_xlfn.IFS(B13="X", "X", C13="X", "X", D13="X", "X", TRUE,"")} -> X
A14: Suspended Ceiling Tile B | D14: X | E14: {=_xlfn.IFS(B14="X", "X", C14="X", "X", D14="X", "X", TRUE,"")} -> X
A15: Replacement Window Caulking | E15: {=_xlfn.IFS(B15="X", "X", C15="X", "X", D15="X", "X", TRUE,"")}
A16: Flue Connector | E16: {=_xlfn.IFS(B16="X", "X", C16="X", "X", D16="X", "X", TRUE,"")}
A17: Adhesive | E17: {=_xlfn.IFS(B17="X", "X", C17="X", "X", D17="X", "X", TRUE,"")}
A18: Sink Undercoating A | E18: {=_xlfn.IFS(B18="X", "X", C18="X", "X", D18="X", "X", TRUE,"")}
A19: Suspended Ceiling Tile C | E19: {=_xlfn.IFS(B19="X", "X", C19="X", "X", D19="X", "X", TRUE,"")}
A20: Sink Undercoating B | D20: X | E20: {=_xlfn.IFS(B20="X", "X", C20="X", "X", D20="X", "X", TRUE,"")} -> X
A21: Fire Stop Caulk | E21: {=_xlfn.IFS(B21="X", "X", C21="X", "X", D21="X", "X", TRUE,"")}
A22: Gypsum Wall Board B | D22: X | E22: {=_xlfn.IFS(B22="X", "X", C22="X", "X", D22="X", "X", TRUE,"")} -> X
A23: Expansion Joint Caulking | E23: {=_xlfn.IFS(B23="X", "X", C23="X", "X", D23="X", "X", TRUE,"")}
A24: Dust Seam Sealant | D24: X | E24: {=_xlfn.IFS(B24="X", "X", C24="X", "X", D24="X", "X", TRUE,"")} -> X
A26: NCT= | B26: =COUNTIF(E5:E24,"") -> 14

Sheet Worksheet2
A1: Items that May Contain PCBs >/=50ppm
A2: Not Omitted from PCB Testing
F3: Population: Total number of items in this suspect MPP category in the building | G3: Number that are documented to have PCB concentrations < X ppm. | H3: Number that can be assumed to have PCB concentrations < X ppm due to documented year and place of manufacture or installation. | I3: Sampling Frame: Total number of items in this suspect MPP category that cannot be documented or assumed to have PCB concentrations < X ppm. (H = E - F - G)
A4: Suspect MPP Category | F4: E | G4: F | H4: G | I4: H
A5: {=_xlfn._xlws.FILTER(Worksheet1!A5:E24,Worksheet1!E5:E24="","X")} -> Suspended Ceiling Tile A | B5: 0 | C5: 0 | D5: 0 | F5: 184 | I5: =F5-G5-H5 -> 184
A6: Gypsum Wall Board A | B6: 0 | C6: 0 | D6: 0 | F6: 199 | I6: =F6-G6-H6 -> 199
A7: Carmet Mastic | B7: 0 | C7: 0 | D7: 0 | F7: 16 | I7: =F7-G7-H7 -> 16
A8: Thermal System Insulation | B8: 0 | C8: 0 | D8: 0 | F8: 25 | I8: =F8-G8-H8 -> 25
A9: Spray-on Insulation | B9: 0 | C9: 0 | D9: 0 | F9: 15 | I9: =F9-G9-H9 -> 15
A10: Mastic | B10: 0 | C10: 0 | D10: 0 | F10: 109 | I10: =F10-G10-H10 -> 109
A11: Paint | B11: 0 | C11: 0 | D11: 0 | F11: 62 | I11: =F11-G11-H11 -> 62
A12: Replacement Window Caulking | B12: 0 | C12: 0 | D12: 0 | F12: 144 | I12: =F12-G12-H12 -> 144
A13: Flue Connector | B13: 0 | C13: 0 | D13: 0 | F13: 15 | I13: =F13-G13-H13 -> 15
A14: Adhesive | B14: 0 | C14: 0 | D14: 0 | F14: 8 | I14: =F14-G14-H14 -> 8
A15: Sink Undercoating A | B15: 0 | C15: 0 | D15: 0 | F15: 6 | I15: =F15-G15-H15 -> 6
A16: Suspended Ceiling Tile C | B16: 0 | C16: 0 | D16: 0 | F16: 88 | I16: =F16-G16-H16 -> 88
A17: Fire Stop Caulk | B17: 0 | C17: 0 | D17: 0 | F17: 14 | I17: =F17-G17-H17 -> 14
A18: Expansion Joint Caulking | B18: 0 | C18: 0 | D18: 0 | F18: 46 | I18: =F18-G18-H18 -> 46
I19: =F19-G19-H19 -> 0
I20: =F20-G20-H20 -> 0
I21: =F21-G21-H21 -> 0
I22: =F22-G22-H22 -> 0

Sheet Worksheet3
A1: Items that May Contain PCBs >/=50ppm
A2: Not Omitted from PCB Testing
F3: Proportion of items in this suspect MPP category for which results are not currently known (I=H/E) | G3: ="Sample Size Based Statistical Distribution& NCT= "& F24 -> Sample Size Based Statistical Distribution& NCT= 14 | H3: Preliminary expected number of suspect MPP items that will need to be tested (K=JxI)
A4: Suspect MPP Category | F4: I | G4: J | H4: K
A5: {=_xlfn._xlws.FILTER(Worksheet1!A5:E24,Worksheet1!E5:E24="","X")} -> Suspended Ceiling Tile A | B5: 0 | C5: 0 | D5: 0 | F5: =Worksheet2!I5/Worksheet2!F5 -> 1 | G5: =_xlfn.IFNA(SampleSizeCalc!B6,Worksheet2!I5) -> 84 | H5: =CEILING(G5*F5,1) -> 84
A6: Gypsum Wall Board A | B6: 0 | C6: 0 | D6: 0 | F6: =Worksheet2!I6/Worksheet2!F6 -> 1 | G6: =_xlfn.IFNA(SampleSizeCalc!B7,Worksheet2!I6) -> 91 | H6: =CEILING(G6*F6,1) -> 91
A7: Carmet Mastic | B7: 0 | C7: 0 | D7: 0 | F7: =Worksheet2!I7/Worksheet2!F7 -> 1 | G7: =_xlfn.IFNA(SampleSizeCalc!B8,Worksheet2!I7) -> 16 | H7: =CEILING(G7*F7,1) -> 16
A8: Thermal System Insulation | B8: 0 | C8: 0 | D8: 0 | F8: =Worksheet2!I8/Worksheet2!F8 -> 1 | G8: =_xlfn.IFNA(SampleSizeCalc!B9,Worksheet2!I8) -> 25 | H8: =CEILING(G8*F8,1) -> 25
A9: Spray-on Insulation | B9: 0 | C9: 0 | D9: 0 | F9: =Worksheet2!I9/Worksheet2!F9 -> 1 | G9: =_xlfn.IFNA(SampleSizeCalc!B10,Worksheet2!I9) -> 15 | H9: =CEILING(G9*F9,1) -> 15
A10: Mastic | B10: 0 | C10: 0 | D10: 0 | F10: =Worksheet2!I10/Worksheet2!F10 -> 1 | G10: =_xlfn.IFNA(SampleSizeCalc!B11,Worksheet2!I10) -> 73 | H10: =CEILING(G10*F10,1) -> 73
A11: Paint | B11: 0 | C11: 0 | D11: 0 | F11: =Worksheet2!I11/Worksheet2!F11 -> 1 | G11: =_xlfn.IFNA(SampleSizeCalc!B12,Worksheet2!I11) -> 52 | H11: =CEILING(G11*F11,1) -> 52
A12: Replacement Window Caulking | B12: 0 | C12: 0 | D12: 0 | F12: =Worksheet2!I12/Worksheet2!F12 -> 1 | G12: =_xlfn.IFNA(SampleSizeCalc!B13,Worksheet2!I12) -> 78 | H12: =CEILING(G12*F12,1) -> 78
A13: Flue Connector | B13: 0 | C13: 0 | D13: 0 | F13: =Worksheet2!I13/Worksheet2!F13 -> 1 | G13: =_xlfn.IFNA(SampleSizeCalc!B14,Worksheet2!I13) -> 15 | H13: =CEILING(G13*F13,1) -> 15
A14: Adhesive | B14: 0 | C14: 0 | D14: 0 | F14: =Worksheet2!I14/Worksheet2!F14 -> 1 | G14: =_xlfn.IFNA(SampleSizeCalc!B15,Worksheet2!I14) -> 8 | H14: =CEILING(G14*F14,1) -> 8
A15: Sink Undercoating A | B15: 0 | C15: 0 | D15: 0 | F15: =Worksheet2!I15/Worksheet2!F15 -> 1 | G15: =_xlfn.IFNA(SampleSizeCalc!B16,Worksheet2!I15) -> 6 | H15: =CEILING(G15*F15,1) -> 6
A16: Suspended Ceiling Tile C | B16: 0 | C16: 0 | D16: 0 | F16: =Worksheet2!I16/Worksheet2!F16 -> 1 | G16: =_xlfn.IFNA(SampleSizeCalc!B17,Worksheet2!I16) -> 66 | H16: =CEILING(G16*F16,1) -> 66
A17: Fire Stop Caulk | B17: 0 | C17: 0 | D17: 0 | F17: =Worksheet2!I17/Worksheet2!F17 -> 1 | G17: =_xlfn.IFNA(SampleSizeCalc!B18,Worksheet2!I17) -> 14 | H17: =CEILING(G17*F17,1) -> 14
A18: Expansion Joint Caulking | B18: 0 | C18: 0 | D18: 0 | F18: =Worksheet2!I18/Worksheet2!F18 -> 1 | G18: =_xlfn.IFNA(SampleSizeCalc!B19,Worksheet2!I18) -> 43 | H18: =CEILING(G18*F18,1) -> 43
F19: =Worksheet2!I19/Worksheet2!F19 -> #DIV/0! | G19: =SampleSizeCalc!B20 -> #N/A | H19: =CEILING(G19*F19,1) -> #N/A
F20: =Worksheet2!I20/Worksheet2!F20 -> #DIV/0! | G20: =SampleSizeCalc!B21 -> #N/A | H20: =CEILING(G20*F20,1) -> #N/A
F21: =Worksheet2!I21/Worksheet2!F21 -> #DIV/0! | G21: =SampleSizeCalc!B22 -> #N/A | H21: =CEILING(G21*F21,1) -> #N/A
F22: =Worksheet2!I22/Worksheet2!F22 -> #DIV/0! | G22: =SampleSizeCalc!B23 -> #N/A | H22: =CEILING(G22*F22,1) -> #N/A
A24: NCT (From Worksheet1) = | F24: =Worksheet1!B26 -> 14

Sheet Worksheet4
A1: Sample Size for PCB Testing
B2: Enter an 'X' here if J is "ALL" or if K>H or if K is close enough to H that you wish to test all items in H to reduce the number of suspect MPP categories for sampling (NCS) | C2: Sample size based on NCS (statistically calculated)
A3: Suspect MPP Category | B3: L | C3: M
A4: {=_xlfn._xlws.FILTER(Worksheet1!A5:A24,Worksheet1!E5:E24="","X")} -> Suspended Ceiling Tile A | B4: =IF(OR(Worksheet3!G5=Worksheet2!I5,Worksheet3!H5>Worksheet2!I5),"X","") | C4: =_xlfn.IFNA(SampleSizeCalc!B31,Worksheet3!G5) -> 77
A5: Gypsum Wall Board A | B5: =IF(OR(Worksheet3!G6=Worksheet2!I6,Worksheet3!H6>Worksheet2!I6),"X","") | C5: =_xlfn.IFNA(SampleSizeCalc!B32,Worksheet3!G6) -> 83
A6: Carmet Mastic | B6: =IF(OR(Worksheet3!G7=Worksheet2!I7,Worksheet3!H7>Worksheet2!I7),"X","") -> X | C6: =_xlfn.IFNA(SampleSizeCalc!B33,Worksheet3!G7) -> 16
A7: Thermal System Insulation | B7: =IF(OR(Worksheet3!G8=Worksheet2!I8,Worksheet3!H8>Worksheet2!I8),"X","") -> X | C7: =_xlfn.IFNA(SampleSizeCalc!B34,Worksheet3!G8) -> 25
A8: Spray-on Insulation | B8: =IF(OR(Worksheet3!G9=Worksheet2!I9,Worksheet3!H9>Worksheet2!I9),"X","") -> X | C8: =_xlfn.IFNA(SampleSizeCalc!B35,Worksheet3!G9) -> 15
A9: Mastic | B9: =IF(OR(Worksheet3!G10=Worksheet2!I10,Worksheet3!H10>Worksheet2!I10),"X","") | C9: =_xlfn.IFNA(SampleSizeCalc!B36,Worksheet3!G10) -> 68
A10: Paint | B10: =IF(OR(Worksheet3!G11=Worksheet2!I11,Worksheet3!H11>Worksheet2!I11),"X","") | C10: =_xlfn.IFNA(SampleSizeCalc!B37,Worksheet3!G11) -> 50
A11: Replacement Window Caulking | B11: =IF(OR(Worksheet3!G12=Worksheet2!I12,Worksheet3!H12>Worksheet2!I12),"X","") | C11: =_xlfn.IFNA(SampleSizeCalc!B38,Worksheet3!G12) -> 72
A12: Flue Connector | B12: =IF(OR(Worksheet3!G13=Worksheet2!I13,Worksheet3!H13>Worksheet2!I13),"X","") -> X | C12: =_xlfn.IFNA(SampleSizeCalc!B39,Worksheet3!G13) -> 15
A13: Adhesive | B13: =IF(OR(Worksheet3!G14=Worksheet2!I14,Worksheet3!H14>Worksheet2!I14),"X","") -> X | C13: =_xlfn.IFNA(SampleSizeCalc!B40,Worksheet3!G14) -> 8
A14: Sink Undercoating A | B14: =IF(OR(Worksheet3!G15=Worksheet2!I15,Worksheet3!H15>Worksheet2!I15),"X","") -> X | C14: =_xlfn.IFNA(SampleSizeCalc!B41,Worksheet3!G15) -> 6
A15: Suspended Ceiling Tile C | B15: =IF(OR(Worksheet3!G16=Worksheet2!I16,Worksheet3!H16>Worksheet2!I16),"X","") | C15: =_xlfn.IFNA(SampleSizeCalc!B42,Worksheet3!G16) -> 62
A16: Fire Stop Caulk | B16: =IF(OR(Worksheet3!G17=Worksheet2!I17,Worksheet3!H17>Worksheet2!I17),"X","") -> X | C16: =_xlfn.IFNA(SampleSizeCalc!B43,Worksheet3!G17) -> 14
A17: Expansion Joint Caulking | B17: =IF(OR(Worksheet3!G18=Worksheet2!I18,Worksheet3!H18>Worksheet2!I18),"X","") | C17: =_xlfn.IFNA(SampleSizeCalc!B44,Worksheet3!G18) -> 42
B18: =IF(OR(Worksheet3!G19=Worksheet2!I19,Worksheet3!H19>Worksheet2!I19),"X","") -> #N/A | C18: =_xlfn.IFNA(SampleSizeCalc!B45,Worksheet3!G19) -> #N/A
B19: =IF(OR(Worksheet3!G20=Worksheet2!I20,Worksheet3!H20>Worksheet2!I20),"X","") -> #N/A | C19: =_xlfn.IFNA(SampleSizeCalc!B46,Worksheet3!G20) -> #N/A
B20: =IF(OR(Worksheet3!G21=Worksheet2!I21,Worksheet3!H21>Worksheet2!I21),"X","") -> #N/A | C20: =_xlfn.IFNA(SampleSizeCalc!B47,Worksheet3!G21) -> #N/A
B21: =IF(OR(Worksheet3!G22=Worksheet2!I22,Worksheet3!H22>Worksheet2!I22),"X","") -> #N/A | C21: =_xlfn.IFNA(SampleSizeCalc!B48,Worksheet3!G22) -> #N/A
A23: NCT (from Worksheet 1) = | B23: =Worksheet1!B26 -> 14
A24: Number of suspect MPP Categories for Census Testing (NCC) (equivalent to the number marked with 'X' in column L)= | B24: =COUNTIF(B4:B22,"X") -> 7
A25: If NCC equals zero (ie- there are no 'X' in Column L), STOP. The sample sizes in column J comprise your sampling plan. Column M in this case should reflect Colum H in Worksheet 2.
A26: Number of Suspect MPP Categories to Sample (NCS) = | B26: =B23-B24 -> 7
A27: If NCC>0 and NCS>0, then a new sample size will be calculated automatically by this sheet. Alternatively, you may use the values in Worksheet 2 where the "Number of Categories" = Number of Categories to Sample (NCS). This sample size based on NCS will be based on column H to give the value of the new sample size, which is auto-calculated in column M. These sample sizes will be as small as or smaller than those in column J.

Sheet SampleSizeCalc
A1: Calculation for Worksheet 3
A2: NCT | B2: =Worksheet3!F24 -> 14
A3: Alpha | B3: =1-(1-'Sampling Plan Cover Sheet'!B10)/B2 -> 0.99642857
A5: Column H | B5: J | C5: Sample Size | D5: 1 | E5: 2 | F5: 3 | G5: 4 | H5: 5 | I5: 6 | J5: 7 | K5: 8 | L5: 9 | M5: 10 | N5: 11 | O5: 12 | P5: 13 | Q5: 14 | R5: 15 | S5: 16 | T5: 17 | U5: 18 | V5: 19 | W5: 20 | X5: 21 | Y5: 22 | Z5: 23 | AA5: 24 | AB5: 25 | AC5: 26 | AD5: 27 | AE5: 28 | AF5: 29 | AG5: 30 | AH5: 31 | AI5: 32 | AJ5: 33 | AK5: 34 | AL5: 35 | AM5: 36 | AN5: 37 | AO5: 38 | AP5: 39 | AQ5: 40 | AR5: 41 | AS5: 42 | AT5: 43 | AU5: 44 | AV5: 45 | AW5: 46 | AX5: 47 | AY5: 48 | AZ5: 49 | BA5: 50 | BB5: 51 | BC5: 52 | BD5: 53 | BE5: 54 | BF5: 55 | BG5: 56 | BH5: 57 | BI5: 58 | BJ5: 59 | BK5: 60 | BL5: 61 | BM5: 62 | BN5: 63 | BO5: 64 | BP5: 65 | BQ5: 66 | BR5: 67 | BS5: 68 | BT5: 69 | BU5: 70 | BV5: 71 | BW5: 72 | BX5: 73 | BY5: 74 | BZ5: 75 | CA5: 76 | CB5: 77 | CC5: 78 | CD5: 79 | CE5: 80 | CF5: 81 | CG5: 82 | CH5: 83 | CI5: 84 | CJ5: 85 | CK5: 86 | CL5: 87 | CM5: 88 | CN5: 89 | CO5: 90 | CP5: 91 | CQ5: 92 | CR5: 93 | CS5: 94 | CT5: 95 | CU5: 96 | CV5: 97 | CW5: 98 | CX5: 99 | CY5: 100 | CZ5: 101 | DA5: 102 | DB5: 103 | DC5: 104 | DD5: 105 | DE5: 106 | DF5: 107 | DG5: 108 | DH5: 109 | DI5: 110 | DJ5: 111 | DK5: 112 | DL5: 113 | DM5: 114 | DN5: 115 | DO5: 116 | DP5: 117 | DQ5: 118 | DR5: 119 | DS5: 120 | DT5: 121 | DU5: 122 | DV5: 123 | DW5: 124 | DX5: 125 | DY5: 126 | DZ5: 127 | EA5: 128 | EB5: 129 | EC5: 130 | ED5: 131 | EE5: 132 | EF5: 133 | EG5: 134 | EH5: 135 | EI5: 136 | EJ5: 137 | EK5: 138 | EL5: 139 | EM5: 140 | EN5: 141 | EO5: 142 | EP5: 143 | EQ5: 144 | ER5: 145 | ES5: 146 | ET5: 147 | EU5: 148 | EV5: 149 | EW5: 150 | EX5: 151 | EY5: 152 | EZ5: 153 | FA5: 154 | FB5: 155 | FC5: 156 | FD5: 157 | FE5: 158 | FF5: 159 | FG5: 160 | FH5: 161 | FI5: 162 | FJ5: 163 | FK5: 164 | FL5: 165 | FM5: 166 | FN5: 167 | FO5: 168 | FP5: 169 | FQ5: 170 | FR5: 171 | FS5: 172 | FT5: 173 | FU5: 174 | FV5: 175 | FW5: 176 | FX5: 177 | FY5: 178 | FZ5: 179 | GA5: 180 | GB5: 181 | GC5: 182 | GD5: 183 | GE5: 184 | GF5: 185 | GG5: 186 | GH5: 187 | GI5: 188 | GJ5: 189 | GK5: 190 | GL5: 191 | GM5: 192 | GN5: 193 | GO5: 194 | GP5: 195 | GQ5: 196 | GR5: 197 | GS5: 198 | GT5: 199 | GU5: 200 | GV5: 201 | GW5: 202 | GX5: 203 | GY5: 204 | GZ5: 205 | HA5: 206 | HB5: 207 | HC5: 208 | HD5: 209 | HE5: 210 | HF5: 211 | HG5: 212 | HH5: 213 | HI5: 214 | HJ5: 215 | HK5: 216 | HL5: 217 | HM5: 218 | HN5: 219 | HO5: 220 | HP5: 221 | HQ5: 222 | HR5: 223 | HS5: 224 | HT5: 225 | HU5: 226 | HV5: 227 | HW5: 228 | HX5: 229 | HY5: 230 | HZ5: 231 | IA5: 232 | IB5: 233 | IC5: 234 | ID5: 235 | IE5: 236 | IF5: 237 | IG5: 238 | IH5: 239 | II5: 240 | IJ5: 241 | IK5: 242 | IL5: 243 | IM5: 244 | IN5: 245 | IO5: 246 | IP5: 247 | IQ5: 248 | IR5: 249 | IS5: 250 | IT5: 251 | IU5: 252 | IV5: 253 | IW5: 254 | IX5: 255 | IY5: 256 | IZ5: 257 | JA5: 258 | JB5: 259 | JC5: 260 | JD5: 261 | JE5: 262 | JF5: 263 | JG5: 264 | JH5: 265 | JI5: 266 | JJ5: 267 | JK5: 268 | JL5: 269 | JM5: 270 | JN5: 271 | JO5: 272 | JP5: 273 | JQ5: 274 | JR5: 275 | JS5: 276 | JT5: 277 | JU5: 278 | JV5: 279 | JW5: 280 | JX5: 281 | JY5: 282 | JZ5: 283 | KA5: 284 | KB5: 285 | KC5: 286 | KD5: 287 | KE5: 288 | KF5: 289 | KG5: 290 | KH5: 291 | KI5: 292 | KJ5: 293 | KK5: 294 | KL5: 295 | KM5: 296 | KN5: 297 | KO5: 298 | KP5: 299 | KQ5: 300 | KR5: 301 | KS5: 302 | KT5: 303 | KU5: 304 | KV5: 305 | KW5: 306 | KX5: 307 | KY5: 308 | KZ5: 309 | LA5: 310 | LB5: 311 | LC5: 312 | LD5: 313 | LE5: 314 | LF5: 315 | LG5: 316 | LH5: 317 | LI5: 318 | LJ5: 319 | LK5: 320 | LL5: 321 | LM5: 322 | LN5: 323 | LO5: 324 | LP5: 325 | LQ5: 326 | LR5: 327 | LS5: 328 | LT5: 329 | LU5: 330 | LV5: 331 | LW5: 332 | LX5: 333 | LY5: 334 | LZ5: 335 | MA5: 336 | MB5: 337 | MC5: 338 | MD5: 339 | ME5: 340 | MF5: 341 | MG5: 342 | MH5: 343 | MI5: 344 | MJ5: 345 | MK5: 346 | ML5: 347 | MM5: 348 | MN5: 349 | MO5: 350 | MP5: 351 | MQ5: 352 | MR5: 353 | MS5: 354 | MT5: 355 | MU5: 356 | MV5: 357 | MW5: 358 | MX5: 359 | MY5: 360 | MZ5: 361 | NA5: 362 | NB5: 363 | NC5: 364 | ND5: 365 | NE5: 366 | NF5: 367 | NG5: 368 | NH5: 369 | NI5: 370 | NJ5: 371 | NK5: 372 | NL5: 373 | NM5: 374 | NN5: 375 | NO5: 376 | NP5: 377 | NQ5: 378 | NR5: 379 | NS5: 380 | NT5: 381 | NU5: 382 | NV5: 383 | NW5: 384 | NX5: 385 | NY5: 386 | NZ5: 387 | OA5: 388 | OB5: 389 | OC5: 390 | OD5: 391 | OE5: 392 | OF5: 393 | OG5: 394 | OH5: 395 | OI5: 396 | OJ5: 397 | OK5: 398 | OL5: 399 | OM5: 400 | ON5: 401 | OO5: 402 | OP5: 403 | OQ5: 404 | OR5: 405 | OS5: 406 | OT5: 407 | OU5: 408 | OV5: 409 | OW5: 410 | OX5: 411 | OY5: 412 | OZ5: 413 | PA5: 414 | PB5: 415 | PC5: 416 | PD5: 417 | PE5: 418 | PF5: 419 | PG5: 420 | PH5: 421 | PI5: 422 | PJ5: 423 | PK5: 424 | PL5: 425 | PM5: 426 | PN5: 427 | PO5: 428 | PP5: 429 | PQ5: 430 | PR5: 431 | PS5: 432 | PT5: 433 | PU5: 434 | PV5: 435 | PW5: 436 | PX5: 437 | PY5: 438 | PZ5: 439 | QA5: 440 | QB5: 441 | QC5: 442 | QD5: 443 | QE5: 444 | QF5: 445 | QG5: 446 | QH5: 447 | QI5: 448 | QJ5: 449 | QK5: 450 | QL5: 451 | QM5: 452 | QN5: 453 | QO5: 454 | QP5: 455 | QQ5: 456 | QR5: 457 | QS5: 458 | QT5: 459 | QU5: 460 | QV5: 461 | QW5: 462 | QX5: 463 | QY5: 464 | QZ5: 465 | RA5: 466 | RB5: 467 | RC5: 468 | RD5: 469 | RE5: 470 | RF5: 471 | RG5: 472 | RH5: 473 | RI5: 474 | RJ5: 475 | RK5: 476 | RL5: 477 | RM5: 478 | RN5: 479 | RO5: 480 | RP5: 481 | RQ5: 482 | RR5: 483 | RS5: 484 | RT5: 485 | RU5: 486 | RV5: 487 | RW5: 488 | RX5: 489 | RY5: 490 | RZ5: 491 | SA5: 492 | SB5: 493 | SC5: 494 | SD5: 495 | SE5: 496 | SF5: 497 | SG5: 498 | SH5: 499 | SI5: 500 | SJ5: 501 | SK5: 502 | SL5: 503 | SM5: 504 | SN5: 505 | SO5: 506 | SP5: 507 | SQ5: 508 | SR5: 509 | SS5: 510 | ST5: 511 | SU5: 512 | SV5: 513 | SW5: 514 | SX5: 515 | SY5: 516 | SZ5: 517 | TA5: 518 | TB5: 519 | TC5: 520 | TD5: 521 | TE5: 522 | TF5: 523 | TG5: 524 | TH5: 525 | TI5: 526 | TJ5: 527 | TK5: 528 | TL5: 529 | TM5: 530 | TN5: 531 | TO5: 532 | TP5: 533 | TQ5: 534 | TR5: 535 | TS5: 536 | TT5: 537 | TU5: 538 | TV5: 539 | TW5: 540 | TX5: 541 | TY5: 542 | TZ5: 543 | UA5: 544 | UB5: 545 | UC5: 546 | UD5: 547 | UE5: 548 | UF5: 549 | UG5: 550 | UH5: 551 | UI5: 552 | UJ5: 553 | UK5: 554 | UL5: 555 | UM5: 556 | UN5: 557 | UO5: 558 | UP5: 559 | UQ5: 560 | UR5: 561 | US5: 562 | UT5: 563 | UU5: 564 | UV5: 565 | UW5: 566 | UX5: 567 | UY5: 568 | UZ5: 569 | VA5: 570 | VB5: 571 | VC5: 572 | VD5: 573 | VE5: 574 | VF5: 575 | VG5: 576 | VH5: 577 | VI5: 578 | VJ5: 579 | VK5: 580 | VL5: 581 | VM5: 582 | VN5: 583 | VO5: 584 | VP5: 585 | VQ5: 586 | VR5: 587 | VS5: 588 | VT5: 589 | VU5: 590 | VV5: 591 | VW5: 592 | VX5: 593 | VY5: 594 | VZ5: 595 | WA5: 596 | WB5: 597 | WC5: 598 | WD5: 599 | WE5: 600 | WF5: 601 | WG5: 602 | WH5: 603 | WI5: 604 | WJ5: 605 | WK5: 606 | WL5: 607 | WM5: 608 | WN5: 609 | WO5: 610 | WP5: 611 | WQ5: 612 | WR5: 613 | WS5: 614 | WT5: 615 | WU5: 616 | WV5: 617 | WW5: 618 | WX5: 619 | WY5: 620 | WZ5: 621 | XA5: 622 | XB5: 623 | XC5: 624 | XD5: 625 | XE5: 626 | XF5: 627 | XG5: 628 | XH5: 629 | XI5: 630 | XJ5: 631 | XK5: 632 | XL5: 633 | XM5: 634 | XN5: 635 | XO5: 636 | XP5: 637 | XQ5: 638 | XR5: 639 | XS5: 640 | XT5: 641 | XU5: 642 | XV5: 643 | XW5: 644 | XX5: 645 | XY5: 646 | XZ5: 647 | YA5: 648 | YB5: 649 | YC5: 650 | YD5: 651 | YE5: 652 | YF5: 653 | YG5: 654 | YH5: 655 | YI5: 656 | YJ5: 657 | YK5: 658 | YL5: 659 | YM5: 660 | YN5: 661 | YO5: 662 | YP5: 663 | YQ5: 664 | YR5: 665 | YS5: 666 | YT5: 667 | YU5: 668 | YV5: 669 | YW5: 670 | YX5: 671 | YY5: 672 | YZ5: 673 | ZA5: 674 | ZB5: 675 | ZC5: 676 | ZD5: 677 | ZE5: 678 | ZF5: 679 | ZG5: 680 | ZH5: 681 | ZI5: 682 | ZJ5: 683 | ZK5: 684 | ZL5: 685 | ZM5: 686 | ZN5: 687 | ZO5: 688 | ZP5: 689 | ZQ5: 690 | ZR5: 691 | ZS5: 692 | ZT5: 693 | ZU5: 694 | ZV5: 695 | ZW5: 696 | ZX5: 697 | ZY5: 698 | ZZ5: 699 | AAA5: 700 | AAB5: 701 | AAC5: 702 | AAD5: 703 | AAE5: 704 | AAF5: 705 | AAG5: 706 | AAH5: 707 | AAI5: 708 | AAJ5: 709 | AAK5: 710 | AAL5: 711 | AAM5: 712 | AAN5: 713 | AAO5: 714 | AAP5: 715 | AAQ5: 716 | AAR5: 717 | AAS5: 718 | AAT5: 719 | AAU5: 720 | AAV5: 721 | AAW5: 722 | AAX5: 723 | AAY5: 724 | AAZ5: 725 | ABA5: 726 | ABB5: 727 | ABC5: 728 | ABD5: 729 | ABE5: 730 | ABF5: 731 | ABG5: 732 | ABH5: 733 | ABI5: 734 | ABJ5: 735 | ABK5: 736 | ABL5: 737 | ABM5: 738 | ABN5: 739 | ABO5: 740 | ABP5: 741 | ABQ5: 742 | ABR5: 743 | ABS5: 744 | ABT5: 745 | ABU5: 746 | ABV5: 747 | ABW5: 748 | ABX5: 749 | ABY5: 750 | ABZ5: 751 | ACA5: 752 | ACB5: 753 | ACC5: 754 | ACD5: 755 | ACE5: 756 | ACF5: 757 | ACG5: 758 | ACH5: 759 | ACI5: 760 | ACJ5: 761 | ACK5: 762 | ACL5: 763 | ACM5: 764 | ACN5: 765 | ACO5: 766 | ACP5: 767 | ACQ5: 768 | ACR5: 769 | ACS5: 770 | ACT5: 771 | ACU5: 772 | ACV5: 773 | ACW5: 774 | ACX5: 775 | ACY5: 776 | ACZ5: 777 | ADA5: 778 | ADB5: 779 | ADC5: 780 | ADD5: 781 | ADE5: 782 | ADF5: 783 | ADG5: 784 | ADH5: 785 | ADI5: 786 | ADJ5: 787 | ADK5: 788 | ADL5: 789 | ADM5: 790 | ADN5: 791 | ADO5: 792 | ADP5: 793 | ADQ5: 794 | ADR5: 795 | ADS5: 796 | ADT5: 797 | ADU5: 798 | ADV5: 799 | ADW5: 800 | ADX5: 801 | ADY5: 802 | ADZ5: 803 | AEA5: 804 | AEB5: 805 | AEC5: 806 | AED5: 807 | AEE5: 808 | AEF5: 809 | AEG5: 810 | AEH5: 811 | AEI5: 812 | AEJ5: 813 | AEK5: 814 | AEL5: 815 | AEM5: 816 | AEN5: 817 | AEO5: 818 | AEP5: 819 | AEQ5: 820 | AER5: 821 | AES5: 822 | AET5: 823 | AEU5: 824 | AEV5: 825 | AEW5: 826 | AEX5: 827 | AEY5: 828 | AEZ5: 829 | AFA5: 830 | AFB5: 831 | AFC5: 832 | AFD5: 833 | AFE5: 834 | AFF5: 835 | AFG5: 836 | AFH5: 837 | AFI5: 838 | AFJ5: 839 | AFK5: 840 | AFL5: 841 | AFM5: 842 | AFN5: 843 | AFO5: 844 | AFP5: 845 | AFQ5: 846 | AFR5: 847 | AFS5: 848 | AFT5: 849 | AFU5: 850 | AFV5: 851 | AFW5: 852 | AFX5: 853 | AFY5: 854 | AFZ5: 855 | AGA5: 856 | AGB5: 857 | AGC5: 858 | AGD5: 859 | AGE5: 860 | AGF5: 861 | AGG5: 862 | AGH5: 863 | AGI5: 864 | AGJ5: 865 | AGK5: 866 | AGL5: 867 | AGM5: 868 | AGN5: 869 | AGO5: 870 | AGP5: 871 | AGQ5: 872 | AGR5: 873 | AGS5: 874 | AGT5: 875 | AGU5: 876 | AGV5: 877 | AGW5: 878 | AGX5: 879 | AGY5: 880 | AGZ5: 881 | AHA5: 882 | AHB5: 883 | AHC5: 884 | AHD5: 885 | AHE5: 886 | AHF5: 887 | AHG5: 888 | AHH5: 889 | AHI5: 890 | AHJ5: 891 | AHK5: 892 | AHL5: 893 | AHM5: 894 | AHN5: 895 | AHO5: 896 | AHP5: 897 | AHQ5: 898 | AHR5: 899 | AHS5: 900 | AHT5: 901 | AHU5: 902 | AHV5: 903 | AHW5: 904 | AHX5: 905 | AHY5: 906 | AHZ5: 907 | AIA5: 908 | AIB5: 909 | AIC5: 910 | AID5: 911 | AIE5: 912 | AIF5: 913 | AIG5: 914 | AIH5: 915 | AII5: 916 | AIJ5: 917 | AIK5: 918 | AIL5: 919 | AIM5: 920 | AIN5: 921 | AIO5: 922 | AIP5: 923 | AIQ5: 924 | AIR5: 925 | AIS5: 926 | AIT5: 927 | AIU5: 928 | AIV5: 929 | AIW5: 930 | AIX5: 931 | AIY5: 932 | AIZ5: 933 | AJA5: 934 | AJB5: 935 | AJC5: 936 | AJD5: 937 | AJE5: 938 | AJF5: 939 | AJG5: 940 | AJH5: 941 | AJI5: 942 | AJJ5: 943 | AJK5: 944 | AJL5: 945 | AJM5: 946 | AJN5: 947 | AJO5: 948 | AJP5: 949 | AJQ5: 950 | AJR5: 951 | AJS5: 952 | AJT5: 953 | AJU5: 954 | AJV5: 955 | AJW5: 956 | AJX5: 957 | AJY5: 958 | AJZ5: 959 | AKA5: 960 | AKB5: 961 | AKC5: 962 | AKD5: 963 | AKE5: 964 | AKF5: 965 | AKG5: 966 | AKH5: 967 | AKI5: 968 | AKJ5: 969 | AKK5: 970 | AKL5: 971 | AKM5: 972 | AKN5: 973 | AKO5: 974 | AKP5: 975 | AKQ5: 976 | AKR5: 977 | AKS5: 978 | AKT5: 979 | AKU5: 980 | AKV5: 981 | AKW5: 982 | AKX5: 983 | AKY5: 984 | AKZ5: 985 | ALA5: 986 | ALB5: 987 | ALC5: 988 | ALD5: 989 | ALE5: 990 | ALF5: 991 | ALG5: 992 | ALH5: 993 | ALI5: 994 | ALJ5: 995 | ALK5: 996 | ALL5: 997 | ALM5: 998 | ALN5: 999 | ALO5: 1000 | ALP5: 1001 | ALQ5: 1002 | ALR5: 1003 | ALS5: 1004 | ALT5: 1005 | ALU5: 1006 | ALV5: 1007 | ALW5: 1008 | ALX5: 1009 | ALY5: 1010 | ALZ5: 1011 | AMA5: 1012 | AMB5: 1013 | AMC5: 1014 | AMD5: 1015 | AME5: 1016 | AMF5: 1017 | AMG5: 1018 | AMH5: 1019 | AMI5: 1020 | AMJ5: 1021 | AMK5: 1022 | AML5: 1023 | AMM5: 1024 | AMN5: 1025 | AMO5: 1026 | AMP5: 1027 | AMQ5: 1028 | AMR5: 1029 | AMS5: 1030 | AMT5: 1031 | AMU5: 1032 | AMV5: 1033 | AMW5: 1034 | AMX5: 1035 | AMY5: 1036 | AMZ5: 1037 | ANA5: 1038 | ANB5: 1039 | ANC5: 1040 | AND5: 1041 | ANE5: 1042 | ANF5: 1043 | ANG5: 1044 | ANH5: 1045 | ANI5: 1046 | ANJ5: 1047 | ANK5: 1048 | ANL5: 1049 | ANM5: 1050 | ANN5: 1051 | ANO5: 1052 | ANP5: 1053 | ANQ5: 1054 | ANR5: 1055 | ANS5: 1056 | ANT5: 1057 | ANU5: 1058 | ANV5: 1059 | ANW5: 1060 | ANX5: 1061 | ANY5: 1062 | ANZ5: 1063 | AOA5: 1064 | AOB5: 1065 | AOC5: 1066 | AOD5: 1067 | AOE5: 1068 | AOF5: 1069 | AOG5: 1070 | AOH5: 1071 | AOI5: 1072 | AOJ5: 1073 | AOK5: 1074 | AOL5: 1075 | AOM5: 1076 | AON5: 1077 | AOO5: 1078 | AOP5: 1079 | AOQ5: 1080 | AOR5: 1081 | AOS5: 1082 | AOT5: 1083 | AOU5: 1084 | AOV5: 1085 | AOW5: 1086 | AOX5: 1087 | AOY5: 1088 | AOZ5: 1089 | APA5: 1090 | APB5: 1091 | APC5: 1092 | APD5: 1093 | APE5: 1094 | APF5: 1095 | APG5: 1096 | APH5: 1097 | API5: 1098 | APJ5: 1099 | APK5: 1100 | APL5: 1101 | APM5: 1102 | APN5: 1103 | APO5: 1104 | APP5: 1105 | APQ5: 1106 | APR5: 1107 | APS5: 1108 | APT5: 1109 | APU5: 1110 | APV5: 1111 | APW5: 1112 | APX5: 1113 | APY5: 1114 | APZ5: 1115 | AQA5: 1116 | AQB5: 1117 | AQC5: 1118 | AQD5: 1119 | AQE5: 1120 | AQF5: 1121 | AQG5: 1122 | AQH5: 1123 | AQI5: 1124 | AQJ5: 1125 | AQK5: 1126 | AQL5: 1127 | AQM5: 1128 | AQN5: 1129 | AQO5: 1130 | AQP5: 1131 | AQQ5: 1132 | AQR5: 1133 | AQS5: 1134 | AQT5: 1135 | AQU5: 1136 | AQV5: 1137 | AQW5: 1138 | AQX5: 1139 | AQY5: 1140 | AQZ5: 1141 | ARA5: 1142 | ARB5: 1143 | ARC5: 1144 | ARD5: 1145 | ARE5: 1146 | ARF5: 1147 | ARG5: 1148 | ARH5: 1149 | ARI5: 1150 | ARJ5: 1151 | ARK5: 1152 | ARL5: 1153 | ARM5: 1154 | ARN5: 1155 | ARO5: 1156 | ARP5: 1157 | ARQ5: 1158 | ARR5: 1159 | ARS5: 1160 | ART5: 1161 | ARU5: 1162 | ARV5: 1163 | ARW5: 1164 | ARX5: 1165 | ARY5: 1166 | ARZ5: 1167 | ASA5: 1168 | ASB5: 1169 | ASC5: 1170 | ASD5: 1171 | ASE5: 1172 | ASF5: 1173 | ASG5: 1174 | ASH5: 1175 | ASI5: 1176 | ASJ5: 1177 | ASK5: 1178 | ASL5: 1179 | ASM5: 1180 | ASN5: 1181 | ASO5: 1182 | ASP5: 1183 | ASQ5: 1184 | ASR5: 1185 | ASS5: 1186 | AST5: 1187 | ASU5: 1188 | ASV5: 1189 | ASW5: 1190 | ASX5: 1191 | ASY5: 1192 | ASZ5: 1193 | ATA5: 1194 | ATB5: 1195 | ATC5: 1196 | ATD5: 1197 | ATE5: 1198 | ATF5: 1199 | ATG5: 1200 | ATH5: 1201 | ATI5: 1202 | ATJ5: 1203 | ATK5: 1204 | ATL5: 1205 | ATM5: 1206 | ATN5: 1207 | ATO5: 1208 | ATP5: 1209 | ATQ5: 1210 | ATR5: 1211 | ATS5: 1212 | ATT5: 1213 | ATU5: 1214 | ATV5: 1215 | ATW5: 1216 | ATX5: 1217 | ATY5: 1218 | ATZ5: 1219 | AUA5: 1220 | AUB5: 1221 | AUC5: 1222 | AUD5: 1223 | AUE5: 1224 | AUF5: 1225 | AUG5: 1226 | AUH5: 1227 | AUI5: 1228 | AUJ5: 1229 | AUK5: 1230 | AUL5: 1231 | AUM5: 1232 | AUN5: 1233 | AUO5: 1234 | AUP5: 1235 | AUQ5: 1236 | AUR5: 1237 | AUS5: 1238 | AUT5: 1239 | AUU5: 1240 | AUV5: 1241 | AUW5: 1242 | AUX5: 1243 | AUY5: 1244 | AUZ5: 1245 | AVA5: 1246 | AVB5: 1247 | AVC5: 1248 | AVD5: 1249 | AVE5: 1250 | AVF5: 1251 | AVG5: 1252 | AVH5: 1253 | AVI5: 1254 | AVJ5: 1255 | AVK5: 1256 | AVL5: 1257 | AVM5: 1258 | AVN5: 1259 | AVO5: 1260 | AVP5: 1261 | AVQ5: 1262 | AVR5: 1263 | AVS5: 1264 | AVT5: 1265 | AVU5: 1266 | AVV5: 1267 | AVW5: 1268 | AVX5: 1269 | AVY5: 1270 | AVZ5: 1271 | AWA5: 1272 | AWB5: 1273 | AWC5: 1274 | AWD5: 1275 | AWE5: 1276 | AWF5: 1277 | AWG5: 1278 | AWH5: 1279 | AWI5: 1280 | AWJ5: 1281 | AWK5: 1282 | AWL5: 1283 | AWM5: 1284 | AWN5: 1285 | AWO5: 1286 | AWP5: 1287 | AWQ5: 1288 | AWR5: 1289 | AWS5: 1290 | AWT5: 1291 | AWU5: 1292 | AWV5: 1293 | AWW5: 1294 | AWX5: 1295 | AWY5: 1296 | AWZ5: 1297 | AXA5: 1298 | AXB5: 1299 | AXC5: 1300 | AXD5: 1301 | AXE5: 1302 | AXF5: 1303 | AXG5: 1304 | AXH5: 1305 | AXI5: 1306 | AXJ5: 1307 | AXK5: 1308 | AXL5: 1309 | AXM5: 1310 | AXN5: 1311 | AXO5: 1312 | AXP5: 1313 | AXQ5: 1314 | AXR5: 1315 | AXS5: 1316 | AXT5: 1317 | AXU5: 1318 | AXV5: 1319 | AXW5: 1320 | AXX5: 1321 | AXY5: 1322 | AXZ5: 1323 | AYA5: 1324 | AYB5: 1325 | AYC5: 1326 | AYD5: 1327 | AYE5: 1328 | AYF5: 1329 | AYG5: 1330 | AYH5: 1331 | AYI5: 1332 | AYJ5: 1333 | AYK5: 1334 | AYL5: 1335 | AYM5: 1336 | AYN5: 1337 | AYO5: 1338 | AYP5: 1339 | AYQ5: 1340 | AYR5: 1341 | AYS5: 1342 | AYT5: 1343 | AYU5: 1344 | AYV5: 1345 | AYW5: 1346 | AYX5: 1347 | AYY5: 1348 | AYZ5: 1349 | AZA5: 1350 | AZB5: 1351 | AZC5: 1352 | AZD5: 1353 | AZE5: 1354 | AZF5: 1355 | AZG5: 1356 | AZH5: 1357 | AZI5: 1358 | AZJ5: 1359 | AZK5: 1360 | AZL5: 1361 | AZM5: 1362 | AZN5: 1363 | AZO5: 1364 | AZP5: 1365 | AZQ5: 1366 | AZR5: 1367 | AZS5: 1368 | AZT5: 1369 | AZU5: 1370 | AZV5: 1371 | AZW5: 1372 | AZX5: 1373 | AZY5: 1374 | AZZ5: 1375 | BAA5: 1376 | BAB5: 1377 | BAC5: 1378 | BAD5: 1379 | BAE5: 1380 | BAF5: 1381 | BAG5: 1382 | BAH5: 1383 | BAI5: 1384 | BAJ5: 1385 | BAK5: 1386 | BAL5: 1387 | BAM5: 1388 | BAN5: 1389 | BAO5: 1390 | BAP5: 1391 | BAQ5: 1392 | BAR5: 1393 | BAS5: 1394 | BAT5: 1395 | BAU5: 1396 | BAV5: 1397 | BAW5: 1398 | BAX5: 1399 | BAY5: 1400 | BAZ5: 1401 | BBA5: 1402 | BBB5: 1403 | BBC5: 1404 | BBD5: 1405 | BBE5: 1406 | BBF5: 1407 | BBG5: 1408 | BBH5: 1409 | BBI5: 1410 | BBJ5: 1411 | BBK5: 1412 | BBL5: 1413 | BBM5: 1414 | BBN5: 1415 | BBO5: 1416 | BBP5: 1417 | BBQ5: 1418 | BBR5: 1419 | BBS5: 1420 | BBT5: 1421 | BBU5: 1422 | BBV5: 1423 | BBW5: 1424 | BBX5: 1425 | BBY5: 1426 | BBZ5: 1427 | BCA5: 1428 | BCB5: 1429 | BCC5: 1430 | BCD5: 1431 | BCE5: 1432 | BCF5: 1433 | BCG5: 1434 | BCH5: 1435 | BCI5: 1436 | BCJ5: 1437 | BCK5: 1438 | BCL5: 1439 | BCM5: 1440 | BCN5: 1441 | BCO5: 1442 | BCP5: 1443 | BCQ5: 1444 | BCR5: 1445 | BCS5: 1446 | BCT5: 1447 | BCU5: 1448 | BCV5: 1449 | BCW5: 1450 | BCX5: 1451 | BCY5: 1452 | BCZ5: 1453 | BDA5: 1454 | BDB5: 1455 | BDC5: 1456 | BDD5: 1457 | BDE5: 1458 | BDF5: 1459 | BDG5: 1460 | BDH5: 1461 | BDI5: 1462 | BDJ5: 1463 | BDK5: 1464 | BDL5: 1465 | BDM5: 1466 | BDN5: 1467 | BDO5: 1468 | BDP5: 1469 | BDQ5: 1470 | BDR5: 1471 | BDS5: 1472 | BDT5: 1473 | BDU5: 1474 | BDV5: 1475 | BDW5: 1476 | BDX5: 1477 | BDY5: 1478 | BDZ5: 1479 | BEA5: 1480 | BEB5: 1481 | BEC5: 1482 | BED5: 1483 | BEE5: 1484 | BEF5: 1485 | BEG5: 1486 | BEH5: 1487 | BEI5: 1488 | BEJ5: 1489 | BEK5: 1490 | BEL5: 1491 | BEM5: 1492 | BEN5: 1493 | BEO5: 1494 | BEP5: 1495 | BEQ5: 1496 | BER5: 1497 | BES5: 1498 | BET5: 1499 | BEU5: 1500 | BEV5: 1501 | BEW5: 1502 | BEX5: 1503 | BEY5: 1504 | BEZ5: 1505 | BFA5: 1506 | BFB5: 1507 | BFC5: 1508 | BFD5: 1509 | BFE5: 1510 | BFF5: 1511 | BFG5: 1512 | BFH5: 1513 | BFI5: 1514 | BFJ5: 1515 | BFK5: 1516 | BFL5: 1517 | BFM5: 1518 | BFN5: 1519 | BFO5: 1520 | BFP5: 1521 | BFQ5: 1522 | BFR5: 1523 | BFS5: 1524 | BFT5: 1525 | BFU5: 1526 | BFV5: 1527 | BFW5: 1528 | BFX5: 1529 | BFY5: 1530 | BFZ5: 1531 | BGA5: 1532 | BGB5: 1533 | BGC5: 1534 | BGD5: 1535 | BGE5: 1536 | BGF5: 1537 | BGG5: 1538 | BGH5: 1539 | BGI5: 1540 | BGJ5: 1541 | BGK5: 1542 | BGL5: 1543 | BGM5: 1544 | BGN5: 1545 | BGO5: 1546 | BGP5: 1547 | BGQ5: 1548 | BGR5: 1549 | BGS5: 1550 | BGT5: 1551 | BGU5: 1552 | BGV5: 1553 | BGW5: 1554 | BGX5: 1555 | BGY5: 1556 | BGZ5: 1557 | BHA5: 1558 | BHB5: 1559 | BHC5: 1560 | BHD5: 1561 | BHE5: 1562 | BHF5: 1563 | BHG5: 1564 | BHH5: 1565 | BHI5: 1566 | BHJ5: 1567 | BHK5: 1568 | BHL5: 1569 | BHM5: 1570 | BHN5: 1571 | BHO5: 1572 | BHP5: 1573 | BHQ5: 1574 | BHR5: 1575 | BHS5: 1576 | BHT5: 1577 | BHU5: 1578 | BHV5: 1579 | BHW5: 1580 | BHX5: 1581 | BHY5: 1582 | BHZ5: 1583 | BIA5: 1584 | BIB5: 1585 | BIC5: 1586 | BID5: 1587 | BIE5: 1588 | BIF5: 1589 | BIG5: 1590 | BIH5: 1591 | BII5: 1592 | BIJ5: 1593 | BIK5: 1594 | BIL5: 1595 | BIM5: 1596 | BIN5: 1597 | BIO5: 1598 | BIP5: 1599 | BIQ5: 1600 | BIR5: 1601 | BIS5: 1602 | BIT5: 1603 | BIU5: 1604 | BIV5: 1605 | BIW5: 1606 | BIX5: 1607 | BIY5: 1608 | BIZ5: 1609 | BJA5: 1610 | BJB5: 1611 | BJC5: 1612 | BJD5: 1613 | BJE5: 1614 | BJF5: 1615 | BJG5: 1616 | BJH5: 1617 | BJI5: 1618 | BJJ5: 1619 | BJK5: 1620 | BJL5: 1621 | BJM5: 1622 | BJN5: 1623 | BJO5: 1624 | BJP5: 1625 | BJQ5: 1626 | BJR5: 1627 | BJS5: 1628 | BJT5: 1629 | BJU5: 1630 | BJV5: 1631 | BJW5: 1632 | BJX5: 1633 | BJY5: 1634 | BJZ5: 1635 | BKA5: 1636 | BKB5: 1637 | BKC5: 1638 | BKD5: 1639 | BKE5: 1640 | BKF5: 1641 | BKG5: 1642 | BKH5: 1643 | BKI5: 1644 | BKJ5: 1645 | BKK5: 1646 | BKL5: 1647 | BKM5: 1648 | BKN5: 1649 | BKO5: 1650 | BKP5: 1651 | BKQ5: 1652 | BKR5: 1653 | BKS5: 1654 | BKT5: 1655 | BKU5: 1656 | BKV5: 1657 | BKW5: 1658 | BKX5: 1659 | BKY5: 1660 | BKZ5: 1661 | BLA5: 1662 | BLB5: 1663 | BLC5: 1664 | BLD5: 1665 | BLE5: 1666 | BLF5: 1667 | BLG5: 1668 | BLH5: 1669 | BLI5: 1670 | BLJ5: 1671 | BLK5: 1672 | BLL5: 1673 | BLM5: 1674 | BLN5: 1675 | BLO5: 1676 | BLP5: 1677 | BLQ5: 1678 | BLR5: 1679 | BLS5: 1680 | BLT5: 1681 | BLU5: 1682 | BLV5: 1683 | BLW5: 1684 | BLX5: 1685 | BLY5: 1686 | BLZ5: 1687 | BMA5: 1688 | BMB5: 1689 | BMC5: 1690 | BMD5: 1691 | BME5: 1692 | BMF5: 1693 | BMG5: 1694 | BMH5: 1695 | BMI5: 1696 | BMJ5: 1697 | BMK5: 1698 | BML5: 1699 | BMM5: 1700 | BMN5: 1701 | BMO5: 1702 | BMP5: 1703 | BMQ5: 1704 | BMR5: 1705 | BMS5: 1706 | BMT5: 1707 | BMU5: 1708 | BMV5: 1709 | BMW5: 1710 | BMX5: 1711 | BMY5: 1712 | BMZ5: 1713 | BNA5: 1714 | BNB5: 1715 | BNC5: 1716 | BND5: 1717 | BNE5: 1718 | BNF5: 1719 | BNG5: 1720 | BNH5: 1721 | BNI5: 1722 | BNJ5: 1723 | BNK5: 1724 | BNL5: 1725 | BNM5: 1726 | BNN5: 1727 | BNO5: 1728 | BNP5: 1729 | BNQ5: 1730 | BNR5: 1731 | BNS5: 1732 | BNT5: 1733 | BNU5: 1734 | BNV5: 1735 | BNW5: 1736 | BNX5: 1737 | BNY5: 1738 | BNZ5: 1739 | BOA5: 1740 | BOB5: 1741 | BOC5: 1742 | BOD5: 1743 | BOE5: 1744 | BOF5: 1745 | BOG5: 1746 | BOH5: 1747 | BOI5: 1748 | BOJ5: 1749 | BOK5: 1750 | BOL5: 1751 | BOM5: 1752 | BON5: 1753 | BOO5: 1754 | BOP5: 1755 | BOQ5: 1756 | BOR5: 1757 | BOS5: 1758 | BOT5: 1759 | BOU5: 1760 | BOV5: 1761 | BOW5: 1762 | BOX5: 1763 | BOY5: 1764 | BOZ5: 1765 | BPA5: 1766 | BPB5: 1767 | BPC5: 1768 | BPD5: 1769 | BPE5: 1770 | BPF5: 1771 | BPG5: 1772 | BPH5: 1773 | BPI5: 1774 | BPJ5: 1775 | BPK5: 1776 | BPL5: 1777 | BPM5: 1778 | BPN5: 1779 | BPO5: 1780 | BPP5: 1781 | BPQ5: 1782 | BPR5: 1783 | BPS5: 1784 | BPT5: 1785 | BPU5: 1786 | BPV5: 1787 | BPW5: 1788 | BPX5: 1789 | BPY5: 1790 | BPZ5: 1791 | BQA5: 1792 | BQB5: 1793 | BQC5: 1794 | BQD5: 1795 | BQE5: 1796 | BQF5: 1797 | BQG5: 1798 | BQH5: 1799 | BQI5: 1800 | BQJ5: 1801 | BQK5: 1802 | BQL5: 1803 | BQM5: 1804 | BQN5: 1805 | BQO5: 1806 | BQP5: 1807 | BQQ5: 1808 | BQR5: 1809 | BQS5: 1810 | BQT5: 1811 | BQU5: 1812 | BQV5: 1813 | BQW5: 1814 | BQX5: 1815 | BQY5: 1816 | BQZ5: 1817 | BRA5: 1818 | BRB5: 1819 | BRC5: 1820 | BRD5: 1821 | BRE5: 1822 | BRF5: 1823 | BRG5: 1824 | BRH5: 1825 | BRI5: 1826 | BRJ5: 1827 | BRK5: 1828 | BRL5: 1829 | BRM5: 1830 | BRN5: 1831 | BRO5: 1832 | BRP5: 1833 | BRQ5: 1834 | BRR5: 1835 | BRS5: 1836 | BRT5: 1837 | BRU5: 1838 | BRV5: 1839 | BRW5: 1840 | BRX5: 1841 | BRY5: 1842 | BRZ5: 1843 | BSA5: 1844 | BSB5: 1845 | BSC5: 1846 | BSD5: 1847 | BSE5: 1848 | BSF5: 1849 | BSG5: 1850 | BSH5: 1851 | BSI5: 1852 | BSJ5: 1853 | BSK5: 1854 | BSL5: 1855 | BSM5: 1856 | BSN5: 1857 | BSO5: 1858 | BSP5: 1859 | BSQ5: 1860 | BSR5: 1861 | BSS5: 1862 | BST5: 1863 | BSU5: 1864 | BSV5: 1865 | BSW5: 1866 | BSX5: 1867 | BSY5: 1868 | BSZ5: 1869 | BTA5: 1870 | BTB5: 1871 | BTC5: 1872 | BTD5: 1873 | BTE5: 1874 | BTF5: 1875 | BTG5: 1876 | BTH5: 1877 | BTI5: 1878 | BTJ5: 1879 | BTK5: 1880 | BTL5: 1881 | BTM5: 1882 | BTN5: 1883 | BTO5: 1884 | BTP5: 1885 | BTQ5: 1886 | BTR5: 1887 | BTS5: 1888 | BTT5: 1889 | BTU5: 1890 | BTV5: 1891 | BTW5: 1892 | BTX5: 1893 | BTY5: 1894 | BTZ5: 1895 | BUA5: 1896 | BUB5: 1897 | BUC5: 1898 | BUD5: 1899 | BUE5: 1900 | BUF5: 1901 | BUG5: 1902 | BUH5: 1903 | BUI5: 1904 | BUJ5: 1905 | BUK5: 1906 | BUL5: 1907 | BUM5: 1908 | BUN5: 1909 | BUO5: 1910 | BUP5: 1911 | BUQ5: 1912 | BUR5: 1913 | BUS5: 1914 | BUT5: 1915 | BUU5: 1916 | BUV5: 1917 | BUW5: 1918 | BUX5: 1919 | BUY5: 1920 | BUZ5: 1921 | BVA5: 1922 | BVB5: 1923 | BVC5: 1924 | BVD5: 1925 | BVE5: 1926 | BVF5: 1927 | BVG5: 1928 | BVH5: 1929 | BVI5: 1930 | BVJ5: 1931 | BVK5: 1932 | BVL5: 1933 | BVM5: 1934 | BVN5: 1935 | BVO5: 1936 | BVP5: 1937 | BVQ5: 1938 | BVR5: 1939 | BVS5: 1940 | BVT5: 1941 | BVU5: 1942 | BVV5: 1943 | BVW5: 1944 | BVX5: 1945 | BVY5: 1946 | BVZ5: 1947 | BWA5: 1948 | BWB5: 1949 | BWC5: 1950 | BWD5: 1951 | BWE5: 1952 | BWF5: 1953 | BWG5: 1954 | BWH5: 1955 | BWI5: 1956 | BWJ5: 1957 | BWK5: 1958 | BWL5: 1959 | BWM5: 1960 | BWN5: 1961 | BWO5: 1962 | BWP5: 1963 | BWQ5: 1964 | BWR5: 1965 | BWS5: 1966 | BWT5: 1967 | BWU5: 1968 | BWV5: 1969 | BWW5: 1970 | BWX5: 1971 | BWY5: 1972 | BWZ5: 1973 | BXA5: 1974 | BXB5: 1975 | BXC5: 1976 | BXD5: 1977 | BXE5: 1978 | BXF5: 1979 | BXG5: 1980 | BXH5: 1981 | BXI5: 1982 | BXJ5: 1983 | BXK5: 1984 | BXL5: 1985 | BXM5: 1986 | BXN5: 1987 | BXO5: 1988 | BXP5: 1989 | BXQ5: 1990 | BXR5: 1991 | BXS5: 1992 | BXT5: 1993 | BXU5: 1994 | BXV5: 1995 | BXW5: 1996 | BXX5: 1997 | BXY5: 1998 | BXZ5: 1999 | BYA5: 2000
A6: =Worksheet2!I5 -> 184 | B6: {=MATCH(TRUE,D6:BYA6>$B$3,0)} -> 84 | C6: =Worksheet3!A5 -> Suspended Ceiling Tile A | D6: =1-_xlfn.HYPGEOM.DIST(0,D$5,$A6*'Sampling Plan Cover Sheet'!$B$11,$A6,FALSE) -> 0.048913043 | E6: =1-_xlfn.HYPGEOM.DIST(0,E$5,$A6*'Sampling Plan Cover Sheet'!$B$11,$A6,FALSE) -> 0.095687812 | F6: =1-_xlfn.HYPGEOM.DIST(0,F$5,$A6*'Sampling Plan Cover Sheet'!$B$11,$A6,FALSE) -> 0.14040655 | G6: =1-_xlfn.HYPGEOM.DIST(0,G$5,$A6*'Sampling Plan Cover Sheet'!$B$11,$A6,FALSE) -> 0.18314876 | H6: =1-_xlfn.HYPGEOM.DIST(0,H$5,$A6*'Sampling Plan Cover Sheet'!$B$11,$A6,FALSE) -> 0.22399132 | I6: =1-_xlfn.HYPGEOM.DIST(0,I$5,$A6*'Sampling Plan Cover Sheet'!$B$11,$A6,FALSE) -> 0.26300852 | J6: =1-_xlfn.HYPGEOM.DIST(0,J$5,$A6*'Sampling Plan Cover Sheet'!$B$11,$A6,FALSE) -> 0.30027213 | K6: =1-_xlfn.HYPGEOM.DIST(0,K$5,$A6*'Sampling Plan Cover Sheet'!$B$11,$A6,FALSE) -> 0.33585152 | ... BYA6: =1-_xlfn.HYPGEOM.DIST(0,BYA$5,$A6*'Sampling Plan Cover Sheet'!$B$11,$A6,FALSE) -> #NUM!
A7: =Worksheet2!I6 -> 199 | B7: {=MATCH(TRUE,D7:BYA7>$B$3,0)} -> 91 | C7: =Worksheet3!A6 -> Gypsum Wall Board A | D7: =1-_xlfn.HYPGEOM.DIST(0,D$5,$A7*'Sampling Plan Cover Sheet'!$B$11,$A7,FALSE) -> 0.045226131 | E7: =1-_xlfn.HYPGEOM.DIST(0,E$5,$A7*'Sampling Plan Cover Sheet'!$B$11,$A7,FALSE) -> 0.088624943 | F7: =1-_xlfn.HYPGEOM.DIST(0,F$5,$A7*'Sampling Plan Cover Sheet'!$B$11,$A7,FALSE) -> 0.13026137 | G7: =1-_xlfn.HYPGEOM.DIST(0,G$5,$A7*'Sampling Plan Cover Sheet'!$B$11,$A7,FALSE) -> 0.17019834 | H7: =1-_xlfn.HYPGEOM.DIST(0,H$5,$A7*'Sampling Plan Cover Sheet'!$B$11,$A7,FALSE) -> 0.20849688 | I7: =1-_xlfn.HYPGEOM.DIST(0,I$5,$A7*'Sampling Plan Cover Sheet'!$B$11,$A7,FALSE) -> 0.2452161 | J7: =1-_xlfn.HYPGEOM.DIST(0,J$5,$A7*'Sampling Plan Cover Sheet'!$B$11,$A7,FALSE) -> 0.28041328 | K7: =1-_xlfn.HYPGEOM.DIST(0,K$5,$A7*'Sampling Plan Cover Sheet'!$B$11,$A7,FALSE) -> 0.3141439 | ... BYA7: =1-_xlfn.HYPGEOM.DIST(0,BYA$5,$A7*'Sampling Plan Cover Sheet'!$B$11,$A7,FALSE) -> #NUM!
A8: =Worksheet2!I7 -> 16 | B8: {=MATCH(TRUE,D8:BYA8>$B$3,0)} -> #N/A | C8: =Worksheet3!A7 -> Carmet Mastic | D8: =1-_xlfn.HYPGEOM.DIST(0,D$5,$A8*'Sampling Plan Cover Sheet'!$B$11,$A8,FALSE) -> 0 | E8: =1-_xlfn.HYPGEOM.DIST(0,E$5,$A8*'Sampling Plan Cover Sheet'!$B$11,$A8,FALSE) -> 0 | F8: =1-_xlfn.HYPGEOM.DIST(0,F$5,$A8*'Sampling Plan Cover Sheet'!$B$11,$A8,FALSE) -> 0 | G8: =1-_xlfn.HYPGEOM.DIST(0,G$5,$A8*'Sampling Plan Cover Sheet'!$B$11,$A8,FALSE) -> 0 | H8: =1-_xlfn.HYPGEOM.DIST(0,H$5,$A8*'Sampling Plan Cover Sheet'!$B$11,$A8,FALSE) -> 0 | I8: =1-_xlfn.HYPGEOM.DIST(0,I$5,$A8*'Sampling Plan Cover Sheet'!$B$11,$A8,FALSE) -> 0 | J8: =1-_xlfn.HYPGEOM.DIST(0,J$5,$A8*'Sampling Plan Cover Sheet'!$B$11,$A8,FALSE) -> 0 | K8: =1-_xlfn.HYPGEOM.DIST(0,K$5,$A8*'Sampling Plan Cover Sheet'!$B$11,$A8,FALSE) -> 0 | ... BYA8: =1-_xlfn.HYPGEOM.DIST(0,BYA$5,$A8*'Sampling Plan Cover Sheet'!$B$11,$A8,FALSE) -> #NUM!
A9: =Worksheet2!I8 -> 25 | B9: {=MATCH(TRUE,D9:BYA9>$B$3,0)} -> 25 | C9: =Worksheet3!A8 -> Thermal System Insulation | D9: =1-_xlfn.HYPGEOM.DIST(0,D$5,$A9*'Sampling Plan Cover Sheet'!$B$11,$A9,FALSE) -> 0.04 | E9: =1-_xlfn.HYPGEOM.DIST(0,E$5,$A9*'Sampling Plan Cover Sheet'!$B$11,$A9,FALSE) -> 0.08 | F9: =1-_xlfn.HYPGEOM.DIST(0,F$5,$A9*'Sampling Plan Cover Sheet'!$B$11,$A9,FALSE) -> 0.12 | G9: =1-_xlfn.HYPGEOM.DIST(0,G$5,$A9*'Sampling Plan Cover Sheet'!$B$11,$A9,FALSE) -> 0.16 | H9: =1-_xlfn.HYPGEOM.DIST(0,H$5,$A9*'Sampling Plan Cover Sheet'!$B$11,$A9,FALSE) -> 0.2 | I9: =1-_xlfn.HYPGEOM.DIST(0,I$5,$A9*'Sampling Plan Cover Sheet'!$B$11,$A9,FALSE) -> 0.24 | J9: =1-_xlfn.HYPGEOM.DIST(0,J$5,$A9*'Sampling Plan Cover Sheet'!$B$11,$A9,FALSE) -> 0.28 | K9: =1-_xlfn.HYPGEOM.DIST(0,K$5,$A9*'Sampling Plan Cover Sheet'!$B$11,$A9,FALSE) -> 0.32 | ... BYA9: =1-_xlfn.HYPGEOM.DIST(0,BYA$5,$A9*'Sampling Plan Cover Sheet'!$B$11,$A9,FALSE) -> #NUM!
A10: =Worksheet2!I9 -> 15 | B10: {=MATCH(TRUE,D10:BYA10>$B$3,0)} -> #N/A | C10: =Worksheet3!A9 -> Spray-on Insulation | D10: =1-_xlfn.HYPGEOM.DIST(0,D$5,$A10*'Sampling Plan Cover Sheet'!$B$11,$A10,FALSE) -> 0 | E10: =1-_xlfn.HYPGEOM.DIST(0,E$5,$A10*'Sampling Plan Cover Sheet'!$B$11,$A10,FALSE) -> 0 | F10: =1-_xlfn.HYPGEOM.DIST(0,F$5,$A10*'Sampling Plan Cover Sheet'!$B$11,$A10,FALSE) -> 0 | G10: =1-_xlfn.HYPGEOM.DIST(0,G$5,$A10*'Sampling Plan Cover Sheet'!$B$11,$A10,FALSE) -> 0 | H10: =1-_xlfn.HYPGEOM.DIST(0,H$5,$A10*'Sampling Plan Cover Sheet'!$B$11,$A10,FALSE) -> 0 | I10: =1-_xlfn.HYPGEOM.DIST(0,I$5,$A10*'Sampling Plan Cover Sheet'!$B$11,$A10,FALSE) -> 0 | J10: =1-_xlfn.HYPGEOM.DIST(0,J$5,$A10*'Sampling Plan Cover Sheet'!$B$11,$A10,FALSE) -> 0 | K10: =1-_xlfn.HYPGEOM.DIST(0,K$5,$A10*'Sampling Plan Cover Sheet'!$B$11,$A10,FALSE) -> 0 | ... BYA10: =1-_xlfn.HYPGEOM.DIST(0,BYA$5,$A10*'Sampling Plan Cover Sheet'!$B$11,$A10,FALSE) -> #NUM!
A11: =Worksheet2!I10 -> 109 | B11: {=MATCH(TRUE,D11:BYA11>$B$3,0)} -> 73 | C11: =Worksheet3!A10 -> Mastic | D11: =1-_xlfn.HYPGEOM.DIST(0,D$5,$A11*'Sampling Plan Cover Sheet'!$B$11,$A11,FALSE) -> 0.04587156 | E11: =1-_xlfn.HYPGEOM.DIST(0,E$5,$A11*'Sampling Plan Cover Sheet'!$B$11,$A11,FALSE) -> 0.090044173 | F11: =1-_xlfn.HYPGEOM.DIST(0,F$5,$A11*'Sampling Plan Cover Sheet'!$B$11,$A11,FALSE) -> 0.13256547 | G11: =1-_xlfn.HYPGEOM.DIST(0,G$5,$A11*'Sampling Plan Cover Sheet'!$B$11,$A11,FALSE) -> 0.1734822 | H11: =1-_xlfn.HYPGEOM.DIST(0,H$5,$A11*'Sampling Plan Cover Sheet'!$B$11,$A11,FALSE) -> 0.21284019 | I11: =1-_xlfn.HYPGEOM.DIST(0,I$5,$A11*'Sampling Plan Cover Sheet'!$B$11,$A11,FALSE) -> 0.25068441 | J11: =1-_xlfn.HYPGEOM.DIST(0,J$5,$A11*'Sampling Plan Cover Sheet'!$B$11,$A11,FALSE) -> 0.28705895 | K11: =1-_xlfn.HYPGEOM.DIST(0,K$5,$A11*'Sampling Plan Cover Sheet'!$B$11,$A11,FALSE) -> 0.32200704 | ... BYA11: =1-_xlfn.HYPGEOM.DIST(0,BYA$5,$A11*'Sampling Plan Cover Sheet'!$B$11,$A11,FALSE) -> #NUM!
A12: =Worksheet2!I11 -> 62 | B12: {=MATCH(TRUE,D12:BYA12>$B$3,0)} -> 52 | C12: =Worksheet3!A11 -> Paint | D12: =1-_xlfn.HYPGEOM.DIST(0,D$5,$A12*'Sampling Plan Cover Sheet'!$B$11,$A12,FALSE) -> 0.048387097 | E12: =1-_xlfn.HYPGEOM.DIST(0,E$5,$A12*'Sampling Plan Cover Sheet'!$B$11,$A12,FALSE) -> 0.095187731 | F12: =1-_xlfn.HYPGEOM.DIST(0,F$5,$A12*'Sampling Plan Cover Sheet'!$B$11,$A12,FALSE) -> 0.14042834 | G12: =1-_xlfn.HYPGEOM.DIST(0,G$5,$A12*'Sampling Plan Cover Sheet'!$B$11,$A12,FALSE) -> 0.18413538 | H12: =1-_xlfn.HYPGEOM.DIST(0,H$5,$A12*'Sampling Plan Cover Sheet'!$B$11,$A12,FALSE) -> 0.22633527 | I12: =1-_xlfn.HYPGEOM.DIST(0,I$5,$A12*'Sampling Plan Cover Sheet'!$B$11,$A12,FALSE) -> 0.26705447 | J12: =1-_xlfn.HYPGEOM.DIST(0,J$5,$A12*'Sampling Plan Cover Sheet'!$B$11,$A12,FALSE) -> 0.30631941 | K12: =1-_xlfn.HYPGEOM.DIST(0,K$5,$A12*'Sampling Plan Cover Sheet'!$B$11,$A12,FALSE) -> 0.34415653 | ... BYA12: =1-_xlfn.HYPGEOM.DIST(0,BYA$5,$A12*'Sampling Plan Cover Sheet'!$B$11,$A12,FALSE) -> #NUM!
A13: =Worksheet2!I12 -> 144 | B13: {=MATCH(TRUE,D13:BYA13>$B$3,0)} -> 78 | C13: =Worksheet3!A12 -> Replacement Window Caulking | D13: =1-_xlfn.HYPGEOM.DIST(0,D$5,$A13*'Sampling Plan Cover Sheet'!$B$11,$A13,FALSE) -> 0.048611111 | E13: =1-_xlfn.HYPGEOM.DIST(0,E$5,$A13*'Sampling Plan Cover Sheet'!$B$11,$A13,FALSE) -> 0.095182595 | F13: =1-_xlfn.HYPGEOM.DIST(0,F$5,$A13*'Sampling Plan Cover Sheet'!$B$11,$A13,FALSE) -> 0.13978627 | G13: =1-_xlfn.HYPGEOM.DIST(0,G$5,$A13*'Sampling Plan Cover Sheet'!$B$11,$A13,FALSE) -> 0.18249192 | H13: =1-_xlfn.HYPGEOM.DIST(0,H$5,$A13*'Sampling Plan Cover Sheet'!$B$11,$A13,FALSE) -> 0.22336732 | I13: =1-_xlfn.HYPGEOM.DIST(0,I$5,$A13*'Sampling Plan Cover Sheet'!$B$11,$A13,FALSE) -> 0.26247832 | J13: =1-_xlfn.HYPGEOM.DIST(0,J$5,$A13*'Sampling Plan Cover Sheet'!$B$11,$A13,FALSE) -> 0.29988884 | K13: =1-_xlfn.HYPGEOM.DIST(0,K$5,$A13*'Sampling Plan Cover Sheet'!$B$11,$A13,FALSE) -> 0.33566094 | ... BYA13: =1-_xlfn.HYPGEOM.DIST(0,BYA$5,$A13*'Sampling Plan Cover Sheet'!$B$11,$A13,FALSE) -> #NUM!
A14: =Worksheet2!I13 -> 15 | B14: {=MATCH(TRUE,D14:BYA14>$B$3,0)} -> #N/A | C14: =Worksheet3!A13 -> Flue Connector | D14: =1-_xlfn.HYPGEOM.DIST(0,D$5,$A14*'Sampling Plan Cover Sheet'!$B$11,$A14,FALSE) -> 0 | E14: =1-_xlfn.HYPGEOM.DIST(0,E$5,$A14*'Sampling Plan Cover Sheet'!$B$11,$A14,FALSE) -> 0 | F14: =1-_xlfn.HYPGEOM.DIST(0,F$5,$A14*'Sampling Plan Cover Sheet'!$B$11,$A14,FALSE) -> 0 | G14: =1-_xlfn.HYPGEOM.DIST(0,G$5,$A14*'Sampling Plan Cover Sheet'!$B$11,$A14,FALSE) -> 0 | H14: =1-_xlfn.HYPGEOM.DIST(0,H$5,$A14*'Sampling Plan Cover Sheet'!$B$11,$A14,FALSE) -> 0 | I14: =1-_xlfn.HYPGEOM.DIST(0,I$5,$A14*'Sampling Plan Cover Sheet'!$B$11,$A14,FALSE) -> 0 | J14: =1-_xlfn.HYPGEOM.DIST(0,J$5,$A14*'Sampling Plan Cover Sheet'!$B$11,$A14,FALSE) -> 0 | K14: =1-_xlfn.HYPGEOM.DIST(0,K$5,$A14*'Sampling Plan Cover Sheet'!$B$11,$A14,FALSE) -> 0 | ... BYA14: =1-_xlfn.HYPGEOM.DIST(0,BYA$5,$A14*'Sampling Plan Cover Sheet'!$B$11,$A14,FALSE) -> #NUM!
A15: =Worksheet2!I14 -> 8 | B15: {=MATCH(TRUE,D15:BYA15>$B$3,0)} -> #N/A | C15: =Worksheet3!A14 -> Adhesive | D15: =1-_xlfn.HYPGEOM.DIST(0,D$5,$A15*'Sampling Plan Cover Sheet'!$B$11,$A15,FALSE) -> 0 | E15: =1-_xlfn.HYPGEOM.DIST(0,E$5,$A15*'Sampling Plan Cover Sheet'!$B$11,$A15,FALSE) -> 0 | F15: =1-_xlfn.HYPGEOM.DIST(0,F$5,$A15*'Sampling Plan Cover Sheet'!$B$11,$A15,FALSE) -> 0 | G15: =1-_xlfn.HYPGEOM.DIST(0,G$5,$A15*'Sampling Plan Cover Sheet'!$B$11,$A15,FALSE) -> 0 | H15: =1-_xlfn.HYPGEOM.DIST(0,H$5,$A15*'Sampling Plan Cover Sheet'!$B$11,$A15,FALSE) -> 0 | I15: =1-_xlfn.HYPGEOM.DIST(0,I$5,$A15*'Sampling Plan Cover Sheet'!$B$11,$A15,FALSE) -> 0 | J15: =1-_xlfn.HYPGEOM.DIST(0,J$5,$A15*'Sampling Plan Cover Sheet'!$B$11,$A15,FALSE) -> 0 | K15: =1-_xlfn.HYPGEOM.DIST(0,K$5,$A15*'Sampling Plan Cover Sheet'!$B$11,$A15,FALSE) -> 0 | ... BYA15: =1-_xlfn.HYPGEOM.DIST(0,BYA$5,$A15*'Sampling Plan Cover Sheet'!$B$11,$A15,FALSE) -> #NUM!
A16: =Worksheet2!I15 -> 6 | B16: {=MATCH(TRUE,D16:BYA16>$B$3,0)} -> #N/A | C16: =Worksheet3!A15 -> Sink Undercoating A | D16: =1-_xlfn.HYPGEOM.DIST(0,D$5,$A16*'Sampling Plan Cover Sheet'!$B$11,$A16,FALSE) -> 0 | E16: =1-_xlfn.HYPGEOM.DIST(0,E$5,$A16*'Sampling Plan Cover Sheet'!$B$11,$A16,FALSE) -> 0 | F16: =1-_xlfn.HYPGEOM.DIST(0,F$5,$A16*'Sampling Plan Cover Sheet'!$B$11,$A16,FALSE) -> 0 | G16: =1-_xlfn.HYPGEOM.DIST(0,G$5,$A16*'Sampling Plan Cover Sheet'!$B$11,$A16,FALSE) -> 0 | H16: =1-_xlfn.HYPGEOM.DIST(0,H$5,$A16*'Sampling Plan Cover Sheet'!$B$11,$A16,FALSE) -> 0 | I16: =1-_xlfn.HYPGEOM.DIST(0,I$5,$A16*'Sampling Plan Cover Sheet'!$B$11,$A16,FALSE) -> 0 | J16: =1-_xlfn.HYPGEOM.DIST(0,J$5,$A16*'Sampling Plan Cover Sheet'!$B$11,$A16,FALSE) -> #NUM! | K16: =1-_xlfn.HYPGEOM.DIST(0,K$5,$A16*'Sampling Plan Cover Sheet'!$B$11,$A16,FALSE) -> #NUM! | ... BYA16: =1-_xlfn.HYPGEOM.DIST(0,BYA$5,$A16*'Sampling Plan Cover Sheet'!$B$11,$A16,FALSE) -> #NUM!
A17: =Worksheet2!I16 -> 88 | B17: {=MATCH(TRUE,D17:BYA17>$B$3,0)} -> 66 | C17: =Worksheet3!A16 -> Suspended Ceiling Tile C | D17: =1-_xlfn.HYPGEOM.DIST(0,D$5,$A17*'Sampling Plan Cover Sheet'!$B$11,$A17,FALSE) -> 0.045454545 | E17: =1-_xlfn.HYPGEOM.DIST(0,E$5,$A17*'Sampling Plan Cover Sheet'!$B$11,$A17,FALSE) -> 0.089341693 | F17: =1-_xlfn.HYPGEOM.DIST(0,F$5,$A17*'Sampling Plan Cover Sheet'!$B$11,$A17,FALSE) -> 0.13169789 | G17: =1-_xlfn.HYPGEOM.DIST(0,G$5,$A17*'Sampling Plan Cover Sheet'!$B$11,$A17,FALSE) -> 0.17255917 | H17: =1-_xlfn.HYPGEOM.DIST(0,H$5,$A17*'Sampling Plan Cover Sheet'!$B$11,$A17,FALSE) -> 0.21196111 | I17: =1-_xlfn.HYPGEOM.DIST(0,I$5,$A17*'Sampling Plan Cover Sheet'!$B$11,$A17,FALSE) -> 0.24993889 | J17: =1-_xlfn.HYPGEOM.DIST(0,J$5,$A17*'Sampling Plan Cover Sheet'!$B$11,$A17,FALSE) -> 0.28652724 | K17: =1-_xlfn.HYPGEOM.DIST(0,K$5,$A17*'Sampling Plan Cover Sheet'!$B$11,$A17,FALSE) -> 0.32176046 | ... BYA17: =1-_xlfn.HYPGEOM.DIST(0,BYA$5,$A17*'Sampling Plan Cover Sheet'!$B$11,$A17,FALSE) -> #NUM!
... A23: =Worksheet2!I22 -> 0 | B23: {=MATCH(TRUE,D23:BYA23>$B$3,0)} -> #N/A | C23: =Worksheet3!A22 -> 0 | D23: =1-_xlfn.HYPGEOM.DIST(0,D$5,$A23*'Sampling Plan Cover Sheet'!$B$11,$A23,FALSE) -> #NUM! | E23: =1-_xlfn.HYPGEOM.DIST(0,E$5,$A23*'Sampling Plan Cover Sheet'!$B$11,$A23,FALSE) -> #NUM! | F23: =1-_xlfn.HYPGEOM.DIST(0,F$5,$A23*'Sampling Plan Cover Sheet'!$B$11,$A23,FALSE) -> #NUM! | G23: =1-_xlfn.HYPGEOM.DIST(0,G$5,$A23*'Sampling Plan Cover Sheet'!$B$11,$A23,FALSE) -> #NUM! | H23: =1-_xlfn.HYPGEOM.DIST(0,H$5,$A23*'Sampling Plan Cover Sheet'!$B$11,$A23,FALSE) -> #NUM! | I23: =1-_xlfn.HYPGEOM.DIST(0,I$5,$A23*'Sampling Plan Cover Sheet'!$B$11,$A23,FALSE) -> #NUM! | J23: =1-_xlfn.HYPGEOM.DIST(0,J$5,$A23*'Sampling Plan Cover Sheet'!$B$11,$A23,FALSE) -> #NUM! | K23: =1-_xlfn.HYPGEOM.DIST(0,K$5,$A23*'Sampling Plan Cover Sheet'!$B$11,$A23,FALSE) -> #NUM! | ... BYA23: =1-_xlfn.HYPGEOM.DIST(0,BYA$5,$A23*'Sampling Plan Cover Sheet'!$B$11,$A23,FALSE) -> #NUM!
A26: Calculation for Worksheet 4
A27: NCS | B27: =Worksheet4!B26 -> 7
A28: Alpha | B28: =1-(1-'Sampling Plan Cover Sheet'!B10)/B27 -> 0.99285714
