{"text_format":"3","workbook":"xlsx","n_sheets":34,"sheets":["Instructions","Notes","Summary","Engine Family #1","Engine Family #2","Engine Family #3","Engine Family #4","Engine Family #5","Engine Family #6","Engine Family #7","Engine Family #8","Engine Family #9","Engine Family #10","Engine Family #11","Engine Family #12","Engine Family #13","Engine Family #14","Engine Family #15","Engine Family #16","Engine Family #17","Engine Family #18","Engine Family #19","Engine Family #20","Engine Family #21","Engine Family #22","Engine Family #23","Engine Family #24","Engine Family #25","Engine Family #26","Engine Family #27","Engine Family #28","Engine Family #29","Engine Family #30","Invalid Tests"],"not_rendered":{"images":1,"defined_names":7},"read":"whole","date_system":"1900"}

{"sheet":"Instructions","index":0,"n_rows":124,"n_cols":21,"rows_kept":124,"merged":[[1,1,1,17],[2,1,2,17],[3,1,3,17],[5,1,5,17],[5,20,6,20],[6,1,6,17],[10,1,34,17],[10,20,55,20],[36,1,67,17],[68,1,98,17],[99,1,107,17],[108,1,121,17],[123,1,123,3]]}
[{"$nulls":20},"OMB No.  2060-0641"]
[null,"United States",{"$nulls":18},"EPA ICR # 1684.20"]
[null,"US Environmental Protection Agency",{"$nulls":18},"EPA ICR # 1684.20"]
[null,"Office of Air and Radiation, Office of Transportation and Air Quality",{"$nulls":18},"-March 30, 2023. Renewal Under OMB Review -"]
[]
[null,"Manufacturer Production Line Testing Report for Marine Compression Ignition Engines",{"$nulls":18},"This is a draft of a previously approved form amended to reflect regulatory changes and provided for comment. Use of this specific format is voluntary while OMB approval is pending."]
[null,"Version Number: 1.4 DRAFT  Last Revision: September 2023"]
[]
[null,"Manufacturer Data Submission Template -- INSTRUCTIONS ",{"$nulls":18},"Paperwork Reduction Act Notice"]
[]
[null,"I.  About\n\nOn January 24, 2023, EPA adopted significant revisions to the Marine CI Production-line Testing Program found at 40 CFR Part 1042, Subpart D (88 Federal Register 4296). Those revisions significantly simplified PLT reporting requirements. This version (v. 1.4 DRAFT) of the Marine CI PLT template is designed to reflect those changes and will be accepted as an interim reporting method until a new reporting module is made available in EVCIS. Please read these instructions carefully as several principles and calculations have changed. \n\nAs an engine manufacturer, submit a copy of this template for each Category of Marine CI engines (Category 1, 2 or 3). Please add new tests to the file as needed until the testing requirements for the applicable engine category are satisfied. Please note that the PLT program is no longer based on quarters, so those fields have been either deleted or disabled. Likewise, you no longer need to submit production data except for Category 3 engines. The previous production-based engine family exemptions have also been discontinued and new flexibilities added in its place.\n\nThe template is organized into several worksheets, including a \"Summary\" worksheet that includes both preliminary information as entered by you, the engine manufacturer, and overall compliance information based on the actual PLT data entered in subsequent worksheets (i.e., Engine Family #1, Engine Family #2, etc.). There are worksheets for 30 engine families and two additional tabs: \"Invalid Tests\" and \"Notes.\" Use \"Invalid Tests\" to submit data about any tests you have invalidated and the reason for which they were invalidated, as required by 1042.345(b)(5). You may use \"Notes\" to provide the information required under 1042.345 as well as any other relevant information that you may wish to submit. In all of the worksheets, values may be modified only in cells that are white - the green shaded cells contain either labels or calculated values.  \n\nBefore entering data in this template, international users should ensure that the settings in Excel for number handling are consistent with the template. Number handling settings that currently specify the use of a comma for the decimal separator and a period for the thousands separator must be temporarily modified to avoid errors within the automatic calculations. To modify the number handling settings when using Excel 2010, go to the file tab at the upper left of the Excel workbook and click \"Options\". On the resulting window click \"Advanced\", uncheck the \"Use system separators\" box and then insert a period for the decimal separator and a comma for the thousands separator. When using Excel 2007, first click the office button, then click \"Excel Options\". On the resulting window click \"Advanced\", uncheck the \"Use system separators\" box and then insert a period for the decimal separator and a comma for the thousands separator."]
{"$rows_empty":25}
[null,"II.  Entering General Information\n\nBefore entering data for each engine family, some information on the manufacturer and the Category should be entered into the worksheet labeled \"Summary.\"  The top portion of this worksheet includes spaces to enter general information about the PLT test.  These fields include:\n\n● Submission Date;\n● Manufacturer contact information (manufacturer name, PLT contact, email, and phone);\n● Category (select Category 1, Category 2, or Category 3); and \n● Model Year.\n\nThere is an additional field for comments.  For all Categories of engines, the Summary worksheet provides a summary of the number of tests completed, failed, passed and open based on the data entered in each Engine Family worksheet. However, since there are no longer Category-wide or production-based sampling requirements for Categories 1 and 2, the Summary worksheet no longer offers a count of remaining tests or total production for those categories. Instead, the template calculates sample size for each engine family in the individual Engine Family Worksheets. You are no longer required to submit production data except for Category 3. You may still do so for Catgegories 1 and 2 if you wish but the Summary worksheet will not use the data or display it. As before, the calculated required sample size will add two additional tests for each failed engine test [see 40 CFR 1042.310(c)].\n\n\nIMPORTANT NOTES REGARDING SAMPLE SIZE CALCULATIONS:\n\n1. For Category 1 and 2 engines, the required sample size for each Engine Family is displayed within the corresponding Engine Family worksheet, cell N17. The calculation is based on the new minimum sample size of 1 engine per engine family unless certain flexibilities apply (see cell N18). As before, two tests are added for each failed engine test [see 40 CFR 1042.310(c)].\n \nNOTE:  Within each Engine Family worksheet, users may select “N” in cell N16 (in response to the question \"Include Results from this engine family on Summary Sheet?\") if the Engine Family results should not be included in the Compliance Summary results (i.e., if the results are not considered final).\n\n2. If there are questions regarding sampling requirements, please consult your EPA Certification Representative. \n\n3. For Category 3, the required sample size is 100% of the production (per 1042.302).  Each engine must be tested pursuant to 1042.302(a) and any engine that has failed a test must cease operations until the cause of the failure is resolved.   \n\n"]
{"$rows_empty":31}
[null,"III.  Entering PLT Engine Test Results\n\nFollowing the \"Summary\" worksheet, there are multiple worksheets for \"Engine Family #1\" through \"Engine Family #30.\" Using these worksheets, enter PLT data for each engine family for CO, PM, HC, and NOx (HC and NOx values are summed and displayed as a combined NOx+HC value, if this option was indicated on the individual Engine Family worksheet). Please note that for Category 3 results only need to be entered for NOx; however, for both Category 1 and Category 2 results must be entered for CO, PM, HC, and NOx.\n\nEnter the test location and engine family descriptors asked for in each Engine Family worksheet; e.g., whether the engine family is a carryover, fuel type and whether the engine family is Recreational or Commercial.  Note that 'HC' refers to 'THC' for diesel fuel, 'NMHC' natural gas fuel, and 'THCE' for alcohol fuel. When the fuel type is selected, a note appears reminding the user of the correct HC variant for the selected fuel. Enter the Model Year, Tier, and whether NOx+HC is combined. The CFR Part has been set to 1042. Note that a selection of \"Y\" or \"N\" is required in the field indicating whether NOx+HC is combined in order to ensure that the results in the Summary worksheet are accurate and properly displayed.\n\nThe engine family name is then entered followed by the engine family's annual production (Category 3 only), the start/end dates for production and the deterioration factor type, which must be specified as either additive or multiplicative and is automatically displayed in the \"Det Factor Type\" fields for all pollutants.  N16 should be set to \"Y\" once all test data have been entered to indicate that the test data are final and can be factored into the compliance assessment within the Summary sheet.  Also, enter the FEL/standard, deterioration factor, and green engine factor (if applicable) for each pollutant (upper right).\n\nThe engine test results should be entered in the \"PLT Engine Test Results\" section within the Engine Family worksheet in the order in which they occur.  The first fourteen fields includes information specific to the test.  The initial result can be entered for each pollutant in the relevant columns.  The final result and deteriorated final result are displayed if the \"Calc Final Result?\" field in column B is \"Y.\"  At the far right, open fields are available to enter data related to failed tests (if applicable).  Failed tests will result in an upward adjustment to the required sample size (i.e., two additional tests are required for each failed test).  \n\nNote that for Category 3 engines, only NOx results need to be entered. The template has been designed so that for Category 3 engines, the engine family PLT status is determined solely on the basis of the NOx results.\n\nThe Engine Family worksheets should only include valid test results.  Invalid test results should be entered in the \"Invalid Tests\" worksheet.  Any additional notes or information relevant to the PLT information for the engine family can be included in the \"Notes\" worksheet.\n"]
{"$rows_empty":30}
[null,"IV.  Compliance Summary \n\nThe far right portion of the \"Summary\" worksheet (below the general information entered previously, as described in Section II) includes the summary compliance information for the PLT tests as entered in the Engine Family worksheets. As described below, the summary information shows Test Status, and a Compliance Status for each engine family.\n\n● Test Status:  This value will be FAIL if a failed status is indicated for any one pollutant. This value will be PASS if all pollutants for the engine family have a passing status. \n\n● Compliance Status:  If both the test status and sample size status have a value of PASS, the compliance status also has a value of PASS. If the test status has a value of FAIL, then the compliance status will have a value of FAIL regardless of the sample size status value. If the test status has a value of PASS and the sample size status has a value of OPEN, then the compliance status value will be OPEN. The summary will display “Previously Tested\" if N18 is set to Y.\n\n"]
{"$rows_empty":8}
[null,"\nV.  Troubleshooting\n\n If odd or unexpected results are displayed in the \"Summary\" worksheet, the following items can be checked:\n\n● Has a category been specified on the \"Summary\" worksheet and a projected production volume in the Engine Family worksheets (for Category 3 engines)?\n\n● Is \"Y\" indicated for the \"Include Results from Engine Family #n on Summary Sheet?*\" field for each completed Engine Family tab?\n\n● Is the entry for N18 accurate? \n\n● Are all engine tests entered sequentially without skipping rows?\n\n● Is \"Y\" indicated within the \"Calc Final Result?\" field for rows in which a final result is to be calculated?\n\n● Is there any information that has been inadvertently omitted within any one of the required data fields?  \n\n"]
{"$rows_empty":14}
[null,"EPA Form  5900-298"]

{"sheet":"Notes","index":1,"n_rows":9,"n_cols":2,"rows_kept":9,"merged":[[1,1,1,14],[2,1,2,14],[3,1,3,14],[5,1,5,14],[6,1,6,14],[10,1,71,13]]}
[]
[null,"United States"]
[null,"US Environmental Protection Agency"]
[null,"Office of Air and Radiation, Office of Transportation and Air Quality"]
[]
[null,"Manufacturer Production Line Testing Report for Marine Compression Ignition Engines"]
[]
[]
[null,"Manufacturer Notes"]

{"sheet":"Summary","index":2,"n_rows":108,"n_cols":46,"rows_kept":108,"merged":[[1,1,1,21],[2,1,2,21],[3,1,3,21],[4,1,4,21],[5,1,5,21],[6,1,6,21],[11,3,11,5],[12,3,12,5],[13,3,13,5],[13,12,13,13],[14,3,14,5],[15,12,18,13],[19,3,22,11],[23,43,24,43],[23,45,24,45],[25,39,26,39],[26,2,26,4],[26,5,26,7],[26,8,26,10],[26,11,26,13],[26,14,26,16],[32,23,33,23],[34,22,38,24],[35,21,39,21],[39,22,43,24],[60,43,61,43],[60,44,61,44],[108,1,108,16],[108,20,108,21],[109,1,111,16],[109,20,109,21],[110,20,110,21],[111,20,111,21]]}
[{"$nulls":25}," "]
[null,"United States"]
[null,"US Environmental Protection Agency"]
[null,"Office of Air and Radiation, Office of Transportation and Air Quality"]
[]
[null,"Manufacturer Production Line Testing Report for Marine Compression Ignition Engines"]
[null,{"$f":"Instructions!B7","v":"Version Number: 1.4 DRAFT  Last Revision: September 2023"}]
[]
[null,"Manufacturer and Engine Category Information",{"$nulls":13},"Submission Date"]
[]
[{"$nulls":13},"Model Year:",{"$nulls":19},"Cat 1"]
[null,"Manufacturer:",{"$nulls":31},"LT100 Flag"]
[null,"PLT Test Contact:",{"$nulls":5},"Category:",{"$nulls":3},"Category 2",null,null,{"$f":"$L$13","v":"Category 2"},{"$nulls":10},{"$f":"IF(AND(O13=\"Category 1\",F21=94),\"MIN0\",\"MIN1\")","v":"MIN1"},{"$nulls":7},{"$f":"IF(AND($L$13=\"Category 1\",SUM(R77:R106)<100),\"Y\",\"N\")","v":"N"}]
[null,"Email Address:",{"$nulls":5},"For Category 3, Total Category Production & Sample Size:",{"$nulls":3},{"$f":"IF(AND($L$13=\"Category 3\",SUM(M77:M106)>0),SUM(M77:M106),\"\")","v":""},{"$nulls":26},"Everything in this color is to be deleted, not used anywhere else"]
[null,"Phone #:",{"$nulls":5},"Number of Completed Engine Family Tests (All Categories):",{"$nulls":3},{"$f":"IF($P$108>0,SUM(F77:F106),\"\")","v":""},{"$nulls":4},{"$f":"SUM(H77:H106)","v":0},{"$nulls":9},{"$f":"MIN(COUNTIF($C29:$C58,\">-1\"),COUNTIF($F29:$F58,\">-1\"),COUNTIF($I29:$I58,\">-1\"))","v":0},"combined HC+NOX",{"$f":"IF(AND($E$74=1,$E$72+$H$72+$K$72=0,$K$108=0),\"PASS\",IF($E$72+$H$72+$K$72>0,\"FAIL\",\"OPEN\"))","v":"OPEN"},"combined HC+NOX",null,null,"Sum R77:106",{"$f":"SUM(R77:R106)","v":0}]
[{"$nulls":14},{"$f":"$L$14","v":""},null,{"$f":"SUM(I77:I106)","v":0},{"$nulls":9},{"$f":"MIN(COUNTIF($C29:$C58,\">-1\"),COUNTIF($F29:$F58,\">-1\"),COUNTIF($I29:$I58,\">-1\"),COUNTIF($L29:$L58,\">-1\"))","v":0},"sep HC+NOX, cat 1 or 2",{"$f":"IF(AND($E$74=1,$E$72+$H$72+$K$72+$N$72=0,$K$108=0),\"PASS\",IF($E$72+$H$72+$K$72+$N$72>0,\"FAIL\",\"OPEN\"))","v":"OPEN"},"sep HC+NOX, cat 1 or 2"]
[{"$nulls":14},{"$f":"$L$17","v":0},null,{"$f":"SUM(J77:J106)","v":0},{"$nulls":9},{"$f":"COUNTIF($L29:$L58,\">-1\")","v":0},"cat 3",{"$f":"IF(AND($E$74=1,$N$72=0,$K$108=0),\"PASS\",IF($N$72>0,\"FAIL\",\"OPEN\"))","v":"OPEN"},"cat 3"]
[{"$nulls":16},{"$f":"SUM(K77:K106)","v":0}]
[{"$nulls":26},"Min Req Sample Size current cell L16)",{"$nulls":4},"Delete - seemed to be redundancy for testing"]
[null,"Comments:",{"$nulls":24},{"$f":"IF($L$13=\"Category 2\",IF($P$108>0,ROUND(SUM(Q77:Q106),0),\"\"),IF($AH$13<>\"Y\",IF($P$108>0,ROUND(SUM(C77:C106),0),\"\"),IF($P$108>0,ROUND(SUM(S77:S106),0),\"\")))","v":""}]
[{"$nulls":26},"1% of production",null,"Test for if 1% prod is higher than sum of tests",{"$nulls":4},"1% of non-exempted families prod"]
[{"$nulls":26},{"$f":"ROUND(0.01*#REF!,0)","v":{"$error":"#REF!"}},null,{"$f":"IF($AA$20<$AA$22,$AA$22,$AA$20)","v":{"$error":"#REF!"}},{"$nulls":4},{"$f":"ROUND(0.01*$AB$24,0)","v":0},{"$nulls":11},"THIS ONE MARCH 2018"]
[{"$nulls":26},"TOTAL PROD","TOTAL PROD w/o excluded",null,{"$f":"IF(AA22>30,30,IF($AA$20<$AA$22,$AA$22,$AA$20))","v":{"$error":"#REF!"}},"Test #",null,null,{"$f":"AH22+AK59","v":0},"Plus 2 tests per failure",{"$nulls":8},{"$f":"SUM($AR$29:$AR$58)","v":0},{"$f":"SUM($AS$29:$AS$58)","v":0},{"$f":"SUM($AT$29:$AT$58)","v":0}]
[{"$nulls":26},{"$f":"#REF!","v":{"$error":"#REF!"}},{"$f":"SUM(T77:T106)","v":0},null,{"$f":"IF(AD25=\"none\",AA22,AC22)","v":{"$error":"#REF!"}},"extra failure logic",null,null,"USE THE ORANGE BOX",{"$nulls":9},"Current Sample size if total N17",null,"Proposed New Sample size if use F136 in N17"]
[null,"Compliance Summary",{"$nulls":25},{"$f":"IF(($L$14-$L$15)>1,\"tests\",\"test\")","v":{"$error":"#VALUE!"}},"No failures?",{"$f":"IF(AI59=0,\"none\",\"failures\")","v":"none"},{"$nulls":9},"Not needed anymore"]
[{"$nulls":39},"Fixed to check for <100 AND cat 1"]
[null,null,"CO",null,null,"PM",null,null,"NOx+HC",null,null,"NOx",null,null,"HC",{"$nulls":23},"Display in Summary?"]
[null,"Engine Family","Final Result (g/kW-hr)","Standard (g/kW-hr)","Compliance Status","Final Result (g/kW-hr)","Standard/FEL (g/kW-hr)","Compliance Status","Final Result (g/kW-hr)","Standard/FEL (g/kW-hr)","Compliance Status","Final Result (g/kW-hr)","Standard/FEL (g/kW-hr)","Compliance Status","Final Result (g/kW-hr)","Standard/FEL (g/kW-hr)","Compliance Status","Sample Size Status","Test Status","Compliance Status",null,"Number Passed:",null,{"$f":"COUNTIF($T$29:$T$58,\"PASS\")","v":0},null,null,"CO Comp Status","PM Comp Status","HC+Nox comp status","Nox comp status","HC comp status",{"$nulls":4},"Req due to Fails","Req due to fails without exempt or <100","Eng Fam #","0 if DISPLAY, 1 if don't display","EXEMPT?",null,"Reduced pre-approved sample size?",null,"N17 (FO36) (current EF sample size)","FO30 fixed wrong calc 0 ","FO31 fixed 0 for Cat 1 <100"]
[null,{"$f":"IF('Engine Family #1'!$M$11<>\"\",'Engine Family #1'!$M$11,\"\")","v":""},{"$f":"IF(AM29=1,\"\",IF('Engine Family #1'!$N$16=\"Y\",'Engine Family #1'!$R$12,\"\"))","v":""},{"$f":"IF('Engine Family #1'!$R$16<>\"\",'Engine Family #1'!$R$16,\"\")","v":""},{"$f":"IF(OR(C29=\"\",D29=\"\"),\"\",IF(AND(C29<>\"\",D29<>\"\",ROUND(C29,1)<=D29),\"PASS\",\"FAIL\"))","v":""},{"$f":"IF(AM29=1,\"\",IF('Engine Family #1'!$N$16=\"Y\",'Engine Family #1'!$V$12,\"\"))","v":""},{"$f":"IF('Engine Family #1'!$V$16<>\"\",'Engine Family #1'!$V$16,\"\")","v":""},{"$f":"IF(OR(F29=\"\",G29=\"\"),\"\",IF(AND(F29<>\"\",G29<>\"\",ROUND(F29,2)<=G29),\"PASS\",\"FAIL\"))","v":""},{"$f":"IF(AM29=1,\"\",IF('Engine Family #1'!$G$23=\"Y\",(IF('Engine Family #1'!$N$16=\"Y\",'Engine Family #1'!$Z$12,\"\")),\"\"))","v":""},{"$f":"IF('Engine Family #1'!$G$23=\"Y\",(IF('Engine Family #1'!$Z$16<>\"\",'Engine Family #1'!$Z$16,\"\")),\"\")","v":""},{"$f":"IF(OR(I29=\"\",J29=\"\"),\"\",IF(AND(I29<>\"\",J29<>\"\",ROUND(I29,1)<=J29),\"PASS\",\"FAIL\"))","v":""},{"$f":"IF(AM29=1,\"\",IF('Engine Family #1'!$G$23=\"N\",(IF('Engine Family #1'!$N$16=\"Y\",'Engine Family #1'!$AD$12,\"\")),\"\"))","v":""},{"$f":"IF('Engine Family #1'!$G$23=\"N\",(IF('Engine Family #1'!$AD$16<>\"\",'Engine Family #1'!$AD$16,\"\")),\"\")","v":""},{"$f":"IF(OR(L29=\"\",M29=\"\"),\"\",IF(AND(L29<>\"\",M29<>\"\",ROUND(L29,1)<=M29),\"PASS\",\"FAIL\"))","v":""},{"$f":"IF(AM29=1,\"\",IF('Engine Family #1'!$G$23=\"N\",(IF('Engine Family #1'!$N$16=\"Y\",'Engine Family #1'!$Z$12,\"\")),\"\"))","v":""},{"$f":"IF('Engine Family #1'!$G$23=\"N\",(IF('Engine Family #1'!$Z$16<>\"\",'Engine Family #1'!$Z$16,\"\")),\"\")","v":""},{"$f":"IF(OR(O29=\"\",P29=\"\"),\"\",IF(AND(O29<>\"\",P29<>\"\",ROUND(O29,2)<=P29),\"PASS\",\"FAIL\"))","v":""},{"$f":"IF(AM29=1,\"\",G77)","v":""},{"$f":"$AG29","v":""},{"$f":"IF('Engine Family #1'!$N$18=\"Y\",\"Previously Tested\",IF($S29=\"FAIL\",\"FAIL\",IF($R29=\"OPEN\",\"OPEN\",IF(AND($S29=\"PASS\",$R29=\"PASS\"),\"PASS\",\"\"))))","v":""},null,"Number Failed:",null,{"$f":"COUNTIF($T$29:$T$58,\"FAIL\")","v":0},null,null,{"$f":"IF($E29=\"FAIL\",10,IF($E29=\"PASS\",1,0))","v":0},{"$f":"IF($H29=\"FAIL\",10,IF($H29=\"PASS\",1,0))","v":0},{"$f":"IF($K29=\"FAIL\",10,IF($K29=\"PASS\",1,0))","v":0},{"$f":"IF($N29=\"FAIL\",10,IF($N29=\"PASS\",1,0))","v":0},{"$f":"IF($Q29=\"FAIL\",10,IF($Q29=\"PASS\",1,0))","v":0},{"$f":"IF($L$13<>\"Category 3\",IF('Engine Family #1'!$G$23=\"Y\",(AA29+AB29+AC29),(AA29+AB29+AD29+AE29)),AD29)","v":0},{"$f":"IF($AF29>9,\"FAIL\",IF($L$13<>\"Category 3\",IF('Engine Family #1'!$G$23=\"Y\",IF($AF29=3,\"PASS\",\"\"),IF($AF29=4,\"PASS\",\"\")),IF($AF29=1,\"PASS\",\"\")))","v":""},null,{"$f":"'Engine Family #1'!$FS$36","v":0},{"$f":"AI29*2","v":0},null,1,{"$f":"IF(OR('Engine Family #1'!$N$16=\"N\",'Engine Family #1'!$N$18=\"Y\"),1,0)","v":0},{"$f":"IF('Engine Family #1'!$N$12=\"\",0,IF(OR(AND($L$13=\"Category 1\",'Engine Family #1'!$N$12<100),'Engine Family #1'!$N$18=\"Y\"),1,0))","v":0},{"$nulls":3},{"$f":"'Engine Family #1'!$N$17","v":0},{"$f":"'Engine Family #1'!$FO$30","v":0},{"$f":"'Engine Family #1'!$FO$31","v":0}]
[null,{"$f":"IF('Engine Family #2'!$M$11<>\"\",'Engine Family #2'!$M$11,\"\")","v":""},{"$f":"IF(AM30=1,\"\",IF('Engine Family #2'!$N$16=\"Y\",'Engine Family #2'!$R$12,\"\"))","v":""},{"$f":"IF('Engine Family #2'!$R$16<>\"\",'Engine Family #2'!$R$16,\"\")","v":""},{"$f":"IF(OR(C30=\"\",D30=\"\"),\"\",IF(AND(C30<>\"\",D30<>\"\",ROUND(C30,1)<=D30),\"PASS\",\"FAIL\"))","v":""},{"$f":"IF(AM30=1,\"\",IF('Engine Family #2'!$N$16=\"Y\",'Engine Family #2'!$V$12,\"\"))","v":""},{"$f":"IF('Engine Family #2'!$V$16<>\"\",'Engine Family #2'!$V$16,\"\")","v":""},{"$f":"IF(OR(F30=\"\",G30=\"\"),\"\",IF(AND(F30<>\"\",G30<>\"\",ROUND(F30,2)<=G30),\"PASS\",\"FAIL\"))","v":""},{"$f":"IF(AM30=1,\"\",IF('Engine Family #2'!$G$23=\"Y\",(IF('Engine Family #2'!$N$16=\"Y\",'Engine Family #2'!$Z$12,\"\")),\"\"))","v":""},{"$f":"IF('Engine Family #2'!$G$23=\"Y\",(IF('Engine Family #2'!$Z$16<>\"\",'Engine Family #2'!$Z$16,\"\")),\"\")","v":""},{"$f":"IF(OR(I30=\"\",J30=\"\"),\"\",IF(AND(I30<>\"\",J30<>\"\",ROUND(I30,1)<=J30),\"PASS\",\"FAIL\"))","v":""},{"$f":"IF(AM30=1,\"\",IF('Engine Family #2'!$G$23=\"N\",(IF('Engine Family #2'!$N$16=\"Y\",'Engine Family #2'!$AD$12,\"\")),\"\"))","v":""},{"$f":"IF('Engine Family #2'!$G$23=\"N\",(IF('Engine Family #2'!$AD$16<>\"\",'Engine Family #2'!$AD$16,\"\")),\"\")","v":""},{"$f":"IF(OR(L30=\"\",M30=\"\"),\"\",IF(AND(L30<>\"\",M30<>\"\",ROUND(L30,1)<=M30),\"PASS\",\"FAIL\"))","v":""},{"$f":"IF(AM30=1,\"\",IF('Engine Family #2'!$G$23=\"N\",(IF('Engine Family #2'!$N$16=\"Y\",'Engine Family #2'!$Z$12,\"\")),\"\"))","v":""},{"$f":"IF('Engine Family #2'!$G$23=\"N\",(IF('Engine Family #2'!$Z$16<>\"\",'Engine Family #2'!$Z$16,\"\")),\"\")","v":""},{"$f":"IF(OR(O30=\"\",P30=\"\"),\"\",IF(AND(O30<>\"\",P30<>\"\",ROUND(O30,2)<=P30),\"PASS\",\"FAIL\"))","v":""},{"$f":"IF(AM30=1,\"\",G78)","v":""},{"$f":"$AG30","v":""},{"$f":"IF('Engine Family #2'!$N$18=\"Y\",\"Previously Tested\",IF($S30=\"FAIL\",\"FAIL\",IF($R30=\"OPEN\",\"OPEN\",IF(AND($S30=\"PASS\",$R30=\"PASS\"),\"PASS\",\"\"))))","v":""},null,"Number Open:",null,{"$f":"COUNTIF($T$29:$T$58,\"OPEN\")","v":0},null,null,{"$f":"IF($E30=\"FAIL\",10,IF($E30=\"PASS\",1,0))","v":0},{"$f":"IF($H30=\"FAIL\",10,IF($H30=\"PASS\",1,0))","v":0},{"$f":"IF($K30=\"FAIL\",10,IF($K30=\"PASS\",1,0))","v":0},{"$f":"IF($N30=\"FAIL\",10,IF($N30=\"PASS\",1,0))","v":0},{"$f":"IF($Q30=\"FAIL\",10,IF($Q30=\"PASS\",1,0))","v":0},{"$f":"IF($L$13<>\"Category 3\",IF('Engine Family #2'!$G$23=\"Y\",(AA30+AB30+AC30),(AA30+AB30+AD30+AE30)),AD30)","v":0},{"$f":"IF($AF30>9,\"FAIL\",IF($L$13<>\"Category 3\",IF('Engine Family #2'!$G$23=\"Y\",IF($AF30=3,\"PASS\",\"\"),IF($AF30=4,\"PASS\",\"\")),IF($AF30=1,\"PASS\",\"\")))","v":""},null,{"$f":"'Engine Family #2'!$FS$36","v":0},0,null,2,{"$f":"IF(OR('Engine Family #2'!$N$16=\"N\",'Engine Family #2'!$N$18=\"Y\"),1,0)","v":0},{"$f":"IF('Engine Family #2'!$N$12=\"\",0,IF(OR(AND($L$13=\"Category 1\",'Engine Family #2'!$N$12<100),'Engine Family #2'!$N$18=\"Y\"),1,0))","v":0},null,"Deleted",null,{"$f":"'Engine Family #2'!$N$17","v":0},{"$f":"'Engine Family #2'!$FO$30","v":0},{"$f":"'Engine Family #2'!$FO$31","v":0}]
[null,{"$f":"IF('Engine Family #3'!$M$11<>\"\",'Engine Family #3'!$M$11,\"\")","v":""},{"$f":"IF(AM31=1,\"\",IF('Engine Family #3'!$N$16=\"Y\",'Engine Family #3'!$R$12,\"\"))","v":""},{"$f":"IF('Engine Family #3'!$R$16<>\"\",'Engine Family #3'!$R$16,\"\")","v":""},"",{"$f":"IF(AM31=1,\"\",IF('Engine Family #3'!$N$16=\"Y\",'Engine Family #3'!$V$12,\"\"))","v":""},{"$f":"IF('Engine Family #3'!$V$16<>\"\",'Engine Family #3'!$V$16,\"\")","v":""},"",{"$f":"IF(AM31=1,\"\",IF('Engine Family #3'!$G$23=\"Y\",(IF('Engine Family #3'!$N$16=\"Y\",'Engine Family #3'!$Z$12,\"\")),\"\"))","v":""},{"$f":"IF('Engine Family #3'!$G$23=\"Y\",(IF('Engine Family #3'!$Z$16<>\"\",'Engine Family #3'!$Z$16,\"\")),\"\")","v":""},"",{"$f":"IF(AM31=1,\"\",IF('Engine Family #3'!$G$23=\"N\",(IF('Engine Family #3'!$N$16=\"Y\",'Engine Family #3'!$AD$12,\"\")),\"\"))","v":""},{"$f":"IF('Engine Family #3'!$G$23=\"N\",(IF('Engine Family #3'!$AD$16<>\"\",'Engine Family #3'!$AD$16,\"\")),\"\")","v":""},"",{"$f":"IF(AM31=1,\"\",IF('Engine Family #3'!$G$23=\"N\",(IF('Engine Family #3'!$N$16=\"Y\",'Engine Family #3'!$Z$12,\"\")),\"\"))","v":""},{"$f":"IF('Engine Family #3'!$G$23=\"N\",(IF('Engine Family #3'!$Z$16<>\"\",'Engine Family #3'!$Z$16,\"\")),\"\")","v":""},"","","",{"$f":"IF('Engine Family #3'!$N$18=\"Y\",\"Previously Tested\",IF($S31=\"FAIL\",\"FAIL\",IF($R31=\"OPEN\",\"OPEN\",IF(AND($S31=\"PASS\",$R31=\"PASS\"),\"PASS\",\"\"))))","v":""},{"$nulls":6},0,0,0,0,0,{"$f":"IF($L$13<>\"Category 3\",IF('Engine Family #3'!$G$23=\"Y\",(AA31+AB31+AC31),(AA31+AB31+AD31+AE31)),AD31)","v":0},{"$f":"IF($AF31>9,\"FAIL\",IF($L$13<>\"Category 3\",IF('Engine Family #3'!$G$23=\"Y\",IF($AF31=3,\"PASS\",\"\"),IF($AF31=4,\"PASS\",\"\")),IF($AF31=1,\"PASS\",\"\")))","v":""},null,{"$f":"'Engine Family #3'!$FS$36","v":0},0,null,3,{"$f":"IF(OR('Engine Family #3'!$N$16=\"N\",'Engine Family #3'!$N$18=\"Y\"),1,0)","v":0},{"$f":"IF('Engine Family #3'!$N$12=\"\",0,IF(OR(AND($L$13=\"Category 1\",'Engine Family #3'!$N$12<100),'Engine Family #3'!$N$18=\"Y\"),1,0))","v":0},{"$nulls":3},{"$f":"'Engine Family #3'!$N$17","v":0},{"$f":"'Engine Family #3'!$FO$30","v":0},{"$f":"'Engine Family #3'!$FO$31","v":0}]
[null,{"$f":"IF('Engine Family #4'!$M$11<>\"\",'Engine Family #4'!$M$11,\"\")","v":""},{"$f":"IF(AM32=1,\"\",IF('Engine Family #4'!$N$16=\"Y\",'Engine Family #4'!$R$12,\"\"))","v":""},{"$f":"IF('Engine Family #4'!$R$16<>\"\",'Engine Family #4'!$R$16,\"\")","v":""},"",{"$f":"IF(AM32=1,\"\",IF('Engine Family #4'!$N$16=\"Y\",'Engine Family #4'!$V$12,\"\"))","v":""},{"$f":"IF('Engine Family #4'!$V$16<>\"\",'Engine Family #4'!$V$16,\"\")","v":""},"",{"$f":"IF(AM32=1,\"\",IF('Engine Family #4'!$G$23=\"Y\",(IF('Engine Family #4'!$N$16=\"Y\",'Engine Family #4'!$Z$12,\"\")),\"\"))","v":""},{"$f":"IF('Engine Family #4'!$G$23=\"Y\",(IF('Engine Family #4'!$Z$16<>\"\",'Engine Family #4'!$Z$16,\"\")),\"\")","v":""},"",{"$f":"IF(AM32=1,\"\",IF('Engine Family #4'!$G$23=\"N\",(IF('Engine Family #4'!$N$16=\"Y\",'Engine Family #4'!$AD$12,\"\")),\"\"))","v":""},{"$f":"IF('Engine Family #4'!$G$23=\"N\",(IF('Engine Family #4'!$AD$16<>\"\",'Engine Family #4'!$AD$16,\"\")),\"\")","v":""},"",{"$f":"IF(AM32=1,\"\",IF('Engine Family #4'!$G$23=\"N\",(IF('Engine Family #4'!$N$16=\"Y\",'Engine Family #4'!$Z$12,\"\")),\"\"))","v":""},{"$f":"IF('Engine Family #4'!$G$23=\"N\",(IF('Engine Family #4'!$Z$16<>\"\",'Engine Family #4'!$Z$16,\"\")),\"\")","v":""},"","","",{"$f":"IF('Engine Family #4'!$N$18=\"Y\",\"Previously Tested\",IF($S32=\"FAIL\",\"FAIL\",IF($R32=\"OPEN\",\"OPEN\",IF(AND($S32=\"PASS\",$R32=\"PASS\"),\"PASS\",\"\"))))","v":""},{"$nulls":6},0,0,0,0,0,{"$f":"IF($L$13<>\"Category 3\",IF('Engine Family #4'!$G$23=\"Y\",(AA32+AB32+AC32),(AA32+AB32+AD32+AE32)),AD32)","v":0},{"$f":"IF($AF32>9,\"FAIL\",IF($L$13<>\"Category 3\",IF('Engine Family #4'!$G$23=\"Y\",IF($AF32=3,\"PASS\",\"\"),IF($AF32=4,\"PASS\",\"\")),IF($AF32=1,\"PASS\",\"\")))","v":""},null,{"$f":"'Engine Family #4'!$FS$36","v":0},0,null,4,{"$f":"IF(OR('Engine Family #4'!$N$16=\"N\",'Engine Family #4'!$N$18=\"Y\"),1,0)","v":0},{"$f":"IF('Engine Family #4'!$N$12=\"\",0,IF(OR(AND($L$13=\"Category 1\",'Engine Family #4'!$N$12<100),'Engine Family #4'!$N$18=\"Y\"),1,0))","v":0},{"$nulls":3},{"$f":"'Engine Family #4'!$N$17","v":0},{"$f":"'Engine Family #4'!$FO$30","v":0},{"$f":"'Engine Family #4'!$FO$31","v":0}]
[null,{"$f":"IF('Engine Family #5'!$M$11<>\"\",'Engine Family #5'!$M$11,\"\")","v":""},{"$f":"IF(AM33=1,\"\",IF('Engine Family #5'!$N$16=\"Y\",'Engine Family #5'!$R$12,\"\"))","v":""},{"$f":"IF('Engine Family #5'!$R$16<>\"\",'Engine Family #5'!$R$16,\"\")","v":""},"",{"$f":"IF(AM33=1,\"\",IF('Engine Family #5'!$N$16=\"Y\",'Engine Family #5'!$V$12,\"\"))","v":""},{"$f":"IF('Engine Family #5'!$V$16<>\"\",'Engine Family #5'!$V$16,\"\")","v":""},"",{"$f":"IF(AM33=1,\"\",IF('Engine Family #5'!$G$23=\"Y\",(IF('Engine Family #5'!$N$16=\"Y\",'Engine Family #5'!$Z$12,\"\")),\"\"))","v":""},{"$f":"IF('Engine Family #5'!$G$23=\"Y\",(IF('Engine Family #5'!$Z$16<>\"\",'Engine Family #5'!$Z$16,\"\")),\"\")","v":""},"",{"$f":"IF(AM33=1,\"\",IF('Engine Family #5'!$G$23=\"N\",(IF('Engine Family #5'!$N$16=\"Y\",'Engine Family #5'!$AD$12,\"\")),\"\"))","v":""},{"$f":"IF('Engine Family #5'!$G$23=\"N\",(IF('Engine Family #5'!$AD$16<>\"\",'Engine Family #5'!$AD$16,\"\")),\"\")","v":""},"",{"$f":"IF(AM33=1,\"\",IF('Engine Family #5'!$G$23=\"N\",(IF('Engine Family #5'!$N$16=\"Y\",'Engine Family #5'!$Z$12,\"\")),\"\"))","v":""},{"$f":"IF('Engine Family #5'!$G$23=\"N\",(IF('Engine Family #5'!$Z$16<>\"\",'Engine Family #5'!$Z$16,\"\")),\"\")","v":""},"","","",{"$f":"IF('Engine Family #5'!$N$18=\"Y\",\"Previously Tested\",IF($S33=\"FAIL\",\"FAIL\",IF($R33=\"OPEN\",\"OPEN\",IF(AND($S33=\"PASS\",$R33=\"PASS\"),\"PASS\",\"\"))))","v":""},{"$nulls":6},0,0,0,0,0,{"$f":"IF($L$13<>\"Category 3\",IF('Engine Family #5'!$G$23=\"Y\",(AA33+AB33+AC33),(AA33+AB33+AD33+AE33)),AD33)","v":0},{"$f":"IF($AF33>9,\"FAIL\",IF($L$13<>\"Category 3\",IF('Engine Family #5'!$G$23=\"Y\",IF($AF33=3,\"PASS\",\"\"),IF($AF33=4,\"PASS\",\"\")),IF($AF33=1,\"PASS\",\"\")))","v":""},null,{"$f":"'Engine Family #5'!$FS$36","v":0},0,null,5,{"$f":"IF(OR('Engine Family #5'!$N$16=\"N\",'Engine Family #5'!$N$18=\"Y\"),1,0)","v":0},{"$f":"IF('Engine Family #5'!$N$12=\"\",0,IF(OR(AND($L$13=\"Category 1\",'Engine Family #5'!$N$12<100),'Engine Family #5'!$N$18=\"Y\"),1,0))","v":0},{"$nulls":3},{"$f":"'Engine Family #5'!$N$17","v":0},{"$f":"'Engine Family #5'!$FO$30","v":0},{"$f":"'Engine Family #5'!$FO$31","v":0}]
[null,{"$f":"IF('Engine Family #6'!$M$11<>\"\",'Engine Family #6'!$M$11,\"\")","v":""},{"$f":"IF(AM34=1,\"\",IF('Engine Family #6'!$N$16=\"Y\",'Engine Family #6'!$R$12,\"\"))","v":""},{"$f":"IF('Engine Family #6'!$R$16<>\"\",'Engine Family #6'!$R$16,\"\")","v":""},"",{"$f":"IF(AM34=1,\"\",IF('Engine Family #6'!$N$16=\"Y\",'Engine Family #6'!$V$12,\"\"))","v":""},{"$f":"IF('Engine Family #6'!$V$16<>\"\",'Engine Family #6'!$V$16,\"\")","v":""},"",{"$f":"IF(AM34=1,\"\",IF('Engine Family #6'!$G$23=\"Y\",(IF('Engine Family #6'!$N$16=\"Y\",'Engine Family #6'!$Z$12,\"\")),\"\"))","v":""},{"$f":"IF('Engine Family #6'!$G$23=\"Y\",(IF('Engine Family #6'!$Z$16<>\"\",'Engine Family #6'!$Z$16,\"\")),\"\")","v":""},"",{"$f":"IF(AM34=1,\"\",IF('Engine Family #6'!$G$23=\"N\",(IF('Engine Family #6'!$N$16=\"Y\",'Engine Family #6'!$AD$12,\"\")),\"\"))","v":""},{"$f":"IF('Engine Family #6'!$G$23=\"N\",(IF('Engine Family #6'!$AD$16<>\"\",'Engine Family #6'!$AD$16,\"\")),\"\")","v":""},"",{"$f":"IF(AM34=1,\"\",IF('Engine Family #6'!$G$23=\"N\",(IF('Engine Family #6'!$N$16=\"Y\",'Engine Family #6'!$Z$12,\"\")),\"\"))","v":""},{"$f":"IF('Engine Family #6'!$G$23=\"N\",(IF('Engine Family #6'!$Z$16<>\"\",'Engine Family #6'!$Z$16,\"\")),\"\")","v":""},"","","",{"$f":"IF('Engine Family #6'!$N$18=\"Y\",\"Previously Tested\",IF($S34=\"FAIL\",\"FAIL\",IF($R34=\"OPEN\",\"OPEN\",IF(AND($S34=\"PASS\",$R34=\"PASS\"),\"PASS\",\"\"))))","v":""},{"$nulls":6},0,0,0,0,0,{"$f":"IF($L$13<>\"Category 3\",IF('Engine Family #6'!$G$23=\"Y\",(AA34+AB34+AC34),(AA34+AB34+AD34+AE34)),AD34)","v":0},{"$f":"IF($AF34>9,\"FAIL\",IF($L$13<>\"Category 3\",IF('Engine Family #6'!$G$23=\"Y\",IF($AF34=3,\"PASS\",\"\"),IF($AF34=4,\"PASS\",\"\")),IF($AF34=1,\"PASS\",\"\")))","v":""},null,{"$f":"'Engine Family #6'!$FS$36","v":0},0,null,6,{"$f":"IF(OR('Engine Family #6'!$N$16=\"N\",'Engine Family #6'!$N$18=\"Y\"),1,0)","v":0},{"$f":"IF('Engine Family #6'!$N$12=\"\",0,IF(OR(AND($L$13=\"Category 1\",'Engine Family #6'!$N$12<100),'Engine Family #6'!$N$18=\"Y\"),1,0))","v":0},{"$nulls":3},{"$f":"'Engine Family #6'!$N$17","v":0},{"$f":"'Engine Family #6'!$FO$30","v":0},{"$f":"'Engine Family #6'!$FO$31","v":0}]
[null,{"$f":"IF('Engine Family #7'!$M$11<>\"\",'Engine Family #7'!$M$11,\"\")","v":""},{"$f":"IF(AM35=1,\"\",IF('Engine Family #7'!$N$16=\"Y\",'Engine Family #7'!$R$12,\"\"))","v":""},{"$f":"IF('Engine Family #7'!$R$16<>\"\",'Engine Family #7'!$R$16,\"\")","v":""},"",{"$f":"IF(AM35=1,\"\",IF('Engine Family #7'!$N$16=\"Y\",'Engine Family #7'!$V$12,\"\"))","v":""},{"$f":"IF('Engine Family #7'!$V$16<>\"\",'Engine Family #7'!$V$16,\"\")","v":""},"",{"$f":"IF(AM35=1,\"\",IF('Engine Family #7'!$G$23=\"Y\",(IF('Engine Family #7'!$N$16=\"Y\",'Engine Family #7'!$Z$12,\"\")),\"\"))","v":""},{"$f":"IF('Engine Family #7'!$G$23=\"Y\",(IF('Engine Family #7'!$Z$16<>\"\",'Engine Family #7'!$Z$16,\"\")),\"\")","v":""},"",{"$f":"IF(AM35=1,\"\",IF('Engine Family #7'!$G$23=\"N\",(IF('Engine Family #7'!$N$16=\"Y\",'Engine Family #7'!$AD$12,\"\")),\"\"))","v":""},{"$f":"IF('Engine Family #7'!$G$23=\"N\",(IF('Engine Family #7'!$AD$16<>\"\",'Engine Family #7'!$AD$16,\"\")),\"\")","v":""},"",{"$f":"IF(AM35=1,\"\",IF('Engine Family #7'!$G$23=\"N\",(IF('Engine Family #7'!$N$16=\"Y\",'Engine Family #7'!$Z$12,\"\")),\"\"))","v":""},{"$f":"IF('Engine Family #7'!$G$23=\"N\",(IF('Engine Family #7'!$Z$16<>\"\",'Engine Family #7'!$Z$16,\"\")),\"\")","v":""},"","","",{"$f":"IF('Engine Family #7'!$N$18=\"Y\",\"Previously Tested\",IF($S35=\"FAIL\",\"FAIL\",IF($R35=\"OPEN\",\"OPEN\",IF(AND($S35=\"PASS\",$R35=\"PASS\"),\"PASS\",\"\"))))","v":""},{"$nulls":6},{"$f":"IF($E35=\"FAIL\",10,IF($E35=\"PASS\",1,0))","v":0},0,0,0,0,{"$f":"IF($L$13<>\"Category 3\",IF('Engine Family #7'!$G$23=\"Y\",(AA35+AB35+AC35),(AA35+AB35+AD35+AE35)),AD35)","v":0},{"$f":"IF($AF35>9,\"FAIL\",IF($L$13<>\"Category 3\",IF('Engine Family #7'!$G$23=\"Y\",IF($AF35=3,\"PASS\",\"\"),IF($AF35=4,\"PASS\",\"\")),IF($AF35=1,\"PASS\",\"\")))","v":""},null,{"$f":"'Engine Family #7'!$FS$36","v":0},0,null,7,{"$f":"IF(OR('Engine Family #7'!$N$16=\"N\",'Engine Family #7'!$N$18=\"Y\"),1,0)","v":0},{"$f":"IF('Engine Family #7'!$N$12=\"\",0,IF(OR(AND($L$13=\"Category 1\",'Engine Family #7'!$N$12<100),'Engine Family #7'!$N$18=\"Y\"),1,0))","v":0},{"$nulls":3},{"$f":"'Engine Family #7'!$N$17","v":0},{"$f":"'Engine Family #7'!$FO$30","v":0},{"$f":"'Engine Family #7'!$FO$31","v":0}]
[null,{"$f":"IF('Engine Family #8'!$M$11<>\"\",'Engine Family #8'!$M$11,\"\")","v":""},{"$f":"IF(AM36=1,\"\",IF('Engine Family #8'!$N$16=\"Y\",'Engine Family #8'!$R$12,\"\"))","v":""},{"$f":"IF('Engine Family #8'!$R$16<>\"\",'Engine Family #8'!$R$16,\"\")","v":""},"",{"$f":"IF(AM36=1,\"\",IF('Engine Family #8'!$N$16=\"Y\",'Engine Family #8'!$V$12,\"\"))","v":""},{"$f":"IF('Engine Family #8'!$V$16<>\"\",'Engine Family #8'!$V$16,\"\")","v":""},"",{"$f":"IF(AM36=1,\"\",IF('Engine Family #8'!$G$23=\"Y\",(IF('Engine Family #8'!$N$16=\"Y\",'Engine Family #8'!$Z$12,\"\")),\"\"))","v":""},{"$f":"IF('Engine Family #8'!$G$23=\"Y\",(IF('Engine Family #8'!$Z$16<>\"\",'Engine Family #8'!$Z$16,\"\")),\"\")","v":""},"",{"$f":"IF(AM36=1,\"\",IF('Engine Family #8'!$G$23=\"N\",(IF('Engine Family #8'!$N$16=\"Y\",'Engine Family #8'!$AD$12,\"\")),\"\"))","v":""},{"$f":"IF('Engine Family #8'!$G$23=\"N\",(IF('Engine Family #8'!$AD$16<>\"\",'Engine Family #8'!$AD$16,\"\")),\"\")","v":""},"",{"$f":"IF(AM36=1,\"\",IF('Engine Family #8'!$G$23=\"N\",(IF('Engine Family #8'!$N$16=\"Y\",'Engine Family #8'!$Z$12,\"\")),\"\"))","v":""},{"$f":"IF('Engine Family #8'!$G$23=\"N\",(IF('Engine Family #8'!$Z$16<>\"\",'Engine Family #8'!$Z$16,\"\")),\"\")","v":""},"","","",{"$f":"IF('Engine Family #8'!$N$18=\"Y\",\"Previously Tested\",IF($S36=\"FAIL\",\"FAIL\",IF($R36=\"OPEN\",\"OPEN\",IF(AND($S36=\"PASS\",$R36=\"PASS\"),\"PASS\",\"\"))))","v":""},{"$nulls":6},0,0,0,0,0,{"$f":"IF($L$13<>\"Category 3\",IF('Engine Family #8'!$G$23=\"Y\",(AA36+AB36+AC36),(AA36+AB36+AD36+AE36)),AD36)","v":0},{"$f":"IF($AF36>9,\"FAIL\",IF($L$13<>\"Category 3\",IF('Engine Family #8'!$G$23=\"Y\",IF($AF36=3,\"PASS\",\"\"),IF($AF36=4,\"PASS\",\"\")),IF($AF36=1,\"PASS\",\"\")))","v":""},null,{"$f":"'Engine Family #8'!$FS$36","v":0},0,null,8,{"$f":"IF(OR('Engine Family #8'!$N$16=\"N\",'Engine Family #8'!$N$18=\"Y\"),1,0)","v":0},{"$f":"IF('Engine Family #8'!$N$12=\"\",0,IF(OR(AND($L$13=\"Category 1\",'Engine Family #8'!$N$12<100),'Engine Family #8'!$N$18=\"Y\"),1,0))","v":0},{"$nulls":3},{"$f":"'Engine Family #8'!$N$17","v":0},{"$f":"'Engine Family #8'!$FO$30","v":0},{"$f":"'Engine Family #8'!$FO$31","v":0}]
[null,{"$f":"IF('Engine Family #9'!$M$11<>\"\",'Engine Family #9'!$M$11,\"\")","v":""},{"$f":"IF(AM37=1,\"\",IF('Engine Family #9'!$N$16=\"Y\",'Engine Family #9'!$R$12,\"\"))","v":""},{"$f":"IF('Engine Family #9'!$R$16<>\"\",'Engine Family #9'!$R$16,\"\")","v":""},"",{"$f":"IF(AM37=1,\"\",IF('Engine Family #9'!$N$16=\"Y\",'Engine Family #9'!$V$12,\"\"))","v":""},{"$f":"IF('Engine Family #9'!$V$16<>\"\",'Engine Family #9'!$V$16,\"\")","v":""},"",{"$f":"IF(AM37=1,\"\",IF('Engine Family #9'!$G$23=\"Y\",(IF('Engine Family #9'!$N$16=\"Y\",'Engine Family #9'!$Z$12,\"\")),\"\"))","v":""},{"$f":"IF('Engine Family #9'!$G$23=\"Y\",(IF('Engine Family #9'!$Z$16<>\"\",'Engine Family #9'!$Z$16,\"\")),\"\")","v":""},"",{"$f":"IF(AM37=1,\"\",IF('Engine Family #9'!$G$23=\"N\",(IF('Engine Family #9'!$N$16=\"Y\",'Engine Family #9'!$AD$12,\"\")),\"\"))","v":""},{"$f":"IF('Engine Family #9'!$G$23=\"N\",(IF('Engine Family #9'!$AD$16<>\"\",'Engine Family #9'!$AD$16,\"\")),\"\")","v":""},"",{"$f":"IF(AM37=1,\"\",IF('Engine Family #9'!$G$23=\"N\",(IF('Engine Family #9'!$N$16=\"Y\",'Engine Family #9'!$Z$12,\"\")),\"\"))","v":""},{"$f":"IF('Engine Family #9'!$G$23=\"N\",(IF('Engine Family #9'!$Z$16<>\"\",'Engine Family #9'!$Z$16,\"\")),\"\")","v":""},"","","",{"$f":"IF('Engine Family #9'!$N$18=\"Y\",\"Previously Tested\",IF($S37=\"FAIL\",\"FAIL\",IF($R37=\"OPEN\",\"OPEN\",IF(AND($S37=\"PASS\",$R37=\"PASS\"),\"PASS\",\"\"))))","v":""},{"$nulls":6},0,0,0,0,0,{"$f":"IF($L$13<>\"Category 3\",IF('Engine Family #9'!$G$23=\"Y\",(AA37+AB37+AC37),(AA37+AB37+AD37+AE37)),AD37)","v":0},{"$f":"IF($AF37>9,\"FAIL\",IF($L$13<>\"Category 3\",IF('Engine Family #9'!$G$23=\"Y\",IF($AF37=3,\"PASS\",\"\"),IF($AF37=4,\"PASS\",\"\")),IF($AF37=1,\"PASS\",\"\")))","v":""},null,{"$f":"'Engine Family #9'!$FS$36","v":0},0,null,9,{"$f":"IF(OR('Engine Family #9'!$N$16=\"N\",'Engine Family #9'!$N$18=\"Y\"),1,0)","v":0},{"$f":"IF('Engine Family #9'!$N$12=\"\",0,IF(OR(AND($L$13=\"Category 1\",'Engine Family #9'!$N$12<100),'Engine Family #9'!$N$18=\"Y\"),1,0))","v":0},{"$nulls":3},{"$f":"'Engine Family #9'!$N$17","v":0},{"$f":"'Engine Family #9'!$FO$30","v":0},{"$f":"'Engine Family #9'!$FO$31","v":0}]
[null,{"$f":"IF('Engine Family #10'!$M$11<>\"\",'Engine Family #10'!$M$11,\"\")","v":""},{"$f":"IF(AM38=1,\"\",IF('Engine Family #10'!$N$16=\"Y\",'Engine Family #10'!$R$12,\"\"))","v":""},{"$f":"IF('Engine Family #10'!$R$16<>\"\",'Engine Family #10'!$R$16,\"\")","v":""},"",{"$f":"IF(AM38=1,\"\",IF('Engine Family #10'!$N$16=\"Y\",'Engine Family #10'!$V$12,\"\"))","v":""},{"$f":"IF('Engine Family #10'!$V$16<>\"\",'Engine Family #10'!$V$16,\"\")","v":""},"",{"$f":"IF(AM38=1,\"\",IF('Engine Family #10'!$G$23=\"Y\",(IF('Engine Family #10'!$N$16=\"Y\",'Engine Family #10'!$Z$12,\"\")),\"\"))","v":""},{"$f":"IF('Engine Family #10'!$G$23=\"Y\",(IF('Engine Family #10'!$Z$16<>\"\",'Engine Family #10'!$Z$16,\"\")),\"\")","v":""},"",{"$f":"IF(AM38=1,\"\",IF('Engine Family #10'!$G$23=\"N\",(IF('Engine Family #10'!$N$16=\"Y\",'Engine Family #10'!$AD$12,\"\")),\"\"))","v":""},{"$f":"IF('Engine Family #10'!$G$23=\"N\",(IF('Engine Family #10'!$AD$16<>\"\",'Engine Family #10'!$AD$16,\"\")),\"\")","v":""},"",{"$f":"IF(AM38=1,\"\",IF('Engine Family #10'!$G$23=\"N\",(IF('Engine Family #10'!$N$16=\"Y\",'Engine Family #10'!$Z$12,\"\")),\"\"))","v":""},{"$f":"IF('Engine Family #10'!$G$23=\"N\",(IF('Engine Family #10'!$Z$16<>\"\",'Engine Family #10'!$Z$16,\"\")),\"\")","v":""},"","","",{"$f":"IF('Engine Family #10'!$N$18=\"Y\",\"Previously Tested\",IF($S38=\"FAIL\",\"FAIL\",IF($R38=\"OPEN\",\"OPEN\",IF(AND($S38=\"PASS\",$R38=\"PASS\"),\"PASS\",\"\"))))","v":""},{"$nulls":6},0,0,0,0,0,{"$f":"IF($L$13<>\"Category 3\",IF('Engine Family #10'!$G$23=\"Y\",(AA38+AB38+AC38),(AA38+AB38+AD38+AE38)),AD38)","v":0},{"$f":"IF($AF38>9,\"FAIL\",IF($L$13<>\"Category 3\",IF('Engine Family #10'!$G$23=\"Y\",IF($AF38=3,\"PASS\",\"\"),IF($AF38=4,\"PASS\",\"\")),IF($AF38=1,\"PASS\",\"\")))","v":""},null,{"$f":"'Engine Family #10'!$FS$36","v":0},0,null,10,{"$f":"IF(OR('Engine Family #10'!$N$16=\"N\",'Engine Family #10'!$N$18=\"Y\"),1,0)","v":0},{"$f":"IF('Engine Family #10'!$N$12=\"\",0,IF(OR(AND($L$13=\"Category 1\",'Engine Family #10'!$N$12<100),'Engine Family #10'!$N$18=\"Y\"),1,0))","v":0},{"$nulls":3},{"$f":"'Engine Family #10'!$N$17","v":0},{"$f":"'Engine Family #10'!$FO$30","v":0},{"$f":"'Engine Family #10'!$FO$31","v":0}]
[null,{"$f":"IF('Engine Family #11'!$M$11<>\"\",'Engine Family #11'!$M$11,\"\")","v":""},{"$f":"IF(AM39=1,\"\",IF('Engine Family #11'!$N$16=\"Y\",'Engine Family #11'!$R$12,\"\"))","v":""},{"$f":"IF('Engine Family #11'!$R$16<>\"\",'Engine Family #11'!$R$16,\"\")","v":""},"",{"$f":"IF(AM39=1,\"\",IF('Engine Family #11'!$N$16=\"Y\",'Engine Family #11'!$V$12,\"\"))","v":""},{"$f":"IF('Engine Family #11'!$V$16<>\"\",'Engine Family #11'!$V$16,\"\")","v":""},"",{"$f":"IF(AM39=1,\"\",IF('Engine Family #11'!$G$23=\"Y\",(IF('Engine Family #11'!$N$16=\"Y\",'Engine Family #11'!$Z$12,\"\")),\"\"))","v":""},{"$f":"IF('Engine Family #11'!$G$23=\"Y\",(IF('Engine Family #11'!$Z$16<>\"\",'Engine Family #11'!$Z$16,\"\")),\"\")","v":""},"",{"$f":"IF(AM39=1,\"\",IF('Engine Family #11'!$G$23=\"N\",(IF('Engine Family #11'!$N$16=\"Y\",'Engine Family #11'!$AD$12,\"\")),\"\"))","v":""},{"$f":"IF('Engine Family #11'!$G$23=\"N\",(IF('Engine Family #11'!$AD$16<>\"\",'Engine Family #11'!$AD$16,\"\")),\"\")","v":""},"",{"$f":"IF(AM39=1,\"\",IF('Engine Family #11'!$G$23=\"N\",(IF('Engine Family #11'!$N$16=\"Y\",'Engine Family #11'!$Z$12,\"\")),\"\"))","v":""},{"$f":"IF('Engine Family #11'!$G$23=\"N\",(IF('Engine Family #11'!$Z$16<>\"\",'Engine Family #11'!$Z$16,\"\")),\"\")","v":""},"",{"$f":"IF(AM39=1,\"\",G87)","v":""},"",{"$f":"IF('Engine Family #11'!$N$18=\"Y\",\"Previously Tested\",IF($S39=\"FAIL\",\"FAIL\",IF($R39=\"OPEN\",\"OPEN\",IF(AND($S39=\"PASS\",$R39=\"PASS\"),\"PASS\",\"\"))))","v":""},{"$nulls":6},0,0,0,0,0,{"$f":"IF($L$13<>\"Category 3\",IF('Engine Family #11'!$G$23=\"Y\",(AA39+AB39+AC39),(AA39+AB39+AD39+AE39)),AD39)","v":0},{"$f":"IF($AF39>9,\"FAIL\",IF($L$13<>\"Category 3\",IF('Engine Family #11'!$G$23=\"Y\",IF($AF39=3,\"PASS\",\"\"),IF($AF39=4,\"PASS\",\"\")),IF($AF39=1,\"PASS\",\"\")))","v":""},null,{"$f":"'Engine Family #11'!$FS$36","v":0},0,null,11,{"$f":"IF(OR('Engine Family #11'!$N$16=\"N\",'Engine Family #11'!$N$18=\"Y\"),1,0)","v":0},{"$f":"IF('Engine Family #11'!$N$12=\"\",0,IF(OR(AND($L$13=\"Category 1\",'Engine Family #11'!$N$12<100),'Engine Family #11'!$N$18=\"Y\"),1,0))","v":0},{"$nulls":3},{"$f":"'Engine Family #11'!$N$17","v":0},{"$f":"'Engine Family #11'!$FO$30","v":0},{"$f":"'Engine Family #11'!$FO$31","v":0}]
[null,{"$f":"IF('Engine Family #12'!$M$11<>\"\",'Engine Family #12'!$M$11,\"\")","v":""},{"$f":"IF(AM40=1,\"\",IF('Engine Family #12'!$N$16=\"Y\",'Engine Family #12'!$R$12,\"\"))","v":""},{"$f":"IF('Engine Family #12'!$R$16<>\"\",'Engine Family #12'!$R$16,\"\")","v":""},"",{"$f":"IF(AM40=1,\"\",IF('Engine Family #12'!$N$16=\"Y\",'Engine Family #12'!$V$12,\"\"))","v":""},{"$f":"IF('Engine Family #12'!$V$16<>\"\",'Engine Family #12'!$V$16,\"\")","v":""},"",{"$f":"IF(AM40=1,\"\",IF('Engine Family #12'!$G$23=\"Y\",(IF('Engine Family #12'!$N$16=\"Y\",'Engine Family #12'!$Z$12,\"\")),\"\"))","v":""},{"$f":"IF('Engine Family #12'!$G$23=\"Y\",(IF('Engine Family #12'!$Z$16<>\"\",'Engine Family #12'!$Z$16,\"\")),\"\")","v":""},"",{"$f":"IF(AM40=1,\"\",IF('Engine Family #12'!$G$23=\"N\",(IF('Engine Family #12'!$N$16=\"Y\",'Engine Family #12'!$AD$12,\"\")),\"\"))","v":""},{"$f":"IF('Engine Family #12'!$G$23=\"N\",(IF('Engine Family #12'!$AD$16<>\"\",'Engine Family #12'!$AD$16,\"\")),\"\")","v":""},"",{"$f":"IF(AM40=1,\"\",IF('Engine Family #12'!$G$23=\"N\",(IF('Engine Family #12'!$N$16=\"Y\",'Engine Family #12'!$Z$12,\"\")),\"\"))","v":""},{"$f":"IF('Engine Family #12'!$G$23=\"N\",(IF('Engine Family #12'!$Z$16<>\"\",'Engine Family #12'!$Z$16,\"\")),\"\")","v":""},"","","",{"$f":"IF('Engine Family #12'!$N$18=\"Y\",\"Previously Tested\",IF($S40=\"FAIL\",\"FAIL\",IF($R40=\"OPEN\",\"OPEN\",IF(AND($S40=\"PASS\",$R40=\"PASS\"),\"PASS\",\"\"))))","v":""},{"$nulls":6},0,0,0,0,0,{"$f":"IF($L$13<>\"Category 3\",IF('Engine Family #12'!$G$23=\"Y\",(AA40+AB40+AC40),(AA40+AB40+AD40+AE40)),AD40)","v":0},{"$f":"IF($AF40>9,\"FAIL\",IF($L$13<>\"Category 3\",IF('Engine Family #12'!$G$23=\"Y\",IF($AF40=3,\"PASS\",\"\"),IF($AF40=4,\"PASS\",\"\")),IF($AF40=1,\"PASS\",\"\")))","v":""},null,{"$f":"'Engine Family #12'!$FS$36","v":0},0,null,12,{"$f":"IF(OR('Engine Family #12'!$N$16=\"N\",'Engine Family #12'!$N$18=\"Y\"),1,0)","v":0},{"$f":"IF('Engine Family #12'!$N$12=\"\",0,IF(OR(AND($L$13=\"Category 1\",'Engine Family #12'!$N$12<100),'Engine Family #12'!$N$18=\"Y\"),1,0))","v":0},{"$nulls":3},{"$f":"'Engine Family #12'!$N$17","v":0},{"$f":"'Engine Family #12'!$FO$30","v":0},{"$f":"'Engine Family #12'!$FO$31","v":0}]
[null,{"$f":"IF('Engine Family #13'!$M$11<>\"\",'Engine Family #13'!$M$11,\"\")","v":""},{"$f":"IF(AM41=1,\"\",IF('Engine Family #13'!$N$16=\"Y\",'Engine Family #13'!$R$12,\"\"))","v":""},{"$f":"IF('Engine Family #13'!$R$16<>\"\",'Engine Family #13'!$R$16,\"\")","v":""},"",{"$f":"IF(AM41=1,\"\",IF('Engine Family #13'!$N$16=\"Y\",'Engine Family #13'!$V$12,\"\"))","v":""},{"$f":"IF('Engine Family #13'!$V$16<>\"\",'Engine Family #13'!$V$16,\"\")","v":""},"",{"$f":"IF(AM41=1,\"\",IF('Engine Family #13'!$G$23=\"Y\",(IF('Engine Family #13'!$N$16=\"Y\",'Engine Family #13'!$Z$12,\"\")),\"\"))","v":""},{"$f":"IF('Engine Family #13'!$G$23=\"Y\",(IF('Engine Family #13'!$Z$16<>\"\",'Engine Family #13'!$Z$16,\"\")),\"\")","v":""},"",{"$f":"IF(AM41=1,\"\",IF('Engine Family #13'!$G$23=\"N\",(IF('Engine Family #13'!$N$16=\"Y\",'Engine Family #13'!$AD$12,\"\")),\"\"))","v":""},{"$f":"IF('Engine Family #13'!$G$23=\"N\",(IF('Engine Family #13'!$AD$16<>\"\",'Engine Family #13'!$AD$16,\"\")),\"\")","v":""},"",{"$f":"IF(AM41=1,\"\",IF('Engine Family #13'!$G$23=\"N\",(IF('Engine Family #13'!$N$16=\"Y\",'Engine Family #13'!$Z$12,\"\")),\"\"))","v":""},{"$f":"IF('Engine Family #13'!$G$23=\"N\",(IF('Engine Family #13'!$Z$16<>\"\",'Engine Family #13'!$Z$16,\"\")),\"\")","v":""},"","","",{"$f":"IF('Engine Family #13'!$N$18=\"Y\",\"Previously Tested\",IF($S41=\"FAIL\",\"FAIL\",IF($R41=\"OPEN\",\"OPEN\",IF(AND($S41=\"PASS\",$R41=\"PASS\"),\"PASS\",\"\"))))","v":""},{"$nulls":6},0,0,0,0,0,{"$f":"IF($L$13<>\"Category 3\",IF('Engine Family #13'!$G$23=\"Y\",(AA41+AB41+AC41),(AA41+AB41+AD41+AE41)),AD41)","v":0},{"$f":"IF($AF41>9,\"FAIL\",IF($L$13<>\"Category 3\",IF('Engine Family #13'!$G$23=\"Y\",IF($AF41=3,\"PASS\",\"\"),IF($AF41=4,\"PASS\",\"\")),IF($AF41=1,\"PASS\",\"\")))","v":""},null,{"$f":"'Engine Family #13'!$FS$36","v":0},0,null,13,{"$f":"IF(OR('Engine Family #13'!$N$16=\"N\",'Engine Family #13'!$N$18=\"Y\"),1,0)","v":0},{"$f":"IF('Engine Family #13'!$N$12=\"\",0,IF(OR(AND($L$13=\"Category 1\",'Engine Family #13'!$N$12<100),'Engine Family #13'!$N$18=\"Y\"),1,0))","v":0},{"$nulls":3},{"$f":"'Engine Family #13'!$N$17","v":0},{"$f":"'Engine Family #13'!$FO$30","v":0},{"$f":"'Engine Family #13'!$FO$31","v":0}]
[null,{"$f":"IF('Engine Family #14'!$M$11<>\"\",'Engine Family #14'!$M$11,\"\")","v":""},{"$f":"IF(AM42=1,\"\",IF('Engine Family #14'!$N$16=\"Y\",'Engine Family #14'!$R$12,\"\"))","v":""},{"$f":"IF('Engine Family #14'!$R$16<>\"\",'Engine Family #14'!$R$16,\"\")","v":""},"",{"$f":"IF(AM42=1,\"\",IF('Engine Family #14'!$N$16=\"Y\",'Engine Family #14'!$V$12,\"\"))","v":""},{"$f":"IF('Engine Family #14'!$V$16<>\"\",'Engine Family #14'!$V$16,\"\")","v":""},"",{"$f":"IF(AM42=1,\"\",IF('Engine Family #14'!$G$23=\"Y\",(IF('Engine Family #14'!$N$16=\"Y\",'Engine Family #14'!$Z$12,\"\")),\"\"))","v":""},{"$f":"IF('Engine Family #14'!$G$23=\"Y\",(IF('Engine Family #14'!$Z$16<>\"\",'Engine Family #14'!$Z$16,\"\")),\"\")","v":""},"",{"$f":"IF(AM42=1,\"\",IF('Engine Family #14'!$G$23=\"N\",(IF('Engine Family #14'!$N$16=\"Y\",'Engine Family #14'!$AD$12,\"\")),\"\"))","v":""},{"$f":"IF('Engine Family #14'!$G$23=\"N\",(IF('Engine Family #14'!$AD$16<>\"\",'Engine Family #14'!$AD$16,\"\")),\"\")","v":""},"",{"$f":"IF(AM42=1,\"\",IF('Engine Family #14'!$G$23=\"N\",(IF('Engine Family #14'!$N$16=\"Y\",'Engine Family #14'!$Z$12,\"\")),\"\"))","v":""},{"$f":"IF('Engine Family #14'!$G$23=\"N\",(IF('Engine Family #14'!$Z$16<>\"\",'Engine Family #14'!$Z$16,\"\")),\"\")","v":""},"","","",{"$f":"IF('Engine Family #14'!$N$18=\"Y\",\"Previously Tested\",IF($S42=\"FAIL\",\"FAIL\",IF($R42=\"OPEN\",\"OPEN\",IF(AND($S42=\"PASS\",$R42=\"PASS\"),\"PASS\",\"\"))))","v":""},{"$nulls":6},0,0,0,0,0,{"$f":"IF($L$13<>\"Category 3\",IF('Engine Family #14'!$G$23=\"Y\",(AA42+AB42+AC42),(AA42+AB42+AD42+AE42)),AD42)","v":0},{"$f":"IF($AF42>9,\"FAIL\",IF($L$13<>\"Category 3\",IF('Engine Family #14'!$G$23=\"Y\",IF($AF42=3,\"PASS\",\"\"),IF($AF42=4,\"PASS\",\"\")),IF($AF42=1,\"PASS\",\"\")))","v":""},null,{"$f":"'Engine Family #14'!$FS$36","v":0},0,null,14,{"$f":"IF(OR('Engine Family #14'!$N$16=\"N\",'Engine Family #14'!$N$18=\"Y\"),1,0)","v":0},{"$f":"IF('Engine Family #14'!$N$12=\"\",0,IF(OR(AND($L$13=\"Category 1\",'Engine Family #14'!$N$12<100),'Engine Family #14'!$N$18=\"Y\"),1,0))","v":0},{"$nulls":3},{"$f":"'Engine Family #14'!$N$17","v":0},{"$f":"'Engine Family #14'!$FO$30","v":0},{"$f":"'Engine Family #14'!$FO$31","v":0}]
[null,{"$f":"IF('Engine Family #15'!$M$11<>\"\",'Engine Family #15'!$M$11,\"\")","v":""},{"$f":"IF(AM43=1,\"\",IF('Engine Family #15'!$N$16=\"Y\",'Engine Family #15'!$R$12,\"\"))","v":""},{"$f":"IF('Engine Family #15'!$R$16<>\"\",'Engine Family #15'!$R$16,\"\")","v":""},"",{"$f":"IF(AM43=1,\"\",IF('Engine Family #15'!$N$16=\"Y\",'Engine Family #15'!$V$12,\"\"))","v":""},{"$f":"IF('Engine Family #15'!$V$16<>\"\",'Engine Family #15'!$V$16,\"\")","v":""},"",{"$f":"IF(AM43=1,\"\",IF('Engine Family #15'!$G$23=\"Y\",(IF('Engine Family #15'!$N$16=\"Y\",'Engine Family #15'!$Z$12,\"\")),\"\"))","v":""},{"$f":"IF('Engine Family #15'!$G$23=\"Y\",(IF('Engine Family #15'!$Z$16<>\"\",'Engine Family #15'!$Z$16,\"\")),\"\")","v":""},"",{"$f":"IF(AM43=1,\"\",IF('Engine Family #15'!$G$23=\"N\",(IF('Engine Family #15'!$N$16=\"Y\",'Engine Family #15'!$AD$12,\"\")),\"\"))","v":""},{"$f":"IF('Engine Family #15'!$G$23=\"N\",(IF('Engine Family #15'!$AD$16<>\"\",'Engine Family #15'!$AD$16,\"\")),\"\")","v":""},"",{"$f":"IF(AM43=1,\"\",IF('Engine Family #15'!$G$23=\"N\",(IF('Engine Family #15'!$N$16=\"Y\",'Engine Family #15'!$Z$12,\"\")),\"\"))","v":""},{"$f":"IF('Engine Family #15'!$G$23=\"N\",(IF('Engine Family #15'!$Z$16<>\"\",'Engine Family #15'!$Z$16,\"\")),\"\")","v":""},"","","",{"$f":"IF('Engine Family #15'!$N$18=\"Y\",\"Previously Tested\",IF($S43=\"FAIL\",\"FAIL\",IF($R43=\"OPEN\",\"OPEN\",IF(AND($S43=\"PASS\",$R43=\"PASS\"),\"PASS\",\"\"))))","v":""},{"$nulls":6},0,0,0,0,0,{"$f":"IF($L$13<>\"Category 3\",IF('Engine Family #15'!$G$23=\"Y\",(AA43+AB43+AC43),(AA43+AB43+AD43+AE43)),AD43)","v":0},{"$f":"IF($AF43>9,\"FAIL\",IF($L$13<>\"Category 3\",IF('Engine Family #15'!$G$23=\"Y\",IF($AF43=3,\"PASS\",\"\"),IF($AF43=4,\"PASS\",\"\")),IF($AF43=1,\"PASS\",\"\")))","v":""},null,{"$f":"'Engine Family #15'!$FS$36","v":0},0,null,15,{"$f":"IF(OR('Engine Family #15'!$N$16=\"N\",'Engine Family #15'!$N$18=\"Y\"),1,0)","v":0},{"$f":"IF('Engine Family #15'!$N$12=\"\",0,IF(OR(AND($L$13=\"Category 1\",'Engine Family #15'!$N$12<100),'Engine Family #15'!$N$18=\"Y\"),1,0))","v":0},{"$nulls":3},{"$f":"'Engine Family #15'!$N$17","v":0},{"$f":"'Engine Family #15'!$FO$30","v":0},{"$f":"'Engine Family #15'!$FO$31","v":0}]
[null,{"$f":"IF('Engine Family #16'!$M$11<>\"\",'Engine Family #16'!$M$11,\"\")","v":""},{"$f":"IF(AM44=1,\"\",IF('Engine Family #16'!$N$16=\"Y\",'Engine Family #16'!$R$12,\"\"))","v":""},{"$f":"IF('Engine Family #16'!$R$16<>\"\",'Engine Family #16'!$R$16,\"\")","v":""},"",{"$f":"IF(AM44=1,\"\",IF('Engine Family #16'!$N$16=\"Y\",'Engine Family #16'!$V$12,\"\"))","v":""},{"$f":"IF('Engine Family #16'!$V$16<>\"\",'Engine Family #16'!$V$16,\"\")","v":""},"",{"$f":"IF(AM44=1,\"\",IF('Engine Family #16'!$G$23=\"Y\",(IF('Engine Family #16'!$N$16=\"Y\",'Engine Family #16'!$Z$12,\"\")),\"\"))","v":""},{"$f":"IF('Engine Family #16'!$G$23=\"Y\",(IF('Engine Family #16'!$Z$16<>\"\",'Engine Family #16'!$Z$16,\"\")),\"\")","v":""},"",{"$f":"IF(AM44=1,\"\",IF('Engine Family #16'!$G$23=\"N\",(IF('Engine Family #16'!$N$16=\"Y\",'Engine Family #16'!$AD$12,\"\")),\"\"))","v":""},{"$f":"IF('Engine Family #16'!$G$23=\"N\",(IF('Engine Family #16'!$AD$16<>\"\",'Engine Family #16'!$AD$16,\"\")),\"\")","v":""},"",{"$f":"IF(AM44=1,\"\",IF('Engine Family #16'!$G$23=\"N\",(IF('Engine Family #16'!$N$16=\"Y\",'Engine Family #16'!$Z$12,\"\")),\"\"))","v":""},{"$f":"IF('Engine Family #16'!$G$23=\"N\",(IF('Engine Family #16'!$Z$16<>\"\",'Engine Family #16'!$Z$16,\"\")),\"\")","v":""},"","","",{"$f":"IF('Engine Family #16'!$N$18=\"Y\",\"Previously Tested\",IF($S44=\"FAIL\",\"FAIL\",IF($R44=\"OPEN\",\"OPEN\",IF(AND($S44=\"PASS\",$R44=\"PASS\"),\"PASS\",\"\"))))","v":""},{"$nulls":6},0,0,0,0,0,{"$f":"IF($L$13<>\"Category 3\",IF('Engine Family #16'!$G$23=\"Y\",(AA44+AB44+AC44),(AA44+AB44+AD44+AE44)),AD44)","v":0},{"$f":"IF($AF44>9,\"FAIL\",IF($L$13<>\"Category 3\",IF('Engine Family #16'!$G$23=\"Y\",IF($AF44=3,\"PASS\",\"\"),IF($AF44=4,\"PASS\",\"\")),IF($AF44=1,\"PASS\",\"\")))","v":""},null,{"$f":"'Engine Family #16'!$FS$36","v":0},0,null,16,{"$f":"IF(OR('Engine Family #16'!$N$16=\"N\",'Engine Family #16'!$N$18=\"Y\"),1,0)","v":0},{"$f":"IF('Engine Family #16'!$N$12=\"\",0,IF(OR(AND($L$13=\"Category 1\",'Engine Family #16'!$N$12<100),'Engine Family #16'!$N$18=\"Y\"),1,0))","v":0},{"$nulls":3},{"$f":"'Engine Family #16'!$N$17","v":0},{"$f":"'Engine Family #16'!$FO$30","v":0},{"$f":"'Engine Family #16'!$FO$31","v":0}]
[null,{"$f":"IF('Engine Family #17'!$M$11<>\"\",'Engine Family #17'!$M$11,\"\")","v":""},{"$f":"IF(AM45=1,\"\",IF('Engine Family #17'!$N$16=\"Y\",'Engine Family #17'!$R$12,\"\"))","v":""},{"$f":"IF('Engine Family #17'!$R$16<>\"\",'Engine Family #17'!$R$16,\"\")","v":""},"",{"$f":"IF(AM45=1,\"\",IF('Engine Family #17'!$N$16=\"Y\",'Engine Family #17'!$V$12,\"\"))","v":""},{"$f":"IF('Engine Family #17'!$V$16<>\"\",'Engine Family #17'!$V$16,\"\")","v":""},"",{"$f":"IF(AM45=1,\"\",IF('Engine Family #17'!$G$23=\"Y\",(IF('Engine Family #17'!$N$16=\"Y\",'Engine Family #17'!$Z$12,\"\")),\"\"))","v":""},{"$f":"IF('Engine Family #17'!$G$23=\"Y\",(IF('Engine Family #17'!$Z$16<>\"\",'Engine Family #17'!$Z$16,\"\")),\"\")","v":""},"",{"$f":"IF(AM45=1,\"\",IF('Engine Family #17'!$G$23=\"N\",(IF('Engine Family #17'!$N$16=\"Y\",'Engine Family #17'!$AD$12,\"\")),\"\"))","v":""},{"$f":"IF('Engine Family #17'!$G$23=\"N\",(IF('Engine Family #17'!$AD$16<>\"\",'Engine Family #17'!$AD$16,\"\")),\"\")","v":""},"",{"$f":"IF(AM45=1,\"\",IF('Engine Family #17'!$G$23=\"N\",(IF('Engine Family #17'!$N$16=\"Y\",'Engine Family #17'!$Z$12,\"\")),\"\"))","v":""},{"$f":"IF('Engine Family #17'!$G$23=\"N\",(IF('Engine Family #17'!$Z$16<>\"\",'Engine Family #17'!$Z$16,\"\")),\"\")","v":""},"","","",{"$f":"IF('Engine Family #17'!$N$18=\"Y\",\"Previously Tested\",IF($S45=\"FAIL\",\"FAIL\",IF($R45=\"OPEN\",\"OPEN\",IF(AND($S45=\"PASS\",$R45=\"PASS\"),\"PASS\",\"\"))))","v":""},{"$nulls":6},0,0,0,0,0,{"$f":"IF($L$13<>\"Category 3\",IF('Engine Family #17'!$G$23=\"Y\",(AA45+AB45+AC45),(AA45+AB45+AD45+AE45)),AD45)","v":0},{"$f":"IF($AF45>9,\"FAIL\",IF($L$13<>\"Category 3\",IF('Engine Family #17'!$G$23=\"Y\",IF($AF45=3,\"PASS\",\"\"),IF($AF45=4,\"PASS\",\"\")),IF($AF45=1,\"PASS\",\"\")))","v":""},null,{"$f":"'Engine Family #17'!$FS$36","v":0},0,null,17,{"$f":"IF(OR('Engine Family #17'!$N$16=\"N\",'Engine Family #17'!$N$18=\"Y\"),1,0)","v":0},{"$f":"IF('Engine Family #17'!$N$12=\"\",0,IF(OR(AND($L$13=\"Category 1\",'Engine Family #17'!$N$12<100),'Engine Family #17'!$N$18=\"Y\"),1,0))","v":0},{"$nulls":3},{"$f":"'Engine Family #17'!$N$17","v":0},{"$f":"'Engine Family #17'!$FO$30","v":0},{"$f":"'Engine Family #17'!$FO$31","v":0}]
[null,{"$f":"IF('Engine Family #18'!$M$11<>\"\",'Engine Family #18'!$M$11,\"\")","v":""},{"$f":"IF(AM46=1,\"\",IF('Engine Family #18'!$N$16=\"Y\",'Engine Family #18'!$R$12,\"\"))","v":""},{"$f":"IF('Engine Family #18'!$R$16<>\"\",'Engine Family #18'!$R$16,\"\")","v":""},"",{"$f":"IF(AM46=1,\"\",IF('Engine Family #18'!$N$16=\"Y\",'Engine Family #18'!$V$12,\"\"))","v":""},{"$f":"IF('Engine Family #18'!$V$16<>\"\",'Engine Family #18'!$V$16,\"\")","v":""},"",{"$f":"IF(AM46=1,\"\",IF('Engine Family #18'!$G$23=\"Y\",(IF('Engine Family #18'!$N$16=\"Y\",'Engine Family #18'!$Z$12,\"\")),\"\"))","v":""},{"$f":"IF('Engine Family #18'!$G$23=\"Y\",(IF('Engine Family #18'!$Z$16<>\"\",'Engine Family #18'!$Z$16,\"\")),\"\")","v":""},"",{"$f":"IF(AM46=1,\"\",IF('Engine Family #18'!$G$23=\"N\",(IF('Engine Family #18'!$N$16=\"Y\",'Engine Family #18'!$AD$12,\"\")),\"\"))","v":""},{"$f":"IF('Engine Family #18'!$G$23=\"N\",(IF('Engine Family #18'!$AD$16<>\"\",'Engine Family #18'!$AD$16,\"\")),\"\")","v":""},"",{"$f":"IF(AM46=1,\"\",IF('Engine Family #18'!$G$23=\"N\",(IF('Engine Family #18'!$N$16=\"Y\",'Engine Family #18'!$Z$12,\"\")),\"\"))","v":""},{"$f":"IF('Engine Family #18'!$G$23=\"N\",(IF('Engine Family #18'!$Z$16<>\"\",'Engine Family #18'!$Z$16,\"\")),\"\")","v":""},"","","",{"$f":"IF('Engine Family #18'!$N$18=\"Y\",\"Previously Tested\",IF($S46=\"FAIL\",\"FAIL\",IF($R46=\"OPEN\",\"OPEN\",IF(AND($S46=\"PASS\",$R46=\"PASS\"),\"PASS\",\"\"))))","v":""},{"$nulls":6},0,0,0,0,0,{"$f":"IF($L$13<>\"Category 3\",IF('Engine Family #18'!$G$23=\"Y\",(AA46+AB46+AC46),(AA46+AB46+AD46+AE46)),AD46)","v":0},{"$f":"IF($AF46>9,\"FAIL\",IF($L$13<>\"Category 3\",IF('Engine Family #18'!$G$23=\"Y\",IF($AF46=3,\"PASS\",\"\"),IF($AF46=4,\"PASS\",\"\")),IF($AF46=1,\"PASS\",\"\")))","v":""},null,{"$f":"'Engine Family #18'!$FS$36","v":0},0,null,18,{"$f":"IF(OR('Engine Family #18'!$N$16=\"N\",'Engine Family #18'!$N$18=\"Y\"),1,0)","v":0},{"$f":"IF('Engine Family #18'!$N$12=\"\",0,IF(OR(AND($L$13=\"Category 1\",'Engine Family #18'!$N$12<100),'Engine Family #18'!$N$18=\"Y\"),1,0))","v":0},{"$nulls":3},{"$f":"'Engine Family #18'!$N$17","v":0},{"$f":"'Engine Family #18'!$FO$30","v":0},{"$f":"'Engine Family #18'!$FO$31","v":0}]
[null,{"$f":"IF('Engine Family #19'!$M$11<>\"\",'Engine Family #19'!$M$11,\"\")","v":""},{"$f":"IF(AM47=1,\"\",IF('Engine Family #19'!$N$16=\"Y\",'Engine Family #19'!$R$12,\"\"))","v":""},{"$f":"IF('Engine Family #19'!$R$16<>\"\",'Engine Family #19'!$R$16,\"\")","v":""},"",{"$f":"IF(AM47=1,\"\",IF('Engine Family #19'!$N$16=\"Y\",'Engine Family #19'!$V$12,\"\"))","v":""},{"$f":"IF('Engine Family #19'!$V$16<>\"\",'Engine Family #19'!$V$16,\"\")","v":""},"",{"$f":"IF(AM47=1,\"\",IF('Engine Family #19'!$G$23=\"Y\",(IF('Engine Family #19'!$N$16=\"Y\",'Engine Family #19'!$Z$12,\"\")),\"\"))","v":""},{"$f":"IF('Engine Family #19'!$G$23=\"Y\",(IF('Engine Family #19'!$Z$16<>\"\",'Engine Family #19'!$Z$16,\"\")),\"\")","v":""},"",{"$f":"IF(AM47=1,\"\",IF('Engine Family #19'!$G$23=\"N\",(IF('Engine Family #19'!$N$16=\"Y\",'Engine Family #19'!$AD$12,\"\")),\"\"))","v":""},{"$f":"IF('Engine Family #19'!$G$23=\"N\",(IF('Engine Family #19'!$AD$16<>\"\",'Engine Family #19'!$AD$16,\"\")),\"\")","v":""},"",{"$f":"IF(AM47=1,\"\",IF('Engine Family #19'!$G$23=\"N\",(IF('Engine Family #19'!$N$16=\"Y\",'Engine Family #19'!$Z$12,\"\")),\"\"))","v":""},{"$f":"IF('Engine Family #19'!$G$23=\"N\",(IF('Engine Family #19'!$Z$16<>\"\",'Engine Family #19'!$Z$16,\"\")),\"\")","v":""},"","","",{"$f":"IF('Engine Family #19'!$N$18=\"Y\",\"Previously Tested\",IF($S47=\"FAIL\",\"FAIL\",IF($R47=\"OPEN\",\"OPEN\",IF(AND($S47=\"PASS\",$R47=\"PASS\"),\"PASS\",\"\"))))","v":""},{"$nulls":6},0,0,0,0,0,{"$f":"IF($L$13<>\"Category 3\",IF('Engine Family #19'!$G$23=\"Y\",(AA47+AB47+AC47),(AA47+AB47+AD47+AE47)),AD47)","v":0},{"$f":"IF($AF47>9,\"FAIL\",IF($L$13<>\"Category 3\",IF('Engine Family #19'!$G$23=\"Y\",IF($AF47=3,\"PASS\",\"\"),IF($AF47=4,\"PASS\",\"\")),IF($AF47=1,\"PASS\",\"\")))","v":""},null,{"$f":"'Engine Family #19'!$FS$36","v":0},0,null,19,{"$f":"IF(OR('Engine Family #19'!$N$16=\"N\",'Engine Family #19'!$N$18=\"Y\"),1,0)","v":0},{"$f":"IF('Engine Family #19'!$N$12=\"\",0,IF(OR(AND($L$13=\"Category 1\",'Engine Family #19'!$N$12<100),'Engine Family #19'!$N$18=\"Y\"),1,0))","v":0},{"$nulls":3},{"$f":"'Engine Family #19'!$N$17","v":0},{"$f":"'Engine Family #19'!$FO$30","v":0},{"$f":"'Engine Family #19'!$FO$31","v":0}]
[null,{"$f":"IF('Engine Family #20'!$M$11<>\"\",'Engine Family #20'!$M$11,\"\")","v":""},{"$f":"IF(AM48=1,\"\",IF('Engine Family #20'!$N$16=\"Y\",'Engine Family #20'!$R$12,\"\"))","v":""},{"$f":"IF('Engine Family #20'!$R$16<>\"\",'Engine Family #20'!$R$16,\"\")","v":""},"",{"$f":"IF(AM48=1,\"\",IF('Engine Family #20'!$N$16=\"Y\",'Engine Family #20'!$V$12,\"\"))","v":""},{"$f":"IF('Engine Family #20'!$V$16<>\"\",'Engine Family #20'!$V$16,\"\")","v":""},"",{"$f":"IF(AM48=1,\"\",IF('Engine Family #20'!$G$23=\"Y\",(IF('Engine Family #20'!$N$16=\"Y\",'Engine Family #20'!$Z$12,\"\")),\"\"))","v":""},{"$f":"IF('Engine Family #20'!$G$23=\"Y\",(IF('Engine Family #20'!$Z$16<>\"\",'Engine Family #20'!$Z$16,\"\")),\"\")","v":""},"",{"$f":"IF(AM48=1,\"\",IF('Engine Family #20'!$G$23=\"N\",(IF('Engine Family #20'!$N$16=\"Y\",'Engine Family #20'!$AD$12,\"\")),\"\"))","v":""},{"$f":"IF('Engine Family #20'!$G$23=\"N\",(IF('Engine Family #20'!$AD$16<>\"\",'Engine Family #20'!$AD$16,\"\")),\"\")","v":""},"",{"$f":"IF(AM48=1,\"\",IF('Engine Family #20'!$G$23=\"N\",(IF('Engine Family #20'!$N$16=\"Y\",'Engine Family #20'!$Z$12,\"\")),\"\"))","v":""},{"$f":"IF('Engine Family #20'!$G$23=\"N\",(IF('Engine Family #20'!$Z$16<>\"\",'Engine Family #20'!$Z$16,\"\")),\"\")","v":""},"","","",{"$f":"IF('Engine Family #20'!$N$18=\"Y\",\"Previously Tested\",IF($S48=\"FAIL\",\"FAIL\",IF($R48=\"OPEN\",\"OPEN\",IF(AND($S48=\"PASS\",$R48=\"PASS\"),\"PASS\",\"\"))))","v":""},{"$nulls":6},0,0,0,0,0,{"$f":"IF($L$13<>\"Category 3\",IF('Engine Family #20'!$G$23=\"Y\",(AA48+AB48+AC48),(AA48+AB48+AD48+AE48)),AD48)","v":0},{"$f":"IF($AF48>9,\"FAIL\",IF($L$13<>\"Category 3\",IF('Engine Family #20'!$G$23=\"Y\",IF($AF48=3,\"PASS\",\"\"),IF($AF48=4,\"PASS\",\"\")),IF($AF48=1,\"PASS\",\"\")))","v":""},null,{"$f":"'Engine Family #20'!$FS$36","v":0},0,null,20,{"$f":"IF(OR('Engine Family #20'!$N$16=\"N\",'Engine Family #20'!$N$18=\"Y\"),1,0)","v":0},{"$f":"IF('Engine Family #20'!$N$12=\"\",0,IF(OR(AND($L$13=\"Category 1\",'Engine Family #20'!$N$12<100),'Engine Family #20'!$N$18=\"Y\"),1,0))","v":0},{"$nulls":3},{"$f":"'Engine Family #20'!$N$17","v":0},{"$f":"'Engine Family #20'!$FO$30","v":0},{"$f":"'Engine Family #20'!$FO$31","v":0}]
[null,{"$f":"IF('Engine Family #21'!$M$11<>\"\",'Engine Family #21'!$M$11,\"\")","v":""},{"$f":"IF(AM49=1,\"\",IF('Engine Family #21'!$N$16=\"Y\",'Engine Family #21'!$R$12,\"\"))","v":""},{"$f":"IF('Engine Family #21'!$R$16<>\"\",'Engine Family #21'!$R$16,\"\")","v":""},"",{"$f":"IF(AM49=1,\"\",IF('Engine Family #21'!$N$16=\"Y\",'Engine Family #21'!$V$12,\"\"))","v":""},{"$f":"IF('Engine Family #21'!$V$16<>\"\",'Engine Family #21'!$V$16,\"\")","v":""},"",{"$f":"IF(AM49=1,\"\",IF('Engine Family #21'!$G$23=\"Y\",(IF('Engine Family #21'!$N$16=\"Y\",'Engine Family #21'!$Z$12,\"\")),\"\"))","v":""},{"$f":"IF('Engine Family #21'!$G$23=\"Y\",(IF('Engine Family #21'!$Z$16<>\"\",'Engine Family #21'!$Z$16,\"\")),\"\")","v":""},"",{"$f":"IF(AM49=1,\"\",IF('Engine Family #21'!$G$23=\"N\",(IF('Engine Family #21'!$N$16=\"Y\",'Engine Family #21'!$AD$12,\"\")),\"\"))","v":""},{"$f":"IF('Engine Family #21'!$G$23=\"N\",(IF('Engine Family #21'!$AD$16<>\"\",'Engine Family #21'!$AD$16,\"\")),\"\")","v":""},"",{"$f":"IF(AM49=1,\"\",IF('Engine Family #21'!$G$23=\"N\",(IF('Engine Family #21'!$N$16=\"Y\",'Engine Family #21'!$Z$12,\"\")),\"\"))","v":""},{"$f":"IF('Engine Family #21'!$G$23=\"N\",(IF('Engine Family #21'!$Z$16<>\"\",'Engine Family #21'!$Z$16,\"\")),\"\")","v":""},"","","",{"$f":"IF('Engine Family #21'!$N$18=\"Y\",\"Previously Tested\",IF($S49=\"FAIL\",\"FAIL\",IF($R49=\"OPEN\",\"OPEN\",IF(AND($S49=\"PASS\",$R49=\"PASS\"),\"PASS\",\"\"))))","v":""},{"$nulls":6},0,0,0,0,0,{"$f":"IF($L$13<>\"Category 3\",IF('Engine Family #21'!$G$23=\"Y\",(AA49+AB49+AC49),(AA49+AB49+AD49+AE49)),AD49)","v":0},{"$f":"IF($AF49>9,\"FAIL\",IF($L$13<>\"Category 3\",IF('Engine Family #21'!$G$23=\"Y\",IF($AF49=3,\"PASS\",\"\"),IF($AF49=4,\"PASS\",\"\")),IF($AF49=1,\"PASS\",\"\")))","v":""},null,{"$f":"'Engine Family #21'!$FS$36","v":0},0,null,21,{"$f":"IF(OR('Engine Family #21'!$N$16=\"N\",'Engine Family #21'!$N$18=\"Y\"),1,0)","v":0},{"$f":"IF('Engine Family #21'!$N$12=\"\",0,IF(OR(AND($L$13=\"Category 1\",'Engine Family #21'!$N$12<100),'Engine Family #21'!$N$18=\"Y\"),1,0))","v":0},{"$nulls":3},{"$f":"'Engine Family #21'!$N$17","v":0},{"$f":"'Engine Family #21'!$FO$30","v":0},{"$f":"'Engine Family #21'!$FO$31","v":0}]
[null,{"$f":"IF('Engine Family #22'!$M$11<>\"\",'Engine Family #22'!$M$11,\"\")","v":""},{"$f":"IF(AM50=1,\"\",IF('Engine Family #22'!$N$16=\"Y\",'Engine Family #22'!$R$12,\"\"))","v":""},{"$f":"IF('Engine Family #22'!$R$16<>\"\",'Engine Family #22'!$R$16,\"\")","v":""},"",{"$f":"IF(AM50=1,\"\",IF('Engine Family #22'!$N$16=\"Y\",'Engine Family #22'!$V$12,\"\"))","v":""},{"$f":"IF('Engine Family #22'!$V$16<>\"\",'Engine Family #22'!$V$16,\"\")","v":""},"",{"$f":"IF(AM50=1,\"\",IF('Engine Family #22'!$G$23=\"Y\",(IF('Engine Family #22'!$N$16=\"Y\",'Engine Family #22'!$Z$12,\"\")),\"\"))","v":""},{"$f":"IF('Engine Family #22'!$G$23=\"Y\",(IF('Engine Family #22'!$Z$16<>\"\",'Engine Family #22'!$Z$16,\"\")),\"\")","v":""},"",{"$f":"IF(AM50=1,\"\",IF('Engine Family #22'!$G$23=\"N\",(IF('Engine Family #22'!$N$16=\"Y\",'Engine Family #22'!$AD$12,\"\")),\"\"))","v":""},{"$f":"IF('Engine Family #22'!$G$23=\"N\",(IF('Engine Family #22'!$AD$16<>\"\",'Engine Family #22'!$AD$16,\"\")),\"\")","v":""},"",{"$f":"IF(AM50=1,\"\",IF('Engine Family #22'!$G$23=\"N\",(IF('Engine Family #22'!$N$16=\"Y\",'Engine Family #22'!$Z$12,\"\")),\"\"))","v":""},{"$f":"IF('Engine Family #22'!$G$23=\"N\",(IF('Engine Family #22'!$Z$16<>\"\",'Engine Family #22'!$Z$16,\"\")),\"\")","v":""},"","","",{"$f":"IF('Engine Family #22'!$N$18=\"Y\",\"Previously Tested\",IF($S50=\"FAIL\",\"FAIL\",IF($R50=\"OPEN\",\"OPEN\",IF(AND($S50=\"PASS\",$R50=\"PASS\"),\"PASS\",\"\"))))","v":""},{"$nulls":6},0,0,0,0,0,{"$f":"IF($L$13<>\"Category 3\",IF('Engine Family #22'!$G$23=\"Y\",(AA50+AB50+AC50),(AA50+AB50+AD50+AE50)),AD50)","v":0},{"$f":"IF($AF50>9,\"FAIL\",IF($L$13<>\"Category 3\",IF('Engine Family #22'!$G$23=\"Y\",IF($AF50=3,\"PASS\",\"\"),IF($AF50=4,\"PASS\",\"\")),IF($AF50=1,\"PASS\",\"\")))","v":""},null,{"$f":"'Engine Family #22'!$FS$36","v":0},0,null,22,{"$f":"IF(OR('Engine Family #22'!$N$16=\"N\",'Engine Family #22'!$N$18=\"Y\"),1,0)","v":0},{"$f":"IF('Engine Family #22'!$N$12=\"\",0,IF(OR(AND($L$13=\"Category 1\",'Engine Family #22'!$N$12<100),'Engine Family #22'!$N$18=\"Y\"),1,0))","v":0},{"$nulls":3},{"$f":"'Engine Family #22'!$N$17","v":0},{"$f":"'Engine Family #22'!$FO$30","v":0},{"$f":"'Engine Family #22'!$FO$31","v":0}]
[null,{"$f":"IF('Engine Family #23'!$M$11<>\"\",'Engine Family #23'!$M$11,\"\")","v":""},{"$f":"IF(AM51=1,\"\",IF('Engine Family #23'!$N$16=\"Y\",'Engine Family #23'!$R$12,\"\"))","v":""},{"$f":"IF('Engine Family #23'!$R$16<>\"\",'Engine Family #23'!$R$16,\"\")","v":""},"",{"$f":"IF(AM51=1,\"\",IF('Engine Family #23'!$N$16=\"Y\",'Engine Family #23'!$V$12,\"\"))","v":""},{"$f":"IF('Engine Family #23'!$V$16<>\"\",'Engine Family #23'!$V$16,\"\")","v":""},"",{"$f":"IF(AM51=1,\"\",IF('Engine Family #23'!$G$23=\"Y\",(IF('Engine Family #23'!$N$16=\"Y\",'Engine Family #23'!$Z$12,\"\")),\"\"))","v":""},{"$f":"IF('Engine Family #23'!$G$23=\"Y\",(IF('Engine Family #23'!$Z$16<>\"\",'Engine Family #23'!$Z$16,\"\")),\"\")","v":""},"",{"$f":"IF(AM51=1,\"\",IF('Engine Family #23'!$G$23=\"N\",(IF('Engine Family #23'!$N$16=\"Y\",'Engine Family #23'!$AD$12,\"\")),\"\"))","v":""},{"$f":"IF('Engine Family #23'!$G$23=\"N\",(IF('Engine Family #23'!$AD$16<>\"\",'Engine Family #23'!$AD$16,\"\")),\"\")","v":""},"",{"$f":"IF(AM51=1,\"\",IF('Engine Family #23'!$G$23=\"N\",(IF('Engine Family #23'!$N$16=\"Y\",'Engine Family #23'!$Z$12,\"\")),\"\"))","v":""},{"$f":"IF('Engine Family #23'!$G$23=\"N\",(IF('Engine Family #23'!$Z$16<>\"\",'Engine Family #23'!$Z$16,\"\")),\"\")","v":""},"","","",{"$f":"IF('Engine Family #23'!$N$18=\"Y\",\"Previously Tested\",IF($S51=\"FAIL\",\"FAIL\",IF($R51=\"OPEN\",\"OPEN\",IF(AND($S51=\"PASS\",$R51=\"PASS\"),\"PASS\",\"\"))))","v":""},{"$nulls":6},0,0,0,0,0,{"$f":"IF($L$13<>\"Category 3\",IF('Engine Family #23'!$G$23=\"Y\",(AA51+AB51+AC51),(AA51+AB51+AD51+AE51)),AD51)","v":0},{"$f":"IF($AF51>9,\"FAIL\",IF($L$13<>\"Category 3\",IF('Engine Family #23'!$G$23=\"Y\",IF($AF51=3,\"PASS\",\"\"),IF($AF51=4,\"PASS\",\"\")),IF($AF51=1,\"PASS\",\"\")))","v":""},null,{"$f":"'Engine Family #23'!$FS$36","v":0},0,null,23,{"$f":"IF(OR('Engine Family #23'!$N$16=\"N\",'Engine Family #23'!$N$18=\"Y\"),1,0)","v":0},{"$f":"IF('Engine Family #23'!$N$12=\"\",0,IF(OR(AND($L$13=\"Category 1\",'Engine Family #23'!$N$12<100),'Engine Family #23'!$N$18=\"Y\"),1,0))","v":0},{"$nulls":3},{"$f":"'Engine Family #23'!$N$17","v":0},{"$f":"'Engine Family #23'!$FO$30","v":0},{"$f":"'Engine Family #23'!$FO$31","v":0}]
[null,{"$f":"IF('Engine Family #24'!$M$11<>\"\",'Engine Family #24'!$M$11,\"\")","v":""},{"$f":"IF(AM52=1,\"\",IF('Engine Family #24'!$N$16=\"Y\",'Engine Family #24'!$R$12,\"\"))","v":""},{"$f":"IF('Engine Family #24'!$R$16<>\"\",'Engine Family #24'!$R$16,\"\")","v":""},"",{"$f":"IF(AM52=1,\"\",IF('Engine Family #24'!$N$16=\"Y\",'Engine Family #24'!$V$12,\"\"))","v":""},{"$f":"IF('Engine Family #24'!$V$16<>\"\",'Engine Family #24'!$V$16,\"\")","v":""},"",{"$f":"IF(AM52=1,\"\",IF('Engine Family #24'!$G$23=\"Y\",(IF('Engine Family #24'!$N$16=\"Y\",'Engine Family #24'!$Z$12,\"\")),\"\"))","v":""},{"$f":"IF('Engine Family #24'!$G$23=\"Y\",(IF('Engine Family #24'!$Z$16<>\"\",'Engine Family #24'!$Z$16,\"\")),\"\")","v":""},"",{"$f":"IF(AM52=1,\"\",IF('Engine Family #24'!$G$23=\"N\",(IF('Engine Family #24'!$N$16=\"Y\",'Engine Family #24'!$AD$12,\"\")),\"\"))","v":""},{"$f":"IF('Engine Family #24'!$G$23=\"N\",(IF('Engine Family #24'!$AD$16<>\"\",'Engine Family #24'!$AD$16,\"\")),\"\")","v":""},"",{"$f":"IF(AM52=1,\"\",IF('Engine Family #24'!$G$23=\"N\",(IF('Engine Family #24'!$N$16=\"Y\",'Engine Family #24'!$Z$12,\"\")),\"\"))","v":""},{"$f":"IF('Engine Family #24'!$G$23=\"N\",(IF('Engine Family #24'!$Z$16<>\"\",'Engine Family #24'!$Z$16,\"\")),\"\")","v":""},"","","",{"$f":"IF('Engine Family #24'!$N$18=\"Y\",\"Previously Tested\",IF($S52=\"FAIL\",\"FAIL\",IF($R52=\"OPEN\",\"OPEN\",IF(AND($S52=\"PASS\",$R52=\"PASS\"),\"PASS\",\"\"))))","v":""},{"$nulls":6},0,0,0,0,0,{"$f":"IF($L$13<>\"Category 3\",IF('Engine Family #24'!$G$23=\"Y\",(AA52+AB52+AC52),(AA52+AB52+AD52+AE52)),AD52)","v":0},{"$f":"IF($AF52>9,\"FAIL\",IF($L$13<>\"Category 3\",IF('Engine Family #24'!$G$23=\"Y\",IF($AF52=3,\"PASS\",\"\"),IF($AF52=4,\"PASS\",\"\")),IF($AF52=1,\"PASS\",\"\")))","v":""},null,{"$f":"'Engine Family #24'!$FS$36","v":0},0,null,24,{"$f":"IF(OR('Engine Family #24'!$N$16=\"N\",'Engine Family #24'!$N$18=\"Y\"),1,0)","v":0},{"$f":"IF('Engine Family #24'!$N$12=\"\",0,IF(OR(AND($L$13=\"Category 1\",'Engine Family #24'!$N$12<100),'Engine Family #24'!$N$18=\"Y\"),1,0))","v":0},{"$nulls":3},{"$f":"'Engine Family #24'!$N$17","v":0},{"$f":"'Engine Family #24'!$FO$30","v":0},{"$f":"'Engine Family #24'!$FO$31","v":0}]
[null,{"$f":"IF('Engine Family #25'!$M$11<>\"\",'Engine Family #25'!$M$11,\"\")","v":""},{"$f":"IF(AM53=1,\"\",IF('Engine Family #25'!$N$16=\"Y\",'Engine Family #25'!$R$12,\"\"))","v":""},{"$f":"IF('Engine Family #25'!$R$16<>\"\",'Engine Family #25'!$R$16,\"\")","v":""},"",{"$f":"IF(AM53=1,\"\",IF('Engine Family #25'!$N$16=\"Y\",'Engine Family #25'!$V$12,\"\"))","v":""},{"$f":"IF('Engine Family #25'!$V$16<>\"\",'Engine Family #25'!$V$16,\"\")","v":""},"",{"$f":"IF(AM53=1,\"\",IF('Engine Family #25'!$G$23=\"Y\",(IF('Engine Family #25'!$N$16=\"Y\",'Engine Family #25'!$Z$12,\"\")),\"\"))","v":""},{"$f":"IF('Engine Family #25'!$G$23=\"Y\",(IF('Engine Family #25'!$Z$16<>\"\",'Engine Family #25'!$Z$16,\"\")),\"\")","v":""},"",{"$f":"IF(AM53=1,\"\",IF('Engine Family #25'!$G$23=\"N\",(IF('Engine Family #25'!$N$16=\"Y\",'Engine Family #25'!$AD$12,\"\")),\"\"))","v":""},{"$f":"IF('Engine Family #25'!$G$23=\"N\",(IF('Engine Family #25'!$AD$16<>\"\",'Engine Family #25'!$AD$16,\"\")),\"\")","v":""},"",{"$f":"IF(AM53=1,\"\",IF('Engine Family #25'!$G$23=\"N\",(IF('Engine Family #25'!$N$16=\"Y\",'Engine Family #25'!$Z$12,\"\")),\"\"))","v":""},{"$f":"IF('Engine Family #25'!$G$23=\"N\",(IF('Engine Family #25'!$Z$16<>\"\",'Engine Family #25'!$Z$16,\"\")),\"\")","v":""},"","","",{"$f":"IF('Engine Family #25'!$N$18=\"Y\",\"Previously Tested\",IF($S53=\"FAIL\",\"FAIL\",IF($R53=\"OPEN\",\"OPEN\",IF(AND($S53=\"PASS\",$R53=\"PASS\"),\"PASS\",\"\"))))","v":""},{"$nulls":6},0,0,0,0,0,{"$f":"IF($L$13<>\"Category 3\",IF('Engine Family #25'!$G$23=\"Y\",(AA53+AB53+AC53),(AA53+AB53+AD53+AE53)),AD53)","v":0},{"$f":"IF($AF53>9,\"FAIL\",IF($L$13<>\"Category 3\",IF('Engine Family #25'!$G$23=\"Y\",IF($AF53=3,\"PASS\",\"\"),IF($AF53=4,\"PASS\",\"\")),IF($AF53=1,\"PASS\",\"\")))","v":""},null,{"$f":"'Engine Family #25'!$FS$36","v":0},0,null,25,{"$f":"IF(OR('Engine Family #25'!$N$16=\"N\",'Engine Family #25'!$N$18=\"Y\"),1,0)","v":0},{"$f":"IF('Engine Family #25'!$N$12=\"\",0,IF(OR(AND($L$13=\"Category 1\",'Engine Family #25'!$N$12<100),'Engine Family #25'!$N$18=\"Y\"),1,0))","v":0},{"$nulls":3},{"$f":"'Engine Family #25'!$N$17","v":0},{"$f":"'Engine Family #25'!$FO$30","v":0},{"$f":"'Engine Family #25'!$FO$31","v":0}]
[null,{"$f":"IF('Engine Family #26'!$M$11<>\"\",'Engine Family #26'!$M$11,\"\")","v":""},{"$f":"IF(AM54=1,\"\",IF('Engine Family #26'!$N$16=\"Y\",'Engine Family #26'!$R$12,\"\"))","v":""},{"$f":"IF('Engine Family #26'!$R$16<>\"\",'Engine Family #26'!$R$16,\"\")","v":""},"",{"$f":"IF(AM54=1,\"\",IF('Engine Family #26'!$N$16=\"Y\",'Engine Family #26'!$V$12,\"\"))","v":""},{"$f":"IF('Engine Family #26'!$V$16<>\"\",'Engine Family #26'!$V$16,\"\")","v":""},"",{"$f":"IF(AM54=1,\"\",IF('Engine Family #26'!$G$23=\"Y\",(IF('Engine Family #26'!$N$16=\"Y\",'Engine Family #26'!$Z$12,\"\")),\"\"))","v":""},{"$f":"IF('Engine Family #26'!$G$23=\"Y\",(IF('Engine Family #26'!$Z$16<>\"\",'Engine Family #26'!$Z$16,\"\")),\"\")","v":""},"",{"$f":"IF(AM54,\"\",IF('Engine Family #26'!$G$23=\"N\",(IF('Engine Family #26'!$N$16=\"Y\",'Engine Family #26'!$AD$12,\"\")),\"\"))","v":""},{"$f":"IF('Engine Family #26'!$G$23=\"N\",(IF('Engine Family #26'!$AD$16<>\"\",'Engine Family #26'!$AD$16,\"\")),\"\")","v":""},"",{"$f":"IF(AM54=1,\"\",IF('Engine Family #26'!$G$23=\"N\",(IF('Engine Family #26'!$N$16=\"Y\",'Engine Family #26'!$Z$12,\"\")),\"\"))","v":""},{"$f":"IF('Engine Family #26'!$G$23=\"N\",(IF('Engine Family #26'!$Z$16<>\"\",'Engine Family #26'!$Z$16,\"\")),\"\")","v":""},"","","",{"$f":"IF('Engine Family #26'!$N$18=\"Y\",\"Previously Tested\",IF($S54=\"FAIL\",\"FAIL\",IF($R54=\"OPEN\",\"OPEN\",IF(AND($S54=\"PASS\",$R54=\"PASS\"),\"PASS\",\"\"))))","v":""},{"$nulls":6},0,0,0,0,0,{"$f":"IF($L$13<>\"Category 3\",IF('Engine Family #26'!$G$23=\"Y\",(AA54+AB54+AC54),(AA54+AB54+AD54+AE54)),AD54)","v":0},{"$f":"IF($AF54>9,\"FAIL\",IF($L$13<>\"Category 3\",IF('Engine Family #26'!$G$23=\"Y\",IF($AF54=3,\"PASS\",\"\"),IF($AF54=4,\"PASS\",\"\")),IF($AF54=1,\"PASS\",\"\")))","v":""},null,{"$f":"'Engine Family #26'!$FS$36","v":0},0,null,26,{"$f":"IF(OR('Engine Family #26'!$N$16=\"N\",'Engine Family #26'!$N$18=\"Y\"),1,0)","v":0},{"$f":"IF('Engine Family #26'!$N$12=\"\",0,IF(OR(AND($L$13=\"Category 1\",'Engine Family #26'!$N$12<100),'Engine Family #26'!$N$18=\"Y\"),1,0))","v":0},{"$nulls":3},{"$f":"'Engine Family #26'!$N$17","v":0},{"$f":"'Engine Family #26'!$FO$30","v":0},{"$f":"'Engine Family #26'!$FO$31","v":0}]
[null,{"$f":"IF('Engine Family #27'!$M$11<>\"\",'Engine Family #27'!$M$11,\"\")","v":""},{"$f":"IF(AM55=1,\"\",IF('Engine Family #27'!$N$16=\"Y\",'Engine Family #27'!$R$12,\"\"))","v":""},{"$f":"IF('Engine Family #27'!$R$16<>\"\",'Engine Family #27'!$R$16,\"\")","v":""},"",{"$f":"IF(AM55=1,\"\",IF('Engine Family #27'!$N$16=\"Y\",'Engine Family #27'!$V$12,\"\"))","v":""},{"$f":"IF('Engine Family #27'!$V$16<>\"\",'Engine Family #27'!$V$16,\"\")","v":""},"",{"$f":"IF(AM55=1,\"\",IF('Engine Family #27'!$G$23=\"Y\",(IF('Engine Family #27'!$N$16=\"Y\",'Engine Family #27'!$Z$12,\"\")),\"\"))","v":""},{"$f":"IF('Engine Family #27'!$G$23=\"Y\",(IF('Engine Family #27'!$Z$16<>\"\",'Engine Family #27'!$Z$16,\"\")),\"\")","v":""},"",{"$f":"IF(AM55=1,\"\",IF('Engine Family #27'!$G$23=\"N\",(IF('Engine Family #27'!$N$16=\"Y\",'Engine Family #27'!$AD$12,\"\")),\"\"))","v":""},{"$f":"IF('Engine Family #27'!$G$23=\"N\",(IF('Engine Family #27'!$AD$16<>\"\",'Engine Family #27'!$AD$16,\"\")),\"\")","v":""},"",{"$f":"IF(AM55=1,\"\",IF('Engine Family #27'!$G$23=\"N\",(IF('Engine Family #27'!$N$16=\"Y\",'Engine Family #27'!$Z$12,\"\")),\"\"))","v":""},{"$f":"IF('Engine Family #27'!$G$23=\"N\",(IF('Engine Family #27'!$Z$16<>\"\",'Engine Family #27'!$Z$16,\"\")),\"\")","v":""},"","","",{"$f":"IF('Engine Family #27'!$N$18=\"Y\",\"Previously Tested\",IF($S55=\"FAIL\",\"FAIL\",IF($R55=\"OPEN\",\"OPEN\",IF(AND($S55=\"PASS\",$R55=\"PASS\"),\"PASS\",\"\"))))","v":""},{"$nulls":6},0,0,0,0,0,{"$f":"IF($L$13<>\"Category 3\",IF('Engine Family #27'!$G$23=\"Y\",(AA55+AB55+AC55),(AA55+AB55+AD55+AE55)),AD55)","v":0},{"$f":"IF($AF55>9,\"FAIL\",IF($L$13<>\"Category 3\",IF('Engine Family #27'!$G$23=\"Y\",IF($AF55=3,\"PASS\",\"\"),IF($AF55=4,\"PASS\",\"\")),IF($AF55=1,\"PASS\",\"\")))","v":""},null,{"$f":"'Engine Family #27'!$FS$36","v":0},0,null,27,{"$f":"IF(OR('Engine Family #27'!$N$16=\"N\",'Engine Family #27'!$N$18=\"Y\"),1,0)","v":0},{"$f":"IF('Engine Family #27'!$N$12=\"\",0,IF(OR(AND($L$13=\"Category 1\",'Engine Family #27'!$N$12<100),'Engine Family #27'!$N$18=\"Y\"),1,0))","v":0},{"$nulls":3},{"$f":"'Engine Family #27'!$N$17","v":0},{"$f":"'Engine Family #27'!$FO$30","v":0},{"$f":"'Engine Family #27'!$FO$31","v":0}]
[null,{"$f":"IF('Engine Family #28'!$M$11<>\"\",'Engine Family #28'!$M$11,\"\")","v":""},{"$f":"IF(AM56=1,\"\",IF('Engine Family #28'!$N$16=\"Y\",'Engine Family #28'!$R$12,\"\"))","v":""},{"$f":"IF('Engine Family #28'!$R$16<>\"\",'Engine Family #28'!$R$16,\"\")","v":""},"",{"$f":"IF(AM56=1,\"\",IF('Engine Family #28'!$N$16=\"Y\",'Engine Family #28'!$V$12,\"\"))","v":""},{"$f":"IF('Engine Family #28'!$V$16<>\"\",'Engine Family #28'!$V$16,\"\")","v":""},"",{"$f":"IF(AM56=1,\"\",IF('Engine Family #28'!$G$23=\"Y\",(IF('Engine Family #28'!$N$16=\"Y\",'Engine Family #28'!$Z$12,\"\")),\"\"))","v":""},{"$f":"IF('Engine Family #28'!$G$23=\"Y\",(IF('Engine Family #28'!$Z$16<>\"\",'Engine Family #28'!$Z$16,\"\")),\"\")","v":""},"",{"$f":"IF(AM56=1,\"\",IF('Engine Family #28'!$G$23=\"N\",(IF('Engine Family #28'!$N$16=\"Y\",'Engine Family #28'!$AD$12,\"\")),\"\"))","v":""},{"$f":"IF('Engine Family #28'!$G$23=\"N\",(IF('Engine Family #28'!$AD$16<>\"\",'Engine Family #28'!$AD$16,\"\")),\"\")","v":""},"",{"$f":"IF(AM56=1,\"\",IF('Engine Family #28'!$G$23=\"N\",(IF('Engine Family #28'!$N$16=\"Y\",'Engine Family #28'!$Z$12,\"\")),\"\"))","v":""},{"$f":"IF('Engine Family #28'!$G$23=\"N\",(IF('Engine Family #28'!$Z$16<>\"\",'Engine Family #28'!$Z$16,\"\")),\"\")","v":""},"","","",{"$f":"IF('Engine Family #28'!$N$18=\"Y\",\"Previously Tested\",IF($S56=\"FAIL\",\"FAIL\",IF($R56=\"OPEN\",\"OPEN\",IF(AND($S56=\"PASS\",$R56=\"PASS\"),\"PASS\",\"\"))))","v":""},{"$nulls":6},0,0,0,0,0,{"$f":"IF($L$13<>\"Category 3\",IF('Engine Family #28'!$G$23=\"Y\",(AA56+AB56+AC56),(AA56+AB56+AD56+AE56)),AD56)","v":0},{"$f":"IF($AF56>9,\"FAIL\",IF($L$13<>\"Category 3\",IF('Engine Family #28'!$G$23=\"Y\",IF($AF56=3,\"PASS\",\"\"),IF($AF56=4,\"PASS\",\"\")),IF($AF56=1,\"PASS\",\"\")))","v":""},null,{"$f":"'Engine Family #28'!$FS$36","v":0},0,null,28,{"$f":"IF(OR('Engine Family #28'!$N$16=\"N\",'Engine Family #28'!$N$18=\"Y\"),1,0)","v":0},{"$f":"IF('Engine Family #28'!$N$12=\"\",0,IF(OR(AND($L$13=\"Category 1\",'Engine Family #28'!$N$12<100),'Engine Family #28'!$N$18=\"Y\"),1,0))","v":0},{"$nulls":3},{"$f":"'Engine Family #28'!$N$17","v":0},{"$f":"'Engine Family #28'!$FO$30","v":0},{"$f":"'Engine Family #28'!$FO$31","v":0}]
[null,{"$f":"IF('Engine Family #29'!$M$11<>\"\",'Engine Family #29'!$M$11,\"\")","v":""},{"$f":"IF(AM57=1,\"\",IF('Engine Family #29'!$N$16=\"Y\",'Engine Family #29'!$R$12,\"\"))","v":""},{"$f":"IF('Engine Family #29'!$R$16<>\"\",'Engine Family #29'!$R$16,\"\")","v":""},"",{"$f":"IF(AM57=1,\"\",IF('Engine Family #29'!$N$16=\"Y\",'Engine Family #29'!$V$12,\"\"))","v":""},{"$f":"IF('Engine Family #29'!$V$16<>\"\",'Engine Family #29'!$V$16,\"\")","v":""},"",{"$f":"IF(AM57=1,\"\",IF('Engine Family #29'!$G$23=\"Y\",(IF('Engine Family #29'!$N$16=\"Y\",'Engine Family #29'!$Z$12,\"\")),\"\"))","v":""},{"$f":"IF('Engine Family #29'!$G$23=\"Y\",(IF('Engine Family #29'!$Z$16<>\"\",'Engine Family #29'!$Z$16,\"\")),\"\")","v":""},"",{"$f":"IF(AM57=1,\"\",IF('Engine Family #29'!$G$23=\"N\",(IF('Engine Family #29'!$N$16=\"Y\",'Engine Family #29'!$AD$12,\"\")),\"\"))","v":""},{"$f":"IF('Engine Family #29'!$G$23=\"N\",(IF('Engine Family #29'!$AD$16<>\"\",'Engine Family #29'!$AD$16,\"\")),\"\")","v":""},"",{"$f":"IF(AM57=1,\"\",IF('Engine Family #29'!$G$23=\"N\",(IF('Engine Family #29'!$N$16=\"Y\",'Engine Family #29'!$Z$12,\"\")),\"\"))","v":""},{"$f":"IF('Engine Family #29'!$G$23=\"N\",(IF('Engine Family #29'!$Z$16<>\"\",'Engine Family #29'!$Z$16,\"\")),\"\")","v":""},"","","",{"$f":"IF('Engine Family #29'!$N$18=\"Y\",\"Previously Tested\",IF($S57=\"FAIL\",\"FAIL\",IF($R57=\"OPEN\",\"OPEN\",IF(AND($S57=\"PASS\",$R57=\"PASS\"),\"PASS\",\"\"))))","v":""},{"$nulls":6},0,0,0,0,0,{"$f":"IF($L$13<>\"Category 3\",IF('Engine Family #29'!$G$23=\"Y\",(AA57+AB57+AC57),(AA57+AB57+AD57+AE57)),AD57)","v":0},{"$f":"IF($AF57>9,\"FAIL\",IF($L$13<>\"Category 3\",IF('Engine Family #29'!$G$23=\"Y\",IF($AF57=3,\"PASS\",\"\"),IF($AF57=4,\"PASS\",\"\")),IF($AF57=1,\"PASS\",\"\")))","v":""},null,{"$f":"'Engine Family #29'!$FS$36","v":0},0,null,29,{"$f":"IF(OR('Engine Family #29'!$N$16=\"N\",'Engine Family #29'!$N$18=\"Y\"),1,0)","v":0},{"$f":"IF('Engine Family #29'!$N$12=\"\",0,IF(OR(AND($L$13=\"Category 1\",'Engine Family #29'!$N$12<100),'Engine Family #29'!$N$18=\"Y\"),1,0))","v":0},{"$nulls":3},{"$f":"'Engine Family #29'!$N$17","v":0},{"$f":"'Engine Family #29'!$FO$30","v":0},{"$f":"'Engine Family #29'!$FO$31","v":0}]
[null,{"$f":"IF('Engine Family #30'!$M$11<>\"\",'Engine Family #30'!$M$11,\"\")","v":""},{"$f":"IF(AM58=1,\"\",IF('Engine Family #30'!$N$16=\"Y\",'Engine Family #30'!$R$12,\"\"))","v":""},{"$f":"IF('Engine Family #30'!$R$16<>\"\",'Engine Family #30'!$R$16,\"\")","v":""},"",{"$f":"IF(AM58=1,\"\",IF('Engine Family #30'!$N$16=\"Y\",'Engine Family #30'!$V$12,\"\"))","v":""},{"$f":"IF('Engine Family #30'!$V$16<>\"\",'Engine Family #30'!$V$16,\"\")","v":""},"",{"$f":"IF(AM58=1,\"\",IF('Engine Family #30'!$G$23=\"Y\",(IF('Engine Family #30'!$N$16=\"Y\",'Engine Family #30'!$Z$12,\"\")),\"\"))","v":""},{"$f":"IF('Engine Family #30'!$G$23=\"Y\",(IF('Engine Family #30'!$Z$16<>\"\",'Engine Family #30'!$Z$16,\"\")),\"\")","v":""},"",{"$f":"IF(AM58=1,\"\",IF('Engine Family #30'!$G$23=\"N\",(IF('Engine Family #30'!$N$16=\"Y\",'Engine Family #30'!$AD$12,\"\")),\"\"))","v":""},{"$f":"IF('Engine Family #30'!$G$23=\"N\",(IF('Engine Family #30'!$AD$16<>\"\",'Engine Family #30'!$AD$16,\"\")),\"\")","v":""},"",{"$f":"IF(AM58=1,\"\",IF('Engine Family #30'!$G$23=\"N\",(IF('Engine Family #30'!$N$16=\"Y\",'Engine Family #30'!$Z$12,\"\")),\"\"))","v":""},{"$f":"IF('Engine Family #30'!$G$23=\"N\",(IF('Engine Family #30'!$Z$16<>\"\",'Engine Family #30'!$Z$16,\"\")),\"\")","v":""},"","","",{"$f":"IF('Engine Family #30'!$N$18=\"Y\",\"Previously Tested\",IF($S58=\"FAIL\",\"FAIL\",IF($R58=\"OPEN\",\"OPEN\",IF(AND($S58=\"PASS\",$R58=\"PASS\"),\"PASS\",\"\"))))","v":""},{"$nulls":6},0,0,0,0,0,{"$f":"IF($L$13<>\"Category 3\",IF('Engine Family #30'!$G$23=\"Y\",(AA58+AB58+AC58),(AA58+AB58+AD58+AE58)),AD58)","v":0},{"$f":"IF($AF58>9,\"FAIL\",IF($L$13<>\"Category 3\",IF('Engine Family #30'!$G$23=\"Y\",IF($AF58=3,\"PASS\",\"\"),IF($AF58=4,\"PASS\",\"\")),IF($AF58=1,\"PASS\",\"\")))","v":""},null,{"$f":"'Engine Family #30'!$FS$36","v":0},0,null,30,{"$f":"IF(OR('Engine Family #30'!$N$16=\"N\",'Engine Family #30'!$N$18=\"Y\"),1,0)","v":0},{"$f":"IF('Engine Family #30'!$N$12=\"\",0,IF(OR(AND($L$13=\"Category 1\",'Engine Family #30'!$N$12<100),'Engine Family #30'!$N$18=\"Y\"),1,0))","v":0},{"$nulls":3},{"$f":"'Engine Family #30'!$N$17","v":0},{"$f":"'Engine Family #30'!$FO$30","v":0},{"$f":"'Engine Family #30'!$FO$31","v":0}]
[{"$nulls":34},{"$f":"SUM(AI29:AI58)","v":0},0,{"$f":"SUM(AK29:AK58)","v":0},"Use this for fails to exclude <100, exempt or not uncluded "]
[{"$nulls":35},"Use this if fails still included for <100 or exempt",{"$nulls":7},{"$f":"SUM($AR$29:$AR$58)","v":0},{"$f":"SUM($AS$29:$AS$58)","v":0},{"$f":"SUM($AT$29:$AT$58)","v":0}]
[{"$nulls":43},"Current Sample size if total N17","Proposed New Sample size if use FO36 in N17"]
[]
[]
[{"$nulls":44},"FO30 still needs to account for Cat 1, <0"]
{"$rows_empty":7}
[{"$nulls":4},{"$f":"COUNTIF(E29:E58,\"FAIL\")","v":0},null,null,{"$f":"COUNTIF(H29:H58,\"FAIL\")","v":0},null,null,{"$f":"COUNTIF(K29:K58,\"FAIL\")","v":0},null,null,{"$f":"COUNTIF(N29:N58,\"FAIL\")","v":0},null,null,1,{"$nulls":3},"Y","Category 1",{"$nulls":3},"Recreational","Diesel"]
[{"$nulls":16},2,{"$nulls":3},"N","Category 2",{"$nulls":3},"Commercial","Natural Gas"]
[{"$nulls":4},"Can be summarized to:",{"$nulls":11},3,null,null,"Includes",null,"Category 3",{"$nulls":4},"Alcohol"]
[{"$nulls":4}," =IF($N$77=\"Y\",'Engine Family #1'!$FP$36,\"\")",{"$nulls":11},4,null,null,"if exempt but not <100",94,null,"Prod with exempt, <100 and include"]
[null,null,"Req'd sample size",null,"# valid tests",null,"sample size stat","q1 prod","q2 prod","q3 prod","q4 prod","tot prod","tot proj prod","complete","Rnded Req Efam","complete flag","cat 2 part 1042","Part 94",null,"total prod incl",1042]
[null,"Req. efam  1",{"$f":"IF($N77=\"Y\",'Engine Family #1'!$FO$36,\"\")","v":""},"Val tests efam 1",{"$f":"IF(AND($N77=\"Y\",OR('Engine Family #1'!$G$24='Engine Family #1'!$AN$6,AND('Engine Family #1'!$G$24='Engine Family #1'!$AN$5, $L$13<>\"Category 2\",$AH$13<>\"Y\"))),'Engine Family #1'!$FP$36,\"\")","v":""},{"$f":"IF(AND($N77=\"Y\",OR('Engine Family #1'!$G$24<>'Engine Family #1'!$AN$5,AND('Engine Family #1'!$G$24='Engine Family #1'!$AN$5, $L$13<>\"Category 2\",$AH$13<>\"Y\"))),'Engine Family #1'!$FP$36,\"\")","v":""},{"$f":"IF(AND(O77<>\"\",N77=\"Y\"),IF(E77<O77,\"OPEN\",\"PASS\"),\"\")","v":""},{"$nulls":5},{"$f":"IF(OR($L$13<>\"Category 3\",'Engine Family #1'!N$12=\"\"),0,'Engine Family #1'!N$12)","v":0},{"$f":"'Engine Family #1'!N$16","v":0},{"$f":"ROUND('Engine Family #1'!$FO$36,0)","v":0},{"$f":"IF($N77=\"Y\",1,0)","v":0},{"$f":"IF(AND($L$13=$V$73,'Engine Family #1'!$G$24='Engine Family #1'!$AN$6),IF($N77=\"Y\",'Engine Family #1'!$FO$36,\"\"),\"\")","v":""},{"$f":"IF('Engine Family #1'!$G$24='Engine Family #1'!$AN$5, 'Engine Family #1'!N$12,0)","v":0},{"$f":"IF('Engine Family #1'!$G$24='Engine Family #1'!$AN$6,IF($N77=\"Y\",'Engine Family #1'!$FO$36,\"\"),\"\")","v":""},null,null,"Tier 2",{"$f":"IF(OR('Engine Family #1'!$N$12>=100,,'Engine Family #1'!$N$18=\"N\"),'Engine Family #1'!$N$12,0)","v":0}]
[null,"Req. efam  2",{"$f":"IF($N78=\"Y\",'Engine Family #2'!$FO$36,\"\")","v":""},"Val tests efam 2",{"$f":"IF(AND($N78=\"Y\",OR('Engine Family #2'!$G$24='Engine Family #2'!$AN$6,AND('Engine Family #2'!$G$24='Engine Family #2'!$AN$5, $L$13<>\"Category 2\",$AH$13<>\"Y\"))),'Engine Family #2'!$FP$36,\"\")","v":""},{"$f":"IF(AND($N78=\"Y\",OR('Engine Family #2'!$G$24<>'Engine Family #2'!$AN$5,AND('Engine Family #2'!$G$24='Engine Family #2'!$AN$5, $L$13<>\"Category 2\",$AH$13<>\"Y\"))),'Engine Family #2'!$FP$36,\"\")","v":""},{"$f":"IF(AND(O78<>\"\",N78=\"Y\"),IF(E78<O78,\"OPEN\",\"PASS\"),\"\")","v":""},{"$nulls":5},{"$f":"IF(OR($L$13<>\"Category 3\",'Engine Family #2'!N$12=\"\"),0,'Engine Family #2'!N$12)","v":0},{"$f":"'Engine Family #2'!N$16","v":0},{"$f":"ROUND('Engine Family #2'!$FO$36,0)","v":0},{"$f":"IF($N78=\"Y\",1,0)","v":0},{"$f":"IF(AND($L$13=$V$73,'Engine Family #2'!$G$24='Engine Family #2'!$AN$6),IF($N78=\"Y\",'Engine Family #2'!$FO$36,\"\"),\"\")","v":""},{"$f":"IF('Engine Family #2'!$G$24='Engine Family #2'!$AN$5, 'Engine Family #2'!N$12,0)","v":0},{"$f":"IF('Engine Family #2'!$G$24='Engine Family #2'!$AN$6,IF($N78=\"Y\",'Engine Family #2'!$FO$36,\"\"),\"\")","v":""},null,null,"Tier 3",{"$f":"IF(OR('Engine Family #2'!$N$12>=100,,'Engine Family #2'!$N$18=\"N\",'Engine Family #2'!$N$16<>\"N\"),'Engine Family #2'!$N$12,0)","v":0}]
[null,"Req. efam  3",{"$f":"IF($N79=\"Y\",'Engine Family #3'!$FO$36,\"\")","v":""},"Val tests efam 3",{"$f":"IF(AND($N79=\"Y\",OR('Engine Family #3'!$G$24='Engine Family #3'!$AN$6,AND('Engine Family #3'!$G$24='Engine Family #3'!$AN$5, $L$13<>\"Category 2\",$AH$13<>\"Y\"))),'Engine Family #3'!$FP$36,\"\")","v":""},{"$f":"IF(AND($N79=\"Y\",OR('Engine Family #3'!$G$24<>'Engine Family #3'!$AN$5,AND('Engine Family #3'!$G$24='Engine Family #3'!$AN$5, $L$13<>\"Category 2\",$AH$13<>\"Y\"))),'Engine Family #3'!$FP$36,\"\")","v":""},"",{"$nulls":5},{"$f":"IF(OR($L$13<>\"Category 3\",'Engine Family #3'!N$12=\"\"),0,'Engine Family #3'!N$12)","v":0},{"$f":"'Engine Family #3'!N$16","v":0},{"$f":"ROUND('Engine Family #3'!$FO$36,0)","v":0},0,{"$f":"IF(AND($L$13=$V$73,'Engine Family #3'!$G$24='Engine Family #3'!$AN$6),IF($N79=\"Y\",'Engine Family #3'!$FO$36,\"\"),\"\")","v":""},{"$f":"IF('Engine Family #3'!$G$24='Engine Family #3'!$AN$5, 'Engine Family #3'!N$12,0)","v":0},{"$f":"IF('Engine Family #3'!$G$24='Engine Family #3'!$AN$6,IF($N79=\"Y\",'Engine Family #3'!$FO$36,\"\"),\"\")","v":""},null,null,"Tier 4",{"$f":"IF(OR('Engine Family #3'!$N$12>=100,,'Engine Family #3'!$N$18=\"N\",'Engine Family #3'!$N$16<>\"N\"),'Engine Family #3'!$N$12,0)","v":0}]
[null,"Req. efam  4",{"$f":"IF($N80=\"Y\",'Engine Family #4'!$FO$36,\"\")","v":""},"Val tests efam 4",{"$f":"IF(AND($N80=\"Y\",OR('Engine Family #4'!$G$24='Engine Family #4'!$AN$6,AND('Engine Family #4'!$G$24='Engine Family #4'!$AN$5, $L$13<>\"Category 2\",$AH$13<>\"Y\"))),'Engine Family #4'!$FP$36,\"\")","v":""},{"$f":"IF(AND($N80=\"Y\",OR('Engine Family #4'!$G$24<>'Engine Family #4'!$AN$5,AND('Engine Family #4'!$G$24='Engine Family #4'!$AN$5, $L$13<>\"Category 2\",$AH$13<>\"Y\"))),'Engine Family #4'!$FP$36,\"\")","v":""},"",{"$nulls":5},{"$f":"IF(OR($L$13<>\"Category 3\",'Engine Family #4'!N$12=\"\"),0,'Engine Family #4'!N$12)","v":0},{"$f":"'Engine Family #4'!N$16","v":0},{"$f":"ROUND('Engine Family #4'!$FO$36,0)","v":0},0,{"$f":"IF(AND($L$13=$V$73,'Engine Family #4'!$G$24='Engine Family #4'!$AN$6),IF($N80=\"Y\",'Engine Family #4'!$FO$36,\"\"),\"\")","v":""},{"$f":"IF('Engine Family #4'!$G$24='Engine Family #4'!$AN$5, 'Engine Family #4'!N$12,0)","v":0},{"$f":"IF('Engine Family #4'!$G$24='Engine Family #4'!$AN$6,IF($N80=\"Y\",'Engine Family #4'!$FO$36,\"\"),\"\")","v":""},{"$nulls":3},{"$f":"IF(OR('Engine Family #4'!$N$12>=100,,'Engine Family #4'!$N$18=\"N\",'Engine Family #4'!$N$16<>\"N\"),'Engine Family #4'!$N$12,0)","v":0}]
[null,"Req. efam  5",{"$f":"IF($N81=\"Y\",'Engine Family #5'!$FO$36,\"\")","v":""},"Val tests efam 5",{"$f":"IF(AND($N81=\"Y\",OR('Engine Family #5'!$G$24='Engine Family #5'!$AN$6,AND('Engine Family #5'!$G$24='Engine Family #5'!$AN$5, $L$13<>\"Category 2\",$AH$13<>\"Y\"))),'Engine Family #5'!$FP$36,\"\")","v":""},{"$f":"IF(AND($N81=\"Y\",OR('Engine Family #5'!$G$24<>'Engine Family #5'!$AN$5,AND('Engine Family #5'!$G$24='Engine Family #5'!$AN$5, $L$13<>\"Category 2\",$AH$13<>\"Y\"))),'Engine Family #5'!$FP$36,\"\")","v":""},"",{"$nulls":5},{"$f":"IF(OR($L$13<>\"Category 3\",'Engine Family #5'!N$12=\"\"),0,'Engine Family #5'!N$12)","v":0},{"$f":"'Engine Family #5'!N$16","v":0},{"$f":"ROUND('Engine Family #5'!$FO$36,0)","v":0},0,{"$f":"IF(AND($L$13=$V$73,'Engine Family #5'!$G$24='Engine Family #5'!$AN$6),IF($N81=\"Y\",'Engine Family #5'!$FO$36,\"\"),\"\")","v":""},{"$f":"IF('Engine Family #5'!$G$24='Engine Family #5'!$AN$5, 'Engine Family #5'!N$12,0)","v":0},{"$f":"IF('Engine Family #5'!$G$24='Engine Family #5'!$AN$6,IF($N81=\"Y\",'Engine Family #5'!$FO$36,\"\"),\"\")","v":""},{"$nulls":3},{"$f":"IF(OR('Engine Family #5'!$N$12>=100,,'Engine Family #5'!$N$18=\"N\",'Engine Family #5'!$N$16<>\"N\"),'Engine Family #5'!$N$12,0)","v":0}]
[null,"Req. efam  6",{"$f":"IF($N82=\"Y\",'Engine Family #6'!$FO$36,\"\")","v":""},"Val tests efam 6",{"$f":"IF(AND($N82=\"Y\",OR('Engine Family #6'!$G$24='Engine Family #6'!$AN$6,AND('Engine Family #6'!$G$24='Engine Family #6'!$AN$5, $L$13<>\"Category 2\",$AH$13<>\"Y\"))),'Engine Family #6'!$FP$36,\"\")","v":""},{"$f":"IF(AND($N82=\"Y\",OR('Engine Family #6'!$G$24<>'Engine Family #6'!$AN$5,AND('Engine Family #6'!$G$24='Engine Family #6'!$AN$5, $L$13<>\"Category 2\",$AH$13<>\"Y\"))),'Engine Family #6'!$FP$36,\"\")","v":""},"","Deleted - not needed anymore",{"$nulls":4},{"$f":"IF(OR($L$13<>\"Category 3\",'Engine Family #6'!N$12=\"\"),0,'Engine Family #6'!N$12)","v":0},{"$f":"'Engine Family #6'!N$16","v":0},{"$f":"ROUND('Engine Family #6'!$FO$36,0)","v":0},0,{"$f":"IF(AND($L$13=$V$73,'Engine Family #6'!$G$24='Engine Family #6'!$AN$6),IF($N82=\"Y\",'Engine Family #6'!$FO$36,\"\"),\"\")","v":""},{"$f":"IF('Engine Family #6'!$G$24='Engine Family #6'!$AN$5, 'Engine Family #6'!N$12,0)","v":0},{"$f":"IF('Engine Family #6'!$G$24='Engine Family #6'!$AN$6,IF($N82=\"Y\",'Engine Family #6'!$FO$36,\"\"),\"\")","v":""},{"$nulls":3},{"$f":"IF(OR('Engine Family #6'!$N$12>=100,,'Engine Family #6'!$N$18=\"N\",'Engine Family #6'!$N$16<>\"N\"),'Engine Family #6'!$N$12,0)","v":0}]
[null,"Req. efam  7",{"$f":"IF($N83=\"Y\",'Engine Family #7'!$FO$36,\"\")","v":""},"Val tests efam 7",{"$f":"IF(AND($N83=\"Y\",OR('Engine Family #7'!$G$24='Engine Family #7'!$AN$6,AND('Engine Family #7'!$G$24='Engine Family #7'!$AN$5, $L$13<>\"Category 2\",$AH$13<>\"Y\"))),'Engine Family #7'!$FP$36,\"\")","v":""},{"$f":"IF(AND($N83=\"Y\",OR('Engine Family #7'!$G$24<>'Engine Family #7'!$AN$5,AND('Engine Family #7'!$G$24='Engine Family #7'!$AN$5, $L$13<>\"Category 2\",$AH$13<>\"Y\"))),'Engine Family #7'!$FP$36,\"\")","v":""},"",{"$nulls":5},{"$f":"IF(OR($L$13<>\"Category 3\",'Engine Family #7'!N$12=\"\"),0,'Engine Family #7'!N$12)","v":0},{"$f":"'Engine Family #7'!N$16","v":0},{"$f":"ROUND('Engine Family #7'!$FO$36,0)","v":0},0,{"$f":"IF(AND($L$13=$V$73,'Engine Family #7'!$G$24='Engine Family #7'!$AN$6),IF($N83=\"Y\",'Engine Family #7'!$FO$36,\"\"),\"\")","v":""},{"$f":"IF('Engine Family #7'!$G$24='Engine Family #7'!$AN$5, 'Engine Family #7'!N$12,0)","v":0},{"$f":"IF('Engine Family #7'!$G$24='Engine Family #7'!$AN$6,IF($N83=\"Y\",'Engine Family #7'!$FO$36,\"\"),\"\")","v":""},{"$nulls":3},{"$f":"IF(OR('Engine Family #7'!$N$12>=100,,'Engine Family #7'!$N$18=\"N\",'Engine Family #7'!$N$16<>\"N\"),'Engine Family #7'!$N$12,0)","v":0}]
[null,"Req. efam  8",{"$f":"IF($N84=\"Y\",'Engine Family #8'!$FO$36,\"\")","v":""},"Val tests efam 8",{"$f":"IF(AND($N84=\"Y\",OR('Engine Family #8'!$G$24='Engine Family #8'!$AN$6,AND('Engine Family #8'!$G$24='Engine Family #8'!$AN$5, $L$13<>\"Category 2\",$AH$13<>\"Y\"))),'Engine Family #8'!$FP$36,\"\")","v":""},{"$f":"IF(AND($N84=\"Y\",OR('Engine Family #8'!$G$24<>'Engine Family #8'!$AN$5,AND('Engine Family #8'!$G$24='Engine Family #8'!$AN$5, $L$13<>\"Category 2\",$AH$13<>\"Y\"))),'Engine Family #8'!$FP$36,\"\")","v":""},"",{"$nulls":5},{"$f":"IF(OR($L$13<>\"Category 3\",'Engine Family #8'!N$12=\"\"),0,'Engine Family #8'!N$12)","v":0},{"$f":"'Engine Family #8'!N$16","v":0},{"$f":"ROUND('Engine Family #8'!$FO$36,0)","v":0},0,{"$f":"IF(AND($L$13=$V$73,'Engine Family #8'!$G$24='Engine Family #8'!$AN$6),IF($N84=\"Y\",'Engine Family #8'!$FO$36,\"\"),\"\")","v":""},{"$f":"IF('Engine Family #8'!$G$24='Engine Family #8'!$AN$5, 'Engine Family #8'!N$12,0)","v":0},{"$f":"IF('Engine Family #8'!$G$24='Engine Family #8'!$AN$6,IF($N84=\"Y\",'Engine Family #8'!$FO$36,\"\"),\"\")","v":""},{"$nulls":3},{"$f":"IF(OR('Engine Family #8'!$N$12>=100,,'Engine Family #8'!$N$18=\"N\",'Engine Family #8'!$N$16<>\"N\"),'Engine Family #8'!$N$12,0)","v":0}]
[null,"Req. efam  9",{"$f":"IF($N85=\"Y\",'Engine Family #9'!$FO$36,\"\")","v":""},"Val tests efam 9",{"$f":"IF(AND($N85=\"Y\",OR('Engine Family #9'!$G$24='Engine Family #9'!$AN$6,AND('Engine Family #9'!$G$24='Engine Family #9'!$AN$5, $L$13<>\"Category 2\",$AH$13<>\"Y\"))),'Engine Family #9'!$FP$36,\"\")","v":""},{"$f":"IF(AND($N85=\"Y\",OR('Engine Family #9'!$G$24<>'Engine Family #9'!$AN$5,AND('Engine Family #9'!$G$24='Engine Family #9'!$AN$5, $L$13<>\"Category 2\",$AH$13<>\"Y\"))),'Engine Family #9'!$FP$36,\"\")","v":""},"",{"$nulls":5},{"$f":"IF(OR($L$13<>\"Category 3\",'Engine Family #9'!N$12=\"\"),0,'Engine Family #9'!N$12)","v":0},{"$f":"'Engine Family #9'!N$16","v":0},{"$f":"ROUND('Engine Family #9'!$FO$36,0)","v":0},0,{"$f":"IF(AND($L$13=$V$73,'Engine Family #9'!$G$24='Engine Family #9'!$AN$6),IF($N85=\"Y\",'Engine Family #9'!$FO$36,\"\"),\"\")","v":""},{"$f":"IF('Engine Family #9'!$G$24='Engine Family #9'!$AN$5, 'Engine Family #9'!N$12,0)","v":0},{"$f":"IF('Engine Family #9'!$G$24='Engine Family #9'!$AN$6,IF($N85=\"Y\",'Engine Family #9'!$FO$36,\"\"),\"\")","v":""},{"$nulls":3},{"$f":"IF(OR('Engine Family #9'!$N$12>=100,,'Engine Family #9'!$N$18=\"N\",'Engine Family #9'!$N$16<>\"N\"),'Engine Family #9'!$N$12,0)","v":0}]
[null,"Req. efam  10",{"$f":"IF($N86=\"Y\",'Engine Family #10'!$FO$36,\"\")","v":""},"Val tests efam 10",{"$f":"IF(AND($N86=\"Y\",OR('Engine Family #10'!$G$24='Engine Family #10'!$AN$6,AND('Engine Family #10'!$G$24='Engine Family #10'!$AN$5, $L$13<>\"Category 2\",$AH$13<>\"Y\"))),'Engine Family #10'!$FP$36,\"\")","v":""},{"$f":"IF(AND($N86=\"Y\",OR('Engine Family #10'!$G$24<>'Engine Family #10'!$AN$5,AND('Engine Family #10'!$G$24='Engine Family #10'!$AN$5, $L$13<>\"Category 2\",$AH$13<>\"Y\"))),'Engine Family #10'!$FP$36,\"\")","v":""},"",{"$nulls":5},{"$f":"IF(OR($L$13<>\"Category 3\",'Engine Family #10'!N$12=\"\"),0,'Engine Family #10'!N$12)","v":0},{"$f":"'Engine Family #10'!N$16","v":0},{"$f":"ROUND('Engine Family #10'!$FO$36,0)","v":0},0,{"$f":"IF(AND($L$13=$V$73,'Engine Family #10'!$G$24='Engine Family #10'!$AN$6),IF($N86=\"Y\",'Engine Family #10'!$FO$36,\"\"),\"\")","v":""},{"$f":"IF('Engine Family #10'!$G$24='Engine Family #10'!$AN$5, 'Engine Family #10'!N$12,0)","v":0},{"$f":"IF('Engine Family #10'!$G$24='Engine Family #10'!$AN$6,IF($N86=\"Y\",'Engine Family #10'!$FO$36,\"\"),\"\")","v":""},{"$nulls":3},{"$f":"IF(OR('Engine Family #10'!$N$12>=100,,'Engine Family #10'!$N$18=\"N\",'Engine Family #10'!$N$16<>\"N\"),'Engine Family #10'!$N$12,0)","v":0}]
[null,"Req. efam  11",{"$f":"IF($N87=\"Y\",'Engine Family #11'!$FO$36,\"\")","v":""},"Val tests efam 11",{"$f":"IF(AND($N87=\"Y\",OR('Engine Family #11'!$G$24='Engine Family #11'!$AN$6,AND('Engine Family #11'!$G$24='Engine Family #11'!$AN$5, $L$13<>\"Category 2\",$AH$13<>\"Y\"))),'Engine Family #11'!$FP$36,\"\")","v":""},{"$f":"IF(AND($N87=\"Y\",OR('Engine Family #11'!$G$24<>'Engine Family #11'!$AN$5,AND('Engine Family #11'!$G$24='Engine Family #11'!$AN$5, $L$13<>\"Category 2\",$AH$13<>\"Y\"))),'Engine Family #11'!$FP$36,\"\")","v":""},"",{"$nulls":5},{"$f":"IF(OR($L$13<>\"Category 3\",'Engine Family #11'!N$12=\"\"),0,'Engine Family #11'!N$12)","v":0},{"$f":"'Engine Family #11'!N$16","v":0},{"$f":"ROUND('Engine Family #11'!$FO$36,0)","v":0},0,{"$f":"IF(AND($L$13=$V$73,'Engine Family #11'!$G$24='Engine Family #11'!$AN$6),IF($N87=\"Y\",'Engine Family #11'!$FO$36,\"\"),\"\")","v":""},{"$f":"IF('Engine Family #11'!$G$24='Engine Family #11'!$AN$5, 'Engine Family #11'!N$12,0)","v":0},{"$f":"IF('Engine Family #11'!$G$24='Engine Family #11'!$AN$6,IF($N87=\"Y\",'Engine Family #11'!$FO$36,\"\"),\"\")","v":""},{"$nulls":3},{"$f":"IF(OR('Engine Family #11'!$N$12>=100,,'Engine Family #11'!$N$18=\"N\",'Engine Family #11'!$N$16<>\"N\"),'Engine Family #11'!$N$12,0)","v":0}]
[null,"Req. efam  12",{"$f":"IF($N88=\"Y\",'Engine Family #12'!$FO$36,\"\")","v":""},"Val tests efam 12",{"$f":"IF(AND($N88=\"Y\",OR('Engine Family #12'!$G$24='Engine Family #12'!$AN$6,AND('Engine Family #12'!$G$24='Engine Family #12'!$AN$5, $L$13<>\"Category 2\",$AH$13<>\"Y\"))),'Engine Family #12'!$FP$36,\"\")","v":""},{"$f":"IF(AND($N88=\"Y\",OR('Engine Family #12'!$G$24<>'Engine Family #12'!$AN$5,AND('Engine Family #12'!$G$24='Engine Family #12'!$AN$5, $L$13<>\"Category 2\",$AH$13<>\"Y\"))),'Engine Family #12'!$FP$36,\"\")","v":""},"",{"$nulls":5},{"$f":"IF(OR($L$13<>\"Category 3\",'Engine Family #12'!N$12=\"\"),0,'Engine Family #12'!N$12)","v":0},{"$f":"'Engine Family #12'!N$16","v":0},{"$f":"ROUND('Engine Family #12'!$FO$36,0)","v":0},0,{"$f":"IF(AND($L$13=$V$73,'Engine Family #12'!$G$24='Engine Family #12'!$AN$6),IF($N88=\"Y\",'Engine Family #12'!$FO$36,\"\"),\"\")","v":""},{"$f":"IF('Engine Family #12'!$G$24='Engine Family #12'!$AN$5, 'Engine Family #12'!N$12,0)","v":0},{"$f":"IF('Engine Family #12'!$G$24='Engine Family #12'!$AN$6,IF($N88=\"Y\",'Engine Family #12'!$FO$36,\"\"),\"\")","v":""},{"$nulls":3},{"$f":"IF(OR('Engine Family #12'!$N$12>=100,,'Engine Family #12'!$N$18=\"N\",'Engine Family #12'!$N$16<>\"N\"),'Engine Family #12'!$N$12,0)","v":0}]
[null,"Req. efam  13",{"$f":"IF($N89=\"Y\",'Engine Family #13'!$FO$36,\"\")","v":""},"Val tests efam 13",{"$f":"IF(AND($N89=\"Y\",OR('Engine Family #13'!$G$24='Engine Family #13'!$AN$6,AND('Engine Family #13'!$G$24='Engine Family #13'!$AN$5, $L$13<>\"Category 2\",$AH$13<>\"Y\"))),'Engine Family #13'!$FP$36,\"\")","v":""},{"$f":"IF(AND($N89=\"Y\",OR('Engine Family #13'!$G$24<>'Engine Family #13'!$AN$5,AND('Engine Family #13'!$G$24='Engine Family #13'!$AN$5, $L$13<>\"Category 2\",$AH$13<>\"Y\"))),'Engine Family #13'!$FP$36,\"\")","v":""},"",{"$nulls":5},{"$f":"IF(OR($L$13<>\"Category 3\",'Engine Family #13'!N$12=\"\"),0,'Engine Family #13'!N$12)","v":0},{"$f":"'Engine Family #13'!N$16","v":0},{"$f":"ROUND('Engine Family #13'!$FO$36,0)","v":0},0,{"$f":"IF(AND($L$13=$V$73,'Engine Family #13'!$G$24='Engine Family #13'!$AN$6),IF($N89=\"Y\",'Engine Family #13'!$FO$36,\"\"),\"\")","v":""},{"$f":"IF('Engine Family #13'!$G$24='Engine Family #13'!$AN$5, 'Engine Family #13'!N$12,0)","v":0},{"$f":"IF('Engine Family #13'!$G$24='Engine Family #13'!$AN$6,IF($N89=\"Y\",'Engine Family #13'!$FO$36,\"\"),\"\")","v":""},{"$nulls":3},{"$f":"IF(OR('Engine Family #13'!$N$12>=100,,'Engine Family #13'!$N$18=\"N\",'Engine Family #13'!$N$16<>\"N\"),'Engine Family #13'!$N$12,0)","v":0}]
[null,"Req. efam  14",{"$f":"IF($N90=\"Y\",'Engine Family #14'!$FO$36,\"\")","v":""},"Val tests efam 14",{"$f":"IF(AND($N90=\"Y\",OR('Engine Family #14'!$G$24='Engine Family #14'!$AN$6,AND('Engine Family #14'!$G$24='Engine Family #14'!$AN$5, $L$13<>\"Category 2\",$AH$13<>\"Y\"))),'Engine Family #14'!$FP$36,\"\")","v":""},{"$f":"IF(AND($N90=\"Y\",OR('Engine Family #14'!$G$24<>'Engine Family #14'!$AN$5,AND('Engine Family #14'!$G$24='Engine Family #14'!$AN$5, $L$13<>\"Category 2\",$AH$13<>\"Y\"))),'Engine Family #14'!$FP$36,\"\")","v":""},"",{"$nulls":5},{"$f":"IF(OR($L$13<>\"Category 3\",'Engine Family #14'!N$12=\"\"),0,'Engine Family #14'!N$12)","v":0},{"$f":"'Engine Family #14'!N$16","v":0},{"$f":"ROUND('Engine Family #14'!$FO$36,0)","v":0},0,{"$f":"IF(AND($L$13=$V$73,'Engine Family #14'!$G$24='Engine Family #14'!$AN$6),IF($N90=\"Y\",'Engine Family #14'!$FO$36,\"\"),\"\")","v":""},{"$f":"IF('Engine Family #14'!$G$24='Engine Family #14'!$AN$5, 'Engine Family #14'!N$12,0)","v":0},{"$f":"IF('Engine Family #14'!$G$24='Engine Family #14'!$AN$6,IF($N90=\"Y\",'Engine Family #14'!$FO$36,\"\"),\"\")","v":""},{"$nulls":3},{"$f":"IF(OR('Engine Family #14'!$N$12>=100,,'Engine Family #14'!$N$18=\"N\",'Engine Family #14'!$N$16<>\"N\"),'Engine Family #14'!$N$12,0)","v":0}]
[null,"Req. efam  15",{"$f":"IF($N91=\"Y\",'Engine Family #15'!$FO$36,\"\")","v":""},"Val tests efam 15",{"$f":"IF(AND($N91=\"Y\",OR('Engine Family #15'!$G$24='Engine Family #15'!$AN$6,AND('Engine Family #15'!$G$24='Engine Family #15'!$AN$5, $L$13<>\"Category 2\",$AH$13<>\"Y\"))),'Engine Family #15'!$FP$36,\"\")","v":""},{"$f":"IF(AND($N91=\"Y\",OR('Engine Family #15'!$G$24<>'Engine Family #15'!$AN$5,AND('Engine Family #15'!$G$24='Engine Family #15'!$AN$5, $L$13<>\"Category 2\",$AH$13<>\"Y\"))),'Engine Family #15'!$FP$36,\"\")","v":""},"",{"$nulls":5},{"$f":"IF(OR($L$13<>\"Category 3\",'Engine Family #15'!N$12=\"\"),0,'Engine Family #15'!N$12)","v":0},{"$f":"'Engine Family #15'!N$16","v":0},{"$f":"ROUND('Engine Family #15'!$FO$36,0)","v":0},0,{"$f":"IF(AND($L$13=$V$73,'Engine Family #15'!$G$24='Engine Family #15'!$AN$6),IF($N91=\"Y\",'Engine Family #15'!$FO$36,\"\"),\"\")","v":""},{"$f":"IF('Engine Family #15'!$G$24='Engine Family #15'!$AN$5, 'Engine Family #15'!N$12,0)","v":0},{"$f":"IF('Engine Family #15'!$G$24='Engine Family #15'!$AN$6,IF($N91=\"Y\",'Engine Family #15'!$FO$36,\"\"),\"\")","v":""},{"$nulls":3},{"$f":"IF(OR('Engine Family #15'!$N$12>=100,,'Engine Family #15'!$N$18=\"N\",'Engine Family #15'!$N$16<>\"N\"),'Engine Family #15'!$N$12,0)","v":0}]
[null,"Req. efam  16",{"$f":"IF($N92=\"Y\",'Engine Family #16'!$FO$36,\"\")","v":""},"Val tests efam 16",{"$f":"IF(AND($N92=\"Y\",OR('Engine Family #16'!$G$24='Engine Family #16'!$AN$6,AND('Engine Family #16'!$G$24='Engine Family #16'!$AN$5, $L$13<>\"Category 2\",$AH$13<>\"Y\"))),'Engine Family #16'!$FP$36,\"\")","v":""},{"$f":"IF(AND($N92=\"Y\",OR('Engine Family #16'!$G$24<>'Engine Family #16'!$AN$5,AND('Engine Family #16'!$G$24='Engine Family #16'!$AN$5, $L$13<>\"Category 2\",$AH$13<>\"Y\"))),'Engine Family #16'!$FP$36,\"\")","v":""},"",{"$nulls":5},{"$f":"IF(OR($L$13<>\"Category 3\",'Engine Family #16'!N$12=\"\"),0,'Engine Family #16'!N$12)","v":0},{"$f":"'Engine Family #16'!N$16","v":0},{"$f":"ROUND('Engine Family #16'!$FO$36,0)","v":0},0,{"$f":"IF(AND($L$13=$V$73,'Engine Family #16'!$G$24='Engine Family #16'!$AN$6),IF($N92=\"Y\",'Engine Family #16'!$FO$36,\"\"),\"\")","v":""},{"$f":"IF('Engine Family #16'!$G$24='Engine Family #16'!$AN$5, 'Engine Family #16'!N$12,0)","v":0},{"$f":"IF('Engine Family #16'!$G$24='Engine Family #16'!$AN$6,IF($N92=\"Y\",'Engine Family #16'!$FO$36,\"\"),\"\")","v":""},{"$nulls":3},{"$f":"IF(OR('Engine Family #16'!$N$12>=100,,'Engine Family #16'!$N$18=\"N\",'Engine Family #16'!$N$16<>\"N\"),'Engine Family #16'!$N$12,0)","v":0}]
[null,"Req. efam  17",{"$f":"IF($N93=\"Y\",'Engine Family #17'!$FO$36,\"\")","v":""},"Val tests efam 17",{"$f":"IF(AND($N93=\"Y\",OR('Engine Family #17'!$G$24='Engine Family #17'!$AN$6,AND('Engine Family #17'!$G$24='Engine Family #17'!$AN$5, $L$13<>\"Category 2\",$AH$13<>\"Y\"))),'Engine Family #17'!$FP$36,\"\")","v":""},{"$f":"IF(AND($N93=\"Y\",OR('Engine Family #17'!$G$24<>'Engine Family #17'!$AN$5,AND('Engine Family #17'!$G$24='Engine Family #17'!$AN$5, $L$13<>\"Category 2\",$AH$13<>\"Y\"))),'Engine Family #17'!$FP$36,\"\")","v":""},"",{"$nulls":5},{"$f":"IF(OR($L$13<>\"Category 3\",'Engine Family #17'!N$12=\"\"),0,'Engine Family #17'!N$12)","v":0},{"$f":"'Engine Family #17'!N$16","v":0},{"$f":"ROUND('Engine Family #17'!$FO$36,0)","v":0},0,{"$f":"IF(AND($L$13=$V$73,'Engine Family #17'!$G$24='Engine Family #17'!$AN$6),IF($N93=\"Y\",'Engine Family #17'!$FO$36,\"\"),\"\")","v":""},{"$f":"IF('Engine Family #17'!$G$24='Engine Family #17'!$AN$5, 'Engine Family #17'!N$12,0)","v":0},{"$f":"IF('Engine Family #17'!$G$24='Engine Family #17'!$AN$6,IF($N93=\"Y\",'Engine Family #17'!$FO$36,\"\"),\"\")","v":""},{"$nulls":3},{"$f":"IF(OR('Engine Family #17'!$N$12>=100,,'Engine Family #17'!$N$18=\"N\",'Engine Family #17'!$N$16<>\"N\"),'Engine Family #17'!$N$12,0)","v":0}]
[null,"Req. efam  18",{"$f":"IF($N94=\"Y\",'Engine Family #18'!$FO$36,\"\")","v":""},"Val tests efam 18",{"$f":"IF(AND($N94=\"Y\",OR('Engine Family #18'!$G$24='Engine Family #18'!$AN$6,AND('Engine Family #18'!$G$24='Engine Family #18'!$AN$5, $L$13<>\"Category 2\",$AH$13<>\"Y\"))),'Engine Family #18'!$FP$36,\"\")","v":""},{"$f":"IF(AND($N94=\"Y\",OR('Engine Family #18'!$G$24<>'Engine Family #18'!$AN$5,AND('Engine Family #18'!$G$24='Engine Family #18'!$AN$5, $L$13<>\"Category 2\",$AH$13<>\"Y\"))),'Engine Family #18'!$FP$36,\"\")","v":""},"",{"$nulls":5},{"$f":"IF(OR($L$13<>\"Category 3\",'Engine Family #18'!N$12=\"\"),0,'Engine Family #18'!N$12)","v":0},{"$f":"'Engine Family #18'!N$16","v":0},{"$f":"ROUND('Engine Family #18'!$FO$36,0)","v":0},0,{"$f":"IF(AND($L$13=$V$73,'Engine Family #18'!$G$24='Engine Family #18'!$AN$6),IF($N94=\"Y\",'Engine Family #18'!$FO$36,\"\"),\"\")","v":""},{"$f":"IF('Engine Family #18'!$G$24='Engine Family #18'!$AN$5, 'Engine Family #18'!N$12,0)","v":0},{"$f":"IF('Engine Family #18'!$G$24='Engine Family #18'!$AN$6,IF($N94=\"Y\",'Engine Family #18'!$FO$36,\"\"),\"\")","v":""},{"$nulls":3},{"$f":"IF(OR('Engine Family #18'!$N$12>=100,,'Engine Family #18'!$N$18=\"N\",'Engine Family #18'!$N$16<>\"N\"),'Engine Family #18'!$N$12,0)","v":0}]
[null,"Req. efam  19",{"$f":"IF($N95=\"Y\",'Engine Family #19'!$FO$36,\"\")","v":""},"Val tests efam 19",{"$f":"IF(AND($N95=\"Y\",OR('Engine Family #19'!$G$24='Engine Family #19'!$AN$6,AND('Engine Family #19'!$G$24='Engine Family #19'!$AN$5, $L$13<>\"Category 2\",$AH$13<>\"Y\"))),'Engine Family #19'!$FP$36,\"\")","v":""},{"$f":"IF(AND($N95=\"Y\",OR('Engine Family #19'!$G$24<>'Engine Family #19'!$AN$5,AND('Engine Family #19'!$G$24='Engine Family #19'!$AN$5, $L$13<>\"Category 2\",$AH$13<>\"Y\"))),'Engine Family #19'!$FP$36,\"\")","v":""},"",{"$nulls":5},{"$f":"IF(OR($L$13<>\"Category 3\",'Engine Family #19'!N$12=\"\"),0,'Engine Family #19'!N$12)","v":0},{"$f":"'Engine Family #19'!N$16","v":0},{"$f":"ROUND('Engine Family #19'!$FO$36,0)","v":0},0,{"$f":"IF(AND($L$13=$V$73,'Engine Family #19'!$G$24='Engine Family #19'!$AN$6),IF($N95=\"Y\",'Engine Family #19'!$FO$36,\"\"),\"\")","v":""},{"$f":"IF('Engine Family #19'!$G$24='Engine Family #19'!$AN$5, 'Engine Family #19'!N$12,0)","v":0},{"$f":"IF('Engine Family #19'!$G$24='Engine Family #19'!$AN$6,IF($N95=\"Y\",'Engine Family #19'!$FO$36,\"\"),\"\")","v":""},{"$nulls":3},{"$f":"IF(OR('Engine Family #19'!$N$12>=100,,'Engine Family #19'!$N$18=\"N\",'Engine Family #19'!$N$16<>\"N\"),'Engine Family #19'!$N$12,0)","v":0}]
[null,"Req. efam  20",{"$f":"IF($N96=\"Y\",'Engine Family #20'!$FO$36,\"\")","v":""},"Val tests efam 20",{"$f":"IF(AND($N96=\"Y\",OR('Engine Family #20'!$G$24='Engine Family #20'!$AN$6,AND('Engine Family #20'!$G$24='Engine Family #20'!$AN$5, $L$13<>\"Category 2\",$AH$13<>\"Y\"))),'Engine Family #20'!$FP$36,\"\")","v":""},{"$f":"IF(AND($N96=\"Y\",OR('Engine Family #20'!$G$24<>'Engine Family #20'!$AN$5,AND('Engine Family #20'!$G$24='Engine Family #20'!$AN$5, $L$13<>\"Category 2\",$AH$13<>\"Y\"))),'Engine Family #20'!$FP$36,\"\")","v":""},"",{"$nulls":5},{"$f":"IF(OR($L$13<>\"Category 3\",'Engine Family #20'!N$12=\"\"),0,'Engine Family #20'!N$12)","v":0},{"$f":"'Engine Family #20'!N$16","v":0},{"$f":"ROUND('Engine Family #20'!$FO$36,0)","v":0},0,{"$f":"IF(AND($L$13=$V$73,'Engine Family #20'!$G$24='Engine Family #20'!$AN$6),IF($N96=\"Y\",'Engine Family #20'!$FO$36,\"\"),\"\")","v":""},{"$f":"IF('Engine Family #20'!$G$24='Engine Family #20'!$AN$5, 'Engine Family #20'!N$12,0)","v":0},{"$f":"IF('Engine Family #20'!$G$24='Engine Family #20'!$AN$6,IF($N96=\"Y\",'Engine Family #20'!$FO$36,\"\"),\"\")","v":""},{"$nulls":3},{"$f":"IF(OR('Engine Family #20'!$N$12>=100,,'Engine Family #20'!$N$18=\"N\",'Engine Family #20'!$N$16<>\"N\"),'Engine Family #20'!$N$12,0)","v":0}]
[null,"Req. efam  21",{"$f":"IF($N97=\"Y\",'Engine Family #21'!$FO$36,\"\")","v":""},"Val tests efam 21",{"$f":"IF(AND($N97=\"Y\",OR('Engine Family #21'!$G$24='Engine Family #21'!$AN$6,AND('Engine Family #21'!$G$24='Engine Family #21'!$AN$5, $L$13<>\"Category 2\",$AH$13<>\"Y\"))),'Engine Family #21'!$FP$36,\"\")","v":""},{"$f":"IF(AND($N97=\"Y\",OR('Engine Family #21'!$G$24<>'Engine Family #21'!$AN$5,AND('Engine Family #21'!$G$24='Engine Family #21'!$AN$5, $L$13<>\"Category 2\",$AH$13<>\"Y\"))),'Engine Family #21'!$FP$36,\"\")","v":""},"",{"$nulls":5},{"$f":"IF(OR($L$13<>\"Category 3\",'Engine Family #21'!N$12=\"\"),0,'Engine Family #21'!N$12)","v":0},{"$f":"'Engine Family #21'!N$16","v":0},{"$f":"ROUND('Engine Family #21'!$FO$36,0)","v":0},0,{"$f":"IF(AND($L$13=$V$73,'Engine Family #21'!$G$24='Engine Family #21'!$AN$6),IF($N97=\"Y\",'Engine Family #21'!$FO$36,\"\"),\"\")","v":""},{"$f":"IF('Engine Family #21'!$G$24='Engine Family #21'!$AN$5, 'Engine Family #21'!N$12,0)","v":0},{"$f":"IF('Engine Family #21'!$G$24='Engine Family #21'!$AN$6,IF($N97=\"Y\",'Engine Family #21'!$FO$36,\"\"),\"\")","v":""},{"$nulls":3},{"$f":"IF(OR('Engine Family #21'!$N$12>=100,,'Engine Family #21'!$N$18=\"N\",'Engine Family #21'!$N$16<>\"N\"),'Engine Family #21'!$N$12,0)","v":0}]
[null,"Req. efam  22",{"$f":"IF($N98=\"Y\",'Engine Family #22'!$FO$36,\"\")","v":""},"Val tests efam 22",{"$f":"IF(AND($N98=\"Y\",OR('Engine Family #22'!$G$24='Engine Family #22'!$AN$6,AND('Engine Family #22'!$G$24='Engine Family #22'!$AN$5, $L$13<>\"Category 2\",$AH$13<>\"Y\"))),'Engine Family #22'!$FP$36,\"\")","v":""},{"$f":"IF(AND($N98=\"Y\",OR('Engine Family #22'!$G$24<>'Engine Family #22'!$AN$5,AND('Engine Family #22'!$G$24='Engine Family #22'!$AN$5, $L$13<>\"Category 2\",$AH$13<>\"Y\"))),'Engine Family #22'!$FP$36,\"\")","v":""},"",{"$nulls":5},{"$f":"IF(OR($L$13<>\"Category 3\",'Engine Family #22'!N$12=\"\"),0,'Engine Family #22'!N$12)","v":0},{"$f":"'Engine Family #22'!N$16","v":0},{"$f":"ROUND('Engine Family #22'!$FO$36,0)","v":0},0,{"$f":"IF(AND($L$13=$V$73,'Engine Family #22'!$G$24='Engine Family #22'!$AN$6),IF($N98=\"Y\",'Engine Family #22'!$FO$36,\"\"),\"\")","v":""},{"$f":"IF('Engine Family #22'!$G$24='Engine Family #22'!$AN$5, 'Engine Family #22'!N$12,0)","v":0},{"$f":"IF('Engine Family #22'!$G$24='Engine Family #22'!$AN$6,IF($N98=\"Y\",'Engine Family #22'!$FO$36,\"\"),\"\")","v":""},{"$nulls":3},{"$f":"IF(OR('Engine Family #22'!$N$12>=100,,'Engine Family #22'!$N$18=\"N\",'Engine Family #22'!$N$16<>\"N\"),'Engine Family #22'!$N$12,0)","v":0}]
[null,"Req. efam  23",{"$f":"IF($N99=\"Y\",'Engine Family #23'!$FO$36,\"\")","v":""},"Val tests efam 23",{"$f":"IF(AND($N99=\"Y\",OR('Engine Family #23'!$G$24='Engine Family #23'!$AN$6,AND('Engine Family #23'!$G$24='Engine Family #23'!$AN$5, $L$13<>\"Category 2\",$AH$13<>\"Y\"))),'Engine Family #23'!$FP$36,\"\")","v":""},{"$f":"IF(AND($N99=\"Y\",OR('Engine Family #23'!$G$24<>'Engine Family #23'!$AN$5,AND('Engine Family #23'!$G$24='Engine Family #23'!$AN$5, $L$13<>\"Category 2\",$AH$13<>\"Y\"))),'Engine Family #23'!$FP$36,\"\")","v":""},"",{"$nulls":5},{"$f":"IF(OR($L$13<>\"Category 3\",'Engine Family #23'!N$12=\"\"),0,'Engine Family #23'!N$12)","v":0},{"$f":"'Engine Family #23'!N$16","v":0},{"$f":"ROUND('Engine Family #23'!$FO$36,0)","v":0},0,{"$f":"IF(AND($L$13=$V$73,'Engine Family #23'!$G$24='Engine Family #23'!$AN$6),IF($N99=\"Y\",'Engine Family #23'!$FO$36,\"\"),\"\")","v":""},{"$f":"IF('Engine Family #23'!$G$24='Engine Family #23'!$AN$5, 'Engine Family #23'!N$12,0)","v":0},{"$f":"IF('Engine Family #23'!$G$24='Engine Family #23'!$AN$6,IF($N99=\"Y\",'Engine Family #23'!$FO$36,\"\"),\"\")","v":""},{"$nulls":3},{"$f":"IF(OR('Engine Family #23'!$N$12>=100,,'Engine Family #23'!$N$18=\"N\",'Engine Family #23'!$N$16<>\"N\"),'Engine Family #23'!$N$12,0)","v":0}]
[null,"Req. efam  24",{"$f":"IF($N100=\"Y\",'Engine Family #24'!$FO$36,\"\")","v":""},"Val tests efam 24",{"$f":"IF(AND($N100=\"Y\",OR('Engine Family #24'!$G$24='Engine Family #24'!$AN$6,AND('Engine Family #24'!$G$24='Engine Family #24'!$AN$5, $L$13<>\"Category 2\",$AH$13<>\"Y\"))),'Engine Family #24'!$FP$36,\"\")","v":""},{"$f":"IF(AND($N100=\"Y\",OR('Engine Family #24'!$G$24<>'Engine Family #24'!$AN$5,AND('Engine Family #24'!$G$24='Engine Family #24'!$AN$5, $L$13<>\"Category 2\",$AH$13<>\"Y\"))),'Engine Family #24'!$FP$36,\"\")","v":""},"",{"$nulls":5},{"$f":"IF(OR($L$13<>\"Category 3\",'Engine Family #24'!N$12=\"\"),0,'Engine Family #24'!N$12)","v":0},{"$f":"'Engine Family #24'!N$16","v":0},{"$f":"ROUND('Engine Family #24'!$FO$36,0)","v":0},0,{"$f":"IF(AND($L$13=$V$73,'Engine Family #24'!$G$24='Engine Family #24'!$AN$6),IF($N100=\"Y\",'Engine Family #24'!$FO$36,\"\"),\"\")","v":""},{"$f":"IF('Engine Family #24'!$G$24='Engine Family #24'!$AN$5, 'Engine Family #24'!N$12,0)","v":0},{"$f":"IF('Engine Family #24'!$G$24='Engine Family #24'!$AN$6,IF($N100=\"Y\",'Engine Family #24'!$FO$36,\"\"),\"\")","v":""},{"$nulls":3},{"$f":"IF(OR('Engine Family #24'!$N$12>=100,,'Engine Family #24'!$N$18=\"N\",'Engine Family #24'!$N$16<>\"N\"),'Engine Family #24'!$N$12,0)","v":0}]
[null,"Req. efam  25",{"$f":"IF($N101=\"Y\",'Engine Family #25'!$FO$36,\"\")","v":""},"Val tests efam 25",{"$f":"IF(AND($N101=\"Y\",OR('Engine Family #25'!$G$24='Engine Family #25'!$AN$6,AND('Engine Family #25'!$G$24='Engine Family #25'!$AN$5, $L$13<>\"Category 2\",$AH$13<>\"Y\"))),'Engine Family #25'!$FP$36,\"\")","v":""},{"$f":"IF(AND($N101=\"Y\",OR('Engine Family #25'!$G$24<>'Engine Family #25'!$AN$5,AND('Engine Family #25'!$G$24='Engine Family #25'!$AN$5, $L$13<>\"Category 2\",$AH$13<>\"Y\"))),'Engine Family #25'!$FP$36,\"\")","v":""},"",{"$nulls":5},{"$f":"IF(OR($L$13<>\"Category 3\",'Engine Family #25'!N$12=\"\"),0,'Engine Family #25'!N$12)","v":0},{"$f":"'Engine Family #25'!N$16","v":0},{"$f":"ROUND('Engine Family #25'!$FO$36,0)","v":0},0,{"$f":"IF(AND($L$13=$V$73,'Engine Family #25'!$G$24='Engine Family #25'!$AN$6),IF($N101=\"Y\",'Engine Family #25'!$FO$36,\"\"),\"\")","v":""},{"$f":"IF('Engine Family #25'!$G$24='Engine Family #25'!$AN$5, 'Engine Family #25'!N$12,0)","v":0},{"$f":"IF('Engine Family #25'!$G$24='Engine Family #25'!$AN$6,IF($N101=\"Y\",'Engine Family #25'!$FO$36,\"\"),\"\")","v":""},{"$nulls":3},{"$f":"IF(OR('Engine Family #25'!$N$12>=100,,'Engine Family #25'!$N$18=\"N\",'Engine Family #25'!$N$16<>\"N\"),'Engine Family #25'!$N$12,0)","v":0}]
[null,"Req. efam  26",{"$f":"IF($N102=\"Y\",'Engine Family #26'!$FO$36,\"\")","v":""},"Val tests efam 26",{"$f":"IF(AND($N102=\"Y\",OR('Engine Family #26'!$G$24='Engine Family #26'!$AN$6,AND('Engine Family #26'!$G$24='Engine Family #26'!$AN$5, $L$13<>\"Category 2\",$AH$13<>\"Y\"))),'Engine Family #26'!$FP$36,\"\")","v":""},{"$f":"IF(AND($N102=\"Y\",OR('Engine Family #26'!$G$24<>'Engine Family #26'!$AN$5,AND('Engine Family #26'!$G$24='Engine Family #26'!$AN$5, $L$13<>\"Category 2\",$AH$13<>\"Y\"))),'Engine Family #26'!$FP$36,\"\")","v":""},"",{"$nulls":5},{"$f":"IF(OR($L$13<>\"Category 3\",'Engine Family #26'!N$12=\"\"),0,'Engine Family #26'!N$12)","v":0},{"$f":"'Engine Family #26'!N$16","v":0},{"$f":"ROUND('Engine Family #26'!$FO$36,0)","v":0},0,{"$f":"IF(AND($L$13=$V$73,'Engine Family #26'!$G$24='Engine Family #26'!$AN$6),IF($N102=\"Y\",'Engine Family #26'!$FO$36,\"\"),\"\")","v":""},{"$f":"IF('Engine Family #26'!$G$24='Engine Family #26'!$AN$5, 'Engine Family #26'!N$12,0)","v":0},{"$f":"IF('Engine Family #26'!$G$24='Engine Family #26'!$AN$6,IF($N102=\"Y\",'Engine Family #26'!$FO$36,\"\"),\"\")","v":""},{"$nulls":3},{"$f":"IF(OR('Engine Family #26'!$N$12>=100,,'Engine Family #26'!$N$18=\"N\",'Engine Family #26'!$N$16<>\"N\"),'Engine Family #26'!$N$12,0)","v":0}]
[null,"Req. efam  27",{"$f":"IF($N103=\"Y\",'Engine Family #27'!$FO$36,\"\")","v":""},"Val tests efam 27",{"$f":"IF(AND($N103=\"Y\",OR('Engine Family #27'!$G$24='Engine Family #27'!$AN$6,AND('Engine Family #27'!$G$24='Engine Family #27'!$AN$5, $L$13<>\"Category 2\",$AH$13<>\"Y\"))),'Engine Family #27'!$FP$36,\"\")","v":""},{"$f":"IF(AND($N103=\"Y\",OR('Engine Family #27'!$G$24<>'Engine Family #27'!$AN$5,AND('Engine Family #27'!$G$24='Engine Family #27'!$AN$5, $L$13<>\"Category 2\",$AH$13<>\"Y\"))),'Engine Family #27'!$FP$36,\"\")","v":""},"",{"$nulls":5},{"$f":"IF(OR($L$13<>\"Category 3\",'Engine Family #27'!N$12=\"\"),0,'Engine Family #27'!N$12)","v":0},{"$f":"'Engine Family #27'!N$16","v":0},{"$f":"ROUND('Engine Family #27'!$FO$36,0)","v":0},0,{"$f":"IF(AND($L$13=$V$73,'Engine Family #27'!$G$24='Engine Family #27'!$AN$6),IF($N103=\"Y\",'Engine Family #27'!$FO$36,\"\"),\"\")","v":""},{"$f":"IF('Engine Family #27'!$G$24='Engine Family #27'!$AN$5, 'Engine Family #27'!N$12,0)","v":0},{"$f":"IF('Engine Family #27'!$G$24='Engine Family #27'!$AN$6,IF($N103=\"Y\",'Engine Family #27'!$FO$36,\"\"),\"\")","v":""},{"$nulls":3},{"$f":"IF(OR('Engine Family #27'!$N$12>=100,,'Engine Family #27'!$N$18=\"N\",'Engine Family #27'!$N$16<>\"N\"),'Engine Family #27'!$N$12,0)","v":0}]
[null,"Req. efam  28",{"$f":"IF($N104=\"Y\",'Engine Family #28'!$FO$36,\"\")","v":""},"Val tests efam 28",{"$f":"IF(AND($N104=\"Y\",OR('Engine Family #28'!$G$24='Engine Family #28'!$AN$6,AND('Engine Family #28'!$G$24='Engine Family #28'!$AN$5, $L$13<>\"Category 2\",$AH$13<>\"Y\"))),'Engine Family #28'!$FP$36,\"\")","v":""},{"$f":"IF(AND($N104=\"Y\",OR('Engine Family #28'!$G$24<>'Engine Family #28'!$AN$5,AND('Engine Family #28'!$G$24='Engine Family #28'!$AN$5, $L$13<>\"Category 2\",$AH$13<>\"Y\"))),'Engine Family #28'!$FP$36,\"\")","v":""},"",{"$nulls":5},{"$f":"IF(OR($L$13<>\"Category 3\",'Engine Family #28'!N$12=\"\"),0,'Engine Family #28'!N$12)","v":0},{"$f":"'Engine Family #28'!N$16","v":0},{"$f":"ROUND('Engine Family #28'!$FO$36,0)","v":0},0,{"$f":"IF(AND($L$13=$V$73,'Engine Family #28'!$G$24='Engine Family #28'!$AN$6),IF($N104=\"Y\",'Engine Family #28'!$FO$36,\"\"),\"\")","v":""},{"$f":"IF('Engine Family #28'!$G$24='Engine Family #28'!$AN$5, 'Engine Family #28'!N$12,0)","v":0},{"$f":"IF('Engine Family #28'!$G$24='Engine Family #28'!$AN$6,IF($N104=\"Y\",'Engine Family #28'!$FO$36,\"\"),\"\")","v":""},{"$nulls":3},{"$f":"IF(OR('Engine Family #28'!$N$12>=100,,'Engine Family #28'!$N$18=\"N\",'Engine Family #28'!$N$16<>\"N\"),'Engine Family #28'!$N$12,0)","v":0}]
[null,"Req. efam  29",{"$f":"IF($N105=\"Y\",'Engine Family #29'!$FO$36,\"\")","v":""},"Val tests efam 29",{"$f":"IF(AND($N105=\"Y\",OR('Engine Family #29'!$G$24='Engine Family #29'!$AN$6,AND('Engine Family #29'!$G$24='Engine Family #29'!$AN$5, $L$13<>\"Category 2\",$AH$13<>\"Y\"))),'Engine Family #29'!$FP$36,\"\")","v":""},{"$f":"IF(AND($N105=\"Y\",OR('Engine Family #29'!$G$24<>'Engine Family #29'!$AN$5,AND('Engine Family #29'!$G$24='Engine Family #29'!$AN$5, $L$13<>\"Category 2\",$AH$13<>\"Y\"))),'Engine Family #29'!$FP$36,\"\")","v":""},"",{"$nulls":5},{"$f":"IF(OR($L$13<>\"Category 3\",'Engine Family #29'!N$12=\"\"),0,'Engine Family #29'!N$12)","v":0},{"$f":"'Engine Family #29'!N$16","v":0},{"$f":"ROUND('Engine Family #29'!$FO$36,0)","v":0},0,{"$f":"IF(AND($L$13=$V$73,'Engine Family #29'!$G$24='Engine Family #29'!$AN$6),IF($N105=\"Y\",'Engine Family #29'!$FO$36,\"\"),\"\")","v":""},{"$f":"IF('Engine Family #29'!$G$24='Engine Family #29'!$AN$5, 'Engine Family #29'!N$12,0)","v":0},{"$f":"IF('Engine Family #29'!$G$24='Engine Family #29'!$AN$6,IF($N105=\"Y\",'Engine Family #29'!$FO$36,\"\"),\"\")","v":""},{"$nulls":3},{"$f":"IF(OR('Engine Family #29'!$N$12>=100,,'Engine Family #29'!$N$18=\"N\",'Engine Family #29'!$N$16<>\"N\"),'Engine Family #29'!$N$12,0)","v":0}]
[null,"Req. efam  30",{"$f":"IF($N106=\"Y\",'Engine Family #30'!$FO$36,\"\")","v":""},"Val tests efam 30",{"$f":"IF(AND($N106=\"Y\",OR('Engine Family #30'!$G$24='Engine Family #30'!$AN$6,AND('Engine Family #30'!$G$24='Engine Family #30'!$AN$5, $L$13<>\"Category 2\",$AH$13<>\"Y\"))),'Engine Family #30'!$FP$36,\"\")","v":""},{"$f":"IF(AND($N106=\"Y\",OR('Engine Family #30'!$G$24<>'Engine Family #30'!$AN$5,AND('Engine Family #30'!$G$24='Engine Family #30'!$AN$5, $L$13<>\"Category 2\",$AH$13<>\"Y\"))),'Engine Family #30'!$FP$36,\"\")","v":""},{"$f":"IF(AND(O106<>\"\",N106=\"Y\"),IF(E106<O106,\"OPEN\",\"PASS\"),\"\")","v":""},{"$nulls":5},{"$f":"IF(OR($L$13<>\"Category 3\",'Engine Family #30'!N$12=\"\"),0,'Engine Family #30'!N$12)","v":0},{"$f":"'Engine Family #30'!N$16","v":0},{"$f":"ROUND('Engine Family #30'!$FO$36,0)","v":0},0,{"$f":"IF(AND($L$13=$V$73,'Engine Family #30'!$G$24='Engine Family #30'!$AN$6),IF($N106=\"Y\",'Engine Family #30'!$FO$36,\"\"),\"\")","v":""},{"$f":"IF('Engine Family #30'!$G$24='Engine Family #30'!$AN$5, 'Engine Family #30'!N$12,0)","v":0},{"$f":"IF('Engine Family #30'!$G$24='Engine Family #30'!$AN$6,IF($N106=\"Y\",'Engine Family #30'!$FO$36,\"\"),\"\")","v":""},{"$nulls":3},{"$f":"IF(OR('Engine Family #30'!$N$12>=100,,'Engine Family #30'!$N$18=\"N\",'Engine Family #30'!$N$16<>\"N\"),'Engine Family #30'!$N$12,0)","v":0}]
[null,null,{"$f":"'Engine Family #1'!$FO$36","v":0}]
[null,"total required",{"$f":"IF(SUM(C77:C106)>0,SUM(C77:C106),\"\")","v":""},"total valid",{"$f":"SUM(E77:E106)","v":0},null,"total invalid",{"$f":"'Invalid Tests'!$X$26","v":0},null,"extra tests ",{"$f":"SUM(G77:G106)","v":0},{"$nulls":3},"total complete",{"$f":"SUM($P77:$P106)","v":0}]

{"sheet":"Engine Family #1","index":3,"n_rows":88,"n_cols":176,"rows_kept":88,"merged":[[1,0,1,35],[2,0,2,35],[3,0,3,35],[4,0,4,35],[5,0,5,35],[6,0,6,35],[8,0,8,16],[10,4,10,6],[10,12,10,13],[11,4,11,6],[11,15,11,16],[11,19,11,20],[11,23,11,24],[11,27,11,28],[12,4,12,6],[13,4,13,6],[14,4,15,6],[17,14,22,14],[27,4,30,13],[27,15,28,16],[32,0,32,16],[32,17,32,33],[32,34,32,35],[33,45,34,45]]}
[]
["United States"]
["US Environmental Protection Agency"]
["Office of Air and Radiation, Office of Transportation and Air Quality"]
[{"$nulls":37},"Tier 2","Y",94]
["Manufacturer Production Line Testing Report for Marine Compression Ignition Engines",{"$nulls":36},"Tier 3","N",1042]
[{"$f":"Summary!B7","v":"Version Number: 1.4 DRAFT  Last Revision: September 2023"},{"$nulls":36},"Tier 4",null,"N/A"]
[]
["Basic Information: Engine Family #1"]
[{"$nulls":167},{"$f":"IF(AND($G$24=94,Summary!$L$13=\"Category 1\"),0,1)","v":1}]
[null,null,"Manufacturer:",null,{"$f":"IF(Summary!D12<>\"\",Summary!D12,\"\")","v":""},{"$nulls":3},"Engine Family:",{"$nulls":31},{"$f":"IF($G$19=\"Diesel\",\"'HC' refers to 'THC' \",IF($G$19=\"Natural Gas\",\"'HC' refers to 'NMHC' \",IF($G$19=\"Alcohol\",\"'HC' refers to 'THCE' \",\"\")))","v":""}]
[null,null,"PLT Test Contact:",null,{"$f":"IF(Summary!D13<>\"\",Summary!D13,\"\")","v":""},{"$nulls":3},"Production (Category 3 only):",{"$nulls":6},{"$f":"IF(N16<>\"Y\", \"Current CO Result\", \"Final CO Result\")","v":"Current CO Result"},null,{"$f":"$CJ$36","v":""},null,{"$f":"IF(N16<>\"Y\", \"Current PM Result\", \"Final PM Result\")","v":"Current PM Result"},null,{"$f":"$DJ$36","v":""},null,{"$f":"IF($AF$12=\"Y\",IF(N16<>\"Y\", \"Current NOx+HC Result\", \"Final NOx+HC Result\"),IF(N16<>\"Y\", \"Current HC Result\", \"Final HC Result\"))","v":"Current HC Result"},null,{"$f":"IF($AF$12=\"Y\",IF($FP$36>0,ROUND($EJ$36+$FJ$36,2),\"\"),$EJ$36)","v":""},null,{"$f":"IF(N16<>\"Y\", \"Current NOx Result\",\"Final NOx Result\")","v":"Current NOx Result"},null,{"$f":"$FJ$36","v":""},null,{"$f":"IF($L$13<>\"Category 3\",IF($G$23=\"\",\"N\",$G$23),\"N\")","v":"N"},{"$f":"IF(Summary!$L$13=\"Category 3\",\"CAT3\",\"\")","v":""}]
[null,null,"Email Address:",null,{"$f":"IF(Summary!D14<>\"\",Summary!D14,\"\")","v":""},{"$nulls":3},"Date of Start of Model Year Production:"]
[null,null,"Phone #:",null,{"$f":"IF(Summary!D15<>\"\",Summary!D15,\"\")","v":""},{"$nulls":3},"Date of End of Model Year Production:",{"$nulls":14},{"$f":"IF($G$19=\"Diesel\",\"'HC' refers to 'THC' \",IF($G$19=\"Natural Gas\",\"'HC' refers to 'NMHC' \",IF($G$19=\"Alcohol\",\"'HC' refers to 'THCE' \",\"\")))","v":""},{"$nulls":13},"Diesel",1,{"$nulls":6},1]
[null,null,"Test Location & Description:",{"$nulls":5},"Deterioration Factor Type:",{"$nulls":28},"Natural Gas",2,{"$nulls":6},2]
[{"$nulls":8},"Include Results from this Engine Family on Summary Sheet?",{"$nulls":6},"CO Standard ",{"$nulls":3},"PM Standard or FEL",{"$nulls":3},{"$f":"IF($AF$12=\"Y\",\"NOx+HC Standard or FEL\",\"HC Standard\")","v":"HC Standard"},{"$nulls":3},"NOx Standard or FEL",{"$nulls":9},"Alcohol",3,{"$nulls":6},3]
[null,null,"Carryover?:",{"$nulls":5},"Required Tests (including failure follow-ups)",{"$nulls":4},{"$f":"$FO36","v":0},null,"Units",null,"g/kW-hr",null,"Units",null,"g/kW-hr",null,"Units",null,"g/kW-hr",null,"Units",null,"g/kW-hr",{"$nulls":4},"Test Cycle Options",{"$nulls":10},4]
[null,null,{"$f":"IF($G$17=\"Y\",\"Please submit supporting documentation indicating that this is a carry-over engine family\",\"\")","v":""},{"$nulls":5},"Instead of testing, are PLT requirements for this Engine Family",{"$nulls":6},"CO  Det Factor",{"$nulls":3},"PM  Det Factor",{"$nulls":3},"HC Det Factor",{"$nulls":3},"NOx  Det Factor",{"$nulls":6},"1 = 4-Mode General Cycle (E3)",null,null,"Recreational"]
[null,null,"Fuel Type:",{"$nulls":5}," fulfilled under the following (Category 1 only)?",{"$nulls":6},"Det Factor Type",null,{"$f":"IF($N$15<>\"\",$N$15,\"\")","v":""},null,"Det Factor Type",null,{"$f":"IF($N$15<>\"\",$N$15,\"\")","v":""},null,"Det Factor Type",null,{"$f":"IF($N$15<>\"\",$N$15,\"\")","v":""},null,"Det Factor Type",null,{"$f":"IF($N$15<>\"\",$N$15,\"\")","v":""},{"$nulls":4},"2 = 5-Mode Recreational Cycle (E5)",null,null,"Commercial"]
[null,null,"Recreational/Commercial:",{"$nulls":5},"Please elaborate in the comments section.",{"$nulls":6},"CO Green Engine Factor",{"$nulls":3},"PM Green Engine Factor",{"$nulls":3},"HC Green Engine Factor",{"$nulls":3},"NOx Green Engine Factor",{"$nulls":6},"3 = 4-Mode Constant Speed Propulsion Cycle (E2)"]
[null,null,"Model Year:",{"$nulls":5},"    -1042.310(a) - EPA approved combining it, for PLT purposes only.",{"$nulls":25},"4 = 5-Mode Constant Speed Auxiliary Cycle (D2)"]
[null,null,"Tier:",{"$nulls":31},"5 = 6-Mode Variable Speed Auxiliary Cycle (G2)",null,null,"1 (E3)"]
[null,null,"Combined NOx+HC?",{"$nulls":31},"6 = 8-Mode Variable Speed Ausiliary Cycle (C1)",null,null,"2 (E5)"]
[null,null,"40 CFR Part:",{"$nulls":3},{"$f":"AN6","v":1042},null,"Additional testing required by EPA [40 CFR 1042.301(e)]? ",{"$nulls":25},"O = Other",null,null,"3 (E2)"]
[{"$nulls":37},"4 (D2)"]
[{"$nulls":37},"5 (G2)",{"$nulls":132},"deleted and redirected"]
[{"$nulls":22}," ",{"$nulls":14},"6 (C1)",4,{"$nulls":6},4]
[null,null,"Comments:",{"$nulls":34},"O (other)"]
[{"$nulls":22}," ",{"$nulls":22},"additive"]
[{"$nulls":45},"multiplicative",{"$nulls":22},"CO Rounding",{"$nulls":4},"CO Rounding",{"$nulls":4},"CO Rounding",{"$nulls":4},"CO Rounding",{"$nulls":10},"PM Rounding",{"$nulls":4},"PM Rounding",{"$nulls":4},"PM Rounding",{"$nulls":4},"PM Rounding",{"$nulls":10},"HC Rounding",{"$nulls":4},"HC Rounding",{"$nulls":4},"HC Rounding",{"$nulls":4},"HC Rounding",{"$nulls":10},"NOx Rounding",{"$nulls":4},"NOx Rounding",{"$nulls":4},"NOx Rounding",{"$nulls":4},"NOx Rounding"]
[{"$nulls":22}," ",{"$nulls":45},"initial",{"$nulls":4},"final",{"$nulls":4}," det final",{"$nulls":4},"ave of all final",{"$nulls":10},"initial",{"$nulls":4},"final",{"$nulls":4}," det final",{"$nulls":4},"ave of all final",{"$nulls":10},"initial",{"$nulls":4},"final",{"$nulls":4}," det final",{"$nulls":4},"ave of all final",{"$nulls":10},"initial",{"$nulls":4},"final",{"$nulls":4}," det final",{"$nulls":4},"ave of all final"]
[{"$nulls":38},"Y",{"$nulls":6},"Y"]
["PLT Engine Test Results: Engine Family #1",{"$nulls":37},"N",{"$nulls":6},"N",{"$nulls":124},"This is N17"]
[{"$nulls":36},"CO",null,"PM",null,null,"HC or HC+NOX",null,"Nox",null,"Engine Data Complete?",{"$nulls":11},"HC","HC","HC","HC","Nox","Nox","Nox","Nox",{"$nulls":107},"1% of production or pre-approved reduced sample size - whichever is Lower # "]
[null,"Calc Final Result?","Test Number","Test Date","Test Time","Test Qtr","Engine ID","Engine Make","Engine Configuration","Build Date","Green Engine Factor Applied?","Green Engine Factor Determination Method","Service Hours (or miles) Accumulation","Service Hours Location","Service Acc. Procedure","CO Initial Result ","Rounded CO Initial Result ","CO Final Result ","Det. CO Final Result ","PM Initial Result ","Rounded PM Initial Result ","PM Final Result ","Det. PM Final Result ","HC Initial Result ","Rounded HC Initial Result ","HC Final Result ","Det. HC Final Result ","NOx Initial Result ","Rounded NOx Initial Result ","NOx Final Result ","Det. NOx Final Result ","Reason for Failed Test (if applicable)","Remedy","Repairs","Test Cycle","Comments",0,0,0,0,0,0,0,0,{"$nulls":5},"Unrounded initial CO","Unrounded final CO","Det CO","Final CO","Unrounded initial PM","Unrounded final PM","Det PM","Final PM","Unrounded initial HCNOx","Unrounded final HCNOx","Det HCNOx","Final HCNOX","Unrounded initial NOx","Unrounded final NOx","Det NOx","Final HCNOX",{"$nulls":7},"rounded",{"$nulls":4},"rounded",{"$nulls":4},"rounded",{"$nulls":4},"rounded",{"$nulls":10},"rounded",{"$nulls":4},"rounded",{"$nulls":4},"rounded",{"$nulls":4},"rounded",{"$nulls":10},"rounded",{"$nulls":4},"rounded",{"$nulls":4},"rounded",{"$nulls":4},"rounded","ROUNDED AND ACCOUNT FOR BLANK",{"$nulls":9},"rounded",{"$nulls":4},"rounded",{"$nulls":4},"rounded",{"$nulls":4},"rounded","ROUNDED AND ACCOUNT FOR BLANK","Test complete Flag","Total complete","Fail Flag","req","val","baseline req","req due to fails","sum fails","baseline req"]
[1,{"$nulls":4},"N/A",{"$nulls":10},{"$f":"$BU36","v":""},{"$f":"$BZ36","v":""},{"$f":"$CE36","v":""},null,{"$f":"$CU36","v":""},{"$f":"$CZ36","v":""},{"$f":"$DE36","v":""},null,{"$f":"$DU36","v":""},{"$f":"$DZ36","v":""},{"$f":"$EE36","v":""},null,{"$f":"$EU36","v":""},{"$f":"$EZ36","v":""},{"$f":"$FE36","v":""},{"$nulls":5},{"$f":"IF($B36=\"N\",IF(AND($AK35<>\"\",$Q36<>\"\"),$AK35+$Q36,\"\"),IF($B36=\"Y\",0,\"\"))","v":""},{"$f":"IF($B36=\"N\",AL35+1,IF($B36=\"Y\",0,\"\"))","v":""},{"$f":"IF($B36=\"N\",IF(AND($AM35<>\"\",$U36<>\"\"),$AM35+$U36,\"\"),IF($B36=\"Y\",0,\"\"))","v":""},{"$f":"IF($B36=\"N\",AN35+1,IF($B36=\"Y\",0,\"\"))","v":""},{"$f":"IF($B36=\"N\",IF(AND($AO35<>\"\",$Y36<>\"\"),$AO35+$Y36,\"\"),IF($B36=\"Y\",0,\"\"))","v":""},{"$f":"IF($B36=\"N\",AP35+1,IF($B36=\"Y\",0,\"\"))","v":""},{"$f":"IF($B36=\"N\",IF(AND($AQ35<>\"\",$AC36<>\"\"),$AQ35+$AC36,\"\"),IF($B36=\"Y\",0,\"\"))","v":""},{"$f":"IF($B36=\"N\",AR35+1,IF($B36=\"Y\",0,\"\"))","v":""},null,{"$f":"IF(AND(B36<>\"\",C36<>\"\",D36<>\"\",E36<>\"\",G36<>\"\",H36<>\"\",I36<>\"\",J36<>\"\",K36<>\"\",M36<>\"\",N36<>\"\",O36<>\"\"),1,0)","v":0},{"$nulls":3},{"$f":"IF(AND($P36<>\"\",$AT36=1),$P36,\"\")","v":""},{"$f":"IF($B36=\"Y\",IF(AND($Q36<>\"\",$AK35<>\"\",$AL35<>\"\"),($Q36+$AK35)/($AL35+1),\"\"),\"\")","v":""},{"$f":"IF(AND($B36=\"Y\",$R36<>\"\",$R$18<>\"\"),IF($R$19=\"additive\",$R36+$R$18,IF($R$19=\"multiplicative\",$R36*$R$18,\"\")),\"\")","v":""},{"$f":"IF(COUNT($S$36:$S$85)>0,AVERAGE($S$36:$S$85),\"\")","v":""},{"$f":"IF(AND($T36<>\"\",$AT36=1),$T36,\"\")","v":""},{"$f":"IF($B36=\"Y\",IF(AND($U36<>\"\",$AM35<>\"\",$AN35<>\"\"),($U36+$AM35)/($AN35+1),\"\"),\"\")","v":""},{"$f":"IF(AND($B36=\"Y\",$V36<>\"\",$V$18<>\"\"),IF($V$19=\"additive\",$V36+$V$18,IF($V$19=\"multiplicative\",$V36*$V$18,\"\")),\"\")","v":""},{"$f":"IF(COUNT($W$36:$W$85)>0,AVERAGE($W$36:$W$85),\"\")","v":""},{"$f":"IF(AND($X36<>\"\",$AT36=1),$X36,\"\")","v":""},{"$f":"IF($B36=\"Y\",IF(AND($Y36<>\"\",$AO35<>\"\",$AP35<>\"\"),($Y36+$AO35)/($AP35+1),\"\"),\"\")","v":""},{"$f":"IF(AND($B36=\"Y\",$Z36<>\"\",$Z$18<>\"\"),IF($Z$19=\"additive\",$Z36+$Z$18,IF($Z$19=\"multiplicative\",$Z36*$Z$18,\"\")),\"\")","v":""},{"$f":"IF(COUNT($AA$36:$AA$85)>0,AVERAGE($AA$36:$AA$85),\"\")","v":""},{"$f":"IF(AND($AB36<>\"\",$AT36=1),$AB36,\"\")","v":""},{"$f":"IF($B36=\"Y\",IF(AND($AC36<>\"\",$AQ35<>\"\",$AR35<>\"\"),($AC36+$AQ35)/($AR35+1),\"\"),\"\")","v":""},{"$f":"IF(AND($B36=\"Y\",$AD36<>\"\",$AD$18<>\"\"),IF($AD$19=\"additive\",$AD36+$AD$18,IF($AD$19=\"multiplicative\",$AD36*$AD$18,\"\")),\"\")","v":""},{"$f":"IF(COUNT($AE$36:$AE$85)>0,AVERAGE($AE$36:$AE$85),\"\")","v":""},{"$nulls":7},{"$f":"IF($AX36<>\"\",ROUND($AX36,2),\"\")","v":""},{"$nulls":4},{"$f":"IF($AY36<>\"\",ROUND($AY36,2),\"\")","v":""},{"$nulls":4},{"$f":"IF($AZ36<>\"\",ROUND($AZ36,2),\"\")","v":""},{"$nulls":4},{"$f":"IF($BA36<>\"\",ROUND($BA36,2),\"\")","v":""},{"$nulls":10},{"$f":"IF($BB36<>\"\",ROUND($BB36,3),\"\")","v":""},{"$nulls":4},{"$f":"IF($BC36<>\"\",ROUND($BC36,3),\"\")","v":""},{"$nulls":4},{"$f":"IF($BD36<>\"\",ROUND($BD36,3),\"\")","v":""},{"$nulls":4},{"$f":"IF($BE36<>\"\",ROUND($BE36,3),\"\")","v":""},{"$nulls":10},{"$f":"IF($BF36<>\"\",ROUND($BF36,3),\"\")","v":""},{"$nulls":4},{"$f":"IF($BG36<>\"\",ROUND($BG36,3),\"\")","v":""},{"$nulls":4},{"$f":"IF($BH36<>\"\",ROUND($BH36,3),\"\")","v":""},{"$nulls":4},{"$f":"IF($BI36<>\"\",ROUND($BI36,3),\"\")","v":""},{"$f":"IF(EJ36=\"\",0,EJ36)","v":0},{"$nulls":9},{"$f":"IF($BJ36<>\"\",ROUND($BJ36,2),\"\")","v":""},{"$nulls":4},{"$f":"IF($BK36<>\"\",ROUND($BK36,2),\"\")","v":""},{"$nulls":4},{"$f":"IF($BL36<>\"\",ROUND($BL36,2),\"\")","v":""},{"$nulls":4},{"$f":"IF($BM36<>\"\",ROUND($BM36,2),\"\")","v":""},{"$f":"IF(FJ36=\"\",0,FJ36)","v":0},{"$f":"IF($AG$12<>\"CAT3\",IF(AND($B36=\"Y\",$S36<>\"\",$W36<>\"\",$AA36<>\"\",$AE36<>\"\"),1,0),IF($AE36<>\"\",1,0))","v":0},{"$f":"SUM($FL$36:$FL36)","v":0},{"$f":"IF($AG$12<>\"CAT3\",IF($FL36=1,IF(OR($S36>$R$16,$W36>$V$16,$AA36>$Z$16,IF($AF$12<>\"Y\",OR($AA36>$Z$16,$AE36>$AD$16),ROUND(($AA36+$AE36),2)>$Z$16)),1,0),0),IF($FL36=1,IF(AND($AE36>$AD$16,$AF$12=\"N\"),1,0),0))","v":0},{"$f":"IF(OR($M$11=\"\",$N$18=\"Y\"),0,IF($AG$12=\"CAT3\",$N$12,($FR$36+1)))","v":0},{"$f":"SUM(FL36:FL85)","v":0},{"$f":"IF(AND($G$17=\"Y\",$N$24<>\"\"),MIN($N$24,$FT$36),$FT$36)","v":0},{"$f":"$FS$36*2","v":0},{"$f":"SUM(FN36:FN85)","v":0},{"$f":"IF($N$12<>\"\",$N$12*0.01,0)","v":0}]
[{"$f":"A36+1","v":2},{"$nulls":4},"N/A",{"$nulls":10},"","","",null,"","","",null,"","","",null,"","","",{"$nulls":5},"",{"$f":"IF($B37=\"N\",AL36+1,IF($B37=\"Y\",0,\"\"))","v":""},"",{"$f":"IF($B37=\"N\",AN36+1,IF($B37=\"Y\",0,\"\"))","v":""},{"$f":"IF($B37=\"N\",IF(AND($AO36<>\"\",$Y37<>\"\"),$AO36+$Y37,\"\"),IF($B37=\"Y\",0,\"\"))","v":""},{"$f":"IF($B37=\"N\",AP36+1,IF($B37=\"Y\",0,\"\"))","v":""},{"$f":"IF($B37=\"N\",IF(AND($AQ36<>\"\",$AC37<>\"\"),$AQ36+$AC37,\"\"),IF($B37=\"Y\",0,\"\"))","v":""},{"$f":"IF($B37=\"N\",AR36+1,IF($B37=\"Y\",0,\"\"))","v":""},null,{"$f":"IF(AND(B37<>\"\",C37<>\"\",D37<>\"\",E37<>\"\",G37<>\"\",H37<>\"\",I37<>\"\",J37<>\"\",K37<>\"\",M37<>\"\",N37<>\"\",O37<>\"\"),1,0)","v":0},{"$nulls":3},"","",{"$f":"IF(AND($B37=\"Y\",$R37<>\"\",$R$18<>\"\"),IF($R$19=\"additive\",$R37+$R$18,IF($R$19=\"multiplicative\",$R37*$R$18,\"\")),\"\")","v":""},null,"","",{"$f":"IF(AND($B37=\"Y\",$V37<>\"\",$V$18<>\"\"),IF($V$19=\"additive\",$V37+$V$18,IF($V$19=\"multiplicative\",$V37*$V$18,\"\")),\"\")","v":""},null,{"$f":"IF(AND($X37<>\"\",$AT37=1),$X37,\"\")","v":""},{"$f":"IF($B37=\"Y\",IF(AND($Y37<>\"\",$AO36<>\"\",$AP36<>\"\"),($Y37+$AO36)/($AP36+1),\"\"),\"\")","v":""},{"$f":"IF(AND($B37=\"Y\",$Z37<>\"\",$Z$18<>\"\"),IF($Z$19=\"additive\",$Z37+$Z$18,IF($Z$19=\"multiplicative\",$Z37*$Z$18,\"\")),\"\")","v":""},null,{"$f":"IF(AND($AB37<>\"\",$AT37=1),$AB37,\"\")","v":""},{"$f":"IF($B37=\"Y\",IF(AND($AC37<>\"\",$AQ36<>\"\",$AR36<>\"\"),($AC37+$AQ36)/($AR36+1),\"\"),\"\")","v":""},{"$f":"IF(AND($B37=\"Y\",$AD37<>\"\",$AD$18<>\"\"),IF($AD$19=\"additive\",$AD37+$AD$18,IF($AD$19=\"multiplicative\",$AD37*$AD$18,\"\")),\"\")","v":""},{"$nulls":8},{"$f":"IF($AX37<>\"\",ROUND($AX37,2),\"\")","v":""},{"$nulls":4},{"$f":"IF($AY37<>\"\",ROUND($AY37,2),\"\")","v":""},{"$nulls":4},{"$f":"IF($AZ37<>\"\",ROUND($AZ37,2),\"\")","v":""},{"$nulls":15},{"$f":"IF($BB37<>\"\",ROUND($BB37,3),\"\")","v":""},{"$nulls":4},{"$f":"IF($BC37<>\"\",ROUND($BC37,3),\"\")","v":""},{"$nulls":4},{"$f":"IF($BD37<>\"\",ROUND($BD37,3),\"\")","v":""},{"$nulls":15},{"$f":"IF($BF37<>\"\",ROUND($BF37,3),\"\")","v":""},{"$nulls":4},{"$f":"IF($BG37<>\"\",ROUND($BG37,3),\"\")","v":""},{"$nulls":4},{"$f":"IF($BH37<>\"\",ROUND($BH37,3),\"\")","v":""},{"$nulls":15},{"$f":"IF($BJ37<>\"\",ROUND($BJ37,2),\"\")","v":""},{"$nulls":4},{"$f":"IF($BK37<>\"\",ROUND($BK37,2),\"\")","v":""},{"$nulls":4},{"$f":"IF($BL37<>\"\",ROUND($BL37,2),\"\")","v":""},{"$nulls":6},{"$f":"IF($AG$12<>\"CAT3\",IF(AND($B37=\"Y\",$S37<>\"\",$W37<>\"\",$AA37<>\"\",$AE37<>\"\"),1,0),IF($AE37<>\"\",1,0))","v":0},{"$f":"SUM($FL$36:$FL37)","v":0},{"$f":"IF($AG$12<>\"CAT3\",IF($FL37=1,IF(OR($S37>$R$16,$W37>$V$16,$AA37>$Z$16,IF($AF$12<>\"Y\",OR($AA37>$Z$16,$AE37>$AD$16),ROUND(($AA37+$AE37),2)>$Z$16)),1,0),0),IF($FL37=1,IF(AND($AE37>$AD$16,$AF$12=\"N\"),1,0),0))","v":0},null,null,{"$f":"MAX($FQ$36,$FL$10)","v":1}]
[{"$f":"A37+1","v":3},{"$nulls":4},"N/A",{"$nulls":10},"","","",null,"","","",null,"","","",null,"","","",{"$nulls":5},"","","","","","","","",null,0,{"$nulls":3},"","","",null,"","","",null,"","","",null,"","","",{"$nulls":8},"",{"$nulls":4},"",{"$nulls":4},"",{"$nulls":15},"",{"$nulls":4},"",{"$nulls":4},"",{"$nulls":15},"",{"$nulls":4},"",{"$nulls":4},"",{"$nulls":15},"",{"$nulls":4},"",{"$nulls":4},"",{"$nulls":6},0,{"$f":"SUM($FL$36:$FL38)","v":0},0]
[4,{"$nulls":4},"N/A",{"$nulls":10},"","","",null,"","","",null,"","","",null,"","","",{"$nulls":5},"","","","","","","","",null,0,{"$nulls":3},"","","",null,"","","",null,"","","",null,"","","",{"$nulls":8},"",{"$nulls":4},"",{"$nulls":4},"",{"$nulls":15},"",{"$nulls":4},"",{"$nulls":4},"",{"$nulls":15},"",{"$nulls":4},"",{"$nulls":4},"",{"$nulls":15},"",{"$nulls":4},"",{"$nulls":4},"",{"$nulls":6},0,{"$f":"SUM($FL$36:$FL39)","v":0},0,null,null,"then, the larger of that sample size or 1  (or if Part 94 and cat1,  can be 0)"]
[5,{"$nulls":4},"N/A",{"$nulls":10},"","","",null,"","","",null,"","","",null,"","","",{"$nulls":5},"","","","","","","","",null,0,{"$nulls":3},"","","",null,"","","",null,"","","",null,"","","",{"$nulls":8},"",{"$nulls":4},"",{"$nulls":4},"",{"$nulls":15},"",{"$nulls":4},"",{"$nulls":4},"",{"$nulls":15},"",{"$nulls":4},"",{"$nulls":4},"",{"$nulls":15},"",{"$nulls":4},"",{"$nulls":4},"",{"$nulls":6},0,{"$f":"SUM($FL$36:$FL40)","v":0},0]
[6,{"$nulls":4},"N/A",{"$nulls":10},"","","",null,"","","",null,"","","",null,"","","",{"$nulls":5},"","","","","","","","",null,0,{"$nulls":3},"","","",null,"","","",null,"","","",null,"","","",{"$nulls":8},"",{"$nulls":4},"",{"$nulls":4},"",{"$nulls":15},"",{"$nulls":4},"",{"$nulls":4},"",{"$nulls":15},"",{"$nulls":4},"",{"$nulls":4},"",{"$nulls":15},"",{"$nulls":4},"",{"$nulls":4},"",{"$nulls":6},0,{"$f":"SUM($FL$36:$FL41)","v":0},0]
[7,{"$nulls":4},"N/A",{"$nulls":10},"","","",null,"","","",null,"","","",null,"","","",{"$nulls":5},"","","","","","","","",null,0,{"$nulls":3},"","","",null,"","","",null,"","","",null,"","","",{"$nulls":8},"",{"$nulls":4},"",{"$nulls":4},"",{"$nulls":15},"",{"$nulls":4},"",{"$nulls":4},"",{"$nulls":15},"",{"$nulls":4},"",{"$nulls":4},"",{"$nulls":15},"",{"$nulls":4},"",{"$nulls":4},"",{"$nulls":6},0,{"$f":"SUM($FL$36:$FL42)","v":0},0]
[8,{"$nulls":4},"N/A",{"$nulls":10},"","","",null,"","","",null,"","","",null,"","","",{"$nulls":5},"","","","","","","","",null,0,{"$nulls":3},"","","",null,"","","",null,"","","",null,"","","",{"$nulls":8},"",{"$nulls":4},"",{"$nulls":4},"",{"$nulls":15},"",{"$nulls":4},"",{"$nulls":4},"",{"$nulls":15},"",{"$nulls":4},"",{"$nulls":4},"",{"$nulls":15},"",{"$nulls":4},"",{"$nulls":4},"",{"$nulls":6},0,{"$f":"SUM($FL$36:$FL43)","v":0},0]
[9,{"$nulls":4},"N/A",{"$nulls":10},"","","",null,"","","",null,"","","",null,"","","",{"$nulls":5},"","","","","","","","",null,0,{"$nulls":3},"","","",null,"","","",null,"","","",null,"","","",{"$nulls":8},"",{"$nulls":4},"",{"$nulls":4},"",{"$nulls":15},"",{"$nulls":4},"",{"$nulls":4},"",{"$nulls":15},"",{"$nulls":4},"",{"$nulls":4},"",{"$nulls":15},"",{"$nulls":4},"",{"$nulls":4},"",{"$nulls":6},0,{"$f":"SUM($FL$36:$FL44)","v":0},0]
[10,{"$nulls":4},"N/A",{"$nulls":10},"","","",null,"","","",null,"","","",null,"","","",{"$nulls":5},"","","","","","","","",null,0,{"$nulls":3},"","","",null,"","","",null,"","","",null,"","","",{"$nulls":8},"",{"$nulls":4},"",{"$nulls":4},"",{"$nulls":15},"",{"$nulls":4},"",{"$nulls":4},"",{"$nulls":15},"",{"$nulls":4},"",{"$nulls":4},"",{"$nulls":15},"",{"$nulls":4},"",{"$nulls":4},"",{"$nulls":6},0,{"$f":"SUM($FL$36:$FL45)","v":0},0]
[11,{"$nulls":4},"N/A",{"$nulls":10},"","","",null,"","","",null,"","","",null,"","","",{"$nulls":5},"","","","","","","","",null,0,{"$nulls":3},"","","",null,"","","",null,"","","",null,"","","",{"$nulls":8},"",{"$nulls":4},"",{"$nulls":4},"",{"$nulls":15},"",{"$nulls":4},"",{"$nulls":4},"",{"$nulls":15},"",{"$nulls":4},"",{"$nulls":4},"",{"$nulls":15},"",{"$nulls":4},"",{"$nulls":4},"",{"$nulls":6},0,{"$f":"SUM($FL$36:$FL46)","v":0},0]
[12,{"$nulls":4},"N/A",{"$nulls":10},"","","",null,"","","",null,"","","",null,"","","",{"$nulls":5},"","","","","","","","",null,0,{"$nulls":3},"","","",null,"","","",null,"","","",null,"","","",{"$nulls":8},"",{"$nulls":4},"",{"$nulls":4},"",{"$nulls":15},"",{"$nulls":4},"",{"$nulls":4},"",{"$nulls":15},"",{"$nulls":4},"",{"$nulls":4},"",{"$nulls":15},"",{"$nulls":4},"",{"$nulls":4},"",{"$nulls":6},0,{"$f":"SUM($FL$36:$FL47)","v":0},0]
[13,{"$nulls":4},"N/A",{"$nulls":10},"","","",null,"","","",null,"","","",null,"","","",{"$nulls":5},"","","","","","","","",null,0,{"$nulls":3},"","","",null,"","","",null,"","","",null,"","","",{"$nulls":8},"",{"$nulls":4},"",{"$nulls":4},"",{"$nulls":15},"",{"$nulls":4},"",{"$nulls":4},"",{"$nulls":15},"",{"$nulls":4},"",{"$nulls":4},"",{"$nulls":15},"",{"$nulls":4},"",{"$nulls":4},"",{"$nulls":6},0,{"$f":"SUM($FL$36:$FL48)","v":0},0]
[14,{"$nulls":4},"N/A",{"$nulls":10},"","","",null,"","","",null,"","","",null,"","","",{"$nulls":5},"","","","","","","","",null,0,{"$nulls":3},"","","",null,"","","",null,"","","",null,"","","",{"$nulls":8},"",{"$nulls":4},"",{"$nulls":4},"",{"$nulls":15},"",{"$nulls":4},"",{"$nulls":4},"",{"$nulls":15},"",{"$nulls":4},"",{"$nulls":4},"",{"$nulls":15},"",{"$nulls":4},"",{"$nulls":4},"",{"$nulls":6},0,{"$f":"SUM($FL$36:$FL49)","v":0},0]
[15,{"$nulls":4},"N/A",{"$nulls":10},"","","",null,"","","",null,"","","",null,"","","",{"$nulls":5},"","","","","","","","",null,0,{"$nulls":3},"","","",null,"","","",null,"","","",null,"","","",{"$nulls":8},"",{"$nulls":4},"",{"$nulls":4},"",{"$nulls":15},"",{"$nulls":4},"",{"$nulls":4},"",{"$nulls":15},"",{"$nulls":4},"",{"$nulls":4},"",{"$nulls":15},"",{"$nulls":4},"",{"$nulls":4},"",{"$nulls":6},0,{"$f":"SUM($FL$36:$FL50)","v":0},0]
[16,{"$nulls":4},"N/A",{"$nulls":10},"","","",null,"","","",null,"","","",null,"","","",{"$nulls":5},"","","","","","","","",null,0,{"$nulls":3},"","","",null,"","","",null,"","","",null,"","","",{"$nulls":8},"",{"$nulls":4},"",{"$nulls":4},"",{"$nulls":15},"",{"$nulls":4},"",{"$nulls":4},"",{"$nulls":15},"",{"$nulls":4},"",{"$nulls":4},"",{"$nulls":15},"",{"$nulls":4},"",{"$nulls":4},"",{"$nulls":6},0,{"$f":"SUM($FL$36:$FL51)","v":0},0]
[17,{"$nulls":4},"N/A",{"$nulls":10},"","","",null,"","","",null,"","","",null,"","","",{"$nulls":5},"","","","","","","","",null,0,{"$nulls":3},"","","",null,"","","",null,"","","",null,"","","",{"$nulls":8},"",{"$nulls":4},"",{"$nulls":4},"",{"$nulls":15},"",{"$nulls":4},"",{"$nulls":4},"",{"$nulls":15},"",{"$nulls":4},"",{"$nulls":4},"",{"$nulls":15},"",{"$nulls":4},"",{"$nulls":4},"",{"$nulls":6},0,{"$f":"SUM($FL$36:$FL52)","v":0},0]
[18,{"$nulls":4},"N/A",{"$nulls":10},"","","",null,"","","",null,"","","",null,"","","",{"$nulls":5},"","","","","","","","",null,0,{"$nulls":3},"","","",null,"","","",null,"","","",null,"","","",{"$nulls":8},"",{"$nulls":4},"",{"$nulls":4},"",{"$nulls":15},"",{"$nulls":4},"",{"$nulls":4},"",{"$nulls":15},"",{"$nulls":4},"",{"$nulls":4},"",{"$nulls":15},"",{"$nulls":4},"",{"$nulls":4},"",{"$nulls":6},0,{"$f":"SUM($FL$36:$FL53)","v":0},0]
[19,{"$nulls":4},"N/A",{"$nulls":10},"","","",null,"","","",null,"","","",null,"","","",{"$nulls":5},"","","","","","","","",null,0,{"$nulls":3},"","","",null,"","","",null,"","","",null,"","","",{"$nulls":8},"",{"$nulls":4},"",{"$nulls":4},"",{"$nulls":15},"",{"$nulls":4},"",{"$nulls":4},"",{"$nulls":15},"",{"$nulls":4},"",{"$nulls":4},"",{"$nulls":15},"",{"$nulls":4},"",{"$nulls":4},"",{"$nulls":6},0,{"$f":"SUM($FL$36:$FL54)","v":0},0]
[20,{"$nulls":4},"N/A",{"$nulls":10},"","","",null,"","","",null,"","","",null,"","","",{"$nulls":5},"","","","","","","","",null,0,{"$nulls":3},"","","",null,"","","",null,"","","",null,"","","",{"$nulls":8},"",{"$nulls":4},"",{"$nulls":4},"",{"$nulls":15},"",{"$nulls":4},"",{"$nulls":4},"",{"$nulls":15},"",{"$nulls":4},"",{"$nulls":4},"",{"$nulls":15},"",{"$nulls":4},"",{"$nulls":4},"",{"$nulls":6},0,{"$f":"SUM($FL$36:$FL55)","v":0},0]
[21,{"$nulls":4},"N/A",{"$nulls":10},"","","",null,"","","",null,"","","",null,"","","",{"$nulls":5},"","","","","","","","",null,0,{"$nulls":3},"","","",null,"","","",null,"","","",null,"","","",{"$nulls":8},"",{"$nulls":4},"",{"$nulls":4},"",{"$nulls":15},"",{"$nulls":4},"",{"$nulls":4},"",{"$nulls":15},"",{"$nulls":4},"",{"$nulls":4},"",{"$nulls":15},"",{"$nulls":4},"",{"$nulls":4},"",{"$nulls":6},0,{"$f":"SUM($FL$36:$FL56)","v":0},0]
[22,{"$nulls":4},"N/A",{"$nulls":10},"","","",null,"","","",null,"","","",null,"","","",{"$nulls":5},"","","","","","","","",null,0,{"$nulls":3},"","","",null,"","","",null,"","","",null,"","","",{"$nulls":8},"",{"$nulls":4},"",{"$nulls":4},"",{"$nulls":15},"",{"$nulls":4},"",{"$nulls":4},"",{"$nulls":15},"",{"$nulls":4},"",{"$nulls":4},"",{"$nulls":15},"",{"$nulls":4},"",{"$nulls":4},"",{"$nulls":6},0,{"$f":"SUM($FL$36:$FL57)","v":0},0]
[23,{"$nulls":4},"N/A",{"$nulls":10},"","","",null,"","","",null,"","","",null,"","","",{"$nulls":5},"","","","","","","","",null,0,{"$nulls":3},"","","",null,"","","",null,"","","",null,"","","",{"$nulls":8},"",{"$nulls":4},"",{"$nulls":4},"",{"$nulls":15},"",{"$nulls":4},"",{"$nulls":4},"",{"$nulls":15},"",{"$nulls":4},"",{"$nulls":4},"",{"$nulls":15},"",{"$nulls":4},"",{"$nulls":4},"",{"$nulls":6},0,{"$f":"SUM($FL$36:$FL58)","v":0},0]
[24,{"$nulls":4},"N/A",{"$nulls":10},"","","",null,"","","",null,"","","",null,"","","",{"$nulls":5},"","","","","","","","",null,0,{"$nulls":3},"","","",null,"","","",null,"","","",null,"","","",{"$nulls":8},"",{"$nulls":4},"",{"$nulls":4},"",{"$nulls":15},"",{"$nulls":4},"",{"$nulls":4},"",{"$nulls":15},"",{"$nulls":4},"",{"$nulls":4},"",{"$nulls":15},"",{"$nulls":4},"",{"$nulls":4},"",{"$nulls":6},0,{"$f":"SUM($FL$36:$FL59)","v":0},0]
[25,{"$nulls":4},"N/A",{"$nulls":10},"","","",null,"","","",null,"","","",null,"","","",{"$nulls":5},"","","","","","","","",null,0,{"$nulls":3},"","","",null,"","","",null,"","","",null,"","","",{"$nulls":8},"",{"$nulls":4},"",{"$nulls":4},"",{"$nulls":15},"",{"$nulls":4},"",{"$nulls":4},"",{"$nulls":15},"",{"$nulls":4},"",{"$nulls":4},"",{"$nulls":15},"",{"$nulls":4},"",{"$nulls":4},"",{"$nulls":6},0,{"$f":"SUM($FL$36:$FL60)","v":0},0]
[26,{"$nulls":4},"N/A",{"$nulls":10},"","","",null,"","","",null,"","","",null,"","","",{"$nulls":5},"","","","","","","","",null,0,{"$nulls":3},"","","",null,"","","",null,"","","",null,"","","",{"$nulls":8},"",{"$nulls":4},"",{"$nulls":4},"",{"$nulls":15},"",{"$nulls":4},"",{"$nulls":4},"",{"$nulls":15},"",{"$nulls":4},"",{"$nulls":4},"",{"$nulls":15},"",{"$nulls":4},"",{"$nulls":4},"",{"$nulls":6},0,{"$f":"SUM($FL$36:$FL61)","v":0},0]
[27,{"$nulls":4},"N/A",{"$nulls":10},"","","",null,"","","",null,"","","",null,"","","",{"$nulls":5},"","","","","","","","",null,0,{"$nulls":3},"","","",null,"","","",null,"","","",null,"","","",{"$nulls":8},"",{"$nulls":4},"",{"$nulls":4},"",{"$nulls":15},"",{"$nulls":4},"",{"$nulls":4},"",{"$nulls":15},"",{"$nulls":4},"",{"$nulls":4},"",{"$nulls":15},"",{"$nulls":4},"",{"$nulls":4},"",{"$nulls":6},0,{"$f":"SUM($FL$36:$FL62)","v":0},0]
[28,{"$nulls":4},"N/A",{"$nulls":10},"","","",null,"","","",null,"","","",null,"","","",{"$nulls":5},"","","","","","","","",null,0,{"$nulls":3},"","","",null,"","","",null,"","","",null,"","","",{"$nulls":8},"",{"$nulls":4},"",{"$nulls":4},"",{"$nulls":15},"",{"$nulls":4},"",{"$nulls":4},"",{"$nulls":15},"",{"$nulls":4},"",{"$nulls":4},"",{"$nulls":15},"",{"$nulls":4},"",{"$nulls":4},"",{"$nulls":6},0,{"$f":"SUM($FL$36:$FL63)","v":0},0]
[29,{"$nulls":4},"N/A",{"$nulls":10},"","","",null,"","","",null,"","","",null,"","","",{"$nulls":5},"","","","","","","","",null,0,{"$nulls":3},"","","",null,"","","",null,"","","",null,"","","",{"$nulls":8},"",{"$nulls":4},"",{"$nulls":4},"",{"$nulls":15},"",{"$nulls":4},"",{"$nulls":4},"",{"$nulls":15},"",{"$nulls":4},"",{"$nulls":4},"",{"$nulls":15},"",{"$nulls":4},"",{"$nulls":4},"",{"$nulls":6},0,{"$f":"SUM($FL$36:$FL64)","v":0},0]
[30,{"$nulls":4},"N/A",{"$nulls":10},"","","",null,"","","",null,"","","",null,"","","",{"$nulls":5},"","","","","","","","",null,0,{"$nulls":3},"","","",null,"","","",null,"","","",null,"","","",{"$nulls":8},"",{"$nulls":4},"",{"$nulls":4},"",{"$nulls":15},"",{"$nulls":4},"",{"$nulls":4},"",{"$nulls":15},"",{"$nulls":4},"",{"$nulls":4},"",{"$nulls":15},"",{"$nulls":4},"",{"$nulls":4},"",{"$nulls":6},0,{"$f":"SUM($FL$36:$FL65)","v":0},0]
[31,{"$nulls":4},"N/A",{"$nulls":10},"","","",null,"","","",null,"","","",null,"","","",{"$nulls":5},"","","","","","","","",null,0,{"$nulls":3},"","","",null,"","","",null,"","","",null,"","","",{"$nulls":8},"",{"$nulls":4},"",{"$nulls":4},"",{"$nulls":15},"",{"$nulls":4},"",{"$nulls":4},"",{"$nulls":15},"",{"$nulls":4},"",{"$nulls":4},"",{"$nulls":15},"",{"$nulls":4},"",{"$nulls":4},"",{"$nulls":6},0,{"$f":"SUM($FL$36:$FL66)","v":0},0]
[32,{"$nulls":4},"N/A",{"$nulls":10},"","","",null,"","","",null,"","","",null,"","","",{"$nulls":5},"","","","","","","","",null,0,{"$nulls":3},"","","",null,"","","",null,"","","",null,"","","",{"$nulls":8},"",{"$nulls":4},"",{"$nulls":4},"",{"$nulls":15},"",{"$nulls":4},"",{"$nulls":4},"",{"$nulls":15},"",{"$nulls":4},"",{"$nulls":4},"",{"$nulls":15},"",{"$nulls":4},"",{"$nulls":4},"",{"$nulls":6},0,{"$f":"SUM($FL$36:$FL67)","v":0},0]
[33,{"$nulls":4},"N/A",{"$nulls":10},"","","",null,"","","",null,"","","",null,"","","",{"$nulls":5},"","","","","","","","",null,0,{"$nulls":3},"","","",null,"","","",null,"","","",null,"","","",{"$nulls":8},"",{"$nulls":4},"",{"$nulls":4},"",{"$nulls":15},"",{"$nulls":4},"",{"$nulls":4},"",{"$nulls":15},"",{"$nulls":4},"",{"$nulls":4},"",{"$nulls":15},"",{"$nulls":4},"",{"$nulls":4},"",{"$nulls":6},0,{"$f":"SUM($FL$36:$FL68)","v":0},0]
[34,{"$nulls":4},"N/A",{"$nulls":10},"","","",null,"","","",null,"","","",null,"","","",{"$nulls":5},"","","","","","","","",null,0,{"$nulls":3},"","","",null,"","","",null,"","","",null,"","","",{"$nulls":8},"",{"$nulls":4},"",{"$nulls":4},"",{"$nulls":15},"",{"$nulls":4},"",{"$nulls":4},"",{"$nulls":15},"",{"$nulls":4},"",{"$nulls":4},"",{"$nulls":15},"",{"$nulls":4},"",{"$nulls":4},"",{"$nulls":6},0,{"$f":"SUM($FL$36:$FL69)","v":0},0]
[35,{"$nulls":4},"N/A",{"$nulls":10},"","","",null,"","","",null,"","","",null,"","","",{"$nulls":5},"","","","","","","","",null,0,{"$nulls":3},"","","",null,"","","",null,"","","",null,"","","",{"$nulls":8},"",{"$nulls":4},"",{"$nulls":4},"",{"$nulls":15},"",{"$nulls":4},"",{"$nulls":4},"",{"$nulls":15},"",{"$nulls":4},"",{"$nulls":4},"",{"$nulls":15},"",{"$nulls":4},"",{"$nulls":4},"",{"$nulls":6},0,{"$f":"SUM($FL$36:$FL70)","v":0},0]
[36,{"$nulls":4},"N/A",{"$nulls":10},"","","",null,"","","",null,"","","",null,"","","",{"$nulls":5},"","","","","","","","",null,0,{"$nulls":3},"","","",null,"","","",null,"","","",null,"","","",{"$nulls":8},"",{"$nulls":4},"",{"$nulls":4},"",{"$nulls":15},"",{"$nulls":4},"",{"$nulls":4},"",{"$nulls":15},"",{"$nulls":4},"",{"$nulls":4},"",{"$nulls":15},"",{"$nulls":4},"",{"$nulls":4},"",{"$nulls":6},0,{"$f":"SUM($FL$36:$FL71)","v":0},0]
[37,{"$nulls":4},"N/A",{"$nulls":10},"","","",null,"","","",null,"","","",null,"","","",{"$nulls":5},"","","","","","","","",null,0,{"$nulls":3},"","","",null,"","","",null,"","","",null,"","","",{"$nulls":8},"",{"$nulls":4},"",{"$nulls":4},"",{"$nulls":15},"",{"$nulls":4},"",{"$nulls":4},"",{"$nulls":15},"",{"$nulls":4},"",{"$nulls":4},"",{"$nulls":15},"",{"$nulls":4},"",{"$nulls":4},"",{"$nulls":6},0,{"$f":"SUM($FL$36:$FL72)","v":0},0]
[38,{"$nulls":4},"N/A",{"$nulls":10},"","","",null,"","","",null,"","","",null,"","","",{"$nulls":5},"","","","","","","","",null,0,{"$nulls":3},"","","",null,"","","",null,"","","",null,"","","",{"$nulls":8},"",{"$nulls":4},"",{"$nulls":4},"",{"$nulls":15},"",{"$nulls":4},"",{"$nulls":4},"",{"$nulls":15},"",{"$nulls":4},"",{"$nulls":4},"",{"$nulls":15},"",{"$nulls":4},"",{"$nulls":4},"",{"$nulls":6},0,{"$f":"SUM($FL$36:$FL73)","v":0},0]
[39,{"$nulls":4},"N/A",{"$nulls":10},"","","",null,"","","",null,"","","",null,"","","",{"$nulls":5},"","","","","","","","",null,0,{"$nulls":3},"","","",null,"","","",null,"","","",null,"","","",{"$nulls":8},"",{"$nulls":4},"",{"$nulls":4},"",{"$nulls":15},"",{"$nulls":4},"",{"$nulls":4},"",{"$nulls":15},"",{"$nulls":4},"",{"$nulls":4},"",{"$nulls":15},"",{"$nulls":4},"",{"$nulls":4},"",{"$nulls":6},0,{"$f":"SUM($FL$36:$FL74)","v":0},0]
[40,{"$nulls":4},"N/A",{"$nulls":10},"","","",null,"","","",null,"","","",null,"","","",{"$nulls":5},"","","","","","","","",null,0,{"$nulls":3},"","","",null,"","","",null,"","","",null,"","","",{"$nulls":8},"",{"$nulls":4},"",{"$nulls":4},"",{"$nulls":15},"",{"$nulls":4},"",{"$nulls":4},"",{"$nulls":15},"",{"$nulls":4},"",{"$nulls":4},"",{"$nulls":15},"",{"$nulls":4},"",{"$nulls":4},"",{"$nulls":6},0,{"$f":"SUM($FL$36:$FL75)","v":0},0]
[41,{"$nulls":4},"N/A",{"$nulls":10},"","","",null,"","","",null,"","","",null,"","","",{"$nulls":5},"","","","","","","","",null,0,{"$nulls":3},"","","",null,"","","",null,"","","",null,"","","",{"$nulls":8},"",{"$nulls":4},"",{"$nulls":4},"",{"$nulls":15},"",{"$nulls":4},"",{"$nulls":4},"",{"$nulls":15},"",{"$nulls":4},"",{"$nulls":4},"",{"$nulls":15},"",{"$nulls":4},"",{"$nulls":4},"",{"$nulls":6},0,{"$f":"SUM($FL$36:$FL76)","v":0},0]
[42,{"$nulls":4},"N/A",{"$nulls":10},"","","",null,"","","",null,"","","",null,"","","",{"$nulls":5},"","","","","","","","",null,0,{"$nulls":3},"","","",null,"","","",null,"","","",null,"","","",{"$nulls":8},"",{"$nulls":4},"",{"$nulls":4},"",{"$nulls":15},"",{"$nulls":4},"",{"$nulls":4},"",{"$nulls":15},"",{"$nulls":4},"",{"$nulls":4},"",{"$nulls":15},"",{"$nulls":4},"",{"$nulls":4},"",{"$nulls":6},0,{"$f":"SUM($FL$36:$FL77)","v":0},0]
[43,{"$nulls":4},"N/A",{"$nulls":10},"","","",null,"","","",null,"","","",null,"","","",{"$nulls":5},"","","","","","","","",null,0,{"$nulls":3},"","","",null,"","","",null,"","","",null,"","","",{"$nulls":8},"",{"$nulls":4},"",{"$nulls":4},"",{"$nulls":15},"",{"$nulls":4},"",{"$nulls":4},"",{"$nulls":15},"",{"$nulls":4},"",{"$nulls":4},"",{"$nulls":15},"",{"$nulls":4},"",{"$nulls":4},"",{"$nulls":6},0,{"$f":"SUM($FL$36:$FL78)","v":0},0]
[44,{"$nulls":4},"N/A",{"$nulls":10},"","","",null,"","","",null,"","","",null,"","","",{"$nulls":5},"","","","","","","","",null,0,{"$nulls":3},"","","",null,"","","",null,"","","",null,"","","",{"$nulls":8},"",{"$nulls":4},"",{"$nulls":4},"",{"$nulls":15},"",{"$nulls":4},"",{"$nulls":4},"",{"$nulls":15},"",{"$nulls":4},"",{"$nulls":4},"",{"$nulls":15},"",{"$nulls":4},"",{"$nulls":4},"",{"$nulls":6},0,{"$f":"SUM($FL$36:$FL79)","v":0},0]
[45,{"$nulls":4},"N/A",{"$nulls":10},"","","",null,"","","",null,"","","",null,"","","",{"$nulls":5},"","","","","","","","",null,0,{"$nulls":3},"","","",null,"","","",null,"","","",null,"","","",{"$nulls":8},"",{"$nulls":4},"",{"$nulls":4},"",{"$nulls":15},"",{"$nulls":4},"",{"$nulls":4},"",{"$nulls":15},"",{"$nulls":4},"",{"$nulls":4},"",{"$nulls":15},"",{"$nulls":4},"",{"$nulls":4},"",{"$nulls":6},0,{"$f":"SUM($FL$36:$FL80)","v":0},0]
[46,{"$nulls":4},"N/A",{"$nulls":10},"","","",null,"","","",null,"","","",null,"","","",{"$nulls":5},"","","","","","","","",null,0,{"$nulls":3},"","","",null,"","","",null,"","","",null,"","","",{"$nulls":8},"",{"$nulls":4},"",{"$nulls":4},"",{"$nulls":15},"",{"$nulls":4},"",{"$nulls":4},"",{"$nulls":15},"",{"$nulls":4},"",{"$nulls":4},"",{"$nulls":15},"",{"$nulls":4},"",{"$nulls":4},"",{"$nulls":6},0,{"$f":"SUM($FL$36:$FL81)","v":0},0]
[47,{"$nulls":4},"N/A",{"$nulls":10},"","","",null,"","","",null,"","","",null,"","","",{"$nulls":5},"","","","","","","","",null,0,{"$nulls":3},"","","",null,"","","",null,"","","",null,"","","",{"$nulls":8},"",{"$nulls":4},"",{"$nulls":4},"",{"$nulls":15},"",{"$nulls":4},"",{"$nulls":4},"",{"$nulls":15},"",{"$nulls":4},"",{"$nulls":4},"",{"$nulls":15},"",{"$nulls":4},"",{"$nulls":4},"",{"$nulls":6},0,{"$f":"SUM($FL$36:$FL82)","v":0},0]
[48,{"$nulls":4},"N/A",{"$nulls":10},"","","",null,"","","",null,"","","",null,"","","",{"$nulls":5},"","","","","","","","",null,0,{"$nulls":3},"","","",null,"","","",null,"","","",null,"","","",{"$nulls":8},"",{"$nulls":4},"",{"$nulls":4},"",{"$nulls":15},"",{"$nulls":4},"",{"$nulls":4},"",{"$nulls":15},"",{"$nulls":4},"",{"$nulls":4},"",{"$nulls":15},"",{"$nulls":4},"",{"$nulls":4},"",{"$nulls":6},0,{"$f":"SUM($FL$36:$FL83)","v":0},0]
[49,{"$nulls":4},"N/A",{"$nulls":10},"","","",null,"","","",null,"","","",null,"","","",{"$nulls":5},"","","","","","","","",null,0,{"$nulls":3},"","","",null,"","","",null,"","","",null,"","","",{"$nulls":8},"",{"$nulls":4},"",{"$nulls":4},"",{"$nulls":15},"",{"$nulls":4},"",{"$nulls":4},"",{"$nulls":15},"",{"$nulls":4},"",{"$nulls":4},"",{"$nulls":15},"",{"$nulls":4},"",{"$nulls":4},"",{"$nulls":6},0,{"$f":"SUM($FL$36:$FL84)","v":0},0]
[50,{"$nulls":4},"N/A",{"$nulls":10},"","","",null,"","","",null,"","","",null,"","","",{"$nulls":5},"","","","","","","","",null,0,{"$nulls":3},"","","",null,"","","",null,"","","",null,"",{"$f":"IF($B85=\"Y\",IF(AND($AC85<>\"\",$AQ84<>\"\",$AR84<>\"\"),($AC85+$AQ84)/($AR84+1),\"\"),\"\")","v":""},"",{"$nulls":8},"",{"$nulls":4},"",{"$nulls":4},"",{"$nulls":15},"",{"$nulls":4},"",{"$nulls":4},"",{"$nulls":15},"",{"$nulls":4},"",{"$nulls":4},"",{"$nulls":15},"",{"$nulls":4},"",{"$nulls":4},"",{"$nulls":6},0,{"$f":"SUM($FL$36:$FL85)","v":0},0]
[null,null,{"$f":"SUM(C36:C85)","v":0}]
["g/bhp-hr"]
["g/kW-hr"]

{"sheet":"Engine Family #2","index":4,"n_rows":88,"n_cols":176,"rows_kept":88,"merged":[[1,0,1,35],[2,0,2,35],[3,0,3,35],[4,0,4,35],[5,0,5,35],[6,0,6,35],[8,0,8,16],[10,4,10,6],[10,12,10,13],[11,4,11,6],[11,15,11,16],[11,19,11,20],[11,23,11,24],[11,27,11,28],[12,4,12,6],[13,4,13,6],[14,4,15,6],[17,14,22,14],[27,4,30,13],[27,15,28,16],[32,0,32,16],[32,17,32,33],[32,34,32,35],[33,45,34,45]]}
[]
["United States"]
["US Environmental Protection Agency"]
["Office of Air and Radiation, Office of Transportation and Air Quality"]
[{"$nulls":37},"Tier 2","Y",94]
["Manufacturer Production Line Testing Report for Marine Compression Ignition Engines",{"$nulls":36},"Tier 3","N",1042]
[{"$f":"Summary!B7","v":"Version Number: 1.4 DRAFT  Last Revision: September 2023"},{"$nulls":36},"Tier 4",null,"N/A"]
[]
["Basic Information: Engine Family #2"]
[{"$nulls":167},{"$f":"IF(AND($G$24=94,Summary!$L$13=\"Category 1\"),0,1)","v":1}]
[null,null,"Manufacturer:",null,{"$f":"IF(Summary!D12<>\"\",Summary!D12,\"\")","v":""},{"$nulls":3},"Engine Family:",{"$nulls":31},{"$f":"IF($G$19=\"Diesel\",\"'HC' refers to 'THC' \",IF($G$19=\"Natural Gas\",\"'HC' refers to 'NMHC' \",IF($G$19=\"Alcohol\",\"'HC' refers to 'THCE' \",\"\")))","v":""}]
[null,null,"PLT Test Contact:",null,{"$f":"IF(Summary!D13<>\"\",Summary!D13,\"\")","v":""},{"$nulls":3},"Production (Category 3 only):",{"$nulls":6},{"$f":"IF(N16<>\"Y\", \"Current CO Result\", \"Final CO Result\")","v":"Current CO Result"},null,{"$f":"$CJ$36","v":""},null,{"$f":"IF(N16<>\"Y\", \"Current PM Result\", \"Final PM Result\")","v":"Current PM Result"},null,{"$f":"$DJ$36","v":""},null,{"$f":"IF($AF$12=\"Y\",IF(N16<>\"Y\", \"Current NOx+HC Result\", \"Final NOx+HC Result\"),IF(N16<>\"Y\", \"Current HC Result\", \"Final HC Result\"))","v":"Current HC Result"},null,{"$f":"IF($AF$12=\"Y\",IF($FP$36>0,ROUND($EJ$36+$FJ$36,2),\"\"),$EJ$36)","v":""},null,{"$f":"IF(N16<>\"Y\", \"Current NOx Result\",\"Final NOx Result\")","v":"Current NOx Result"},null,{"$f":"$FJ$36","v":""},null,{"$f":"IF($L$13<>\"Category 3\",IF($G$23=\"\",\"N\",$G$23),\"N\")","v":"N"},{"$f":"IF(Summary!$L$13=\"Category 3\",\"CAT3\",\"\")","v":""}]
[null,null,"Email Address:",null,{"$f":"IF(Summary!D14<>\"\",Summary!D14,\"\")","v":""},{"$nulls":3},"Date of Start of Model Year Production:"]
[null,null,"Phone #:",null,{"$f":"IF(Summary!D15<>\"\",Summary!D15,\"\")","v":""},{"$nulls":3},"Date of End of Model Year Production:",{"$nulls":14},{"$f":"IF($G$19=\"Diesel\",\"'HC' refers to 'THC' \",IF($G$19=\"Natural Gas\",\"'HC' refers to 'NMHC' \",IF($G$19=\"Alcohol\",\"'HC' refers to 'THCE' \",\"\")))","v":""},{"$nulls":13},"Diesel",1,{"$nulls":6},1]
[null,null,"Test Location & Description:",{"$nulls":5},"Deterioration Factor Type:",{"$nulls":28},"Natural Gas",2,{"$nulls":6},2]
[{"$nulls":8},"Include Results from this Engine Family on Summary Sheet?",{"$nulls":6},"CO Standard ",{"$nulls":3},"PM Standard or FEL",{"$nulls":3},{"$f":"IF($AF$12=\"Y\",\"NOx+HC Standard or FEL\",\"HC Standard\")","v":"HC Standard"},{"$nulls":3},"NOx Standard or FEL",{"$nulls":9},"Alcohol",3,{"$nulls":6},3]
[null,null,"Carryover?:",{"$nulls":5},"Required Tests (including failure follow-ups)",{"$nulls":4},{"$f":"$FO36","v":0},null,"Units",null,"g/kW-hr",null,"Units",null,"g/kW-hr",null,"Units",null,"g/kW-hr",null,"Units",null,"g/kW-hr",{"$nulls":4},"Test Cycle Options",{"$nulls":10},4]
[null,null,{"$f":"IF($G$17=\"Y\",\"Please submit supporting documentation indicating that this is a carry-over engine family\",\"\")","v":""},{"$nulls":5},"Instead of testing, are PLT requirements for this Engine Family",{"$nulls":6},"CO  Det Factor",{"$nulls":3},"PM  Det Factor",{"$nulls":3},"HC Det Factor",{"$nulls":3},"NOx  Det Factor",{"$nulls":6},"1 = 4-Mode General Cycle (E3)",null,null,"Recreational"]
[null,null,"Fuel Type:",{"$nulls":5}," fulfilled under the following (Category 1 only)?",{"$nulls":6},"Det Factor Type",null,{"$f":"IF($N$15<>\"\",$N$15,\"\")","v":""},null,"Det Factor Type",null,{"$f":"IF($N$15<>\"\",$N$15,\"\")","v":""},null,"Det Factor Type",null,{"$f":"IF($N$15<>\"\",$N$15,\"\")","v":""},null,"Det Factor Type",null,{"$f":"IF($N$15<>\"\",$N$15,\"\")","v":""},{"$nulls":4},"2 = 5-Mode Recreational Cycle (E5)",null,null,"Commercial"]
[null,null,"Recreational/Commercial:",{"$nulls":5},"Please elaborate in the comments section.",{"$nulls":6},"CO Green Engine Factor",{"$nulls":3},"PM Green Engine Factor",{"$nulls":3},"HC Green Engine Factor",{"$nulls":3},"NOx Green Engine Factor",{"$nulls":6},"3 = 4-Mode Constant Speed Propulsion Cycle (E2)"]
[null,null,"Model Year:",{"$nulls":5},"    -1042.310(a) - EPA approved combining it, for PLT purposes only.",{"$nulls":25},"4 = 5-Mode Constant Speed Auxiliary Cycle (D2)"]
[null,null,"Tier:",{"$nulls":31},"5 = 6-Mode Variable Speed Auxiliary Cycle (G2)",null,null,"1 (E3)"]
[null,null,"Combined NOx+HC?",{"$nulls":31},"6 = 8-Mode Variable Speed Ausiliary Cycle (C1)",null,null,"2 (E5)"]
[null,null,"40 CFR Part:",{"$nulls":3},{"$f":"AN6","v":1042},null,"Additional testing required by EPA [40 CFR 1042.301(e)]? ",{"$nulls":25},"O = Other",null,null,"3 (E2)"]
[{"$nulls":37},"4 (D2)"]
[{"$nulls":37},"5 (G2)",{"$nulls":132},"deleted and redirected"]
[{"$nulls":22}," ",{"$nulls":14},"6 (C1)",4,{"$nulls":6},4]
[null,null,"Comments:",{"$nulls":34},"O (other)"]
[{"$nulls":22}," ",{"$nulls":22},"additive"]
[{"$nulls":45},"multiplicative",{"$nulls":22},"CO Rounding",{"$nulls":4},"CO Rounding",{"$nulls":4},"CO Rounding",{"$nulls":4},"CO Rounding",{"$nulls":10},"PM Rounding",{"$nulls":4},"PM Rounding",{"$nulls":4},"PM Rounding",{"$nulls":4},"PM Rounding",{"$nulls":10},"HC Rounding",{"$nulls":4},"HC Rounding",{"$nulls":4},"HC Rounding",{"$nulls":4},"HC Rounding",{"$nulls":10},"NOx Rounding",{"$nulls":4},"NOx Rounding",{"$nulls":4},"NOx Rounding",{"$nulls":4},"NOx Rounding"]
[{"$nulls":22}," ",{"$nulls":45},"initial",{"$nulls":4},"final",{"$nulls":4}," det final",{"$nulls":4},"ave of all final",{"$nulls":10},"initial",{"$nulls":4},"final",{"$nulls":4}," det final",{"$nulls":4},"ave of all final",{"$nulls":10},"initial",{"$nulls":4},"final",{"$nulls":4}," det final",{"$nulls":4},"ave of all final",{"$nulls":10},"initial",{"$nulls":4},"final",{"$nulls":4}," det final",{"$nulls":4},"ave of all final"]
[{"$nulls":38},"Y",{"$nulls":6},"Y"]
["PLT Engine Test Results: Engine Family #2",{"$nulls":37},"N",{"$nulls":6},"N",{"$nulls":124},"This is N17"]
[{"$nulls":36},"CO",null,"PM",null,null,"HC or HC+NOX",null,"Nox",null,"Engine Data Complete?",{"$nulls":11},"HC","HC","HC","HC","Nox","Nox","Nox","Nox",{"$nulls":107},"1% of production or pre-approved reduced sample size - whichever is Lower # "]
[null,"Calc Final Result?","Test Number","Test Date","Test Time","Test Qtr","Engine ID","Engine Make","Engine Configuration","Build Date","Green Engine Factor Applied?","Green Engine Factor Determination Method","Service Hours (or miles) Accumulation","Service Hours Location","Service Acc. Procedure","CO Initial Result ","Rounded CO Initial Result ","CO Final Result ","Det. CO Final Result ","PM Initial Result ","Rounded PM Initial Result ","PM Final Result ","Det. PM Final Result ","HC Initial Result ","Rounded HC Initial Result ","HC Final Result ","Det. HC Final Result ","NOx Initial Result ","Rounded NOx Initial Result ","NOx Final Result ","Det. NOx Final Result ","Reason for Failed Test (if applicable)","Remedy","Repairs","Test Cycle","Comments",0,0,0,0,0,0,0,0,{"$nulls":5},"Unrounded initial CO","Unrounded final CO","Det CO","Final CO","Unrounded initial PM","Unrounded final PM","Det PM","Final PM","Unrounded initial HCNOx","Unrounded final HCNOx","Det HCNOx","Final HCNOX","Unrounded initial NOx","Unrounded final NOx","Det NOx","Final HCNOX",{"$nulls":7},"rounded",{"$nulls":4},"rounded",{"$nulls":4},"rounded",{"$nulls":4},"rounded",{"$nulls":10},"rounded",{"$nulls":4},"rounded",{"$nulls":4},"rounded",{"$nulls":4},"rounded",{"$nulls":10},"rounded",{"$nulls":4},"rounded",{"$nulls":4},"rounded",{"$nulls":4},"rounded","ROUNDED AND ACCOUNT FOR BLANK",{"$nulls":9},"rounded",{"$nulls":4},"rounded",{"$nulls":4},"rounded",{"$nulls":4},"rounded","ROUNDED AND ACCOUNT FOR BLANK","Test complete Flag","Total complete","Fail Flag","req","val","baseline req","req due to fails","sum fails","baseline req"]
[1,{"$nulls":4},"N/A",{"$nulls":10},{"$f":"$BU36","v":""},{"$f":"$BZ36","v":""},{"$f":"$CE36","v":""},null,{"$f":"$CU36","v":""},{"$f":"$CZ36","v":""},{"$f":"$DE36","v":""},null,{"$f":"$DU36","v":""},{"$f":"$DZ36","v":""},{"$f":"$EE36","v":""},null,{"$f":"$EU36","v":""},{"$f":"$EZ36","v":""},{"$f":"$FE36","v":""},{"$nulls":5},{"$f":"IF($B36=\"N\",IF(AND($AK35<>\"\",$Q36<>\"\"),$AK35+$Q36,\"\"),IF($B36=\"Y\",0,\"\"))","v":""},{"$f":"IF($B36=\"N\",AL35+1,IF($B36=\"Y\",0,\"\"))","v":""},{"$f":"IF($B36=\"N\",IF(AND($AM35<>\"\",$U36<>\"\"),$AM35+$U36,\"\"),IF($B36=\"Y\",0,\"\"))","v":""},{"$f":"IF($B36=\"N\",AN35+1,IF($B36=\"Y\",0,\"\"))","v":""},{"$f":"IF($B36=\"N\",IF(AND($AO35<>\"\",$Y36<>\"\"),$AO35+$Y36,\"\"),IF($B36=\"Y\",0,\"\"))","v":""},{"$f":"IF($B36=\"N\",AP35+1,IF($B36=\"Y\",0,\"\"))","v":""},{"$f":"IF($B36=\"N\",IF(AND($AQ35<>\"\",$AC36<>\"\"),$AQ35+$AC36,\"\"),IF($B36=\"Y\",0,\"\"))","v":""},{"$f":"IF($B36=\"N\",AR35+1,IF($B36=\"Y\",0,\"\"))","v":""},null,{"$f":"IF(AND(B36<>\"\",C36<>\"\",D36<>\"\",E36<>\"\",G36<>\"\",H36<>\"\",I36<>\"\",J36<>\"\",K36<>\"\",M36<>\"\",N36<>\"\",O36<>\"\"),1,0)","v":0},{"$nulls":3},{"$f":"IF(AND($P36<>\"\",$AT36=1),$P36,\"\")","v":""},{"$f":"IF($B36=\"Y\",IF(AND($Q36<>\"\",$AK35<>\"\",$AL35<>\"\"),($Q36+$AK35)/($AL35+1),\"\"),\"\")","v":""},{"$f":"IF(AND($B36=\"Y\",$R36<>\"\",$R$18<>\"\"),IF($R$19=\"additive\",$R36+$R$18,IF($R$19=\"multiplicative\",$R36*$R$18,\"\")),\"\")","v":""},{"$f":"IF(COUNT($S$36:$S$85)>0,AVERAGE($S$36:$S$85),\"\")","v":""},{"$f":"IF(AND($T36<>\"\",$AT36=1),$T36,\"\")","v":""},{"$f":"IF($B36=\"Y\",IF(AND($U36<>\"\",$AM35<>\"\",$AN35<>\"\"),($U36+$AM35)/($AN35+1),\"\"),\"\")","v":""},{"$f":"IF(AND($B36=\"Y\",$V36<>\"\",$V$18<>\"\"),IF($V$19=\"additive\",$V36+$V$18,IF($V$19=\"multiplicative\",$V36*$V$18,\"\")),\"\")","v":""},{"$f":"IF(COUNT($W$36:$W$85)>0,AVERAGE($W$36:$W$85),\"\")","v":""},{"$f":"IF(AND($X36<>\"\",$AT36=1),$X36,\"\")","v":""},{"$f":"IF($B36=\"Y\",IF(AND($Y36<>\"\",$AO35<>\"\",$AP35<>\"\"),($Y36+$AO35)/($AP35+1),\"\"),\"\")","v":""},{"$f":"IF(AND($B36=\"Y\",$Z36<>\"\",$Z$18<>\"\"),IF($Z$19=\"additive\",$Z36+$Z$18,IF($Z$19=\"multiplicative\",$Z36*$Z$18,\"\")),\"\")","v":""},{"$f":"IF(COUNT($AA$36:$AA$85)>0,AVERAGE($AA$36:$AA$85),\"\")","v":""},{"$f":"IF(AND($AB36<>\"\",$AT36=1),$AB36,\"\")","v":""},{"$f":"IF($B36=\"Y\",IF(AND($AC36<>\"\",$AQ35<>\"\",$AR35<>\"\"),($AC36+$AQ35)/($AR35+1),\"\"),\"\")","v":""},{"$f":"IF(AND($B36=\"Y\",$AD36<>\"\",$AD$18<>\"\"),IF($AD$19=\"additive\",$AD36+$AD$18,IF($AD$19=\"multiplicative\",$AD36*$AD$18,\"\")),\"\")","v":""},{"$f":"IF(COUNT($AE$36:$AE$85)>0,AVERAGE($AE$36:$AE$85),\"\")","v":""},{"$nulls":7},{"$f":"IF($AX36<>\"\",ROUND($AX36,2),\"\")","v":""},{"$nulls":4},{"$f":"IF($AY36<>\"\",ROUND($AY36,2),\"\")","v":""},{"$nulls":4},{"$f":"IF($AZ36<>\"\",ROUND($AZ36,2),\"\")","v":""},{"$nulls":4},{"$f":"IF($BA36<>\"\",ROUND($BA36,2),\"\")","v":""},{"$nulls":10},{"$f":"IF($BB36<>\"\",ROUND($BB36,3),\"\")","v":""},{"$nulls":4},{"$f":"IF($BC36<>\"\",ROUND($BC36,3),\"\")","v":""},{"$nulls":4},{"$f":"IF($BD36<>\"\",ROUND($BD36,3),\"\")","v":""},{"$nulls":4},{"$f":"IF($BE36<>\"\",ROUND($BE36,3),\"\")","v":""},{"$nulls":10},{"$f":"IF($BF36<>\"\",ROUND($BF36,3),\"\")","v":""},{"$nulls":4},{"$f":"IF($BG36<>\"\",ROUND($BG36,3),\"\")","v":""},{"$nulls":4},{"$f":"IF($BH36<>\"\",ROUND($BH36,3),\"\")","v":""},{"$nulls":4},{"$f":"IF($BI36<>\"\",ROUND($BI36,3),\"\")","v":""},{"$f":"IF(EJ36=\"\",0,EJ36)","v":0},{"$nulls":9},{"$f":"IF($BJ36<>\"\",ROUND($BJ36,2),\"\")","v":""},{"$nulls":4},{"$f":"IF($BK36<>\"\",ROUND($BK36,2),\"\")","v":""},{"$nulls":4},{"$f":"IF($BL36<>\"\",ROUND($BL36,2),\"\")","v":""},{"$nulls":4},{"$f":"IF($BM36<>\"\",ROUND($BM36,2),\"\")","v":""},{"$f":"IF(FJ36=\"\",0,FJ36)","v":0},{"$f":"IF($AG$12<>\"CAT3\",IF(AND($B36=\"Y\",$S36<>\"\",$W36<>\"\",$AA36<>\"\",$AE36<>\"\"),1,0),IF($AE36<>\"\",1,0))","v":0},{"$f":"SUM($FL$36:$FL36)","v":0},{"$f":"IF($AG$12<>\"CAT3\",IF($FL36=1,IF(OR($S36>$R$16,$W36>$V$16,$AA36>$Z$16,IF($AF$12<>\"Y\",OR($AA36>$Z$16,$AE36>$AD$16),ROUND(($AA36+$AE36),2)>$Z$16)),1,0),0),IF($FL36=1,IF(AND($AE36>$AD$16,$AF$12=\"N\"),1,0),0))","v":0},{"$f":"IF(OR($M$11=\"\",$N$18=\"Y\"),0,IF($AG$12=\"CAT3\",$N$12,($FR$36+1)))","v":0},{"$f":"SUM(FL36:FL85)","v":0},{"$f":"IF(AND($G$17=\"Y\",$N$24<>\"\"),MIN($N$24,$FT$36),$FT$36)","v":0},{"$f":"$FS$36*2","v":0},{"$f":"SUM(FN36:FN85)","v":0},{"$f":"IF($N$12<>\"\",$N$12*0.01,0)","v":0}]
[{"$f":"A36+1","v":2},{"$nulls":4},"N/A",{"$nulls":10},"","","",null,"","","",null,"","","",null,"","","",{"$nulls":5},"",{"$f":"IF($B37=\"N\",AL36+1,IF($B37=\"Y\",0,\"\"))","v":""},"",{"$f":"IF($B37=\"N\",AN36+1,IF($B37=\"Y\",0,\"\"))","v":""},{"$f":"IF($B37=\"N\",IF(AND($AO36<>\"\",$Y37<>\"\"),$AO36+$Y37,\"\"),IF($B37=\"Y\",0,\"\"))","v":""},{"$f":"IF($B37=\"N\",AP36+1,IF($B37=\"Y\",0,\"\"))","v":""},{"$f":"IF($B37=\"N\",IF(AND($AQ36<>\"\",$AC37<>\"\"),$AQ36+$AC37,\"\"),IF($B37=\"Y\",0,\"\"))","v":""},{"$f":"IF($B37=\"N\",AR36+1,IF($B37=\"Y\",0,\"\"))","v":""},null,{"$f":"IF(AND(B37<>\"\",C37<>\"\",D37<>\"\",E37<>\"\",G37<>\"\",H37<>\"\",I37<>\"\",J37<>\"\",K37<>\"\",M37<>\"\",N37<>\"\",O37<>\"\"),1,0)","v":0},{"$nulls":3},"","",{"$f":"IF(AND($B37=\"Y\",$R37<>\"\",$R$18<>\"\"),IF($R$19=\"additive\",$R37+$R$18,IF($R$19=\"multiplicative\",$R37*$R$18,\"\")),\"\")","v":""},null,"","",{"$f":"IF(AND($B37=\"Y\",$V37<>\"\",$V$18<>\"\"),IF($V$19=\"additive\",$V37+$V$18,IF($V$19=\"multiplicative\",$V37*$V$18,\"\")),\"\")","v":""},null,{"$f":"IF(AND($X37<>\"\",$AT37=1),$X37,\"\")","v":""},{"$f":"IF($B37=\"Y\",IF(AND($Y37<>\"\",$AO36<>\"\",$AP36<>\"\"),($Y37+$AO36)/($AP36+1),\"\"),\"\")","v":""},{"$f":"IF(AND($B37=\"Y\",$Z37<>\"\",$Z$18<>\"\"),IF($Z$19=\"additive\",$Z37+$Z$18,IF($Z$19=\"multiplicative\",$Z37*$Z$18,\"\")),\"\")","v":""},null,{"$f":"IF(AND($AB37<>\"\",$AT37=1),$AB37,\"\")","v":""},{"$f":"IF($B37=\"Y\",IF(AND($AC37<>\"\",$AQ36<>\"\",$AR36<>\"\"),($AC37+$AQ36)/($AR36+1),\"\"),\"\")","v":""},{"$f":"IF(AND($B37=\"Y\",$AD37<>\"\",$AD$18<>\"\"),IF($AD$19=\"additive\",$AD37+$AD$18,IF($AD$19=\"multiplicative\",$AD37*$AD$18,\"\")),\"\")","v":""},{"$nulls":8},{"$f":"IF($AX37<>\"\",ROUND($AX37,2),\"\")","v":""},{"$nulls":4},{"$f":"IF($AY37<>\"\",ROUND($AY37,2),\"\")","v":""},{"$nulls":4},{"$f":"IF($AZ37<>\"\",ROUND($AZ37,2),\"\")","v":""},{"$nulls":15},{"$f":"IF($BB37<>\"\",ROUND($BB37,3),\"\")","v":""},{"$nulls":4},{"$f":"IF($BC37<>\"\",ROUND($BC37,3),\"\")","v":""},{"$nulls":4},{"$f":"IF($BD37<>\"\",ROUND($BD37,3),\"\")","v":""},{"$nulls":15},{"$f":"IF($BF37<>\"\",ROUND($BF37,3),\"\")","v":""},{"$nulls":4},{"$f":"IF($BG37<>\"\",ROUND($BG37,3),\"\")","v":""},{"$nulls":4},{"$f":"IF($BH37<>\"\",ROUND($BH37,3),\"\")","v":""},{"$nulls":15},{"$f":"IF($BJ37<>\"\",ROUND($BJ37,2),\"\")","v":""},{"$nulls":4},{"$f":"IF($BK37<>\"\",ROUND($BK37,2),\"\")","v":""},{"$nulls":4},{"$f":"IF($BL37<>\"\",ROUND($BL37,2),\"\")","v":""},{"$nulls":6},{"$f":"IF($AG$12<>\"CAT3\",IF(AND($B37=\"Y\",$S37<>\"\",$W37<>\"\",$AA37<>\"\",$AE37<>\"\"),1,0),IF($AE37<>\"\",1,0))","v":0},{"$f":"SUM($FL$36:$FL37)","v":0},{"$f":"IF($AG$12<>\"CAT3\",IF($FL37=1,IF(OR($S37>$R$16,$W37>$V$16,$AA37>$Z$16,IF($AF$12<>\"Y\",OR($AA37>$Z$16,$AE37>$AD$16),ROUND(($AA37+$AE37),2)>$Z$16)),1,0),0),IF($FL37=1,IF(AND($AE37>$AD$16,$AF$12=\"N\"),1,0),0))","v":0},null,null,{"$f":"MAX($FQ$36,$FL$10)","v":1}]
[{"$f":"A37+1","v":3},{"$nulls":4},"N/A",{"$nulls":10},"","","",null,"","","",null,"","","",null,"","","",{"$nulls":5},"","","","","","","","",null,0,{"$nulls":3},"","","",null,"","","",null,"","","",null,"","","",{"$nulls":8},"",{"$nulls":4},"",{"$nulls":4},"",{"$nulls":15},"",{"$nulls":4},"",{"$nulls":4},"",{"$nulls":15},"",{"$nulls":4},"",{"$nulls":4},"",{"$nulls":15},"",{"$nulls":4},"",{"$nulls":4},"",{"$nulls":6},0,{"$f":"SUM($FL$36:$FL38)","v":0},0]
[4,{"$nulls":4},"N/A",{"$nulls":10},"","","",null,"","","",null,"","","",null,"","","",{"$nulls":5},"","","","","","","","",null,0,{"$nulls":3},"","","",null,"","","",null,"","","",null,"","","",{"$nulls":8},"",{"$nulls":4},"",{"$nulls":4},"",{"$nulls":15},"",{"$nulls":4},"",{"$nulls":4},"",{"$nulls":15},"",{"$nulls":4},"",{"$nulls":4},"",{"$nulls":15},"",{"$nulls":4},"",{"$nulls":4},"",{"$nulls":6},0,{"$f":"SUM($FL$36:$FL39)","v":0},0,null,null,"then, the larger of that sample size or 1  (or if Part 94 and cat1,  can be 0)"]
[5,{"$nulls":4},"N/A",{"$nulls":10},"","","",null,"","","",null,"","","",null,"","","",{"$nulls":5},"","","","","","","","",null,0,{"$nulls":3},"","","",null,"","","",null,"","","",null,"","","",{"$nulls":8},"",{"$nulls":4},"",{"$nulls":4},"",{"$nulls":15},"",{"$nulls":4},"",{"$nulls":4},"",{"$nulls":15},"",{"$nulls":4},"",{"$nulls":4},"",{"$nulls":15},"",{"$nulls":4},"",{"$nulls":4},"",{"$nulls":6},0,{"$f":"SUM($FL$36:$FL40)","v":0},0]
[6,{"$nulls":4},"N/A",{"$nulls":10},"","","",null,"","","",null,"","","",null,"","","",{"$nulls":5},"","","","","","","","",null,0,{"$nulls":3},"","","",null,"","","",null,"","","",null,"","","",{"$nulls":8},"",{"$nulls":4},"",{"$nulls":4},"",{"$nulls":15},"",{"$nulls":4},"",{"$nulls":4},"",{"$nulls":15},"",{"$nulls":4},"",{"$nulls":4},"",{"$nulls":15},"",{"$nulls":4},"",{"$nulls":4},"",{"$nulls":6},0,{"$f":"SUM($FL$36:$FL41)","v":0},0]
[7,{"$nulls":4},"N/A",{"$nulls":10},"","","",null,"","","",null,"","","",null,"","","",{"$nulls":5},"","","","","","","","",null,0,{"$nulls":3},"","","",null,"","","",null,"","","",null,"","","",{"$nulls":8},"",{"$nulls":4},"",{"$nulls":4},"",{"$nulls":15},"",{"$nulls":4},"",{"$nulls":4},"",{"$nulls":15},"",{"$nulls":4},"",{"$nulls":4},"",{"$nulls":15},"",{"$nulls":4},"",{"$nulls":4},"",{"$nulls":6},0,{"$f":"SUM($FL$36:$FL42)","v":0},0]
[8,{"$nulls":4},"N/A",{"$nulls":10},"","","",null,"","","",null,"","","",null,"","","",{"$nulls":5},"","","","","","","","",null,0,{"$nulls":3},"","","",null,"","","",null,"","","",null,"","","",{"$nulls":8},"",{"$nulls":4},"",{"$nulls":4},"",{"$nulls":15},"",{"$nulls":4},"",{"$nulls":4},"",{"$nulls":15},"",{"$nulls":4},"",{"$nulls":4},"",{"$nulls":15},"",{"$nulls":4},"",{"$nulls":4},"",{"$nulls":6},0,{"$f":"SUM($FL$36:$FL43)","v":0},0]
[9,{"$nulls":4},"N/A",{"$nulls":10},"","","",null,"","","",null,"","","",null,"","","",{"$nulls":5},"","","","","","","","",null,0,{"$nulls":3},"","","",null,"","","",null,"","","",null,"","","",{"$nulls":8},"",{"$nulls":4},"",{"$nulls":4},"",{"$nulls":15},"",{"$nulls":4},"",{"$nulls":4},"",{"$nulls":15},"",{"$nulls":4},"",{"$nulls":4},"",{"$nulls":15},"",{"$nulls":4},"",{"$nulls":4},"",{"$nulls":6},0,{"$f":"SUM($FL$36:$FL44)","v":0},0]
[10,{"$nulls":4},"N/A",{"$nulls":10},"","","",null,"","","",null,"","","",null,"","","",{"$nulls":5},"","","","","","","","",null,0,{"$nulls":3},"","","",null,"","","",null,"","","",null,"","","",{"$nulls":8},"",{"$nulls":4},"",{"$nulls":4},"",{"$nulls":15},"",{"$nulls":4},"",{"$nulls":4},"",{"$nulls":15},"",{"$nulls":4},"",{"$nulls":4},"",{"$nulls":15},"",{"$nulls":4},"",{"$nulls":4},"",{"$nulls":6},0,{"$f":"SUM($FL$36:$FL45)","v":0},0]
[11,{"$nulls":4},"N/A",{"$nulls":10},"","","",null,"","","",null,"","","",null,"","","",{"$nulls":5},"","","","","","","","",null,0,{"$nulls":3},"","","",null,"","","",null,"","","",null,"","","",{"$nulls":8},"",{"$nulls":4},"",{"$nulls":4},"",{"$nulls":15},"",{"$nulls":4},"",{"$nulls":4},"",{"$nulls":15},"",{"$nulls":4},"",{"$nulls":4},"",{"$nulls":15},"",{"$nulls":4},"",{"$nulls":4},"",{"$nulls":6},0,{"$f":"SUM($FL$36:$FL46)","v":0},0]
[12,{"$nulls":4},"N/A",{"$nulls":10},"","","",null,"","","",null,"","","",null,"","","",{"$nulls":5},"","","","","","","","",null,0,{"$nulls":3},"","","",null,"","","",null,"","","",null,"","","",{"$nulls":8},"",{"$nulls":4},"",{"$nulls":4},"",{"$nulls":15},"",{"$nulls":4},"",{"$nulls":4},"",{"$nulls":15},"",{"$nulls":4},"",{"$nulls":4},"",{"$nulls":15},"",{"$nulls":4},"",{"$nulls":4},"",{"$nulls":6},0,{"$f":"SUM($FL$36:$FL47)","v":0},0]
[13,{"$nulls":4},"N/A",{"$nulls":10},"","","",null,"","","",null,"","","",null,"","","",{"$nulls":5},"","","","","","","","",null,0,{"$nulls":3},"","","",null,"","","",null,"","","",null,"","","",{"$nulls":8},"",{"$nulls":4},"",{"$nulls":4},"",{"$nulls":15},"",{"$nulls":4},"",{"$nulls":4},"",{"$nulls":15},"",{"$nulls":4},"",{"$nulls":4},"",{"$nulls":15},"",{"$nulls":4},"",{"$nulls":4},"",{"$nulls":6},0,{"$f":"SUM($FL$36:$FL48)","v":0},0]
[14,{"$nulls":4},"N/A",{"$nulls":10},"","","",null,"","","",null,"","","",null,"","","",{"$nulls":5},"","","","","","","","",null,0,{"$nulls":3},"","","",null,"","","",null,"","","",null,"","","",{"$nulls":8},"",{"$nulls":4},"",{"$nulls":4},"",{"$nulls":15},"",{"$nulls":4},"",{"$nulls":4},"",{"$nulls":15},"",{"$nulls":4},"",{"$nulls":4},"",{"$nulls":15},"",{"$nulls":4},"",{"$nulls":4},"",{"$nulls":6},0,{"$f":"SUM($FL$36:$FL49)","v":0},0]
[15,{"$nulls":4},"N/A",{"$nulls":10},"","","",null,"","","",null,"","","",null,"","","",{"$nulls":5},"","","","","","","","",null,0,{"$nulls":3},"","","",null,"","","",null,"","","",null,"","","",{"$nulls":8},"",{"$nulls":4},"",{"$nulls":4},"",{"$nulls":15},"",{"$nulls":4},"",{"$nulls":4},"",{"$nulls":15},"",{"$nulls":4},"",{"$nulls":4},"",{"$nulls":15},"",{"$nulls":4},"",{"$nulls":4},"",{"$nulls":6},0,{"$f":"SUM($FL$36:$FL50)","v":0},0]
[16,{"$nulls":4},"N/A",{"$nulls":10},"","","",null,"","","",null,"","","",null,"","","",{"$nulls":5},"","","","","","","","",null,0,{"$nulls":3},"","","",null,"","","",null,"","","",null,"","","",{"$nulls":8},"",{"$nulls":4},"",{"$nulls":4},"",{"$nulls":15},"",{"$nulls":4},"",{"$nulls":4},"",{"$nulls":15},"",{"$nulls":4},"",{"$nulls":4},"",{"$nulls":15},"",{"$nulls":4},"",{"$nulls":4},"",{"$nulls":6},0,{"$f":"SUM($FL$36:$FL51)","v":0},0]
[17,{"$nulls":4},"N/A",{"$nulls":10},"","","",null,"","","",null,"","","",null,"","","",{"$nulls":5},"","","","","","","","",null,0,{"$nulls":3},"","","",null,"","","",null,"","","",null,"","","",{"$nulls":8},"",{"$nulls":4},"",{"$nulls":4},"",{"$nulls":15},"",{"$nulls":4},"",{"$nulls":4},"",{"$nulls":15},"",{"$nulls":4},"",{"$nulls":4},"",{"$nulls":15},"",{"$nulls":4},"",{"$nulls":4},"",{"$nulls":6},0,{"$f":"SUM($FL$36:$FL52)","v":0},0]
[18,{"$nulls":4},"N/A",{"$nulls":10},"","","",null,"","","",null,"","","",null,"","","",{"$nulls":5},"","","","","","","","",null,0,{"$nulls":3},"","","",null,"","","",null,"","","",null,"","","",{"$nulls":8},"",{"$nulls":4},"",{"$nulls":4},"",{"$nulls":15},"",{"$nulls":4},"",{"$nulls":4},"",{"$nulls":15},"",{"$nulls":4},"",{"$nulls":4},"",{"$nulls":15},"",{"$nulls":4},"",{"$nulls":4},"",{"$nulls":6},0,{"$f":"SUM($FL$36:$FL53)","v":0},0]
[19,{"$nulls":4},"N/A",{"$nulls":10},"","","",null,"","","",null,"","","",null,"","","",{"$nulls":5},"","","","","","","","",null,0,{"$nulls":3},"","","",null,"","","",null,"","","",null,"","","",{"$nulls":8},"",{"$nulls":4},"",{"$nulls":4},"",{"$nulls":15},"",{"$nulls":4},"",{"$nulls":4},"",{"$nulls":15},"",{"$nulls":4},"",{"$nulls":4},"",{"$nulls":15},"",{"$nulls":4},"",{"$nulls":4},"",{"$nulls":6},0,{"$f":"SUM($FL$36:$FL54)","v":0},0]
[20,{"$nulls":4},"N/A",{"$nulls":10},"","","",null,"","","",null,"","","",null,"","","",{"$nulls":5},"","","","","","","","",null,0,{"$nulls":3},"","","",null,"","","",null,"","","",null,"","","",{"$nulls":8},"",{"$nulls":4},"",{"$nulls":4},"",{"$nulls":15},"",{"$nulls":4},"",{"$nulls":4},"",{"$nulls":15},"",{"$nulls":4},"",{"$nulls":4},"",{"$nulls":15},"",{"$nulls":4},"",{"$nulls":4},"",{"$nulls":6},0,{"$f":"SUM($FL$36:$FL55)","v":0},0]
[21,{"$nulls":4},"N/A",{"$nulls":10},"","","",null,"","","",null,"","","",null,"","","",{"$nulls":5},"","","","","","","","",null,0,{"$nulls":3},"","","",null,"","","",null,"","","",null,"","","",{"$nulls":8},"",{"$nulls":4},"",{"$nulls":4},"",{"$nulls":15},"",{"$nulls":4},"",{"$nulls":4},"",{"$nulls":15},"",{"$nulls":4},"",{"$nulls":4},"",{"$nulls":15},"",{"$nulls":4},"",{"$nulls":4},"",{"$nulls":6},0,{"$f":"SUM($FL$36:$FL56)","v":0},0]
[22,{"$nulls":4},"N/A",{"$nulls":10},"","","",null,"","","",null,"","","",null,"","","",{"$nulls":5},"","","","","","","","",null,0,{"$nulls":3},"","","",null,"","","",null,"","","",null,"","","",{"$nulls":8},"",{"$nulls":4},"",{"$nulls":4},"",{"$nulls":15},"",{"$nulls":4},"",{"$nulls":4},"",{"$nulls":15},"",{"$nulls":4},"",{"$nulls":4},"",{"$nulls":15},"",{"$nulls":4},"",{"$nulls":4},"",{"$nulls":6},0,{"$f":"SUM($FL$36:$FL57)","v":0},0]
[23,{"$nulls":4},"N/A",{"$nulls":10},"","","",null,"","","",null,"","","",null,"","","",{"$nulls":5},"","","","","","","","",null,0,{"$nulls":3},"","","",null,"","","",null,"","","",null,"","","",{"$nulls":8},"",{"$nulls":4},"",{"$nulls":4},"",{"$nulls":15},"",{"$nulls":4},"",{"$nulls":4},"",{"$nulls":15},"",{"$nulls":4},"",{"$nulls":4},"",{"$nulls":15},"",{"$nulls":4},"",{"$nulls":4},"",{"$nulls":6},0,{"$f":"SUM($FL$36:$FL58)","v":0},0]
[24,{"$nulls":4},"N/A",{"$nulls":10},"","","",null,"","","",null,"","","",null,"","","",{"$nulls":5},"","","","","","","","",null,0,{"$nulls":3},"","","",null,"","","",null,"","","",null,"","","",{"$nulls":8},"",{"$nulls":4},"",{"$nulls":4},"",{"$nulls":15},"",{"$nulls":4},"",{"$nulls":4},"",{"$nulls":15},"",{"$nulls":4},"",{"$nulls":4},"",{"$nulls":15},"",{"$nulls":4},"",{"$nulls":4},"",{"$nulls":6},0,{"$f":"SUM($FL$36:$FL59)","v":0},0]
[25,{"$nulls":4},"N/A",{"$nulls":10},"","","",null,"","","",null,"","","",null,"","","",{"$nulls":5},"","","","","","","","",null,0,{"$nulls":3},"","","",null,"","","",null,"","","",null,"","","",{"$nulls":8},"",{"$nulls":4},"",{"$nulls":4},"",{"$nulls":15},"",{"$nulls":4},"",{"$nulls":4},"",{"$nulls":15},"",{"$nulls":4},"",{"$nulls":4},"",{"$nulls":15},"",{"$nulls":4},"",{"$nulls":4},"",{"$nulls":6},0,{"$f":"SUM($FL$36:$FL60)","v":0},0]
[26,{"$nulls":4},"N/A",{"$nulls":10},"","","",null,"","","",null,"","","",null,"","","",{"$nulls":5},"","","","","","","","",null,0,{"$nulls":3},"","","",null,"","","",null,"","","",null,"","","",{"$nulls":8},"",{"$nulls":4},"",{"$nulls":4},"",{"$nulls":15},"",{"$nulls":4},"",{"$nulls":4},"",{"$nulls":15},"",{"$nulls":4},"",{"$nulls":4},"",{"$nulls":15},"",{"$nulls":4},"",{"$nulls":4},"",{"$nulls":6},0,{"$f":"SUM($FL$36:$FL61)","v":0},0]
[27,{"$nulls":4},"N/A",{"$nulls":10},"","","",null,"","","",null,"","","",null,"","","",{"$nulls":5},"","","","","","","","",null,0,{"$nulls":3},"","","",null,"","","",null,"","","",null,"","","",{"$nulls":8},"",{"$nulls":4},"",{"$nulls":4},"",{"$nulls":15},"",{"$nulls":4},"",{"$nulls":4},"",{"$nulls":15},"",{"$nulls":4},"",{"$nulls":4},"",{"$nulls":15},"",{"$nulls":4},"",{"$nulls":4},"",{"$nulls":6},0,{"$f":"SUM($FL$36:$FL62)","v":0},0]
[28,{"$nulls":4},"N/A",{"$nulls":10},"","","",null,"","","",null,"","","",null,"","","",{"$nulls":5},"","","","","","","","",null,0,{"$nulls":3},"","","",null,"","","",null,"","","",null,"","","",{"$nulls":8},"",{"$nulls":4},"",{"$nulls":4},"",{"$nulls":15},"",{"$nulls":4},"",{"$nulls":4},"",{"$nulls":15},"",{"$nulls":4},"",{"$nulls":4},"",{"$nulls":15},"",{"$nulls":4},"",{"$nulls":4},"",{"$nulls":6},0,{"$f":"SUM($FL$36:$FL63)","v":0},0]
[29,{"$nulls":4},"N/A",{"$nulls":10},"","","",null,"","","",null,"","","",null,"","","",{"$nulls":5},"","","","","","","","",null,0,{"$nulls":3},"","","",null,"","","",null,"","","",null,"","","",{"$nulls":8},"",{"$nulls":4},"",{"$nulls":4},"",{"$nulls":15},"",{"$nulls":4},"",{"$nulls":4},"",{"$nulls":15},"",{"$nulls":4},"",{"$nulls":4},"",{"$nulls":15},"",{"$nulls":4},"",{"$nulls":4},"",{"$nulls":6},0,{"$f":"SUM($FL$36:$FL64)","v":0},0]
[30,{"$nulls":4},"N/A",{"$nulls":10},"","","",null,"","","",null,"","","",null,"","","",{"$nulls":5},"","","","","","","","",null,0,{"$nulls":3},"","","",null,"","","",null,"","","",null,"","","",{"$nulls":8},"",{"$nulls":4},"",{"$nulls":4},"",{"$nulls":15},"",{"$nulls":4},"",{"$nulls":4},"",{"$nulls":15},"",{"$nulls":4},"",{"$nulls":4},"",{"$nulls":15},"",{"$nulls":4},"",{"$nulls":4},"",{"$nulls":6},0,{"$f":"SUM($FL$36:$FL65)","v":0},0]
[31,{"$nulls":4},"N/A",{"$nulls":10},"","","",null,"","","",null,"","","",null,"","","",{"$nulls":5},"","","","","","","","",null,0,{"$nulls":3},"","","",null,"","","",null,"","","",null,"","","",{"$nulls":8},"",{"$nulls":4},"",{"$nulls":4},"",{"$nulls":15},"",{"$nulls":4},"",{"$nulls":4},"",{"$nulls":15},"",{"$nulls":4},"",{"$nulls":4},"",{"$nulls":15},"",{"$nulls":4},"",{"$nulls":4},"",{"$nulls":6},0,{"$f":"SUM($FL$36:$FL66)","v":0},0]
[32,{"$nulls":4},"N/A",{"$nulls":10},"","","",null,"","","",null,"","","",null,"","","",{"$nulls":5},"","","","","","","","",null,0,{"$nulls":3},"","","",null,"","","",null,"","","",null,"","","",{"$nulls":8},"",{"$nulls":4},"",{"$nulls":4},"",{"$nulls":15},"",{"$nulls":4},"",{"$nulls":4},"",{"$nulls":15},"",{"$nulls":4},"",{"$nulls":4},"",{"$nulls":15},"",{"$nulls":4},"",{"$nulls":4},"",{"$nulls":6},0,{"$f":"SUM($FL$36:$FL67)","v":0},0]
[33,{"$nulls":4},"N/A",{"$nulls":10},"","","",null,"","","",null,"","","",null,"","","",{"$nulls":5},"","","","","","","","",null,0,{"$nulls":3},"","","",null,"","","",null,"","","",null,"","","",{"$nulls":8},"",{"$nulls":4},"",{"$nulls":4},"",{"$nulls":15},"",{"$nulls":4},"",{"$nulls":4},"",{"$nulls":15},"",{"$nulls":4},"",{"$nulls":4},"",{"$nulls":15},"",{"$nulls":4},"",{"$nulls":4},"",{"$nulls":6},0,{"$f":"SUM($FL$36:$FL68)","v":0},0]
[34,{"$nulls":4},"N/A",{"$nulls":10},"","","",null,"","","",null,"","","",null,"","","",{"$nulls":5},"","","","","","","","",null,0,{"$nulls":3},"","","",null,"","","",null,"","","",null,"","","",{"$nulls":8},"",{"$nulls":4},"",{"$nulls":4},"",{"$nulls":15},"",{"$nulls":4},"",{"$nulls":4},"",{"$nulls":15},"",{"$nulls":4},"",{"$nulls":4},"",{"$nulls":15},"",{"$nulls":4},"",{"$nulls":4},"",{"$nulls":6},0,{"$f":"SUM($FL$36:$FL69)","v":0},0]
[35,{"$nulls":4},"N/A",{"$nulls":10},"","","",null,"","","",null,"","","",null,"","","",{"$nulls":5},"","","","","","","","",null,0,{"$nulls":3},"","","",null,"","","",null,"","","",null,"","","",{"$nulls":8},"",{"$nulls":4},"",{"$nulls":4},"",{"$nulls":15},"",{"$nulls":4},"",{"$nulls":4},"",{"$nulls":15},"",{"$nulls":4},"",{"$nulls":4},"",{"$nulls":15},"",{"$nulls":4},"",{"$nulls":4},"",{"$nulls":6},0,{"$f":"SUM($FL$36:$FL70)","v":0},0]
[36,{"$nulls":4},"N/A",{"$nulls":10},"","","",null,"","","",null,"","","",null,"","","",{"$nulls":5},"","","","","","","","",null,0,{"$nulls":3},"","","",null,"","","",null,"","","",null,"","","",{"$nulls":8},"",{"$nulls":4},"",{"$nulls":4},"",{"$nulls":15},"",{"$nulls":4},"",{"$nulls":4},"",{"$nulls":15},"",{"$nulls":4},"",{"$nulls":4},"",{"$nulls":15},"",{"$nulls":4},"",{"$nulls":4},"",{"$nulls":6},0,{"$f":"SUM($FL$36:$FL71)","v":0},0]
[37,{"$nulls":4},"N/A",{"$nulls":10},"","","",null,"","","",null,"","","",null,"","","",{"$nulls":5},"","","","","","","","",null,0,{"$nulls":3},"","","",null,"","","",null,"","","",null,"","","",{"$nulls":8},"",{"$nulls":4},"",{"$nulls":4},"",{"$nulls":15},"",{"$nulls":4},"",{"$nulls":4},"",{"$nulls":15},"",{"$nulls":4},"",{"$nulls":4},"",{"$nulls":15},"",{"$nulls":4},"",{"$nulls":4},"",{"$nulls":6},0,{"$f":"SUM($FL$36:$FL72)","v":0},0]
[38,{"$nulls":4},"N/A",{"$nulls":10},"","","",null,"","","",null,"","","",null,"","","",{"$nulls":5},"","","","","","","","",null,0,{"$nulls":3},"","","",null,"","","",null,"","","",null,"","","",{"$nulls":8},"",{"$nulls":4},"",{"$nulls":4},"",{"$nulls":15},"",{"$nulls":4},"",{"$nulls":4},"",{"$nulls":15},"",{"$nulls":4},"",{"$nulls":4},"",{"$nulls":15},"",{"$nulls":4},"",{"$nulls":4},"",{"$nulls":6},0,{"$f":"SUM($FL$36:$FL73)","v":0},0]
[39,{"$nulls":4},"N/A",{"$nulls":10},"","","",null,"","","",null,"","","",null,"","","",{"$nulls":5},"","","","","","","","",null,0,{"$nulls":3},"","","",null,"","","",null,"","","",null,"","","",{"$nulls":8},"",{"$nulls":4},"",{"$nulls":4},"",{"$nulls":15},"",{"$nulls":4},"",{"$nulls":4},"",{"$nulls":15},"",{"$nulls":4},"",{"$nulls":4},"",{"$nulls":15},"",{"$nulls":4},"",{"$nulls":4},"",{"$nulls":6},0,{"$f":"SUM($FL$36:$FL74)","v":0},0]
[40,{"$nulls":4},"N/A",{"$nulls":10},"","","",null,"","","",null,"","","",null,"","","",{"$nulls":5},"","","","","","","","",null,0,{"$nulls":3},"","","",null,"","","",null,"","","",null,"","","",{"$nulls":8},"",{"$nulls":4},"",{"$nulls":4},"",{"$nulls":15},"",{"$nulls":4},"",{"$nulls":4},"",{"$nulls":15},"",{"$nulls":4},"",{"$nulls":4},"",{"$nulls":15},"",{"$nulls":4},"",{"$nulls":4},"",{"$nulls":6},0,{"$f":"SUM($FL$36:$FL75)","v":0},0]
[41,{"$nulls":4},"N/A",{"$nulls":10},"","","",null,"","","",null,"","","",null,"","","",{"$nulls":5},"","","","","","","","",null,0,{"$nulls":3},"","","",null,"","","",null,"","","",null,"","","",{"$nulls":8},"",{"$nulls":4},"",{"$nulls":4},"",{"$nulls":15},"",{"$nulls":4},"",{"$nulls":4},"",{"$nulls":15},"",{"$nulls":4},"",{"$nulls":4},"",{"$nulls":15},"",{"$nulls":4},"",{"$nulls":4},"",{"$nulls":6},0,{"$f":"SUM($FL$36:$FL76)","v":0},0]
[42,{"$nulls":4},"N/A",{"$nulls":10},"","","",null,"","","",null,"","","",null,"","","",{"$nulls":5},"","","","","","","","",null,0,{"$nulls":3},"","","",null,"","","",null,"","","",null,"","","",{"$nulls":8},"",{"$nulls":4},"",{"$nulls":4},"",{"$nulls":15},"",{"$nulls":4},"",{"$nulls":4},"",{"$nulls":15},"",{"$nulls":4},"",{"$nulls":4},"",{"$nulls":15},"",{"$nulls":4},"",{"$nulls":4},"",{"$nulls":6},0,{"$f":"SUM($FL$36:$FL77)","v":0},0]
[43,{"$nulls":4},"N/A",{"$nulls":10},"","","",null,"","","",null,"","","",null,"","","",{"$nulls":5},"","","","","","","","",null,0,{"$nulls":3},"","","",null,"","","",null,"","","",null,"","","",{"$nulls":8},"",{"$nulls":4},"",{"$nulls":4},"",{"$nulls":15},"",{"$nulls":4},"",{"$nulls":4},"",{"$nulls":15},"",{"$nulls":4},"",{"$nulls":4},"",{"$nulls":15},"",{"$nulls":4},"",{"$nulls":4},"",{"$nulls":6},0,{"$f":"SUM($FL$36:$FL78)","v":0},0]
[44,{"$nulls":4},"N/A",{"$nulls":10},"","","",null,"","","",null,"","","",null,"","","",{"$nulls":5},"","","","","","","","",null,0,{"$nulls":3},"","","",null,"","","",null,"","","",null,"","","",{"$nulls":8},"",{"$nulls":4},"",{"$nulls":4},"",{"$nulls":15},"",{"$nulls":4},"",{"$nulls":4},"",{"$nulls":15},"",{"$nulls":4},"",{"$nulls":4},"",{"$nulls":15},"",{"$nulls":4},"",{"$nulls":4},"",{"$nulls":6},0,{"$f":"SUM($FL$36:$FL79)","v":0},0]
[45,{"$nulls":4},"N/A",{"$nulls":10},"","","",null,"","","",null,"","","",null,"","","",{"$nulls":5},"","","","","","","","",null,0,{"$nulls":3},"","","",null,"","","",null,"","","",null,"","","",{"$nulls":8},"",{"$nulls":4},"",{"$nulls":4},"",{"$nulls":15},"",{"$nulls":4},"",{"$nulls":4},"",{"$nulls":15},"",{"$nulls":4},"",{"$nulls":4},"",{"$nulls":15},"",{"$nulls":4},"",{"$nulls":4},"",{"$nulls":6},0,{"$f":"SUM($FL$36:$FL80)","v":0},0]
[46,{"$nulls":4},"N/A",{"$nulls":10},"","","",null,"","","",null,"","","",null,"","","",{"$nulls":5},"","","","","","","","",null,0,{"$nulls":3},"","","",null,"","","",null,"","","",null,"","","",{"$nulls":8},"",{"$nulls":4},"",{"$nulls":4},"",{"$nulls":15},"",{"$nulls":4},"",{"$nulls":4},"",{"$nulls":15},"",{"$nulls":4},"",{"$nulls":4},"",{"$nulls":15},"",{"$nulls":4},"",{"$nulls":4},"",{"$nulls":6},0,{"$f":"SUM($FL$36:$FL81)","v":0},0]
[47,{"$nulls":4},"N/A",{"$nulls":10},"","","",null,"","","",null,"","","",null,"","","",{"$nulls":5},"","","","","","","","",null,0,{"$nulls":3},"","","",null,"","","",null,"","","",null,"","","",{"$nulls":8},"",{"$nulls":4},"",{"$nulls":4},"",{"$nulls":15},"",{"$nulls":4},"",{"$nulls":4},"",{"$nulls":15},"",{"$nulls":4},"",{"$nulls":4},"",{"$nulls":15},"",{"$nulls":4},"",{"$nulls":4},"",{"$nulls":6},0,{"$f":"SUM($FL$36:$FL82)","v":0},0]
[48,{"$nulls":4},"N/A",{"$nulls":10},"","","",null,"","","",null,"","","",null,"","","",{"$nulls":5},"","","","","","","","",null,0,{"$nulls":3},"","","",null,"","","",null,"","","",null,"","","",{"$nulls":8},"",{"$nulls":4},"",{"$nulls":4},"",{"$nulls":15},"",{"$nulls":4},"",{"$nulls":4},"",{"$nulls":15},"",{"$nulls":4},"",{"$nulls":4},"",{"$nulls":15},"",{"$nulls":4},"",{"$nulls":4},"",{"$nulls":6},0,{"$f":"SUM($FL$36:$FL83)","v":0},0]
[49,{"$nulls":4},"N/A",{"$nulls":10},"","","",null,"","","",null,"","","",null,"","","",{"$nulls":5},"","","","","","","","",null,0,{"$nulls":3},"","","",null,"","","",null,"","","",null,"","","",{"$nulls":8},"",{"$nulls":4},"",{"$nulls":4},"",{"$nulls":15},"",{"$nulls":4},"",{"$nulls":4},"",{"$nulls":15},"",{"$nulls":4},"",{"$nulls":4},"",{"$nulls":15},"",{"$nulls":4},"",{"$nulls":4},"",{"$nulls":6},0,{"$f":"SUM($FL$36:$FL84)","v":0},0]
[50,{"$nulls":4},"N/A",{"$nulls":10},"","","",null,"","","",null,"","","",null,"","","",{"$nulls":5},"","","","","","","","",null,0,{"$nulls":3},"","","",null,"","","",null,"","","",null,"",{"$f":"IF($B85=\"Y\",IF(AND($AC85<>\"\",$AQ84<>\"\",$AR84<>\"\"),($AC85+$AQ84)/($AR84+1),\"\"),\"\")","v":""},"",{"$nulls":8},"",{"$nulls":4},"",{"$nulls":4},"",{"$nulls":15},"",{"$nulls":4},"",{"$nulls":4},"",{"$nulls":15},"",{"$nulls":4},"",{"$nulls":4},"",{"$nulls":15},"",{"$nulls":4},"",{"$nulls":4},"",{"$nulls":6},0,{"$f":"SUM($FL$36:$FL85)","v":0},0]
[null,null,{"$f":"SUM(C36:C85)","v":0}]
["g/bhp-hr"]
["g/kW-hr"]

{"sheet":"Engine Family #3","index":5,"n_rows":88,"n_cols":176,"rows_kept":88,"merged":[[1,0,1,35],[2,0,2,35],[3,0,3,35],[4,0,4,35],[5,0,5,35],[6,0,6,35],[8,0,8,16],[10,4,10,6],[10,12,10,13],[11,4,11,6],[11,15,11,16],[11,19,11,20],[11,23,11,24],[11,27,11,28],[12,4,12,6],[13,4,13,6],[14,4,15,6],[17,14,22,14],[27,4,30,13],[27,15,28,16],[32,0,32,16],[32,17,32,33],[32,34,32,35],[33,45,34,45]]}
[]
["United States"]
["US Environmental Protection Agency"]
["Office of Air and Radiation, Office of Transportation and Air Quality"]
[{"$nulls":37},"Tier 2","Y",94]
["Manufacturer Production Line Testing Report for Marine Compression Ignition Engines",{"$nulls":36},"Tier 3","N",1042]
[{"$f":"Summary!B7","v":"Version Number: 1.4 DRAFT  Last Revision: September 2023"},{"$nulls":36},"Tier 4",null,"N/A"]
[]
["Basic Information: Engine Family #3"]
[{"$nulls":167},{"$f":"IF(AND($G$24=94,Summary!$L$13=\"Category 1\"),0,1)","v":1}]
[null,null,"Manufacturer:",null,{"$f":"IF(Summary!D12<>\"\",Summary!D12,\"\")","v":""},{"$nulls":3},"Engine Family:",{"$nulls":31},{"$f":"IF($G$19=\"Diesel\",\"'HC' refers to 'THC' \",IF($G$19=\"Natural Gas\",\"'HC' refers to 'NMHC' \",IF($G$19=\"Alcohol\",\"'HC' refers to 'THCE' \",\"\")))","v":""}]
[null,null,"PLT Test Contact:",null,{"$f":"IF(Summary!D13<>\"\",Summary!D13,\"\")","v":""},{"$nulls":3},"Production (Category 3 only):",{"$nulls":6},{"$f":"IF(N16<>\"Y\", \"Current CO Result\", \"Final CO Result\")","v":"Current CO Result"},null,{"$f":"$CJ$36","v":""},null,{"$f":"IF(N16<>\"Y\", \"Current PM Result\", \"Final PM Result\")","v":"Current PM Result"},null,{"$f":"$DJ$36","v":""},null,{"$f":"IF($AF$12=\"Y\",IF(N16<>\"Y\", \"Current NOx+HC Result\", \"Final NOx+HC Result\"),IF(N16<>\"Y\", \"Current HC Result\", \"Final HC Result\"))","v":"Current HC Result"},null,{"$f":"IF($AF$12=\"Y\",IF($FP$36>0,ROUND($EJ$36+$FJ$36,2),\"\"),$EJ$36)","v":""},null,{"$f":"IF(N16<>\"Y\", \"Current NOx Result\",\"Final NOx Result\")","v":"Current NOx Result"},null,{"$f":"$FJ$36","v":""},null,{"$f":"IF($L$13<>\"Category 3\",IF($G$23=\"\",\"N\",$G$23),\"N\")","v":"N"},{"$f":"IF(Summary!$L$13=\"Category 3\",\"CAT3\",\"\")","v":""}]
[null,null,"Email Address:",null,{"$f":"IF(Summary!D14<>\"\",Summary!D14,\"\")","v":""},{"$nulls":3},"Date of Start of Model Year Production:"]
[null,null,"Phone #:",null,{"$f":"IF(Summary!D15<>\"\",Summary!D15,\"\")","v":""},{"$nulls":3},"Date of End of Model Year Production:",{"$nulls":14},{"$f":"IF($G$19=\"Diesel\",\"'HC' refers to 'THC' \",IF($G$19=\"Natural Gas\",\"'HC' refers to 'NMHC' \",IF($G$19=\"Alcohol\",\"'HC' refers to 'THCE' \",\"\")))","v":""},{"$nulls":13},"Diesel",1,{"$nulls":6},1]
[null,null,"Test Location & Description:",{"$nulls":5},"Deterioration Factor Type:",{"$nulls":28},"Natural Gas",2,{"$nulls":6},2]
[{"$nulls":8},"Include Results from this Engine Family on Summary Sheet?",{"$nulls":6},"CO Standard ",{"$nulls":3},"PM Standard or FEL",{"$nulls":3},{"$f":"IF($AF$12=\"Y\",\"NOx+HC Standard or FEL\",\"HC Standard\")","v":"HC Standard"},{"$nulls":3},"NOx Standard or FEL",{"$nulls":9},"Alcohol",3,{"$nulls":6},3]
[null,null,"Carryover?:",{"$nulls":5},"Required Tests (including failure follow-ups)",{"$nulls":4},{"$f":"$FO36","v":0},null,"Units",null,"g/kW-hr",null,"Units",null,"g/kW-hr",null,"Units",null,"g/kW-hr",null,"Units",null,"g/kW-hr",{"$nulls":4},"Test Cycle Options",{"$nulls":10},4]
[null,null,{"$f":"IF($G$17=\"Y\",\"Please submit supporting documentation indicating that this is a carry-over engine family\",\"\")","v":""},{"$nulls":5},"Instead of testing, are PLT requirements for this Engine Family",{"$nulls":6},"CO  Det Factor",{"$nulls":3},"PM  Det Factor",{"$nulls":3},"HC Det Factor",{"$nulls":3},"NOx  Det Factor",{"$nulls":6},"1 = 4-Mode General Cycle (E3)",null,null,"Recreational"]
[null,null,"Fuel Type:",{"$nulls":5}," fulfilled under the following (Category 1 only)?",{"$nulls":6},"Det Factor Type",null,{"$f":"IF($N$15<>\"\",$N$15,\"\")","v":""},null,"Det Factor Type",null,{"$f":"IF($N$15<>\"\",$N$15,\"\")","v":""},null,"Det Factor Type",null,{"$f":"IF($N$15<>\"\",$N$15,\"\")","v":""},null,"Det Factor Type",null,{"$f":"IF($N$15<>\"\",$N$15,\"\")","v":""},{"$nulls":4},"2 = 5-Mode Recreational Cycle (E5)",null,null,"Commercial"]
[null,null,"Recreational/Commercial:",{"$nulls":5},"Please elaborate in the comments section.",{"$nulls":6},"CO Green Engine Factor",{"$nulls":3},"PM Green Engine Factor",{"$nulls":3},"HC Green Engine Factor",{"$nulls":3},"NOx Green Engine Factor",{"$nulls":6},"3 = 4-Mode Constant Speed Propulsion Cycle (E2)"]
[null,null,"Model Year:",{"$nulls":5},"    -1042.310(a) - EPA approved combining it, for PLT purposes only.",{"$nulls":25},"4 = 5-Mode Constant Speed Auxiliary Cycle (D2)"]
[null,null,"Tier:",{"$nulls":31},"5 = 6-Mode Variable Speed Auxiliary Cycle (G2)",null,null,"1 (E3)"]
[null,null,"Combined NOx+HC?",{"$nulls":31},"6 = 8-Mode Variable Speed Ausiliary Cycle (C1)",null,null,"2 (E5)"]
[null,null,"40 CFR Part:",{"$nulls":3},{"$f":"AN6","v":1042},null,"Additional testing required by EPA [40 CFR 1042.301(e)]? ",{"$nulls":25},"O = Other",null,null,"3 (E2)"]
[{"$nulls":37},"4 (D2)"]
[{"$nulls":37},"5 (G2)",{"$nulls":132},"deleted and redirected"]
[{"$nulls":22}," ",{"$nulls":14},"6 (C1)",4,{"$nulls":6},4]
[null,null,"Comments:",{"$nulls":34},"O (other)"]
[{"$nulls":22}," ",{"$nulls":22},"additive"]
[{"$nulls":45},"multiplicative",{"$nulls":22},"CO Rounding",{"$nulls":4},"CO Rounding",{"$nulls":4},"CO Rounding",{"$nulls":4},"CO Rounding",{"$nulls":10},"PM Rounding",{"$nulls":4},"PM Rounding",{"$nulls":4},"PM Rounding",{"$nulls":4},"PM Rounding",{"$nulls":10},"HC Rounding",{"$nulls":4},"HC Rounding",{"$nulls":4},"HC Rounding",{"$nulls":4},"HC Rounding",{"$nulls":10},"NOx Rounding",{"$nulls":4},"NOx Rounding",{"$nulls":4},"NOx Rounding",{"$nulls":4},"NOx Rounding"]
[{"$nulls":22}," ",{"$nulls":45},"initial",{"$nulls":4},"final",{"$nulls":4}," det final",{"$nulls":4},"ave of all final",{"$nulls":10},"initial",{"$nulls":4},"final",{"$nulls":4}," det final",{"$nulls":4},"ave of all final",{"$nulls":10},"initial",{"$nulls":4},"final",{"$nulls":4}," det final",{"$nulls":4},"ave of all final",{"$nulls":10},"initial",{"$nulls":4},"final",{"$nulls":4}," det final",{"$nulls":4},"ave of all final"]
[{"$nulls":38},"Y",{"$nulls":6},"Y"]
["PLT Engine Test Results: Engine Family #3",{"$nulls":37},"N",{"$nulls":6},"N",{"$nulls":124},"This is N17"]
[{"$nulls":36},"CO",null,"PM",null,null,"HC or HC+NOX",null,"Nox",null,"Engine Data Complete?",{"$nulls":11},"HC","HC","HC","HC","Nox","Nox","Nox","Nox",{"$nulls":107},"1% of production or pre-approved reduced sample size - whichever is Lower # "]
[null,"Calc Final Result?","Test Number","Test Date","Test Time","Test Qtr","Engine ID","Engine Make","Engine Configuration","Build Date","Green Engine Factor Applied?","Green Engine Factor Determination Method","Service Hours (or miles) Accumulation","Service Hours Location","Service Acc. Procedure","CO Initial Result ","Rounded CO Initial Result ","CO Final Result ","Det. CO Final Result ","PM Initial Result ","Rounded PM Initial Result ","PM Final Result ","Det. PM Final Result ","HC Initial Result ","Rounded HC Initial Result ","HC Final Result ","Det. HC Final Result ","NOx Initial Result ","Rounded NOx Initial Result ","NOx Final Result ","Det. NOx Final Result ","Reason for Failed Test (if applicable)","Remedy","Repairs","Test Cycle","Comments",0,0,0,0,0,0,0,0,{"$nulls":5},"Unrounded initial CO","Unrounded final CO","Det CO","Final CO","Unrounded initial PM","Unrounded final PM","Det PM","Final PM","Unrounded initial HCNOx","Unrounded final HCNOx","Det HCNOx","Final HCNOX","Unrounded initial NOx","Unrounded final NOx","Det NOx","Final HCNOX",{"$nulls":7},"rounded",{"$nulls":4},"rounded",{"$nulls":4},"rounded",{"$nulls":4},"rounded",{"$nulls":10},"rounded",{"$nulls":4},"rounded",{"$nulls":4},"rounded",{"$nulls":4},"rounded",{"$nulls":10},"rounded",{"$nulls":4},"rounded",{"$nulls":4},"rounded",{"$nulls":4},"rounded","ROUNDED AND ACCOUNT FOR BLANK",{"$nulls":9},"rounded",{"$nulls":4},"rounded",{"$nulls":4},"rounded",{"$nulls":4},"rounded","ROUNDED AND ACCOUNT FOR BLANK","Test complete Flag","Total complete","Fail Flag","req","val","baseline req","req due to fails","sum fails","baseline req"]
[1,{"$nulls":4},"N/A",{"$nulls":10},{"$f":"$BU36","v":""},{"$f":"$BZ36","v":""},{"$f":"$CE36","v":""},null,{"$f":"$CU36","v":""},{"$f":"$CZ36","v":""},{"$f":"$DE36","v":""},null,{"$f":"$DU36","v":""},{"$f":"$DZ36","v":""},{"$f":"$EE36","v":""},null,{"$f":"$EU36","v":""},{"$f":"$EZ36","v":""},{"$f":"$FE36","v":""},{"$nulls":5},{"$f":"IF($B36=\"N\",IF(AND($AK35<>\"\",$Q36<>\"\"),$AK35+$Q36,\"\"),IF($B36=\"Y\",0,\"\"))","v":""},{"$f":"IF($B36=\"N\",AL35+1,IF($B36=\"Y\",0,\"\"))","v":""},{"$f":"IF($B36=\"N\",IF(AND($AM35<>\"\",$U36<>\"\"),$AM35+$U36,\"\"),IF($B36=\"Y\",0,\"\"))","v":""},{"$f":"IF($B36=\"N\",AN35+1,IF($B36=\"Y\",0,\"\"))","v":""},{"$f":"IF($B36=\"N\",IF(AND($AO35<>\"\",$Y36<>\"\"),$AO35+$Y36,\"\"),IF($B36=\"Y\",0,\"\"))","v":""},{"$f":"IF($B36=\"N\",AP35+1,IF($B36=\"Y\",0,\"\"))","v":""},{"$f":"IF($B36=\"N\",IF(AND($AQ35<>\"\",$AC36<>\"\"),$AQ35+$AC36,\"\"),IF($B36=\"Y\",0,\"\"))","v":""},{"$f":"IF($B36=\"N\",AR35+1,IF($B36=\"Y\",0,\"\"))","v":""},null,{"$f":"IF(AND(B36<>\"\",C36<>\"\",D36<>\"\",E36<>\"\",G36<>\"\",H36<>\"\",I36<>\"\",J36<>\"\",K36<>\"\",M36<>\"\",N36<>\"\",O36<>\"\"),1,0)","v":0},{"$nulls":3},{"$f":"IF(AND($P36<>\"\",$AT36=1),$P36,\"\")","v":""},{"$f":"IF($B36=\"Y\",IF(AND($Q36<>\"\",$AK35<>\"\",$AL35<>\"\"),($Q36+$AK35)/($AL35+1),\"\"),\"\")","v":""},{"$f":"IF(AND($B36=\"Y\",$R36<>\"\",$R$18<>\"\"),IF($R$19=\"additive\",$R36+$R$18,IF($R$19=\"multiplicative\",$R36*$R$18,\"\")),\"\")","v":""},{"$f":"IF(COUNT($S$36:$S$85)>0,AVERAGE($S$36:$S$85),\"\")","v":""},{"$f":"IF(AND($T36<>\"\",$AT36=1),$T36,\"\")","v":""},{"$f":"IF($B36=\"Y\",IF(AND($U36<>\"\",$AM35<>\"\",$AN35<>\"\"),($U36+$AM35)/($AN35+1),\"\"),\"\")","v":""},{"$f":"IF(AND($B36=\"Y\",$V36<>\"\",$V$18<>\"\"),IF($V$19=\"additive\",$V36+$V$18,IF($V$19=\"multiplicative\",$V36*$V$18,\"\")),\"\")","v":""},{"$f":"IF(COUNT($W$36:$W$85)>0,AVERAGE($W$36:$W$85),\"\")","v":""},{"$f":"IF(AND($X36<>\"\",$AT36=1),$X36,\"\")","v":""},{"$f":"IF($B36=\"Y\",IF(AND($Y36<>\"\",$AO35<>\"\",$AP35<>\"\"),($Y36+$AO35)/($AP35+1),\"\"),\"\")","v":""},{"$f":"IF(AND($B36=\"Y\",$Z36<>\"\",$Z$18<>\"\"),IF($Z$19=\"additive\",$Z36+$Z$18,IF($Z$19=\"multiplicative\",$Z36*$Z$18,\"\")),\"\")","v":""},{"$f":"IF(COUNT($AA$36:$AA$85)>0,AVERAGE($AA$36:$AA$85),\"\")","v":""},{"$f":"IF(AND($AB36<>\"\",$AT36=1),$AB36,\"\")","v":""},{"$f":"IF($B36=\"Y\",IF(AND($AC36<>\"\",$AQ35<>\"\",$AR35<>\"\"),($AC36+$AQ35)/($AR35+1),\"\"),\"\")","v":""},{"$f":"IF(AND($B36=\"Y\",$AD36<>\"\",$AD$18<>\"\"),IF($AD$19=\"additive\",$AD36+$AD$18,IF($AD$19=\"multiplicative\",$AD36*$AD$18,\"\")),\"\")","v":""},{"$f":"IF(COUNT($AE$36:$AE$85)>0,AVERAGE($AE$36:$AE$85),\"\")","v":""},{"$nulls":7},{"$f":"IF($AX36<>\"\",ROUND($AX36,2),\"\")","v":""},{"$nulls":4},{"$f":"IF($AY36<>\"\",ROUND($AY36,2),\"\")","v":""},{"$nulls":4},{"$f":"IF($AZ36<>\"\",ROUND($AZ36,2),\"\")","v":""},{"$nulls":4},{"$f":"IF($BA36<>\"\",ROUND($BA36,2),\"\")","v":""},{"$nulls":10},{"$f":"IF($BB36<>\"\",ROUND($BB36,3),\"\")","v":""},{"$nulls":4},{"$f":"IF($BC36<>\"\",ROUND($BC36,3),\"\")","v":""},{"$nulls":4},{"$f":"IF($BD36<>\"\",ROUND($BD36,3),\"\")","v":""},{"$nulls":4},{"$f":"IF($BE36<>\"\",ROUND($BE36,3),\"\")","v":""},{"$nulls":10},{"$f":"IF($BF36<>\"\",ROUND($BF36,3),\"\")","v":""},{"$nulls":4},{"$f":"IF($BG36<>\"\",ROUND($BG36,3),\"\")","v":""},{"$nulls":4},{"$f":"IF($BH36<>\"\",ROUND($BH36,3),\"\")","v":""},{"$nulls":4},{"$f":"IF($BI36<>\"\",ROUND($BI36,3),\"\")","v":""},{"$f":"IF(EJ36=\"\",0,EJ36)","v":0},{"$nulls":9},{"$f":"IF($BJ36<>\"\",ROUND($BJ36,2),\"\")","v":""},{"$nulls":4},{"$f":"IF($BK36<>\"\",ROUND($BK36,2),\"\")","v":""},{"$nulls":4},{"$f":"IF($BL36<>\"\",ROUND($BL36,2),\"\")","v":""},{"$nulls":4},{"$f":"IF($BM36<>\"\",ROUND($BM36,2),\"\")","v":""},{"$f":"IF(FJ36=\"\",0,FJ36)","v":0},{"$f":"IF($AG$12<>\"CAT3\",IF(AND($B36=\"Y\",$S36<>\"\",$W36<>\"\",$AA36<>\"\",$AE36<>\"\"),1,0),IF($AE36<>\"\",1,0))","v":0},{"$f":"SUM($FL$36:$FL36)","v":0},{"$f":"IF($AG$12<>\"CAT3\",IF($FL36=1,IF(OR($S36>$R$16,$W36>$V$16,$AA36>$Z$16,IF($AF$12<>\"Y\",OR($AA36>$Z$16,$AE36>$AD$16),ROUND(($AA36+$AE36),2)>$Z$16)),1,0),0),IF($FL36=1,IF(AND($AE36>$AD$16,$AF$12=\"N\"),1,0),0))","v":0},{"$f":"IF(OR($M$11=\"\",$N$18=\"Y\"),0,IF($AG$12=\"CAT3\",$N$12,($FR$36+1)))","v":0},{"$f":"SUM(FL36:FL85)","v":0},{"$f":"IF(AND($G$17=\"Y\",$N$24<>\"\"),MIN($N$24,$FT$36),$FT$36)","v":0},{"$f":"$FS$36*2","v":0},{"$f":"SUM(FN36:FN85)","v":0},{"$f":"IF($N$12<>\"\",$N$12*0.01,0)","v":0}]
[{"$f":"A36+1","v":2},{"$nulls":4},"N/A",{"$nulls":10},"","","",null,"","","",null,"","","",null,"","","",{"$nulls":5},"",{"$f":"IF($B37=\"N\",AL36+1,IF($B37=\"Y\",0,\"\"))","v":""},"",{"$f":"IF($B37=\"N\",AN36+1,IF($B37=\"Y\",0,\"\"))","v":""},{"$f":"IF($B37=\"N\",IF(AND($AO36<>\"\",$Y37<>\"\"),$AO36+$Y37,\"\"),IF($B37=\"Y\",0,\"\"))","v":""},{"$f":"IF($B37=\"N\",AP36+1,IF($B37=\"Y\",0,\"\"))","v":""},{"$f":"IF($B37=\"N\",IF(AND($AQ36<>\"\",$AC37<>\"\"),$AQ36+$AC37,\"\"),IF($B37=\"Y\",0,\"\"))","v":""},{"$f":"IF($B37=\"N\",AR36+1,IF($B37=\"Y\",0,\"\"))","v":""},null,{"$f":"IF(AND(B37<>\"\",C37<>\"\",D37<>\"\",E37<>\"\",G37<>\"\",H37<>\"\",I37<>\"\",J37<>\"\",K37<>\"\",M37<>\"\",N37<>\"\",O37<>\"\"),1,0)","v":0},{"$nulls":3},"","",{"$f":"IF(AND($B37=\"Y\",$R37<>\"\",$R$18<>\"\"),IF($R$19=\"additive\",$R37+$R$18,IF($R$19=\"multiplicative\",$R37*$R$18,\"\")),\"\")","v":""},null,"","",{"$f":"IF(AND($B37=\"Y\",$V37<>\"\",$V$18<>\"\"),IF($V$19=\"additive\",$V37+$V$18,IF($V$19=\"multiplicative\",$V37*$V$18,\"\")),\"\")","v":""},null,{"$f":"IF(AND($X37<>\"\",$AT37=1),$X37,\"\")","v":""},{"$f":"IF($B37=\"Y\",IF(AND($Y37<>\"\",$AO36<>\"\",$AP36<>\"\"),($Y37+$AO36)/($AP36+1),\"\"),\"\")","v":""},{"$f":"IF(AND($B37=\"Y\",$Z37<>\"\",$Z$18<>\"\"),IF($Z$19=\"additive\",$Z37+$Z$18,IF($Z$19=\"multiplicative\",$Z37*$Z$18,\"\")),\"\")","v":""},null,{"$f":"IF(AND($AB37<>\"\",$AT37=1),$AB37,\"\")","v":""},{"$f":"IF($B37=\"Y\",IF(AND($AC37<>\"\",$AQ36<>\"\",$AR36<>\"\"),($AC37+$AQ36)/($AR36+1),\"\"),\"\")","v":""},{"$f":"IF(AND($B37=\"Y\",$AD37<>\"\",$AD$18<>\"\"),IF($AD$19=\"additive\",$AD37+$AD$18,IF($AD$19=\"multiplicative\",$AD37*$AD$18,\"\")),\"\")","v":""},{"$nulls":8},{"$f":"IF($AX37<>\"\",ROUND($AX37,2),\"\")","v":""},{"$nulls":4},{"$f":"IF($AY37<>\"\",ROUND($AY37,2),\"\")","v":""},{"$nulls":4},{"$f":"IF($AZ37<>\"\",ROUND($AZ37,2),\"\")","v":""},{"$nulls":15},{"$f":"IF($BB37<>\"\",ROUND($BB37,3),\"\")","v":""},{"$nulls":4},{"$f":"IF($BC37<>\"\",ROUND($BC37,3),\"\")","v":""},{"$nulls":4},{"$f":"IF($BD37<>\"\",ROUND($BD37,3),\"\")","v":""},{"$nulls":15},{"$f":"IF($BF37<>\"\",ROUND($BF37,3),\"\")","v":""},{"$nulls":4},{"$f":"IF($BG37<>\"\",ROUND($BG37,3),\"\")","v":""},{"$nulls":4},{"$f":"IF($BH37<>\"\",ROUND($BH37,3),\"\")","v":""},{"$nulls":15},{"$f":"IF($BJ37<>\"\",ROUND($BJ37,2),\"\")","v":""},{"$nulls":4},{"$f":"IF($BK37<>\"\",ROUND($BK37,2),\"\")","v":""},{"$nulls":4},{"$f":"IF($BL37<>\"\",ROUND($BL37,2),\"\")","v":""},{"$nulls":6},{"$f":"IF($AG$12<>\"CAT3\",IF(AND($B37=\"Y\",$S37<>\"\",$W37<>\"\",$AA37<>\"\",$AE37<>\"\"),1,0),IF($AE37<>\"\",1,0))","v":0},{"$f":"SUM($FL$36:$FL37)","v":0},{"$f":"IF($AG$12<>\"CAT3\",IF($FL37=1,IF(OR($S37>$R$16,$W37>$V$16,$AA37>$Z$16,IF($AF$12<>\"Y\",OR($AA37>$Z$16,$AE37>$AD$16),ROUND(($AA37+$AE37),2)>$Z$16)),1,0),0),IF($FL37=1,IF(AND($AE37>$AD$16,$AF$12=\"N\"),1,0),0))","v":0},null,null,{"$f":"MAX($FQ$36,$FL$10)","v":1}]
[{"$f":"A37+1","v":3},{"$nulls":4},"N/A",{"$nulls":10},"","","",null,"","","",null,"","","",null,"","","",{"$nulls":5},"","","","","","","","",null,0,{"$nulls":3},"","","",null,"","","",null,"","","",null,"","","",{"$nulls":8},"",{"$nulls":4},"",{"$nulls":4},"",{"$nulls":15},"",{"$nulls":4},"",{"$nulls":4},"",{"$nulls":15},"",{"$nulls":4},"",{"$nulls":4},"",{"$nulls":15},"",{"$nulls":4},"",{"$nulls":4},"",{"$nulls":6},0,{"$f":"SUM($FL$36:$FL38)","v":0},0]
[4,{"$nulls":4},"N/A",{"$nulls":10},"","","",null,"","","",null,"","","",null,"","","",{"$nulls":5},"","","","","","","","",null,0,{"$nulls":3},"","","",null,"","","",null,"","","",null,"","","",{"$nulls":8},"",{"$nulls":4},"",{"$nulls":4},"",{"$nulls":15},"",{"$nulls":4},"",{"$nulls":4},"",{"$nulls":15},"",{"$nulls":4},"",{"$nulls":4},"",{"$nulls":15},"",{"$nulls":4},"",{"$nulls":4},"",{"$nulls":6},0,{"$f":"SUM($FL$36:$FL39)","v":0},0,null,null,"then, the larger of that sample size or 1  (or if Part 94 and cat1,  can be 0)"]
[5,{"$nulls":4},"N/A",{"$nulls":10},"","","",null,"","","",null,"","","",null,"","","",{"$nulls":5},"","","","","","","","",null,0,{"$nulls":3},"","","",null,"","","",null,"","","",null,"","","",{"$nulls":8},"",{"$nulls":4},"",{"$nulls":4},"",{"$nulls":15},"",{"$nulls":4},"",{"$nulls":4},"",{"$nulls":15},"",{"$nulls":4},"",{"$nulls":4},"",{"$nulls":15},"",{"$nulls":4},"",{"$nulls":4},"",{"$nulls":6},0,{"$f":"SUM($FL$36:$FL40)","v":0},0]
[6,{"$nulls":4},"N/A",{"$nulls":10},"","","",null,"","","",null,"","","",null,"","","",{"$nulls":5},"","","","","","","","",null,0,{"$nulls":3},"","","",null,"","","",null,"","","",null,"","","",{"$nulls":8},"",{"$nulls":4},"",{"$nulls":4},"",{"$nulls":15},"",{"$nulls":4},"",{"$nulls":4},"",{"$nulls":15},"",{"$nulls":4},"",{"$nulls":4},"",{"$nulls":15},"",{"$nulls":4},"",{"$nulls":4},"",{"$nulls":6},0,{"$f":"SUM($FL$36:$FL41)","v":0},0]
[7,{"$nulls":4},"N/A",{"$nulls":10},"","","",null,"","","",null,"","","",null,"","","",{"$nulls":5},"","","","","","","","",null,0,{"$nulls":3},"","","",null,"","","",null,"","","",null,"","","",{"$nulls":8},"",{"$nulls":4},"",{"$nulls":4},"",{"$nulls":15},"",{"$nulls":4},"",{"$nulls":4},"",{"$nulls":15},"",{"$nulls":4},"",{"$nulls":4},"",{"$nulls":15},"",{"$nulls":4},"",{"$nulls":4},"",{"$nulls":6},0,{"$f":"SUM($FL$36:$FL42)","v":0},0]
[8,{"$nulls":4},"N/A",{"$nulls":10},"","","",null,"","","",null,"","","",null,"","","",{"$nulls":5},"","","","","","","","",null,0,{"$nulls":3},"","","",null,"","","",null,"","","",null,"","","",{"$nulls":8},"",{"$nulls":4},"",{"$nulls":4},"",{"$nulls":15},"",{"$nulls":4},"",{"$nulls":4},"",{"$nulls":15},"",{"$nulls":4},"",{"$nulls":4},"",{"$nulls":15},"",{"$nulls":4},"",{"$nulls":4},"",{"$nulls":6},0,{"$f":"SUM($FL$36:$FL43)","v":0},0]
[9,{"$nulls":4},"N/A",{"$nulls":10},"","","",null,"","","",null,"","","",null,"","","",{"$nulls":5},"","","","","","","","",null,0,{"$nulls":3},"","","",null,"","","",null,"","","",null,"","","",{"$nulls":8},"",{"$nulls":4},"",{"$nulls":4},"",{"$nulls":15},"",{"$nulls":4},"",{"$nulls":4},"",{"$nulls":15},"",{"$nulls":4},"",{"$nulls":4},"",{"$nulls":15},"",{"$nulls":4},"",{"$nulls":4},"",{"$nulls":6},0,{"$f":"SUM($FL$36:$FL44)","v":0},0]
[10,{"$nulls":4},"N/A",{"$nulls":10},"","","",null,"","","",null,"","","",null,"","","",{"$nulls":5},"","","","","","","","",null,0,{"$nulls":3},"","","",null,"","","",null,"","","",null,"","","",{"$nulls":8},"",{"$nulls":4},"",{"$nulls":4},"",{"$nulls":15},"",{"$nulls":4},"",{"$nulls":4},"",{"$nulls":15},"",{"$nulls":4},"",{"$nulls":4},"",{"$nulls":15},"",{"$nulls":4},"",{"$nulls":4},"",{"$nulls":6},0,{"$f":"SUM($FL$36:$FL45)","v":0},0]
[11,{"$nulls":4},"N/A",{"$nulls":10},"","","",null,"","","",null,"","","",null,"","","",{"$nulls":5},"","","","","","","","",null,0,{"$nulls":3},"","","",null,"","","",null,"","","",null,"","","",{"$nulls":8},"",{"$nulls":4},"",{"$nulls":4},"",{"$nulls":15},"",{"$nulls":4},"",{"$nulls":4},"",{"$nulls":15},"",{"$nulls":4},"",{"$nulls":4},"",{"$nulls":15},"",{"$nulls":4},"",{"$nulls":4},"",{"$nulls":6},0,{"$f":"SUM($FL$36:$FL46)","v":0},0]
[12,{"$nulls":4},"N/A",{"$nulls":10},"","","",null,"","","",null,"","","",null,"","","",{"$nulls":5},"","","","","","","","",null,0,{"$nulls":3},"","","",null,"","","",null,"","","",null,"","","",{"$nulls":8},"",{"$nulls":4},"",{"$nulls":4},"",{"$nulls":15},"",{"$nulls":4},"",{"$nulls":4},"",{"$nulls":15},"",{"$nulls":4},"",{"$nulls":4},"",{"$nulls":15},"",{"$nulls":4},"",{"$nulls":4},"",{"$nulls":6},0,{"$f":"SUM($FL$36:$FL47)","v":0},0]
[13,{"$nulls":4},"N/A",{"$nulls":10},"","","",null,"","","",null,"","","",null,"","","",{"$nulls":5},"","","","","","","","",null,0,{"$nulls":3},"","","",null,"","","",null,"","","",null,"","","",{"$nulls":8},"",{"$nulls":4},"",{"$nulls":4},"",{"$nulls":15},"",{"$nulls":4},"",{"$nulls":4},"",{"$nulls":15},"",{"$nulls":4},"",{"$nulls":4},"",{"$nulls":15},"",{"$nulls":4},"",{"$nulls":4},"",{"$nulls":6},0,{"$f":"SUM($FL$36:$FL48)","v":0},0]
[14,{"$nulls":4},"N/A",{"$nulls":10},"","","",null,"","","",null,"","","",null,"","","",{"$nulls":5},"","","","","","","","",null,0,{"$nulls":3},"","","",null,"","","",null,"","","",null,"","","",{"$nulls":8},"",{"$nulls":4},"",{"$nulls":4},"",{"$nulls":15},"",{"$nulls":4},"",{"$nulls":4},"",{"$nulls":15},"",{"$nulls":4},"",{"$nulls":4},"",{"$nulls":15},"",{"$nulls":4},"",{"$nulls":4},"",{"$nulls":6},0,{"$f":"SUM($FL$36:$FL49)","v":0},0]
[15,{"$nulls":4},"N/A",{"$nulls":10},"","","",null,"","","",null,"","","",null,"","","",{"$nulls":5},"","","","","","","","",null,0,{"$nulls":3},"","","",null,"","","",null,"","","",null,"","","",{"$nulls":8},"",{"$nulls":4},"",{"$nulls":4},"",{"$nulls":15},"",{"$nulls":4},"",{"$nulls":4},"",{"$nulls":15},"",{"$nulls":4},"",{"$nulls":4},"",{"$nulls":15},"",{"$nulls":4},"",{"$nulls":4},"",{"$nulls":6},0,{"$f":"SUM($FL$36:$FL50)","v":0},0]
[16,{"$nulls":4},"N/A",{"$nulls":10},"","","",null,"","","",null,"","","",null,"","","",{"$nulls":5},"","","","","","","","",null,0,{"$nulls":3},"","","",null,"","","",null,"","","",null,"","","",{"$nulls":8},"",{"$nulls":4},"",{"$nulls":4},"",{"$nulls":15},"",{"$nulls":4},"",{"$nulls":4},"",{"$nulls":15},"",{"$nulls":4},"",{"$nulls":4},"",{"$nulls":15},"",{"$nulls":4},"",{"$nulls":4},"",{"$nulls":6},0,{"$f":"SUM($FL$36:$FL51)","v":0},0]
[17,{"$nulls":4},"N/A",{"$nulls":10},"","","",null,"","","",null,"","","",null,"","","",{"$nulls":5},"","","","","","","","",null,0,{"$nulls":3},"","","",null,"","","",null,"","","",null,"","","",{"$nulls":8},"",{"$nulls":4},"",{"$nulls":4},"",{"$nulls":15},"",{"$nulls":4},"",{"$nulls":4},"",{"$nulls":15},"",{"$nulls":4},"",{"$nulls":4},"",{"$nulls":15},"",{"$nulls":4},"",{"$nulls":4},"",{"$nulls":6},0,{"$f":"SUM($FL$36:$FL52)","v":0},0]
[18,{"$nulls":4},"N/A",{"$nulls":10},"","","",null,"","","",null,"","","",null,"","","",{"$nulls":5},"","","","","","","","",null,0,{"$nulls":3},"","","",null,"","","",null,"","","",null,"","","",{"$nulls":8},"",{"$nulls":4},"",{"$nulls":4},"",{"$nulls":15},"",{"$nulls":4},"",{"$nulls":4},"",{"$nulls":15},"",{"$nulls":4},"",{"$nulls":4},"",{"$nulls":15},"",{"$nulls":4},"",{"$nulls":4},"",{"$nulls":6},0,{"$f":"SUM($FL$36:$FL53)","v":0},0]
[19,{"$nulls":4},"N/A",{"$nulls":10},"","","",null,"","","",null,"","","",null,"","","",{"$nulls":5},"","","","","","","","",null,0,{"$nulls":3},"","","",null,"","","",null,"","","",null,"","","",{"$nulls":8},"",{"$nulls":4},"",{"$nulls":4},"",{"$nulls":15},"",{"$nulls":4},"",{"$nulls":4},"",{"$nulls":15},"",{"$nulls":4},"",{"$nulls":4},"",{"$nulls":15},"",{"$nulls":4},"",{"$nulls":4},"",{"$nulls":6},0,{"$f":"SUM($FL$36:$FL54)","v":0},0]
[20,{"$nulls":4},"N/A",{"$nulls":10},"","","",null,"","","",null,"","","",null,"","","",{"$nulls":5},"","","","","","","","",null,0,{"$nulls":3},"","","",null,"","","",null,"","","",null,"","","",{"$nulls":8},"",{"$nulls":4},"",{"$nulls":4},"",{"$nulls":15},"",{"$nulls":4},"",{"$nulls":4},"",{"$nulls":15},"",{"$nulls":4},"",{"$nulls":4},"",{"$nulls":15},"",{"$nulls":4},"",{"$nulls":4},"",{"$nulls":6},0,{"$f":"SUM($FL$36:$FL55)","v":0},0]
[21,{"$nulls":4},"N/A",{"$nulls":10},"","","",null,"","","",null,"","","",null,"","","",{"$nulls":5},"","","","","","","","",null,0,{"$nulls":3},"","","",null,"","","",null,"","","",null,"","","",{"$nulls":8},"",{"$nulls":4},"",{"$nulls":4},"",{"$nulls":15},"",{"$nulls":4},"",{"$nulls":4},"",{"$nulls":15},"",{"$nulls":4},"",{"$nulls":4},"",{"$nulls":15},"",{"$nulls":4},"",{"$nulls":4},"",{"$nulls":6},0,{"$f":"SUM($FL$36:$FL56)","v":0},0]
[22,{"$nulls":4},"N/A",{"$nulls":10},"","","",null,"","","",null,"","","",null,"","","",{"$nulls":5},"","","","","","","","",null,0,{"$nulls":3},"","","",null,"","","",null,"","","",null,"","","",{"$nulls":8},"",{"$nulls":4},"",{"$nulls":4},"",{"$nulls":15},"",{"$nulls":4},"",{"$nulls":4},"",{"$nulls":15},"",{"$nulls":4},"",{"$nulls":4},"",{"$nulls":15},"",{"$nulls":4},"",{"$nulls":4},"",{"$nulls":6},0,{"$f":"SUM($FL$36:$FL57)","v":0},0]
[23,{"$nulls":4},"N/A",{"$nulls":10},"","","",null,"","","",null,"","","",null,"","","",{"$nulls":5},"","","","","","","","",null,0,{"$nulls":3},"","","",null,"","","",null,"","","",null,"","","",{"$nulls":8},"",{"$nulls":4},"",{"$nulls":4},"",{"$nulls":15},"",{"$nulls":4},"",{"$nulls":4},"",{"$nulls":15},"",{"$nulls":4},"",{"$nulls":4},"",{"$nulls":15},"",{"$nulls":4},"",{"$nulls":4},"",{"$nulls":6},0,{"$f":"SUM($FL$36:$FL58)","v":0},0]
[24,{"$nulls":4},"N/A",{"$nulls":10},"","","",null,"","","",null,"","","",null,"","","",{"$nulls":5},"","","","","","","","",null,0,{"$nulls":3},"","","",null,"","","",null,"","","",null,"","","",{"$nulls":8},"",{"$nulls":4},"",{"$nulls":4},"",{"$nulls":15},"",{"$nulls":4},"",{"$nulls":4},"",{"$nulls":15},"",{"$nulls":4},"",{"$nulls":4},"",{"$nulls":15},"",{"$nulls":4},"",{"$nulls":4},"",{"$nulls":6},0,{"$f":"SUM($FL$36:$FL59)","v":0},0]
[25,{"$nulls":4},"N/A",{"$nulls":10},"","","",null,"","","",null,"","","",null,"","","",{"$nulls":5},"","","","","","","","",null,0,{"$nulls":3},"","","",null,"","","",null,"","","",null,"","","",{"$nulls":8},"",{"$nulls":4},"",{"$nulls":4},"",{"$nulls":15},"",{"$nulls":4},"",{"$nulls":4},"",{"$nulls":15},"",{"$nulls":4},"",{"$nulls":4},"",{"$nulls":15},"",{"$nulls":4},"",{"$nulls":4},"",{"$nulls":6},0,{"$f":"SUM($FL$36:$FL60)","v":0},0]
[26,{"$nulls":4},"N/A",{"$nulls":10},"","","",null,"","","",null,"","","",null,"","","",{"$nulls":5},"","","","","","","","",null,0,{"$nulls":3},"","","",null,"","","",null,"","","",null,"","","",{"$nulls":8},"",{"$nulls":4},"",{"$nulls":4},"",{"$nulls":15},"",{"$nulls":4},"",{"$nulls":4},"",{"$nulls":15},"",{"$nulls":4},"",{"$nulls":4},"",{"$nulls":15},"",{"$nulls":4},"",{"$nulls":4},"",{"$nulls":6},0,{"$f":"SUM($FL$36:$FL61)","v":0},0]
[27,{"$nulls":4},"N/A",{"$nulls":10},"","","",null,"","","",null,"","","",null,"","","",{"$nulls":5},"","","","","","","","",null,0,{"$nulls":3},"","","",null,"","","",null,"","","",null,"","","",{"$nulls":8},"",{"$nulls":4},"",{"$nulls":4},"",{"$nulls":15},"",{"$nulls":4},"",{"$nulls":4},"",{"$nulls":15},"",{"$nulls":4},"",{"$nulls":4},"",{"$nulls":15},"",{"$nulls":4},"",{"$nulls":4},"",{"$nulls":6},0,{"$f":"SUM($FL$36:$FL62)","v":0},0]
[28,{"$nulls":4},"N/A",{"$nulls":10},"","","",null,"","","",null,"","","",null,"","","",{"$nulls":5},"","","","","","","","",null,0,{"$nulls":3},"","","",null,"","","",null,"","","",null,"","","",{"$nulls":8},"",{"$nulls":4},"",{"$nulls":4},"",{"$nulls":15},"",{"$nulls":4},"",{"$nulls":4},"",{"$nulls":15},"",{"$nulls":4},"",{"$nulls":4},"",{"$nulls":15},"",{"$nulls":4},"",{"$nulls":4},"",{"$nulls":6},0,{"$f":"SUM($FL$36:$FL63)","v":0},0]
[29,{"$nulls":4},"N/A",{"$nulls":10},"","","",null,"","","",null,"","","",null,"","","",{"$nulls":5},"","","","","","","","",null,0,{"$nulls":3},"","","",null,"","","",null,"","","",null,"","","",{"$nulls":8},"",{"$nulls":4},"",{"$nulls":4},"",{"$nulls":15},"",{"$nulls":4},"",{"$nulls":4},"",{"$nulls":15},"",{"$nulls":4},"",{"$nulls":4},"",{"$nulls":15},"",{"$nulls":4},"",{"$nulls":4},"",{"$nulls":6},0,{"$f":"SUM($FL$36:$FL64)","v":0},0]
[30,{"$nulls":4},"N/A",{"$nulls":10},"","","",null,"","","",null,"","","",null,"","","",{"$nulls":5},"","","","","","","","",null,0,{"$nulls":3},"","","",null,"","","",null,"","","",null,"","","",{"$nulls":8},"",{"$nulls":4},"",{"$nulls":4},"",{"$nulls":15},"",{"$nulls":4},"",{"$nulls":4},"",{"$nulls":15},"",{"$nulls":4},"",{"$nulls":4},"",{"$nulls":15},"",{"$nulls":4},"",{"$nulls":4},"",{"$nulls":6},0,{"$f":"SUM($FL$36:$FL65)","v":0},0]
[31,{"$nulls":4},"N/A",{"$nulls":10},"","","",null,"","","",null,"","","",null,"","","",{"$nulls":5},"","","","","","","","",null,0,{"$nulls":3},"","","",null,"","","",null,"","","",null,"","","",{"$nulls":8},"",{"$nulls":4},"",{"$nulls":4},"",{"$nulls":15},"",{"$nulls":4},"",{"$nulls":4},"",{"$nulls":15},"",{"$nulls":4},"",{"$nulls":4},"",{"$nulls":15},"",{"$nulls":4},"",{"$nulls":4},"",{"$nulls":6},0,{"$f":"SUM($FL$36:$FL66)","v":0},0]
[32,{"$nulls":4},"N/A",{"$nulls":10},"","","",null,"","","",null,"","","",null,"","","",{"$nulls":5},"","","","","","","","",null,0,{"$nulls":3},"","","",null,"","","",null,"","","",null,"","","",{"$nulls":8},"",{"$nulls":4},"",{"$nulls":4},"",{"$nulls":15},"",{"$nulls":4},"",{"$nulls":4},"",{"$nulls":15},"",{"$nulls":4},"",{"$nulls":4},"",{"$nulls":15},"",{"$nulls":4},"",{"$nulls":4},"",{"$nulls":6},0,{"$f":"SUM($FL$36:$FL67)","v":0},0]
[33,{"$nulls":4},"N/A",{"$nulls":10},"","","",null,"","","",null,"","","",null,"","","",{"$nulls":5},"","","","","","","","",null,0,{"$nulls":3},"","","",null,"","","",null,"","","",null,"","","",{"$nulls":8},"",{"$nulls":4},"",{"$nulls":4},"",{"$nulls":15},"",{"$nulls":4},"",{"$nulls":4},"",{"$nulls":15},"",{"$nulls":4},"",{"$nulls":4},"",{"$nulls":15},"",{"$nulls":4},"",{"$nulls":4},"",{"$nulls":6},0,{"$f":"SUM($FL$36:$FL68)","v":0},0]
[34,{"$nulls":4},"N/A",{"$nulls":10},"","","",null,"","","",null,"","","",null,"","","",{"$nulls":5},"","","","","","","","",null,0,{"$nulls":3},"","","",null,"","","",null,"","","",null,"","","",{"$nulls":8},"",{"$nulls":4},"",{"$nulls":4},"",{"$nulls":15},"",{"$nulls":4},"",{"$nulls":4},"",{"$nulls":15},"",{"$nulls":4},"",{"$nulls":4},"",{"$nulls":15},"",{"$nulls":4},"",{"$nulls":4},"",{"$nulls":6},0,{"$f":"SUM($FL$36:$FL69)","v":0},0]
[35,{"$nulls":4},"N/A",{"$nulls":10},"","","",null,"","","",null,"","","",null,"","","",{"$nulls":5},"","","","","","","","",null,0,{"$nulls":3},"","","",null,"","","",null,"","","",null,"","","",{"$nulls":8},"",{"$nulls":4},"",{"$nulls":4},"",{"$nulls":15},"",{"$nulls":4},"",{"$nulls":4},"",{"$nulls":15},"",{"$nulls":4},"",{"$nulls":4},"",{"$nulls":15},"",{"$nulls":4},"",{"$nulls":4},"",{"$nulls":6},0,{"$f":"SUM($FL$36:$FL70)","v":0},0]
[36,{"$nulls":4},"N/A",{"$nulls":10},"","","",null,"","","",null,"","","",null,"","","",{"$nulls":5},"","","","","","","","",null,0,{"$nulls":3},"","","",null,"","","",null,"","","",null,"","","",{"$nulls":8},"",{"$nulls":4},"",{"$nulls":4},"",{"$nulls":15},"",{"$nulls":4},"",{"$nulls":4},"",{"$nulls":15},"",{"$nulls":4},"",{"$nulls":4},"",{"$nulls":15},"",{"$nulls":4},"",{"$nulls":4},"",{"$nulls":6},0,{"$f":"SUM($FL$36:$FL71)","v":0},0]
[37,{"$nulls":4},"N/A",{"$nulls":10},"","","",null,"","","",null,"","","",null,"","","",{"$nulls":5},"","","","","","","","",null,0,{"$nulls":3},"","","",null,"","","",null,"","","",null,"","","",{"$nulls":8},"",{"$nulls":4},"",{"$nulls":4},"",{"$nulls":15},"",{"$nulls":4},"",{"$nulls":4},"",{"$nulls":15},"",{"$nulls":4},"",{"$nulls":4},"",{"$nulls":15},"",{"$nulls":4},"",{"$nulls":4},"",{"$nulls":6},0,{"$f":"SUM($FL$36:$FL72)","v":0},0]
[38,{"$nulls":4},"N/A",{"$nulls":10},"","","",null,"","","",null,"","","",null,"","","",{"$nulls":5},"","","","","","","","",null,0,{"$nulls":3},"","","",null,"","","",null,"","","",null,"","","",{"$nulls":8},"",{"$nulls":4},"",{"$nulls":4},"",{"$nulls":15},"",{"$nulls":4},"",{"$nulls":4},"",{"$nulls":15},"",{"$nulls":4},"",{"$nulls":4},"",{"$nulls":15},"",{"$nulls":4},"",{"$nulls":4},"",{"$nulls":6},0,{"$f":"SUM($FL$36:$FL73)","v":0},0]
[39,{"$nulls":4},"N/A",{"$nulls":10},"","","",null,"","","",null,"","","",null,"","","",{"$nulls":5},"","","","","","","","",null,0,{"$nulls":3},"","","",null,"","","",null,"","","",null,"","","",{"$nulls":8},"",{"$nulls":4},"",{"$nulls":4},"",{"$nulls":15},"",{"$nulls":4},"",{"$nulls":4},"",{"$nulls":15},"",{"$nulls":4},"",{"$nulls":4},"",{"$nulls":15},"",{"$nulls":4},"",{"$nulls":4},"",{"$nulls":6},0,{"$f":"SUM($FL$36:$FL74)","v":0},0]
[40,{"$nulls":4},"N/A",{"$nulls":10},"","","",null,"","","",null,"","","",null,"","","",{"$nulls":5},"","","","","","","","",null,0,{"$nulls":3},"","","",null,"","","",null,"","","",null,"","","",{"$nulls":8},"",{"$nulls":4},"",{"$nulls":4},"",{"$nulls":15},"",{"$nulls":4},"",{"$nulls":4},"",{"$nulls":15},"",{"$nulls":4},"",{"$nulls":4},"",{"$nulls":15},"",{"$nulls":4},"",{"$nulls":4},"",{"$nulls":6},0,{"$f":"SUM($FL$36:$FL75)","v":0},0]
[41,{"$nulls":4},"N/A",{"$nulls":10},"","","",null,"","","",null,"","","",null,"","","",{"$nulls":5},"","","","","","","","",null,0,{"$nulls":3},"","","",null,"","","",null,"","","",null,"","","",{"$nulls":8},"",{"$nulls":4},"",{"$nulls":4},"",{"$nulls":15},"",{"$nulls":4},"",{"$nulls":4},"",{"$nulls":15},"",{"$nulls":4},"",{"$nulls":4},"",{"$nulls":15},"",{"$nulls":4},"",{"$nulls":4},"",{"$nulls":6},0,{"$f":"SUM($FL$36:$FL76)","v":0},0]
[42,{"$nulls":4},"N/A",{"$nulls":10},"","","",null,"","","",null,"","","",null,"","","",{"$nulls":5},"","","","","","","","",null,0,{"$nulls":3},"","","",null,"","","",null,"","","",null,"","","",{"$nulls":8},"",{"$nulls":4},"",{"$nulls":4},"",{"$nulls":15},"",{"$nulls":4},"",{"$nulls":4},"",{"$nulls":15},"",{"$nulls":4},"",{"$nulls":4},"",{"$nulls":15},"",{"$nulls":4},"",{"$nulls":4},"",{"$nulls":6},0,{"$f":"SUM($FL$36:$FL77)","v":0},0]
[43,{"$nulls":4},"N/A",{"$nulls":10},"","","",null,"","","",null,"","","",null,"","","",{"$nulls":5},"","","","","","","","",null,0,{"$nulls":3},"","","",null,"","","",null,"","","",null,"","","",{"$nulls":8},"",{"$nulls":4},"",{"$nulls":4},"",{"$nulls":15},"",{"$nulls":4},"",{"$nulls":4},"",{"$nulls":15},"",{"$nulls":4},"",{"$nulls":4},"",{"$nulls":15},"",{"$nulls":4},"",{"$nulls":4},"",{"$nulls":6},0,{"$f":"SUM($FL$36:$FL78)","v":0},0]
[44,{"$nulls":4},"N/A",{"$nulls":10},"","","",null,"","","",null,"","","",null,"","","",{"$nulls":5},"","","","","","","","",null,0,{"$nulls":3},"","","",null,"","","",null,"","","",null,"","","",{"$nulls":8},"",{"$nulls":4},"",{"$nulls":4},"",{"$nulls":15},"",{"$nulls":4},"",{"$nulls":4},"",{"$nulls":15},"",{"$nulls":4},"",{"$nulls":4},"",{"$nulls":15},"",{"$nulls":4},"",{"$nulls":4},"",{"$nulls":6},0,{"$f":"SUM($FL$36:$FL79)","v":0},0]
[45,{"$nulls":4},"N/A",{"$nulls":10},"","","",null,"","","",null,"","","",null,"","","",{"$nulls":5},"","","","","","","","",null,0,{"$nulls":3},"","","",null,"","","",null,"","","",null,"","","",{"$nulls":8},"",{"$nulls":4},"",{"$nulls":4},"",{"$nulls":15},"",{"$nulls":4},"",{"$nulls":4},"",{"$nulls":15},"",{"$nulls":4},"",{"$nulls":4},"",{"$nulls":15},"",{"$nulls":4},"",{"$nulls":4},"",{"$nulls":6},0,{"$f":"SUM($FL$36:$FL80)","v":0},0]
[46,{"$nulls":4},"N/A",{"$nulls":10},"","","",null,"","","",null,"","","",null,"","","",{"$nulls":5},"","","","","","","","",null,0,{"$nulls":3},"","","",null,"","","",null,"","","",null,"","","",{"$nulls":8},"",{"$nulls":4},"",{"$nulls":4},"",{"$nulls":15},"",{"$nulls":4},"",{"$nulls":4},"",{"$nulls":15},"",{"$nulls":4},"",{"$nulls":4},"",{"$nulls":15},"",{"$nulls":4},"",{"$nulls":4},"",{"$nulls":6},0,{"$f":"SUM($FL$36:$FL81)","v":0},0]
[47,{"$nulls":4},"N/A",{"$nulls":10},"","","",null,"","","",null,"","","",null,"","","",{"$nulls":5},"","","","","","","","",null,0,{"$nulls":3},"","","",null,"","","",null,"","","",null,"","","",{"$nulls":8},"",{"$nulls":4},"",{"$nulls":4},"",{"$nulls":15},"",{"$nulls":4},"",{"$nulls":4},"",{"$nulls":15},"",{"$nulls":4},"",{"$nulls":4},"",{"$nulls":15},"",{"$nulls":4},"",{"$nulls":4},"",{"$nulls":6},0,{"$f":"SUM($FL$36:$FL82)","v":0},0]
[48,{"$nulls":4},"N/A",{"$nulls":10},"","","",null,"","","",null,"","","",null,"","","",{"$nulls":5},"","","","","","","","",null,0,{"$nulls":3},"","","",null,"","","",null,"","","",null,"","","",{"$nulls":8},"",{"$nulls":4},"",{"$nulls":4},"",{"$nulls":15},"",{"$nulls":4},"",{"$nulls":4},"",{"$nulls":15},"",{"$nulls":4},"",{"$nulls":4},"",{"$nulls":15},"",{"$nulls":4},"",{"$nulls":4},"",{"$nulls":6},0,{"$f":"SUM($FL$36:$FL83)","v":0},0]
[49,{"$nulls":4},"N/A",{"$nulls":10},"","","",null,"","","",null,"","","",null,"","","",{"$nulls":5},"","","","","","","","",null,0,{"$nulls":3},"","","",null,"","","",null,"","","",null,"","","",{"$nulls":8},"",{"$nulls":4},"",{"$nulls":4},"",{"$nulls":15},"",{"$nulls":4},"",{"$nulls":4},"",{"$nulls":15},"",{"$nulls":4},"",{"$nulls":4},"",{"$nulls":15},"",{"$nulls":4},"",{"$nulls":4},"",{"$nulls":6},0,{"$f":"SUM($FL$36:$FL84)","v":0},0]
[50,{"$nulls":4},"N/A",{"$nulls":10},"","","",null,"","","",null,"","","",null,"","","",{"$nulls":5},"","","","","","","","",null,0,{"$nulls":3},"","","",null,"","","",null,"","","",null,"",{"$f":"IF($B85=\"Y\",IF(AND($AC85<>\"\",$AQ84<>\"\",$AR84<>\"\"),($AC85+$AQ84)/($AR84+1),\"\"),\"\")","v":""},"",{"$nulls":8},"",{"$nulls":4},"",{"$nulls":4},"",{"$nulls":15},"",{"$nulls":4},"",{"$nulls":4},"",{"$nulls":15},"",{"$nulls":4},"",{"$nulls":4},"",{"$nulls":15},"",{"$nulls":4},"",{"$nulls":4},"",{"$nulls":6},0,{"$f":"SUM($FL$36:$FL85)","v":0},0]
[null,null,{"$f":"SUM(C36:C85)","v":0}]
["g/bhp-hr"]
["g/kW-hr"]

{"sheet":"Engine Family #4","index":6,"n_rows":88,"n_cols":176,"rows_kept":88,"merged":[[1,0,1,35],[2,0,2,35],[3,0,3,35],[4,0,4,35],[5,0,5,35],[6,0,6,35],[8,0,8,16],[10,4,10,6],[10,12,10,13],[11,4,11,6],[11,15,11,16],[11,19,11,20],[11,23,11,24],[11,27,11,28],[12,4,12,6],[13,4,13,6],[14,4,15,6],[17,14,22,14],[27,4,30,13],[27,15,28,16],[32,0,32,16],[32,17,32,33],[32,34,32,35],[33,45,34,45]]}
[]
["United States"]
["US Environmental Protection Agency"]
["Office of Air and Radiation, Office of Transportation and Air Quality"]
[{"$nulls":37},"Tier 2","Y",94]
["Manufacturer Production Line Testing Report for Marine Compression Ignition Engines",{"$nulls":36},"Tier 3","N",1042]
[{"$f":"Summary!B7","v":"Version Number: 1.4 DRAFT  Last Revision: September 2023"},{"$nulls":36},"Tier 4",null,"N/A"]
[]
["Basic Information: Engine Family #4"]
[{"$nulls":167},{"$f":"IF(AND($G$24=94,Summary!$L$13=\"Category 1\"),0,1)","v":1}]
[null,null,"Manufacturer:",null,{"$f":"IF(Summary!D12<>\"\",Summary!D12,\"\")","v":""},{"$nulls":3},"Engine Family:",{"$nulls":31},{"$f":"IF($G$19=\"Diesel\",\"'HC' refers to 'THC' \",IF($G$19=\"Natural Gas\",\"'HC' refers to 'NMHC' \",IF($G$19=\"Alcohol\",\"'HC' refers to 'THCE' \",\"\")))","v":""}]
[null,null,"PLT Test Contact:",null,{"$f":"IF(Summary!D13<>\"\",Summary!D13,\"\")","v":""},{"$nulls":3},"Production (Category 3 only):",{"$nulls":6},{"$f":"IF(N16<>\"Y\", \"Current CO Result\", \"Final CO Result\")","v":"Current CO Result"},null,{"$f":"$CJ$36","v":""},null,{"$f":"IF(N16<>\"Y\", \"Current PM Result\", \"Final PM Result\")","v":"Current PM Result"},null,{"$f":"$DJ$36","v":""},null,{"$f":"IF($AF$12=\"Y\",IF(N16<>\"Y\", \"Current NOx+HC Result\", \"Final NOx+HC Result\"),IF(N16<>\"Y\", \"Current HC Result\", \"Final HC Result\"))","v":"Current HC Result"},null,{"$f":"IF($AF$12=\"Y\",IF($FP$36>0,ROUND($EJ$36+$FJ$36,2),\"\"),$EJ$36)","v":""},null,{"$f":"IF(N16<>\"Y\", \"Current NOx Result\",\"Final NOx Result\")","v":"Current NOx Result"},null,{"$f":"$FJ$36","v":""},null,{"$f":"IF($L$13<>\"Category 3\",IF($G$23=\"\",\"N\",$G$23),\"N\")","v":"N"},{"$f":"IF(Summary!$L$13=\"Category 3\",\"CAT3\",\"\")","v":""}]
[null,null,"Email Address:",null,{"$f":"IF(Summary!D14<>\"\",Summary!D14,\"\")","v":""},{"$nulls":3},"Date of Start of Model Year Production:"]
[null,null,"Phone #:",null,{"$f":"IF(Summary!D15<>\"\",Summary!D15,\"\")","v":""},{"$nulls":3},"Date of End of Model Year Production:",{"$nulls":14},{"$f":"IF($G$19=\"Diesel\",\"'HC' refers to 'THC' \",IF($G$19=\"Natural Gas\",\"'HC' refers to 'NMHC' \",IF($G$19=\"Alcohol\",\"'HC' refers to 'THCE' \",\"\")))","v":""},{"$nulls":13},"Diesel",1,{"$nulls":6},1]
[null,null,"Test Location & Description:",{"$nulls":5},"Deterioration Factor Type:",{"$nulls":28},"Natural Gas",2,{"$nulls":6},2]
[{"$nulls":8},"Include Results from this Engine Family on Summary Sheet?",{"$nulls":6},"CO Standard ",{"$nulls":3},"PM Standard or FEL",{"$nulls":3},{"$f":"IF($AF$12=\"Y\",\"NOx+HC Standard or FEL\",\"HC Standard\")","v":"HC Standard"},{"$nulls":3},"NOx Standard or FEL",{"$nulls":9},"Alcohol",3,{"$nulls":6},3]
[null,null,"Carryover?:",{"$nulls":5},"Required Tests (including failure follow-ups)",{"$nulls":4},{"$f":"$FO36","v":0},null,"Units",null,"g/kW-hr",null,"Units",null,"g/kW-hr",null,"Units",null,"g/kW-hr",null,"Units",null,"g/kW-hr",{"$nulls":4},"Test Cycle Options",{"$nulls":10},4]
[null,null,{"$f":"IF($G$17=\"Y\",\"Please submit supporting documentation indicating that this is a carry-over engine family\",\"\")","v":""},{"$nulls":5},"Instead of testing, are PLT requirements for this Engine Family",{"$nulls":6},"CO  Det Factor",{"$nulls":3},"PM  Det Factor",{"$nulls":3},"HC Det Factor",{"$nulls":3},"NOx  Det Factor",{"$nulls":6},"1 = 4-Mode General Cycle (E3)",null,null,"Recreational"]
[null,null,"Fuel Type:",{"$nulls":5}," fulfilled under the following (Category 1 only)?",{"$nulls":6},"Det Factor Type",null,{"$f":"IF($N$15<>\"\",$N$15,\"\")","v":""},null,"Det Factor Type",null,{"$f":"IF($N$15<>\"\",$N$15,\"\")","v":""},null,"Det Factor Type",null,{"$f":"IF($N$15<>\"\",$N$15,\"\")","v":""},null,"Det Factor Type",null,{"$f":"IF($N$15<>\"\",$N$15,\"\")","v":""},{"$nulls":4},"2 = 5-Mode Recreational Cycle (E5)",null,null,"Commercial"]
[null,null,"Recreational/Commercial:",{"$nulls":5},"Please elaborate in the comments section.",{"$nulls":6},"CO Green Engine Factor",{"$nulls":3},"PM Green Engine Factor",{"$nulls":3},"HC Green Engine Factor",{"$nulls":3},"NOx Green Engine Factor",{"$nulls":6},"3 = 4-Mode Constant Speed Propulsion Cycle (E2)"]
[null,null,"Model Year:",{"$nulls":5},"    -1042.310(a) - EPA approved combining it, for PLT purposes only.",{"$nulls":25},"4 = 5-Mode Constant Speed Auxiliary Cycle (D2)"]
[null,null,"Tier:",{"$nulls":31},"5 = 6-Mode Variable Speed Auxiliary Cycle (G2)",null,null,"1 (E3)"]
[null,null,"Combined NOx+HC?",{"$nulls":31},"6 = 8-Mode Variable Speed Ausiliary Cycle (C1)",null,null,"2 (E5)"]
[null,null,"40 CFR Part:",{"$nulls":3},{"$f":"AN6","v":1042},null,"Additional testing required by EPA [40 CFR 1042.301(e)]? ",{"$nulls":25},"O = Other",null,null,"3 (E2)"]
[{"$nulls":37},"4 (D2)"]
[{"$nulls":37},"5 (G2)",{"$nulls":132},"deleted and redirected"]
[{"$nulls":22}," ",{"$nulls":14},"6 (C1)",4,{"$nulls":6},4]
[null,null,"Comments:",{"$nulls":34},"O (other)"]
[{"$nulls":22}," ",{"$nulls":22},"additive"]
[{"$nulls":45},"multiplicative",{"$nulls":22},"CO Rounding",{"$nulls":4},"CO Rounding",{"$nulls":4},"CO Rounding",{"$nulls":4},"CO Rounding",{"$nulls":10},"PM Rounding",{"$nulls":4},"PM Rounding",{"$nulls":4},"PM Rounding",{"$nulls":4},"PM Rounding",{"$nulls":10},"HC Rounding",{"$nulls":4},"HC Rounding",{"$nulls":4},"HC Rounding",{"$nulls":4},"HC Rounding",{"$nulls":10},"NOx Rounding",{"$nulls":4},"NOx Rounding",{"$nulls":4},"NOx Rounding",{"$nulls":4},"NOx Rounding"]
[{"$nulls":22}," ",{"$nulls":45},"initial",{"$nulls":4},"final",{"$nulls":4}," det final",{"$nulls":4},"ave of all final",{"$nulls":10},"initial",{"$nulls":4},"final",{"$nulls":4}," det final",{"$nulls":4},"ave of all final",{"$nulls":10},"initial",{"$nulls":4},"final",{"$nulls":4}," det final",{"$nulls":4},"ave of all final",{"$nulls":10},"initial",{"$nulls":4},"final",{"$nulls":4}," det final",{"$nulls":4},"ave of all final"]
[{"$nulls":38},"Y",{"$nulls":6},"Y"]
["PLT Engine Test Results: Engine Family #4",{"$nulls":37},"N",{"$nulls":6},"N",{"$nulls":124},"This is N17"]
[{"$nulls":36},"CO",null,"PM",null,null,"HC or HC+NOX",null,"Nox",null,"Engine Data Complete?",{"$nulls":11},"HC","HC","HC","HC","Nox","Nox","Nox","Nox",{"$nulls":107},"1% of production or pre-approved reduced sample size - whichever is Lower # "]
[null,"Calc Final Result?","Test Number","Test Date","Test Time","Test Qtr","Engine ID","Engine Make","Engine Configuration","Build Date","Green Engine Factor Applied?","Green Engine Factor Determination Method","Service Hours (or miles) Accumulation","Service Hours Location","Service Acc. Procedure","CO Initial Result ","Rounded CO Initial Result ","CO Final Result ","Det. CO Final Result ","PM Initial Result ","Rounded PM Initial Result ","PM Final Result ","Det. PM Final Result ","HC Initial Result ","Rounded HC Initial Result ","HC Final Result ","Det. HC Final Result ","NOx Initial Result ","Rounded NOx Initial Result ","NOx Final Result ","Det. NOx Final Result ","Reason for Failed Test (if applicable)","Remedy","Repairs","Test Cycle","Comments",0,0,0,0,0,0,0,0,{"$nulls":5},"Unrounded initial CO","Unrounded final CO","Det CO","Final CO","Unrounded initial PM","Unrounded final PM","Det PM","Final PM","Unrounded initial HCNOx","Unrounded final HCNOx","Det HCNOx","Final HCNOX","Unrounded initial NOx","Unrounded final NOx","Det NOx","Final HCNOX",{"$nulls":7},"rounded",{"$nulls":4},"rounded",{"$nulls":4},"rounded",{"$nulls":4},"rounded",{"$nulls":10},"rounded",{"$nulls":4},"rounded",{"$nulls":4},"rounded",{"$nulls":4},"rounded",{"$nulls":10},"rounded",{"$nulls":4},"rounded",{"$nulls":4},"rounded",{"$nulls":4},"rounded","ROUNDED AND ACCOUNT FOR BLANK",{"$nulls":9},"rounded",{"$nulls":4},"rounded",{"$nulls":4},"rounded",{"$nulls":4},"rounded","ROUNDED AND ACCOUNT FOR BLANK","Test complete Flag","Total complete","Fail Flag","req","val","baseline req","req due to fails","sum fails","baseline req"]
[1,{"$nulls":4},"N/A",{"$nulls":10},{"$f":"$BU36","v":""},{"$f":"$BZ36","v":""},{"$f":"$CE36","v":""},null,{"$f":"$CU36","v":""},{"$f":"$CZ36","v":""},{"$f":"$DE36","v":""},null,{"$f":"$DU36","v":""},{"$f":"$DZ36","v":""},{"$f":"$EE36","v":""},null,{"$f":"$EU36","v":""},{"$f":"$EZ36","v":""},{"$f":"$FE36","v":""},{"$nulls":5},{"$f":"IF($B36=\"N\",IF(AND($AK35<>\"\",$Q36<>\"\"),$AK35+$Q36,\"\"),IF($B36=\"Y\",0,\"\"))","v":""},{"$f":"IF($B36=\"N\",AL35+1,IF($B36=\"Y\",0,\"\"))","v":""},{"$f":"IF($B36=\"N\",IF(AND($AM35<>\"\",$U36<>\"\"),$AM35+$U36,\"\"),IF($B36=\"Y\",0,\"\"))","v":""},{"$f":"IF($B36=\"N\",AN35+1,IF($B36=\"Y\",0,\"\"))","v":""},{"$f":"IF($B36=\"N\",IF(AND($AO35<>\"\",$Y36<>\"\"),$AO35+$Y36,\"\"),IF($B36=\"Y\",0,\"\"))","v":""},{"$f":"IF($B36=\"N\",AP35+1,IF($B36=\"Y\",0,\"\"))","v":""},{"$f":"IF($B36=\"N\",IF(AND($AQ35<>\"\",$AC36<>\"\"),$AQ35+$AC36,\"\"),IF($B36=\"Y\",0,\"\"))","v":""},{"$f":"IF($B36=\"N\",AR35+1,IF($B36=\"Y\",0,\"\"))","v":""},null,{"$f":"IF(AND(B36<>\"\",C36<>\"\",D36<>\"\",E36<>\"\",G36<>\"\",H36<>\"\",I36<>\"\",J36<>\"\",K36<>\"\",M36<>\"\",N36<>\"\",O36<>\"\"),1,0)","v":0},{"$nulls":3},{"$f":"IF(AND($P36<>\"\",$AT36=1),$P36,\"\")","v":""},{"$f":"IF($B36=\"Y\",IF(AND($Q36<>\"\",$AK35<>\"\",$AL35<>\"\"),($Q36+$AK35)/($AL35+1),\"\"),\"\")","v":""},{"$f":"IF(AND($B36=\"Y\",$R36<>\"\",$R$18<>\"\"),IF($R$19=\"additive\",$R36+$R$18,IF($R$19=\"multiplicative\",$R36*$R$18,\"\")),\"\")","v":""},{"$f":"IF(COUNT($S$36:$S$85)>0,AVERAGE($S$36:$S$85),\"\")","v":""},{"$f":"IF(AND($T36<>\"\",$AT36=1),$T36,\"\")","v":""},{"$f":"IF($B36=\"Y\",IF(AND($U36<>\"\",$AM35<>\"\",$AN35<>\"\"),($U36+$AM35)/($AN35+1),\"\"),\"\")","v":""},{"$f":"IF(AND($B36=\"Y\",$V36<>\"\",$V$18<>\"\"),IF($V$19=\"additive\",$V36+$V$18,IF($V$19=\"multiplicative\",$V36*$V$18,\"\")),\"\")","v":""},{"$f":"IF(COUNT($W$36:$W$85)>0,AVERAGE($W$36:$W$85),\"\")","v":""},{"$f":"IF(AND($X36<>\"\",$AT36=1),$X36,\"\")","v":""},{"$f":"IF($B36=\"Y\",IF(AND($Y36<>\"\",$AO35<>\"\",$AP35<>\"\"),($Y36+$AO35)/($AP35+1),\"\"),\"\")","v":""},{"$f":"IF(AND($B36=\"Y\",$Z36<>\"\",$Z$18<>\"\"),IF($Z$19=\"additive\",$Z36+$Z$18,IF($Z$19=\"multiplicative\",$Z36*$Z$18,\"\")),\"\")","v":""},{"$f":"IF(COUNT($AA$36:$AA$85)>0,AVERAGE($AA$36:$AA$85),\"\")","v":""},{"$f":"IF(AND($AB36<>\"\",$AT36=1),$AB36,\"\")","v":""},{"$f":"IF($B36=\"Y\",IF(AND($AC36<>\"\",$AQ35<>\"\",$AR35<>\"\"),($AC36+$AQ35)/($AR35+1),\"\"),\"\")","v":""},{"$f":"IF(AND($B36=\"Y\",$AD36<>\"\",$AD$18<>\"\"),IF($AD$19=\"additive\",$AD36+$AD$18,IF($AD$19=\"multiplicative\",$AD36*$AD$18,\"\")),\"\")","v":""},{"$f":"IF(COUNT($AE$36:$AE$85)>0,AVERAGE($AE$36:$AE$85),\"\")","v":""},{"$nulls":7},{"$f":"IF($AX36<>\"\",ROUND($AX36,2),\"\")","v":""},{"$nulls":4},{"$f":"IF($AY36<>\"\",ROUND($AY36,2),\"\")","v":""},{"$nulls":4},{"$f":"IF($AZ36<>\"\",ROUND($AZ36,2),\"\")","v":""},{"$nulls":4},{"$f":"IF($BA36<>\"\",ROUND($BA36,2),\"\")","v":""},{"$nulls":10},{"$f":"IF($BB36<>\"\",ROUND($BB36,3),\"\")","v":""},{"$nulls":4},{"$f":"IF($BC36<>\"\",ROUND($BC36,3),\"\")","v":""},{"$nulls":4},{"$f":"IF($BD36<>\"\",ROUND($BD36,3),\"\")","v":""},{"$nulls":4},{"$f":"IF($BE36<>\"\",ROUND($BE36,3),\"\")","v":""},{"$nulls":10},{"$f":"IF($BF36<>\"\",ROUND($BF36,3),\"\")","v":""},{"$nulls":4},{"$f":"IF($BG36<>\"\",ROUND($BG36,3),\"\")","v":""},{"$nulls":4},{"$f":"IF($BH36<>\"\",ROUND($BH36,3),\"\")","v":""},{"$nulls":4},{"$f":"IF($BI36<>\"\",ROUND($BI36,3),\"\")","v":""},{"$f":"IF(EJ36=\"\",0,EJ36)","v":0},{"$nulls":9},{"$f":"IF($BJ36<>\"\",ROUND($BJ36,2),\"\")","v":""},{"$nulls":4},{"$f":"IF($BK36<>\"\",ROUND($BK36,2),\"\")","v":""},{"$nulls":4},{"$f":"IF($BL36<>\"\",ROUND($BL36,2),\"\")","v":""},{"$nulls":4},{"$f":"IF($BM36<>\"\",ROUND($BM36,2),\"\")","v":""},{"$f":"IF(FJ36=\"\",0,FJ36)","v":0},{"$f":"IF($AG$12<>\"CAT3\",IF(AND($B36=\"Y\",$S36<>\"\",$W36<>\"\",$AA36<>\"\",$AE36<>\"\"),1,0),IF($AE36<>\"\",1,0))","v":0},{"$f":"SUM($FL$36:$FL36)","v":0},{"$f":"IF($AG$12<>\"CAT3\",IF($FL36=1,IF(OR($S36>$R$16,$W36>$V$16,$AA36>$Z$16,IF($AF$12<>\"Y\",OR($AA36>$Z$16,$AE36>$AD$16),ROUND(($AA36+$AE36),2)>$Z$16)),1,0),0),IF($FL36=1,IF(AND($AE36>$AD$16,$AF$12=\"N\"),1,0),0))","v":0},{"$f":"IF(OR($M$11=\"\",$N$18=\"Y\"),0,IF($AG$12=\"CAT3\",$N$12,($FR$36+1)))","v":0},{"$f":"SUM(FL36:FL85)","v":0},{"$f":"IF(AND($G$17=\"Y\",$N$24<>\"\"),MIN($N$24,$FT$36),$FT$36)","v":0},{"$f":"$FS$36*2","v":0},{"$f":"SUM(FN36:FN85)","v":0},{"$f":"IF($N$12<>\"\",$N$12*0.01,0)","v":0}]
[{"$f":"A36+1","v":2},{"$nulls":4},"N/A",{"$nulls":10},"","","",null,"","","",null,"","","",null,"","","",{"$nulls":5},"",{"$f":"IF($B37=\"N\",AL36+1,IF($B37=\"Y\",0,\"\"))","v":""},"",{"$f":"IF($B37=\"N\",AN36+1,IF($B37=\"Y\",0,\"\"))","v":""},{"$f":"IF($B37=\"N\",IF(AND($AO36<>\"\",$Y37<>\"\"),$AO36+$Y37,\"\"),IF($B37=\"Y\",0,\"\"))","v":""},{"$f":"IF($B37=\"N\",AP36+1,IF($B37=\"Y\",0,\"\"))","v":""},{"$f":"IF($B37=\"N\",IF(AND($AQ36<>\"\",$AC37<>\"\"),$AQ36+$AC37,\"\"),IF($B37=\"Y\",0,\"\"))","v":""},{"$f":"IF($B37=\"N\",AR36+1,IF($B37=\"Y\",0,\"\"))","v":""},null,{"$f":"IF(AND(B37<>\"\",C37<>\"\",D37<>\"\",E37<>\"\",G37<>\"\",H37<>\"\",I37<>\"\",J37<>\"\",K37<>\"\",M37<>\"\",N37<>\"\",O37<>\"\"),1,0)","v":0},{"$nulls":3},"","",{"$f":"IF(AND($B37=\"Y\",$R37<>\"\",$R$18<>\"\"),IF($R$19=\"additive\",$R37+$R$18,IF($R$19=\"multiplicative\",$R37*$R$18,\"\")),\"\")","v":""},null,"","",{"$f":"IF(AND($B37=\"Y\",$V37<>\"\",$V$18<>\"\"),IF($V$19=\"additive\",$V37+$V$18,IF($V$19=\"multiplicative\",$V37*$V$18,\"\")),\"\")","v":""},null,{"$f":"IF(AND($X37<>\"\",$AT37=1),$X37,\"\")","v":""},{"$f":"IF($B37=\"Y\",IF(AND($Y37<>\"\",$AO36<>\"\",$AP36<>\"\"),($Y37+$AO36)/($AP36+1),\"\"),\"\")","v":""},{"$f":"IF(AND($B37=\"Y\",$Z37<>\"\",$Z$18<>\"\"),IF($Z$19=\"additive\",$Z37+$Z$18,IF($Z$19=\"multiplicative\",$Z37*$Z$18,\"\")),\"\")","v":""},null,{"$f":"IF(AND($AB37<>\"\",$AT37=1),$AB37,\"\")","v":""},{"$f":"IF($B37=\"Y\",IF(AND($AC37<>\"\",$AQ36<>\"\",$AR36<>\"\"),($AC37+$AQ36)/($AR36+1),\"\"),\"\")","v":""},{"$f":"IF(AND($B37=\"Y\",$AD37<>\"\",$AD$18<>\"\"),IF($AD$19=\"additive\",$AD37+$AD$18,IF($AD$19=\"multiplicative\",$AD37*$AD$18,\"\")),\"\")","v":""},{"$nulls":8},{"$f":"IF($AX37<>\"\",ROUND($AX37,2),\"\")","v":""},{"$nulls":4},{"$f":"IF($AY37<>\"\",ROUND($AY37,2),\"\")","v":""},{"$nulls":4},{"$f":"IF($AZ37<>\"\",ROUND($AZ37,2),\"\")","v":""},{"$nulls":15},{"$f":"IF($BB37<>\"\",ROUND($BB37,3),\"\")","v":""},{"$nulls":4},{"$f":"IF($BC37<>\"\",ROUND($BC37,3),\"\")","v":""},{"$nulls":4},{"$f":"IF($BD37<>\"\",ROUND($BD37,3),\"\")","v":""},{"$nulls":15},{"$f":"IF($BF37<>\"\",ROUND($BF37,3),\"\")","v":""},{"$nulls":4},{"$f":"IF($BG37<>\"\",ROUND($BG37,3),\"\")","v":""},{"$nulls":4},{"$f":"IF($BH37<>\"\",ROUND($BH37,3),\"\")","v":""},{"$nulls":15},{"$f":"IF($BJ37<>\"\",ROUND($BJ37,2),\"\")","v":""},{"$nulls":4},{"$f":"IF($BK37<>\"\",ROUND($BK37,2),\"\")","v":""},{"$nulls":4},{"$f":"IF($BL37<>\"\",ROUND($BL37,2),\"\")","v":""},{"$nulls":6},{"$f":"IF($AG$12<>\"CAT3\",IF(AND($B37=\"Y\",$S37<>\"\",$W37<>\"\",$AA37<>\"\",$AE37<>\"\"),1,0),IF($AE37<>\"\",1,0))","v":0},{"$f":"SUM($FL$36:$FL37)","v":0},{"$f":"IF($AG$12<>\"CAT3\",IF($FL37=1,IF(OR($S37>$R$16,$W37>$V$16,$AA37>$Z$16,IF($AF$12<>\"Y\",OR($AA37>$Z$16,$AE37>$AD$16),ROUND(($AA37+$AE37),2)>$Z$16)),1,0),0),IF($FL37=1,IF(AND($AE37>$AD$16,$AF$12=\"N\"),1,0),0))","v":0},null,null,{"$f":"MAX($FQ$36,$FL$10)","v":1}]
[{"$f":"A37+1","v":3},{"$nulls":4},"N/A",{"$nulls":10},"","","",null,"","","",null,"","","",null,"","","",{"$nulls":5},"","","","","","","","",null,0,{"$nulls":3},"","","",null,"","","",null,"","","",null,"","","",{"$nulls":8},"",{"$nulls":4},"",{"$nulls":4},"",{"$nulls":15},"",{"$nulls":4},"",{"$nulls":4},"",{"$nulls":15},"",{"$nulls":4},"",{"$nulls":4},"",{"$nulls":15},"",{"$nulls":4},"",{"$nulls":4},"",{"$nulls":6},0,{"$f":"SUM($FL$36:$FL38)","v":0},0]
[4,{"$nulls":4},"N/A",{"$nulls":10},"","","",null,"","","",null,"","","",null,"","","",{"$nulls":5},"","","","","","","","",null,0,{"$nulls":3},"","","",null,"","","",null,"","","",null,"","","",{"$nulls":8},"",{"$nulls":4},"",{"$nulls":4},"",{"$nulls":15},"",{"$nulls":4},"",{"$nulls":4},"",{"$nulls":15},"",{"$nulls":4},"",{"$nulls":4},"",{"$nulls":15},"",{"$nulls":4},"",{"$nulls":4},"",{"$nulls":6},0,{"$f":"SUM($FL$36:$FL39)","v":0},0,null,null,"then, the larger of that sample size or 1  (or if Part 94 and cat1,  can be 0)"]
[5,{"$nulls":4},"N/A",{"$nulls":10},"","","",null,"","","",null,"","","",null,"","","",{"$nulls":5},"","","","","","","","",null,0,{"$nulls":3},"","","",null,"","","",null,"","","",null,"","","",{"$nulls":8},"",{"$nulls":4},"",{"$nulls":4},"",{"$nulls":15},"",{"$nulls":4},"",{"$nulls":4},"",{"$nulls":15},"",{"$nulls":4},"",{"$nulls":4},"",{"$nulls":15},"",{"$nulls":4},"",{"$nulls":4},"",{"$nulls":6},0,{"$f":"SUM($FL$36:$FL40)","v":0},0]
[6,{"$nulls":4},"N/A",{"$nulls":10},"","","",null,"","","",null,"","","",null,"","","",{"$nulls":5},"","","","","","","","",null,0,{"$nulls":3},"","","",null,"","","",null,"","","",null,"","","",{"$nulls":8},"",{"$nulls":4},"",{"$nulls":4},"",{"$nulls":15},"",{"$nulls":4},"",{"$nulls":4},"",{"$nulls":15},"",{"$nulls":4},"",{"$nulls":4},"",{"$nulls":15},"",{"$nulls":4},"",{"$nulls":4},"",{"$nulls":6},0,{"$f":"SUM($FL$36:$FL41)","v":0},0]
[7,{"$nulls":4},"N/A",{"$nulls":10},"","","",null,"","","",null,"","","",null,"","","",{"$nulls":5},"","","","","","","","",null,0,{"$nulls":3},"","","",null,"","","",null,"","","",null,"","","",{"$nulls":8},"",{"$nulls":4},"",{"$nulls":4},"",{"$nulls":15},"",{"$nulls":4},"",{"$nulls":4},"",{"$nulls":15},"",{"$nulls":4},"",{"$nulls":4},"",{"$nulls":15},"",{"$nulls":4},"",{"$nulls":4},"",{"$nulls":6},0,{"$f":"SUM($FL$36:$FL42)","v":0},0]
[8,{"$nulls":4},"N/A",{"$nulls":10},"","","",null,"","","",null,"","","",null,"","","",{"$nulls":5},"","","","","","","","",null,0,{"$nulls":3},"","","",null,"","","",null,"","","",null,"","","",{"$nulls":8},"",{"$nulls":4},"",{"$nulls":4},"",{"$nulls":15},"",{"$nulls":4},"",{"$nulls":4},"",{"$nulls":15},"",{"$nulls":4},"",{"$nulls":4},"",{"$nulls":15},"",{"$nulls":4},"",{"$nulls":4},"",{"$nulls":6},0,{"$f":"SUM($FL$36:$FL43)","v":0},0]
[9,{"$nulls":4},"N/A",{"$nulls":10},"","","",null,"","","",null,"","","",null,"","","",{"$nulls":5},"","","","","","","","",null,0,{"$nulls":3},"","","",null,"","","",null,"","","",null,"","","",{"$nulls":8},"",{"$nulls":4},"",{"$nulls":4},"",{"$nulls":15},"",{"$nulls":4},"",{"$nulls":4},"",{"$nulls":15},"",{"$nulls":4},"",{"$nulls":4},"",{"$nulls":15},"",{"$nulls":4},"",{"$nulls":4},"",{"$nulls":6},0,{"$f":"SUM($FL$36:$FL44)","v":0},0]
[10,{"$nulls":4},"N/A",{"$nulls":10},"","","",null,"","","",null,"","","",null,"","","",{"$nulls":5},"","","","","","","","",null,0,{"$nulls":3},"","","",null,"","","",null,"","","",null,"","","",{"$nulls":8},"",{"$nulls":4},"",{"$nulls":4},"",{"$nulls":15},"",{"$nulls":4},"",{"$nulls":4},"",{"$nulls":15},"",{"$nulls":4},"",{"$nulls":4},"",{"$nulls":15},"",{"$nulls":4},"",{"$nulls":4},"",{"$nulls":6},0,{"$f":"SUM($FL$36:$FL45)","v":0},0]
[11,{"$nulls":4},"N/A",{"$nulls":10},"","","",null,"","","",null,"","","",null,"","","",{"$nulls":5},"","","","","","","","",null,0,{"$nulls":3},"","","",null,"","","",null,"","","",null,"","","",{"$nulls":8},"",{"$nulls":4},"",{"$nulls":4},"",{"$nulls":15},"",{"$nulls":4},"",{"$nulls":4},"",{"$nulls":15},"",{"$nulls":4},"",{"$nulls":4},"",{"$nulls":15},"",{"$nulls":4},"",{"$nulls":4},"",{"$nulls":6},0,{"$f":"SUM($FL$36:$FL46)","v":0},0]
[12,{"$nulls":4},"N/A",{"$nulls":10},"","","",null,"","","",null,"","","",null,"","","",{"$nulls":5},"","","","","","","","",null,0,{"$nulls":3},"","","",null,"","","",null,"","","",null,"","","",{"$nulls":8},"",{"$nulls":4},"",{"$nulls":4},"",{"$nulls":15},"",{"$nulls":4},"",{"$nulls":4},"",{"$nulls":15},"",{"$nulls":4},"",{"$nulls":4},"",{"$nulls":15},"",{"$nulls":4},"",{"$nulls":4},"",{"$nulls":6},0,{"$f":"SUM($FL$36:$FL47)","v":0},0]
[13,{"$nulls":4},"N/A",{"$nulls":10},"","","",null,"","","",null,"","","",null,"","","",{"$nulls":5},"","","","","","","","",null,0,{"$nulls":3},"","","",null,"","","",null,"","","",null,"","","",{"$nulls":8},"",{"$nulls":4},"",{"$nulls":4},"",{"$nulls":15},"",{"$nulls":4},"",{"$nulls":4},"",{"$nulls":15},"",{"$nulls":4},"",{"$nulls":4},"",{"$nulls":15},"",{"$nulls":4},"",{"$nulls":4},"",{"$nulls":6},0,{"$f":"SUM($FL$36:$FL48)","v":0},0]
[14,{"$nulls":4},"N/A",{"$nulls":10},"","","",null,"","","",null,"","","",null,"","","",{"$nulls":5},"","","","","","","","",null,0,{"$nulls":3},"","","",null,"","","",null,"","","",null,"","","",{"$nulls":8},"",{"$nulls":4},"",{"$nulls":4},"",{"$nulls":15},"",{"$nulls":4},"",{"$nulls":4},"",{"$nulls":15},"",{"$nulls":4},"",{"$nulls":4},"",{"$nulls":15},"",{"$nulls":4},"",{"$nulls":4},"",{"$nulls":6},0,{"$f":"SUM($FL$36:$FL49)","v":0},0]
[15,{"$nulls":4},"N/A",{"$nulls":10},"","","",null,"","","",null,"","","",null,"","","",{"$nulls":5},"","","","","","","","",null,0,{"$nulls":3},"","","",null,"","","",null,"","","",null,"","","",{"$nulls":8},"",{"$nulls":4},"",{"$nulls":4},"",{"$nulls":15},"",{"$nulls":4},"",{"$nulls":4},"",{"$nulls":15},"",{"$nulls":4},"",{"$nulls":4},"",{"$nulls":15},"",{"$nulls":4},"",{"$nulls":4},"",{"$nulls":6},0,{"$f":"SUM($FL$36:$FL50)","v":0},0]
[16,{"$nulls":4},"N/A",{"$nulls":10},"","","",null,"","","",null,"","","",null,"","","",{"$nulls":5},"","","","","","","","",null,0,{"$nulls":3},"","","",null,"","","",null,"","","",null,"","","",{"$nulls":8},"",{"$nulls":4},"",{"$nulls":4},"",{"$nulls":15},"",{"$nulls":4},"",{"$nulls":4},"",{"$nulls":15},"",{"$nulls":4},"",{"$nulls":4},"",{"$nulls":15},"",{"$nulls":4},"",{"$nulls":4},"",{"$nulls":6},0,{"$f":"SUM($FL$36:$FL51)","v":0},0]
[17,{"$nulls":4},"N/A",{"$nulls":10},"","","",null,"","","",null,"","","",null,"","","",{"$nulls":5},"","","","","","","","",null,0,{"$nulls":3},"","","",null,"","","",null,"","","",null,"","","",{"$nulls":8},"",{"$nulls":4},"",{"$nulls":4},"",{"$nulls":15},"",{"$nulls":4},"",{"$nulls":4},"",{"$nulls":15},"",{"$nulls":4},"",{"$nulls":4},"",{"$nulls":15},"",{"$nulls":4},"",{"$nulls":4},"",{"$nulls":6},0,{"$f":"SUM($FL$36:$FL52)","v":0},0]
[18,{"$nulls":4},"N/A",{"$nulls":10},"","","",null,"","","",null,"","","",null,"","","",{"$nulls":5},"","","","","","","","",null,0,{"$nulls":3},"","","",null,"","","",null,"","","",null,"","","",{"$nulls":8},"",{"$nulls":4},"",{"$nulls":4},"",{"$nulls":15},"",{"$nulls":4},"",{"$nulls":4},"",{"$nulls":15},"",{"$nulls":4},"",{"$nulls":4},"",{"$nulls":15},"",{"$nulls":4},"",{"$nulls":4},"",{"$nulls":6},0,{"$f":"SUM($FL$36:$FL53)","v":0},0]
[19,{"$nulls":4},"N/A",{"$nulls":10},"","","",null,"","","",null,"","","",null,"","","",{"$nulls":5},"","","","","","","","",null,0,{"$nulls":3},"","","",null,"","","",null,"","","",null,"","","",{"$nulls":8},"",{"$nulls":4},"",{"$nulls":4},"",{"$nulls":15},"",{"$nulls":4},"",{"$nulls":4},"",{"$nulls":15},"",{"$nulls":4},"",{"$nulls":4},"",{"$nulls":15},"",{"$nulls":4},"",{"$nulls":4},"",{"$nulls":6},0,{"$f":"SUM($FL$36:$FL54)","v":0},0]
[20,{"$nulls":4},"N/A",{"$nulls":10},"","","",null,"","","",null,"","","",null,"","","",{"$nulls":5},"","","","","","","","",null,0,{"$nulls":3},"","","",null,"","","",null,"","","",null,"","","",{"$nulls":8},"",{"$nulls":4},"",{"$nulls":4},"",{"$nulls":15},"",{"$nulls":4},"",{"$nulls":4},"",{"$nulls":15},"",{"$nulls":4},"",{"$nulls":4},"",{"$nulls":15},"",{"$nulls":4},"",{"$nulls":4},"",{"$nulls":6},0,{"$f":"SUM($FL$36:$FL55)","v":0},0]
[21,{"$nulls":4},"N/A",{"$nulls":10},"","","",null,"","","",null,"","","",null,"","","",{"$nulls":5},"","","","","","","","",null,0,{"$nulls":3},"","","",null,"","","",null,"","","",null,"","","",{"$nulls":8},"",{"$nulls":4},"",{"$nulls":4},"",{"$nulls":15},"",{"$nulls":4},"",{"$nulls":4},"",{"$nulls":15},"",{"$nulls":4},"",{"$nulls":4},"",{"$nulls":15},"",{"$nulls":4},"",{"$nulls":4},"",{"$nulls":6},0,{"$f":"SUM($FL$36:$FL56)","v":0},0]
[22,{"$nulls":4},"N/A",{"$nulls":10},"","","",null,"","","",null,"","","",null,"","","",{"$nulls":5},"","","","","","","","",null,0,{"$nulls":3},"","","",null,"","","",null,"","","",null,"","","",{"$nulls":8},"",{"$nulls":4},"",{"$nulls":4},"",{"$nulls":15},"",{"$nulls":4},"",{"$nulls":4},"",{"$nulls":15},"",{"$nulls":4},"",{"$nulls":4},"",{"$nulls":15},"",{"$nulls":4},"",{"$nulls":4},"",{"$nulls":6},0,{"$f":"SUM($FL$36:$FL57)","v":0},0]
[23,{"$nulls":4},"N/A",{"$nulls":10},"","","",null,"","","",null,"","","",null,"","","",{"$nulls":5},"","","","","","","","",null,0,{"$nulls":3},"","","",null,"","","",null,"","","",null,"","","",{"$nulls":8},"",{"$nulls":4},"",{"$nulls":4},"",{"$nulls":15},"",{"$nulls":4},"",{"$nulls":4},"",{"$nulls":15},"",{"$nulls":4},"",{"$nulls":4},"",{"$nulls":15},"",{"$nulls":4},"",{"$nulls":4},"",{"$nulls":6},0,{"$f":"SUM($FL$36:$FL58)","v":0},0]
[24,{"$nulls":4},"N/A",{"$nulls":10},"","","",null,"","","",null,"","","",null,"","","",{"$nulls":5},"","","","","","","","",null,0,{"$nulls":3},"","","",null,"","","",null,"","","",null,"","","",{"$nulls":8},"",{"$nulls":4},"",{"$nulls":4},"",{"$nulls":15},"",{"$nulls":4},"",{"$nulls":4},"",{"$nulls":15},"",{"$nulls":4},"",{"$nulls":4},"",{"$nulls":15},"",{"$nulls":4},"",{"$nulls":4},"",{"$nulls":6},0,{"$f":"SUM($FL$36:$FL59)","v":0},0]
[25,{"$nulls":4},"N/A",{"$nulls":10},"","","",null,"","","",null,"","","",null,"","","",{"$nulls":5},"","","","","","","","",null,0,{"$nulls":3},"","","",null,"","","",null,"","","",null,"","","",{"$nulls":8},"",{"$nulls":4},"",{"$nulls":4},"",{"$nulls":15},"",{"$nulls":4},"",{"$nulls":4},"",{"$nulls":15},"",{"$nulls":4},"",{"$nulls":4},"",{"$nulls":15},"",{"$nulls":4},"",{"$nulls":4},"",{"$nulls":6},0,{"$f":"SUM($FL$36:$FL60)","v":0},0]
[26,{"$nulls":4},"N/A",{"$nulls":10},"","","",null,"","","",null,"","","",null,"","","",{"$nulls":5},"","","","","","","","",null,0,{"$nulls":3},"","","",null,"","","",null,"","","",null,"","","",{"$nulls":8},"",{"$nulls":4},"",{"$nulls":4},"",{"$nulls":15},"",{"$nulls":4},"",{"$nulls":4},"",{"$nulls":15},"",{"$nulls":4},"",{"$nulls":4},"",{"$nulls":15},"",{"$nulls":4},"",{"$nulls":4},"",{"$nulls":6},0,{"$f":"SUM($FL$36:$FL61)","v":0},0]
[27,{"$nulls":4},"N/A",{"$nulls":10},"","","",null,"","","",null,"","","",null,"","","",{"$nulls":5},"","","","","","","","",null,0,{"$nulls":3},"","","",null,"","","",null,"","","",null,"","","",{"$nulls":8},"",{"$nulls":4},"",{"$nulls":4},"",{"$nulls":15},"",{"$nulls":4},"",{"$nulls":4},"",{"$nulls":15},"",{"$nulls":4},"",{"$nulls":4},"",{"$nulls":15},"",{"$nulls":4},"",{"$nulls":4},"",{"$nulls":6},0,{"$f":"SUM($FL$36:$FL62)","v":0},0]
[28,{"$nulls":4},"N/A",{"$nulls":10},"","","",null,"","","",null,"","","",null,"","","",{"$nulls":5},"","","","","","","","",null,0,{"$nulls":3},"","","",null,"","","",null,"","","",null,"","","",{"$nulls":8},"",{"$nulls":4},"",{"$nulls":4},"",{"$nulls":15},"",{"$nulls":4},"",{"$nulls":4},"",{"$nulls":15},"",{"$nulls":4},"",{"$nulls":4},"",{"$nulls":15},"",{"$nulls":4},"",{"$nulls":4},"",{"$nulls":6},0,{"$f":"SUM($FL$36:$FL63)","v":0},0]
[29,{"$nulls":4},"N/A",{"$nulls":10},"","","",null,"","","",null,"","","",null,"","","",{"$nulls":5},"","","","","","","","",null,0,{"$nulls":3},"","","",null,"","","",null,"","","",null,"","","",{"$nulls":8},"",{"$nulls":4},"",{"$nulls":4},"",{"$nulls":15},"",{"$nulls":4},"",{"$nulls":4},"",{"$nulls":15},"",{"$nulls":4},"",{"$nulls":4},"",{"$nulls":15},"",{"$nulls":4},"",{"$nulls":4},"",{"$nulls":6},0,{"$f":"SUM($FL$36:$FL64)","v":0},0]
[30,{"$nulls":4},"N/A",{"$nulls":10},"","","",null,"","","",null,"","","",null,"","","",{"$nulls":5},"","","","","","","","",null,0,{"$nulls":3},"","","",null,"","","",null,"","","",null,"","","",{"$nulls":8},"",{"$nulls":4},"",{"$nulls":4},"",{"$nulls":15},"",{"$nulls":4},"",{"$nulls":4},"",{"$nulls":15},"",{"$nulls":4},"",{"$nulls":4},"",{"$nulls":15},"",{"$nulls":4},"",{"$nulls":4},"",{"$nulls":6},0,{"$f":"SUM($FL$36:$FL65)","v":0},0]
[31,{"$nulls":4},"N/A",{"$nulls":10},"","","",null,"","","",null,"","","",null,"","","",{"$nulls":5},"","","","","","","","",null,0,{"$nulls":3},"","","",null,"","","",null,"","","",null,"","","",{"$nulls":8},"",{"$nulls":4},"",{"$nulls":4},"",{"$nulls":15},"",{"$nulls":4},"",{"$nulls":4},"",{"$nulls":15},"",{"$nulls":4},"",{"$nulls":4},"",{"$nulls":15},"",{"$nulls":4},"",{"$nulls":4},"",{"$nulls":6},0,{"$f":"SUM($FL$36:$FL66)","v":0},0]
[32,{"$nulls":4},"N/A",{"$nulls":10},"","","",null,"","","",null,"","","",null,"","","",{"$nulls":5},"","","","","","","","",null,0,{"$nulls":3},"","","",null,"","","",null,"","","",null,"","","",{"$nulls":8},"",{"$nulls":4},"",{"$nulls":4},"",{"$nulls":15},"",{"$nulls":4},"",{"$nulls":4},"",{"$nulls":15},"",{"$nulls":4},"",{"$nulls":4},"",{"$nulls":15},"",{"$nulls":4},"",{"$nulls":4},"",{"$nulls":6},0,{"$f":"SUM($FL$36:$FL67)","v":0},0]
[33,{"$nulls":4},"N/A",{"$nulls":10},"","","",null,"","","",null,"","","",null,"","","",{"$nulls":5},"","","","","","","","",null,0,{"$nulls":3},"","","",null,"","","",null,"","","",null,"","","",{"$nulls":8},"",{"$nulls":4},"",{"$nulls":4},"",{"$nulls":15},"",{"$nulls":4},"",{"$nulls":4},"",{"$nulls":15},"",{"$nulls":4},"",{"$nulls":4},"",{"$nulls":15},"",{"$nulls":4},"",{"$nulls":4},"",{"$nulls":6},0,{"$f":"SUM($FL$36:$FL68)","v":0},0]
[34,{"$nulls":4},"N/A",{"$nulls":10},"","","",null,"","","",null,"","","",null,"","","",{"$nulls":5},"","","","","","","","",null,0,{"$nulls":3},"","","",null,"","","",null,"","","",null,"","","",{"$nulls":8},"",{"$nulls":4},"",{"$nulls":4},"",{"$nulls":15},"",{"$nulls":4},"",{"$nulls":4},"",{"$nulls":15},"",{"$nulls":4},"",{"$nulls":4},"",{"$nulls":15},"",{"$nulls":4},"",{"$nulls":4},"",{"$nulls":6},0,{"$f":"SUM($FL$36:$FL69)","v":0},0]
[35,{"$nulls":4},"N/A",{"$nulls":10},"","","",null,"","","",null,"","","",null,"","","",{"$nulls":5},"","","","","","","","",null,0,{"$nulls":3},"","","",null,"","","",null,"","","",null,"","","",{"$nulls":8},"",{"$nulls":4},"",{"$nulls":4},"",{"$nulls":15},"",{"$nulls":4},"",{"$nulls":4},"",{"$nulls":15},"",{"$nulls":4},"",{"$nulls":4},"",{"$nulls":15},"",{"$nulls":4},"",{"$nulls":4},"",{"$nulls":6},0,{"$f":"SUM($FL$36:$FL70)","v":0},0]
[36,{"$nulls":4},"N/A",{"$nulls":10},"","","",null,"","","",null,"","","",null,"","","",{"$nulls":5},"","","","","","","","",null,0,{"$nulls":3},"","","",null,"","","",null,"","","",null,"","","",{"$nulls":8},"",{"$nulls":4},"",{"$nulls":4},"",{"$nulls":15},"",{"$nulls":4},"",{"$nulls":4},"",{"$nulls":15},"",{"$nulls":4},"",{"$nulls":4},"",{"$nulls":15},"",{"$nulls":4},"",{"$nulls":4},"",{"$nulls":6},0,{"$f":"SUM($FL$36:$FL71)","v":0},0]
[37,{"$nulls":4},"N/A",{"$nulls":10},"","","",null,"","","",null,"","","",null,"","","",{"$nulls":5},"","","","","","","","",null,0,{"$nulls":3},"","","",null,"","","",null,"","","",null,"","","",{"$nulls":8},"",{"$nulls":4},"",{"$nulls":4},"",{"$nulls":15},"",{"$nulls":4},"",{"$nulls":4},"",{"$nulls":15},"",{"$nulls":4},"",{"$nulls":4},"",{"$nulls":15},"",{"$nulls":4},"",{"$nulls":4},"",{"$nulls":6},0,{"$f":"SUM($FL$36:$FL72)","v":0},0]
[38,{"$nulls":4},"N/A",{"$nulls":10},"","","",null,"","","",null,"","","",null,"","","",{"$nulls":5},"","","","","","","","",null,0,{"$nulls":3},"","","",null,"","","",null,"","","",null,"","","",{"$nulls":8},"",{"$nulls":4},"",{"$nulls":4},"",{"$nulls":15},"",{"$nulls":4},"",{"$nulls":4},"",{"$nulls":15},"",{"$nulls":4},"",{"$nulls":4},"",{"$nulls":15},"",{"$nulls":4},"",{"$nulls":4},"",{"$nulls":6},0,{"$f":"SUM($FL$36:$FL73)","v":0},0]
[39,{"$nulls":4},"N/A",{"$nulls":10},"","","",null,"","","",null,"","","",null,"","","",{"$nulls":5},"","","","","","","","",null,0,{"$nulls":3},"","","",null,"","","",null,"","","",null,"","","",{"$nulls":8},"",{"$nulls":4},"",{"$nulls":4},"",{"$nulls":15},"",{"$nulls":4},"",{"$nulls":4},"",{"$nulls":15},"",{"$nulls":4},"",{"$nulls":4},"",{"$nulls":15},"",{"$nulls":4},"",{"$nulls":4},"",{"$nulls":6},0,{"$f":"SUM($FL$36:$FL74)","v":0},0]
[40,{"$nulls":4},"N/A",{"$nulls":10},"","","",null,"","","",null,"","","",null,"","","",{"$nulls":5},"","","","","","","","",null,0,{"$nulls":3},"","","",null,"","","",null,"","","",null,"","","",{"$nulls":8},"",{"$nulls":4},"",{"$nulls":4},"",{"$nulls":15},"",{"$nulls":4},"",{"$nulls":4},"",{"$nulls":15},"",{"$nulls":4},"",{"$nulls":4},"",{"$nulls":15},"",{"$nulls":4},"",{"$nulls":4},"",{"$nulls":6},0,{"$f":"SUM($FL$36:$FL75)","v":0},0]
[41,{"$nulls":4},"N/A",{"$nulls":10},"","","",null,"","","",null,"","","",null,"","","",{"$nulls":5},"","","","","","","","",null,0,{"$nulls":3},"","","",null,"","","",null,"","","",null,"","","",{"$nulls":8},"",{"$nulls":4},"",{"$nulls":4},"",{"$nulls":15},"",{"$nulls":4},"",{"$nulls":4},"",{"$nulls":15},"",{"$nulls":4},"",{"$nulls":4},"",{"$nulls":15},"",{"$nulls":4},"",{"$nulls":4},"",{"$nulls":6},0,{"$f":"SUM($FL$36:$FL76)","v":0},0]
[42,{"$nulls":4},"N/A",{"$nulls":10},"","","",null,"","","",null,"","","",null,"","","",{"$nulls":5},"","","","","","","","",null,0,{"$nulls":3},"","","",null,"","","",null,"","","",null,"","","",{"$nulls":8},"",{"$nulls":4},"",{"$nulls":4},"",{"$nulls":15},"",{"$nulls":4},"",{"$nulls":4},"",{"$nulls":15},"",{"$nulls":4},"",{"$nulls":4},"",{"$nulls":15},"",{"$nulls":4},"",{"$nulls":4},"",{"$nulls":6},0,{"$f":"SUM($FL$36:$FL77)","v":0},0]
[43,{"$nulls":4},"N/A",{"$nulls":10},"","","",null,"","","",null,"","","",null,"","","",{"$nulls":5},"","","","","","","","",null,0,{"$nulls":3},"","","",null,"","","",null,"","","",null,"","","",{"$nulls":8},"",{"$nulls":4},"",{"$nulls":4},"",{"$nulls":15},"",{"$nulls":4},"",{"$nulls":4},"",{"$nulls":15},"",{"$nulls":4},"",{"$nulls":4},"",{"$nulls":15},"",{"$nulls":4},"",{"$nulls":4},"",{"$nulls":6},0,{"$f":"SUM($FL$36:$FL78)","v":0},0]
[44,{"$nulls":4},"N/A",{"$nulls":10},"","","",null,"","","",null,"","","",null,"","","",{"$nulls":5},"","","","","","","","",null,0,{"$nulls":3},"","","",null,"","","",null,"","","",null,"","","",{"$nulls":8},"",{"$nulls":4},"",{"$nulls":4},"",{"$nulls":15},"",{"$nulls":4},"",{"$nulls":4},"",{"$nulls":15},"",{"$nulls":4},"",{"$nulls":4},"",{"$nulls":15},"",{"$nulls":4},"",{"$nulls":4},"",{"$nulls":6},0,{"$f":"SUM($FL$36:$FL79)","v":0},0]
[45,{"$nulls":4},"N/A",{"$nulls":10},"","","",null,"","","",null,"","","",null,"","","",{"$nulls":5},"","","","","","","","",null,0,{"$nulls":3},"","","",null,"","","",null,"","","",null,"","","",{"$nulls":8},"",{"$nulls":4},"",{"$nulls":4},"",{"$nulls":15},"",{"$nulls":4},"",{"$nulls":4},"",{"$nulls":15},"",{"$nulls":4},"",{"$nulls":4},"",{"$nulls":15},"",{"$nulls":4},"",{"$nulls":4},"",{"$nulls":6},0,{"$f":"SUM($FL$36:$FL80)","v":0},0]
[46,{"$nulls":4},"N/A",{"$nulls":10},"","","",null,"","","",null,"","","",null,"","","",{"$nulls":5},"","","","","","","","",null,0,{"$nulls":3},"","","",null,"","","",null,"","","",null,"","","",{"$nulls":8},"",{"$nulls":4},"",{"$nulls":4},"",{"$nulls":15},"",{"$nulls":4},"",{"$nulls":4},"",{"$nulls":15},"",{"$nulls":4},"",{"$nulls":4},"",{"$nulls":15},"",{"$nulls":4},"",{"$nulls":4},"",{"$nulls":6},0,{"$f":"SUM($FL$36:$FL81)","v":0},0]
[47,{"$nulls":4},"N/A",{"$nulls":10},"","","",null,"","","",null,"","","",null,"","","",{"$nulls":5},"","","","","","","","",null,0,{"$nulls":3},"","","",null,"","","",null,"","","",null,"","","",{"$nulls":8},"",{"$nulls":4},"",{"$nulls":4},"",{"$nulls":15},"",{"$nulls":4},"",{"$nulls":4},"",{"$nulls":15},"",{"$nulls":4},"",{"$nulls":4},"",{"$nulls":15},"",{"$nulls":4},"",{"$nulls":4},"",{"$nulls":6},0,{"$f":"SUM($FL$36:$FL82)","v":0},0]
[48,{"$nulls":4},"N/A",{"$nulls":10},"","","",null,"","","",null,"","","",null,"","","",{"$nulls":5},"","","","","","","","",null,0,{"$nulls":3},"","","",null,"","","",null,"","","",null,"","","",{"$nulls":8},"",{"$nulls":4},"",{"$nulls":4},"",{"$nulls":15},"",{"$nulls":4},"",{"$nulls":4},"",{"$nulls":15},"",{"$nulls":4},"",{"$nulls":4},"",{"$nulls":15},"",{"$nulls":4},"",{"$nulls":4},"",{"$nulls":6},0,{"$f":"SUM($FL$36:$FL83)","v":0},0]
[49,{"$nulls":4},"N/A",{"$nulls":10},"","","",null,"","","",null,"","","",null,"","","",{"$nulls":5},"","","","","","","","",null,0,{"$nulls":3},"","","",null,"","","",null,"","","",null,"","","",{"$nulls":8},"",{"$nulls":4},"",{"$nulls":4},"",{"$nulls":15},"",{"$nulls":4},"",{"$nulls":4},"",{"$nulls":15},"",{"$nulls":4},"",{"$nulls":4},"",{"$nulls":15},"",{"$nulls":4},"",{"$nulls":4},"",{"$nulls":6},0,{"$f":"SUM($FL$36:$FL84)","v":0},0]
[50,{"$nulls":4},"N/A",{"$nulls":10},"","","",null,"","","",null,"","","",null,"","","",{"$nulls":5},"","","","","","","","",null,0,{"$nulls":3},"","","",null,"","","",null,"","","",null,"",{"$f":"IF($B85=\"Y\",IF(AND($AC85<>\"\",$AQ84<>\"\",$AR84<>\"\"),($AC85+$AQ84)/($AR84+1),\"\"),\"\")","v":""},"",{"$nulls":8},"",{"$nulls":4},"",{"$nulls":4},"",{"$nulls":15},"",{"$nulls":4},"",{"$nulls":4},"",{"$nulls":15},"",{"$nulls":4},"",{"$nulls":4},"",{"$nulls":15},"",{"$nulls":4},"",{"$nulls":4},"",{"$nulls":6},0,{"$f":"SUM($FL$36:$FL85)","v":0},0]
[null,null,{"$f":"SUM(C36:C85)","v":0}]
["g/bhp-hr"]
["g/kW-hr"]

{"sheet":"Engine Family #5","index":7,"n_rows":88,"n_cols":176,"rows_kept":88,"merged":[[1,0,1,35],[2,0,2,35],[3,0,3,35],[4,0,4,35],[5,0,5,35],[6,0,6,35],[8,0,8,16],[10,4,10,6],[10,12,10,13],[11,4,11,6],[11,15,11,16],[11,19,11,20],[11,23,11,24],[11,27,11,28],[12,4,12,6],[13,4,13,6],[14,4,15,6],[17,14,22,14],[27,4,30,13],[27,15,28,16],[32,0,32,16],[32,17,32,33],[32,34,32,35],[33,45,34,45]]}
[]
["United States"]
["US Environmental Protection Agency"]
["Office of Air and Radiation, Office of Transportation and Air Quality"]
[{"$nulls":37},"Tier 2","Y",94]
["Manufacturer Production Line Testing Report for Marine Compression Ignition Engines",{"$nulls":36},"Tier 3","N",1042]
[{"$f":"Summary!B7","v":"Version Number: 1.4 DRAFT  Last Revision: September 2023"},{"$nulls":36},"Tier 4",null,"N/A"]
[]
["Basic Information: Engine Family #5"]
[{"$nulls":167},{"$f":"IF(AND($G$24=94,Summary!$L$13=\"Category 1\"),0,1)","v":1}]
[null,null,"Manufacturer:",null,{"$f":"IF(Summary!D12<>\"\",Summary!D12,\"\")","v":""},{"$nulls":3},"Engine Family:",{"$nulls":31},{"$f":"IF($G$19=\"Diesel\",\"'HC' refers to 'THC' \",IF($G$19=\"Natural Gas\",\"'HC' refers to 'NMHC' \",IF($G$19=\"Alcohol\",\"'HC' refers to 'THCE' \",\"\")))","v":""}]
[null,null,"PLT Test Contact:",null,{"$f":"IF(Summary!D13<>\"\",Summary!D13,\"\")","v":""},{"$nulls":3},"Production (Category 3 only):",{"$nulls":6},{"$f":"IF(N16<>\"Y\", \"Current CO Result\", \"Final CO Result\")","v":"Current CO Result"},null,{"$f":"$CJ$36","v":""},null,{"$f":"IF(N16<>\"Y\", \"Current PM Result\", \"Final PM Result\")","v":"Current PM Result"},null,{"$f":"$DJ$36","v":""},null,{"$f":"IF($AF$12=\"Y\",IF(N16<>\"Y\", \"Current NOx+HC Result\", \"Final NOx+HC Result\"),IF(N16<>\"Y\", \"Current HC Result\", \"Final HC Result\"))","v":"Current HC Result"},null,{"$f":"IF($AF$12=\"Y\",IF($FP$36>0,ROUND($EJ$36+$FJ$36,2),\"\"),$EJ$36)","v":""},null,{"$f":"IF(N16<>\"Y\", \"Current NOx Result\",\"Final NOx Result\")","v":"Current NOx Result"},null,{"$f":"$FJ$36","v":""},null,{"$f":"IF($L$13<>\"Category 3\",IF($G$23=\"\",\"N\",$G$23),\"N\")","v":"N"},{"$f":"IF(Summary!$L$13=\"Category 3\",\"CAT3\",\"\")","v":""}]
[null,null,"Email Address:",null,{"$f":"IF(Summary!D14<>\"\",Summary!D14,\"\")","v":""},{"$nulls":3},"Date of Start of Model Year Production:"]
[null,null,"Phone #:",null,{"$f":"IF(Summary!D15<>\"\",Summary!D15,\"\")","v":""},{"$nulls":3},"Date of End of Model Year Production:",{"$nulls":14},{"$f":"IF($G$19=\"Diesel\",\"'HC' refers to 'THC' \",IF($G$19=\"Natural Gas\",\"'HC' refers to 'NMHC' \",IF($G$19=\"Alcohol\",\"'HC' refers to 'THCE' \",\"\")))","v":""},{"$nulls":13},"Diesel",1,{"$nulls":6},1]
[null,null,"Test Location & Description:",{"$nulls":5},"Deterioration Factor Type:",{"$nulls":28},"Natural Gas",2,{"$nulls":6},2]
[{"$nulls":8},"Include Results from this Engine Family on Summary Sheet?",{"$nulls":6},"CO Standard ",{"$nulls":3},"PM Standard or FEL",{"$nulls":3},{"$f":"IF($AF$12=\"Y\",\"NOx+HC Standard or FEL\",\"HC Standard\")","v":"HC Standard"},{"$nulls":3},"NOx Standard or FEL",{"$nulls":9},"Alcohol",3,{"$nulls":6},3]
[null,null,"Carryover?:",{"$nulls":5},"Required Tests (including failure follow-ups)",{"$nulls":4},{"$f":"$FO36","v":0},null,"Units",null,"g/kW-hr",null,"Units",null,"g/kW-hr",null,"Units",null,"g/kW-hr",null,"Units",null,"g/kW-hr",{"$nulls":4},"Test Cycle Options",{"$nulls":10},4]
[null,null,{"$f":"IF($G$17=\"Y\",\"Please submit supporting documentation indicating that this is a carry-over engine family\",\"\")","v":""},{"$nulls":5},"Instead of testing, are PLT requirements for this Engine Family",{"$nulls":6},"CO  Det Factor",{"$nulls":3},"PM  Det Factor",{"$nulls":3},"HC Det Factor",{"$nulls":3},"NOx  Det Factor",{"$nulls":6},"1 = 4-Mode General Cycle (E3)",null,null,"Recreational"]
[null,null,"Fuel Type:",{"$nulls":5}," fulfilled under the following (Category 1 only)?",{"$nulls":6},"Det Factor Type",null,{"$f":"IF($N$15<>\"\",$N$15,\"\")","v":""},null,"Det Factor Type",null,{"$f":"IF($N$15<>\"\",$N$15,\"\")","v":""},null,"Det Factor Type",null,{"$f":"IF($N$15<>\"\",$N$15,\"\")","v":""},null,"Det Factor Type",null,{"$f":"IF($N$15<>\"\",$N$15,\"\")","v":""},{"$nulls":4},"2 = 5-Mode Recreational Cycle (E5)",null,null,"Commercial"]
[null,null,"Recreational/Commercial:",{"$nulls":5},"Please elaborate in the comments section.",{"$nulls":6},"CO Green Engine Factor",{"$nulls":3},"PM Green Engine Factor",{"$nulls":3},"HC Green Engine Factor",{"$nulls":3},"NOx Green Engine Factor",{"$nulls":6},"3 = 4-Mode Constant Speed Propulsion Cycle (E2)"]
[null,null,"Model Year:",{"$nulls":5},"    -1042.310(a) - EPA approved combining it, for PLT purposes only.",{"$nulls":25},"4 = 5-Mode Constant Speed Auxiliary Cycle (D2)"]
[null,null,"Tier:",{"$nulls":31},"5 = 6-Mode Variable Speed Auxiliary Cycle (G2)",null,null,"1 (E3)"]
[null,null,"Combined NOx+HC?",{"$nulls":31},"6 = 8-Mode Variable Speed Ausiliary Cycle (C1)",null,null,"2 (E5)"]
[null,null,"40 CFR Part:",{"$nulls":3},{"$f":"AN6","v":1042},null,"Additional testing required by EPA [40 CFR 1042.301(e)]? ",{"$nulls":25},"O = Other",null,null,"3 (E2)"]
[{"$nulls":37},"4 (D2)"]
[{"$nulls":37},"5 (G2)",{"$nulls":132},"deleted and redirected"]
[{"$nulls":22}," ",{"$nulls":14},"6 (C1)",4,{"$nulls":6},4]
[null,null,"Comments:",{"$nulls":34},"O (other)"]
[{"$nulls":22}," ",{"$nulls":22},"additive"]
[{"$nulls":45},"multiplicative",{"$nulls":22},"CO Rounding",{"$nulls":4},"CO Rounding",{"$nulls":4},"CO Rounding",{"$nulls":4},"CO Rounding",{"$nulls":10},"PM Rounding",{"$nulls":4},"PM Rounding",{"$nulls":4},"PM Rounding",{"$nulls":4},"PM Rounding",{"$nulls":10},"HC Rounding",{"$nulls":4},"HC Rounding",{"$nulls":4},"HC Rounding",{"$nulls":4},"HC Rounding",{"$nulls":10},"NOx Rounding",{"$nulls":4},"NOx Rounding",{"$nulls":4},"NOx Rounding",{"$nulls":4},"NOx Rounding"]
[{"$nulls":22}," ",{"$nulls":45},"initial",{"$nulls":4},"final",{"$nulls":4}," det final",{"$nulls":4},"ave of all final",{"$nulls":10},"initial",{"$nulls":4},"final",{"$nulls":4}," det final",{"$nulls":4},"ave of all final",{"$nulls":10},"initial",{"$nulls":4},"final",{"$nulls":4}," det final",{"$nulls":4},"ave of all final",{"$nulls":10},"initial",{"$nulls":4},"final",{"$nulls":4}," det final",{"$nulls":4},"ave of all final"]
[{"$nulls":38},"Y",{"$nulls":6},"Y"]
["PLT Engine Test Results: Engine Family #5",{"$nulls":37},"N",{"$nulls":6},"N",{"$nulls":124},"This is N17"]
[{"$nulls":36},"CO",null,"PM",null,null,"HC or HC+NOX",null,"Nox",null,"Engine Data Complete?",{"$nulls":11},"HC","HC","HC","HC","Nox","Nox","Nox","Nox",{"$nulls":107},"1% of production or pre-approved reduced sample size - whichever is Lower # "]
[null,"Calc Final Result?","Test Number","Test Date","Test Time","Test Qtr","Engine ID","Engine Make","Engine Configuration","Build Date","Green Engine Factor Applied?","Green Engine Factor Determination Method","Service Hours (or miles) Accumulation","Service Hours Location","Service Acc. Procedure","CO Initial Result ","Rounded CO Initial Result ","CO Final Result ","Det. CO Final Result ","PM Initial Result ","Rounded PM Initial Result ","PM Final Result ","Det. PM Final Result ","HC Initial Result ","Rounded HC Initial Result ","HC Final Result ","Det. HC Final Result ","NOx Initial Result ","Rounded NOx Initial Result ","NOx Final Result ","Det. NOx Final Result ","Reason for Failed Test (if applicable)","Remedy","Repairs","Test Cycle","Comments",0,0,0,0,0,0,0,0,{"$nulls":5},"Unrounded initial CO","Unrounded final CO","Det CO","Final CO","Unrounded initial PM","Unrounded final PM","Det PM","Final PM","Unrounded initial HCNOx","Unrounded final HCNOx","Det HCNOx","Final HCNOX","Unrounded initial NOx","Unrounded final NOx","Det NOx","Final HCNOX",{"$nulls":7},"rounded",{"$nulls":4},"rounded",{"$nulls":4},"rounded",{"$nulls":4},"rounded",{"$nulls":10},"rounded",{"$nulls":4},"rounded",{"$nulls":4},"rounded",{"$nulls":4},"rounded",{"$nulls":10},"rounded",{"$nulls":4},"rounded",{"$nulls":4},"rounded",{"$nulls":4},"rounded","ROUNDED AND ACCOUNT FOR BLANK",{"$nulls":9},"rounded",{"$nulls":4},"rounded",{"$nulls":4},"rounded",{"$nulls":4},"rounded","ROUNDED AND ACCOUNT FOR BLANK","Test complete Flag","Total complete","Fail Flag","req","val","baseline req","req due to fails","sum fails","baseline req"]
[1,{"$nulls":4},"N/A",{"$nulls":10},{"$f":"$BU36","v":""},{"$f":"$BZ36","v":""},{"$f":"$CE36","v":""},null,{"$f":"$CU36","v":""},{"$f":"$CZ36","v":""},{"$f":"$DE36","v":""},null,{"$f":"$DU36","v":""},{"$f":"$DZ36","v":""},{"$f":"$EE36","v":""},null,{"$f":"$EU36","v":""},{"$f":"$EZ36","v":""},{"$f":"$FE36","v":""},{"$nulls":5},{"$f":"IF($B36=\"N\",IF(AND($AK35<>\"\",$Q36<>\"\"),$AK35+$Q36,\"\"),IF($B36=\"Y\",0,\"\"))","v":""},{"$f":"IF($B36=\"N\",AL35+1,IF($B36=\"Y\",0,\"\"))","v":""},{"$f":"IF($B36=\"N\",IF(AND($AM35<>\"\",$U36<>\"\"),$AM35+$U36,\"\"),IF($B36=\"Y\",0,\"\"))","v":""},{"$f":"IF($B36=\"N\",AN35+1,IF($B36=\"Y\",0,\"\"))","v":""},{"$f":"IF($B36=\"N\",IF(AND($AO35<>\"\",$Y36<>\"\"),$AO35+$Y36,\"\"),IF($B36=\"Y\",0,\"\"))","v":""},{"$f":"IF($B36=\"N\",AP35+1,IF($B36=\"Y\",0,\"\"))","v":""},{"$f":"IF($B36=\"N\",IF(AND($AQ35<>\"\",$AC36<>\"\"),$AQ35+$AC36,\"\"),IF($B36=\"Y\",0,\"\"))","v":""},{"$f":"IF($B36=\"N\",AR35+1,IF($B36=\"Y\",0,\"\"))","v":""},null,{"$f":"IF(AND(B36<>\"\",C36<>\"\",D36<>\"\",E36<>\"\",G36<>\"\",H36<>\"\",I36<>\"\",J36<>\"\",K36<>\"\",M36<>\"\",N36<>\"\",O36<>\"\"),1,0)","v":0},{"$nulls":3},{"$f":"IF(AND($P36<>\"\",$AT36=1),$P36,\"\")","v":""},{"$f":"IF($B36=\"Y\",IF(AND($Q36<>\"\",$AK35<>\"\",$AL35<>\"\"),($Q36+$AK35)/($AL35+1),\"\"),\"\")","v":""},{"$f":"IF(AND($B36=\"Y\",$R36<>\"\",$R$18<>\"\"),IF($R$19=\"additive\",$R36+$R$18,IF($R$19=\"multiplicative\",$R36*$R$18,\"\")),\"\")","v":""},{"$f":"IF(COUNT($S$36:$S$85)>0,AVERAGE($S$36:$S$85),\"\")","v":""},{"$f":"IF(AND($T36<>\"\",$AT36=1),$T36,\"\")","v":""},{"$f":"IF($B36=\"Y\",IF(AND($U36<>\"\",$AM35<>\"\",$AN35<>\"\"),($U36+$AM35)/($AN35+1),\"\"),\"\")","v":""},{"$f":"IF(AND($B36=\"Y\",$V36<>\"\",$V$18<>\"\"),IF($V$19=\"additive\",$V36+$V$18,IF($V$19=\"multiplicative\",$V36*$V$18,\"\")),\"\")","v":""},{"$f":"IF(COUNT($W$36:$W$85)>0,AVERAGE($W$36:$W$85),\"\")","v":""},{"$f":"IF(AND($X36<>\"\",$AT36=1),$X36,\"\")","v":""},{"$f":"IF($B36=\"Y\",IF(AND($Y36<>\"\",$AO35<>\"\",$AP35<>\"\"),($Y36+$AO35)/($AP35+1),\"\"),\"\")","v":""},{"$f":"IF(AND($B36=\"Y\",$Z36<>\"\",$Z$18<>\"\"),IF($Z$19=\"additive\",$Z36+$Z$18,IF($Z$19=\"multiplicative\",$Z36*$Z$18,\"\")),\"\")","v":""},{"$f":"IF(COUNT($AA$36:$AA$85)>0,AVERAGE($AA$36:$AA$85),\"\")","v":""},{"$f":"IF(AND($AB36<>\"\",$AT36=1),$AB36,\"\")","v":""},{"$f":"IF($B36=\"Y\",IF(AND($AC36<>\"\",$AQ35<>\"\",$AR35<>\"\"),($AC36+$AQ35)/($AR35+1),\"\"),\"\")","v":""},{"$f":"IF(AND($B36=\"Y\",$AD36<>\"\",$AD$18<>\"\"),IF($AD$19=\"additive\",$AD36+$AD$18,IF($AD$19=\"multiplicative\",$AD36*$AD$18,\"\")),\"\")","v":""},{"$f":"IF(COUNT($AE$36:$AE$85)>0,AVERAGE($AE$36:$AE$85),\"\")","v":""},{"$nulls":7},{"$f":"IF($AX36<>\"\",ROUND($AX36,2),\"\")","v":""},{"$nulls":4},{"$f":"IF($AY36<>\"\",ROUND($AY36,2),\"\")","v":""},{"$nulls":4},{"$f":"IF($AZ36<>\"\",ROUND($AZ36,2),\"\")","v":""},{"$nulls":4},{"$f":"IF($BA36<>\"\",ROUND($BA36,2),\"\")","v":""},{"$nulls":10},{"$f":"IF($BB36<>\"\",ROUND($BB36,3),\"\")","v":""},{"$nulls":4},{"$f":"IF($BC36<>\"\",ROUND($BC36,3),\"\")","v":""},{"$nulls":4},{"$f":"IF($BD36<>\"\",ROUND($BD36,3),\"\")","v":""},{"$nulls":4},{"$f":"IF($BE36<>\"\",ROUND($BE36,3),\"\")","v":""},{"$nulls":10},{"$f":"IF($BF36<>\"\",ROUND($BF36,3),\"\")","v":""},{"$nulls":4},{"$f":"IF($BG36<>\"\",ROUND($BG36,3),\"\")","v":""},{"$nulls":4},{"$f":"IF($BH36<>\"\",ROUND($BH36,3),\"\")","v":""},{"$nulls":4},{"$f":"IF($BI36<>\"\",ROUND($BI36,3),\"\")","v":""},{"$f":"IF(EJ36=\"\",0,EJ36)","v":0},{"$nulls":9},{"$f":"IF($BJ36<>\"\",ROUND($BJ36,2),\"\")","v":""},{"$nulls":4},{"$f":"IF($BK36<>\"\",ROUND($BK36,2),\"\")","v":""},{"$nulls":4},{"$f":"IF($BL36<>\"\",ROUND($BL36,2),\"\")","v":""},{"$nulls":4},{"$f":"IF($BM36<>\"\",ROUND($BM36,2),\"\")","v":""},{"$f":"IF(FJ36=\"\",0,FJ36)","v":0},{"$f":"IF($AG$12<>\"CAT3\",IF(AND($B36=\"Y\",$S36<>\"\",$W36<>\"\",$AA36<>\"\",$AE36<>\"\"),1,0),IF($AE36<>\"\",1,0))","v":0},{"$f":"SUM($FL$36:$FL36)","v":0},{"$f":"IF($AG$12<>\"CAT3\",IF($FL36=1,IF(OR($S36>$R$16,$W36>$V$16,$AA36>$Z$16,IF($AF$12<>\"Y\",OR($AA36>$Z$16,$AE36>$AD$16),ROUND(($AA36+$AE36),2)>$Z$16)),1,0),0),IF($FL36=1,IF(AND($AE36>$AD$16,$AF$12=\"N\"),1,0),0))","v":0},{"$f":"IF(OR($M$11=\"\",$N$18=\"Y\"),0,IF($AG$12=\"CAT3\",$N$12,($FR$36+1)))","v":0},{"$f":"SUM(FL36:FL85)","v":0},{"$f":"IF(AND($G$17=\"Y\",$N$24<>\"\"),MIN($N$24,$FT$36),$FT$36)","v":0},{"$f":"$FS$36*2","v":0},{"$f":"SUM(FN36:FN85)","v":0},{"$f":"IF($N$12<>\"\",$N$12*0.01,0)","v":0}]
[{"$f":"A36+1","v":2},{"$nulls":4},"N/A",{"$nulls":10},"","","",null,"","","",null,"","","",null,"","","",{"$nulls":5},"",{"$f":"IF($B37=\"N\",AL36+1,IF($B37=\"Y\",0,\"\"))","v":""},"",{"$f":"IF($B37=\"N\",AN36+1,IF($B37=\"Y\",0,\"\"))","v":""},{"$f":"IF($B37=\"N\",IF(AND($AO36<>\"\",$Y37<>\"\"),$AO36+$Y37,\"\"),IF($B37=\"Y\",0,\"\"))","v":""},{"$f":"IF($B37=\"N\",AP36+1,IF($B37=\"Y\",0,\"\"))","v":""},{"$f":"IF($B37=\"N\",IF(AND($AQ36<>\"\",$AC37<>\"\"),$AQ36+$AC37,\"\"),IF($B37=\"Y\",0,\"\"))","v":""},{"$f":"IF($B37=\"N\",AR36+1,IF($B37=\"Y\",0,\"\"))","v":""},null,{"$f":"IF(AND(B37<>\"\",C37<>\"\",D37<>\"\",E37<>\"\",G37<>\"\",H37<>\"\",I37<>\"\",J37<>\"\",K37<>\"\",M37<>\"\",N37<>\"\",O37<>\"\"),1,0)","v":0},{"$nulls":3},"","",{"$f":"IF(AND($B37=\"Y\",$R37<>\"\",$R$18<>\"\"),IF($R$19=\"additive\",$R37+$R$18,IF($R$19=\"multiplicative\",$R37*$R$18,\"\")),\"\")","v":""},null,"","",{"$f":"IF(AND($B37=\"Y\",$V37<>\"\",$V$18<>\"\"),IF($V$19=\"additive\",$V37+$V$18,IF($V$19=\"multiplicative\",$V37*$V$18,\"\")),\"\")","v":""},null,{"$f":"IF(AND($X37<>\"\",$AT37=1),$X37,\"\")","v":""},{"$f":"IF($B37=\"Y\",IF(AND($Y37<>\"\",$AO36<>\"\",$AP36<>\"\"),($Y37+$AO36)/($AP36+1),\"\"),\"\")","v":""},{"$f":"IF(AND($B37=\"Y\",$Z37<>\"\",$Z$18<>\"\"),IF($Z$19=\"additive\",$Z37+$Z$18,IF($Z$19=\"multiplicative\",$Z37*$Z$18,\"\")),\"\")","v":""},null,{"$f":"IF(AND($AB37<>\"\",$AT37=1),$AB37,\"\")","v":""},{"$f":"IF($B37=\"Y\",IF(AND($AC37<>\"\",$AQ36<>\"\",$AR36<>\"\"),($AC37+$AQ36)/($AR36+1),\"\"),\"\")","v":""},{"$f":"IF(AND($B37=\"Y\",$AD37<>\"\",$AD$18<>\"\"),IF($AD$19=\"additive\",$AD37+$AD$18,IF($AD$19=\"multiplicative\",$AD37*$AD$18,\"\")),\"\")","v":""},{"$nulls":8},{"$f":"IF($AX37<>\"\",ROUND($AX37,2),\"\")","v":""},{"$nulls":4},{"$f":"IF($AY37<>\"\",ROUND($AY37,2),\"\")","v":""},{"$nulls":4},{"$f":"IF($AZ37<>\"\",ROUND($AZ37,2),\"\")","v":""},{"$nulls":15},{"$f":"IF($BB37<>\"\",ROUND($BB37,3),\"\")","v":""},{"$nulls":4},{"$f":"IF($BC37<>\"\",ROUND($BC37,3),\"\")","v":""},{"$nulls":4},{"$f":"IF($BD37<>\"\",ROUND($BD37,3),\"\")","v":""},{"$nulls":15},{"$f":"IF($BF37<>\"\",ROUND($BF37,3),\"\")","v":""},{"$nulls":4},{"$f":"IF($BG37<>\"\",ROUND($BG37,3),\"\")","v":""},{"$nulls":4},{"$f":"IF($BH37<>\"\",ROUND($BH37,3),\"\")","v":""},{"$nulls":15},{"$f":"IF($BJ37<>\"\",ROUND($BJ37,2),\"\")","v":""},{"$nulls":4},{"$f":"IF($BK37<>\"\",ROUND($BK37,2),\"\")","v":""},{"$nulls":4},{"$f":"IF($BL37<>\"\",ROUND($BL37,2),\"\")","v":""},{"$nulls":6},{"$f":"IF($AG$12<>\"CAT3\",IF(AND($B37=\"Y\",$S37<>\"\",$W37<>\"\",$AA37<>\"\",$AE37<>\"\"),1,0),IF($AE37<>\"\",1,0))","v":0},{"$f":"SUM($FL$36:$FL37)","v":0},{"$f":"IF($AG$12<>\"CAT3\",IF($FL37=1,IF(OR($S37>$R$16,$W37>$V$16,$AA37>$Z$16,IF($AF$12<>\"Y\",OR($AA37>$Z$16,$AE37>$AD$16),ROUND(($AA37+$AE37),2)>$Z$16)),1,0),0),IF($FL37=1,IF(AND($AE37>$AD$16,$AF$12=\"N\"),1,0),0))","v":0},null,null,{"$f":"MAX($FQ$36,$FL$10)","v":1}]
[{"$f":"A37+1","v":3},{"$nulls":4},"N/A",{"$nulls":10},"","","",null,"","","",null,"","","",null,"","","",{"$nulls":5},"","","","","","","","",null,0,{"$nulls":3},"","","",null,"","","",null,"","","",null,"","","",{"$nulls":8},"",{"$nulls":4},"",{"$nulls":4},"",{"$nulls":15},"",{"$nulls":4},"",{"$nulls":4},"",{"$nulls":15},"",{"$nulls":4},"",{"$nulls":4},"",{"$nulls":15},"",{"$nulls":4},"",{"$nulls":4},"",{"$nulls":6},0,{"$f":"SUM($FL$36:$FL38)","v":0},0]
[4,{"$nulls":4},"N/A",{"$nulls":10},"","","",null,"","","",null,"","","",null,"","","",{"$nulls":5},"","","","","","","","",null,0,{"$nulls":3},"","","",null,"","","",null,"","","",null,"","","",{"$nulls":8},"",{"$nulls":4},"",{"$nulls":4},"",{"$nulls":15},"",{"$nulls":4},"",{"$nulls":4},"",{"$nulls":15},"",{"$nulls":4},"",{"$nulls":4},"",{"$nulls":15},"",{"$nulls":4},"",{"$nulls":4},"",{"$nulls":6},0,{"$f":"SUM($FL$36:$FL39)","v":0},0,null,null,"then, the larger of that sample size or 1  (or if Part 94 and cat1,  can be 0)"]
[5,{"$nulls":4},"N/A",{"$nulls":10},"","","",null,"","","",null,"","","",null,"","","",{"$nulls":5},"","","","","","","","",null,0,{"$nulls":3},"","","",null,"","","",null,"","","",null,"","","",{"$nulls":8},"",{"$nulls":4},"",{"$nulls":4},"",{"$nulls":15},"",{"$nulls":4},"",{"$nulls":4},"",{"$nulls":15},"",{"$nulls":4},"",{"$nulls":4},"",{"$nulls":15},"",{"$nulls":4},"",{"$nulls":4},"",{"$nulls":6},0,{"$f":"SUM($FL$36:$FL40)","v":0},0]
[6,{"$nulls":4},"N/A",{"$nulls":10},"","","",null,"","","",null,"","","",null,"","","",{"$nulls":5},"","","","","","","","",null,0,{"$nulls":3},"","","",null,"","","",null,"","","",null,"","","",{"$nulls":8},"",{"$nulls":4},"",{"$nulls":4},"",{"$nulls":15},"",{"$nulls":4},"",{"$nulls":4},"",{"$nulls":15},"",{"$nulls":4},"",{"$nulls":4},"",{"$nulls":15},"",{"$nulls":4},"",{"$nulls":4},"",{"$nulls":6},0,{"$f":"SUM($FL$36:$FL41)","v":0},0]
[7,{"$nulls":4},"N/A",{"$nulls":10},"","","",null,"","","",null,"","","",null,"","","",{"$nulls":5},"","","","","","","","",null,0,{"$nulls":3},"","","",null,"","","",null,"","","",null,"","","",{"$nulls":8},"",{"$nulls":4},"",{"$nulls":4},"",{"$nulls":15},"",{"$nulls":4},"",{"$nulls":4},"",{"$nulls":15},"",{"$nulls":4},"",{"$nulls":4},"",{"$nulls":15},"",{"$nulls":4},"",{"$nulls":4},"",{"$nulls":6},0,{"$f":"SUM($FL$36:$FL42)","v":0},0]
[8,{"$nulls":4},"N/A",{"$nulls":10},"","","",null,"","","",null,"","","",null,"","","",{"$nulls":5},"","","","","","","","",null,0,{"$nulls":3},"","","",null,"","","",null,"","","",null,"","","",{"$nulls":8},"",{"$nulls":4},"",{"$nulls":4},"",{"$nulls":15},"",{"$nulls":4},"",{"$nulls":4},"",{"$nulls":15},"",{"$nulls":4},"",{"$nulls":4},"",{"$nulls":15},"",{"$nulls":4},"",{"$nulls":4},"",{"$nulls":6},0,{"$f":"SUM($FL$36:$FL43)","v":0},0]
[9,{"$nulls":4},"N/A",{"$nulls":10},"","","",null,"","","",null,"","","",null,"","","",{"$nulls":5},"","","","","","","","",null,0,{"$nulls":3},"","","",null,"","","",null,"","","",null,"","","",{"$nulls":8},"",{"$nulls":4},"",{"$nulls":4},"",{"$nulls":15},"",{"$nulls":4},"",{"$nulls":4},"",{"$nulls":15},"",{"$nulls":4},"",{"$nulls":4},"",{"$nulls":15},"",{"$nulls":4},"",{"$nulls":4},"",{"$nulls":6},0,{"$f":"SUM($FL$36:$FL44)","v":0},0]
[10,{"$nulls":4},"N/A",{"$nulls":10},"","","",null,"","","",null,"","","",null,"","","",{"$nulls":5},"","","","","","","","",null,0,{"$nulls":3},"","","",null,"","","",null,"","","",null,"","","",{"$nulls":8},"",{"$nulls":4},"",{"$nulls":4},"",{"$nulls":15},"",{"$nulls":4},"",{"$nulls":4},"",{"$nulls":15},"",{"$nulls":4},"",{"$nulls":4},"",{"$nulls":15},"",{"$nulls":4},"",{"$nulls":4},"",{"$nulls":6},0,{"$f":"SUM($FL$36:$FL45)","v":0},0]
[11,{"$nulls":4},"N/A",{"$nulls":10},"","","",null,"","","",null,"","","",null,"","","",{"$nulls":5},"","","","","","","","",null,0,{"$nulls":3},"","","",null,"","","",null,"","","",null,"","","",{"$nulls":8},"",{"$nulls":4},"",{"$nulls":4},"",{"$nulls":15},"",{"$nulls":4},"",{"$nulls":4},"",{"$nulls":15},"",{"$nulls":4},"",{"$nulls":4},"",{"$nulls":15},"",{"$nulls":4},"",{"$nulls":4},"",{"$nulls":6},0,{"$f":"SUM($FL$36:$FL46)","v":0},0]
[12,{"$nulls":4},"N/A",{"$nulls":10},"","","",null,"","","",null,"","","",null,"","","",{"$nulls":5},"","","","","","","","",null,0,{"$nulls":3},"","","",null,"","","",null,"","","",null,"","","",{"$nulls":8},"",{"$nulls":4},"",{"$nulls":4},"",{"$nulls":15},"",{"$nulls":4},"",{"$nulls":4},"",{"$nulls":15},"",{"$nulls":4},"",{"$nulls":4},"",{"$nulls":15},"",{"$nulls":4},"",{"$nulls":4},"",{"$nulls":6},0,{"$f":"SUM($FL$36:$FL47)","v":0},0]
[13,{"$nulls":4},"N/A",{"$nulls":10},"","","",null,"","","",null,"","","",null,"","","",{"$nulls":5},"","","","","","","","",null,0,{"$nulls":3},"","","",null,"","","",null,"","","",null,"","","",{"$nulls":8},"",{"$nulls":4},"",{"$nulls":4},"",{"$nulls":15},"",{"$nulls":4},"",{"$nulls":4},"",{"$nulls":15},"",{"$nulls":4},"",{"$nulls":4},"",{"$nulls":15},"",{"$nulls":4},"",{"$nulls":4},"",{"$nulls":6},0,{"$f":"SUM($FL$36:$FL48)","v":0},0]
[14,{"$nulls":4},"N/A",{"$nulls":10},"","","",null,"","","",null,"","","",null,"","","",{"$nulls":5},"","","","","","","","",null,0,{"$nulls":3},"","","",null,"","","",null,"","","",null,"","","",{"$nulls":8},"",{"$nulls":4},"",{"$nulls":4},"",{"$nulls":15},"",{"$nulls":4},"",{"$nulls":4},"",{"$nulls":15},"",{"$nulls":4},"",{"$nulls":4},"",{"$nulls":15},"",{"$nulls":4},"",{"$nulls":4},"",{"$nulls":6},0,{"$f":"SUM($FL$36:$FL49)","v":0},0]
[15,{"$nulls":4},"N/A",{"$nulls":10},"","","",null,"","","",null,"","","",null,"","","",{"$nulls":5},"","","","","","","","",null,0,{"$nulls":3},"","","",null,"","","",null,"","","",null,"","","",{"$nulls":8},"",{"$nulls":4},"",{"$nulls":4},"",{"$nulls":15},"",{"$nulls":4},"",{"$nulls":4},"",{"$nulls":15},"",{"$nulls":4},"",{"$nulls":4},"",{"$nulls":15},"",{"$nulls":4},"",{"$nulls":4},"",{"$nulls":6},0,{"$f":"SUM($FL$36:$FL50)","v":0},0]
[16,{"$nulls":4},"N/A",{"$nulls":10},"","","",null,"","","",null,"","","",null,"","","",{"$nulls":5},"","","","","","","","",null,0,{"$nulls":3},"","","",null,"","","",null,"","","",null,"","","",{"$nulls":8},"",{"$nulls":4},"",{"$nulls":4},"",{"$nulls":15},"",{"$nulls":4},"",{"$nulls":4},"",{"$nulls":15},"",{"$nulls":4},"",{"$nulls":4},"",{"$nulls":15},"",{"$nulls":4},"",{"$nulls":4},"",{"$nulls":6},0,{"$f":"SUM($FL$36:$FL51)","v":0},0]
[17,{"$nulls":4},"N/A",{"$nulls":10},"","","",null,"","","",null,"","","",null,"","","",{"$nulls":5},"","","","","","","","",null,0,{"$nulls":3},"","","",null,"","","",null,"","","",null,"","","",{"$nulls":8},"",{"$nulls":4},"",{"$nulls":4},"",{"$nulls":15},"",{"$nulls":4},"",{"$nulls":4},"",{"$nulls":15},"",{"$nulls":4},"",{"$nulls":4},"",{"$nulls":15},"",{"$nulls":4},"",{"$nulls":4},"",{"$nulls":6},0,{"$f":"SUM($FL$36:$FL52)","v":0},0]
[18,{"$nulls":4},"N/A",{"$nulls":10},"","","",null,"","","",null,"","","",null,"","","",{"$nulls":5},"","","","","","","","",null,0,{"$nulls":3},"","","",null,"","","",null,"","","",null,"","","",{"$nulls":8},"",{"$nulls":4},"",{"$nulls":4},"",{"$nulls":15},"",{"$nulls":4},"",{"$nulls":4},"",{"$nulls":15},"",{"$nulls":4},"",{"$nulls":4},"",{"$nulls":15},"",{"$nulls":4},"",{"$nulls":4},"",{"$nulls":6},0,{"$f":"SUM($FL$36:$FL53)","v":0},0]
[19,{"$nulls":4},"N/A",{"$nulls":10},"","","",null,"","","",null,"","","",null,"","","",{"$nulls":5},"","","","","","","","",null,0,{"$nulls":3},"","","",null,"","","",null,"","","",null,"","","",{"$nulls":8},"",{"$nulls":4},"",{"$nulls":4},"",{"$nulls":15},"",{"$nulls":4},"",{"$nulls":4},"",{"$nulls":15},"",{"$nulls":4},"",{"$nulls":4},"",{"$nulls":15},"",{"$nulls":4},"",{"$nulls":4},"",{"$nulls":6},0,{"$f":"SUM($FL$36:$FL54)","v":0},0]
[20,{"$nulls":4},"N/A",{"$nulls":10},"","","",null,"","","",null,"","","",null,"","","",{"$nulls":5},"","","","","","","","",null,0,{"$nulls":3},"","","",null,"","","",null,"","","",null,"","","",{"$nulls":8},"",{"$nulls":4},"",{"$nulls":4},"",{"$nulls":15},"",{"$nulls":4},"",{"$nulls":4},"",{"$nulls":15},"",{"$nulls":4},"",{"$nulls":4},"",{"$nulls":15},"",{"$nulls":4},"",{"$nulls":4},"",{"$nulls":6},0,{"$f":"SUM($FL$36:$FL55)","v":0},0]
[21,{"$nulls":4},"N/A",{"$nulls":10},"","","",null,"","","",null,"","","",null,"","","",{"$nulls":5},"","","","","","","","",null,0,{"$nulls":3},"","","",null,"","","",null,"","","",null,"","","",{"$nulls":8},"",{"$nulls":4},"",{"$nulls":4},"",{"$nulls":15},"",{"$nulls":4},"",{"$nulls":4},"",{"$nulls":15},"",{"$nulls":4},"",{"$nulls":4},"",{"$nulls":15},"",{"$nulls":4},"",{"$nulls":4},"",{"$nulls":6},0,{"$f":"SUM($FL$36:$FL56)","v":0},0]
[22,{"$nulls":4},"N/A",{"$nulls":10},"","","",null,"","","",null,"","","",null,"","","",{"$nulls":5},"","","","","","","","",null,0,{"$nulls":3},"","","",null,"","","",null,"","","",null,"","","",{"$nulls":8},"",{"$nulls":4},"",{"$nulls":4},"",{"$nulls":15},"",{"$nulls":4},"",{"$nulls":4},"",{"$nulls":15},"",{"$nulls":4},"",{"$nulls":4},"",{"$nulls":15},"",{"$nulls":4},"",{"$nulls":4},"",{"$nulls":6},0,{"$f":"SUM($FL$36:$FL57)","v":0},0]
[23,{"$nulls":4},"N/A",{"$nulls":10},"","","",null,"","","",null,"","","",null,"","","",{"$nulls":5},"","","","","","","","",null,0,{"$nulls":3},"","","",null,"","","",null,"","","",null,"","","",{"$nulls":8},"",{"$nulls":4},"",{"$nulls":4},"",{"$nulls":15},"",{"$nulls":4},"",{"$nulls":4},"",{"$nulls":15},"",{"$nulls":4},"",{"$nulls":4},"",{"$nulls":15},"",{"$nulls":4},"",{"$nulls":4},"",{"$nulls":6},0,{"$f":"SUM($FL$36:$FL58)","v":0},0]
[24,{"$nulls":4},"N/A",{"$nulls":10},"","","",null,"","","",null,"","","",null,"","","",{"$nulls":5},"","","","","","","","",null,0,{"$nulls":3},"","","",null,"","","",null,"","","",null,"","","",{"$nulls":8},"",{"$nulls":4},"",{"$nulls":4},"",{"$nulls":15},"",{"$nulls":4},"",{"$nulls":4},"",{"$nulls":15},"",{"$nulls":4},"",{"$nulls":4},"",{"$nulls":15},"",{"$nulls":4},"",{"$nulls":4},"",{"$nulls":6},0,{"$f":"SUM($FL$36:$FL59)","v":0},0]
[25,{"$nulls":4},"N/A",{"$nulls":10},"","","",null,"","","",null,"","","",null,"","","",{"$nulls":5},"","","","","","","","",null,0,{"$nulls":3},"","","",null,"","","",null,"","","",null,"","","",{"$nulls":8},"",{"$nulls":4},"",{"$nulls":4},"",{"$nulls":15},"",{"$nulls":4},"",{"$nulls":4},"",{"$nulls":15},"",{"$nulls":4},"",{"$nulls":4},"",{"$nulls":15},"",{"$nulls":4},"",{"$nulls":4},"",{"$nulls":6},0,{"$f":"SUM($FL$36:$FL60)","v":0},0]
[26,{"$nulls":4},"N/A",{"$nulls":10},"","","",null,"","","",null,"","","",null,"","","",{"$nulls":5},"","","","","","","","",null,0,{"$nulls":3},"","","",null,"","","",null,"","","",null,"","","",{"$nulls":8},"",{"$nulls":4},"",{"$nulls":4},"",{"$nulls":15},"",{"$nulls":4},"",{"$nulls":4},"",{"$nulls":15},"",{"$nulls":4},"",{"$nulls":4},"",{"$nulls":15},"",{"$nulls":4},"",{"$nulls":4},"",{"$nulls":6},0,{"$f":"SUM($FL$36:$FL61)","v":0},0]
[27,{"$nulls":4},"N/A",{"$nulls":10},"","","",null,"","","",null,"","","",null,"","","",{"$nulls":5},"","","","","","","","",null,0,{"$nulls":3},"","","",null,"","","",null,"","","",null,"","","",{"$nulls":8},"",{"$nulls":4},"",{"$nulls":4},"",{"$nulls":15},"",{"$nulls":4},"",{"$nulls":4},"",{"$nulls":15},"",{"$nulls":4},"",{"$nulls":4},"",{"$nulls":15},"",{"$nulls":4},"",{"$nulls":4},"",{"$nulls":6},0,{"$f":"SUM($FL$36:$FL62)","v":0},0]
[28,{"$nulls":4},"N/A",{"$nulls":10},"","","",null,"","","",null,"","","",null,"","","",{"$nulls":5},"","","","","","","","",null,0,{"$nulls":3},"","","",null,"","","",null,"","","",null,"","","",{"$nulls":8},"",{"$nulls":4},"",{"$nulls":4},"",{"$nulls":15},"",{"$nulls":4},"",{"$nulls":4},"",{"$nulls":15},"",{"$nulls":4},"",{"$nulls":4},"",{"$nulls":15},"",{"$nulls":4},"",{"$nulls":4},"",{"$nulls":6},0,{"$f":"SUM($FL$36:$FL63)","v":0},0]
[29,{"$nulls":4},"N/A",{"$nulls":10},"","","",null,"","","",null,"","","",null,"","","",{"$nulls":5},"","","","","","","","",null,0,{"$nulls":3},"","","",null,"","","",null,"","","",null,"","","",{"$nulls":8},"",{"$nulls":4},"",{"$nulls":4},"",{"$nulls":15},"",{"$nulls":4},"",{"$nulls":4},"",{"$nulls":15},"",{"$nulls":4},"",{"$nulls":4},"",{"$nulls":15},"",{"$nulls":4},"",{"$nulls":4},"",{"$nulls":6},0,{"$f":"SUM($FL$36:$FL64)","v":0},0]
[30,{"$nulls":4},"N/A",{"$nulls":10},"","","",null,"","","",null,"","","",null,"","","",{"$nulls":5},"","","","","","","","",null,0,{"$nulls":3},"","","",null,"","","",null,"","","",null,"","","",{"$nulls":8},"",{"$nulls":4},"",{"$nulls":4},"",{"$nulls":15},"",{"$nulls":4},"",{"$nulls":4},"",{"$nulls":15},"",{"$nulls":4},"",{"$nulls":4},"",{"$nulls":15},"",{"$nulls":4},"",{"$nulls":4},"",{"$nulls":6},0,{"$f":"SUM($FL$36:$FL65)","v":0},0]
[31,{"$nulls":4},"N/A",{"$nulls":10},"","","",null,"","","",null,"","","",null,"","","",{"$nulls":5},"","","","","","","","",null,0,{"$nulls":3},"","","",null,"","","",null,"","","",null,"","","",{"$nulls":8},"",{"$nulls":4},"",{"$nulls":4},"",{"$nulls":15},"",{"$nulls":4},"",{"$nulls":4},"",{"$nulls":15},"",{"$nulls":4},"",{"$nulls":4},"",{"$nulls":15},"",{"$nulls":4},"",{"$nulls":4},"",{"$nulls":6},0,{"$f":"SUM($FL$36:$FL66)","v":0},0]
[32,{"$nulls":4},"N/A",{"$nulls":10},"","","",null,"","","",null,"","","",null,"","","",{"$nulls":5},"","","","","","","","",null,0,{"$nulls":3},"","","",null,"","","",null,"","","",null,"","","",{"$nulls":8},"",{"$nulls":4},"",{"$nulls":4},"",{"$nulls":15},"",{"$nulls":4},"",{"$nulls":4},"",{"$nulls":15},"",{"$nulls":4},"",{"$nulls":4},"",{"$nulls":15},"",{"$nulls":4},"",{"$nulls":4},"",{"$nulls":6},0,{"$f":"SUM($FL$36:$FL67)","v":0},0]
[33,{"$nulls":4},"N/A",{"$nulls":10},"","","",null,"","","",null,"","","",null,"","","",{"$nulls":5},"","","","","","","","",null,0,{"$nulls":3},"","","",null,"","","",null,"","","",null,"","","",{"$nulls":8},"",{"$nulls":4},"",{"$nulls":4},"",{"$nulls":15},"",{"$nulls":4},"",{"$nulls":4},"",{"$nulls":15},"",{"$nulls":4},"",{"$nulls":4},"",{"$nulls":15},"",{"$nulls":4},"",{"$nulls":4},"",{"$nulls":6},0,{"$f":"SUM($FL$36:$FL68)","v":0},0]
[34,{"$nulls":4},"N/A",{"$nulls":10},"","","",null,"","","",null,"","","",null,"","","",{"$nulls":5},"","","","","","","","",null,0,{"$nulls":3},"","","",null,"","","",null,"","","",null,"","","",{"$nulls":8},"",{"$nulls":4},"",{"$nulls":4},"",{"$nulls":15},"",{"$nulls":4},"",{"$nulls":4},"",{"$nulls":15},"",{"$nulls":4},"",{"$nulls":4},"",{"$nulls":15},"",{"$nulls":4},"",{"$nulls":4},"",{"$nulls":6},0,{"$f":"SUM($FL$36:$FL69)","v":0},0]
[35,{"$nulls":4},"N/A",{"$nulls":10},"","","",null,"","","",null,"","","",null,"","","",{"$nulls":5},"","","","","","","","",null,0,{"$nulls":3},"","","",null,"","","",null,"","","",null,"","","",{"$nulls":8},"",{"$nulls":4},"",{"$nulls":4},"",{"$nulls":15},"",{"$nulls":4},"",{"$nulls":4},"",{"$nulls":15},"",{"$nulls":4},"",{"$nulls":4},"",{"$nulls":15},"",{"$nulls":4},"",{"$nulls":4},"",{"$nulls":6},0,{"$f":"SUM($FL$36:$FL70)","v":0},0]
[36,{"$nulls":4},"N/A",{"$nulls":10},"","","",null,"","","",null,"","","",null,"","","",{"$nulls":5},"","","","","","","","",null,0,{"$nulls":3},"","","",null,"","","",null,"","","",null,"","","",{"$nulls":8},"",{"$nulls":4},"",{"$nulls":4},"",{"$nulls":15},"",{"$nulls":4},"",{"$nulls":4},"",{"$nulls":15},"",{"$nulls":4},"",{"$nulls":4},"",{"$nulls":15},"",{"$nulls":4},"",{"$nulls":4},"",{"$nulls":6},0,{"$f":"SUM($FL$36:$FL71)","v":0},0]
[37,{"$nulls":4},"N/A",{"$nulls":10},"","","",null,"","","",null,"","","",null,"","","",{"$nulls":5},"","","","","","","","",null,0,{"$nulls":3},"","","",null,"","","",null,"","","",null,"","","",{"$nulls":8},"",{"$nulls":4},"",{"$nulls":4},"",{"$nulls":15},"",{"$nulls":4},"",{"$nulls":4},"",{"$nulls":15},"",{"$nulls":4},"",{"$nulls":4},"",{"$nulls":15},"",{"$nulls":4},"",{"$nulls":4},"",{"$nulls":6},0,{"$f":"SUM($FL$36:$FL72)","v":0},0]
[38,{"$nulls":4},"N/A",{"$nulls":10},"","","",null,"","","",null,"","","",null,"","","",{"$nulls":5},"","","","","","","","",null,0,{"$nulls":3},"","","",null,"","","",null,"","","",null,"","","",{"$nulls":8},"",{"$nulls":4},"",{"$nulls":4},"",{"$nulls":15},"",{"$nulls":4},"",{"$nulls":4},"",{"$nulls":15},"",{"$nulls":4},"",{"$nulls":4},"",{"$nulls":15},"",{"$nulls":4},"",{"$nulls":4},"",{"$nulls":6},0,{"$f":"SUM($FL$36:$FL73)","v":0},0]
[39,{"$nulls":4},"N/A",{"$nulls":10},"","","",null,"","","",null,"","","",null,"","","",{"$nulls":5},"","","","","","","","",null,0,{"$nulls":3},"","","",null,"","","",null,"","","",null,"","","",{"$nulls":8},"",{"$nulls":4},"",{"$nulls":4},"",{"$nulls":15},"",{"$nulls":4},"",{"$nulls":4},"",{"$nulls":15},"",{"$nulls":4},"",{"$nulls":4},"",{"$nulls":15},"",{"$nulls":4},"",{"$nulls":4},"",{"$nulls":6},0,{"$f":"SUM($FL$36:$FL74)","v":0},0]
[40,{"$nulls":4},"N/A",{"$nulls":10},"","","",null,"","","",null,"","","",null,"","","",{"$nulls":5},"","","","","","","","",null,0,{"$nulls":3},"","","",null,"","","",null,"","","",null,"","","",{"$nulls":8},"",{"$nulls":4},"",{"$nulls":4},"",{"$nulls":15},"",{"$nulls":4},"",{"$nulls":4},"",{"$nulls":15},"",{"$nulls":4},"",{"$nulls":4},"",{"$nulls":15},"",{"$nulls":4},"",{"$nulls":4},"",{"$nulls":6},0,{"$f":"SUM($FL$36:$FL75)","v":0},0]
[41,{"$nulls":4},"N/A",{"$nulls":10},"","","",null,"","","",null,"","","",null,"","","",{"$nulls":5},"","","","","","","","",null,0,{"$nulls":3},"","","",null,"","","",null,"","","",null,"","","",{"$nulls":8},"",{"$nulls":4},"",{"$nulls":4},"",{"$nulls":15},"",{"$nulls":4},"",{"$nulls":4},"",{"$nulls":15},"",{"$nulls":4},"",{"$nulls":4},"",{"$nulls":15},"",{"$nulls":4},"",{"$nulls":4},"",{"$nulls":6},0,{"$f":"SUM($FL$36:$FL76)","v":0},0]
[42,{"$nulls":4},"N/A",{"$nulls":10},"","","",null,"","","",null,"","","",null,"","","",{"$nulls":5},"","","","","","","","",null,0,{"$nulls":3},"","","",null,"","","",null,"","","",null,"","","",{"$nulls":8},"",{"$nulls":4},"",{"$nulls":4},"",{"$nulls":15},"",{"$nulls":4},"",{"$nulls":4},"",{"$nulls":15},"",{"$nulls":4},"",{"$nulls":4},"",{"$nulls":15},"",{"$nulls":4},"",{"$nulls":4},"",{"$nulls":6},0,{"$f":"SUM($FL$36:$FL77)","v":0},0]
[43,{"$nulls":4},"N/A",{"$nulls":10},"","","",null,"","","",null,"","","",null,"","","",{"$nulls":5},"","","","","","","","",null,0,{"$nulls":3},"","","",null,"","","",null,"","","",null,"","","",{"$nulls":8},"",{"$nulls":4},"",{"$nulls":4},"",{"$nulls":15},"",{"$nulls":4},"",{"$nulls":4},"",{"$nulls":15},"",{"$nulls":4},"",{"$nulls":4},"",{"$nulls":15},"",{"$nulls":4},"",{"$nulls":4},"",{"$nulls":6},0,{"$f":"SUM($FL$36:$FL78)","v":0},0]
[44,{"$nulls":4},"N/A",{"$nulls":10},"","","",null,"","","",null,"","","",null,"","","",{"$nulls":5},"","","","","","","","",null,0,{"$nulls":3},"","","",null,"","","",null,"","","",null,"","","",{"$nulls":8},"",{"$nulls":4},"",{"$nulls":4},"",{"$nulls":15},"",{"$nulls":4},"",{"$nulls":4},"",{"$nulls":15},"",{"$nulls":4},"",{"$nulls":4},"",{"$nulls":15},"",{"$nulls":4},"",{"$nulls":4},"",{"$nulls":6},0,{"$f":"SUM($FL$36:$FL79)","v":0},0]
[45,{"$nulls":4},"N/A",{"$nulls":10},"","","",null,"","","",null,"","","",null,"","","",{"$nulls":5},"","","","","","","","",null,0,{"$nulls":3},"","","",null,"","","",null,"","","",null,"","","",{"$nulls":8},"",{"$nulls":4},"",{"$nulls":4},"",{"$nulls":15},"",{"$nulls":4},"",{"$nulls":4},"",{"$nulls":15},"",{"$nulls":4},"",{"$nulls":4},"",{"$nulls":15},"",{"$nulls":4},"",{"$nulls":4},"",{"$nulls":6},0,{"$f":"SUM($FL$36:$FL80)","v":0},0]
[46,{"$nulls":4},"N/A",{"$nulls":10},"","","",null,"","","",null,"","","",null,"","","",{"$nulls":5},"","","","","","","","",null,0,{"$nulls":3},"","","",null,"","","",null,"","","",null,"","","",{"$nulls":8},"",{"$nulls":4},"",{"$nulls":4},"",{"$nulls":15},"",{"$nulls":4},"",{"$nulls":4},"",{"$nulls":15},"",{"$nulls":4},"",{"$nulls":4},"",{"$nulls":15},"",{"$nulls":4},"",{"$nulls":4},"",{"$nulls":6},0,{"$f":"SUM($FL$36:$FL81)","v":0},0]
[47,{"$nulls":4},"N/A",{"$nulls":10},"","","",null,"","","",null,"","","",null,"","","",{"$nulls":5},"","","","","","","","",null,0,{"$nulls":3},"","","",null,"","","",null,"","","",null,"","","",{"$nulls":8},"",{"$nulls":4},"",{"$nulls":4},"",{"$nulls":15},"",{"$nulls":4},"",{"$nulls":4},"",{"$nulls":15},"",{"$nulls":4},"",{"$nulls":4},"",{"$nulls":15},"",{"$nulls":4},"",{"$nulls":4},"",{"$nulls":6},0,{"$f":"SUM($FL$36:$FL82)","v":0},0]
[48,{"$nulls":4},"N/A",{"$nulls":10},"","","",null,"","","",null,"","","",null,"","","",{"$nulls":5},"","","","","","","","",null,0,{"$nulls":3},"","","",null,"","","",null,"","","",null,"","","",{"$nulls":8},"",{"$nulls":4},"",{"$nulls":4},"",{"$nulls":15},"",{"$nulls":4},"",{"$nulls":4},"",{"$nulls":15},"",{"$nulls":4},"",{"$nulls":4},"",{"$nulls":15},"",{"$nulls":4},"",{"$nulls":4},"",{"$nulls":6},0,{"$f":"SUM($FL$36:$FL83)","v":0},0]
[49,{"$nulls":4},"N/A",{"$nulls":10},"","","",null,"","","",null,"","","",null,"","","",{"$nulls":5},"","","","","","","","",null,0,{"$nulls":3},"","","",null,"","","",null,"","","",null,"","","",{"$nulls":8},"",{"$nulls":4},"",{"$nulls":4},"",{"$nulls":15},"",{"$nulls":4},"",{"$nulls":4},"",{"$nulls":15},"",{"$nulls":4},"",{"$nulls":4},"",{"$nulls":15},"",{"$nulls":4},"",{"$nulls":4},"",{"$nulls":6},0,{"$f":"SUM($FL$36:$FL84)","v":0},0]
[50,{"$nulls":4},"N/A",{"$nulls":10},"","","",null,"","","",null,"","","",null,"","","",{"$nulls":5},"","","","","","","","",null,0,{"$nulls":3},"","","",null,"","","",null,"","","",null,"",{"$f":"IF($B85=\"Y\",IF(AND($AC85<>\"\",$AQ84<>\"\",$AR84<>\"\"),($AC85+$AQ84)/($AR84+1),\"\"),\"\")","v":""},"",{"$nulls":8},"",{"$nulls":4},"",{"$nulls":4},"",{"$nulls":15},"",{"$nulls":4},"",{"$nulls":4},"",{"$nulls":15},"",{"$nulls":4},"",{"$nulls":4},"",{"$nulls":15},"",{"$nulls":4},"",{"$nulls":4},"",{"$nulls":6},0,{"$f":"SUM($FL$36:$FL85)","v":0},0]
[null,null,{"$f":"SUM(C36:C85)","v":0}]
["g/bhp-hr"]
["g/kW-hr"]

{"sheet":"Engine Family #6","index":8,"n_rows":88,"n_cols":176,"rows_kept":88,"merged":[[1,0,1,35],[2,0,2,35],[3,0,3,35],[4,0,4,35],[5,0,5,35],[6,0,6,35],[8,0,8,16],[10,4,10,6],[10,12,10,13],[11,4,11,6],[11,15,11,16],[11,19,11,20],[11,23,11,24],[11,27,11,28],[12,4,12,6],[13,4,13,6],[14,4,15,6],[17,14,22,14],[27,4,30,13],[27,15,28,16],[32,0,32,16],[32,17,32,33],[32,34,32,35],[33,45,34,45]]}
[]
["United States"]
["US Environmental Protection Agency"]
["Office of Air and Radiation, Office of Transportation and Air Quality"]
[{"$nulls":37},"Tier 2","Y",94]
["Manufacturer Production Line Testing Report for Marine Compression Ignition Engines",{"$nulls":36},"Tier 3","N",1042]
[{"$f":"Summary!B7","v":"Version Number: 1.4 DRAFT  Last Revision: September 2023"},{"$nulls":36},"Tier 4",null,"N/A"]
[]
["Basic Information: Engine Family #6"]
[{"$nulls":167},{"$f":"IF(AND($G$24=94,Summary!$L$13=\"Category 1\"),0,1)","v":1}]
[null,null,"Manufacturer:",null,{"$f":"IF(Summary!D12<>\"\",Summary!D12,\"\")","v":""},{"$nulls":3},"Engine Family:",{"$nulls":31},{"$f":"IF($G$19=\"Diesel\",\"'HC' refers to 'THC' \",IF($G$19=\"Natural Gas\",\"'HC' refers to 'NMHC' \",IF($G$19=\"Alcohol\",\"'HC' refers to 'THCE' \",\"\")))","v":""}]
[null,null,"PLT Test Contact:",null,{"$f":"IF(Summary!D13<>\"\",Summary!D13,\"\")","v":""},{"$nulls":3},"Production (Category 3 only):",{"$nulls":6},{"$f":"IF(N16<>\"Y\", \"Current CO Result\", \"Final CO Result\")","v":"Current CO Result"},null,{"$f":"$CJ$36","v":""},null,{"$f":"IF(N16<>\"Y\", \"Current PM Result\", \"Final PM Result\")","v":"Current PM Result"},null,{"$f":"$DJ$36","v":""},null,{"$f":"IF($AF$12=\"Y\",IF(N16<>\"Y\", \"Current NOx+HC Result\", \"Final NOx+HC Result\"),IF(N16<>\"Y\", \"Current HC Result\", \"Final HC Result\"))","v":"Current HC Result"},null,{"$f":"IF($AF$12=\"Y\",IF($FP$36>0,ROUND($EJ$36+$FJ$36,2),\"\"),$EJ$36)","v":""},null,{"$f":"IF(N16<>\"Y\", \"Current NOx Result\",\"Final NOx Result\")","v":"Current NOx Result"},null,{"$f":"$FJ$36","v":""},null,{"$f":"IF($L$13<>\"Category 3\",IF($G$23=\"\",\"N\",$G$23),\"N\")","v":"N"},{"$f":"IF(Summary!$L$13=\"Category 3\",\"CAT3\",\"\")","v":""}]
[null,null,"Email Address:",null,{"$f":"IF(Summary!D14<>\"\",Summary!D14,\"\")","v":""},{"$nulls":3},"Date of Start of Model Year Production:"]
[null,null,"Phone #:",null,{"$f":"IF(Summary!D15<>\"\",Summary!D15,\"\")","v":""},{"$nulls":3},"Date of End of Model Year Production:",{"$nulls":14},{"$f":"IF($G$19=\"Diesel\",\"'HC' refers to 'THC' \",IF($G$19=\"Natural Gas\",\"'HC' refers to 'NMHC' \",IF($G$19=\"Alcohol\",\"'HC' refers to 'THCE' \",\"\")))","v":""},{"$nulls":13},"Diesel",1,{"$nulls":6},1]
[null,null,"Test Location & Description:",{"$nulls":5},"Deterioration Factor Type:",{"$nulls":28},"Natural Gas",2,{"$nulls":6},2]
[{"$nulls":8},"Include Results from this Engine Family on Summary Sheet?",{"$nulls":6},"CO Standard ",{"$nulls":3},"PM Standard or FEL",{"$nulls":3},{"$f":"IF($AF$12=\"Y\",\"NOx+HC Standard or FEL\",\"HC Standard\")","v":"HC Standard"},{"$nulls":3},"NOx Standard or FEL",{"$nulls":9},"Alcohol",3,{"$nulls":6},3]
[null,null,"Carryover?:",{"$nulls":5},"Required Tests (including failure follow-ups)",{"$nulls":4},{"$f":"$FO36","v":0},null,"Units",null,"g/kW-hr",null,"Units",null,"g/kW-hr",null,"Units",null,"g/kW-hr",null,"Units",null,"g/kW-hr",{"$nulls":4},"Test Cycle Options",{"$nulls":10},4]
[null,null,{"$f":"IF($G$17=\"Y\",\"Please submit supporting documentation indicating that this is a carry-over engine family\",\"\")","v":""},{"$nulls":5},"Instead of testing, are PLT requirements for this Engine Family",{"$nulls":6},"CO  Det Factor",{"$nulls":3},"PM  Det Factor",{"$nulls":3},"HC Det Factor",{"$nulls":3},"NOx  Det Factor",{"$nulls":6},"1 = 4-Mode General Cycle (E3)",null,null,"Recreational"]
[null,null,"Fuel Type:",{"$nulls":5}," fulfilled under the following (Category 1 only)?",{"$nulls":6},"Det Factor Type",null,{"$f":"IF($N$15<>\"\",$N$15,\"\")","v":""},null,"Det Factor Type",null,{"$f":"IF($N$15<>\"\",$N$15,\"\")","v":""},null,"Det Factor Type",null,{"$f":"IF($N$15<>\"\",$N$15,\"\")","v":""},null,"Det Factor Type",null,{"$f":"IF($N$15<>\"\",$N$15,\"\")","v":""},{"$nulls":4},"2 = 5-Mode Recreational Cycle (E5)",null,null,"Commercial"]
[null,null,"Recreational/Commercial:",{"$nulls":5},"Please elaborate in the comments section.",{"$nulls":6},"CO Green Engine Factor",{"$nulls":3},"PM Green Engine Factor",{"$nulls":3},"HC Green Engine Factor",{"$nulls":3},"NOx Green Engine Factor",{"$nulls":6},"3 = 4-Mode Constant Speed Propulsion Cycle (E2)"]
[null,null,"Model Year:",{"$nulls":5},"    -1042.310(a) - EPA approved combining it, for PLT purposes only.",{"$nulls":25},"4 = 5-Mode Constant Speed Auxiliary Cycle (D2)"]
[null,null,"Tier:",{"$nulls":31},"5 = 6-Mode Variable Speed Auxiliary Cycle (G2)",null,null,"1 (E3)"]
[null,null,"Combined NOx+HC?",{"$nulls":31},"6 = 8-Mode Variable Speed Ausiliary Cycle (C1)",null,null,"2 (E5)"]
[null,null,"40 CFR Part:",{"$nulls":3},{"$f":"AN6","v":1042},null,"Additional testing required by EPA [40 CFR 1042.301(e)]? ",{"$nulls":25},"O = Other",null,null,"3 (E2)"]
[{"$nulls":37},"4 (D2)"]
[{"$nulls":37},"5 (G2)",{"$nulls":132},"deleted and redirected"]
[{"$nulls":22}," ",{"$nulls":14},"6 (C1)",4,{"$nulls":6},4]
[null,null,"Comments:",{"$nulls":34},"O (other)"]
[{"$nulls":22}," ",{"$nulls":22},"additive"]
[{"$nulls":45},"multiplicative",{"$nulls":22},"CO Rounding",{"$nulls":4},"CO Rounding",{"$nulls":4},"CO Rounding",{"$nulls":4},"CO Rounding",{"$nulls":10},"PM Rounding",{"$nulls":4},"PM Rounding",{"$nulls":4},"PM Rounding",{"$nulls":4},"PM Rounding",{"$nulls":10},"HC Rounding",{"$nulls":4},"HC Rounding",{"$nulls":4},"HC Rounding",{"$nulls":4},"HC Rounding",{"$nulls":10},"NOx Rounding",{"$nulls":4},"NOx Rounding",{"$nulls":4},"NOx Rounding",{"$nulls":4},"NOx Rounding"]
[{"$nulls":22}," ",{"$nulls":45},"initial",{"$nulls":4},"final",{"$nulls":4}," det final",{"$nulls":4},"ave of all final",{"$nulls":10},"initial",{"$nulls":4},"final",{"$nulls":4}," det final",{"$nulls":4},"ave of all final",{"$nulls":10},"initial",{"$nulls":4},"final",{"$nulls":4}," det final",{"$nulls":4},"ave of all final",{"$nulls":10},"initial",{"$nulls":4},"final",{"$nulls":4}," det final",{"$nulls":4},"ave of all final"]
[{"$nulls":38},"Y",{"$nulls":6},"Y"]
["PLT Engine Test Results: Engine Family #6",{"$nulls":37},"N",{"$nulls":6},"N",{"$nulls":124},"This is N17"]
[{"$nulls":36},"CO",null,"PM",null,null,"HC or HC+NOX",null,"Nox",null,"Engine Data Complete?",{"$nulls":11},"HC","HC","HC","HC","Nox","Nox","Nox","Nox",{"$nulls":107},"1% of production or pre-approved reduced sample size - whichever is Lower # "]
[null,"Calc Final Result?","Test Number","Test Date","Test Time","Test Qtr","Engine ID","Engine Make","Engine Configuration","Build Date","Green Engine Factor Applied?","Green Engine Factor Determination Method","Service Hours (or miles) Accumulation","Service Hours Location","Service Acc. Procedure","CO Initial Result ","Rounded CO Initial Result ","CO Final Result ","Det. CO Final Result ","PM Initial Result ","Rounded PM Initial Result ","PM Final Result ","Det. PM Final Result ","HC Initial Result ","Rounded HC Initial Result ","HC Final Result ","Det. HC Final Result ","NOx Initial Result ","Rounded NOx Initial Result ","NOx Final Result ","Det. NOx Final Result ","Reason for Failed Test (if applicable)","Remedy","Repairs","Test Cycle","Comments",0,0,0,0,0,0,0,0,{"$nulls":5},"Unrounded initial CO","Unrounded final CO","Det CO","Final CO","Unrounded initial PM","Unrounded final PM","Det PM","Final PM","Unrounded initial HCNOx","Unrounded final HCNOx","Det HCNOx","Final HCNOX","Unrounded initial NOx","Unrounded final NOx","Det NOx","Final HCNOX",{"$nulls":7},"rounded",{"$nulls":4},"rounded",{"$nulls":4},"rounded",{"$nulls":4},"rounded",{"$nulls":10},"rounded",{"$nulls":4},"rounded",{"$nulls":4},"rounded",{"$nulls":4},"rounded",{"$nulls":10},"rounded",{"$nulls":4},"rounded",{"$nulls":4},"rounded",{"$nulls":4},"rounded","ROUNDED AND ACCOUNT FOR BLANK",{"$nulls":9},"rounded",{"$nulls":4},"rounded",{"$nulls":4},"rounded",{"$nulls":4},"rounded","ROUNDED AND ACCOUNT FOR BLANK","Test complete Flag","Total complete","Fail Flag","req","val","baseline req","req due to fails","sum fails","baseline req"]
[1,{"$nulls":4},"N/A",{"$nulls":10},{"$f":"$BU36","v":""},{"$f":"$BZ36","v":""},{"$f":"$CE36","v":""},null,{"$f":"$CU36","v":""},{"$f":"$CZ36","v":""},{"$f":"$DE36","v":""},null,{"$f":"$DU36","v":""},{"$f":"$DZ36","v":""},{"$f":"$EE36","v":""},null,{"$f":"$EU36","v":""},{"$f":"$EZ36","v":""},{"$f":"$FE36","v":""},{"$nulls":5},{"$f":"IF($B36=\"N\",IF(AND($AK35<>\"\",$Q36<>\"\"),$AK35+$Q36,\"\"),IF($B36=\"Y\",0,\"\"))","v":""},{"$f":"IF($B36=\"N\",AL35+1,IF($B36=\"Y\",0,\"\"))","v":""},{"$f":"IF($B36=\"N\",IF(AND($AM35<>\"\",$U36<>\"\"),$AM35+$U36,\"\"),IF($B36=\"Y\",0,\"\"))","v":""},{"$f":"IF($B36=\"N\",AN35+1,IF($B36=\"Y\",0,\"\"))","v":""},{"$f":"IF($B36=\"N\",IF(AND($AO35<>\"\",$Y36<>\"\"),$AO35+$Y36,\"\"),IF($B36=\"Y\",0,\"\"))","v":""},{"$f":"IF($B36=\"N\",AP35+1,IF($B36=\"Y\",0,\"\"))","v":""},{"$f":"IF($B36=\"N\",IF(AND($AQ35<>\"\",$AC36<>\"\"),$AQ35+$AC36,\"\"),IF($B36=\"Y\",0,\"\"))","v":""},{"$f":"IF($B36=\"N\",AR35+1,IF($B36=\"Y\",0,\"\"))","v":""},null,{"$f":"IF(AND(B36<>\"\",C36<>\"\",D36<>\"\",E36<>\"\",G36<>\"\",H36<>\"\",I36<>\"\",J36<>\"\",K36<>\"\",M36<>\"\",N36<>\"\",O36<>\"\"),1,0)","v":0},{"$nulls":3},{"$f":"IF(AND($P36<>\"\",$AT36=1),$P36,\"\")","v":""},{"$f":"IF($B36=\"Y\",IF(AND($Q36<>\"\",$AK35<>\"\",$AL35<>\"\"),($Q36+$AK35)/($AL35+1),\"\"),\"\")","v":""},{"$f":"IF(AND($B36=\"Y\",$R36<>\"\",$R$18<>\"\"),IF($R$19=\"additive\",$R36+$R$18,IF($R$19=\"multiplicative\",$R36*$R$18,\"\")),\"\")","v":""},{"$f":"IF(COUNT($S$36:$S$85)>0,AVERAGE($S$36:$S$85),\"\")","v":""},{"$f":"IF(AND($T36<>\"\",$AT36=1),$T36,\"\")","v":""},{"$f":"IF($B36=\"Y\",IF(AND($U36<>\"\",$AM35<>\"\",$AN35<>\"\"),($U36+$AM35)/($AN35+1),\"\"),\"\")","v":""},{"$f":"IF(AND($B36=\"Y\",$V36<>\"\",$V$18<>\"\"),IF($V$19=\"additive\",$V36+$V$18,IF($V$19=\"multiplicative\",$V36*$V$18,\"\")),\"\")","v":""},{"$f":"IF(COUNT($W$36:$W$85)>0,AVERAGE($W$36:$W$85),\"\")","v":""},{"$f":"IF(AND($X36<>\"\",$AT36=1),$X36,\"\")","v":""},{"$f":"IF($B36=\"Y\",IF(AND($Y36<>\"\",$AO35<>\"\",$AP35<>\"\"),($Y36+$AO35)/($AP35+1),\"\"),\"\")","v":""},{"$f":"IF(AND($B36=\"Y\",$Z36<>\"\",$Z$18<>\"\"),IF($Z$19=\"additive\",$Z36+$Z$18,IF($Z$19=\"multiplicative\",$Z36*$Z$18,\"\")),\"\")","v":""},{"$f":"IF(COUNT($AA$36:$AA$85)>0,AVERAGE($AA$36:$AA$85),\"\")","v":""},{"$f":"IF(AND($AB36<>\"\",$AT36=1),$AB36,\"\")","v":""},{"$f":"IF($B36=\"Y\",IF(AND($AC36<>\"\",$AQ35<>\"\",$AR35<>\"\"),($AC36+$AQ35)/($AR35+1),\"\"),\"\")","v":""},{"$f":"IF(AND($B36=\"Y\",$AD36<>\"\",$AD$18<>\"\"),IF($AD$19=\"additive\",$AD36+$AD$18,IF($AD$19=\"multiplicative\",$AD36*$AD$18,\"\")),\"\")","v":""},{"$f":"IF(COUNT($AE$36:$AE$85)>0,AVERAGE($AE$36:$AE$85),\"\")","v":""},{"$nulls":7},{"$f":"IF($AX36<>\"\",ROUND($AX36,2),\"\")","v":""},{"$nulls":4},{"$f":"IF($AY36<>\"\",ROUND($AY36,2),\"\")","v":""},{"$nulls":4},{"$f":"IF($AZ36<>\"\",ROUND($AZ36,2),\"\")","v":""},{"$nulls":4},{"$f":"IF($BA36<>\"\",ROUND($BA36,2),\"\")","v":""},{"$nulls":10},{"$f":"IF($BB36<>\"\",ROUND($BB36,3),\"\")","v":""},{"$nulls":4},{"$f":"IF($BC36<>\"\",ROUND($BC36,3),\"\")","v":""},{"$nulls":4},{"$f":"IF($BD36<>\"\",ROUND($BD36,3),\"\")","v":""},{"$nulls":4},{"$f":"IF($BE36<>\"\",ROUND($BE36,3),\"\")","v":""},{"$nulls":10},{"$f":"IF($BF36<>\"\",ROUND($BF36,3),\"\")","v":""},{"$nulls":4},{"$f":"IF($BG36<>\"\",ROUND($BG36,3),\"\")","v":""},{"$nulls":4},{"$f":"IF($BH36<>\"\",ROUND($BH36,3),\"\")","v":""},{"$nulls":4},{"$f":"IF($BI36<>\"\",ROUND($BI36,3),\"\")","v":""},{"$f":"IF(EJ36=\"\",0,EJ36)","v":0},{"$nulls":9},{"$f":"IF($BJ36<>\"\",ROUND($BJ36,2),\"\")","v":""},{"$nulls":4},{"$f":"IF($BK36<>\"\",ROUND($BK36,2),\"\")","v":""},{"$nulls":4},{"$f":"IF($BL36<>\"\",ROUND($BL36,2),\"\")","v":""},{"$nulls":4},{"$f":"IF($BM36<>\"\",ROUND($BM36,2),\"\")","v":""},{"$f":"IF(FJ36=\"\",0,FJ36)","v":0},{"$f":"IF($AG$12<>\"CAT3\",IF(AND($B36=\"Y\",$S36<>\"\",$W36<>\"\",$AA36<>\"\",$AE36<>\"\"),1,0),IF($AE36<>\"\",1,0))","v":0},{"$f":"SUM($FL$36:$FL36)","v":0},{"$f":"IF($AG$12<>\"CAT3\",IF($FL36=1,IF(OR($S36>$R$16,$W36>$V$16,$AA36>$Z$16,IF($AF$12<>\"Y\",OR($AA36>$Z$16,$AE36>$AD$16),ROUND(($AA36+$AE36),2)>$Z$16)),1,0),0),IF($FL36=1,IF(AND($AE36>$AD$16,$AF$12=\"N\"),1,0),0))","v":0},{"$f":"IF(OR($M$11=\"\",$N$18=\"Y\"),0,IF($AG$12=\"CAT3\",$N$12,($FR$36+1)))","v":0},{"$f":"SUM(FL36:FL85)","v":0},{"$f":"IF(AND($G$17=\"Y\",$N$24<>\"\"),MIN($N$24,$FT$36),$FT$36)","v":0},{"$f":"$FS$36*2","v":0},{"$f":"SUM(FN36:FN85)","v":0},{"$f":"IF($N$12<>\"\",$N$12*0.01,0)","v":0}]
[{"$f":"A36+1","v":2},{"$nulls":4},"N/A",{"$nulls":10},"","","",null,"","","",null,"","","",null,"","","",{"$nulls":5},"",{"$f":"IF($B37=\"N\",AL36+1,IF($B37=\"Y\",0,\"\"))","v":""},"",{"$f":"IF($B37=\"N\",AN36+1,IF($B37=\"Y\",0,\"\"))","v":""},{"$f":"IF($B37=\"N\",IF(AND($AO36<>\"\",$Y37<>\"\"),$AO36+$Y37,\"\"),IF($B37=\"Y\",0,\"\"))","v":""},{"$f":"IF($B37=\"N\",AP36+1,IF($B37=\"Y\",0,\"\"))","v":""},{"$f":"IF($B37=\"N\",IF(AND($AQ36<>\"\",$AC37<>\"\"),$AQ36+$AC37,\"\"),IF($B37=\"Y\",0,\"\"))","v":""},{"$f":"IF($B37=\"N\",AR36+1,IF($B37=\"Y\",0,\"\"))","v":""},null,{"$f":"IF(AND(B37<>\"\",C37<>\"\",D37<>\"\",E37<>\"\",G37<>\"\",H37<>\"\",I37<>\"\",J37<>\"\",K37<>\"\",M37<>\"\",N37<>\"\",O37<>\"\"),1,0)","v":0},{"$nulls":3},"","",{"$f":"IF(AND($B37=\"Y\",$R37<>\"\",$R$18<>\"\"),IF($R$19=\"additive\",$R37+$R$18,IF($R$19=\"multiplicative\",$R37*$R$18,\"\")),\"\")","v":""},null,"","",{"$f":"IF(AND($B37=\"Y\",$V37<>\"\",$V$18<>\"\"),IF($V$19=\"additive\",$V37+$V$18,IF($V$19=\"multiplicative\",$V37*$V$18,\"\")),\"\")","v":""},null,{"$f":"IF(AND($X37<>\"\",$AT37=1),$X37,\"\")","v":""},{"$f":"IF($B37=\"Y\",IF(AND($Y37<>\"\",$AO36<>\"\",$AP36<>\"\"),($Y37+$AO36)/($AP36+1),\"\"),\"\")","v":""},{"$f":"IF(AND($B37=\"Y\",$Z37<>\"\",$Z$18<>\"\"),IF($Z$19=\"additive\",$Z37+$Z$18,IF($Z$19=\"multiplicative\",$Z37*$Z$18,\"\")),\"\")","v":""},null,{"$f":"IF(AND($AB37<>\"\",$AT37=1),$AB37,\"\")","v":""},{"$f":"IF($B37=\"Y\",IF(AND($AC37<>\"\",$AQ36<>\"\",$AR36<>\"\"),($AC37+$AQ36)/($AR36+1),\"\"),\"\")","v":""},{"$f":"IF(AND($B37=\"Y\",$AD37<>\"\",$AD$18<>\"\"),IF($AD$19=\"additive\",$AD37+$AD$18,IF($AD$19=\"multiplicative\",$AD37*$AD$18,\"\")),\"\")","v":""},{"$nulls":8},{"$f":"IF($AX37<>\"\",ROUND($AX37,2),\"\")","v":""},{"$nulls":4},{"$f":"IF($AY37<>\"\",ROUND($AY37,2),\"\")","v":""},{"$nulls":4},{"$f":"IF($AZ37<>\"\",ROUND($AZ37,2),\"\")","v":""},{"$nulls":15},{"$f":"IF($BB37<>\"\",ROUND($BB37,3),\"\")","v":""},{"$nulls":4},{"$f":"IF($BC37<>\"\",ROUND($BC37,3),\"\")","v":""},{"$nulls":4},{"$f":"IF($BD37<>\"\",ROUND($BD37,3),\"\")","v":""},{"$nulls":15},{"$f":"IF($BF37<>\"\",ROUND($BF37,3),\"\")","v":""},{"$nulls":4},{"$f":"IF($BG37<>\"\",ROUND($BG37,3),\"\")","v":""},{"$nulls":4},{"$f":"IF($BH37<>\"\",ROUND($BH37,3),\"\")","v":""},{"$nulls":15},{"$f":"IF($BJ37<>\"\",ROUND($BJ37,2),\"\")","v":""},{"$nulls":4},{"$f":"IF($BK37<>\"\",ROUND($BK37,2),\"\")","v":""},{"$nulls":4},{"$f":"IF($BL37<>\"\",ROUND($BL37,2),\"\")","v":""},{"$nulls":6},{"$f":"IF($AG$12<>\"CAT3\",IF(AND($B37=\"Y\",$S37<>\"\",$W37<>\"\",$AA37<>\"\",$AE37<>\"\"),1,0),IF($AE37<>\"\",1,0))","v":0},{"$f":"SUM($FL$36:$FL37)","v":0},{"$f":"IF($AG$12<>\"CAT3\",IF($FL37=1,IF(OR($S37>$R$16,$W37>$V$16,$AA37>$Z$16,IF($AF$12<>\"Y\",OR($AA37>$Z$16,$AE37>$AD$16),ROUND(($AA37+$AE37),2)>$Z$16)),1,0),0),IF($FL37=1,IF(AND($AE37>$AD$16,$AF$12=\"N\"),1,0),0))","v":0},null,null,{"$f":"MAX($FQ$36,$FL$10)","v":1}]
[{"$f":"A37+1","v":3},{"$nulls":4},"N/A",{"$nulls":10},"","","",null,"","","",null,"","","",null,"","","",{"$nulls":5},"","","","","","","","",null,0,{"$nulls":3},"","","",null,"","","",null,"","","",null,"","","",{"$nulls":8},"",{"$nulls":4},"",{"$nulls":4},"",{"$nulls":15},"",{"$nulls":4},"",{"$nulls":4},"",{"$nulls":15},"",{"$nulls":4},"",{"$nulls":4},"",{"$nulls":15},"",{"$nulls":4},"",{"$nulls":4},"",{"$nulls":6},0,{"$f":"SUM($FL$36:$FL38)","v":0},0]
[4,{"$nulls":4},"N/A",{"$nulls":10},"","","",null,"","","",null,"","","",null,"","","",{"$nulls":5},"","","","","","","","",null,0,{"$nulls":3},"","","",null,"","","",null,"","","",null,"","","",{"$nulls":8},"",{"$nulls":4},"",{"$nulls":4},"",{"$nulls":15},"",{"$nulls":4},"",{"$nulls":4},"",{"$nulls":15},"",{"$nulls":4},"",{"$nulls":4},"",{"$nulls":15},"",{"$nulls":4},"",{"$nulls":4},"",{"$nulls":6},0,{"$f":"SUM($FL$36:$FL39)","v":0},0,null,null,"then, the larger of that sample size or 1  (or if Part 94 and cat1,  can be 0)"]
[5,{"$nulls":4},"N/A",{"$nulls":10},"","","",null,"","","",null,"","","",null,"","","",{"$nulls":5},"","","","","","","","",null,0,{"$nulls":3},"","","",null,"","","",null,"","","",null,"","","",{"$nulls":8},"",{"$nulls":4},"",{"$nulls":4},"",{"$nulls":15},"",{"$nulls":4},"",{"$nulls":4},"",{"$nulls":15},"",{"$nulls":4},"",{"$nulls":4},"",{"$nulls":15},"",{"$nulls":4},"",{"$nulls":4},"",{"$nulls":6},0,{"$f":"SUM($FL$36:$FL40)","v":0},0]
[6,{"$nulls":4},"N/A",{"$nulls":10},"","","",null,"","","",null,"","","",null,"","","",{"$nulls":5},"","","","","","","","",null,0,{"$nulls":3},"","","",null,"","","",null,"","","",null,"","","",{"$nulls":8},"",{"$nulls":4},"",{"$nulls":4},"",{"$nulls":15},"",{"$nulls":4},"",{"$nulls":4},"",{"$nulls":15},"",{"$nulls":4},"",{"$nulls":4},"",{"$nulls":15},"",{"$nulls":4},"",{"$nulls":4},"",{"$nulls":6},0,{"$f":"SUM($FL$36:$FL41)","v":0},0]
[7,{"$nulls":4},"N/A",{"$nulls":10},"","","",null,"","","",null,"","","",null,"","","",{"$nulls":5},"","","","","","","","",null,0,{"$nulls":3},"","","",null,"","","",null,"","","",null,"","","",{"$nulls":8},"",{"$nulls":4},"",{"$nulls":4},"",{"$nulls":15},"",{"$nulls":4},"",{"$nulls":4},"",{"$nulls":15},"",{"$nulls":4},"",{"$nulls":4},"",{"$nulls":15},"",{"$nulls":4},"",{"$nulls":4},"",{"$nulls":6},0,{"$f":"SUM($FL$36:$FL42)","v":0},0]
[8,{"$nulls":4},"N/A",{"$nulls":10},"","","",null,"","","",null,"","","",null,"","","",{"$nulls":5},"","","","","","","","",null,0,{"$nulls":3},"","","",null,"","","",null,"","","",null,"","","",{"$nulls":8},"",{"$nulls":4},"",{"$nulls":4},"",{"$nulls":15},"",{"$nulls":4},"",{"$nulls":4},"",{"$nulls":15},"",{"$nulls":4},"",{"$nulls":4},"",{"$nulls":15},"",{"$nulls":4},"",{"$nulls":4},"",{"$nulls":6},0,{"$f":"SUM($FL$36:$FL43)","v":0},0]
[9,{"$nulls":4},"N/A",{"$nulls":10},"","","",null,"","","",null,"","","",null,"","","",{"$nulls":5},"","","","","","","","",null,0,{"$nulls":3},"","","",null,"","","",null,"","","",null,"","","",{"$nulls":8},"",{"$nulls":4},"",{"$nulls":4},"",{"$nulls":15},"",{"$nulls":4},"",{"$nulls":4},"",{"$nulls":15},"",{"$nulls":4},"",{"$nulls":4},"",{"$nulls":15},"",{"$nulls":4},"",{"$nulls":4},"",{"$nulls":6},0,{"$f":"SUM($FL$36:$FL44)","v":0},0]
[10,{"$nulls":4},"N/A",{"$nulls":10},"","","",null,"","","",null,"","","",null,"","","",{"$nulls":5},"","","","","","","","",null,0,{"$nulls":3},"","","",null,"","","",null,"","","",null,"","","",{"$nulls":8},"",{"$nulls":4},"",{"$nulls":4},"",{"$nulls":15},"",{"$nulls":4},"",{"$nulls":4},"",{"$nulls":15},"",{"$nulls":4},"",{"$nulls":4},"",{"$nulls":15},"",{"$nulls":4},"",{"$nulls":4},"",{"$nulls":6},0,{"$f":"SUM($FL$36:$FL45)","v":0},0]
[11,{"$nulls":4},"N/A",{"$nulls":10},"","","",null,"","","",null,"","","",null,"","","",{"$nulls":5},"","","","","","","","",null,0,{"$nulls":3},"","","",null,"","","",null,"","","",null,"","","",{"$nulls":8},"",{"$nulls":4},"",{"$nulls":4},"",{"$nulls":15},"",{"$nulls":4},"",{"$nulls":4},"",{"$nulls":15},"",{"$nulls":4},"",{"$nulls":4},"",{"$nulls":15},"",{"$nulls":4},"",{"$nulls":4},"",{"$nulls":6},0,{"$f":"SUM($FL$36:$FL46)","v":0},0]
[12,{"$nulls":4},"N/A",{"$nulls":10},"","","",null,"","","",null,"","","",null,"","","",{"$nulls":5},"","","","","","","","",null,0,{"$nulls":3},"","","",null,"","","",null,"","","",null,"","","",{"$nulls":8},"",{"$nulls":4},"",{"$nulls":4},"",{"$nulls":15},"",{"$nulls":4},"",{"$nulls":4},"",{"$nulls":15},"",{"$nulls":4},"",{"$nulls":4},"",{"$nulls":15},"",{"$nulls":4},"",{"$nulls":4},"",{"$nulls":6},0,{"$f":"SUM($FL$36:$FL47)","v":0},0]
[13,{"$nulls":4},"N/A",{"$nulls":10},"","","",null,"","","",null,"","","",null,"","","",{"$nulls":5},"","","","","","","","",null,0,{"$nulls":3},"","","",null,"","","",null,"","","",null,"","","",{"$nulls":8},"",{"$nulls":4},"",{"$nulls":4},"",{"$nulls":15},"",{"$nulls":4},"",{"$nulls":4},"",{"$nulls":15},"",{"$nulls":4},"",{"$nulls":4},"",{"$nulls":15},"",{"$nulls":4},"",{"$nulls":4},"",{"$nulls":6},0,{"$f":"SUM($FL$36:$FL48)","v":0},0]
[14,{"$nulls":4},"N/A",{"$nulls":10},"","","",null,"","","",null,"","","",null,"","","",{"$nulls":5},"","","","","","","","",null,0,{"$nulls":3},"","","",null,"","","",null,"","","",null,"","","",{"$nulls":8},"",{"$nulls":4},"",{"$nulls":4},"",{"$nulls":15},"",{"$nulls":4},"",{"$nulls":4},"",{"$nulls":15},"",{"$nulls":4},"",{"$nulls":4},"",{"$nulls":15},"",{"$nulls":4},"",{"$nulls":4},"",{"$nulls":6},0,{"$f":"SUM($FL$36:$FL49)","v":0},0]
[15,{"$nulls":4},"N/A",{"$nulls":10},"","","",null,"","","",null,"","","",null,"","","",{"$nulls":5},"","","","","","","","",null,0,{"$nulls":3},"","","",null,"","","",null,"","","",null,"","","",{"$nulls":8},"",{"$nulls":4},"",{"$nulls":4},"",{"$nulls":15},"",{"$nulls":4},"",{"$nulls":4},"",{"$nulls":15},"",{"$nulls":4},"",{"$nulls":4},"",{"$nulls":15},"",{"$nulls":4},"",{"$nulls":4},"",{"$nulls":6},0,{"$f":"SUM($FL$36:$FL50)","v":0},0]
[16,{"$nulls":4},"N/A",{"$nulls":10},"","","",null,"","","",null,"","","",null,"","","",{"$nulls":5},"","","","","","","","",null,0,{"$nulls":3},"","","",null,"","","",null,"","","",null,"","","",{"$nulls":8},"",{"$nulls":4},"",{"$nulls":4},"",{"$nulls":15},"",{"$nulls":4},"",{"$nulls":4},"",{"$nulls":15},"",{"$nulls":4},"",{"$nulls":4},"",{"$nulls":15},"",{"$nulls":4},"",{"$nulls":4},"",{"$nulls":6},0,{"$f":"SUM($FL$36:$FL51)","v":0},0]
[17,{"$nulls":4},"N/A",{"$nulls":10},"","","",null,"","","",null,"","","",null,"","","",{"$nulls":5},"","","","","","","","",null,0,{"$nulls":3},"","","",null,"","","",null,"","","",null,"","","",{"$nulls":8},"",{"$nulls":4},"",{"$nulls":4},"",{"$nulls":15},"",{"$nulls":4},"",{"$nulls":4},"",{"$nulls":15},"",{"$nulls":4},"",{"$nulls":4},"",{"$nulls":15},"",{"$nulls":4},"",{"$nulls":4},"",{"$nulls":6},0,{"$f":"SUM($FL$36:$FL52)","v":0},0]
[18,{"$nulls":4},"N/A",{"$nulls":10},"","","",null,"","","",null,"","","",null,"","","",{"$nulls":5},"","","","","","","","",null,0,{"$nulls":3},"","","",null,"","","",null,"","","",null,"","","",{"$nulls":8},"",{"$nulls":4},"",{"$nulls":4},"",{"$nulls":15},"",{"$nulls":4},"",{"$nulls":4},"",{"$nulls":15},"",{"$nulls":4},"",{"$nulls":4},"",{"$nulls":15},"",{"$nulls":4},"",{"$nulls":4},"",{"$nulls":6},0,{"$f":"SUM($FL$36:$FL53)","v":0},0]
[19,{"$nulls":4},"N/A",{"$nulls":10},"","","",null,"","","",null,"","","",null,"","","",{"$nulls":5},"","","","","","","","",null,0,{"$nulls":3},"","","",null,"","","",null,"","","",null,"","","",{"$nulls":8},"",{"$nulls":4},"",{"$nulls":4},"",{"$nulls":15},"",{"$nulls":4},"",{"$nulls":4},"",{"$nulls":15},"",{"$nulls":4},"",{"$nulls":4},"",{"$nulls":15},"",{"$nulls":4},"",{"$nulls":4},"",{"$nulls":6},0,{"$f":"SUM($FL$36:$FL54)","v":0},0]
[20,{"$nulls":4},"N/A",{"$nulls":10},"","","",null,"","","",null,"","","",null,"","","",{"$nulls":5},"","","","","","","","",null,0,{"$nulls":3},"","","",null,"","","",null,"","","",null,"","","",{"$nulls":8},"",{"$nulls":4},"",{"$nulls":4},"",{"$nulls":15},"",{"$nulls":4},"",{"$nulls":4},"",{"$nulls":15},"",{"$nulls":4},"",{"$nulls":4},"",{"$nulls":15},"",{"$nulls":4},"",{"$nulls":4},"",{"$nulls":6},0,{"$f":"SUM($FL$36:$FL55)","v":0},0]
[21,{"$nulls":4},"N/A",{"$nulls":10},"","","",null,"","","",null,"","","",null,"","","",{"$nulls":5},"","","","","","","","",null,0,{"$nulls":3},"","","",null,"","","",null,"","","",null,"","","",{"$nulls":8},"",{"$nulls":4},"",{"$nulls":4},"",{"$nulls":15},"",{"$nulls":4},"",{"$nulls":4},"",{"$nulls":15},"",{"$nulls":4},"",{"$nulls":4},"",{"$nulls":15},"",{"$nulls":4},"",{"$nulls":4},"",{"$nulls":6},0,{"$f":"SUM($FL$36:$FL56)","v":0},0]
[22,{"$nulls":4},"N/A",{"$nulls":10},"","","",null,"","","",null,"","","",null,"","","",{"$nulls":5},"","","","","","","","",null,0,{"$nulls":3},"","","",null,"","","",null,"","","",null,"","","",{"$nulls":8},"",{"$nulls":4},"",{"$nulls":4},"",{"$nulls":15},"",{"$nulls":4},"",{"$nulls":4},"",{"$nulls":15},"",{"$nulls":4},"",{"$nulls":4},"",{"$nulls":15},"",{"$nulls":4},"",{"$nulls":4},"",{"$nulls":6},0,{"$f":"SUM($FL$36:$FL57)","v":0},0]
[23,{"$nulls":4},"N/A",{"$nulls":10},"","","",null,"","","",null,"","","",null,"","","",{"$nulls":5},"","","","","","","","",null,0,{"$nulls":3},"","","",null,"","","",null,"","","",null,"","","",{"$nulls":8},"",{"$nulls":4},"",{"$nulls":4},"",{"$nulls":15},"",{"$nulls":4},"",{"$nulls":4},"",{"$nulls":15},"",{"$nulls":4},"",{"$nulls":4},"",{"$nulls":15},"",{"$nulls":4},"",{"$nulls":4},"",{"$nulls":6},0,{"$f":"SUM($FL$36:$FL58)","v":0},0]
[24,{"$nulls":4},"N/A",{"$nulls":10},"","","",null,"","","",null,"","","",null,"","","",{"$nulls":5},"","","","","","","","",null,0,{"$nulls":3},"","","",null,"","","",null,"","","",null,"","","",{"$nulls":8},"",{"$nulls":4},"",{"$nulls":4},"",{"$nulls":15},"",{"$nulls":4},"",{"$nulls":4},"",{"$nulls":15},"",{"$nulls":4},"",{"$nulls":4},"",{"$nulls":15},"",{"$nulls":4},"",{"$nulls":4},"",{"$nulls":6},0,{"$f":"SUM($FL$36:$FL59)","v":0},0]
[25,{"$nulls":4},"N/A",{"$nulls":10},"","","",null,"","","",null,"","","",null,"","","",{"$nulls":5},"","","","","","","","",null,0,{"$nulls":3},"","","",null,"","","",null,"","","",null,"","","",{"$nulls":8},"",{"$nulls":4},"",{"$nulls":4},"",{"$nulls":15},"",{"$nulls":4},"",{"$nulls":4},"",{"$nulls":15},"",{"$nulls":4},"",{"$nulls":4},"",{"$nulls":15},"",{"$nulls":4},"",{"$nulls":4},"",{"$nulls":6},0,{"$f":"SUM($FL$36:$FL60)","v":0},0]
[26,{"$nulls":4},"N/A",{"$nulls":10},"","","",null,"","","",null,"","","",null,"","","",{"$nulls":5},"","","","","","","","",null,0,{"$nulls":3},"","","",null,"","","",null,"","","",null,"","","",{"$nulls":8},"",{"$nulls":4},"",{"$nulls":4},"",{"$nulls":15},"",{"$nulls":4},"",{"$nulls":4},"",{"$nulls":15},"",{"$nulls":4},"",{"$nulls":4},"",{"$nulls":15},"",{"$nulls":4},"",{"$nulls":4},"",{"$nulls":6},0,{"$f":"SUM($FL$36:$FL61)","v":0},0]
[27,{"$nulls":4},"N/A",{"$nulls":10},"","","",null,"","","",null,"","","",null,"","","",{"$nulls":5},"","","","","","","","",null,0,{"$nulls":3},"","","",null,"","","",null,"","","",null,"","","",{"$nulls":8},"",{"$nulls":4},"",{"$nulls":4},"",{"$nulls":15},"",{"$nulls":4},"",{"$nulls":4},"",{"$nulls":15},"",{"$nulls":4},"",{"$nulls":4},"",{"$nulls":15},"",{"$nulls":4},"",{"$nulls":4},"",{"$nulls":6},0,{"$f":"SUM($FL$36:$FL62)","v":0},0]
[28,{"$nulls":4},"N/A",{"$nulls":10},"","","",null,"","","",null,"","","",null,"","","",{"$nulls":5},"","","","","","","","",null,0,{"$nulls":3},"","","",null,"","","",null,"","","",null,"","","",{"$nulls":8},"",{"$nulls":4},"",{"$nulls":4},"",{"$nulls":15},"",{"$nulls":4},"",{"$nulls":4},"",{"$nulls":15},"",{"$nulls":4},"",{"$nulls":4},"",{"$nulls":15},"",{"$nulls":4},"",{"$nulls":4},"",{"$nulls":6},0,{"$f":"SUM($FL$36:$FL63)","v":0},0]
[29,{"$nulls":4},"N/A",{"$nulls":10},"","","",null,"","","",null,"","","",null,"","","",{"$nulls":5},"","","","","","","","",null,0,{"$nulls":3},"","","",null,"","","",null,"","","",null,"","","",{"$nulls":8},"",{"$nulls":4},"",{"$nulls":4},"",{"$nulls":15},"",{"$nulls":4},"",{"$nulls":4},"",{"$nulls":15},"",{"$nulls":4},"",{"$nulls":4},"",{"$nulls":15},"",{"$nulls":4},"",{"$nulls":4},"",{"$nulls":6},0,{"$f":"SUM($FL$36:$FL64)","v":0},0]
[30,{"$nulls":4},"N/A",{"$nulls":10},"","","",null,"","","",null,"","","",null,"","","",{"$nulls":5},"","","","","","","","",null,0,{"$nulls":3},"","","",null,"","","",null,"","","",null,"","","",{"$nulls":8},"",{"$nulls":4},"",{"$nulls":4},"",{"$nulls":15},"",{"$nulls":4},"",{"$nulls":4},"",{"$nulls":15},"",{"$nulls":4},"",{"$nulls":4},"",{"$nulls":15},"",{"$nulls":4},"",{"$nulls":4},"",{"$nulls":6},0,{"$f":"SUM($FL$36:$FL65)","v":0},0]
[31,{"$nulls":4},"N/A",{"$nulls":10},"","","",null,"","","",null,"","","",null,"","","",{"$nulls":5},"","","","","","","","",null,0,{"$nulls":3},"","","",null,"","","",null,"","","",null,"","","",{"$nulls":8},"",{"$nulls":4},"",{"$nulls":4},"",{"$nulls":15},"",{"$nulls":4},"",{"$nulls":4},"",{"$nulls":15},"",{"$nulls":4},"",{"$nulls":4},"",{"$nulls":15},"",{"$nulls":4},"",{"$nulls":4},"",{"$nulls":6},0,{"$f":"SUM($FL$36:$FL66)","v":0},0]
[32,{"$nulls":4},"N/A",{"$nulls":10},"","","",null,"","","",null,"","","",null,"","","",{"$nulls":5},"","","","","","","","",null,0,{"$nulls":3},"","","",null,"","","",null,"","","",null,"","","",{"$nulls":8},"",{"$nulls":4},"",{"$nulls":4},"",{"$nulls":15},"",{"$nulls":4},"",{"$nulls":4},"",{"$nulls":15},"",{"$nulls":4},"",{"$nulls":4},"",{"$nulls":15},"",{"$nulls":4},"",{"$nulls":4},"",{"$nulls":6},0,{"$f":"SUM($FL$36:$FL67)","v":0},0]
[33,{"$nulls":4},"N/A",{"$nulls":10},"","","",null,"","","",null,"","","",null,"","","",{"$nulls":5},"","","","","","","","",null,0,{"$nulls":3},"","","",null,"","","",null,"","","",null,"","","",{"$nulls":8},"",{"$nulls":4},"",{"$nulls":4},"",{"$nulls":15},"",{"$nulls":4},"",{"$nulls":4},"",{"$nulls":15},"",{"$nulls":4},"",{"$nulls":4},"",{"$nulls":15},"",{"$nulls":4},"",{"$nulls":4},"",{"$nulls":6},0,{"$f":"SUM($FL$36:$FL68)","v":0},0]
[34,{"$nulls":4},"N/A",{"$nulls":10},"","","",null,"","","",null,"","","",null,"","","",{"$nulls":5},"","","","","","","","",null,0,{"$nulls":3},"","","",null,"","","",null,"","","",null,"","","",{"$nulls":8},"",{"$nulls":4},"",{"$nulls":4},"",{"$nulls":15},"",{"$nulls":4},"",{"$nulls":4},"",{"$nulls":15},"",{"$nulls":4},"",{"$nulls":4},"",{"$nulls":15},"",{"$nulls":4},"",{"$nulls":4},"",{"$nulls":6},0,{"$f":"SUM($FL$36:$FL69)","v":0},0]
[35,{"$nulls":4},"N/A",{"$nulls":10},"","","",null,"","","",null,"","","",null,"","","",{"$nulls":5},"","","","","","","","",null,0,{"$nulls":3},"","","",null,"","","",null,"","","",null,"","","",{"$nulls":8},"",{"$nulls":4},"",{"$nulls":4},"",{"$nulls":15},"",{"$nulls":4},"",{"$nulls":4},"",{"$nulls":15},"",{"$nulls":4},"",{"$nulls":4},"",{"$nulls":15},"",{"$nulls":4},"",{"$nulls":4},"",{"$nulls":6},0,{"$f":"SUM($FL$36:$FL70)","v":0},0]
[36,{"$nulls":4},"N/A",{"$nulls":10},"","","",null,"","","",null,"","","",null,"","","",{"$nulls":5},"","","","","","","","",null,0,{"$nulls":3},"","","",null,"","","",null,"","","",null,"","","",{"$nulls":8},"",{"$nulls":4},"",{"$nulls":4},"",{"$nulls":15},"",{"$nulls":4},"",{"$nulls":4},"",{"$nulls":15},"",{"$nulls":4},"",{"$nulls":4},"",{"$nulls":15},"",{"$nulls":4},"",{"$nulls":4},"",{"$nulls":6},0,{"$f":"SUM($FL$36:$FL71)","v":0},0]
[37,{"$nulls":4},"N/A",{"$nulls":10},"","","",null,"","","",null,"","","",null,"","","",{"$nulls":5},"","","","","","","","",null,0,{"$nulls":3},"","","",null,"","","",null,"","","",null,"","","",{"$nulls":8},"",{"$nulls":4},"",{"$nulls":4},"",{"$nulls":15},"",{"$nulls":4},"",{"$nulls":4},"",{"$nulls":15},"",{"$nulls":4},"",{"$nulls":4},"",{"$nulls":15},"",{"$nulls":4},"",{"$nulls":4},"",{"$nulls":6},0,{"$f":"SUM($FL$36:$FL72)","v":0},0]
[38,{"$nulls":4},"N/A",{"$nulls":10},"","","",null,"","","",null,"","","",null,"","","",{"$nulls":5},"","","","","","","","",null,0,{"$nulls":3},"","","",null,"","","",null,"","","",null,"","","",{"$nulls":8},"",{"$nulls":4},"",{"$nulls":4},"",{"$nulls":15},"",{"$nulls":4},"",{"$nulls":4},"",{"$nulls":15},"",{"$nulls":4},"",{"$nulls":4},"",{"$nulls":15},"",{"$nulls":4},"",{"$nulls":4},"",{"$nulls":6},0,{"$f":"SUM($FL$36:$FL73)","v":0},0]
[39,{"$nulls":4},"N/A",{"$nulls":10},"","","",null,"","","",null,"","","",null,"","","",{"$nulls":5},"","","","","","","","",null,0,{"$nulls":3},"","","",null,"","","",null,"","","",null,"","","",{"$nulls":8},"",{"$nulls":4},"",{"$nulls":4},"",{"$nulls":15},"",{"$nulls":4},"",{"$nulls":4},"",{"$nulls":15},"",{"$nulls":4},"",{"$nulls":4},"",{"$nulls":15},"",{"$nulls":4},"",{"$nulls":4},"",{"$nulls":6},0,{"$f":"SUM($FL$36:$FL74)","v":0},0]
[40,{"$nulls":4},"N/A",{"$nulls":10},"","","",null,"","","",null,"","","",null,"","","",{"$nulls":5},"","","","","","","","",null,0,{"$nulls":3},"","","",null,"","","",null,"","","",null,"","","",{"$nulls":8},"",{"$nulls":4},"",{"$nulls":4},"",{"$nulls":15},"",{"$nulls":4},"",{"$nulls":4},"",{"$nulls":15},"",{"$nulls":4},"",{"$nulls":4},"",{"$nulls":15},"",{"$nulls":4},"",{"$nulls":4},"",{"$nulls":6},0,{"$f":"SUM($FL$36:$FL75)","v":0},0]
[41,{"$nulls":4},"N/A",{"$nulls":10},"","","",null,"","","",null,"","","",null,"","","",{"$nulls":5},"","","","","","","","",null,0,{"$nulls":3},"","","",null,"","","",null,"","","",null,"","","",{"$nulls":8},"",{"$nulls":4},"",{"$nulls":4},"",{"$nulls":15},"",{"$nulls":4},"",{"$nulls":4},"",{"$nulls":15},"",{"$nulls":4},"",{"$nulls":4},"",{"$nulls":15},"",{"$nulls":4},"",{"$nulls":4},"",{"$nulls":6},0,{"$f":"SUM($FL$36:$FL76)","v":0},0]
[42,{"$nulls":4},"N/A",{"$nulls":10},"","","",null,"","","",null,"","","",null,"","","",{"$nulls":5},"","","","","","","","",null,0,{"$nulls":3},"","","",null,"","","",null,"","","",null,"","","",{"$nulls":8},"",{"$nulls":4},"",{"$nulls":4},"",{"$nulls":15},"",{"$nulls":4},"",{"$nulls":4},"",{"$nulls":15},"",{"$nulls":4},"",{"$nulls":4},"",{"$nulls":15},"",{"$nulls":4},"",{"$nulls":4},"",{"$nulls":6},0,{"$f":"SUM($FL$36:$FL77)","v":0},0]
[43,{"$nulls":4},"N/A",{"$nulls":10},"","","",null,"","","",null,"","","",null,"","","",{"$nulls":5},"","","","","","","","",null,0,{"$nulls":3},"","","",null,"","","",null,"","","",null,"","","",{"$nulls":8},"",{"$nulls":4},"",{"$nulls":4},"",{"$nulls":15},"",{"$nulls":4},"",{"$nulls":4},"",{"$nulls":15},"",{"$nulls":4},"",{"$nulls":4},"",{"$nulls":15},"",{"$nulls":4},"",{"$nulls":4},"",{"$nulls":6},0,{"$f":"SUM($FL$36:$FL78)","v":0},0]
[44,{"$nulls":4},"N/A",{"$nulls":10},"","","",null,"","","",null,"","","",null,"","","",{"$nulls":5},"","","","","","","","",null,0,{"$nulls":3},"","","",null,"","","",null,"","","",null,"","","",{"$nulls":8},"",{"$nulls":4},"",{"$nulls":4},"",{"$nulls":15},"",{"$nulls":4},"",{"$nulls":4},"",{"$nulls":15},"",{"$nulls":4},"",{"$nulls":4},"",{"$nulls":15},"",{"$nulls":4},"",{"$nulls":4},"",{"$nulls":6},0,{"$f":"SUM($FL$36:$FL79)","v":0},0]
[45,{"$nulls":4},"N/A",{"$nulls":10},"","","",null,"","","",null,"","","",null,"","","",{"$nulls":5},"","","","","","","","",null,0,{"$nulls":3},"","","",null,"","","",null,"","","",null,"","","",{"$nulls":8},"",{"$nulls":4},"",{"$nulls":4},"",{"$nulls":15},"",{"$nulls":4},"",{"$nulls":4},"",{"$nulls":15},"",{"$nulls":4},"",{"$nulls":4},"",{"$nulls":15},"",{"$nulls":4},"",{"$nulls":4},"",{"$nulls":6},0,{"$f":"SUM($FL$36:$FL80)","v":0},0]
[46,{"$nulls":4},"N/A",{"$nulls":10},"","","",null,"","","",null,"","","",null,"","","",{"$nulls":5},"","","","","","","","",null,0,{"$nulls":3},"","","",null,"","","",null,"","","",null,"","","",{"$nulls":8},"",{"$nulls":4},"",{"$nulls":4},"",{"$nulls":15},"",{"$nulls":4},"",{"$nulls":4},"",{"$nulls":15},"",{"$nulls":4},"",{"$nulls":4},"",{"$nulls":15},"",{"$nulls":4},"",{"$nulls":4},"",{"$nulls":6},0,{"$f":"SUM($FL$36:$FL81)","v":0},0]
[47,{"$nulls":4},"N/A",{"$nulls":10},"","","",null,"","","",null,"","","",null,"","","",{"$nulls":5},"","","","","","","","",null,0,{"$nulls":3},"","","",null,"","","",null,"","","",null,"","","",{"$nulls":8},"",{"$nulls":4},"",{"$nulls":4},"",{"$nulls":15},"",{"$nulls":4},"",{"$nulls":4},"",{"$nulls":15},"",{"$nulls":4},"",{"$nulls":4},"",{"$nulls":15},"",{"$nulls":4},"",{"$nulls":4},"",{"$nulls":6},0,{"$f":"SUM($FL$36:$FL82)","v":0},0]
[48,{"$nulls":4},"N/A",{"$nulls":10},"","","",null,"","","",null,"","","",null,"","","",{"$nulls":5},"","","","","","","","",null,0,{"$nulls":3},"","","",null,"","","",null,"","","",null,"","","",{"$nulls":8},"",{"$nulls":4},"",{"$nulls":4},"",{"$nulls":15},"",{"$nulls":4},"",{"$nulls":4},"",{"$nulls":15},"",{"$nulls":4},"",{"$nulls":4},"",{"$nulls":15},"",{"$nulls":4},"",{"$nulls":4},"",{"$nulls":6},0,{"$f":"SUM($FL$36:$FL83)","v":0},0]
[49,{"$nulls":4},"N/A",{"$nulls":10},"","","",null,"","","",null,"","","",null,"","","",{"$nulls":5},"","","","","","","","",null,0,{"$nulls":3},"","","",null,"","","",null,"","","",null,"","","",{"$nulls":8},"",{"$nulls":4},"",{"$nulls":4},"",{"$nulls":15},"",{"$nulls":4},"",{"$nulls":4},"",{"$nulls":15},"",{"$nulls":4},"",{"$nulls":4},"",{"$nulls":15},"",{"$nulls":4},"",{"$nulls":4},"",{"$nulls":6},0,{"$f":"SUM($FL$36:$FL84)","v":0},0]
[50,{"$nulls":4},"N/A",{"$nulls":10},"","","",null,"","","",null,"","","",null,"","","",{"$nulls":5},"","","","","","","","",null,0,{"$nulls":3},"","","",null,"","","",null,"","","",null,"",{"$f":"IF($B85=\"Y\",IF(AND($AC85<>\"\",$AQ84<>\"\",$AR84<>\"\"),($AC85+$AQ84)/($AR84+1),\"\"),\"\")","v":""},"",{"$nulls":8},"",{"$nulls":4},"",{"$nulls":4},"",{"$nulls":15},"",{"$nulls":4},"",{"$nulls":4},"",{"$nulls":15},"",{"$nulls":4},"",{"$nulls":4},"",{"$nulls":15},"",{"$nulls":4},"",{"$nulls":4},"",{"$nulls":6},0,{"$f":"SUM($FL$36:$FL85)","v":0},0]
[null,null,{"$f":"SUM(C36:C85)","v":0}]
["g/bhp-hr"]
["g/kW-hr"]

{"sheet":"Engine Family #7","index":9,"n_rows":88,"n_cols":176,"rows_kept":88,"merged":[[1,0,1,35],[2,0,2,35],[3,0,3,35],[4,0,4,35],[5,0,5,35],[6,0,6,35],[8,0,8,16],[10,4,10,6],[10,12,10,13],[11,4,11,6],[11,15,11,16],[11,19,11,20],[11,23,11,24],[11,27,11,28],[12,4,12,6],[13,4,13,6],[14,4,15,6],[17,14,22,14],[27,4,30,13],[27,15,28,16],[32,0,32,16],[32,17,32,33],[32,34,32,35],[33,45,34,45]]}
[]
["United States"]
["US Environmental Protection Agency"]
["Office of Air and Radiation, Office of Transportation and Air Quality"]
[{"$nulls":37},"Tier 2","Y",94]
["Manufacturer Production Line Testing Report for Marine Compression Ignition Engines",{"$nulls":36},"Tier 3","N",1042]
[{"$f":"Summary!B7","v":"Version Number: 1.4 DRAFT  Last Revision: September 2023"},{"$nulls":36},"Tier 4",null,"N/A"]
[]
["Basic Information: Engine Family #7"]
[{"$nulls":167},{"$f":"IF(AND($G$24=94,Summary!$L$13=\"Category 1\"),0,1)","v":1}]
[null,null,"Manufacturer:",null,{"$f":"IF(Summary!D12<>\"\",Summary!D12,\"\")","v":""},{"$nulls":3},"Engine Family:",{"$nulls":31},{"$f":"IF($G$19=\"Diesel\",\"'HC' refers to 'THC' \",IF($G$19=\"Natural Gas\",\"'HC' refers to 'NMHC' \",IF($G$19=\"Alcohol\",\"'HC' refers to 'THCE' \",\"\")))","v":""}]
[null,null,"PLT Test Contact:",null,{"$f":"IF(Summary!D13<>\"\",Summary!D13,\"\")","v":""},{"$nulls":3},"Production (Category 3 only):",{"$nulls":6},{"$f":"IF(N16<>\"Y\", \"Current CO Result\", \"Final CO Result\")","v":"Current CO Result"},null,{"$f":"$CJ$36","v":""},null,{"$f":"IF(N16<>\"Y\", \"Current PM Result\", \"Final PM Result\")","v":"Current PM Result"},null,{"$f":"$DJ$36","v":""},null,{"$f":"IF($AF$12=\"Y\",IF(N16<>\"Y\", \"Current NOx+HC Result\", \"Final NOx+HC Result\"),IF(N16<>\"Y\", \"Current HC Result\", \"Final HC Result\"))","v":"Current HC Result"},null,{"$f":"IF($AF$12=\"Y\",IF($FP$36>0,ROUND($EJ$36+$FJ$36,2),\"\"),$EJ$36)","v":""},null,{"$f":"IF(N16<>\"Y\", \"Current NOx Result\",\"Final NOx Result\")","v":"Current NOx Result"},null,{"$f":"$FJ$36","v":""},null,{"$f":"IF($L$13<>\"Category 3\",IF($G$23=\"\",\"N\",$G$23),\"N\")","v":"N"},{"$f":"IF(Summary!$L$13=\"Category 3\",\"CAT3\",\"\")","v":""}]
[null,null,"Email Address:",null,{"$f":"IF(Summary!D14<>\"\",Summary!D14,\"\")","v":""},{"$nulls":3},"Date of Start of Model Year Production:"]
[null,null,"Phone #:",null,{"$f":"IF(Summary!D15<>\"\",Summary!D15,\"\")","v":""},{"$nulls":3},"Date of End of Model Year Production:",{"$nulls":14},{"$f":"IF($G$19=\"Diesel\",\"'HC' refers to 'THC' \",IF($G$19=\"Natural Gas\",\"'HC' refers to 'NMHC' \",IF($G$19=\"Alcohol\",\"'HC' refers to 'THCE' \",\"\")))","v":""},{"$nulls":13},"Diesel",1,{"$nulls":6},1]
[null,null,"Test Location & Description:",{"$nulls":5},"Deterioration Factor Type:",{"$nulls":28},"Natural Gas",2,{"$nulls":6},2]
[{"$nulls":8},"Include Results from this Engine Family on Summary Sheet?",{"$nulls":6},"CO Standard ",{"$nulls":3},"PM Standard or FEL",{"$nulls":3},{"$f":"IF($AF$12=\"Y\",\"NOx+HC Standard or FEL\",\"HC Standard\")","v":"HC Standard"},{"$nulls":3},"NOx Standard or FEL",{"$nulls":9},"Alcohol",3,{"$nulls":6},3]
[null,null,"Carryover?:",{"$nulls":5},"Required Tests (including failure follow-ups)",{"$nulls":4},{"$f":"$FO36","v":0},null,"Units",null,"g/kW-hr",null,"Units",null,"g/kW-hr",null,"Units",null,"g/kW-hr",null,"Units",null,"g/kW-hr",{"$nulls":4},"Test Cycle Options",{"$nulls":10},4]
[null,null,{"$f":"IF($G$17=\"Y\",\"Please submit supporting documentation indicating that this is a carry-over engine family\",\"\")","v":""},{"$nulls":5},"Instead of testing, are PLT requirements for this Engine Family",{"$nulls":6},"CO  Det Factor",{"$nulls":3},"PM  Det Factor",{"$nulls":3},"HC Det Factor",{"$nulls":3},"NOx  Det Factor",{"$nulls":6},"1 = 4-Mode General Cycle (E3)",null,null,"Recreational"]
[null,null,"Fuel Type:",{"$nulls":5}," fulfilled under the following (Category 1 only)?",{"$nulls":6},"Det Factor Type",null,{"$f":"IF($N$15<>\"\",$N$15,\"\")","v":""},null,"Det Factor Type",null,{"$f":"IF($N$15<>\"\",$N$15,\"\")","v":""},null,"Det Factor Type",null,{"$f":"IF($N$15<>\"\",$N$15,\"\")","v":""},null,"Det Factor Type",null,{"$f":"IF($N$15<>\"\",$N$15,\"\")","v":""},{"$nulls":4},"2 = 5-Mode Recreational Cycle (E5)",null,null,"Commercial"]
[null,null,"Recreational/Commercial:",{"$nulls":5},"Please elaborate in the comments section.",{"$nulls":6},"CO Green Engine Factor",{"$nulls":3},"PM Green Engine Factor",{"$nulls":3},"HC Green Engine Factor",{"$nulls":3},"NOx Green Engine Factor",{"$nulls":6},"3 = 4-Mode Constant Speed Propulsion Cycle (E2)"]
[null,null,"Model Year:",{"$nulls":5},"    -1042.310(a) - EPA approved combining it, for PLT purposes only.",{"$nulls":25},"4 = 5-Mode Constant Speed Auxiliary Cycle (D2)"]
[null,null,"Tier:",{"$nulls":31},"5 = 6-Mode Variable Speed Auxiliary Cycle (G2)",null,null,"1 (E3)"]
[null,null,"Combined NOx+HC?",{"$nulls":31},"6 = 8-Mode Variable Speed Ausiliary Cycle (C1)",null,null,"2 (E5)"]
[null,null,"40 CFR Part:",{"$nulls":3},{"$f":"AN6","v":1042},null,"Additional testing required by EPA [40 CFR 1042.301(e)]? ",{"$nulls":25},"O = Other",null,null,"3 (E2)"]
[{"$nulls":37},"4 (D2)"]
[{"$nulls":37},"5 (G2)",{"$nulls":132},"deleted and redirected"]
[{"$nulls":22}," ",{"$nulls":14},"6 (C1)",4,{"$nulls":6},4]
[null,null,"Comments:",{"$nulls":34},"O (other)"]
[{"$nulls":22}," ",{"$nulls":22},"additive"]
[{"$nulls":45},"multiplicative",{"$nulls":22},"CO Rounding",{"$nulls":4},"CO Rounding",{"$nulls":4},"CO Rounding",{"$nulls":4},"CO Rounding",{"$nulls":10},"PM Rounding",{"$nulls":4},"PM Rounding",{"$nulls":4},"PM Rounding",{"$nulls":4},"PM Rounding",{"$nulls":10},"HC Rounding",{"$nulls":4},"HC Rounding",{"$nulls":4},"HC Rounding",{"$nulls":4},"HC Rounding",{"$nulls":10},"NOx Rounding",{"$nulls":4},"NOx Rounding",{"$nulls":4},"NOx Rounding",{"$nulls":4},"NOx Rounding"]
[{"$nulls":22}," ",{"$nulls":45},"initial",{"$nulls":4},"final",{"$nulls":4}," det final",{"$nulls":4},"ave of all final",{"$nulls":10},"initial",{"$nulls":4},"final",{"$nulls":4}," det final",{"$nulls":4},"ave of all final",{"$nulls":10},"initial",{"$nulls":4},"final",{"$nulls":4}," det final",{"$nulls":4},"ave of all final",{"$nulls":10},"initial",{"$nulls":4},"final",{"$nulls":4}," det final",{"$nulls":4},"ave of all final"]
[{"$nulls":38},"Y",{"$nulls":6},"Y"]
["PLT Engine Test Results: Engine Family #7",{"$nulls":37},"N",{"$nulls":6},"N",{"$nulls":124},"This is N17"]
[{"$nulls":36},"CO",null,"PM",null,null,"HC or HC+NOX",null,"Nox",null,"Engine Data Complete?",{"$nulls":11},"HC","HC","HC","HC","Nox","Nox","Nox","Nox",{"$nulls":107},"1% of production or pre-approved reduced sample size - whichever is Lower # "]
[null,"Calc Final Result?","Test Number","Test Date","Test Time","Test Qtr","Engine ID","Engine Make","Engine Configuration","Build Date","Green Engine Factor Applied?","Green Engine Factor Determination Method","Service Hours (or miles) Accumulation","Service Hours Location","Service Acc. Procedure","CO Initial Result ","Rounded CO Initial Result ","CO Final Result ","Det. CO Final Result ","PM Initial Result ","Rounded PM Initial Result ","PM Final Result ","Det. PM Final Result ","HC Initial Result ","Rounded HC Initial Result ","HC Final Result ","Det. HC Final Result ","NOx Initial Result ","Rounded NOx Initial Result ","NOx Final Result ","Det. NOx Final Result ","Reason for Failed Test (if applicable)","Remedy","Repairs","Test Cycle","Comments",0,0,0,0,0,0,0,0,{"$nulls":5},"Unrounded initial CO","Unrounded final CO","Det CO","Final CO","Unrounded initial PM","Unrounded final PM","Det PM","Final PM","Unrounded initial HCNOx","Unrounded final HCNOx","Det HCNOx","Final HCNOX","Unrounded initial NOx","Unrounded final NOx","Det NOx","Final HCNOX",{"$nulls":7},"rounded",{"$nulls":4},"rounded",{"$nulls":4},"rounded",{"$nulls":4},"rounded",{"$nulls":10},"rounded",{"$nulls":4},"rounded",{"$nulls":4},"rounded",{"$nulls":4},"rounded",{"$nulls":10},"rounded",{"$nulls":4},"rounded",{"$nulls":4},"rounded",{"$nulls":4},"rounded","ROUNDED AND ACCOUNT FOR BLANK",{"$nulls":9},"rounded",{"$nulls":4},"rounded",{"$nulls":4},"rounded",{"$nulls":4},"rounded","ROUNDED AND ACCOUNT FOR BLANK","Test complete Flag","Total complete","Fail Flag","req","val","baseline req","req due to fails","sum fails","baseline req"]
[1,{"$nulls":4},"N/A",{"$nulls":10},{"$f":"$BU36","v":""},{"$f":"$BZ36","v":""},{"$f":"$CE36","v":""},null,{"$f":"$CU36","v":""},{"$f":"$CZ36","v":""},{"$f":"$DE36","v":""},null,{"$f":"$DU36","v":""},{"$f":"$DZ36","v":""},{"$f":"$EE36","v":""},null,{"$f":"$EU36","v":""},{"$f":"$EZ36","v":""},{"$f":"$FE36","v":""},{"$nulls":5},{"$f":"IF($B36=\"N\",IF(AND($AK35<>\"\",$Q36<>\"\"),$AK35+$Q36,\"\"),IF($B36=\"Y\",0,\"\"))","v":""},{"$f":"IF($B36=\"N\",AL35+1,IF($B36=\"Y\",0,\"\"))","v":""},{"$f":"IF($B36=\"N\",IF(AND($AM35<>\"\",$U36<>\"\"),$AM35+$U36,\"\"),IF($B36=\"Y\",0,\"\"))","v":""},{"$f":"IF($B36=\"N\",AN35+1,IF($B36=\"Y\",0,\"\"))","v":""},{"$f":"IF($B36=\"N\",IF(AND($AO35<>\"\",$Y36<>\"\"),$AO35+$Y36,\"\"),IF($B36=\"Y\",0,\"\"))","v":""},{"$f":"IF($B36=\"N\",AP35+1,IF($B36=\"Y\",0,\"\"))","v":""},{"$f":"IF($B36=\"N\",IF(AND($AQ35<>\"\",$AC36<>\"\"),$AQ35+$AC36,\"\"),IF($B36=\"Y\",0,\"\"))","v":""},{"$f":"IF($B36=\"N\",AR35+1,IF($B36=\"Y\",0,\"\"))","v":""},null,{"$f":"IF(AND(B36<>\"\",C36<>\"\",D36<>\"\",E36<>\"\",G36<>\"\",H36<>\"\",I36<>\"\",J36<>\"\",K36<>\"\",M36<>\"\",N36<>\"\",O36<>\"\"),1,0)","v":0},{"$nulls":3},{"$f":"IF(AND($P36<>\"\",$AT36=1),$P36,\"\")","v":""},{"$f":"IF($B36=\"Y\",IF(AND($Q36<>\"\",$AK35<>\"\",$AL35<>\"\"),($Q36+$AK35)/($AL35+1),\"\"),\"\")","v":""},{"$f":"IF(AND($B36=\"Y\",$R36<>\"\",$R$18<>\"\"),IF($R$19=\"additive\",$R36+$R$18,IF($R$19=\"multiplicative\",$R36*$R$18,\"\")),\"\")","v":""},{"$f":"IF(COUNT($S$36:$S$85)>0,AVERAGE($S$36:$S$85),\"\")","v":""},{"$f":"IF(AND($T36<>\"\",$AT36=1),$T36,\"\")","v":""},{"$f":"IF($B36=\"Y\",IF(AND($U36<>\"\",$AM35<>\"\",$AN35<>\"\"),($U36+$AM35)/($AN35+1),\"\"),\"\")","v":""},{"$f":"IF(AND($B36=\"Y\",$V36<>\"\",$V$18<>\"\"),IF($V$19=\"additive\",$V36+$V$18,IF($V$19=\"multiplicative\",$V36*$V$18,\"\")),\"\")","v":""},{"$f":"IF(COUNT($W$36:$W$85)>0,AVERAGE($W$36:$W$85),\"\")","v":""},{"$f":"IF(AND($X36<>\"\",$AT36=1),$X36,\"\")","v":""},{"$f":"IF($B36=\"Y\",IF(AND($Y36<>\"\",$AO35<>\"\",$AP35<>\"\"),($Y36+$AO35)/($AP35+1),\"\"),\"\")","v":""},{"$f":"IF(AND($B36=\"Y\",$Z36<>\"\",$Z$18<>\"\"),IF($Z$19=\"additive\",$Z36+$Z$18,IF($Z$19=\"multiplicative\",$Z36*$Z$18,\"\")),\"\")","v":""},{"$f":"IF(COUNT($AA$36:$AA$85)>0,AVERAGE($AA$36:$AA$85),\"\")","v":""},{"$f":"IF(AND($AB36<>\"\",$AT36=1),$AB36,\"\")","v":""},{"$f":"IF($B36=\"Y\",IF(AND($AC36<>\"\",$AQ35<>\"\",$AR35<>\"\"),($AC36+$AQ35)/($AR35+1),\"\"),\"\")","v":""},{"$f":"IF(AND($B36=\"Y\",$AD36<>\"\",$AD$18<>\"\"),IF($AD$19=\"additive\",$AD36+$AD$18,IF($AD$19=\"multiplicative\",$AD36*$AD$18,\"\")),\"\")","v":""},{"$f":"IF(COUNT($AE$36:$AE$85)>0,AVERAGE($AE$36:$AE$85),\"\")","v":""},{"$nulls":7},{"$f":"IF($AX36<>\"\",ROUND($AX36,2),\"\")","v":""},{"$nulls":4},{"$f":"IF($AY36<>\"\",ROUND($AY36,2),\"\")","v":""},{"$nulls":4},{"$f":"IF($AZ36<>\"\",ROUND($AZ36,2),\"\")","v":""},{"$nulls":4},{"$f":"IF($BA36<>\"\",ROUND($BA36,2),\"\")","v":""},{"$nulls":10},{"$f":"IF($BB36<>\"\",ROUND($BB36,3),\"\")","v":""},{"$nulls":4},{"$f":"IF($BC36<>\"\",ROUND($BC36,3),\"\")","v":""},{"$nulls":4},{"$f":"IF($BD36<>\"\",ROUND($BD36,3),\"\")","v":""},{"$nulls":4},{"$f":"IF($BE36<>\"\",ROUND($BE36,3),\"\")","v":""},{"$nulls":10},{"$f":"IF($BF36<>\"\",ROUND($BF36,3),\"\")","v":""},{"$nulls":4},{"$f":"IF($BG36<>\"\",ROUND($BG36,3),\"\")","v":""},{"$nulls":4},{"$f":"IF($BH36<>\"\",ROUND($BH36,3),\"\")","v":""},{"$nulls":4},{"$f":"IF($BI36<>\"\",ROUND($BI36,3),\"\")","v":""},{"$f":"IF(EJ36=\"\",0,EJ36)","v":0},{"$nulls":9},{"$f":"IF($BJ36<>\"\",ROUND($BJ36,2),\"\")","v":""},{"$nulls":4},{"$f":"IF($BK36<>\"\",ROUND($BK36,2),\"\")","v":""},{"$nulls":4},{"$f":"IF($BL36<>\"\",ROUND($BL36,2),\"\")","v":""},{"$nulls":4},{"$f":"IF($BM36<>\"\",ROUND($BM36,2),\"\")","v":""},{"$f":"IF(FJ36=\"\",0,FJ36)","v":0},{"$f":"IF($AG$12<>\"CAT3\",IF(AND($B36=\"Y\",$S36<>\"\",$W36<>\"\",$AA36<>\"\",$AE36<>\"\"),1,0),IF($AE36<>\"\",1,0))","v":0},{"$f":"SUM($FL$36:$FL36)","v":0},{"$f":"IF($AG$12<>\"CAT3\",IF($FL36=1,IF(OR($S36>$R$16,$W36>$V$16,$AA36>$Z$16,IF($AF$12<>\"Y\",OR($AA36>$Z$16,$AE36>$AD$16),ROUND(($AA36+$AE36),2)>$Z$16)),1,0),0),IF($FL36=1,IF(AND($AE36>$AD$16,$AF$12=\"N\"),1,0),0))","v":0},{"$f":"IF(OR($M$11=\"\",$N$18=\"Y\"),0,IF($AG$12=\"CAT3\",$N$12,($FR$36+1)))","v":0},{"$f":"SUM(FL36:FL85)","v":0},{"$f":"IF(AND($G$17=\"Y\",$N$24<>\"\"),MIN($N$24,$FT$36),$FT$36)","v":0},{"$f":"$FS$36*2","v":0},{"$f":"SUM(FN36:FN85)","v":0},{"$f":"IF($N$12<>\"\",$N$12*0.01,0)","v":0}]
[{"$f":"A36+1","v":2},{"$nulls":4},"N/A",{"$nulls":10},"","","",null,"","","",null,"","","",null,"","","",{"$nulls":5},"",{"$f":"IF($B37=\"N\",AL36+1,IF($B37=\"Y\",0,\"\"))","v":""},"",{"$f":"IF($B37=\"N\",AN36+1,IF($B37=\"Y\",0,\"\"))","v":""},{"$f":"IF($B37=\"N\",IF(AND($AO36<>\"\",$Y37<>\"\"),$AO36+$Y37,\"\"),IF($B37=\"Y\",0,\"\"))","v":""},{"$f":"IF($B37=\"N\",AP36+1,IF($B37=\"Y\",0,\"\"))","v":""},{"$f":"IF($B37=\"N\",IF(AND($AQ36<>\"\",$AC37<>\"\"),$AQ36+$AC37,\"\"),IF($B37=\"Y\",0,\"\"))","v":""},{"$f":"IF($B37=\"N\",AR36+1,IF($B37=\"Y\",0,\"\"))","v":""},null,{"$f":"IF(AND(B37<>\"\",C37<>\"\",D37<>\"\",E37<>\"\",G37<>\"\",H37<>\"\",I37<>\"\",J37<>\"\",K37<>\"\",M37<>\"\",N37<>\"\",O37<>\"\"),1,0)","v":0},{"$nulls":3},"","",{"$f":"IF(AND($B37=\"Y\",$R37<>\"\",$R$18<>\"\"),IF($R$19=\"additive\",$R37+$R$18,IF($R$19=\"multiplicative\",$R37*$R$18,\"\")),\"\")","v":""},null,"","",{"$f":"IF(AND($B37=\"Y\",$V37<>\"\",$V$18<>\"\"),IF($V$19=\"additive\",$V37+$V$18,IF($V$19=\"multiplicative\",$V37*$V$18,\"\")),\"\")","v":""},null,{"$f":"IF(AND($X37<>\"\",$AT37=1),$X37,\"\")","v":""},{"$f":"IF($B37=\"Y\",IF(AND($Y37<>\"\",$AO36<>\"\",$AP36<>\"\"),($Y37+$AO36)/($AP36+1),\"\"),\"\")","v":""},{"$f":"IF(AND($B37=\"Y\",$Z37<>\"\",$Z$18<>\"\"),IF($Z$19=\"additive\",$Z37+$Z$18,IF($Z$19=\"multiplicative\",$Z37*$Z$18,\"\")),\"\")","v":""},null,{"$f":"IF(AND($AB37<>\"\",$AT37=1),$AB37,\"\")","v":""},{"$f":"IF($B37=\"Y\",IF(AND($AC37<>\"\",$AQ36<>\"\",$AR36<>\"\"),($AC37+$AQ36)/($AR36+1),\"\"),\"\")","v":""},{"$f":"IF(AND($B37=\"Y\",$AD37<>\"\",$AD$18<>\"\"),IF($AD$19=\"additive\",$AD37+$AD$18,IF($AD$19=\"multiplicative\",$AD37*$AD$18,\"\")),\"\")","v":""},{"$nulls":8},{"$f":"IF($AX37<>\"\",ROUND($AX37,2),\"\")","v":""},{"$nulls":4},{"$f":"IF($AY37<>\"\",ROUND($AY37,2),\"\")","v":""},{"$nulls":4},{"$f":"IF($AZ37<>\"\",ROUND($AZ37,2),\"\")","v":""},{"$nulls":15},{"$f":"IF($BB37<>\"\",ROUND($BB37,3),\"\")","v":""},{"$nulls":4},{"$f":"IF($BC37<>\"\",ROUND($BC37,3),\"\")","v":""},{"$nulls":4},{"$f":"IF($BD37<>\"\",ROUND($BD37,3),\"\")","v":""},{"$nulls":15},{"$f":"IF($BF37<>\"\",ROUND($BF37,3),\"\")","v":""},{"$nulls":4},{"$f":"IF($BG37<>\"\",ROUND($BG37,3),\"\")","v":""},{"$nulls":4},{"$f":"IF($BH37<>\"\",ROUND($BH37,3),\"\")","v":""},{"$nulls":15},{"$f":"IF($BJ37<>\"\",ROUND($BJ37,2),\"\")","v":""},{"$nulls":4},{"$f":"IF($BK37<>\"\",ROUND($BK37,2),\"\")","v":""},{"$nulls":4},{"$f":"IF($BL37<>\"\",ROUND($BL37,2),\"\")","v":""},{"$nulls":6},{"$f":"IF($AG$12<>\"CAT3\",IF(AND($B37=\"Y\",$S37<>\"\",$W37<>\"\",$AA37<>\"\",$AE37<>\"\"),1,0),IF($AE37<>\"\",1,0))","v":0},{"$f":"SUM($FL$36:$FL37)","v":0},{"$f":"IF($AG$12<>\"CAT3\",IF($FL37=1,IF(OR($S37>$R$16,$W37>$V$16,$AA37>$Z$16,IF($AF$12<>\"Y\",OR($AA37>$Z$16,$AE37>$AD$16),ROUND(($AA37+$AE37),2)>$Z$16)),1,0),0),IF($FL37=1,IF(AND($AE37>$AD$16,$AF$12=\"N\"),1,0),0))","v":0},null,null,{"$f":"MAX($FQ$36,$FL$10)","v":1}]
[{"$f":"A37+1","v":3},{"$nulls":4},"N/A",{"$nulls":10},"","","",null,"","","",null,"","","",null,"","","",{"$nulls":5},"","","","","","","","",null,0,{"$nulls":3},"","","",null,"","","",null,"","","",null,"","","",{"$nulls":8},"",{"$nulls":4},"",{"$nulls":4},"",{"$nulls":15},"",{"$nulls":4},"",{"$nulls":4},"",{"$nulls":15},"",{"$nulls":4},"",{"$nulls":4},"",{"$nulls":15},"",{"$nulls":4},"",{"$nulls":4},"",{"$nulls":6},0,{"$f":"SUM($FL$36:$FL38)","v":0},0]
[4,{"$nulls":4},"N/A",{"$nulls":10},"","","",null,"","","",null,"","","",null,"","","",{"$nulls":5},"","","","","","","","",null,0,{"$nulls":3},"","","",null,"","","",null,"","","",null,"","","",{"$nulls":8},"",{"$nulls":4},"",{"$nulls":4},"",{"$nulls":15},"",{"$nulls":4},"",{"$nulls":4},"",{"$nulls":15},"",{"$nulls":4},"",{"$nulls":4},"",{"$nulls":15},"",{"$nulls":4},"",{"$nulls":4},"",{"$nulls":6},0,{"$f":"SUM($FL$36:$FL39)","v":0},0,null,null,"then, the larger of that sample size or 1  (or if Part 94 and cat1,  can be 0)"]
[5,{"$nulls":4},"N/A",{"$nulls":10},"","","",null,"","","",null,"","","",null,"","","",{"$nulls":5},"","","","","","","","",null,0,{"$nulls":3},"","","",null,"","","",null,"","","",null,"","","",{"$nulls":8},"",{"$nulls":4},"",{"$nulls":4},"",{"$nulls":15},"",{"$nulls":4},"",{"$nulls":4},"",{"$nulls":15},"",{"$nulls":4},"",{"$nulls":4},"",{"$nulls":15},"",{"$nulls":4},"",{"$nulls":4},"",{"$nulls":6},0,{"$f":"SUM($FL$36:$FL40)","v":0},0]
[6,{"$nulls":4},"N/A",{"$nulls":10},"","","",null,"","","",null,"","","",null,"","","",{"$nulls":5},"","","","","","","","",null,0,{"$nulls":3},"","","",null,"","","",null,"","","",null,"","","",{"$nulls":8},"",{"$nulls":4},"",{"$nulls":4},"",{"$nulls":15},"",{"$nulls":4},"",{"$nulls":4},"",{"$nulls":15},"",{"$nulls":4},"",{"$nulls":4},"",{"$nulls":15},"",{"$nulls":4},"",{"$nulls":4},"",{"$nulls":6},0,{"$f":"SUM($FL$36:$FL41)","v":0},0]
[7,{"$nulls":4},"N/A",{"$nulls":10},"","","",null,"","","",null,"","","",null,"","","",{"$nulls":5},"","","","","","","","",null,0,{"$nulls":3},"","","",null,"","","",null,"","","",null,"","","",{"$nulls":8},"",{"$nulls":4},"",{"$nulls":4},"",{"$nulls":15},"",{"$nulls":4},"",{"$nulls":4},"",{"$nulls":15},"",{"$nulls":4},"",{"$nulls":4},"",{"$nulls":15},"",{"$nulls":4},"",{"$nulls":4},"",{"$nulls":6},0,{"$f":"SUM($FL$36:$FL42)","v":0},0]
[8,{"$nulls":4},"N/A",{"$nulls":10},"","","",null,"","","",null,"","","",null,"","","",{"$nulls":5},"","","","","","","","",null,0,{"$nulls":3},"","","",null,"","","",null,"","","",null,"","","",{"$nulls":8},"",{"$nulls":4},"",{"$nulls":4},"",{"$nulls":15},"",{"$nulls":4},"",{"$nulls":4},"",{"$nulls":15},"",{"$nulls":4},"",{"$nulls":4},"",{"$nulls":15},"",{"$nulls":4},"",{"$nulls":4},"",{"$nulls":6},0,{"$f":"SUM($FL$36:$FL43)","v":0},0]
[9,{"$nulls":4},"N/A",{"$nulls":10},"","","",null,"","","",null,"","","",null,"","","",{"$nulls":5},"","","","","","","","",null,0,{"$nulls":3},"","","",null,"","","",null,"","","",null,"","","",{"$nulls":8},"",{"$nulls":4},"",{"$nulls":4},"",{"$nulls":15},"",{"$nulls":4},"",{"$nulls":4},"",{"$nulls":15},"",{"$nulls":4},"",{"$nulls":4},"",{"$nulls":15},"",{"$nulls":4},"",{"$nulls":4},"",{"$nulls":6},0,{"$f":"SUM($FL$36:$FL44)","v":0},0]
[10,{"$nulls":4},"N/A",{"$nulls":10},"","","",null,"","","",null,"","","",null,"","","",{"$nulls":5},"","","","","","","","",null,0,{"$nulls":3},"","","",null,"","","",null,"","","",null,"","","",{"$nulls":8},"",{"$nulls":4},"",{"$nulls":4},"",{"$nulls":15},"",{"$nulls":4},"",{"$nulls":4},"",{"$nulls":15},"",{"$nulls":4},"",{"$nulls":4},"",{"$nulls":15},"",{"$nulls":4},"",{"$nulls":4},"",{"$nulls":6},0,{"$f":"SUM($FL$36:$FL45)","v":0},0]
[11,{"$nulls":4},"N/A",{"$nulls":10},"","","",null,"","","",null,"","","",null,"","","",{"$nulls":5},"","","","","","","","",null,0,{"$nulls":3},"","","",null,"","","",null,"","","",null,"","","",{"$nulls":8},"",{"$nulls":4},"",{"$nulls":4},"",{"$nulls":15},"",{"$nulls":4},"",{"$nulls":4},"",{"$nulls":15},"",{"$nulls":4},"",{"$nulls":4},"",{"$nulls":15},"",{"$nulls":4},"",{"$nulls":4},"",{"$nulls":6},0,{"$f":"SUM($FL$36:$FL46)","v":0},0]
[12,{"$nulls":4},"N/A",{"$nulls":10},"","","",null,"","","",null,"","","",null,"","","",{"$nulls":5},"","","","","","","","",null,0,{"$nulls":3},"","","",null,"","","",null,"","","",null,"","","",{"$nulls":8},"",{"$nulls":4},"",{"$nulls":4},"",{"$nulls":15},"",{"$nulls":4},"",{"$nulls":4},"",{"$nulls":15},"",{"$nulls":4},"",{"$nulls":4},"",{"$nulls":15},"",{"$nulls":4},"",{"$nulls":4},"",{"$nulls":6},0,{"$f":"SUM($FL$36:$FL47)","v":0},0]
[13,{"$nulls":4},"N/A",{"$nulls":10},"","","",null,"","","",null,"","","",null,"","","",{"$nulls":5},"","","","","","","","",null,0,{"$nulls":3},"","","",null,"","","",null,"","","",null,"","","",{"$nulls":8},"",{"$nulls":4},"",{"$nulls":4},"",{"$nulls":15},"",{"$nulls":4},"",{"$nulls":4},"",{"$nulls":15},"",{"$nulls":4},"",{"$nulls":4},"",{"$nulls":15},"",{"$nulls":4},"",{"$nulls":4},"",{"$nulls":6},0,{"$f":"SUM($FL$36:$FL48)","v":0},0]
[14,{"$nulls":4},"N/A",{"$nulls":10},"","","",null,"","","",null,"","","",null,"","","",{"$nulls":5},"","","","","","","","",null,0,{"$nulls":3},"","","",null,"","","",null,"","","",null,"","","",{"$nulls":8},"",{"$nulls":4},"",{"$nulls":4},"",{"$nulls":15},"",{"$nulls":4},"",{"$nulls":4},"",{"$nulls":15},"",{"$nulls":4},"",{"$nulls":4},"",{"$nulls":15},"",{"$nulls":4},"",{"$nulls":4},"",{"$nulls":6},0,{"$f":"SUM($FL$36:$FL49)","v":0},0]
[15,{"$nulls":4},"N/A",{"$nulls":10},"","","",null,"","","",null,"","","",null,"","","",{"$nulls":5},"","","","","","","","",null,0,{"$nulls":3},"","","",null,"","","",null,"","","",null,"","","",{"$nulls":8},"",{"$nulls":4},"",{"$nulls":4},"",{"$nulls":15},"",{"$nulls":4},"",{"$nulls":4},"",{"$nulls":15},"",{"$nulls":4},"",{"$nulls":4},"",{"$nulls":15},"",{"$nulls":4},"",{"$nulls":4},"",{"$nulls":6},0,{"$f":"SUM($FL$36:$FL50)","v":0},0]
[16,{"$nulls":4},"N/A",{"$nulls":10},"","","",null,"","","",null,"","","",null,"","","",{"$nulls":5},"","","","","","","","",null,0,{"$nulls":3},"","","",null,"","","",null,"","","",null,"","","",{"$nulls":8},"",{"$nulls":4},"",{"$nulls":4},"",{"$nulls":15},"",{"$nulls":4},"",{"$nulls":4},"",{"$nulls":15},"",{"$nulls":4},"",{"$nulls":4},"",{"$nulls":15},"",{"$nulls":4},"",{"$nulls":4},"",{"$nulls":6},0,{"$f":"SUM($FL$36:$FL51)","v":0},0]
[17,{"$nulls":4},"N/A",{"$nulls":10},"","","",null,"","","",null,"","","",null,"","","",{"$nulls":5},"","","","","","","","",null,0,{"$nulls":3},"","","",null,"","","",null,"","","",null,"","","",{"$nulls":8},"",{"$nulls":4},"",{"$nulls":4},"",{"$nulls":15},"",{"$nulls":4},"",{"$nulls":4},"",{"$nulls":15},"",{"$nulls":4},"",{"$nulls":4},"",{"$nulls":15},"",{"$nulls":4},"",{"$nulls":4},"",{"$nulls":6},0,{"$f":"SUM($FL$36:$FL52)","v":0},0]
[18,{"$nulls":4},"N/A",{"$nulls":10},"","","",null,"","","",null,"","","",null,"","","",{"$nulls":5},"","","","","","","","",null,0,{"$nulls":3},"","","",null,"","","",null,"","","",null,"","","",{"$nulls":8},"",{"$nulls":4},"",{"$nulls":4},"",{"$nulls":15},"",{"$nulls":4},"",{"$nulls":4},"",{"$nulls":15},"",{"$nulls":4},"",{"$nulls":4},"",{"$nulls":15},"",{"$nulls":4},"",{"$nulls":4},"",{"$nulls":6},0,{"$f":"SUM($FL$36:$FL53)","v":0},0]
[19,{"$nulls":4},"N/A",{"$nulls":10},"","","",null,"","","",null,"","","",null,"","","",{"$nulls":5},"","","","","","","","",null,0,{"$nulls":3},"","","",null,"","","",null,"","","",null,"","","",{"$nulls":8},"",{"$nulls":4},"",{"$nulls":4},"",{"$nulls":15},"",{"$nulls":4},"",{"$nulls":4},"",{"$nulls":15},"",{"$nulls":4},"",{"$nulls":4},"",{"$nulls":15},"",{"$nulls":4},"",{"$nulls":4},"",{"$nulls":6},0,{"$f":"SUM($FL$36:$FL54)","v":0},0]
[20,{"$nulls":4},"N/A",{"$nulls":10},"","","",null,"","","",null,"","","",null,"","","",{"$nulls":5},"","","","","","","","",null,0,{"$nulls":3},"","","",null,"","","",null,"","","",null,"","","",{"$nulls":8},"",{"$nulls":4},"",{"$nulls":4},"",{"$nulls":15},"",{"$nulls":4},"",{"$nulls":4},"",{"$nulls":15},"",{"$nulls":4},"",{"$nulls":4},"",{"$nulls":15},"",{"$nulls":4},"",{"$nulls":4},"",{"$nulls":6},0,{"$f":"SUM($FL$36:$FL55)","v":0},0]
[21,{"$nulls":4},"N/A",{"$nulls":10},"","","",null,"","","",null,"","","",null,"","","",{"$nulls":5},"","","","","","","","",null,0,{"$nulls":3},"","","",null,"","","",null,"","","",null,"","","",{"$nulls":8},"",{"$nulls":4},"",{"$nulls":4},"",{"$nulls":15},"",{"$nulls":4},"",{"$nulls":4},"",{"$nulls":15},"",{"$nulls":4},"",{"$nulls":4},"",{"$nulls":15},"",{"$nulls":4},"",{"$nulls":4},"",{"$nulls":6},0,{"$f":"SUM($FL$36:$FL56)","v":0},0]
[22,{"$nulls":4},"N/A",{"$nulls":10},"","","",null,"","","",null,"","","",null,"","","",{"$nulls":5},"","","","","","","","",null,0,{"$nulls":3},"","","",null,"","","",null,"","","",null,"","","",{"$nulls":8},"",{"$nulls":4},"",{"$nulls":4},"",{"$nulls":15},"",{"$nulls":4},"",{"$nulls":4},"",{"$nulls":15},"",{"$nulls":4},"",{"$nulls":4},"",{"$nulls":15},"",{"$nulls":4},"",{"$nulls":4},"",{"$nulls":6},0,{"$f":"SUM($FL$36:$FL57)","v":0},0]
[23,{"$nulls":4},"N/A",{"$nulls":10},"","","",null,"","","",null,"","","",null,"","","",{"$nulls":5},"","","","","","","","",null,0,{"$nulls":3},"","","",null,"","","",null,"","","",null,"","","",{"$nulls":8},"",{"$nulls":4},"",{"$nulls":4},"",{"$nulls":15},"",{"$nulls":4},"",{"$nulls":4},"",{"$nulls":15},"",{"$nulls":4},"",{"$nulls":4},"",{"$nulls":15},"",{"$nulls":4},"",{"$nulls":4},"",{"$nulls":6},0,{"$f":"SUM($FL$36:$FL58)","v":0},0]
[24,{"$nulls":4},"N/A",{"$nulls":10},"","","",null,"","","",null,"","","",null,"","","",{"$nulls":5},"","","","","","","","",null,0,{"$nulls":3},"","","",null,"","","",null,"","","",null,"","","",{"$nulls":8},"",{"$nulls":4},"",{"$nulls":4},"",{"$nulls":15},"",{"$nulls":4},"",{"$nulls":4},"",{"$nulls":15},"",{"$nulls":4},"",{"$nulls":4},"",{"$nulls":15},"",{"$nulls":4},"",{"$nulls":4},"",{"$nulls":6},0,{"$f":"SUM($FL$36:$FL59)","v":0},0]
[25,{"$nulls":4},"N/A",{"$nulls":10},"","","",null,"","","",null,"","","",null,"","","",{"$nulls":5},"","","","","","","","",null,0,{"$nulls":3},"","","",null,"","","",null,"","","",null,"","","",{"$nulls":8},"",{"$nulls":4},"",{"$nulls":4},"",{"$nulls":15},"",{"$nulls":4},"",{"$nulls":4},"",{"$nulls":15},"",{"$nulls":4},"",{"$nulls":4},"",{"$nulls":15},"",{"$nulls":4},"",{"$nulls":4},"",{"$nulls":6},0,{"$f":"SUM($FL$36:$FL60)","v":0},0]
[26,{"$nulls":4},"N/A",{"$nulls":10},"","","",null,"","","",null,"","","",null,"","","",{"$nulls":5},"","","","","","","","",null,0,{"$nulls":3},"","","",null,"","","",null,"","","",null,"","","",{"$nulls":8},"",{"$nulls":4},"",{"$nulls":4},"",{"$nulls":15},"",{"$nulls":4},"",{"$nulls":4},"",{"$nulls":15},"",{"$nulls":4},"",{"$nulls":4},"",{"$nulls":15},"",{"$nulls":4},"",{"$nulls":4},"",{"$nulls":6},0,{"$f":"SUM($FL$36:$FL61)","v":0},0]
[27,{"$nulls":4},"N/A",{"$nulls":10},"","","",null,"","","",null,"","","",null,"","","",{"$nulls":5},"","","","","","","","",null,0,{"$nulls":3},"","","",null,"","","",null,"","","",null,"","","",{"$nulls":8},"",{"$nulls":4},"",{"$nulls":4},"",{"$nulls":15},"",{"$nulls":4},"",{"$nulls":4},"",{"$nulls":15},"",{"$nulls":4},"",{"$nulls":4},"",{"$nulls":15},"",{"$nulls":4},"",{"$nulls":4},"",{"$nulls":6},0,{"$f":"SUM($FL$36:$FL62)","v":0},0]
[28,{"$nulls":4},"N/A",{"$nulls":10},"","","",null,"","","",null,"","","",null,"","","",{"$nulls":5},"","","","","","","","",null,0,{"$nulls":3},"","","",null,"","","",null,"","","",null,"","","",{"$nulls":8},"",{"$nulls":4},"",{"$nulls":4},"",{"$nulls":15},"",{"$nulls":4},"",{"$nulls":4},"",{"$nulls":15},"",{"$nulls":4},"",{"$nulls":4},"",{"$nulls":15},"",{"$nulls":4},"",{"$nulls":4},"",{"$nulls":6},0,{"$f":"SUM($FL$36:$FL63)","v":0},0]
[29,{"$nulls":4},"N/A",{"$nulls":10},"","","",null,"","","",null,"","","",null,"","","",{"$nulls":5},"","","","","","","","",null,0,{"$nulls":3},"","","",null,"","","",null,"","","",null,"","","",{"$nulls":8},"",{"$nulls":4},"",{"$nulls":4},"",{"$nulls":15},"",{"$nulls":4},"",{"$nulls":4},"",{"$nulls":15},"",{"$nulls":4},"",{"$nulls":4},"",{"$nulls":15},"",{"$nulls":4},"",{"$nulls":4},"",{"$nulls":6},0,{"$f":"SUM($FL$36:$FL64)","v":0},0]
[30,{"$nulls":4},"N/A",{"$nulls":10},"","","",null,"","","",null,"","","",null,"","","",{"$nulls":5},"","","","","","","","",null,0,{"$nulls":3},"","","",null,"","","",null,"","","",null,"","","",{"$nulls":8},"",{"$nulls":4},"",{"$nulls":4},"",{"$nulls":15},"",{"$nulls":4},"",{"$nulls":4},"",{"$nulls":15},"",{"$nulls":4},"",{"$nulls":4},"",{"$nulls":15},"",{"$nulls":4},"",{"$nulls":4},"",{"$nulls":6},0,{"$f":"SUM($FL$36:$FL65)","v":0},0]
[31,{"$nulls":4},"N/A",{"$nulls":10},"","","",null,"","","",null,"","","",null,"","","",{"$nulls":5},"","","","","","","","",null,0,{"$nulls":3},"","","",null,"","","",null,"","","",null,"","","",{"$nulls":8},"",{"$nulls":4},"",{"$nulls":4},"",{"$nulls":15},"",{"$nulls":4},"",{"$nulls":4},"",{"$nulls":15},"",{"$nulls":4},"",{"$nulls":4},"",{"$nulls":15},"",{"$nulls":4},"",{"$nulls":4},"",{"$nulls":6},0,{"$f":"SUM($FL$36:$FL66)","v":0},0]
[32,{"$nulls":4},"N/A",{"$nulls":10},"","","",null,"","","",null,"","","",null,"","","",{"$nulls":5},"","","","","","","","",null,0,{"$nulls":3},"","","",null,"","","",null,"","","",null,"","","",{"$nulls":8},"",{"$nulls":4},"",{"$nulls":4},"",{"$nulls":15},"",{"$nulls":4},"",{"$nulls":4},"",{"$nulls":15},"",{"$nulls":4},"",{"$nulls":4},"",{"$nulls":15},"",{"$nulls":4},"",{"$nulls":4},"",{"$nulls":6},0,{"$f":"SUM($FL$36:$FL67)","v":0},0]
[33,{"$nulls":4},"N/A",{"$nulls":10},"","","",null,"","","",null,"","","",null,"","","",{"$nulls":5},"","","","","","","","",null,0,{"$nulls":3},"","","",null,"","","",null,"","","",null,"","","",{"$nulls":8},"",{"$nulls":4},"",{"$nulls":4},"",{"$nulls":15},"",{"$nulls":4},"",{"$nulls":4},"",{"$nulls":15},"",{"$nulls":4},"",{"$nulls":4},"",{"$nulls":15},"",{"$nulls":4},"",{"$nulls":4},"",{"$nulls":6},0,{"$f":"SUM($FL$36:$FL68)","v":0},0]
[34,{"$nulls":4},"N/A",{"$nulls":10},"","","",null,"","","",null,"","","",null,"","","",{"$nulls":5},"","","","","","","","",null,0,{"$nulls":3},"","","",null,"","","",null,"","","",null,"","","",{"$nulls":8},"",{"$nulls":4},"",{"$nulls":4},"",{"$nulls":15},"",{"$nulls":4},"",{"$nulls":4},"",{"$nulls":15},"",{"$nulls":4},"",{"$nulls":4},"",{"$nulls":15},"",{"$nulls":4},"",{"$nulls":4},"",{"$nulls":6},0,{"$f":"SUM($FL$36:$FL69)","v":0},0]
[35,{"$nulls":4},"N/A",{"$nulls":10},"","","",null,"","","",null,"","","",null,"","","",{"$nulls":5},"","","","","","","","",null,0,{"$nulls":3},"","","",null,"","","",null,"","","",null,"","","",{"$nulls":8},"",{"$nulls":4},"",{"$nulls":4},"",{"$nulls":15},"",{"$nulls":4},"",{"$nulls":4},"",{"$nulls":15},"",{"$nulls":4},"",{"$nulls":4},"",{"$nulls":15},"",{"$nulls":4},"",{"$nulls":4},"",{"$nulls":6},0,{"$f":"SUM($FL$36:$FL70)","v":0},0]
[36,{"$nulls":4},"N/A",{"$nulls":10},"","","",null,"","","",null,"","","",null,"","","",{"$nulls":5},"","","","","","","","",null,0,{"$nulls":3},"","","",null,"","","",null,"","","",null,"","","",{"$nulls":8},"",{"$nulls":4},"",{"$nulls":4},"",{"$nulls":15},"",{"$nulls":4},"",{"$nulls":4},"",{"$nulls":15},"",{"$nulls":4},"",{"$nulls":4},"",{"$nulls":15},"",{"$nulls":4},"",{"$nulls":4},"",{"$nulls":6},0,{"$f":"SUM($FL$36:$FL71)","v":0},0]
[37,{"$nulls":4},"N/A",{"$nulls":10},"","","",null,"","","",null,"","","",null,"","","",{"$nulls":5},"","","","","","","","",null,0,{"$nulls":3},"","","",null,"","","",null,"","","",null,"","","",{"$nulls":8},"",{"$nulls":4},"",{"$nulls":4},"",{"$nulls":15},"",{"$nulls":4},"",{"$nulls":4},"",{"$nulls":15},"",{"$nulls":4},"",{"$nulls":4},"",{"$nulls":15},"",{"$nulls":4},"",{"$nulls":4},"",{"$nulls":6},0,{"$f":"SUM($FL$36:$FL72)","v":0},0]
[38,{"$nulls":4},"N/A",{"$nulls":10},"","","",null,"","","",null,"","","",null,"","","",{"$nulls":5},"","","","","","","","",null,0,{"$nulls":3},"","","",null,"","","",null,"","","",null,"","","",{"$nulls":8},"",{"$nulls":4},"",{"$nulls":4},"",{"$nulls":15},"",{"$nulls":4},"",{"$nulls":4},"",{"$nulls":15},"",{"$nulls":4},"",{"$nulls":4},"",{"$nulls":15},"",{"$nulls":4},"",{"$nulls":4},"",{"$nulls":6},0,{"$f":"SUM($FL$36:$FL73)","v":0},0]
[39,{"$nulls":4},"N/A",{"$nulls":10},"","","",null,"","","",null,"","","",null,"","","",{"$nulls":5},"","","","","","","","",null,0,{"$nulls":3},"","","",null,"","","",null,"","","",null,"","","",{"$nulls":8},"",{"$nulls":4},"",{"$nulls":4},"",{"$nulls":15},"",{"$nulls":4},"",{"$nulls":4},"",{"$nulls":15},"",{"$nulls":4},"",{"$nulls":4},"",{"$nulls":15},"",{"$nulls":4},"",{"$nulls":4},"",{"$nulls":6},0,{"$f":"SUM($FL$36:$FL74)","v":0},0]
[40,{"$nulls":4},"N/A",{"$nulls":10},"","","",null,"","","",null,"","","",null,"","","",{"$nulls":5},"","","","","","","","",null,0,{"$nulls":3},"","","",null,"","","",null,"","","",null,"","","",{"$nulls":8},"",{"$nulls":4},"",{"$nulls":4},"",{"$nulls":15},"",{"$nulls":4},"",{"$nulls":4},"",{"$nulls":15},"",{"$nulls":4},"",{"$nulls":4},"",{"$nulls":15},"",{"$nulls":4},"",{"$nulls":4},"",{"$nulls":6},0,{"$f":"SUM($FL$36:$FL75)","v":0},0]
[41,{"$nulls":4},"N/A",{"$nulls":10},"","","",null,"","","",null,"","","",null,"","","",{"$nulls":5},"","","","","","","","",null,0,{"$nulls":3},"","","",null,"","","",null,"","","",null,"","","",{"$nulls":8},"",{"$nulls":4},"",{"$nulls":4},"",{"$nulls":15},"",{"$nulls":4},"",{"$nulls":4},"",{"$nulls":15},"",{"$nulls":4},"",{"$nulls":4},"",{"$nulls":15},"",{"$nulls":4},"",{"$nulls":4},"",{"$nulls":6},0,{"$f":"SUM($FL$36:$FL76)","v":0},0]
[42,{"$nulls":4},"N/A",{"$nulls":10},"","","",null,"","","",null,"","","",null,"","","",{"$nulls":5},"","","","","","","","",null,0,{"$nulls":3},"","","",null,"","","",null,"","","",null,"","","",{"$nulls":8},"",{"$nulls":4},"",{"$nulls":4},"",{"$nulls":15},"",{"$nulls":4},"",{"$nulls":4},"",{"$nulls":15},"",{"$nulls":4},"",{"$nulls":4},"",{"$nulls":15},"",{"$nulls":4},"",{"$nulls":4},"",{"$nulls":6},0,{"$f":"SUM($FL$36:$FL77)","v":0},0]
[43,{"$nulls":4},"N/A",{"$nulls":10},"","","",null,"","","",null,"","","",null,"","","",{"$nulls":5},"","","","","","","","",null,0,{"$nulls":3},"","","",null,"","","",null,"","","",null,"","","",{"$nulls":8},"",{"$nulls":4},"",{"$nulls":4},"",{"$nulls":15},"",{"$nulls":4},"",{"$nulls":4},"",{"$nulls":15},"",{"$nulls":4},"",{"$nulls":4},"",{"$nulls":15},"",{"$nulls":4},"",{"$nulls":4},"",{"$nulls":6},0,{"$f":"SUM($FL$36:$FL78)","v":0},0]
[44,{"$nulls":4},"N/A",{"$nulls":10},"","","",null,"","","",null,"","","",null,"","","",{"$nulls":5},"","","","","","","","",null,0,{"$nulls":3},"","","",null,"","","",null,"","","",null,"","","",{"$nulls":8},"",{"$nulls":4},"",{"$nulls":4},"",{"$nulls":15},"",{"$nulls":4},"",{"$nulls":4},"",{"$nulls":15},"",{"$nulls":4},"",{"$nulls":4},"",{"$nulls":15},"",{"$nulls":4},"",{"$nulls":4},"",{"$nulls":6},0,{"$f":"SUM($FL$36:$FL79)","v":0},0]
[45,{"$nulls":4},"N/A",{"$nulls":10},"","","",null,"","","",null,"","","",null,"","","",{"$nulls":5},"","","","","","","","",null,0,{"$nulls":3},"","","",null,"","","",null,"","","",null,"","","",{"$nulls":8},"",{"$nulls":4},"",{"$nulls":4},"",{"$nulls":15},"",{"$nulls":4},"",{"$nulls":4},"",{"$nulls":15},"",{"$nulls":4},"",{"$nulls":4},"",{"$nulls":15},"",{"$nulls":4},"",{"$nulls":4},"",{"$nulls":6},0,{"$f":"SUM($FL$36:$FL80)","v":0},0]
[46,{"$nulls":4},"N/A",{"$nulls":10},"","","",null,"","","",null,"","","",null,"","","",{"$nulls":5},"","","","","","","","",null,0,{"$nulls":3},"","","",null,"","","",null,"","","",null,"","","",{"$nulls":8},"",{"$nulls":4},"",{"$nulls":4},"",{"$nulls":15},"",{"$nulls":4},"",{"$nulls":4},"",{"$nulls":15},"",{"$nulls":4},"",{"$nulls":4},"",{"$nulls":15},"",{"$nulls":4},"",{"$nulls":4},"",{"$nulls":6},0,{"$f":"SUM($FL$36:$FL81)","v":0},0]
[47,{"$nulls":4},"N/A",{"$nulls":10},"","","",null,"","","",null,"","","",null,"","","",{"$nulls":5},"","","","","","","","",null,0,{"$nulls":3},"","","",null,"","","",null,"","","",null,"","","",{"$nulls":8},"",{"$nulls":4},"",{"$nulls":4},"",{"$nulls":15},"",{"$nulls":4},"",{"$nulls":4},"",{"$nulls":15},"",{"$nulls":4},"",{"$nulls":4},"",{"$nulls":15},"",{"$nulls":4},"",{"$nulls":4},"",{"$nulls":6},0,{"$f":"SUM($FL$36:$FL82)","v":0},0]
[48,{"$nulls":4},"N/A",{"$nulls":10},"","","",null,"","","",null,"","","",null,"","","",{"$nulls":5},"","","","","","","","",null,0,{"$nulls":3},"","","",null,"","","",null,"","","",null,"","","",{"$nulls":8},"",{"$nulls":4},"",{"$nulls":4},"",{"$nulls":15},"",{"$nulls":4},"",{"$nulls":4},"",{"$nulls":15},"",{"$nulls":4},"",{"$nulls":4},"",{"$nulls":15},"",{"$nulls":4},"",{"$nulls":4},"",{"$nulls":6},0,{"$f":"SUM($FL$36:$FL83)","v":0},0]
[49,{"$nulls":4},"N/A",{"$nulls":10},"","","",null,"","","",null,"","","",null,"","","",{"$nulls":5},"","","","","","","","",null,0,{"$nulls":3},"","","",null,"","","",null,"","","",null,"","","",{"$nulls":8},"",{"$nulls":4},"",{"$nulls":4},"",{"$nulls":15},"",{"$nulls":4},"",{"$nulls":4},"",{"$nulls":15},"",{"$nulls":4},"",{"$nulls":4},"",{"$nulls":15},"",{"$nulls":4},"",{"$nulls":4},"",{"$nulls":6},0,{"$f":"SUM($FL$36:$FL84)","v":0},0]
[50,{"$nulls":4},"N/A",{"$nulls":10},"","","",null,"","","",null,"","","",null,"","","",{"$nulls":5},"","","","","","","","",null,0,{"$nulls":3},"","","",null,"","","",null,"","","",null,"",{"$f":"IF($B85=\"Y\",IF(AND($AC85<>\"\",$AQ84<>\"\",$AR84<>\"\"),($AC85+$AQ84)/($AR84+1),\"\"),\"\")","v":""},"",{"$nulls":8},"",{"$nulls":4},"",{"$nulls":4},"",{"$nulls":15},"",{"$nulls":4},"",{"$nulls":4},"",{"$nulls":15},"",{"$nulls":4},"",{"$nulls":4},"",{"$nulls":15},"",{"$nulls":4},"",{"$nulls":4},"",{"$nulls":6},0,{"$f":"SUM($FL$36:$FL85)","v":0},0]
[null,null,{"$f":"SUM(C36:C85)","v":0}]
["g/bhp-hr"]
["g/kW-hr"]

{"sheet":"Engine Family #8","index":10,"n_rows":88,"n_cols":176,"rows_kept":88,"merged":[[1,0,1,35],[2,0,2,35],[3,0,3,35],[4,0,4,35],[5,0,5,35],[6,0,6,35],[8,0,8,16],[10,4,10,6],[10,12,10,13],[11,4,11,6],[11,15,11,16],[11,19,11,20],[11,23,11,24],[11,27,11,28],[12,4,12,6],[13,4,13,6],[14,4,15,6],[17,14,22,14],[27,4,30,13],[27,15,28,16],[32,0,32,16],[32,17,32,33],[32,34,32,35],[33,45,34,45]]}
[]
["United States"]
["US Environmental Protection Agency"]
["Office of Air and Radiation, Office of Transportation and Air Quality"]
[{"$nulls":37},"Tier 2","Y",94]
["Manufacturer Production Line Testing Report for Marine Compression Ignition Engines",{"$nulls":36},"Tier 3","N",1042]
[{"$f":"Summary!B7","v":"Version Number: 1.4 DRAFT  Last Revision: September 2023"},{"$nulls":36},"Tier 4",null,"N/A"]
[]
["Basic Information: Engine Family #8"]
[{"$nulls":167},{"$f":"IF(AND($G$24=94,Summary!$L$13=\"Category 1\"),0,1)","v":1}]
[null,null,"Manufacturer:",null,{"$f":"IF(Summary!D12<>\"\",Summary!D12,\"\")","v":""},{"$nulls":35},{"$f":"IF($G$19=\"Diesel\",\"'HC' refers to 'THC' \",IF($G$19=\"Natural Gas\",\"'HC' refers to 'NMHC' \",IF($G$19=\"Alcohol\",\"'HC' refers to 'THCE' \",\"\")))","v":""}]
[null,null,"PLT Test Contact:",null,{"$f":"IF(Summary!D13<>\"\",Summary!D13,\"\")","v":""},{"$nulls":3},"Production (Category 3 only):",{"$nulls":6},{"$f":"IF(N16<>\"Y\", \"Current CO Result\", \"Final CO Result\")","v":"Current CO Result"},null,{"$f":"$CJ$36","v":""},null,{"$f":"IF(N16<>\"Y\", \"Current PM Result\", \"Final PM Result\")","v":"Current PM Result"},null,{"$f":"$DJ$36","v":""},null,{"$f":"IF($AF$12=\"Y\",IF(N16<>\"Y\", \"Current NOx+HC Result\", \"Final NOx+HC Result\"),IF(N16<>\"Y\", \"Current HC Result\", \"Final HC Result\"))","v":"Current HC Result"},null,{"$f":"IF($AF$12=\"Y\",IF($FP$36>0,ROUND($EJ$36+$FJ$36,2),\"\"),$EJ$36)","v":""},null,{"$f":"IF(N16<>\"Y\", \"Current NOx Result\",\"Final NOx Result\")","v":"Current NOx Result"},null,{"$f":"$FJ$36","v":""},null,{"$f":"IF($L$13<>\"Category 3\",IF($G$23=\"\",\"N\",$G$23),\"N\")","v":"N"},{"$f":"IF(Summary!$L$13=\"Category 3\",\"CAT3\",\"\")","v":""}]
[null,null,"Email Address:",null,{"$f":"IF(Summary!D14<>\"\",Summary!D14,\"\")","v":""},{"$nulls":3},"Date of Start of Model Year Production:"]
[null,null,"Phone #:",null,{"$f":"IF(Summary!D15<>\"\",Summary!D15,\"\")","v":""},{"$nulls":3},"Date of End of Model Year Production:",{"$nulls":14},{"$f":"IF($G$19=\"Diesel\",\"'HC' refers to 'THC' \",IF($G$19=\"Natural Gas\",\"'HC' refers to 'NMHC' \",IF($G$19=\"Alcohol\",\"'HC' refers to 'THCE' \",\"\")))","v":""},{"$nulls":13},"Diesel",1,{"$nulls":6},1]
[null,null,"Test Location & Description:",{"$nulls":5},"Deterioration Factor Type:",{"$nulls":28},"Natural Gas",2,{"$nulls":6},2]
[{"$nulls":8},"Include Results from this Engine Family on Summary Sheet?",{"$nulls":6},"CO Standard ",{"$nulls":3},"PM Standard or FEL",{"$nulls":3},{"$f":"IF($AF$12=\"Y\",\"NOx+HC Standard or FEL\",\"HC Standard\")","v":"HC Standard"},{"$nulls":3},"NOx Standard or FEL",{"$nulls":9},"Alcohol",3,{"$nulls":6},3]
[null,null,"Carryover?:",{"$nulls":5},"Required Tests (including failure follow-ups)",{"$nulls":4},{"$f":"$FO36","v":0},null,"Units",null,"g/kW-hr",null,"Units",null,"g/kW-hr",null,"Units",null,"g/kW-hr",null,"Units",null,"g/kW-hr",{"$nulls":4},"Test Cycle Options",{"$nulls":10},4]
[null,null,{"$f":"IF($G$17=\"Y\",\"Please submit supporting documentation indicating that this is a carry-over engine family\",\"\")","v":""},{"$nulls":5},"Instead of testing, are PLT requirements for this Engine Family",{"$nulls":6},"CO  Det Factor",{"$nulls":3},"PM  Det Factor",{"$nulls":3},"HC Det Factor",{"$nulls":3},"NOx  Det Factor",{"$nulls":6},"1 = 4-Mode General Cycle (E3)",null,null,"Recreational"]
[null,null,"Fuel Type:",{"$nulls":5}," fulfilled under the following (Category 1 only)?",{"$nulls":6},"Det Factor Type",null,{"$f":"IF($N$15<>\"\",$N$15,\"\")","v":""},null,"Det Factor Type",null,{"$f":"IF($N$15<>\"\",$N$15,\"\")","v":""},null,"Det Factor Type",null,{"$f":"IF($N$15<>\"\",$N$15,\"\")","v":""},null,"Det Factor Type",null,{"$f":"IF($N$15<>\"\",$N$15,\"\")","v":""},{"$nulls":4},"2 = 5-Mode Recreational Cycle (E5)",null,null,"Commercial"]
[null,null,"Recreational/Commercial:",{"$nulls":5},"Please elaborate in the comments section.",{"$nulls":6},"CO Green Engine Factor",{"$nulls":3},"PM Green Engine Factor",{"$nulls":3},"HC Green Engine Factor",{"$nulls":3},"NOx Green Engine Factor",{"$nulls":6},"3 = 4-Mode Constant Speed Propulsion Cycle (E2)"]
[null,null,"Model Year:",{"$nulls":5},"    -1042.310(a) - EPA approved combining it, for PLT purposes only.",{"$nulls":25},"4 = 5-Mode Constant Speed Auxiliary Cycle (D2)"]
[null,null,"Tier:",{"$nulls":31},"5 = 6-Mode Variable Speed Auxiliary Cycle (G2)",null,null,"1 (E3)"]
[null,null,"Combined NOx+HC?",{"$nulls":31},"6 = 8-Mode Variable Speed Ausiliary Cycle (C1)",null,null,"2 (E5)"]
[null,null,"40 CFR Part:",{"$nulls":3},{"$f":"AN6","v":1042},null,"Additional testing required by EPA [40 CFR 1042.301(e)]? ",{"$nulls":25},"O = Other",null,null,"3 (E2)"]
[{"$nulls":37},"4 (D2)"]
[{"$nulls":37},"5 (G2)",{"$nulls":132},"deleted and redirected"]
[{"$nulls":22}," ",{"$nulls":14},"6 (C1)",4,{"$nulls":6},4]
[null,null,"Comments:",{"$nulls":34},"O (other)"]
[{"$nulls":22}," ",{"$nulls":22},"additive"]
[{"$nulls":45},"multiplicative",{"$nulls":22},"CO Rounding",{"$nulls":4},"CO Rounding",{"$nulls":4},"CO Rounding",{"$nulls":4},"CO Rounding",{"$nulls":10},"PM Rounding",{"$nulls":4},"PM Rounding",{"$nulls":4},"PM Rounding",{"$nulls":4},"PM Rounding",{"$nulls":10},"HC Rounding",{"$nulls":4},"HC Rounding",{"$nulls":4},"HC Rounding",{"$nulls":4},"HC Rounding",{"$nulls":10},"NOx Rounding",{"$nulls":4},"NOx Rounding",{"$nulls":4},"NOx Rounding",{"$nulls":4},"NOx Rounding"]
[{"$nulls":22}," ",{"$nulls":45},"initial",{"$nulls":4},"final",{"$nulls":4}," det final",{"$nulls":4},"ave of all final",{"$nulls":10},"initial",{"$nulls":4},"final",{"$nulls":4}," det final",{"$nulls":4},"ave of all final",{"$nulls":10},"initial",{"$nulls":4},"final",{"$nulls":4}," det final",{"$nulls":4},"ave of all final",{"$nulls":10},"initial",{"$nulls":4},"final",{"$nulls":4}," det final",{"$nulls":4},"ave of all final"]
[{"$nulls":38},"Y",{"$nulls":6},"Y"]
["PLT Engine Test Results: Engine Family #8",{"$nulls":37},"N",{"$nulls":6},"N",{"$nulls":124},"This is N17"]
[{"$nulls":36},"CO",null,"PM",null,null,"HC or HC+NOX",null,"Nox",null,"Engine Data Complete?",{"$nulls":11},"HC","HC","HC","HC","Nox","Nox","Nox","Nox",{"$nulls":107},"1% of production or pre-approved reduced sample size - whichever is Lower # "]
[null,"Calc Final Result?","Test Number","Test Date","Test Time","Test Qtr","Engine ID","Engine Make","Engine Configuration","Build Date","Green Engine Factor Applied?","Green Engine Factor Determination Method","Service Hours (or miles) Accumulation","Service Hours Location","Service Acc. Procedure","CO Initial Result ","Rounded CO Initial Result ","CO Final Result ","Det. CO Final Result ","PM Initial Result ","Rounded PM Initial Result ","PM Final Result ","Det. PM Final Result ","HC Initial Result ","Rounded HC Initial Result ","HC Final Result ","Det. HC Final Result ","NOx Initial Result ","Rounded NOx Initial Result ","NOx Final Result ","Det. NOx Final Result ","Reason for Failed Test (if applicable)","Remedy","Repairs","Test Cycle","Comments",0,0,0,0,0,0,0,0,{"$nulls":5},"Unrounded initial CO","Unrounded final CO","Det CO","Final CO","Unrounded initial PM","Unrounded final PM","Det PM","Final PM","Unrounded initial HCNOx","Unrounded final HCNOx","Det HCNOx","Final HCNOX","Unrounded initial NOx","Unrounded final NOx","Det NOx","Final HCNOX",{"$nulls":7},"rounded",{"$nulls":4},"rounded",{"$nulls":4},"rounded",{"$nulls":4},"rounded",{"$nulls":10},"rounded",{"$nulls":4},"rounded",{"$nulls":4},"rounded",{"$nulls":4},"rounded",{"$nulls":10},"rounded",{"$nulls":4},"rounded",{"$nulls":4},"rounded",{"$nulls":4},"rounded","ROUNDED AND ACCOUNT FOR BLANK",{"$nulls":9},"rounded",{"$nulls":4},"rounded",{"$nulls":4},"rounded",{"$nulls":4},"rounded","ROUNDED AND ACCOUNT FOR BLANK","Test complete Flag","Total complete","Fail Flag","req","val","baseline req","req due to fails","sum fails","baseline req"]
[1,{"$nulls":4},"N/A",{"$nulls":10},{"$f":"$BU36","v":""},{"$f":"$BZ36","v":""},{"$f":"$CE36","v":""},null,{"$f":"$CU36","v":""},{"$f":"$CZ36","v":""},{"$f":"$DE36","v":""},null,{"$f":"$DU36","v":""},{"$f":"$DZ36","v":""},{"$f":"$EE36","v":""},null,{"$f":"$EU36","v":""},{"$f":"$EZ36","v":""},{"$f":"$FE36","v":""},{"$nulls":5},{"$f":"IF($B36=\"N\",IF(AND($AK35<>\"\",$Q36<>\"\"),$AK35+$Q36,\"\"),IF($B36=\"Y\",0,\"\"))","v":""},{"$f":"IF($B36=\"N\",AL35+1,IF($B36=\"Y\",0,\"\"))","v":""},{"$f":"IF($B36=\"N\",IF(AND($AM35<>\"\",$U36<>\"\"),$AM35+$U36,\"\"),IF($B36=\"Y\",0,\"\"))","v":""},{"$f":"IF($B36=\"N\",AN35+1,IF($B36=\"Y\",0,\"\"))","v":""},{"$f":"IF($B36=\"N\",IF(AND($AO35<>\"\",$Y36<>\"\"),$AO35+$Y36,\"\"),IF($B36=\"Y\",0,\"\"))","v":""},{"$f":"IF($B36=\"N\",AP35+1,IF($B36=\"Y\",0,\"\"))","v":""},{"$f":"IF($B36=\"N\",IF(AND($AQ35<>\"\",$AC36<>\"\"),$AQ35+$AC36,\"\"),IF($B36=\"Y\",0,\"\"))","v":""},{"$f":"IF($B36=\"N\",AR35+1,IF($B36=\"Y\",0,\"\"))","v":""},null,{"$f":"IF(AND(B36<>\"\",C36<>\"\",D36<>\"\",E36<>\"\",G36<>\"\",H36<>\"\",I36<>\"\",J36<>\"\",K36<>\"\",M36<>\"\",N36<>\"\",O36<>\"\"),1,0)","v":0},{"$nulls":3},{"$f":"IF(AND($P36<>\"\",$AT36=1),$P36,\"\")","v":""},{"$f":"IF($B36=\"Y\",IF(AND($Q36<>\"\",$AK35<>\"\",$AL35<>\"\"),($Q36+$AK35)/($AL35+1),\"\"),\"\")","v":""},{"$f":"IF(AND($B36=\"Y\",$R36<>\"\",$R$18<>\"\"),IF($R$19=\"additive\",$R36+$R$18,IF($R$19=\"multiplicative\",$R36*$R$18,\"\")),\"\")","v":""},{"$f":"IF(COUNT($S$36:$S$85)>0,AVERAGE($S$36:$S$85),\"\")","v":""},{"$f":"IF(AND($T36<>\"\",$AT36=1),$T36,\"\")","v":""},{"$f":"IF($B36=\"Y\",IF(AND($U36<>\"\",$AM35<>\"\",$AN35<>\"\"),($U36+$AM35)/($AN35+1),\"\"),\"\")","v":""},{"$f":"IF(AND($B36=\"Y\",$V36<>\"\",$V$18<>\"\"),IF($V$19=\"additive\",$V36+$V$18,IF($V$19=\"multiplicative\",$V36*$V$18,\"\")),\"\")","v":""},{"$f":"IF(COUNT($W$36:$W$85)>0,AVERAGE($W$36:$W$85),\"\")","v":""},{"$f":"IF(AND($X36<>\"\",$AT36=1),$X36,\"\")","v":""},{"$f":"IF($B36=\"Y\",IF(AND($Y36<>\"\",$AO35<>\"\",$AP35<>\"\"),($Y36+$AO35)/($AP35+1),\"\"),\"\")","v":""},{"$f":"IF(AND($B36=\"Y\",$Z36<>\"\",$Z$18<>\"\"),IF($Z$19=\"additive\",$Z36+$Z$18,IF($Z$19=\"multiplicative\",$Z36*$Z$18,\"\")),\"\")","v":""},{"$f":"IF(COUNT($AA$36:$AA$85)>0,AVERAGE($AA$36:$AA$85),\"\")","v":""},{"$f":"IF(AND($AB36<>\"\",$AT36=1),$AB36,\"\")","v":""},{"$f":"IF($B36=\"Y\",IF(AND($AC36<>\"\",$AQ35<>\"\",$AR35<>\"\"),($AC36+$AQ35)/($AR35+1),\"\"),\"\")","v":""},{"$f":"IF(AND($B36=\"Y\",$AD36<>\"\",$AD$18<>\"\"),IF($AD$19=\"additive\",$AD36+$AD$18,IF($AD$19=\"multiplicative\",$AD36*$AD$18,\"\")),\"\")","v":""},{"$f":"IF(COUNT($AE$36:$AE$85)>0,AVERAGE($AE$36:$AE$85),\"\")","v":""},{"$nulls":7},{"$f":"IF($AX36<>\"\",ROUND($AX36,2),\"\")","v":""},{"$nulls":4},{"$f":"IF($AY36<>\"\",ROUND($AY36,2),\"\")","v":""},{"$nulls":4},{"$f":"IF($AZ36<>\"\",ROUND($AZ36,2),\"\")","v":""},{"$nulls":4},{"$f":"IF($BA36<>\"\",ROUND($BA36,2),\"\")","v":""},{"$nulls":10},{"$f":"IF($BB36<>\"\",ROUND($BB36,3),\"\")","v":""},{"$nulls":4},{"$f":"IF($BC36<>\"\",ROUND($BC36,3),\"\")","v":""},{"$nulls":4},{"$f":"IF($BD36<>\"\",ROUND($BD36,3),\"\")","v":""},{"$nulls":4},{"$f":"IF($BE36<>\"\",ROUND($BE36,3),\"\")","v":""},{"$nulls":10},{"$f":"IF($BF36<>\"\",ROUND($BF36,3),\"\")","v":""},{"$nulls":4},{"$f":"IF($BG36<>\"\",ROUND($BG36,3),\"\")","v":""},{"$nulls":4},{"$f":"IF($BH36<>\"\",ROUND($BH36,3),\"\")","v":""},{"$nulls":4},{"$f":"IF($BI36<>\"\",ROUND($BI36,3),\"\")","v":""},{"$f":"IF(EJ36=\"\",0,EJ36)","v":0},{"$nulls":9},{"$f":"IF($BJ36<>\"\",ROUND($BJ36,2),\"\")","v":""},{"$nulls":4},{"$f":"IF($BK36<>\"\",ROUND($BK36,2),\"\")","v":""},{"$nulls":4},{"$f":"IF($BL36<>\"\",ROUND($BL36,2),\"\")","v":""},{"$nulls":4},{"$f":"IF($BM36<>\"\",ROUND($BM36,2),\"\")","v":""},{"$f":"IF(FJ36=\"\",0,FJ36)","v":0},{"$f":"IF($AG$12<>\"CAT3\",IF(AND($B36=\"Y\",$S36<>\"\",$W36<>\"\",$AA36<>\"\",$AE36<>\"\"),1,0),IF($AE36<>\"\",1,0))","v":0},{"$f":"SUM($FL$36:$FL36)","v":0},{"$f":"IF($AG$12<>\"CAT3\",IF($FL36=1,IF(OR($S36>$R$16,$W36>$V$16,$AA36>$Z$16,IF($AF$12<>\"Y\",OR($AA36>$Z$16,$AE36>$AD$16),ROUND(($AA36+$AE36),2)>$Z$16)),1,0),0),IF($FL36=1,IF(AND($AE36>$AD$16,$AF$12=\"N\"),1,0),0))","v":0},{"$f":"IF(OR($M$11=\"\",$N$18=\"Y\"),0,IF($AG$12=\"CAT3\",$N$12,($FR$36+1)))","v":0},{"$f":"SUM(FL36:FL85)","v":0},{"$f":"IF(AND($G$17=\"Y\",$N$24<>\"\"),MIN($N$24,$FT$36),$FT$36)","v":0},{"$f":"$FS$36*2","v":0},{"$f":"SUM(FN36:FN85)","v":0},{"$f":"IF($N$12<>\"\",$N$12*0.01,0)","v":0}]
[{"$f":"A36+1","v":2},{"$nulls":4},"N/A",{"$nulls":10},"","","",null,"","","",null,"","","",null,"","","",{"$nulls":5},"",{"$f":"IF($B37=\"N\",AL36+1,IF($B37=\"Y\",0,\"\"))","v":""},"",{"$f":"IF($B37=\"N\",AN36+1,IF($B37=\"Y\",0,\"\"))","v":""},{"$f":"IF($B37=\"N\",IF(AND($AO36<>\"\",$Y37<>\"\"),$AO36+$Y37,\"\"),IF($B37=\"Y\",0,\"\"))","v":""},{"$f":"IF($B37=\"N\",AP36+1,IF($B37=\"Y\",0,\"\"))","v":""},{"$f":"IF($B37=\"N\",IF(AND($AQ36<>\"\",$AC37<>\"\"),$AQ36+$AC37,\"\"),IF($B37=\"Y\",0,\"\"))","v":""},{"$f":"IF($B37=\"N\",AR36+1,IF($B37=\"Y\",0,\"\"))","v":""},null,{"$f":"IF(AND(B37<>\"\",C37<>\"\",D37<>\"\",E37<>\"\",G37<>\"\",H37<>\"\",I37<>\"\",J37<>\"\",K37<>\"\",M37<>\"\",N37<>\"\",O37<>\"\"),1,0)","v":0},{"$nulls":3},"","",{"$f":"IF(AND($B37=\"Y\",$R37<>\"\",$R$18<>\"\"),IF($R$19=\"additive\",$R37+$R$18,IF($R$19=\"multiplicative\",$R37*$R$18,\"\")),\"\")","v":""},null,"","",{"$f":"IF(AND($B37=\"Y\",$V37<>\"\",$V$18<>\"\"),IF($V$19=\"additive\",$V37+$V$18,IF($V$19=\"multiplicative\",$V37*$V$18,\"\")),\"\")","v":""},null,{"$f":"IF(AND($X37<>\"\",$AT37=1),$X37,\"\")","v":""},{"$f":"IF($B37=\"Y\",IF(AND($Y37<>\"\",$AO36<>\"\",$AP36<>\"\"),($Y37+$AO36)/($AP36+1),\"\"),\"\")","v":""},{"$f":"IF(AND($B37=\"Y\",$Z37<>\"\",$Z$18<>\"\"),IF($Z$19=\"additive\",$Z37+$Z$18,IF($Z$19=\"multiplicative\",$Z37*$Z$18,\"\")),\"\")","v":""},null,{"$f":"IF(AND($AB37<>\"\",$AT37=1),$AB37,\"\")","v":""},{"$f":"IF($B37=\"Y\",IF(AND($AC37<>\"\",$AQ36<>\"\",$AR36<>\"\"),($AC37+$AQ36)/($AR36+1),\"\"),\"\")","v":""},{"$f":"IF(AND($B37=\"Y\",$AD37<>\"\",$AD$18<>\"\"),IF($AD$19=\"additive\",$AD37+$AD$18,IF($AD$19=\"multiplicative\",$AD37*$AD$18,\"\")),\"\")","v":""},{"$nulls":8},{"$f":"IF($AX37<>\"\",ROUND($AX37,2),\"\")","v":""},{"$nulls":4},{"$f":"IF($AY37<>\"\",ROUND($AY37,2),\"\")","v":""},{"$nulls":4},{"$f":"IF($AZ37<>\"\",ROUND($AZ37,2),\"\")","v":""},{"$nulls":15},{"$f":"IF($BB37<>\"\",ROUND($BB37,3),\"\")","v":""},{"$nulls":4},{"$f":"IF($BC37<>\"\",ROUND($BC37,3),\"\")","v":""},{"$nulls":4},{"$f":"IF($BD37<>\"\",ROUND($BD37,3),\"\")","v":""},{"$nulls":15},{"$f":"IF($BF37<>\"\",ROUND($BF37,3),\"\")","v":""},{"$nulls":4},{"$f":"IF($BG37<>\"\",ROUND($BG37,3),\"\")","v":""},{"$nulls":4},{"$f":"IF($BH37<>\"\",ROUND($BH37,3),\"\")","v":""},{"$nulls":15},{"$f":"IF($BJ37<>\"\",ROUND($BJ37,2),\"\")","v":""},{"$nulls":4},{"$f":"IF($BK37<>\"\",ROUND($BK37,2),\"\")","v":""},{"$nulls":4},{"$f":"IF($BL37<>\"\",ROUND($BL37,2),\"\")","v":""},{"$nulls":6},{"$f":"IF($AG$12<>\"CAT3\",IF(AND($B37=\"Y\",$S37<>\"\",$W37<>\"\",$AA37<>\"\",$AE37<>\"\"),1,0),IF($AE37<>\"\",1,0))","v":0},{"$f":"SUM($FL$36:$FL37)","v":0},{"$f":"IF($AG$12<>\"CAT3\",IF($FL37=1,IF(OR($S37>$R$16,$W37>$V$16,$AA37>$Z$16,IF($AF$12<>\"Y\",OR($AA37>$Z$16,$AE37>$AD$16),ROUND(($AA37+$AE37),2)>$Z$16)),1,0),0),IF($FL37=1,IF(AND($AE37>$AD$16,$AF$12=\"N\"),1,0),0))","v":0},null,null,{"$f":"MAX($FQ$36,$FL$10)","v":1}]
[{"$f":"A37+1","v":3},{"$nulls":4},"N/A",{"$nulls":10},"","","",null,"","","",null,"","","",null,"","","",{"$nulls":5},"","","","","","","","",null,0,{"$nulls":3},"","","",null,"","","",null,"","","",null,"","","",{"$nulls":8},"",{"$nulls":4},"",{"$nulls":4},"",{"$nulls":15},"",{"$nulls":4},"",{"$nulls":4},"",{"$nulls":15},"",{"$nulls":4},"",{"$nulls":4},"",{"$nulls":15},"",{"$nulls":4},"",{"$nulls":4},"",{"$nulls":6},0,{"$f":"SUM($FL$36:$FL38)","v":0},0]
[4,{"$nulls":4},"N/A",{"$nulls":10},"","","",null,"","","",null,"","","",null,"","","",{"$nulls":5},"","","","","","","","",null,0,{"$nulls":3},"","","",null,"","","",null,"","","",null,"","","",{"$nulls":8},"",{"$nulls":4},"",{"$nulls":4},"",{"$nulls":15},"",{"$nulls":4},"",{"$nulls":4},"",{"$nulls":15},"",{"$nulls":4},"",{"$nulls":4},"",{"$nulls":15},"",{"$nulls":4},"",{"$nulls":4},"",{"$nulls":6},0,{"$f":"SUM($FL$36:$FL39)","v":0},0,null,null,"then, the larger of that sample size or 1  (or if Part 94 and cat1,  can be 0)"]
[5,{"$nulls":4},"N/A",{"$nulls":10},"","","",null,"","","",null,"","","",null,"","","",{"$nulls":5},"","","","","","","","",null,0,{"$nulls":3},"","","",null,"","","",null,"","","",null,"","","",{"$nulls":8},"",{"$nulls":4},"",{"$nulls":4},"",{"$nulls":15},"",{"$nulls":4},"",{"$nulls":4},"",{"$nulls":15},"",{"$nulls":4},"",{"$nulls":4},"",{"$nulls":15},"",{"$nulls":4},"",{"$nulls":4},"",{"$nulls":6},0,{"$f":"SUM($FL$36:$FL40)","v":0},0]
[6,{"$nulls":4},"N/A",{"$nulls":10},"","","",null,"","","",null,"","","",null,"","","",{"$nulls":5},"","","","","","","","",null,0,{"$nulls":3},"","","",null,"","","",null,"","","",null,"","","",{"$nulls":8},"",{"$nulls":4},"",{"$nulls":4},"",{"$nulls":15},"",{"$nulls":4},"",{"$nulls":4},"",{"$nulls":15},"",{"$nulls":4},"",{"$nulls":4},"",{"$nulls":15},"",{"$nulls":4},"",{"$nulls":4},"",{"$nulls":6},0,{"$f":"SUM($FL$36:$FL41)","v":0},0]
[7,{"$nulls":4},"N/A",{"$nulls":10},"","","",null,"","","",null,"","","",null,"","","",{"$nulls":5},"","","","","","","","",null,0,{"$nulls":3},"","","",null,"","","",null,"","","",null,"","","",{"$nulls":8},"",{"$nulls":4},"",{"$nulls":4},"",{"$nulls":15},"",{"$nulls":4},"",{"$nulls":4},"",{"$nulls":15},"",{"$nulls":4},"",{"$nulls":4},"",{"$nulls":15},"",{"$nulls":4},"",{"$nulls":4},"",{"$nulls":6},0,{"$f":"SUM($FL$36:$FL42)","v":0},0]
[8,{"$nulls":4},"N/A",{"$nulls":10},"","","",null,"","","",null,"","","",null,"","","",{"$nulls":5},"","","","","","","","",null,0,{"$nulls":3},"","","",null,"","","",null,"","","",null,"","","",{"$nulls":8},"",{"$nulls":4},"",{"$nulls":4},"",{"$nulls":15},"",{"$nulls":4},"",{"$nulls":4},"",{"$nulls":15},"",{"$nulls":4},"",{"$nulls":4},"",{"$nulls":15},"",{"$nulls":4},"",{"$nulls":4},"",{"$nulls":6},0,{"$f":"SUM($FL$36:$FL43)","v":0},0]
[9,{"$nulls":4},"N/A",{"$nulls":10},"","","",null,"","","",null,"","","",null,"","","",{"$nulls":5},"","","","","","","","",null,0,{"$nulls":3},"","","",null,"","","",null,"","","",null,"","","",{"$nulls":8},"",{"$nulls":4},"",{"$nulls":4},"",{"$nulls":15},"",{"$nulls":4},"",{"$nulls":4},"",{"$nulls":15},"",{"$nulls":4},"",{"$nulls":4},"",{"$nulls":15},"",{"$nulls":4},"",{"$nulls":4},"",{"$nulls":6},0,{"$f":"SUM($FL$36:$FL44)","v":0},0]
[10,{"$nulls":4},"N/A",{"$nulls":10},"","","",null,"","","",null,"","","",null,"","","",{"$nulls":5},"","","","","","","","",null,0,{"$nulls":3},"","","",null,"","","",null,"","","",null,"","","",{"$nulls":8},"",{"$nulls":4},"",{"$nulls":4},"",{"$nulls":15},"",{"$nulls":4},"",{"$nulls":4},"",{"$nulls":15},"",{"$nulls":4},"",{"$nulls":4},"",{"$nulls":15},"",{"$nulls":4},"",{"$nulls":4},"",{"$nulls":6},0,{"$f":"SUM($FL$36:$FL45)","v":0},0]
[11,{"$nulls":4},"N/A",{"$nulls":10},"","","",null,"","","",null,"","","",null,"","","",{"$nulls":5},"","","","","","","","",null,0,{"$nulls":3},"","","",null,"","","",null,"","","",null,"","","",{"$nulls":8},"",{"$nulls":4},"",{"$nulls":4},"",{"$nulls":15},"",{"$nulls":4},"",{"$nulls":4},"",{"$nulls":15},"",{"$nulls":4},"",{"$nulls":4},"",{"$nulls":15},"",{"$nulls":4},"",{"$nulls":4},"",{"$nulls":6},0,{"$f":"SUM($FL$36:$FL46)","v":0},0]
[12,{"$nulls":4},"N/A",{"$nulls":10},"","","",null,"","","",null,"","","",null,"","","",{"$nulls":5},"","","","","","","","",null,0,{"$nulls":3},"","","",null,"","","",null,"","","",null,"","","",{"$nulls":8},"",{"$nulls":4},"",{"$nulls":4},"",{"$nulls":15},"",{"$nulls":4},"",{"$nulls":4},"",{"$nulls":15},"",{"$nulls":4},"",{"$nulls":4},"",{"$nulls":15},"",{"$nulls":4},"",{"$nulls":4},"",{"$nulls":6},0,{"$f":"SUM($FL$36:$FL47)","v":0},0]
[13,{"$nulls":4},"N/A",{"$nulls":10},"","","",null,"","","",null,"","","",null,"","","",{"$nulls":5},"","","","","","","","",null,0,{"$nulls":3},"","","",null,"","","",null,"","","",null,"","","",{"$nulls":8},"",{"$nulls":4},"",{"$nulls":4},"",{"$nulls":15},"",{"$nulls":4},"",{"$nulls":4},"",{"$nulls":15},"",{"$nulls":4},"",{"$nulls":4},"",{"$nulls":15},"",{"$nulls":4},"",{"$nulls":4},"",{"$nulls":6},0,{"$f":"SUM($FL$36:$FL48)","v":0},0]
[14,{"$nulls":4},"N/A",{"$nulls":10},"","","",null,"","","",null,"","","",null,"","","",{"$nulls":5},"","","","","","","","",null,0,{"$nulls":3},"","","",null,"","","",null,"","","",null,"","","",{"$nulls":8},"",{"$nulls":4},"",{"$nulls":4},"",{"$nulls":15},"",{"$nulls":4},"",{"$nulls":4},"",{"$nulls":15},"",{"$nulls":4},"",{"$nulls":4},"",{"$nulls":15},"",{"$nulls":4},"",{"$nulls":4},"",{"$nulls":6},0,{"$f":"SUM($FL$36:$FL49)","v":0},0]
[15,{"$nulls":4},"N/A",{"$nulls":10},"","","",null,"","","",null,"","","",null,"","","",{"$nulls":5},"","","","","","","","",null,0,{"$nulls":3},"","","",null,"","","",null,"","","",null,"","","",{"$nulls":8},"",{"$nulls":4},"",{"$nulls":4},"",{"$nulls":15},"",{"$nulls":4},"",{"$nulls":4},"",{"$nulls":15},"",{"$nulls":4},"",{"$nulls":4},"",{"$nulls":15},"",{"$nulls":4},"",{"$nulls":4},"",{"$nulls":6},0,{"$f":"SUM($FL$36:$FL50)","v":0},0]
[16,{"$nulls":4},"N/A",{"$nulls":10},"","","",null,"","","",null,"","","",null,"","","",{"$nulls":5},"","","","","","","","",null,0,{"$nulls":3},"","","",null,"","","",null,"","","",null,"","","",{"$nulls":8},"",{"$nulls":4},"",{"$nulls":4},"",{"$nulls":15},"",{"$nulls":4},"",{"$nulls":4},"",{"$nulls":15},"",{"$nulls":4},"",{"$nulls":4},"",{"$nulls":15},"",{"$nulls":4},"",{"$nulls":4},"",{"$nulls":6},0,{"$f":"SUM($FL$36:$FL51)","v":0},0]
[17,{"$nulls":4},"N/A",{"$nulls":10},"","","",null,"","","",null,"","","",null,"","","",{"$nulls":5},"","","","","","","","",null,0,{"$nulls":3},"","","",null,"","","",null,"","","",null,"","","",{"$nulls":8},"",{"$nulls":4},"",{"$nulls":4},"",{"$nulls":15},"",{"$nulls":4},"",{"$nulls":4},"",{"$nulls":15},"",{"$nulls":4},"",{"$nulls":4},"",{"$nulls":15},"",{"$nulls":4},"",{"$nulls":4},"",{"$nulls":6},0,{"$f":"SUM($FL$36:$FL52)","v":0},0]
[18,{"$nulls":4},"N/A",{"$nulls":10},"","","",null,"","","",null,"","","",null,"","","",{"$nulls":5},"","","","","","","","",null,0,{"$nulls":3},"","","",null,"","","",null,"","","",null,"","","",{"$nulls":8},"",{"$nulls":4},"",{"$nulls":4},"",{"$nulls":15},"",{"$nulls":4},"",{"$nulls":4},"",{"$nulls":15},"",{"$nulls":4},"",{"$nulls":4},"",{"$nulls":15},"",{"$nulls":4},"",{"$nulls":4},"",{"$nulls":6},0,{"$f":"SUM($FL$36:$FL53)","v":0},0]
[19,{"$nulls":4},"N/A",{"$nulls":10},"","","",null,"","","",null,"","","",null,"","","",{"$nulls":5},"","","","","","","","",null,0,{"$nulls":3},"","","",null,"","","",null,"","","",null,"","","",{"$nulls":8},"",{"$nulls":4},"",{"$nulls":4},"",{"$nulls":15},"",{"$nulls":4},"",{"$nulls":4},"",{"$nulls":15},"",{"$nulls":4},"",{"$nulls":4},"",{"$nulls":15},"",{"$nulls":4},"",{"$nulls":4},"",{"$nulls":6},0,{"$f":"SUM($FL$36:$FL54)","v":0},0]
[20,{"$nulls":4},"N/A",{"$nulls":10},"","","",null,"","","",null,"","","",null,"","","",{"$nulls":5},"","","","","","","","",null,0,{"$nulls":3},"","","",null,"","","",null,"","","",null,"","","",{"$nulls":8},"",{"$nulls":4},"",{"$nulls":4},"",{"$nulls":15},"",{"$nulls":4},"",{"$nulls":4},"",{"$nulls":15},"",{"$nulls":4},"",{"$nulls":4},"",{"$nulls":15},"",{"$nulls":4},"",{"$nulls":4},"",{"$nulls":6},0,{"$f":"SUM($FL$36:$FL55)","v":0},0]
[21,{"$nulls":4},"N/A",{"$nulls":10},"","","",null,"","","",null,"","","",null,"","","",{"$nulls":5},"","","","","","","","",null,0,{"$nulls":3},"","","",null,"","","",null,"","","",null,"","","",{"$nulls":8},"",{"$nulls":4},"",{"$nulls":4},"",{"$nulls":15},"",{"$nulls":4},"",{"$nulls":4},"",{"$nulls":15},"",{"$nulls":4},"",{"$nulls":4},"",{"$nulls":15},"",{"$nulls":4},"",{"$nulls":4},"",{"$nulls":6},0,{"$f":"SUM($FL$36:$FL56)","v":0},0]
[22,{"$nulls":4},"N/A",{"$nulls":10},"","","",null,"","","",null,"","","",null,"","","",{"$nulls":5},"","","","","","","","",null,0,{"$nulls":3},"","","",null,"","","",null,"","","",null,"","","",{"$nulls":8},"",{"$nulls":4},"",{"$nulls":4},"",{"$nulls":15},"",{"$nulls":4},"",{"$nulls":4},"",{"$nulls":15},"",{"$nulls":4},"",{"$nulls":4},"",{"$nulls":15},"",{"$nulls":4},"",{"$nulls":4},"",{"$nulls":6},0,{"$f":"SUM($FL$36:$FL57)","v":0},0]
[23,{"$nulls":4},"N/A",{"$nulls":10},"","","",null,"","","",null,"","","",null,"","","",{"$nulls":5},"","","","","","","","",null,0,{"$nulls":3},"","","",null,"","","",null,"","","",null,"","","",{"$nulls":8},"",{"$nulls":4},"",{"$nulls":4},"",{"$nulls":15},"",{"$nulls":4},"",{"$nulls":4},"",{"$nulls":15},"",{"$nulls":4},"",{"$nulls":4},"",{"$nulls":15},"",{"$nulls":4},"",{"$nulls":4},"",{"$nulls":6},0,{"$f":"SUM($FL$36:$FL58)","v":0},0]
[24,{"$nulls":4},"N/A",{"$nulls":10},"","","",null,"","","",null,"","","",null,"","","",{"$nulls":5},"","","","","","","","",null,0,{"$nulls":3},"","","",null,"","","",null,"","","",null,"","","",{"$nulls":8},"",{"$nulls":4},"",{"$nulls":4},"",{"$nulls":15},"",{"$nulls":4},"",{"$nulls":4},"",{"$nulls":15},"",{"$nulls":4},"",{"$nulls":4},"",{"$nulls":15},"",{"$nulls":4},"",{"$nulls":4},"",{"$nulls":6},0,{"$f":"SUM($FL$36:$FL59)","v":0},0]
[25,{"$nulls":4},"N/A",{"$nulls":10},"","","",null,"","","",null,"","","",null,"","","",{"$nulls":5},"","","","","","","","",null,0,{"$nulls":3},"","","",null,"","","",null,"","","",null,"","","",{"$nulls":8},"",{"$nulls":4},"",{"$nulls":4},"",{"$nulls":15},"",{"$nulls":4},"",{"$nulls":4},"",{"$nulls":15},"",{"$nulls":4},"",{"$nulls":4},"",{"$nulls":15},"",{"$nulls":4},"",{"$nulls":4},"",{"$nulls":6},0,{"$f":"SUM($FL$36:$FL60)","v":0},0]
[26,{"$nulls":4},"N/A",{"$nulls":10},"","","",null,"","","",null,"","","",null,"","","",{"$nulls":5},"","","","","","","","",null,0,{"$nulls":3},"","","",null,"","","",null,"","","",null,"","","",{"$nulls":8},"",{"$nulls":4},"",{"$nulls":4},"",{"$nulls":15},"",{"$nulls":4},"",{"$nulls":4},"",{"$nulls":15},"",{"$nulls":4},"",{"$nulls":4},"",{"$nulls":15},"",{"$nulls":4},"",{"$nulls":4},"",{"$nulls":6},0,{"$f":"SUM($FL$36:$FL61)","v":0},0]
[27,{"$nulls":4},"N/A",{"$nulls":10},"","","",null,"","","",null,"","","",null,"","","",{"$nulls":5},"","","","","","","","",null,0,{"$nulls":3},"","","",null,"","","",null,"","","",null,"","","",{"$nulls":8},"",{"$nulls":4},"",{"$nulls":4},"",{"$nulls":15},"",{"$nulls":4},"",{"$nulls":4},"",{"$nulls":15},"",{"$nulls":4},"",{"$nulls":4},"",{"$nulls":15},"",{"$nulls":4},"",{"$nulls":4},"",{"$nulls":6},0,{"$f":"SUM($FL$36:$FL62)","v":0},0]
[28,{"$nulls":4},"N/A",{"$nulls":10},"","","",null,"","","",null,"","","",null,"","","",{"$nulls":5},"","","","","","","","",null,0,{"$nulls":3},"","","",null,"","","",null,"","","",null,"","","",{"$nulls":8},"",{"$nulls":4},"",{"$nulls":4},"",{"$nulls":15},"",{"$nulls":4},"",{"$nulls":4},"",{"$nulls":15},"",{"$nulls":4},"",{"$nulls":4},"",{"$nulls":15},"",{"$nulls":4},"",{"$nulls":4},"",{"$nulls":6},0,{"$f":"SUM($FL$36:$FL63)","v":0},0]
[29,{"$nulls":4},"N/A",{"$nulls":10},"","","",null,"","","",null,"","","",null,"","","",{"$nulls":5},"","","","","","","","",null,0,{"$nulls":3},"","","",null,"","","",null,"","","",null,"","","",{"$nulls":8},"",{"$nulls":4},"",{"$nulls":4},"",{"$nulls":15},"",{"$nulls":4},"",{"$nulls":4},"",{"$nulls":15},"",{"$nulls":4},"",{"$nulls":4},"",{"$nulls":15},"",{"$nulls":4},"",{"$nulls":4},"",{"$nulls":6},0,{"$f":"SUM($FL$36:$FL64)","v":0},0]
[30,{"$nulls":4},"N/A",{"$nulls":10},"","","",null,"","","",null,"","","",null,"","","",{"$nulls":5},"","","","","","","","",null,0,{"$nulls":3},"","","",null,"","","",null,"","","",null,"","","",{"$nulls":8},"",{"$nulls":4},"",{"$nulls":4},"",{"$nulls":15},"",{"$nulls":4},"",{"$nulls":4},"",{"$nulls":15},"",{"$nulls":4},"",{"$nulls":4},"",{"$nulls":15},"",{"$nulls":4},"",{"$nulls":4},"",{"$nulls":6},0,{"$f":"SUM($FL$36:$FL65)","v":0},0]
[31,{"$nulls":4},"N/A",{"$nulls":10},"","","",null,"","","",null,"","","",null,"","","",{"$nulls":5},"","","","","","","","",null,0,{"$nulls":3},"","","",null,"","","",null,"","","",null,"","","",{"$nulls":8},"",{"$nulls":4},"",{"$nulls":4},"",{"$nulls":15},"",{"$nulls":4},"",{"$nulls":4},"",{"$nulls":15},"",{"$nulls":4},"",{"$nulls":4},"",{"$nulls":15},"",{"$nulls":4},"",{"$nulls":4},"",{"$nulls":6},0,{"$f":"SUM($FL$36:$FL66)","v":0},0]
[32,{"$nulls":4},"N/A",{"$nulls":10},"","","",null,"","","",null,"","","",null,"","","",{"$nulls":5},"","","","","","","","",null,0,{"$nulls":3},"","","",null,"","","",null,"","","",null,"","","",{"$nulls":8},"",{"$nulls":4},"",{"$nulls":4},"",{"$nulls":15},"",{"$nulls":4},"",{"$nulls":4},"",{"$nulls":15},"",{"$nulls":4},"",{"$nulls":4},"",{"$nulls":15},"",{"$nulls":4},"",{"$nulls":4},"",{"$nulls":6},0,{"$f":"SUM($FL$36:$FL67)","v":0},0]
[33,{"$nulls":4},"N/A",{"$nulls":10},"","","",null,"","","",null,"","","",null,"","","",{"$nulls":5},"","","","","","","","",null,0,{"$nulls":3},"","","",null,"","","",null,"","","",null,"","","",{"$nulls":8},"",{"$nulls":4},"",{"$nulls":4},"",{"$nulls":15},"",{"$nulls":4},"",{"$nulls":4},"",{"$nulls":15},"",{"$nulls":4},"",{"$nulls":4},"",{"$nulls":15},"",{"$nulls":4},"",{"$nulls":4},"",{"$nulls":6},0,{"$f":"SUM($FL$36:$FL68)","v":0},0]
[34,{"$nulls":4},"N/A",{"$nulls":10},"","","",null,"","","",null,"","","",null,"","","",{"$nulls":5},"","","","","","","","",null,0,{"$nulls":3},"","","",null,"","","",null,"","","",null,"","","",{"$nulls":8},"",{"$nulls":4},"",{"$nulls":4},"",{"$nulls":15},"",{"$nulls":4},"",{"$nulls":4},"",{"$nulls":15},"",{"$nulls":4},"",{"$nulls":4},"",{"$nulls":15},"",{"$nulls":4},"",{"$nulls":4},"",{"$nulls":6},0,{"$f":"SUM($FL$36:$FL69)","v":0},0]
[35,{"$nulls":4},"N/A",{"$nulls":10},"","","",null,"","","",null,"","","",null,"","","",{"$nulls":5},"","","","","","","","",null,0,{"$nulls":3},"","","",null,"","","",null,"","","",null,"","","",{"$nulls":8},"",{"$nulls":4},"",{"$nulls":4},"",{"$nulls":15},"",{"$nulls":4},"",{"$nulls":4},"",{"$nulls":15},"",{"$nulls":4},"",{"$nulls":4},"",{"$nulls":15},"",{"$nulls":4},"",{"$nulls":4},"",{"$nulls":6},0,{"$f":"SUM($FL$36:$FL70)","v":0},0]
[36,{"$nulls":4},"N/A",{"$nulls":10},"","","",null,"","","",null,"","","",null,"","","",{"$nulls":5},"","","","","","","","",null,0,{"$nulls":3},"","","",null,"","","",null,"","","",null,"","","",{"$nulls":8},"",{"$nulls":4},"",{"$nulls":4},"",{"$nulls":15},"",{"$nulls":4},"",{"$nulls":4},"",{"$nulls":15},"",{"$nulls":4},"",{"$nulls":4},"",{"$nulls":15},"",{"$nulls":4},"",{"$nulls":4},"",{"$nulls":6},0,{"$f":"SUM($FL$36:$FL71)","v":0},0]
[37,{"$nulls":4},"N/A",{"$nulls":10},"","","",null,"","","",null,"","","",null,"","","",{"$nulls":5},"","","","","","","","",null,0,{"$nulls":3},"","","",null,"","","",null,"","","",null,"","","",{"$nulls":8},"",{"$nulls":4},"",{"$nulls":4},"",{"$nulls":15},"",{"$nulls":4},"",{"$nulls":4},"",{"$nulls":15},"",{"$nulls":4},"",{"$nulls":4},"",{"$nulls":15},"",{"$nulls":4},"",{"$nulls":4},"",{"$nulls":6},0,{"$f":"SUM($FL$36:$FL72)","v":0},0]
[38,{"$nulls":4},"N/A",{"$nulls":10},"","","",null,"","","",null,"","","",null,"","","",{"$nulls":5},"","","","","","","","",null,0,{"$nulls":3},"","","",null,"","","",null,"","","",null,"","","",{"$nulls":8},"",{"$nulls":4},"",{"$nulls":4},"",{"$nulls":15},"",{"$nulls":4},"",{"$nulls":4},"",{"$nulls":15},"",{"$nulls":4},"",{"$nulls":4},"",{"$nulls":15},"",{"$nulls":4},"",{"$nulls":4},"",{"$nulls":6},0,{"$f":"SUM($FL$36:$FL73)","v":0},0]
[39,{"$nulls":4},"N/A",{"$nulls":10},"","","",null,"","","",null,"","","",null,"","","",{"$nulls":5},"","","","","","","","",null,0,{"$nulls":3},"","","",null,"","","",null,"","","",null,"","","",{"$nulls":8},"",{"$nulls":4},"",{"$nulls":4},"",{"$nulls":15},"",{"$nulls":4},"",{"$nulls":4},"",{"$nulls":15},"",{"$nulls":4},"",{"$nulls":4},"",{"$nulls":15},"",{"$nulls":4},"",{"$nulls":4},"",{"$nulls":6},0,{"$f":"SUM($FL$36:$FL74)","v":0},0]
[40,{"$nulls":4},"N/A",{"$nulls":10},"","","",null,"","","",null,"","","",null,"","","",{"$nulls":5},"","","","","","","","",null,0,{"$nulls":3},"","","",null,"","","",null,"","","",null,"","","",{"$nulls":8},"",{"$nulls":4},"",{"$nulls":4},"",{"$nulls":15},"",{"$nulls":4},"",{"$nulls":4},"",{"$nulls":15},"",{"$nulls":4},"",{"$nulls":4},"",{"$nulls":15},"",{"$nulls":4},"",{"$nulls":4},"",{"$nulls":6},0,{"$f":"SUM($FL$36:$FL75)","v":0},0]
[41,{"$nulls":4},"N/A",{"$nulls":10},"","","",null,"","","",null,"","","",null,"","","",{"$nulls":5},"","","","","","","","",null,0,{"$nulls":3},"","","",null,"","","",null,"","","",null,"","","",{"$nulls":8},"",{"$nulls":4},"",{"$nulls":4},"",{"$nulls":15},"",{"$nulls":4},"",{"$nulls":4},"",{"$nulls":15},"",{"$nulls":4},"",{"$nulls":4},"",{"$nulls":15},"",{"$nulls":4},"",{"$nulls":4},"",{"$nulls":6},0,{"$f":"SUM($FL$36:$FL76)","v":0},0]
[42,{"$nulls":4},"N/A",{"$nulls":10},"","","",null,"","","",null,"","","",null,"","","",{"$nulls":5},"","","","","","","","",null,0,{"$nulls":3},"","","",null,"","","",null,"","","",null,"","","",{"$nulls":8},"",{"$nulls":4},"",{"$nulls":4},"",{"$nulls":15},"",{"$nulls":4},"",{"$nulls":4},"",{"$nulls":15},"",{"$nulls":4},"",{"$nulls":4},"",{"$nulls":15},"",{"$nulls":4},"",{"$nulls":4},"",{"$nulls":6},0,{"$f":"SUM($FL$36:$FL77)","v":0},0]
[43,{"$nulls":4},"N/A",{"$nulls":10},"","","",null,"","","",null,"","","",null,"","","",{"$nulls":5},"","","","","","","","",null,0,{"$nulls":3},"","","",null,"","","",null,"","","",null,"","","",{"$nulls":8},"",{"$nulls":4},"",{"$nulls":4},"",{"$nulls":15},"",{"$nulls":4},"",{"$nulls":4},"",{"$nulls":15},"",{"$nulls":4},"",{"$nulls":4},"",{"$nulls":15},"",{"$nulls":4},"",{"$nulls":4},"",{"$nulls":6},0,{"$f":"SUM($FL$36:$FL78)","v":0},0]
[44,{"$nulls":4},"N/A",{"$nulls":10},"","","",null,"","","",null,"","","",null,"","","",{"$nulls":5},"","","","","","","","",null,0,{"$nulls":3},"","","",null,"","","",null,"","","",null,"","","",{"$nulls":8},"",{"$nulls":4},"",{"$nulls":4},"",{"$nulls":15},"",{"$nulls":4},"",{"$nulls":4},"",{"$nulls":15},"",{"$nulls":4},"",{"$nulls":4},"",{"$nulls":15},"",{"$nulls":4},"",{"$nulls":4},"",{"$nulls":6},0,{"$f":"SUM($FL$36:$FL79)","v":0},0]
[45,{"$nulls":4},"N/A",{"$nulls":10},"","","",null,"","","",null,"","","",null,"","","",{"$nulls":5},"","","","","","","","",null,0,{"$nulls":3},"","","",null,"","","",null,"","","",null,"","","",{"$nulls":8},"",{"$nulls":4},"",{"$nulls":4},"",{"$nulls":15},"",{"$nulls":4},"",{"$nulls":4},"",{"$nulls":15},"",{"$nulls":4},"",{"$nulls":4},"",{"$nulls":15},"",{"$nulls":4},"",{"$nulls":4},"",{"$nulls":6},0,{"$f":"SUM($FL$36:$FL80)","v":0},0]
[46,{"$nulls":4},"N/A",{"$nulls":10},"","","",null,"","","",null,"","","",null,"","","",{"$nulls":5},"","","","","","","","",null,0,{"$nulls":3},"","","",null,"","","",null,"","","",null,"","","",{"$nulls":8},"",{"$nulls":4},"",{"$nulls":4},"",{"$nulls":15},"",{"$nulls":4},"",{"$nulls":4},"",{"$nulls":15},"",{"$nulls":4},"",{"$nulls":4},"",{"$nulls":15},"",{"$nulls":4},"",{"$nulls":4},"",{"$nulls":6},0,{"$f":"SUM($FL$36:$FL81)","v":0},0]
[47,{"$nulls":4},"N/A",{"$nulls":10},"","","",null,"","","",null,"","","",null,"","","",{"$nulls":5},"","","","","","","","",null,0,{"$nulls":3},"","","",null,"","","",null,"","","",null,"","","",{"$nulls":8},"",{"$nulls":4},"",{"$nulls":4},"",{"$nulls":15},"",{"$nulls":4},"",{"$nulls":4},"",{"$nulls":15},"",{"$nulls":4},"",{"$nulls":4},"",{"$nulls":15},"",{"$nulls":4},"",{"$nulls":4},"",{"$nulls":6},0,{"$f":"SUM($FL$36:$FL82)","v":0},0]
[48,{"$nulls":4},"N/A",{"$nulls":10},"","","",null,"","","",null,"","","",null,"","","",{"$nulls":5},"","","","","","","","",null,0,{"$nulls":3},"","","",null,"","","",null,"","","",null,"","","",{"$nulls":8},"",{"$nulls":4},"",{"$nulls":4},"",{"$nulls":15},"",{"$nulls":4},"",{"$nulls":4},"",{"$nulls":15},"",{"$nulls":4},"",{"$nulls":4},"",{"$nulls":15},"",{"$nulls":4},"",{"$nulls":4},"",{"$nulls":6},0,{"$f":"SUM($FL$36:$FL83)","v":0},0]
[49,{"$nulls":4},"N/A",{"$nulls":10},"","","",null,"","","",null,"","","",null,"","","",{"$nulls":5},"","","","","","","","",null,0,{"$nulls":3},"","","",null,"","","",null,"","","",null,"","","",{"$nulls":8},"",{"$nulls":4},"",{"$nulls":4},"",{"$nulls":15},"",{"$nulls":4},"",{"$nulls":4},"",{"$nulls":15},"",{"$nulls":4},"",{"$nulls":4},"",{"$nulls":15},"",{"$nulls":4},"",{"$nulls":4},"",{"$nulls":6},0,{"$f":"SUM($FL$36:$FL84)","v":0},0]
[50,{"$nulls":4},"N/A",{"$nulls":10},"","","",null,"","","",null,"","","",null,"","","",{"$nulls":5},"","","","","","","","",null,0,{"$nulls":3},"","","",null,"","","",null,"","","",null,"",{"$f":"IF($B85=\"Y\",IF(AND($AC85<>\"\",$AQ84<>\"\",$AR84<>\"\"),($AC85+$AQ84)/($AR84+1),\"\"),\"\")","v":""},"",{"$nulls":8},"",{"$nulls":4},"",{"$nulls":4},"",{"$nulls":15},"",{"$nulls":4},"",{"$nulls":4},"",{"$nulls":15},"",{"$nulls":4},"",{"$nulls":4},"",{"$nulls":15},"",{"$nulls":4},"",{"$nulls":4},"",{"$nulls":6},0,{"$f":"SUM($FL$36:$FL85)","v":0},0]
[null,null,{"$f":"SUM(C36:C85)","v":0}]
["g/bhp-hr"]
["g/kW-hr"]

{"sheet":"Engine Family #9","index":11,"n_rows":88,"n_cols":176,"rows_kept":88,"merged":[[1,0,1,35],[2,0,2,35],[3,0,3,35],[4,0,4,35],[5,0,5,35],[6,0,6,35],[8,0,8,16],[10,4,10,6],[10,12,10,13],[11,4,11,6],[11,15,11,16],[11,19,11,20],[11,23,11,24],[11,27,11,28],[12,4,12,6],[13,4,13,6],[14,4,15,6],[17,14,22,14],[27,4,30,13],[27,15,28,16],[32,0,32,16],[32,17,32,33],[32,34,32,35],[33,45,34,45]]}
[]
["United States"]
["US Environmental Protection Agency"]
["Office of Air and Radiation, Office of Transportation and Air Quality"]
[{"$nulls":37},"Tier 2","Y",94]
["Manufacturer Production Line Testing Report for Marine Compression Ignition Engines",{"$nulls":36},"Tier 3","N",1042]
[{"$f":"Summary!B7","v":"Version Number: 1.4 DRAFT  Last Revision: September 2023"},{"$nulls":36},"Tier 4",null,"N/A"]
[]
["Basic Information: Engine Family #9"]
[{"$nulls":167},{"$f":"IF(AND($G$24=94,Summary!$L$13=\"Category 1\"),0,1)","v":1}]
[null,null,"Manufacturer:",null,{"$f":"IF(Summary!D12<>\"\",Summary!D12,\"\")","v":""},{"$nulls":3},"Engine Family:",{"$nulls":31},{"$f":"IF($G$19=\"Diesel\",\"'HC' refers to 'THC' \",IF($G$19=\"Natural Gas\",\"'HC' refers to 'NMHC' \",IF($G$19=\"Alcohol\",\"'HC' refers to 'THCE' \",\"\")))","v":""}]
[null,null,"PLT Test Contact:",null,{"$f":"IF(Summary!D13<>\"\",Summary!D13,\"\")","v":""},{"$nulls":3},"Production (Category 3 only):",{"$nulls":6},{"$f":"IF(N16<>\"Y\", \"Current CO Result\", \"Final CO Result\")","v":"Current CO Result"},null,{"$f":"$CJ$36","v":""},null,{"$f":"IF(N16<>\"Y\", \"Current PM Result\", \"Final PM Result\")","v":"Current PM Result"},null,{"$f":"$DJ$36","v":""},null,{"$f":"IF($AF$12=\"Y\",IF(N16<>\"Y\", \"Current NOx+HC Result\", \"Final NOx+HC Result\"),IF(N16<>\"Y\", \"Current HC Result\", \"Final HC Result\"))","v":"Current HC Result"},null,{"$f":"IF($AF$12=\"Y\",IF($FP$36>0,ROUND($EJ$36+$FJ$36,2),\"\"),$EJ$36)","v":""},null,{"$f":"IF(N16<>\"Y\", \"Current NOx Result\",\"Final NOx Result\")","v":"Current NOx Result"},null,{"$f":"$FJ$36","v":""},null,{"$f":"IF($L$13<>\"Category 3\",IF($G$23=\"\",\"N\",$G$23),\"N\")","v":"N"},{"$f":"IF(Summary!$L$13=\"Category 3\",\"CAT3\",\"\")","v":""}]
[null,null,"Email Address:",null,{"$f":"IF(Summary!D14<>\"\",Summary!D14,\"\")","v":""},{"$nulls":3},"Date of Start of Model Year Production:"]
[null,null,"Phone #:",null,{"$f":"IF(Summary!D15<>\"\",Summary!D15,\"\")","v":""},{"$nulls":3},"Date of End of Model Year Production:",{"$nulls":14},{"$f":"IF($G$19=\"Diesel\",\"'HC' refers to 'THC' \",IF($G$19=\"Natural Gas\",\"'HC' refers to 'NMHC' \",IF($G$19=\"Alcohol\",\"'HC' refers to 'THCE' \",\"\")))","v":""},{"$nulls":13},"Diesel",1,{"$nulls":6},1]
[null,null,"Test Location & Description:",{"$nulls":5},"Deterioration Factor Type:",{"$nulls":28},"Natural Gas",2,{"$nulls":6},2]
[{"$nulls":8},"Include Results from this Engine Family on Summary Sheet?",{"$nulls":6},"CO Standard ",{"$nulls":3},"PM Standard or FEL",{"$nulls":3},{"$f":"IF($AF$12=\"Y\",\"NOx+HC Standard or FEL\",\"HC Standard\")","v":"HC Standard"},{"$nulls":3},"NOx Standard or FEL",{"$nulls":9},"Alcohol",3,{"$nulls":6},3]
[null,null,"Carryover?:",{"$nulls":5},"Required Tests (including failure follow-ups)",{"$nulls":4},{"$f":"$FO36","v":0},null,"Units",null,"g/kW-hr",null,"Units",null,"g/kW-hr",null,"Units",null,"g/kW-hr",null,"Units",null,"g/kW-hr",{"$nulls":4},"Test Cycle Options",{"$nulls":10},4]
[null,null,{"$f":"IF($G$17=\"Y\",\"Please submit supporting documentation indicating that this is a carry-over engine family\",\"\")","v":""},{"$nulls":5},"Instead of testing, are PLT requirements for this Engine Family",{"$nulls":6},"CO  Det Factor",{"$nulls":3},"PM  Det Factor",{"$nulls":3},"HC Det Factor",{"$nulls":3},"NOx  Det Factor",{"$nulls":6},"1 = 4-Mode General Cycle (E3)",null,null,"Recreational"]
[null,null,"Fuel Type:",{"$nulls":5}," fulfilled under the following (Category 1 only)?",{"$nulls":6},"Det Factor Type",null,{"$f":"IF($N$15<>\"\",$N$15,\"\")","v":""},null,"Det Factor Type",null,{"$f":"IF($N$15<>\"\",$N$15,\"\")","v":""},null,"Det Factor Type",null,{"$f":"IF($N$15<>\"\",$N$15,\"\")","v":""},null,"Det Factor Type",null,{"$f":"IF($N$15<>\"\",$N$15,\"\")","v":""},{"$nulls":4},"2 = 5-Mode Recreational Cycle (E5)",null,null,"Commercial"]
[null,null,"Recreational/Commercial:",{"$nulls":5},"Please elaborate in the comments section.",{"$nulls":6},"CO Green Engine Factor",{"$nulls":3},"PM Green Engine Factor",{"$nulls":3},"HC Green Engine Factor",{"$nulls":3},"NOx Green Engine Factor",{"$nulls":6},"3 = 4-Mode Constant Speed Propulsion Cycle (E2)"]
[null,null,"Model Year:",{"$nulls":5},"    -1042.310(a) - EPA approved combining it, for PLT purposes only.",{"$nulls":25},"4 = 5-Mode Constant Speed Auxiliary Cycle (D2)"]
[null,null,"Tier:",{"$nulls":31},"5 = 6-Mode Variable Speed Auxiliary Cycle (G2)",null,null,"1 (E3)"]
[null,null,"Combined NOx+HC?",{"$nulls":31},"6 = 8-Mode Variable Speed Ausiliary Cycle (C1)",null,null,"2 (E5)"]
[null,null,"40 CFR Part:",{"$nulls":3},{"$f":"AN6","v":1042},null,"Additional testing required by EPA [40 CFR 1042.301(e)]? ",{"$nulls":25},"O = Other",null,null,"3 (E2)"]
[{"$nulls":37},"4 (D2)"]
[{"$nulls":37},"5 (G2)",{"$nulls":132},"deleted and redirected"]
[{"$nulls":22}," ",{"$nulls":14},"6 (C1)",4,{"$nulls":6},4]
[null,null,"Comments:",{"$nulls":34},"O (other)"]
[{"$nulls":22}," ",{"$nulls":22},"additive"]
[{"$nulls":45},"multiplicative",{"$nulls":22},"CO Rounding",{"$nulls":4},"CO Rounding",{"$nulls":4},"CO Rounding",{"$nulls":4},"CO Rounding",{"$nulls":10},"PM Rounding",{"$nulls":4},"PM Rounding",{"$nulls":4},"PM Rounding",{"$nulls":4},"PM Rounding",{"$nulls":10},"HC Rounding",{"$nulls":4},"HC Rounding",{"$nulls":4},"HC Rounding",{"$nulls":4},"HC Rounding",{"$nulls":10},"NOx Rounding",{"$nulls":4},"NOx Rounding",{"$nulls":4},"NOx Rounding",{"$nulls":4},"NOx Rounding"]
[{"$nulls":22}," ",{"$nulls":45},"initial",{"$nulls":4},"final",{"$nulls":4}," det final",{"$nulls":4},"ave of all final",{"$nulls":10},"initial",{"$nulls":4},"final",{"$nulls":4}," det final",{"$nulls":4},"ave of all final",{"$nulls":10},"initial",{"$nulls":4},"final",{"$nulls":4}," det final",{"$nulls":4},"ave of all final",{"$nulls":10},"initial",{"$nulls":4},"final",{"$nulls":4}," det final",{"$nulls":4},"ave of all final"]
[{"$nulls":38},"Y",{"$nulls":6},"Y"]
["PLT Engine Test Results: Engine Family #9",{"$nulls":37},"N",{"$nulls":6},"N",{"$nulls":124},"This is N17"]
[{"$nulls":36},"CO",null,"PM",null,null,"HC or HC+NOX",null,"Nox",null,"Engine Data Complete?",{"$nulls":11},"HC","HC","HC","HC","Nox","Nox","Nox","Nox",{"$nulls":107},"1% of production or pre-approved reduced sample size - whichever is Lower # "]
[null,"Calc Final Result?","Test Number","Test Date","Test Time","Test Qtr","Engine ID","Engine Make","Engine Configuration","Build Date","Green Engine Factor Applied?","Green Engine Factor Determination Method","Service Hours (or miles) Accumulation","Service Hours Location","Service Acc. Procedure","CO Initial Result ","Rounded CO Initial Result ","CO Final Result ","Det. CO Final Result ","PM Initial Result ","Rounded PM Initial Result ","PM Final Result ","Det. PM Final Result ","HC Initial Result ","Rounded HC Initial Result ","HC Final Result ","Det. HC Final Result ","NOx Initial Result ","Rounded NOx Initial Result ","NOx Final Result ","Det. NOx Final Result ","Reason for Failed Test (if applicable)","Remedy","Repairs","Test Cycle","Comments",0,0,0,0,0,0,0,0,{"$nulls":5},"Unrounded initial CO","Unrounded final CO","Det CO","Final CO","Unrounded initial PM","Unrounded final PM","Det PM","Final PM","Unrounded initial HCNOx","Unrounded final HCNOx","Det HCNOx","Final HCNOX","Unrounded initial NOx","Unrounded final NOx","Det NOx","Final HCNOX",{"$nulls":7},"rounded",{"$nulls":4},"rounded",{"$nulls":4},"rounded",{"$nulls":4},"rounded",{"$nulls":10},"rounded",{"$nulls":4},"rounded",{"$nulls":4},"rounded",{"$nulls":4},"rounded",{"$nulls":10},"rounded",{"$nulls":4},"rounded",{"$nulls":4},"rounded",{"$nulls":4},"rounded","ROUNDED AND ACCOUNT FOR BLANK",{"$nulls":9},"rounded",{"$nulls":4},"rounded",{"$nulls":4},"rounded",{"$nulls":4},"rounded","ROUNDED AND ACCOUNT FOR BLANK","Test complete Flag","Total complete","Fail Flag","req","val","baseline req","req due to fails","sum fails","baseline req"]
[1,{"$nulls":4},"N/A",{"$nulls":10},{"$f":"$BU36","v":""},{"$f":"$BZ36","v":""},{"$f":"$CE36","v":""},null,{"$f":"$CU36","v":""},{"$f":"$CZ36","v":""},{"$f":"$DE36","v":""},null,{"$f":"$DU36","v":""},{"$f":"$DZ36","v":""},{"$f":"$EE36","v":""},null,{"$f":"$EU36","v":""},{"$f":"$EZ36","v":""},{"$f":"$FE36","v":""},{"$nulls":5},{"$f":"IF($B36=\"N\",IF(AND($AK35<>\"\",$Q36<>\"\"),$AK35+$Q36,\"\"),IF($B36=\"Y\",0,\"\"))","v":""},{"$f":"IF($B36=\"N\",AL35+1,IF($B36=\"Y\",0,\"\"))","v":""},{"$f":"IF($B36=\"N\",IF(AND($AM35<>\"\",$U36<>\"\"),$AM35+$U36,\"\"),IF($B36=\"Y\",0,\"\"))","v":""},{"$f":"IF($B36=\"N\",AN35+1,IF($B36=\"Y\",0,\"\"))","v":""},{"$f":"IF($B36=\"N\",IF(AND($AO35<>\"\",$Y36<>\"\"),$AO35+$Y36,\"\"),IF($B36=\"Y\",0,\"\"))","v":""},{"$f":"IF($B36=\"N\",AP35+1,IF($B36=\"Y\",0,\"\"))","v":""},{"$f":"IF($B36=\"N\",IF(AND($AQ35<>\"\",$AC36<>\"\"),$AQ35+$AC36,\"\"),IF($B36=\"Y\",0,\"\"))","v":""},{"$f":"IF($B36=\"N\",AR35+1,IF($B36=\"Y\",0,\"\"))","v":""},null,{"$f":"IF(AND(B36<>\"\",C36<>\"\",D36<>\"\",E36<>\"\",G36<>\"\",H36<>\"\",I36<>\"\",J36<>\"\",K36<>\"\",M36<>\"\",N36<>\"\",O36<>\"\"),1,0)","v":0},{"$nulls":3},{"$f":"IF(AND($P36<>\"\",$AT36=1),$P36,\"\")","v":""},{"$f":"IF($B36=\"Y\",IF(AND($Q36<>\"\",$AK35<>\"\",$AL35<>\"\"),($Q36+$AK35)/($AL35+1),\"\"),\"\")","v":""},{"$f":"IF(AND($B36=\"Y\",$R36<>\"\",$R$18<>\"\"),IF($R$19=\"additive\",$R36+$R$18,IF($R$19=\"multiplicative\",$R36*$R$18,\"\")),\"\")","v":""},{"$f":"IF(COUNT($S$36:$S$85)>0,AVERAGE($S$36:$S$85),\"\")","v":""},{"$f":"IF(AND($T36<>\"\",$AT36=1),$T36,\"\")","v":""},{"$f":"IF($B36=\"Y\",IF(AND($U36<>\"\",$AM35<>\"\",$AN35<>\"\"),($U36+$AM35)/($AN35+1),\"\"),\"\")","v":""},{"$f":"IF(AND($B36=\"Y\",$V36<>\"\",$V$18<>\"\"),IF($V$19=\"additive\",$V36+$V$18,IF($V$19=\"multiplicative\",$V36*$V$18,\"\")),\"\")","v":""},{"$f":"IF(COUNT($W$36:$W$85)>0,AVERAGE($W$36:$W$85),\"\")","v":""},{"$f":"IF(AND($X36<>\"\",$AT36=1),$X36,\"\")","v":""},{"$f":"IF($B36=\"Y\",IF(AND($Y36<>\"\",$AO35<>\"\",$AP35<>\"\"),($Y36+$AO35)/($AP35+1),\"\"),\"\")","v":""},{"$f":"IF(AND($B36=\"Y\",$Z36<>\"\",$Z$18<>\"\"),IF($Z$19=\"additive\",$Z36+$Z$18,IF($Z$19=\"multiplicative\",$Z36*$Z$18,\"\")),\"\")","v":""},{"$f":"IF(COUNT($AA$36:$AA$85)>0,AVERAGE($AA$36:$AA$85),\"\")","v":""},{"$f":"IF(AND($AB36<>\"\",$AT36=1),$AB36,\"\")","v":""},{"$f":"IF($B36=\"Y\",IF(AND($AC36<>\"\",$AQ35<>\"\",$AR35<>\"\"),($AC36+$AQ35)/($AR35+1),\"\"),\"\")","v":""},{"$f":"IF(AND($B36=\"Y\",$AD36<>\"\",$AD$18<>\"\"),IF($AD$19=\"additive\",$AD36+$AD$18,IF($AD$19=\"multiplicative\",$AD36*$AD$18,\"\")),\"\")","v":""},{"$f":"IF(COUNT($AE$36:$AE$85)>0,AVERAGE($AE$36:$AE$85),\"\")","v":""},{"$nulls":7},{"$f":"IF($AX36<>\"\",ROUND($AX36,2),\"\")","v":""},{"$nulls":4},{"$f":"IF($AY36<>\"\",ROUND($AY36,2),\"\")","v":""},{"$nulls":4},{"$f":"IF($AZ36<>\"\",ROUND($AZ36,2),\"\")","v":""},{"$nulls":4},{"$f":"IF($BA36<>\"\",ROUND($BA36,2),\"\")","v":""},{"$nulls":10},{"$f":"IF($BB36<>\"\",ROUND($BB36,3),\"\")","v":""},{"$nulls":4},{"$f":"IF($BC36<>\"\",ROUND($BC36,3),\"\")","v":""},{"$nulls":4},{"$f":"IF($BD36<>\"\",ROUND($BD36,3),\"\")","v":""},{"$nulls":4},{"$f":"IF($BE36<>\"\",ROUND($BE36,3),\"\")","v":""},{"$nulls":10},{"$f":"IF($BF36<>\"\",ROUND($BF36,3),\"\")","v":""},{"$nulls":4},{"$f":"IF($BG36<>\"\",ROUND($BG36,3),\"\")","v":""},{"$nulls":4},{"$f":"IF($BH36<>\"\",ROUND($BH36,3),\"\")","v":""},{"$nulls":4},{"$f":"IF($BI36<>\"\",ROUND($BI36,3),\"\")","v":""},{"$f":"IF(EJ36=\"\",0,EJ36)","v":0},{"$nulls":9},{"$f":"IF($BJ36<>\"\",ROUND($BJ36,2),\"\")","v":""},{"$nulls":4},{"$f":"IF($BK36<>\"\",ROUND($BK36,2),\"\")","v":""},{"$nulls":4},{"$f":"IF($BL36<>\"\",ROUND($BL36,2),\"\")","v":""},{"$nulls":4},{"$f":"IF($BM36<>\"\",ROUND($BM36,2),\"\")","v":""},{"$f":"IF(FJ36=\"\",0,FJ36)","v":0},{"$f":"IF($AG$12<>\"CAT3\",IF(AND($B36=\"Y\",$S36<>\"\",$W36<>\"\",$AA36<>\"\",$AE36<>\"\"),1,0),IF($AE36<>\"\",1,0))","v":0},{"$f":"SUM($FL$36:$FL36)","v":0},{"$f":"IF($AG$12<>\"CAT3\",IF($FL36=1,IF(OR($S36>$R$16,$W36>$V$16,$AA36>$Z$16,IF($AF$12<>\"Y\",OR($AA36>$Z$16,$AE36>$AD$16),ROUND(($AA36+$AE36),2)>$Z$16)),1,0),0),IF($FL36=1,IF(AND($AE36>$AD$16,$AF$12=\"N\"),1,0),0))","v":0},{"$f":"IF(OR($M$11=\"\",$N$18=\"Y\"),0,IF($AG$12=\"CAT3\",$N$12,($FR$36+1)))","v":0},{"$f":"SUM(FL36:FL85)","v":0},{"$f":"IF(AND($G$17=\"Y\",$N$24<>\"\"),MIN($N$24,$FT$36),$FT$36)","v":0},{"$f":"$FS$36*2","v":0},{"$f":"SUM(FN36:FN85)","v":0},{"$f":"IF($N$12<>\"\",$N$12*0.01,0)","v":0}]
[{"$f":"A36+1","v":2},{"$nulls":4},"N/A",{"$nulls":10},"","","",null,"","","",null,"","","",null,"","","",{"$nulls":5},"",{"$f":"IF($B37=\"N\",AL36+1,IF($B37=\"Y\",0,\"\"))","v":""},"",{"$f":"IF($B37=\"N\",AN36+1,IF($B37=\"Y\",0,\"\"))","v":""},{"$f":"IF($B37=\"N\",IF(AND($AO36<>\"\",$Y37<>\"\"),$AO36+$Y37,\"\"),IF($B37=\"Y\",0,\"\"))","v":""},{"$f":"IF($B37=\"N\",AP36+1,IF($B37=\"Y\",0,\"\"))","v":""},{"$f":"IF($B37=\"N\",IF(AND($AQ36<>\"\",$AC37<>\"\"),$AQ36+$AC37,\"\"),IF($B37=\"Y\",0,\"\"))","v":""},{"$f":"IF($B37=\"N\",AR36+1,IF($B37=\"Y\",0,\"\"))","v":""},null,{"$f":"IF(AND(B37<>\"\",C37<>\"\",D37<>\"\",E37<>\"\",G37<>\"\",H37<>\"\",I37<>\"\",J37<>\"\",K37<>\"\",M37<>\"\",N37<>\"\",O37<>\"\"),1,0)","v":0},{"$nulls":3},"","",{"$f":"IF(AND($B37=\"Y\",$R37<>\"\",$R$18<>\"\"),IF($R$19=\"additive\",$R37+$R$18,IF($R$19=\"multiplicative\",$R37*$R$18,\"\")),\"\")","v":""},null,"","",{"$f":"IF(AND($B37=\"Y\",$V37<>\"\",$V$18<>\"\"),IF($V$19=\"additive\",$V37+$V$18,IF($V$19=\"multiplicative\",$V37*$V$18,\"\")),\"\")","v":""},null,{"$f":"IF(AND($X37<>\"\",$AT37=1),$X37,\"\")","v":""},{"$f":"IF($B37=\"Y\",IF(AND($Y37<>\"\",$AO36<>\"\",$AP36<>\"\"),($Y37+$AO36)/($AP36+1),\"\"),\"\")","v":""},{"$f":"IF(AND($B37=\"Y\",$Z37<>\"\",$Z$18<>\"\"),IF($Z$19=\"additive\",$Z37+$Z$18,IF($Z$19=\"multiplicative\",$Z37*$Z$18,\"\")),\"\")","v":""},null,{"$f":"IF(AND($AB37<>\"\",$AT37=1),$AB37,\"\")","v":""},{"$f":"IF($B37=\"Y\",IF(AND($AC37<>\"\",$AQ36<>\"\",$AR36<>\"\"),($AC37+$AQ36)/($AR36+1),\"\"),\"\")","v":""},{"$f":"IF(AND($B37=\"Y\",$AD37<>\"\",$AD$18<>\"\"),IF($AD$19=\"additive\",$AD37+$AD$18,IF($AD$19=\"multiplicative\",$AD37*$AD$18,\"\")),\"\")","v":""},{"$nulls":8},{"$f":"IF($AX37<>\"\",ROUND($AX37,2),\"\")","v":""},{"$nulls":4},{"$f":"IF($AY37<>\"\",ROUND($AY37,2),\"\")","v":""},{"$nulls":4},{"$f":"IF($AZ37<>\"\",ROUND($AZ37,2),\"\")","v":""},{"$nulls":15},{"$f":"IF($BB37<>\"\",ROUND($BB37,3),\"\")","v":""},{"$nulls":4},{"$f":"IF($BC37<>\"\",ROUND($BC37,3),\"\")","v":""},{"$nulls":4},{"$f":"IF($BD37<>\"\",ROUND($BD37,3),\"\")","v":""},{"$nulls":15},{"$f":"IF($BF37<>\"\",ROUND($BF37,3),\"\")","v":""},{"$nulls":4},{"$f":"IF($BG37<>\"\",ROUND($BG37,3),\"\")","v":""},{"$nulls":4},{"$f":"IF($BH37<>\"\",ROUND($BH37,3),\"\")","v":""},{"$nulls":15},{"$f":"IF($BJ37<>\"\",ROUND($BJ37,2),\"\")","v":""},{"$nulls":4},{"$f":"IF($BK37<>\"\",ROUND($BK37,2),\"\")","v":""},{"$nulls":4},{"$f":"IF($BL37<>\"\",ROUND($BL37,2),\"\")","v":""},{"$nulls":6},{"$f":"IF($AG$12<>\"CAT3\",IF(AND($B37=\"Y\",$S37<>\"\",$W37<>\"\",$AA37<>\"\",$AE37<>\"\"),1,0),IF($AE37<>\"\",1,0))","v":0},{"$f":"SUM($FL$36:$FL37)","v":0},{"$f":"IF($AG$12<>\"CAT3\",IF($FL37=1,IF(OR($S37>$R$16,$W37>$V$16,$AA37>$Z$16,IF($AF$12<>\"Y\",OR($AA37>$Z$16,$AE37>$AD$16),ROUND(($AA37+$AE37),2)>$Z$16)),1,0),0),IF($FL37=1,IF(AND($AE37>$AD$16,$AF$12=\"N\"),1,0),0))","v":0},null,null,{"$f":"MAX($FQ$36,$FL$10)","v":1}]
[{"$f":"A37+1","v":3},{"$nulls":4},"N/A",{"$nulls":10},"","","",null,"","","",null,"","","",null,"","","",{"$nulls":5},"","","","","","","","",null,0,{"$nulls":3},"","","",null,"","","",null,"","","",null,"","","",{"$nulls":8},"",{"$nulls":4},"",{"$nulls":4},"",{"$nulls":15},"",{"$nulls":4},"",{"$nulls":4},"",{"$nulls":15},"",{"$nulls":4},"",{"$nulls":4},"",{"$nulls":15},"",{"$nulls":4},"",{"$nulls":4},"",{"$nulls":6},0,{"$f":"SUM($FL$36:$FL38)","v":0},0]
[4,{"$nulls":4},"N/A",{"$nulls":10},"","","",null,"","","",null,"","","",null,"","","",{"$nulls":5},"","","","","","","","",null,0,{"$nulls":3},"","","",null,"","","",null,"","","",null,"","","",{"$nulls":8},"",{"$nulls":4},"",{"$nulls":4},"",{"$nulls":15},"",{"$nulls":4},"",{"$nulls":4},"",{"$nulls":15},"",{"$nulls":4},"",{"$nulls":4},"",{"$nulls":15},"",{"$nulls":4},"",{"$nulls":4},"",{"$nulls":6},0,{"$f":"SUM($FL$36:$FL39)","v":0},0,null,null,"then, the larger of that sample size or 1  (or if Part 94 and cat1,  can be 0)"]
[5,{"$nulls":4},"N/A",{"$nulls":10},"","","",null,"","","",null,"","","",null,"","","",{"$nulls":5},"","","","","","","","",null,0,{"$nulls":3},"","","",null,"","","",null,"","","",null,"","","",{"$nulls":8},"",{"$nulls":4},"",{"$nulls":4},"",{"$nulls":15},"",{"$nulls":4},"",{"$nulls":4},"",{"$nulls":15},"",{"$nulls":4},"",{"$nulls":4},"",{"$nulls":15},"",{"$nulls":4},"",{"$nulls":4},"",{"$nulls":6},0,{"$f":"SUM($FL$36:$FL40)","v":0},0]
[6,{"$nulls":4},"N/A",{"$nulls":10},"","","",null,"","","",null,"","","",null,"","","",{"$nulls":5},"","","","","","","","",null,0,{"$nulls":3},"","","",null,"","","",null,"","","",null,"","","",{"$nulls":8},"",{"$nulls":4},"",{"$nulls":4},"",{"$nulls":15},"",{"$nulls":4},"",{"$nulls":4},"",{"$nulls":15},"",{"$nulls":4},"",{"$nulls":4},"",{"$nulls":15},"",{"$nulls":4},"",{"$nulls":4},"",{"$nulls":6},0,{"$f":"SUM($FL$36:$FL41)","v":0},0]
[7,{"$nulls":4},"N/A",{"$nulls":10},"","","",null,"","","",null,"","","",null,"","","",{"$nulls":5},"","","","","","","","",null,0,{"$nulls":3},"","","",null,"","","",null,"","","",null,"","","",{"$nulls":8},"",{"$nulls":4},"",{"$nulls":4},"",{"$nulls":15},"",{"$nulls":4},"",{"$nulls":4},"",{"$nulls":15},"",{"$nulls":4},"",{"$nulls":4},"",{"$nulls":15},"",{"$nulls":4},"",{"$nulls":4},"",{"$nulls":6},0,{"$f":"SUM($FL$36:$FL42)","v":0},0]
[8,{"$nulls":4},"N/A",{"$nulls":10},"","","",null,"","","",null,"","","",null,"","","",{"$nulls":5},"","","","","","","","",null,0,{"$nulls":3},"","","",null,"","","",null,"","","",null,"","","",{"$nulls":8},"",{"$nulls":4},"",{"$nulls":4},"",{"$nulls":15},"",{"$nulls":4},"",{"$nulls":4},"",{"$nulls":15},"",{"$nulls":4},"",{"$nulls":4},"",{"$nulls":15},"",{"$nulls":4},"",{"$nulls":4},"",{"$nulls":6},0,{"$f":"SUM($FL$36:$FL43)","v":0},0]
[9,{"$nulls":4},"N/A",{"$nulls":10},"","","",null,"","","",null,"","","",null,"","","",{"$nulls":5},"","","","","","","","",null,0,{"$nulls":3},"","","",null,"","","",null,"","","",null,"","","",{"$nulls":8},"",{"$nulls":4},"",{"$nulls":4},"",{"$nulls":15},"",{"$nulls":4},"",{"$nulls":4},"",{"$nulls":15},"",{"$nulls":4},"",{"$nulls":4},"",{"$nulls":15},"",{"$nulls":4},"",{"$nulls":4},"",{"$nulls":6},0,{"$f":"SUM($FL$36:$FL44)","v":0},0]
[10,{"$nulls":4},"N/A",{"$nulls":10},"","","",null,"","","",null,"","","",null,"","","",{"$nulls":5},"","","","","","","","",null,0,{"$nulls":3},"","","",null,"","","",null,"","","",null,"","","",{"$nulls":8},"",{"$nulls":4},"",{"$nulls":4},"",{"$nulls":15},"",{"$nulls":4},"",{"$nulls":4},"",{"$nulls":15},"",{"$nulls":4},"",{"$nulls":4},"",{"$nulls":15},"",{"$nulls":4},"",{"$nulls":4},"",{"$nulls":6},0,{"$f":"SUM($FL$36:$FL45)","v":0},0]
[11,{"$nulls":4},"N/A",{"$nulls":10},"","","",null,"","","",null,"","","",null,"","","",{"$nulls":5},"","","","","","","","",null,0,{"$nulls":3},"","","",null,"","","",null,"","","",null,"","","",{"$nulls":8},"",{"$nulls":4},"",{"$nulls":4},"",{"$nulls":15},"",{"$nulls":4},"",{"$nulls":4},"",{"$nulls":15},"",{"$nulls":4},"",{"$nulls":4},"",{"$nulls":15},"",{"$nulls":4},"",{"$nulls":4},"",{"$nulls":6},0,{"$f":"SUM($FL$36:$FL46)","v":0},0]
[12,{"$nulls":4},"N/A",{"$nulls":10},"","","",null,"","","",null,"","","",null,"","","",{"$nulls":5},"","","","","","","","",null,0,{"$nulls":3},"","","",null,"","","",null,"","","",null,"","","",{"$nulls":8},"",{"$nulls":4},"",{"$nulls":4},"",{"$nulls":15},"",{"$nulls":4},"",{"$nulls":4},"",{"$nulls":15},"",{"$nulls":4},"",{"$nulls":4},"",{"$nulls":15},"",{"$nulls":4},"",{"$nulls":4},"",{"$nulls":6},0,{"$f":"SUM($FL$36:$FL47)","v":0},0]
[13,{"$nulls":4},"N/A",{"$nulls":10},"","","",null,"","","",null,"","","",null,"","","",{"$nulls":5},"","","","","","","","",null,0,{"$nulls":3},"","","",null,"","","",null,"","","",null,"","","",{"$nulls":8},"",{"$nulls":4},"",{"$nulls":4},"",{"$nulls":15},"",{"$nulls":4},"",{"$nulls":4},"",{"$nulls":15},"",{"$nulls":4},"",{"$nulls":4},"",{"$nulls":15},"",{"$nulls":4},"",{"$nulls":4},"",{"$nulls":6},0,{"$f":"SUM($FL$36:$FL48)","v":0},0]
[14,{"$nulls":4},"N/A",{"$nulls":10},"","","",null,"","","",null,"","","",null,"","","",{"$nulls":5},"","","","","","","","",null,0,{"$nulls":3},"","","",null,"","","",null,"","","",null,"","","",{"$nulls":8},"",{"$nulls":4},"",{"$nulls":4},"",{"$nulls":15},"",{"$nulls":4},"",{"$nulls":4},"",{"$nulls":15},"",{"$nulls":4},"",{"$nulls":4},"",{"$nulls":15},"",{"$nulls":4},"",{"$nulls":4},"",{"$nulls":6},0,{"$f":"SUM($FL$36:$FL49)","v":0},0]
[15,{"$nulls":4},"N/A",{"$nulls":10},"","","",null,"","","",null,"","","",null,"","","",{"$nulls":5},"","","","","","","","",null,0,{"$nulls":3},"","","",null,"","","",null,"","","",null,"","","",{"$nulls":8},"",{"$nulls":4},"",{"$nulls":4},"",{"$nulls":15},"",{"$nulls":4},"",{"$nulls":4},"",{"$nulls":15},"",{"$nulls":4},"",{"$nulls":4},"",{"$nulls":15},"",{"$nulls":4},"",{"$nulls":4},"",{"$nulls":6},0,{"$f":"SUM($FL$36:$FL50)","v":0},0]
[16,{"$nulls":4},"N/A",{"$nulls":10},"","","",null,"","","",null,"","","",null,"","","",{"$nulls":5},"","","","","","","","",null,0,{"$nulls":3},"","","",null,"","","",null,"","","",null,"","","",{"$nulls":8},"",{"$nulls":4},"",{"$nulls":4},"",{"$nulls":15},"",{"$nulls":4},"",{"$nulls":4},"",{"$nulls":15},"",{"$nulls":4},"",{"$nulls":4},"",{"$nulls":15},"",{"$nulls":4},"",{"$nulls":4},"",{"$nulls":6},0,{"$f":"SUM($FL$36:$FL51)","v":0},0]
[17,{"$nulls":4},"N/A",{"$nulls":10},"","","",null,"","","",null,"","","",null,"","","",{"$nulls":5},"","","","","","","","",null,0,{"$nulls":3},"","","",null,"","","",null,"","","",null,"","","",{"$nulls":8},"",{"$nulls":4},"",{"$nulls":4},"",{"$nulls":15},"",{"$nulls":4},"",{"$nulls":4},"",{"$nulls":15},"",{"$nulls":4},"",{"$nulls":4},"",{"$nulls":15},"",{"$nulls":4},"",{"$nulls":4},"",{"$nulls":6},0,{"$f":"SUM($FL$36:$FL52)","v":0},0]
[18,{"$nulls":4},"N/A",{"$nulls":10},"","","",null,"","","",null,"","","",null,"","","",{"$nulls":5},"","","","","","","","",null,0,{"$nulls":3},"","","",null,"","","",null,"","","",null,"","","",{"$nulls":8},"",{"$nulls":4},"",{"$nulls":4},"",{"$nulls":15},"",{"$nulls":4},"",{"$nulls":4},"",{"$nulls":15},"",{"$nulls":4},"",{"$nulls":4},"",{"$nulls":15},"",{"$nulls":4},"",{"$nulls":4},"",{"$nulls":6},0,{"$f":"SUM($FL$36:$FL53)","v":0},0]
[19,{"$nulls":4},"N/A",{"$nulls":10},"","","",null,"","","",null,"","","",null,"","","",{"$nulls":5},"","","","","","","","",null,0,{"$nulls":3},"","","",null,"","","",null,"","","",null,"","","",{"$nulls":8},"",{"$nulls":4},"",{"$nulls":4},"",{"$nulls":15},"",{"$nulls":4},"",{"$nulls":4},"",{"$nulls":15},"",{"$nulls":4},"",{"$nulls":4},"",{"$nulls":15},"",{"$nulls":4},"",{"$nulls":4},"",{"$nulls":6},0,{"$f":"SUM($FL$36:$FL54)","v":0},0]
[20,{"$nulls":4},"N/A",{"$nulls":10},"","","",null,"","","",null,"","","",null,"","","",{"$nulls":5},"","","","","","","","",null,0,{"$nulls":3},"","","",null,"","","",null,"","","",null,"","","",{"$nulls":8},"",{"$nulls":4},"",{"$nulls":4},"",{"$nulls":15},"",{"$nulls":4},"",{"$nulls":4},"",{"$nulls":15},"",{"$nulls":4},"",{"$nulls":4},"",{"$nulls":15},"",{"$nulls":4},"",{"$nulls":4},"",{"$nulls":6},0,{"$f":"SUM($FL$36:$FL55)","v":0},0]
[21,{"$nulls":4},"N/A",{"$nulls":10},"","","",null,"","","",null,"","","",null,"","","",{"$nulls":5},"","","","","","","","",null,0,{"$nulls":3},"","","",null,"","","",null,"","","",null,"","","",{"$nulls":8},"",{"$nulls":4},"",{"$nulls":4},"",{"$nulls":15},"",{"$nulls":4},"",{"$nulls":4},"",{"$nulls":15},"",{"$nulls":4},"",{"$nulls":4},"",{"$nulls":15},"",{"$nulls":4},"",{"$nulls":4},"",{"$nulls":6},0,{"$f":"SUM($FL$36:$FL56)","v":0},0]
[22,{"$nulls":4},"N/A",{"$nulls":10},"","","",null,"","","",null,"","","",null,"","","",{"$nulls":5},"","","","","","","","",null,0,{"$nulls":3},"","","",null,"","","",null,"","","",null,"","","",{"$nulls":8},"",{"$nulls":4},"",{"$nulls":4},"",{"$nulls":15},"",{"$nulls":4},"",{"$nulls":4},"",{"$nulls":15},"",{"$nulls":4},"",{"$nulls":4},"",{"$nulls":15},"",{"$nulls":4},"",{"$nulls":4},"",{"$nulls":6},0,{"$f":"SUM($FL$36:$FL57)","v":0},0]
[23,{"$nulls":4},"N/A",{"$nulls":10},"","","",null,"","","",null,"","","",null,"","","",{"$nulls":5},"","","","","","","","",null,0,{"$nulls":3},"","","",null,"","","",null,"","","",null,"","","",{"$nulls":8},"",{"$nulls":4},"",{"$nulls":4},"",{"$nulls":15},"",{"$nulls":4},"",{"$nulls":4},"",{"$nulls":15},"",{"$nulls":4},"",{"$nulls":4},"",{"$nulls":15},"",{"$nulls":4},"",{"$nulls":4},"",{"$nulls":6},0,{"$f":"SUM($FL$36:$FL58)","v":0},0]
[24,{"$nulls":4},"N/A",{"$nulls":10},"","","",null,"","","",null,"","","",null,"","","",{"$nulls":5},"","","","","","","","",null,0,{"$nulls":3},"","","",null,"","","",null,"","","",null,"","","",{"$nulls":8},"",{"$nulls":4},"",{"$nulls":4},"",{"$nulls":15},"",{"$nulls":4},"",{"$nulls":4},"",{"$nulls":15},"",{"$nulls":4},"",{"$nulls":4},"",{"$nulls":15},"",{"$nulls":4},"",{"$nulls":4},"",{"$nulls":6},0,{"$f":"SUM($FL$36:$FL59)","v":0},0]
[25,{"$nulls":4},"N/A",{"$nulls":10},"","","",null,"","","",null,"","","",null,"","","",{"$nulls":5},"","","","","","","","",null,0,{"$nulls":3},"","","",null,"","","",null,"","","",null,"","","",{"$nulls":8},"",{"$nulls":4},"",{"$nulls":4},"",{"$nulls":15},"",{"$nulls":4},"",{"$nulls":4},"",{"$nulls":15},"",{"$nulls":4},"",{"$nulls":4},"",{"$nulls":15},"",{"$nulls":4},"",{"$nulls":4},"",{"$nulls":6},0,{"$f":"SUM($FL$36:$FL60)","v":0},0]
[26,{"$nulls":4},"N/A",{"$nulls":10},"","","",null,"","","",null,"","","",null,"","","",{"$nulls":5},"","","","","","","","",null,0,{"$nulls":3},"","","",null,"","","",null,"","","",null,"","","",{"$nulls":8},"",{"$nulls":4},"",{"$nulls":4},"",{"$nulls":15},"",{"$nulls":4},"",{"$nulls":4},"",{"$nulls":15},"",{"$nulls":4},"",{"$nulls":4},"",{"$nulls":15},"",{"$nulls":4},"",{"$nulls":4},"",{"$nulls":6},0,{"$f":"SUM($FL$36:$FL61)","v":0},0]
[27,{"$nulls":4},"N/A",{"$nulls":10},"","","",null,"","","",null,"","","",null,"","","",{"$nulls":5},"","","","","","","","",null,0,{"$nulls":3},"","","",null,"","","",null,"","","",null,"","","",{"$nulls":8},"",{"$nulls":4},"",{"$nulls":4},"",{"$nulls":15},"",{"$nulls":4},"",{"$nulls":4},"",{"$nulls":15},"",{"$nulls":4},"",{"$nulls":4},"",{"$nulls":15},"",{"$nulls":4},"",{"$nulls":4},"",{"$nulls":6},0,{"$f":"SUM($FL$36:$FL62)","v":0},0]
[28,{"$nulls":4},"N/A",{"$nulls":10},"","","",null,"","","",null,"","","",null,"","","",{"$nulls":5},"","","","","","","","",null,0,{"$nulls":3},"","","",null,"","","",null,"","","",null,"","","",{"$nulls":8},"",{"$nulls":4},"",{"$nulls":4},"",{"$nulls":15},"",{"$nulls":4},"",{"$nulls":4},"",{"$nulls":15},"",{"$nulls":4},"",{"$nulls":4},"",{"$nulls":15},"",{"$nulls":4},"",{"$nulls":4},"",{"$nulls":6},0,{"$f":"SUM($FL$36:$FL63)","v":0},0]
[29,{"$nulls":4},"N/A",{"$nulls":10},"","","",null,"","","",null,"","","",null,"","","",{"$nulls":5},"","","","","","","","",null,0,{"$nulls":3},"","","",null,"","","",null,"","","",null,"","","",{"$nulls":8},"",{"$nulls":4},"",{"$nulls":4},"",{"$nulls":15},"",{"$nulls":4},"",{"$nulls":4},"",{"$nulls":15},"",{"$nulls":4},"",{"$nulls":4},"",{"$nulls":15},"",{"$nulls":4},"",{"$nulls":4},"",{"$nulls":6},0,{"$f":"SUM($FL$36:$FL64)","v":0},0]
[30,{"$nulls":4},"N/A",{"$nulls":10},"","","",null,"","","",null,"","","",null,"","","",{"$nulls":5},"","","","","","","","",null,0,{"$nulls":3},"","","",null,"","","",null,"","","",null,"","","",{"$nulls":8},"",{"$nulls":4},"",{"$nulls":4},"",{"$nulls":15},"",{"$nulls":4},"",{"$nulls":4},"",{"$nulls":15},"",{"$nulls":4},"",{"$nulls":4},"",{"$nulls":15},"",{"$nulls":4},"",{"$nulls":4},"",{"$nulls":6},0,{"$f":"SUM($FL$36:$FL65)","v":0},0]
[31,{"$nulls":4},"N/A",{"$nulls":10},"","","",null,"","","",null,"","","",null,"","","",{"$nulls":5},"","","","","","","","",null,0,{"$nulls":3},"","","",null,"","","",null,"","","",null,"","","",{"$nulls":8},"",{"$nulls":4},"",{"$nulls":4},"",{"$nulls":15},"",{"$nulls":4},"",{"$nulls":4},"",{"$nulls":15},"",{"$nulls":4},"",{"$nulls":4},"",{"$nulls":15},"",{"$nulls":4},"",{"$nulls":4},"",{"$nulls":6},0,{"$f":"SUM($FL$36:$FL66)","v":0},0]
[32,{"$nulls":4},"N/A",{"$nulls":10},"","","",null,"","","",null,"","","",null,"","","",{"$nulls":5},"","","","","","","","",null,0,{"$nulls":3},"","","",null,"","","",null,"","","",null,"","","",{"$nulls":8},"",{"$nulls":4},"",{"$nulls":4},"",{"$nulls":15},"",{"$nulls":4},"",{"$nulls":4},"",{"$nulls":15},"",{"$nulls":4},"",{"$nulls":4},"",{"$nulls":15},"",{"$nulls":4},"",{"$nulls":4},"",{"$nulls":6},0,{"$f":"SUM($FL$36:$FL67)","v":0},0]
[33,{"$nulls":4},"N/A",{"$nulls":10},"","","",null,"","","",null,"","","",null,"","","",{"$nulls":5},"","","","","","","","",null,0,{"$nulls":3},"","","",null,"","","",null,"","","",null,"","","",{"$nulls":8},"",{"$nulls":4},"",{"$nulls":4},"",{"$nulls":15},"",{"$nulls":4},"",{"$nulls":4},"",{"$nulls":15},"",{"$nulls":4},"",{"$nulls":4},"",{"$nulls":15},"",{"$nulls":4},"",{"$nulls":4},"",{"$nulls":6},0,{"$f":"SUM($FL$36:$FL68)","v":0},0]
[34,{"$nulls":4},"N/A",{"$nulls":10},"","","",null,"","","",null,"","","",null,"","","",{"$nulls":5},"","","","","","","","",null,0,{"$nulls":3},"","","",null,"","","",null,"","","",null,"","","",{"$nulls":8},"",{"$nulls":4},"",{"$nulls":4},"",{"$nulls":15},"",{"$nulls":4},"",{"$nulls":4},"",{"$nulls":15},"",{"$nulls":4},"",{"$nulls":4},"",{"$nulls":15},"",{"$nulls":4},"",{"$nulls":4},"",{"$nulls":6},0,{"$f":"SUM($FL$36:$FL69)","v":0},0]
[35,{"$nulls":4},"N/A",{"$nulls":10},"","","",null,"","","",null,"","","",null,"","","",{"$nulls":5},"","","","","","","","",null,0,{"$nulls":3},"","","",null,"","","",null,"","","",null,"","","",{"$nulls":8},"",{"$nulls":4},"",{"$nulls":4},"",{"$nulls":15},"",{"$nulls":4},"",{"$nulls":4},"",{"$nulls":15},"",{"$nulls":4},"",{"$nulls":4},"",{"$nulls":15},"",{"$nulls":4},"",{"$nulls":4},"",{"$nulls":6},0,{"$f":"SUM($FL$36:$FL70)","v":0},0]
[36,{"$nulls":4},"N/A",{"$nulls":10},"","","",null,"","","",null,"","","",null,"","","",{"$nulls":5},"","","","","","","","",null,0,{"$nulls":3},"","","",null,"","","",null,"","","",null,"","","",{"$nulls":8},"",{"$nulls":4},"",{"$nulls":4},"",{"$nulls":15},"",{"$nulls":4},"",{"$nulls":4},"",{"$nulls":15},"",{"$nulls":4},"",{"$nulls":4},"",{"$nulls":15},"",{"$nulls":4},"",{"$nulls":4},"",{"$nulls":6},0,{"$f":"SUM($FL$36:$FL71)","v":0},0]
[37,{"$nulls":4},"N/A",{"$nulls":10},"","","",null,"","","",null,"","","",null,"","","",{"$nulls":5},"","","","","","","","",null,0,{"$nulls":3},"","","",null,"","","",null,"","","",null,"","","",{"$nulls":8},"",{"$nulls":4},"",{"$nulls":4},"",{"$nulls":15},"",{"$nulls":4},"",{"$nulls":4},"",{"$nulls":15},"",{"$nulls":4},"",{"$nulls":4},"",{"$nulls":15},"",{"$nulls":4},"",{"$nulls":4},"",{"$nulls":6},0,{"$f":"SUM($FL$36:$FL72)","v":0},0]
[38,{"$nulls":4},"N/A",{"$nulls":10},"","","",null,"","","",null,"","","",null,"","","",{"$nulls":5},"","","","","","","","",null,0,{"$nulls":3},"","","",null,"","","",null,"","","",null,"","","",{"$nulls":8},"",{"$nulls":4},"",{"$nulls":4},"",{"$nulls":15},"",{"$nulls":4},"",{"$nulls":4},"",{"$nulls":15},"",{"$nulls":4},"",{"$nulls":4},"",{"$nulls":15},"",{"$nulls":4},"",{"$nulls":4},"",{"$nulls":6},0,{"$f":"SUM($FL$36:$FL73)","v":0},0]
[39,{"$nulls":4},"N/A",{"$nulls":10},"","","",null,"","","",null,"","","",null,"","","",{"$nulls":5},"","","","","","","","",null,0,{"$nulls":3},"","","",null,"","","",null,"","","",null,"","","",{"$nulls":8},"",{"$nulls":4},"",{"$nulls":4},"",{"$nulls":15},"",{"$nulls":4},"",{"$nulls":4},"",{"$nulls":15},"",{"$nulls":4},"",{"$nulls":4},"",{"$nulls":15},"",{"$nulls":4},"",{"$nulls":4},"",{"$nulls":6},0,{"$f":"SUM($FL$36:$FL74)","v":0},0]
[40,{"$nulls":4},"N/A",{"$nulls":10},"","","",null,"","","",null,"","","",null,"","","",{"$nulls":5},"","","","","","","","",null,0,{"$nulls":3},"","","",null,"","","",null,"","","",null,"","","",{"$nulls":8},"",{"$nulls":4},"",{"$nulls":4},"",{"$nulls":15},"",{"$nulls":4},"",{"$nulls":4},"",{"$nulls":15},"",{"$nulls":4},"",{"$nulls":4},"",{"$nulls":15},"",{"$nulls":4},"",{"$nulls":4},"",{"$nulls":6},0,{"$f":"SUM($FL$36:$FL75)","v":0},0]
[41,{"$nulls":4},"N/A",{"$nulls":10},"","","",null,"","","",null,"","","",null,"","","",{"$nulls":5},"","","","","","","","",null,0,{"$nulls":3},"","","",null,"","","",null,"","","",null,"","","",{"$nulls":8},"",{"$nulls":4},"",{"$nulls":4},"",{"$nulls":15},"",{"$nulls":4},"",{"$nulls":4},"",{"$nulls":15},"",{"$nulls":4},"",{"$nulls":4},"",{"$nulls":15},"",{"$nulls":4},"",{"$nulls":4},"",{"$nulls":6},0,{"$f":"SUM($FL$36:$FL76)","v":0},0]
[42,{"$nulls":4},"N/A",{"$nulls":10},"","","",null,"","","",null,"","","",null,"","","",{"$nulls":5},"","","","","","","","",null,0,{"$nulls":3},"","","",null,"","","",null,"","","",null,"","","",{"$nulls":8},"",{"$nulls":4},"",{"$nulls":4},"",{"$nulls":15},"",{"$nulls":4},"",{"$nulls":4},"",{"$nulls":15},"",{"$nulls":4},"",{"$nulls":4},"",{"$nulls":15},"",{"$nulls":4},"",{"$nulls":4},"",{"$nulls":6},0,{"$f":"SUM($FL$36:$FL77)","v":0},0]
[43,{"$nulls":4},"N/A",{"$nulls":10},"","","",null,"","","",null,"","","",null,"","","",{"$nulls":5},"","","","","","","","",null,0,{"$nulls":3},"","","",null,"","","",null,"","","",null,"","","",{"$nulls":8},"",{"$nulls":4},"",{"$nulls":4},"",{"$nulls":15},"",{"$nulls":4},"",{"$nulls":4},"",{"$nulls":15},"",{"$nulls":4},"",{"$nulls":4},"",{"$nulls":15},"",{"$nulls":4},"",{"$nulls":4},"",{"$nulls":6},0,{"$f":"SUM($FL$36:$FL78)","v":0},0]
[44,{"$nulls":4},"N/A",{"$nulls":10},"","","",null,"","","",null,"","","",null,"","","",{"$nulls":5},"","","","","","","","",null,0,{"$nulls":3},"","","",null,"","","",null,"","","",null,"","","",{"$nulls":8},"",{"$nulls":4},"",{"$nulls":4},"",{"$nulls":15},"",{"$nulls":4},"",{"$nulls":4},"",{"$nulls":15},"",{"$nulls":4},"",{"$nulls":4},"",{"$nulls":15},"",{"$nulls":4},"",{"$nulls":4},"",{"$nulls":6},0,{"$f":"SUM($FL$36:$FL79)","v":0},0]
[45,{"$nulls":4},"N/A",{"$nulls":10},"","","",null,"","","",null,"","","",null,"","","",{"$nulls":5},"","","","","","","","",null,0,{"$nulls":3},"","","",null,"","","",null,"","","",null,"","","",{"$nulls":8},"",{"$nulls":4},"",{"$nulls":4},"",{"$nulls":15},"",{"$nulls":4},"",{"$nulls":4},"",{"$nulls":15},"",{"$nulls":4},"",{"$nulls":4},"",{"$nulls":15},"",{"$nulls":4},"",{"$nulls":4},"",{"$nulls":6},0,{"$f":"SUM($FL$36:$FL80)","v":0},0]
[46,{"$nulls":4},"N/A",{"$nulls":10},"","","",null,"","","",null,"","","",null,"","","",{"$nulls":5},"","","","","","","","",null,0,{"$nulls":3},"","","",null,"","","",null,"","","",null,"","","",{"$nulls":8},"",{"$nulls":4},"",{"$nulls":4},"",{"$nulls":15},"",{"$nulls":4},"",{"$nulls":4},"",{"$nulls":15},"",{"$nulls":4},"",{"$nulls":4},"",{"$nulls":15},"",{"$nulls":4},"",{"$nulls":4},"",{"$nulls":6},0,{"$f":"SUM($FL$36:$FL81)","v":0},0]
[47,{"$nulls":4},"N/A",{"$nulls":10},"","","",null,"","","",null,"","","",null,"","","",{"$nulls":5},"","","","","","","","",null,0,{"$nulls":3},"","","",null,"","","",null,"","","",null,"","","",{"$nulls":8},"",{"$nulls":4},"",{"$nulls":4},"",{"$nulls":15},"",{"$nulls":4},"",{"$nulls":4},"",{"$nulls":15},"",{"$nulls":4},"",{"$nulls":4},"",{"$nulls":15},"",{"$nulls":4},"",{"$nulls":4},"",{"$nulls":6},0,{"$f":"SUM($FL$36:$FL82)","v":0},0]
[48,{"$nulls":4},"N/A",{"$nulls":10},"","","",null,"","","",null,"","","",null,"","","",{"$nulls":5},"","","","","","","","",null,0,{"$nulls":3},"","","",null,"","","",null,"","","",null,"","","",{"$nulls":8},"",{"$nulls":4},"",{"$nulls":4},"",{"$nulls":15},"",{"$nulls":4},"",{"$nulls":4},"",{"$nulls":15},"",{"$nulls":4},"",{"$nulls":4},"",{"$nulls":15},"",{"$nulls":4},"",{"$nulls":4},"",{"$nulls":6},0,{"$f":"SUM($FL$36:$FL83)","v":0},0]
[49,{"$nulls":4},"N/A",{"$nulls":10},"","","",null,"","","",null,"","","",null,"","","",{"$nulls":5},"","","","","","","","",null,0,{"$nulls":3},"","","",null,"","","",null,"","","",null,"","","",{"$nulls":8},"",{"$nulls":4},"",{"$nulls":4},"",{"$nulls":15},"",{"$nulls":4},"",{"$nulls":4},"",{"$nulls":15},"",{"$nulls":4},"",{"$nulls":4},"",{"$nulls":15},"",{"$nulls":4},"",{"$nulls":4},"",{"$nulls":6},0,{"$f":"SUM($FL$36:$FL84)","v":0},0]
[50,{"$nulls":4},"N/A",{"$nulls":10},"","","",null,"","","",null,"","","",null,"","","",{"$nulls":5},"","","","","","","","",null,0,{"$nulls":3},"","","",null,"","","",null,"","","",null,"",{"$f":"IF($B85=\"Y\",IF(AND($AC85<>\"\",$AQ84<>\"\",$AR84<>\"\"),($AC85+$AQ84)/($AR84+1),\"\"),\"\")","v":""},"",{"$nulls":8},"",{"$nulls":4},"",{"$nulls":4},"",{"$nulls":15},"",{"$nulls":4},"",{"$nulls":4},"",{"$nulls":15},"",{"$nulls":4},"",{"$nulls":4},"",{"$nulls":15},"",{"$nulls":4},"",{"$nulls":4},"",{"$nulls":6},0,{"$f":"SUM($FL$36:$FL85)","v":0},0]
[null,null,{"$f":"SUM(C36:C85)","v":0}]
["g/bhp-hr"]
["g/kW-hr"]

{"sheet":"Engine Family #10","index":12,"n_rows":88,"n_cols":176,"rows_kept":88,"merged":[[1,0,1,35],[2,0,2,35],[3,0,3,35],[4,0,4,35],[5,0,5,35],[6,0,6,35],[8,0,8,16],[10,4,10,6],[10,12,10,13],[11,4,11,6],[11,15,11,16],[11,19,11,20],[11,23,11,24],[11,27,11,28],[12,4,12,6],[13,4,13,6],[14,4,15,6],[17,14,22,14],[27,4,30,13],[27,15,28,16],[32,0,32,16],[32,17,32,33],[32,34,32,35],[33,45,34,45]]}
[]
["United States"]
["US Environmental Protection Agency"]
["Office of Air and Radiation, Office of Transportation and Air Quality"]
[{"$nulls":37},"Tier 2","Y",94]
["Manufacturer Production Line Testing Report for Marine Compression Ignition Engines",{"$nulls":36},"Tier 3","N",1042]
[{"$f":"Summary!B7","v":"Version Number: 1.4 DRAFT  Last Revision: September 2023"},{"$nulls":36},"Tier 4",null,"N/A"]
[]
["Basic Information: Engine Family #10"]
[{"$nulls":167},{"$f":"IF(AND($G$24=94,Summary!$L$13=\"Category 1\"),0,1)","v":1}]
[null,null,"Manufacturer:",null,{"$f":"IF(Summary!D12<>\"\",Summary!D12,\"\")","v":""},{"$nulls":3},"Engine Family:",{"$nulls":31},{"$f":"IF($G$19=\"Diesel\",\"'HC' refers to 'THC' \",IF($G$19=\"Natural Gas\",\"'HC' refers to 'NMHC' \",IF($G$19=\"Alcohol\",\"'HC' refers to 'THCE' \",\"\")))","v":""}]
[null,null,"PLT Test Contact:",null,{"$f":"IF(Summary!D13<>\"\",Summary!D13,\"\")","v":""},{"$nulls":3},"Production (Category 3 only):",{"$nulls":6},{"$f":"IF(N16<>\"Y\", \"Current CO Result\", \"Final CO Result\")","v":"Current CO Result"},null,{"$f":"$CJ$36","v":""},null,{"$f":"IF(N16<>\"Y\", \"Current PM Result\", \"Final PM Result\")","v":"Current PM Result"},null,{"$f":"$DJ$36","v":""},null,{"$f":"IF($AF$12=\"Y\",IF(N16<>\"Y\", \"Current NOx+HC Result\", \"Final NOx+HC Result\"),IF(N16<>\"Y\", \"Current HC Result\", \"Final HC Result\"))","v":"Current HC Result"},null,{"$f":"IF($AF$12=\"Y\",IF($FP$36>0,ROUND($EJ$36+$FJ$36,2),\"\"),$EJ$36)","v":""},null,{"$f":"IF(N16<>\"Y\", \"Current NOx Result\",\"Final NOx Result\")","v":"Current NOx Result"},null,{"$f":"$FJ$36","v":""},null,{"$f":"IF($L$13<>\"Category 3\",IF($G$23=\"\",\"N\",$G$23),\"N\")","v":"N"},{"$f":"IF(Summary!$L$13=\"Category 3\",\"CAT3\",\"\")","v":""}]
[null,null,"Email Address:",null,{"$f":"IF(Summary!D14<>\"\",Summary!D14,\"\")","v":""},{"$nulls":3},"Date of Start of Model Year Production:"]
[null,null,"Phone #:",null,{"$f":"IF(Summary!D15<>\"\",Summary!D15,\"\")","v":""},{"$nulls":3},"Date of End of Model Year Production:",{"$nulls":14},{"$f":"IF($G$19=\"Diesel\",\"'HC' refers to 'THC' \",IF($G$19=\"Natural Gas\",\"'HC' refers to 'NMHC' \",IF($G$19=\"Alcohol\",\"'HC' refers to 'THCE' \",\"\")))","v":""},{"$nulls":13},"Diesel",1,{"$nulls":6},1]
[null,null,"Test Location & Description:",{"$nulls":5},"Deterioration Factor Type:",{"$nulls":28},"Natural Gas",2,{"$nulls":6},2]
[{"$nulls":8},"Include Results from this Engine Family on Summary Sheet?",{"$nulls":6},"CO Standard ",{"$nulls":3},"PM Standard or FEL",{"$nulls":3},{"$f":"IF($AF$12=\"Y\",\"NOx+HC Standard or FEL\",\"HC Standard\")","v":"HC Standard"},{"$nulls":3},"NOx Standard or FEL",{"$nulls":9},"Alcohol",3,{"$nulls":6},3]
[null,null,"Carryover?:",{"$nulls":5},"Required Tests (including failure follow-ups)",{"$nulls":4},{"$f":"$FO36","v":0},null,"Units",null,"g/kW-hr",null,"Units",null,"g/kW-hr",null,"Units",null,"g/kW-hr",null,"Units",null,"g/kW-hr",{"$nulls":4},"Test Cycle Options",{"$nulls":10},4]
[null,null,{"$f":"IF($G$17=\"Y\",\"Please submit supporting documentation indicating that this is a carry-over engine family\",\"\")","v":""},{"$nulls":5},"Instead of testing, are PLT requirements for this Engine Family",{"$nulls":6},"CO  Det Factor",{"$nulls":3},"PM  Det Factor",{"$nulls":3},"HC Det Factor",{"$nulls":3},"NOx  Det Factor",{"$nulls":6},"1 = 4-Mode General Cycle (E3)",null,null,"Recreational"]
[null,null,"Fuel Type:",{"$nulls":5}," fulfilled under the following (Category 1 only)?",{"$nulls":6},"Det Factor Type",null,{"$f":"IF($N$15<>\"\",$N$15,\"\")","v":""},null,"Det Factor Type",null,{"$f":"IF($N$15<>\"\",$N$15,\"\")","v":""},null,"Det Factor Type",null,{"$f":"IF($N$15<>\"\",$N$15,\"\")","v":""},null,"Det Factor Type",null,{"$f":"IF($N$15<>\"\",$N$15,\"\")","v":""},{"$nulls":4},"2 = 5-Mode Recreational Cycle (E5)",null,null,"Commercial"]
[null,null,"Recreational/Commercial:",{"$nulls":5},"Please elaborate in the comments section.",{"$nulls":6},"CO Green Engine Factor",{"$nulls":3},"PM Green Engine Factor",{"$nulls":3},"HC Green Engine Factor",{"$nulls":3},"NOx Green Engine Factor",{"$nulls":6},"3 = 4-Mode Constant Speed Propulsion Cycle (E2)"]
[null,null,"Model Year:",{"$nulls":5},"    -1042.310(a) - EPA approved combining it, for PLT purposes only.",{"$nulls":25},"4 = 5-Mode Constant Speed Auxiliary Cycle (D2)"]
[null,null,"Tier:",{"$nulls":31},"5 = 6-Mode Variable Speed Auxiliary Cycle (G2)",null,null,"1 (E3)"]
[null,null,"Combined NOx+HC?",{"$nulls":31},"6 = 8-Mode Variable Speed Ausiliary Cycle (C1)",null,null,"2 (E5)"]
[null,null,"40 CFR Part:",{"$nulls":3},{"$f":"AN6","v":1042},null,"Additional testing required by EPA [40 CFR 1042.301(e)]? ",{"$nulls":25},"O = Other",null,null,"3 (E2)"]
[{"$nulls":37},"4 (D2)"]
[{"$nulls":37},"5 (G2)",{"$nulls":132},"deleted and redirected"]
[{"$nulls":22}," ",{"$nulls":14},"6 (C1)",4,{"$nulls":6},4]
[null,null,"Comments:",{"$nulls":34},"O (other)"]
[{"$nulls":22}," ",{"$nulls":22},"additive"]
[{"$nulls":45},"multiplicative",{"$nulls":22},"CO Rounding",{"$nulls":4},"CO Rounding",{"$nulls":4},"CO Rounding",{"$nulls":4},"CO Rounding",{"$nulls":10},"PM Rounding",{"$nulls":4},"PM Rounding",{"$nulls":4},"PM Rounding",{"$nulls":4},"PM Rounding",{"$nulls":10},"HC Rounding",{"$nulls":4},"HC Rounding",{"$nulls":4},"HC Rounding",{"$nulls":4},"HC Rounding",{"$nulls":10},"NOx Rounding",{"$nulls":4},"NOx Rounding",{"$nulls":4},"NOx Rounding",{"$nulls":4},"NOx Rounding"]
[{"$nulls":22}," ",{"$nulls":45},"initial",{"$nulls":4},"final",{"$nulls":4}," det final",{"$nulls":4},"ave of all final",{"$nulls":10},"initial",{"$nulls":4},"final",{"$nulls":4}," det final",{"$nulls":4},"ave of all final",{"$nulls":10},"initial",{"$nulls":4},"final",{"$nulls":4}," det final",{"$nulls":4},"ave of all final",{"$nulls":10},"initial",{"$nulls":4},"final",{"$nulls":4}," det final",{"$nulls":4},"ave of all final"]
[{"$nulls":38},"Y",{"$nulls":6},"Y"]
["PLT Engine Test Results: Engine Family #10",{"$nulls":37},"N",{"$nulls":6},"N",{"$nulls":124},"This is N17"]
[{"$nulls":36},"CO",null,"PM",null,null,"HC or HC+NOX",null,"Nox",null,"Engine Data Complete?",{"$nulls":11},"HC","HC","HC","HC","Nox","Nox","Nox","Nox",{"$nulls":107},"1% of production or pre-approved reduced sample size - whichever is Lower # "]
[null,"Calc Final Result?","Test Number","Test Date","Test Time","Test Qtr","Engine ID","Engine Make","Engine Configuration","Build Date","Green Engine Factor Applied?","Green Engine Factor Determination Method","Service Hours (or miles) Accumulation","Service Hours Location","Service Acc. Procedure","CO Initial Result ","Rounded CO Initial Result ","CO Final Result ","Det. CO Final Result ","PM Initial Result ","Rounded PM Initial Result ","PM Final Result ","Det. PM Final Result ","HC Initial Result ","Rounded HC Initial Result ","HC Final Result ","Det. HC Final Result ","NOx Initial Result ","Rounded NOx Initial Result ","NOx Final Result ","Det. NOx Final Result ","Reason for Failed Test (if applicable)","Remedy","Repairs","Test Cycle","Comments",0,0,0,0,0,0,0,0,{"$nulls":5},"Unrounded initial CO","Unrounded final CO","Det CO","Final CO","Unrounded initial PM","Unrounded final PM","Det PM","Final PM","Unrounded initial HCNOx","Unrounded final HCNOx","Det HCNOx","Final HCNOX","Unrounded initial NOx","Unrounded final NOx","Det NOx","Final HCNOX",{"$nulls":7},"rounded",{"$nulls":4},"rounded",{"$nulls":4},"rounded",{"$nulls":4},"rounded",{"$nulls":10},"rounded",{"$nulls":4},"rounded",{"$nulls":4},"rounded",{"$nulls":4},"rounded",{"$nulls":10},"rounded",{"$nulls":4},"rounded",{"$nulls":4},"rounded",{"$nulls":4},"rounded","ROUNDED AND ACCOUNT FOR BLANK",{"$nulls":9},"rounded",{"$nulls":4},"rounded",{"$nulls":4},"rounded",{"$nulls":4},"rounded","ROUNDED AND ACCOUNT FOR BLANK","Test complete Flag","Total complete","Fail Flag","req","val","baseline req","req due to fails","sum fails","baseline req"]
[1,{"$nulls":4},"N/A",{"$nulls":10},{"$f":"$BU36","v":""},{"$f":"$BZ36","v":""},{"$f":"$CE36","v":""},null,{"$f":"$CU36","v":""},{"$f":"$CZ36","v":""},{"$f":"$DE36","v":""},null,{"$f":"$DU36","v":""},{"$f":"$DZ36","v":""},{"$f":"$EE36","v":""},null,{"$f":"$EU36","v":""},{"$f":"$EZ36","v":""},{"$f":"$FE36","v":""},{"$nulls":5},{"$f":"IF($B36=\"N\",IF(AND($AK35<>\"\",$Q36<>\"\"),$AK35+$Q36,\"\"),IF($B36=\"Y\",0,\"\"))","v":""},{"$f":"IF($B36=\"N\",AL35+1,IF($B36=\"Y\",0,\"\"))","v":""},{"$f":"IF($B36=\"N\",IF(AND($AM35<>\"\",$U36<>\"\"),$AM35+$U36,\"\"),IF($B36=\"Y\",0,\"\"))","v":""},{"$f":"IF($B36=\"N\",AN35+1,IF($B36=\"Y\",0,\"\"))","v":""},{"$f":"IF($B36=\"N\",IF(AND($AO35<>\"\",$Y36<>\"\"),$AO35+$Y36,\"\"),IF($B36=\"Y\",0,\"\"))","v":""},{"$f":"IF($B36=\"N\",AP35+1,IF($B36=\"Y\",0,\"\"))","v":""},{"$f":"IF($B36=\"N\",IF(AND($AQ35<>\"\",$AC36<>\"\"),$AQ35+$AC36,\"\"),IF($B36=\"Y\",0,\"\"))","v":""},{"$f":"IF($B36=\"N\",AR35+1,IF($B36=\"Y\",0,\"\"))","v":""},null,{"$f":"IF(AND(B36<>\"\",C36<>\"\",D36<>\"\",E36<>\"\",G36<>\"\",H36<>\"\",I36<>\"\",J36<>\"\",K36<>\"\",M36<>\"\",N36<>\"\",O36<>\"\"),1,0)","v":0},{"$nulls":3},{"$f":"IF(AND($P36<>\"\",$AT36=1),$P36,\"\")","v":""},{"$f":"IF($B36=\"Y\",IF(AND($Q36<>\"\",$AK35<>\"\",$AL35<>\"\"),($Q36+$AK35)/($AL35+1),\"\"),\"\")","v":""},{"$f":"IF(AND($B36=\"Y\",$R36<>\"\",$R$18<>\"\"),IF($R$19=\"additive\",$R36+$R$18,IF($R$19=\"multiplicative\",$R36*$R$18,\"\")),\"\")","v":""},{"$f":"IF(COUNT($S$36:$S$85)>0,AVERAGE($S$36:$S$85),\"\")","v":""},{"$f":"IF(AND($T36<>\"\",$AT36=1),$T36,\"\")","v":""},{"$f":"IF($B36=\"Y\",IF(AND($U36<>\"\",$AM35<>\"\",$AN35<>\"\"),($U36+$AM35)/($AN35+1),\"\"),\"\")","v":""},{"$f":"IF(AND($B36=\"Y\",$V36<>\"\",$V$18<>\"\"),IF($V$19=\"additive\",$V36+$V$18,IF($V$19=\"multiplicative\",$V36*$V$18,\"\")),\"\")","v":""},{"$f":"IF(COUNT($W$36:$W$85)>0,AVERAGE($W$36:$W$85),\"\")","v":""},{"$f":"IF(AND($X36<>\"\",$AT36=1),$X36,\"\")","v":""},{"$f":"IF($B36=\"Y\",IF(AND($Y36<>\"\",$AO35<>\"\",$AP35<>\"\"),($Y36+$AO35)/($AP35+1),\"\"),\"\")","v":""},{"$f":"IF(AND($B36=\"Y\",$Z36<>\"\",$Z$18<>\"\"),IF($Z$19=\"additive\",$Z36+$Z$18,IF($Z$19=\"multiplicative\",$Z36*$Z$18,\"\")),\"\")","v":""},{"$f":"IF(COUNT($AA$36:$AA$85)>0,AVERAGE($AA$36:$AA$85),\"\")","v":""},{"$f":"IF(AND($AB36<>\"\",$AT36=1),$AB36,\"\")","v":""},{"$f":"IF($B36=\"Y\",IF(AND($AC36<>\"\",$AQ35<>\"\",$AR35<>\"\"),($AC36+$AQ35)/($AR35+1),\"\"),\"\")","v":""},{"$f":"IF(AND($B36=\"Y\",$AD36<>\"\",$AD$18<>\"\"),IF($AD$19=\"additive\",$AD36+$AD$18,IF($AD$19=\"multiplicative\",$AD36*$AD$18,\"\")),\"\")","v":""},{"$f":"IF(COUNT($AE$36:$AE$85)>0,AVERAGE($AE$36:$AE$85),\"\")","v":""},{"$nulls":7},{"$f":"IF($AX36<>\"\",ROUND($AX36,2),\"\")","v":""},{"$nulls":4},{"$f":"IF($AY36<>\"\",ROUND($AY36,2),\"\")","v":""},{"$nulls":4},{"$f":"IF($AZ36<>\"\",ROUND($AZ36,2),\"\")","v":""},{"$nulls":4},{"$f":"IF($BA36<>\"\",ROUND($BA36,2),\"\")","v":""},{"$nulls":10},{"$f":"IF($BB36<>\"\",ROUND($BB36,3),\"\")","v":""},{"$nulls":4},{"$f":"IF($BC36<>\"\",ROUND($BC36,3),\"\")","v":""},{"$nulls":4},{"$f":"IF($BD36<>\"\",ROUND($BD36,3),\"\")","v":""},{"$nulls":4},{"$f":"IF($BE36<>\"\",ROUND($BE36,3),\"\")","v":""},{"$nulls":10},{"$f":"IF($BF36<>\"\",ROUND($BF36,3),\"\")","v":""},{"$nulls":4},{"$f":"IF($BG36<>\"\",ROUND($BG36,3),\"\")","v":""},{"$nulls":4},{"$f":"IF($BH36<>\"\",ROUND($BH36,3),\"\")","v":""},{"$nulls":4},{"$f":"IF($BI36<>\"\",ROUND($BI36,3),\"\")","v":""},{"$f":"IF(EJ36=\"\",0,EJ36)","v":0},{"$nulls":9},{"$f":"IF($BJ36<>\"\",ROUND($BJ36,2),\"\")","v":""},{"$nulls":4},{"$f":"IF($BK36<>\"\",ROUND($BK36,2),\"\")","v":""},{"$nulls":4},{"$f":"IF($BL36<>\"\",ROUND($BL36,2),\"\")","v":""},{"$nulls":4},{"$f":"IF($BM36<>\"\",ROUND($BM36,2),\"\")","v":""},{"$f":"IF(FJ36=\"\",0,FJ36)","v":0},{"$f":"IF($AG$12<>\"CAT3\",IF(AND($B36=\"Y\",$S36<>\"\",$W36<>\"\",$AA36<>\"\",$AE36<>\"\"),1,0),IF($AE36<>\"\",1,0))","v":0},{"$f":"SUM($FL$36:$FL36)","v":0},{"$f":"IF($AG$12<>\"CAT3\",IF($FL36=1,IF(OR($S36>$R$16,$W36>$V$16,$AA36>$Z$16,IF($AF$12<>\"Y\",OR($AA36>$Z$16,$AE36>$AD$16),ROUND(($AA36+$AE36),2)>$Z$16)),1,0),0),IF($FL36=1,IF(AND($AE36>$AD$16,$AF$12=\"N\"),1,0),0))","v":0},{"$f":"IF(OR($M$11=\"\",$N$18=\"Y\"),0,IF($AG$12=\"CAT3\",$N$12,($FR$36+1)))","v":0},{"$f":"SUM(FL36:FL85)","v":0},{"$f":"IF(AND($G$17=\"Y\",$N$24<>\"\"),MIN($N$24,$FT$36),$FT$36)","v":0},{"$f":"$FS$36*2","v":0},{"$f":"SUM(FN36:FN85)","v":0},{"$f":"IF($N$12<>\"\",$N$12*0.01,0)","v":0}]
[{"$f":"A36+1","v":2},{"$nulls":4},"N/A",{"$nulls":10},"","","",null,"","","",null,"","","",null,"","","",{"$nulls":5},"",{"$f":"IF($B37=\"N\",AL36+1,IF($B37=\"Y\",0,\"\"))","v":""},"",{"$f":"IF($B37=\"N\",AN36+1,IF($B37=\"Y\",0,\"\"))","v":""},{"$f":"IF($B37=\"N\",IF(AND($AO36<>\"\",$Y37<>\"\"),$AO36+$Y37,\"\"),IF($B37=\"Y\",0,\"\"))","v":""},{"$f":"IF($B37=\"N\",AP36+1,IF($B37=\"Y\",0,\"\"))","v":""},{"$f":"IF($B37=\"N\",IF(AND($AQ36<>\"\",$AC37<>\"\"),$AQ36+$AC37,\"\"),IF($B37=\"Y\",0,\"\"))","v":""},{"$f":"IF($B37=\"N\",AR36+1,IF($B37=\"Y\",0,\"\"))","v":""},null,{"$f":"IF(AND(B37<>\"\",C37<>\"\",D37<>\"\",E37<>\"\",G37<>\"\",H37<>\"\",I37<>\"\",J37<>\"\",K37<>\"\",M37<>\"\",N37<>\"\",O37<>\"\"),1,0)","v":0},{"$nulls":3},"","",{"$f":"IF(AND($B37=\"Y\",$R37<>\"\",$R$18<>\"\"),IF($R$19=\"additive\",$R37+$R$18,IF($R$19=\"multiplicative\",$R37*$R$18,\"\")),\"\")","v":""},null,"","",{"$f":"IF(AND($B37=\"Y\",$V37<>\"\",$V$18<>\"\"),IF($V$19=\"additive\",$V37+$V$18,IF($V$19=\"multiplicative\",$V37*$V$18,\"\")),\"\")","v":""},null,{"$f":"IF(AND($X37<>\"\",$AT37=1),$X37,\"\")","v":""},{"$f":"IF($B37=\"Y\",IF(AND($Y37<>\"\",$AO36<>\"\",$AP36<>\"\"),($Y37+$AO36)/($AP36+1),\"\"),\"\")","v":""},{"$f":"IF(AND($B37=\"Y\",$Z37<>\"\",$Z$18<>\"\"),IF($Z$19=\"additive\",$Z37+$Z$18,IF($Z$19=\"multiplicative\",$Z37*$Z$18,\"\")),\"\")","v":""},null,{"$f":"IF(AND($AB37<>\"\",$AT37=1),$AB37,\"\")","v":""},{"$f":"IF($B37=\"Y\",IF(AND($AC37<>\"\",$AQ36<>\"\",$AR36<>\"\"),($AC37+$AQ36)/($AR36+1),\"\"),\"\")","v":""},{"$f":"IF(AND($B37=\"Y\",$AD37<>\"\",$AD$18<>\"\"),IF($AD$19=\"additive\",$AD37+$AD$18,IF($AD$19=\"multiplicative\",$AD37*$AD$18,\"\")),\"\")","v":""},{"$nulls":8},{"$f":"IF($AX37<>\"\",ROUND($AX37,2),\"\")","v":""},{"$nulls":4},{"$f":"IF($AY37<>\"\",ROUND($AY37,2),\"\")","v":""},{"$nulls":4},{"$f":"IF($AZ37<>\"\",ROUND($AZ37,2),\"\")","v":""},{"$nulls":15},{"$f":"IF($BB37<>\"\",ROUND($BB37,3),\"\")","v":""},{"$nulls":4},{"$f":"IF($BC37<>\"\",ROUND($BC37,3),\"\")","v":""},{"$nulls":4},{"$f":"IF($BD37<>\"\",ROUND($BD37,3),\"\")","v":""},{"$nulls":15},{"$f":"IF($BF37<>\"\",ROUND($BF37,3),\"\")","v":""},{"$nulls":4},{"$f":"IF($BG37<>\"\",ROUND($BG37,3),\"\")","v":""},{"$nulls":4},{"$f":"IF($BH37<>\"\",ROUND($BH37,3),\"\")","v":""},{"$nulls":15},{"$f":"IF($BJ37<>\"\",ROUND($BJ37,2),\"\")","v":""},{"$nulls":4},{"$f":"IF($BK37<>\"\",ROUND($BK37,2),\"\")","v":""},{"$nulls":4},{"$f":"IF($BL37<>\"\",ROUND($BL37,2),\"\")","v":""},{"$nulls":6},{"$f":"IF($AG$12<>\"CAT3\",IF(AND($B37=\"Y\",$S37<>\"\",$W37<>\"\",$AA37<>\"\",$AE37<>\"\"),1,0),IF($AE37<>\"\",1,0))","v":0},{"$f":"SUM($FL$36:$FL37)","v":0},{"$f":"IF($AG$12<>\"CAT3\",IF($FL37=1,IF(OR($S37>$R$16,$W37>$V$16,$AA37>$Z$16,IF($AF$12<>\"Y\",OR($AA37>$Z$16,$AE37>$AD$16),ROUND(($AA37+$AE37),2)>$Z$16)),1,0),0),IF($FL37=1,IF(AND($AE37>$AD$16,$AF$12=\"N\"),1,0),0))","v":0},null,null,{"$f":"MAX($FQ$36,$FL$10)","v":1}]
[{"$f":"A37+1","v":3},{"$nulls":4},"N/A",{"$nulls":10},"","","",null,"","","",null,"","","",null,"","","",{"$nulls":5},"","","","","","","","",null,0,{"$nulls":3},"","","",null,"","","",null,"","","",null,"","","",{"$nulls":8},"",{"$nulls":4},"",{"$nulls":4},"",{"$nulls":15},"",{"$nulls":4},"",{"$nulls":4},"",{"$nulls":15},"",{"$nulls":4},"",{"$nulls":4},"",{"$nulls":15},"",{"$nulls":4},"",{"$nulls":4},"",{"$nulls":6},0,{"$f":"SUM($FL$36:$FL38)","v":0},0]
[4,{"$nulls":4},"N/A",{"$nulls":10},"","","",null,"","","",null,"","","",null,"","","",{"$nulls":5},"","","","","","","","",null,0,{"$nulls":3},"","","",null,"","","",null,"","","",null,"","","",{"$nulls":8},"",{"$nulls":4},"",{"$nulls":4},"",{"$nulls":15},"",{"$nulls":4},"",{"$nulls":4},"",{"$nulls":15},"",{"$nulls":4},"",{"$nulls":4},"",{"$nulls":15},"",{"$nulls":4},"",{"$nulls":4},"",{"$nulls":6},0,{"$f":"SUM($FL$36:$FL39)","v":0},0,null,null,"then, the larger of that sample size or 1  (or if Part 94 and cat1,  can be 0)"]
[5,{"$nulls":4},"N/A",{"$nulls":10},"","","",null,"","","",null,"","","",null,"","","",{"$nulls":5},"","","","","","","","",null,0,{"$nulls":3},"","","",null,"","","",null,"","","",null,"","","",{"$nulls":8},"",{"$nulls":4},"",{"$nulls":4},"",{"$nulls":15},"",{"$nulls":4},"",{"$nulls":4},"",{"$nulls":15},"",{"$nulls":4},"",{"$nulls":4},"",{"$nulls":15},"",{"$nulls":4},"",{"$nulls":4},"",{"$nulls":6},0,{"$f":"SUM($FL$36:$FL40)","v":0},0]
[6,{"$nulls":4},"N/A",{"$nulls":10},"","","",null,"","","",null,"","","",null,"","","",{"$nulls":5},"","","","","","","","",null,0,{"$nulls":3},"","","",null,"","","",null,"","","",null,"","","",{"$nulls":8},"",{"$nulls":4},"",{"$nulls":4},"",{"$nulls":15},"",{"$nulls":4},"",{"$nulls":4},"",{"$nulls":15},"",{"$nulls":4},"",{"$nulls":4},"",{"$nulls":15},"",{"$nulls":4},"",{"$nulls":4},"",{"$nulls":6},0,{"$f":"SUM($FL$36:$FL41)","v":0},0]
[7,{"$nulls":4},"N/A",{"$nulls":10},"","","",null,"","","",null,"","","",null,"","","",{"$nulls":5},"","","","","","","","",null,0,{"$nulls":3},"","","",null,"","","",null,"","","",null,"","","",{"$nulls":8},"",{"$nulls":4},"",{"$nulls":4},"",{"$nulls":15},"",{"$nulls":4},"",{"$nulls":4},"",{"$nulls":15},"",{"$nulls":4},"",{"$nulls":4},"",{"$nulls":15},"",{"$nulls":4},"",{"$nulls":4},"",{"$nulls":6},0,{"$f":"SUM($FL$36:$FL42)","v":0},0]
[8,{"$nulls":4},"N/A",{"$nulls":10},"","","",null,"","","",null,"","","",null,"","","",{"$nulls":5},"","","","","","","","",null,0,{"$nulls":3},"","","",null,"","","",null,"","","",null,"","","",{"$nulls":8},"",{"$nulls":4},"",{"$nulls":4},"",{"$nulls":15},"",{"$nulls":4},"",{"$nulls":4},"",{"$nulls":15},"",{"$nulls":4},"",{"$nulls":4},"",{"$nulls":15},"",{"$nulls":4},"",{"$nulls":4},"",{"$nulls":6},0,{"$f":"SUM($FL$36:$FL43)","v":0},0]
[9,{"$nulls":4},"N/A",{"$nulls":10},"","","",null,"","","",null,"","","",null,"","","",{"$nulls":5},"","","","","","","","",null,0,{"$nulls":3},"","","",null,"","","",null,"","","",null,"","","",{"$nulls":8},"",{"$nulls":4},"",{"$nulls":4},"",{"$nulls":15},"",{"$nulls":4},"",{"$nulls":4},"",{"$nulls":15},"",{"$nulls":4},"",{"$nulls":4},"",{"$nulls":15},"",{"$nulls":4},"",{"$nulls":4},"",{"$nulls":6},0,{"$f":"SUM($FL$36:$FL44)","v":0},0]
[10,{"$nulls":4},"N/A",{"$nulls":10},"","","",null,"","","",null,"","","",null,"","","",{"$nulls":5},"","","","","","","","",null,0,{"$nulls":3},"","","",null,"","","",null,"","","",null,"","","",{"$nulls":8},"",{"$nulls":4},"",{"$nulls":4},"",{"$nulls":15},"",{"$nulls":4},"",{"$nulls":4},"",{"$nulls":15},"",{"$nulls":4},"",{"$nulls":4},"",{"$nulls":15},"",{"$nulls":4},"",{"$nulls":4},"",{"$nulls":6},0,{"$f":"SUM($FL$36:$FL45)","v":0},0]
[11,{"$nulls":4},"N/A",{"$nulls":10},"","","",null,"","","",null,"","","",null,"","","",{"$nulls":5},"","","","","","","","",null,0,{"$nulls":3},"","","",null,"","","",null,"","","",null,"","","",{"$nulls":8},"",{"$nulls":4},"",{"$nulls":4},"",{"$nulls":15},"",{"$nulls":4},"",{"$nulls":4},"",{"$nulls":15},"",{"$nulls":4},"",{"$nulls":4},"",{"$nulls":15},"",{"$nulls":4},"",{"$nulls":4},"",{"$nulls":6},0,{"$f":"SUM($FL$36:$FL46)","v":0},0]
[12,{"$nulls":4},"N/A",{"$nulls":10},"","","",null,"","","",null,"","","",null,"","","",{"$nulls":5},"","","","","","","","",null,0,{"$nulls":3},"","","",null,"","","",null,"","","",null,"","","",{"$nulls":8},"",{"$nulls":4},"",{"$nulls":4},"",{"$nulls":15},"",{"$nulls":4},"",{"$nulls":4},"",{"$nulls":15},"",{"$nulls":4},"",{"$nulls":4},"",{"$nulls":15},"",{"$nulls":4},"",{"$nulls":4},"",{"$nulls":6},0,{"$f":"SUM($FL$36:$FL47)","v":0},0]
[13,{"$nulls":4},"N/A",{"$nulls":10},"","","",null,"","","",null,"","","",null,"","","",{"$nulls":5},"","","","","","","","",null,0,{"$nulls":3},"","","",null,"","","",null,"","","",null,"","","",{"$nulls":8},"",{"$nulls":4},"",{"$nulls":4},"",{"$nulls":15},"",{"$nulls":4},"",{"$nulls":4},"",{"$nulls":15},"",{"$nulls":4},"",{"$nulls":4},"",{"$nulls":15},"",{"$nulls":4},"",{"$nulls":4},"",{"$nulls":6},0,{"$f":"SUM($FL$36:$FL48)","v":0},0]
[14,{"$nulls":4},"N/A",{"$nulls":10},"","","",null,"","","",null,"","","",null,"","","",{"$nulls":5},"","","","","","","","",null,0,{"$nulls":3},"","","",null,"","","",null,"","","",null,"","","",{"$nulls":8},"",{"$nulls":4},"",{"$nulls":4},"",{"$nulls":15},"",{"$nulls":4},"",{"$nulls":4},"",{"$nulls":15},"",{"$nulls":4},"",{"$nulls":4},"",{"$nulls":15},"",{"$nulls":4},"",{"$nulls":4},"",{"$nulls":6},0,{"$f":"SUM($FL$36:$FL49)","v":0},0]
[15,{"$nulls":4},"N/A",{"$nulls":10},"","","",null,"","","",null,"","","",null,"","","",{"$nulls":5},"","","","","","","","",null,0,{"$nulls":3},"","","",null,"","","",null,"","","",null,"","","",{"$nulls":8},"",{"$nulls":4},"",{"$nulls":4},"",{"$nulls":15},"",{"$nulls":4},"",{"$nulls":4},"",{"$nulls":15},"",{"$nulls":4},"",{"$nulls":4},"",{"$nulls":15},"",{"$nulls":4},"",{"$nulls":4},"",{"$nulls":6},0,{"$f":"SUM($FL$36:$FL50)","v":0},0]
[16,{"$nulls":4},"N/A",{"$nulls":10},"","","",null,"","","",null,"","","",null,"","","",{"$nulls":5},"","","","","","","","",null,0,{"$nulls":3},"","","",null,"","","",null,"","","",null,"","","",{"$nulls":8},"",{"$nulls":4},"",{"$nulls":4},"",{"$nulls":15},"",{"$nulls":4},"",{"$nulls":4},"",{"$nulls":15},"",{"$nulls":4},"",{"$nulls":4},"",{"$nulls":15},"",{"$nulls":4},"",{"$nulls":4},"",{"$nulls":6},0,{"$f":"SUM($FL$36:$FL51)","v":0},0]
[17,{"$nulls":4},"N/A",{"$nulls":10},"","","",null,"","","",null,"","","",null,"","","",{"$nulls":5},"","","","","","","","",null,0,{"$nulls":3},"","","",null,"","","",null,"","","",null,"","","",{"$nulls":8},"",{"$nulls":4},"",{"$nulls":4},"",{"$nulls":15},"",{"$nulls":4},"",{"$nulls":4},"",{"$nulls":15},"",{"$nulls":4},"",{"$nulls":4},"",{"$nulls":15},"",{"$nulls":4},"",{"$nulls":4},"",{"$nulls":6},0,{"$f":"SUM($FL$36:$FL52)","v":0},0]
[18,{"$nulls":4},"N/A",{"$nulls":10},"","","",null,"","","",null,"","","",null,"","","",{"$nulls":5},"","","","","","","","",null,0,{"$nulls":3},"","","",null,"","","",null,"","","",null,"","","",{"$nulls":8},"",{"$nulls":4},"",{"$nulls":4},"",{"$nulls":15},"",{"$nulls":4},"",{"$nulls":4},"",{"$nulls":15},"",{"$nulls":4},"",{"$nulls":4},"",{"$nulls":15},"",{"$nulls":4},"",{"$nulls":4},"",{"$nulls":6},0,{"$f":"SUM($FL$36:$FL53)","v":0},0]
[19,{"$nulls":4},"N/A",{"$nulls":10},"","","",null,"","","",null,"","","",null,"","","",{"$nulls":5},"","","","","","","","",null,0,{"$nulls":3},"","","",null,"","","",null,"","","",null,"","","",{"$nulls":8},"",{"$nulls":4},"",{"$nulls":4},"",{"$nulls":15},"",{"$nulls":4},"",{"$nulls":4},"",{"$nulls":15},"",{"$nulls":4},"",{"$nulls":4},"",{"$nulls":15},"",{"$nulls":4},"",{"$nulls":4},"",{"$nulls":6},0,{"$f":"SUM($FL$36:$FL54)","v":0},0]
[20,{"$nulls":4},"N/A",{"$nulls":10},"","","",null,"","","",null,"","","",null,"","","",{"$nulls":5},"","","","","","","","",null,0,{"$nulls":3},"","","",null,"","","",null,"","","",null,"","","",{"$nulls":8},"",{"$nulls":4},"",{"$nulls":4},"",{"$nulls":15},"",{"$nulls":4},"",{"$nulls":4},"",{"$nulls":15},"",{"$nulls":4},"",{"$nulls":4},"",{"$nulls":15},"",{"$nulls":4},"",{"$nulls":4},"",{"$nulls":6},0,{"$f":"SUM($FL$36:$FL55)","v":0},0]
[21,{"$nulls":4},"N/A",{"$nulls":10},"","","",null,"","","",null,"","","",null,"","","",{"$nulls":5},"","","","","","","","",null,0,{"$nulls":3},"","","",null,"","","",null,"","","",null,"","","",{"$nulls":8},"",{"$nulls":4},"",{"$nulls":4},"",{"$nulls":15},"",{"$nulls":4},"",{"$nulls":4},"",{"$nulls":15},"",{"$nulls":4},"",{"$nulls":4},"",{"$nulls":15},"",{"$nulls":4},"",{"$nulls":4},"",{"$nulls":6},0,{"$f":"SUM($FL$36:$FL56)","v":0},0]
[22,{"$nulls":4},"N/A",{"$nulls":10},"","","",null,"","","",null,"","","",null,"","","",{"$nulls":5},"","","","","","","","",null,0,{"$nulls":3},"","","",null,"","","",null,"","","",null,"","","",{"$nulls":8},"",{"$nulls":4},"",{"$nulls":4},"",{"$nulls":15},"",{"$nulls":4},"",{"$nulls":4},"",{"$nulls":15},"",{"$nulls":4},"",{"$nulls":4},"",{"$nulls":15},"",{"$nulls":4},"",{"$nulls":4},"",{"$nulls":6},0,{"$f":"SUM($FL$36:$FL57)","v":0},0]
[23,{"$nulls":4},"N/A",{"$nulls":10},"","","",null,"","","",null,"","","",null,"","","",{"$nulls":5},"","","","","","","","",null,0,{"$nulls":3},"","","",null,"","","",null,"","","",null,"","","",{"$nulls":8},"",{"$nulls":4},"",{"$nulls":4},"",{"$nulls":15},"",{"$nulls":4},"",{"$nulls":4},"",{"$nulls":15},"",{"$nulls":4},"",{"$nulls":4},"",{"$nulls":15},"",{"$nulls":4},"",{"$nulls":4},"",{"$nulls":6},0,{"$f":"SUM($FL$36:$FL58)","v":0},0]
[24,{"$nulls":4},"N/A",{"$nulls":10},"","","",null,"","","",null,"","","",null,"","","",{"$nulls":5},"","","","","","","","",null,0,{"$nulls":3},"","","",null,"","","",null,"","","",null,"","","",{"$nulls":8},"",{"$nulls":4},"",{"$nulls":4},"",{"$nulls":15},"",{"$nulls":4},"",{"$nulls":4},"",{"$nulls":15},"",{"$nulls":4},"",{"$nulls":4},"",{"$nulls":15},"",{"$nulls":4},"",{"$nulls":4},"",{"$nulls":6},0,{"$f":"SUM($FL$36:$FL59)","v":0},0]
[25,{"$nulls":4},"N/A",{"$nulls":10},"","","",null,"","","",null,"","","",null,"","","",{"$nulls":5},"","","","","","","","",null,0,{"$nulls":3},"","","",null,"","","",null,"","","",null,"","","",{"$nulls":8},"",{"$nulls":4},"",{"$nulls":4},"",{"$nulls":15},"",{"$nulls":4},"",{"$nulls":4},"",{"$nulls":15},"",{"$nulls":4},"",{"$nulls":4},"",{"$nulls":15},"",{"$nulls":4},"",{"$nulls":4},"",{"$nulls":6},0,{"$f":"SUM($FL$36:$FL60)","v":0},0]
[26,{"$nulls":4},"N/A",{"$nulls":10},"","","",null,"","","",null,"","","",null,"","","",{"$nulls":5},"","","","","","","","",null,0,{"$nulls":3},"","","",null,"","","",null,"","","",null,"","","",{"$nulls":8},"",{"$nulls":4},"",{"$nulls":4},"",{"$nulls":15},"",{"$nulls":4},"",{"$nulls":4},"",{"$nulls":15},"",{"$nulls":4},"",{"$nulls":4},"",{"$nulls":15},"",{"$nulls":4},"",{"$nulls":4},"",{"$nulls":6},0,{"$f":"SUM($FL$36:$FL61)","v":0},0]
[27,{"$nulls":4},"N/A",{"$nulls":10},"","","",null,"","","",null,"","","",null,"","","",{"$nulls":5},"","","","","","","","",null,0,{"$nulls":3},"","","",null,"","","",null,"","","",null,"","","",{"$nulls":8},"",{"$nulls":4},"",{"$nulls":4},"",{"$nulls":15},"",{"$nulls":4},"",{"$nulls":4},"",{"$nulls":15},"",{"$nulls":4},"",{"$nulls":4},"",{"$nulls":15},"",{"$nulls":4},"",{"$nulls":4},"",{"$nulls":6},0,{"$f":"SUM($FL$36:$FL62)","v":0},0]
[28,{"$nulls":4},"N/A",{"$nulls":10},"","","",null,"","","",null,"","","",null,"","","",{"$nulls":5},"","","","","","","","",null,0,{"$nulls":3},"","","",null,"","","",null,"","","",null,"","","",{"$nulls":8},"",{"$nulls":4},"",{"$nulls":4},"",{"$nulls":15},"",{"$nulls":4},"",{"$nulls":4},"",{"$nulls":15},"",{"$nulls":4},"",{"$nulls":4},"",{"$nulls":15},"",{"$nulls":4},"",{"$nulls":4},"",{"$nulls":6},0,{"$f":"SUM($FL$36:$FL63)","v":0},0]
[29,{"$nulls":4},"N/A",{"$nulls":10},"","","",null,"","","",null,"","","",null,"","","",{"$nulls":5},"","","","","","","","",null,0,{"$nulls":3},"","","",null,"","","",null,"","","",null,"","","",{"$nulls":8},"",{"$nulls":4},"",{"$nulls":4},"",{"$nulls":15},"",{"$nulls":4},"",{"$nulls":4},"",{"$nulls":15},"",{"$nulls":4},"",{"$nulls":4},"",{"$nulls":15},"",{"$nulls":4},"",{"$nulls":4},"",{"$nulls":6},0,{"$f":"SUM($FL$36:$FL64)","v":0},0]
[30,{"$nulls":4},"N/A",{"$nulls":10},"","","",null,"","","",null,"","","",null,"","","",{"$nulls":5},"","","","","","","","",null,0,{"$nulls":3},"","","",null,"","","",null,"","","",null,"","","",{"$nulls":8},"",{"$nulls":4},"",{"$nulls":4},"",{"$nulls":15},"",{"$nulls":4},"",{"$nulls":4},"",{"$nulls":15},"",{"$nulls":4},"",{"$nulls":4},"",{"$nulls":15},"",{"$nulls":4},"",{"$nulls":4},"",{"$nulls":6},0,{"$f":"SUM($FL$36:$FL65)","v":0},0]
[31,{"$nulls":4},"N/A",{"$nulls":10},"","","",null,"","","",null,"","","",null,"","","",{"$nulls":5},"","","","","","","","",null,0,{"$nulls":3},"","","",null,"","","",null,"","","",null,"","","",{"$nulls":8},"",{"$nulls":4},"",{"$nulls":4},"",{"$nulls":15},"",{"$nulls":4},"",{"$nulls":4},"",{"$nulls":15},"",{"$nulls":4},"",{"$nulls":4},"",{"$nulls":15},"",{"$nulls":4},"",{"$nulls":4},"",{"$nulls":6},0,{"$f":"SUM($FL$36:$FL66)","v":0},0]
[32,{"$nulls":4},"N/A",{"$nulls":10},"","","",null,"","","",null,"","","",null,"","","",{"$nulls":5},"","","","","","","","",null,0,{"$nulls":3},"","","",null,"","","",null,"","","",null,"","","",{"$nulls":8},"",{"$nulls":4},"",{"$nulls":4},"",{"$nulls":15},"",{"$nulls":4},"",{"$nulls":4},"",{"$nulls":15},"",{"$nulls":4},"",{"$nulls":4},"",{"$nulls":15},"",{"$nulls":4},"",{"$nulls":4},"",{"$nulls":6},0,{"$f":"SUM($FL$36:$FL67)","v":0},0]
[33,{"$nulls":4},"N/A",{"$nulls":10},"","","",null,"","","",null,"","","",null,"","","",{"$nulls":5},"","","","","","","","",null,0,{"$nulls":3},"","","",null,"","","",null,"","","",null,"","","",{"$nulls":8},"",{"$nulls":4},"",{"$nulls":4},"",{"$nulls":15},"",{"$nulls":4},"",{"$nulls":4},"",{"$nulls":15},"",{"$nulls":4},"",{"$nulls":4},"",{"$nulls":15},"",{"$nulls":4},"",{"$nulls":4},"",{"$nulls":6},0,{"$f":"SUM($FL$36:$FL68)","v":0},0]
[34,{"$nulls":4},"N/A",{"$nulls":10},"","","",null,"","","",null,"","","",null,"","","",{"$nulls":5},"","","","","","","","",null,0,{"$nulls":3},"","","",null,"","","",null,"","","",null,"","","",{"$nulls":8},"",{"$nulls":4},"",{"$nulls":4},"",{"$nulls":15},"",{"$nulls":4},"",{"$nulls":4},"",{"$nulls":15},"",{"$nulls":4},"",{"$nulls":4},"",{"$nulls":15},"",{"$nulls":4},"",{"$nulls":4},"",{"$nulls":6},0,{"$f":"SUM($FL$36:$FL69)","v":0},0]
[35,{"$nulls":4},"N/A",{"$nulls":10},"","","",null,"","","",null,"","","",null,"","","",{"$nulls":5},"","","","","","","","",null,0,{"$nulls":3},"","","",null,"","","",null,"","","",null,"","","",{"$nulls":8},"",{"$nulls":4},"",{"$nulls":4},"",{"$nulls":15},"",{"$nulls":4},"",{"$nulls":4},"",{"$nulls":15},"",{"$nulls":4},"",{"$nulls":4},"",{"$nulls":15},"",{"$nulls":4},"",{"$nulls":4},"",{"$nulls":6},0,{"$f":"SUM($FL$36:$FL70)","v":0},0]
[36,{"$nulls":4},"N/A",{"$nulls":10},"","","",null,"","","",null,"","","",null,"","","",{"$nulls":5},"","","","","","","","",null,0,{"$nulls":3},"","","",null,"","","",null,"","","",null,"","","",{"$nulls":8},"",{"$nulls":4},"",{"$nulls":4},"",{"$nulls":15},"",{"$nulls":4},"",{"$nulls":4},"",{"$nulls":15},"",{"$nulls":4},"",{"$nulls":4},"",{"$nulls":15},"",{"$nulls":4},"",{"$nulls":4},"",{"$nulls":6},0,{"$f":"SUM($FL$36:$FL71)","v":0},0]
[37,{"$nulls":4},"N/A",{"$nulls":10},"","","",null,"","","",null,"","","",null,"","","",{"$nulls":5},"","","","","","","","",null,0,{"$nulls":3},"","","",null,"","","",null,"","","",null,"","","",{"$nulls":8},"",{"$nulls":4},"",{"$nulls":4},"",{"$nulls":15},"",{"$nulls":4},"",{"$nulls":4},"",{"$nulls":15},"",{"$nulls":4},"",{"$nulls":4},"",{"$nulls":15},"",{"$nulls":4},"",{"$nulls":4},"",{"$nulls":6},0,{"$f":"SUM($FL$36:$FL72)","v":0},0]
[38,{"$nulls":4},"N/A",{"$nulls":10},"","","",null,"","","",null,"","","",null,"","","",{"$nulls":5},"","","","","","","","",null,0,{"$nulls":3},"","","",null,"","","",null,"","","",null,"","","",{"$nulls":8},"",{"$nulls":4},"",{"$nulls":4},"",{"$nulls":15},"",{"$nulls":4},"",{"$nulls":4},"",{"$nulls":15},"",{"$nulls":4},"",{"$nulls":4},"",{"$nulls":15},"",{"$nulls":4},"",{"$nulls":4},"",{"$nulls":6},0,{"$f":"SUM($FL$36:$FL73)","v":0},0]
[39,{"$nulls":4},"N/A",{"$nulls":10},"","","",null,"","","",null,"","","",null,"","","",{"$nulls":5},"","","","","","","","",null,0,{"$nulls":3},"","","",null,"","","",null,"","","",null,"","","",{"$nulls":8},"",{"$nulls":4},"",{"$nulls":4},"",{"$nulls":15},"",{"$nulls":4},"",{"$nulls":4},"",{"$nulls":15},"",{"$nulls":4},"",{"$nulls":4},"",{"$nulls":15},"",{"$nulls":4},"",{"$nulls":4},"",{"$nulls":6},0,{"$f":"SUM($FL$36:$FL74)","v":0},0]
[40,{"$nulls":4},"N/A",{"$nulls":10},"","","",null,"","","",null,"","","",null,"","","",{"$nulls":5},"","","","","","","","",null,0,{"$nulls":3},"","","",null,"","","",null,"","","",null,"","","",{"$nulls":8},"",{"$nulls":4},"",{"$nulls":4},"",{"$nulls":15},"",{"$nulls":4},"",{"$nulls":4},"",{"$nulls":15},"",{"$nulls":4},"",{"$nulls":4},"",{"$nulls":15},"",{"$nulls":4},"",{"$nulls":4},"",{"$nulls":6},0,{"$f":"SUM($FL$36:$FL75)","v":0},0]
[41,{"$nulls":4},"N/A",{"$nulls":10},"","","",null,"","","",null,"","","",null,"","","",{"$nulls":5},"","","","","","","","",null,0,{"$nulls":3},"","","",null,"","","",null,"","","",null,"","","",{"$nulls":8},"",{"$nulls":4},"",{"$nulls":4},"",{"$nulls":15},"",{"$nulls":4},"",{"$nulls":4},"",{"$nulls":15},"",{"$nulls":4},"",{"$nulls":4},"",{"$nulls":15},"",{"$nulls":4},"",{"$nulls":4},"",{"$nulls":6},0,{"$f":"SUM($FL$36:$FL76)","v":0},0]
[42,{"$nulls":4},"N/A",{"$nulls":10},"","","",null,"","","",null,"","","",null,"","","",{"$nulls":5},"","","","","","","","",null,0,{"$nulls":3},"","","",null,"","","",null,"","","",null,"","","",{"$nulls":8},"",{"$nulls":4},"",{"$nulls":4},"",{"$nulls":15},"",{"$nulls":4},"",{"$nulls":4},"",{"$nulls":15},"",{"$nulls":4},"",{"$nulls":4},"",{"$nulls":15},"",{"$nulls":4},"",{"$nulls":4},"",{"$nulls":6},0,{"$f":"SUM($FL$36:$FL77)","v":0},0]
[43,{"$nulls":4},"N/A",{"$nulls":10},"","","",null,"","","",null,"","","",null,"","","",{"$nulls":5},"","","","","","","","",null,0,{"$nulls":3},"","","",null,"","","",null,"","","",null,"","","",{"$nulls":8},"",{"$nulls":4},"",{"$nulls":4},"",{"$nulls":15},"",{"$nulls":4},"",{"$nulls":4},"",{"$nulls":15},"",{"$nulls":4},"",{"$nulls":4},"",{"$nulls":15},"",{"$nulls":4},"",{"$nulls":4},"",{"$nulls":6},0,{"$f":"SUM($FL$36:$FL78)","v":0},0]
[44,{"$nulls":4},"N/A",{"$nulls":10},"","","",null,"","","",null,"","","",null,"","","",{"$nulls":5},"","","","","","","","",null,0,{"$nulls":3},"","","",null,"","","",null,"","","",null,"","","",{"$nulls":8},"",{"$nulls":4},"",{"$nulls":4},"",{"$nulls":15},"",{"$nulls":4},"",{"$nulls":4},"",{"$nulls":15},"",{"$nulls":4},"",{"$nulls":4},"",{"$nulls":15},"",{"$nulls":4},"",{"$nulls":4},"",{"$nulls":6},0,{"$f":"SUM($FL$36:$FL79)","v":0},0]
[45,{"$nulls":4},"N/A",{"$nulls":10},"","","",null,"","","",null,"","","",null,"","","",{"$nulls":5},"","","","","","","","",null,0,{"$nulls":3},"","","",null,"","","",null,"","","",null,"","","",{"$nulls":8},"",{"$nulls":4},"",{"$nulls":4},"",{"$nulls":15},"",{"$nulls":4},"",{"$nulls":4},"",{"$nulls":15},"",{"$nulls":4},"",{"$nulls":4},"",{"$nulls":15},"",{"$nulls":4},"",{"$nulls":4},"",{"$nulls":6},0,{"$f":"SUM($FL$36:$FL80)","v":0},0]
[46,{"$nulls":4},"N/A",{"$nulls":10},"","","",null,"","","",null,"","","",null,"","","",{"$nulls":5},"","","","","","","","",null,0,{"$nulls":3},"","","",null,"","","",null,"","","",null,"","","",{"$nulls":8},"",{"$nulls":4},"",{"$nulls":4},"",{"$nulls":15},"",{"$nulls":4},"",{"$nulls":4},"",{"$nulls":15},"",{"$nulls":4},"",{"$nulls":4},"",{"$nulls":15},"",{"$nulls":4},"",{"$nulls":4},"",{"$nulls":6},0,{"$f":"SUM($FL$36:$FL81)","v":0},0]
[47,{"$nulls":4},"N/A",{"$nulls":10},"","","",null,"","","",null,"","","",null,"","","",{"$nulls":5},"","","","","","","","",null,0,{"$nulls":3},"","","",null,"","","",null,"","","",null,"","","",{"$nulls":8},"",{"$nulls":4},"",{"$nulls":4},"",{"$nulls":15},"",{"$nulls":4},"",{"$nulls":4},"",{"$nulls":15},"",{"$nulls":4},"",{"$nulls":4},"",{"$nulls":15},"",{"$nulls":4},"",{"$nulls":4},"",{"$nulls":6},0,{"$f":"SUM($FL$36:$FL82)","v":0},0]
[48,{"$nulls":4},"N/A",{"$nulls":10},"","","",null,"","","",null,"","","",null,"","","",{"$nulls":5},"","","","","","","","",null,0,{"$nulls":3},"","","",null,"","","",null,"","","",null,"","","",{"$nulls":8},"",{"$nulls":4},"",{"$nulls":4},"",{"$nulls":15},"",{"$nulls":4},"",{"$nulls":4},"",{"$nulls":15},"",{"$nulls":4},"",{"$nulls":4},"",{"$nulls":15},"",{"$nulls":4},"",{"$nulls":4},"",{"$nulls":6},0,{"$f":"SUM($FL$36:$FL83)","v":0},0]
[49,{"$nulls":4},"N/A",{"$nulls":10},"","","",null,"","","",null,"","","",null,"","","",{"$nulls":5},"","","","","","","","",null,0,{"$nulls":3},"","","",null,"","","",null,"","","",null,"","","",{"$nulls":8},"",{"$nulls":4},"",{"$nulls":4},"",{"$nulls":15},"",{"$nulls":4},"",{"$nulls":4},"",{"$nulls":15},"",{"$nulls":4},"",{"$nulls":4},"",{"$nulls":15},"",{"$nulls":4},"",{"$nulls":4},"",{"$nulls":6},0,{"$f":"SUM($FL$36:$FL84)","v":0},0]
[50,{"$nulls":4},"N/A",{"$nulls":10},"","","",null,"","","",null,"","","",null,"","","",{"$nulls":5},"","","","","","","","",null,0,{"$nulls":3},"","","",null,"","","",null,"","","",null,"",{"$f":"IF($B85=\"Y\",IF(AND($AC85<>\"\",$AQ84<>\"\",$AR84<>\"\"),($AC85+$AQ84)/($AR84+1),\"\"),\"\")","v":""},"",{"$nulls":8},"",{"$nulls":4},"",{"$nulls":4},"",{"$nulls":15},"",{"$nulls":4},"",{"$nulls":4},"",{"$nulls":15},"",{"$nulls":4},"",{"$nulls":4},"",{"$nulls":15},"",{"$nulls":4},"",{"$nulls":4},"",{"$nulls":6},0,{"$f":"SUM($FL$36:$FL85)","v":0},0]
[null,null,{"$f":"SUM(C36:C85)","v":0}]
["g/bhp-hr"]
["g/kW-hr"]

{"sheet":"Engine Family #11","index":13,"n_rows":88,"n_cols":176,"rows_kept":88,"merged":[[1,0,1,35],[2,0,2,35],[3,0,3,35],[4,0,4,35],[5,0,5,35],[6,0,6,35],[8,0,8,16],[10,4,10,6],[10,12,10,13],[11,4,11,6],[11,15,11,16],[11,19,11,20],[11,23,11,24],[11,27,11,28],[12,4,12,6],[13,4,13,6],[14,4,15,6],[17,14,22,14],[27,4,30,13],[27,15,28,16],[32,0,32,16],[32,17,32,33],[32,34,32,35],[33,45,34,45]]}
[]
["United States"]
["US Environmental Protection Agency"]
["Office of Air and Radiation, Office of Transportation and Air Quality"]
[{"$nulls":37},"Tier 2","Y",94]
["Manufacturer Production Line Testing Report for Marine Compression Ignition Engines",{"$nulls":36},"Tier 3","N",1042]
[{"$f":"Summary!B7","v":"Version Number: 1.4 DRAFT  Last Revision: September 2023"},{"$nulls":36},"Tier 4",null,"N/A"]
[]
["Basic Information: Engine Family #11"]
[{"$nulls":167},{"$f":"IF(AND($G$24=94,Summary!$L$13=\"Category 1\"),0,1)","v":1}]
[null,null,"Manufacturer:",null,{"$f":"IF(Summary!D12<>\"\",Summary!D12,\"\")","v":""},{"$nulls":3},"Engine Family:",{"$nulls":31},{"$f":"IF($G$19=\"Diesel\",\"'HC' refers to 'THC' \",IF($G$19=\"Natural Gas\",\"'HC' refers to 'NMHC' \",IF($G$19=\"Alcohol\",\"'HC' refers to 'THCE' \",\"\")))","v":""}]
[null,null,"PLT Test Contact:",null,{"$f":"IF(Summary!D13<>\"\",Summary!D13,\"\")","v":""},{"$nulls":3},"Production (Category 3 only):",{"$nulls":6},{"$f":"IF(N16<>\"Y\", \"Current CO Result\", \"Final CO Result\")","v":"Current CO Result"},null,{"$f":"$CJ$36","v":""},null,{"$f":"IF(N16<>\"Y\", \"Current PM Result\", \"Final PM Result\")","v":"Current PM Result"},null,{"$f":"$DJ$36","v":""},null,{"$f":"IF($AF$12=\"Y\",IF(N16<>\"Y\", \"Current NOx+HC Result\", \"Final NOx+HC Result\"),IF(N16<>\"Y\", \"Current HC Result\", \"Final HC Result\"))","v":"Current HC Result"},null,{"$f":"IF($AF$12=\"Y\",IF($FP$36>0,ROUND($EJ$36+$FJ$36,2),\"\"),$EJ$36)","v":""},null,{"$f":"IF(N16<>\"Y\", \"Current NOx Result\",\"Final NOx Result\")","v":"Current NOx Result"},null,{"$f":"$FJ$36","v":""},null,{"$f":"IF($L$13<>\"Category 3\",IF($G$23=\"\",\"N\",$G$23),\"N\")","v":"N"},{"$f":"IF(Summary!$L$13=\"Category 3\",\"CAT3\",\"\")","v":""}]
[null,null,"Email Address:",null,{"$f":"IF(Summary!D14<>\"\",Summary!D14,\"\")","v":""},{"$nulls":3},"Date of Start of Model Year Production:"]
[null,null,"Phone #:",null,{"$f":"IF(Summary!D15<>\"\",Summary!D15,\"\")","v":""},{"$nulls":3},"Date of End of Model Year Production:",{"$nulls":14},{"$f":"IF($G$19=\"Diesel\",\"'HC' refers to 'THC' \",IF($G$19=\"Natural Gas\",\"'HC' refers to 'NMHC' \",IF($G$19=\"Alcohol\",\"'HC' refers to 'THCE' \",\"\")))","v":""},{"$nulls":13},"Diesel",1,{"$nulls":6},1]
[null,null,"Test Location & Description:",{"$nulls":5},"Deterioration Factor Type:",{"$nulls":28},"Natural Gas",2,{"$nulls":6},2]
[{"$nulls":8},"Include Results from this Engine Family on Summary Sheet?",{"$nulls":6},"CO Standard ",{"$nulls":3},"PM Standard or FEL",{"$nulls":3},{"$f":"IF($AF$12=\"Y\",\"NOx+HC Standard or FEL\",\"HC Standard\")","v":"HC Standard"},{"$nulls":3},"NOx Standard or FEL",{"$nulls":9},"Alcohol",3,{"$nulls":6},3]
[null,null,"Carryover?:",{"$nulls":5},"Required Tests (including failure follow-ups)",{"$nulls":4},{"$f":"$FO36","v":0},null,"Units",null,"g/kW-hr",null,"Units",null,"g/kW-hr",null,"Units",null,"g/kW-hr",null,"Units",null,"g/kW-hr",{"$nulls":4},"Test Cycle Options",{"$nulls":10},4]
[null,null,{"$f":"IF($G$17=\"Y\",\"Please submit supporting documentation indicating that this is a carry-over engine family\",\"\")","v":""},{"$nulls":5},"Instead of testing, are PLT requirements for this Engine Family",{"$nulls":6},"CO  Det Factor",{"$nulls":3},"PM  Det Factor",{"$nulls":3},"HC Det Factor",{"$nulls":3},"NOx  Det Factor",{"$nulls":6},"1 = 4-Mode General Cycle (E3)",null,null,"Recreational"]
[null,null,"Fuel Type:",{"$nulls":5}," fulfilled under the following (Category 1 only)?",{"$nulls":6},"Det Factor Type",null,{"$f":"IF($N$15<>\"\",$N$15,\"\")","v":""},null,"Det Factor Type",null,{"$f":"IF($N$15<>\"\",$N$15,\"\")","v":""},null,"Det Factor Type",null,{"$f":"IF($N$15<>\"\",$N$15,\"\")","v":""},null,"Det Factor Type",null,{"$f":"IF($N$15<>\"\",$N$15,\"\")","v":""},{"$nulls":4},"2 = 5-Mode Recreational Cycle (E5)",null,null,"Commercial"]
[null,null,"Recreational/Commercial:",{"$nulls":5},"Please elaborate in the comments section.",{"$nulls":6},"CO Green Engine Factor",{"$nulls":3},"PM Green Engine Factor",{"$nulls":3},"HC Green Engine Factor",{"$nulls":3},"NOx Green Engine Factor",{"$nulls":6},"3 = 4-Mode Constant Speed Propulsion Cycle (E2)"]
[null,null,"Model Year:",{"$nulls":5},"    -1042.310(a) - EPA approved combining it, for PLT purposes only.",{"$nulls":25},"4 = 5-Mode Constant Speed Auxiliary Cycle (D2)"]
[null,null,"Tier:",{"$nulls":31},"5 = 6-Mode Variable Speed Auxiliary Cycle (G2)",null,null,"1 (E3)"]
[null,null,"Combined NOx+HC?",{"$nulls":31},"6 = 8-Mode Variable Speed Ausiliary Cycle (C1)",null,null,"2 (E5)"]
[null,null,"40 CFR Part:",{"$nulls":3},{"$f":"AN6","v":1042},null,"Additional testing required by EPA [40 CFR 1042.301(e)]? ",{"$nulls":25},"O = Other",null,null,"3 (E2)"]
[{"$nulls":37},"4 (D2)"]
[{"$nulls":37},"5 (G2)",{"$nulls":132},"deleted and redirected"]
[{"$nulls":22}," ",{"$nulls":14},"6 (C1)",4,{"$nulls":6},4]
[null,null,"Comments:",{"$nulls":34},"O (other)"]
[{"$nulls":22}," ",{"$nulls":22},"additive"]
[{"$nulls":45},"multiplicative",{"$nulls":22},"CO Rounding",{"$nulls":4},"CO Rounding",{"$nulls":4},"CO Rounding",{"$nulls":4},"CO Rounding",{"$nulls":10},"PM Rounding",{"$nulls":4},"PM Rounding",{"$nulls":4},"PM Rounding",{"$nulls":4},"PM Rounding",{"$nulls":10},"HC Rounding",{"$nulls":4},"HC Rounding",{"$nulls":4},"HC Rounding",{"$nulls":4},"HC Rounding",{"$nulls":10},"NOx Rounding",{"$nulls":4},"NOx Rounding",{"$nulls":4},"NOx Rounding",{"$nulls":4},"NOx Rounding"]
[{"$nulls":22}," ",{"$nulls":45},"initial",{"$nulls":4},"final",{"$nulls":4}," det final",{"$nulls":4},"ave of all final",{"$nulls":10},"initial",{"$nulls":4},"final",{"$nulls":4}," det final",{"$nulls":4},"ave of all final",{"$nulls":10},"initial",{"$nulls":4},"final",{"$nulls":4}," det final",{"$nulls":4},"ave of all final",{"$nulls":10},"initial",{"$nulls":4},"final",{"$nulls":4}," det final",{"$nulls":4},"ave of all final"]
[{"$nulls":38},"Y",{"$nulls":6},"Y"]
["PLT Engine Test Results: Engine Family #11",{"$nulls":37},"N",{"$nulls":6},"N",{"$nulls":124},"This is N17"]
[{"$nulls":36},"CO",null,"PM",null,null,"HC or HC+NOX",null,"Nox",null,"Engine Data Complete?",{"$nulls":11},"HC","HC","HC","HC","Nox","Nox","Nox","Nox",{"$nulls":107},"1% of production or pre-approved reduced sample size - whichever is Lower # "]
[null,"Calc Final Result?","Test Number","Test Date","Test Time","Test Qtr","Engine ID","Engine Make","Engine Configuration","Build Date","Green Engine Factor Applied?","Green Engine Factor Determination Method","Service Hours (or miles) Accumulation","Service Hours Location","Service Acc. Procedure","CO Initial Result ","Rounded CO Initial Result ","CO Final Result ","Det. CO Final Result ","PM Initial Result ","Rounded PM Initial Result ","PM Final Result ","Det. PM Final Result ","HC Initial Result ","Rounded HC Initial Result ","HC Final Result ","Det. HC Final Result ","NOx Initial Result ","Rounded NOx Initial Result ","NOx Final Result ","Det. NOx Final Result ","Reason for Failed Test (if applicable)","Remedy","Repairs","Test Cycle","Comments",0,0,0,0,0,0,0,0,{"$nulls":5},"Unrounded initial CO","Unrounded final CO","Det CO","Final CO","Unrounded initial PM","Unrounded final PM","Det PM","Final PM","Unrounded initial HCNOx","Unrounded final HCNOx","Det HCNOx","Final HCNOX","Unrounded initial NOx","Unrounded final NOx","Det NOx","Final HCNOX",{"$nulls":7},"rounded",{"$nulls":4},"rounded",{"$nulls":4},"rounded",{"$nulls":4},"rounded",{"$nulls":10},"rounded",{"$nulls":4},"rounded",{"$nulls":4},"rounded",{"$nulls":4},"rounded",{"$nulls":10},"rounded",{"$nulls":4},"rounded",{"$nulls":4},"rounded",{"$nulls":4},"rounded","ROUNDED AND ACCOUNT FOR BLANK",{"$nulls":9},"rounded",{"$nulls":4},"rounded",{"$nulls":4},"rounded",{"$nulls":4},"rounded","ROUNDED AND ACCOUNT FOR BLANK","Test complete Flag","Total complete","Fail Flag","req","val","baseline req","req due to fails","sum fails","baseline req"]
[1,{"$nulls":4},"N/A",{"$nulls":10},{"$f":"$BU36","v":""},{"$f":"$BZ36","v":""},{"$f":"$CE36","v":""},null,{"$f":"$CU36","v":""},{"$f":"$CZ36","v":""},{"$f":"$DE36","v":""},null,{"$f":"$DU36","v":""},{"$f":"$DZ36","v":""},{"$f":"$EE36","v":""},null,{"$f":"$EU36","v":""},{"$f":"$EZ36","v":""},{"$f":"$FE36","v":""},{"$nulls":5},{"$f":"IF($B36=\"N\",IF(AND($AK35<>\"\",$Q36<>\"\"),$AK35+$Q36,\"\"),IF($B36=\"Y\",0,\"\"))","v":""},{"$f":"IF($B36=\"N\",AL35+1,IF($B36=\"Y\",0,\"\"))","v":""},{"$f":"IF($B36=\"N\",IF(AND($AM35<>\"\",$U36<>\"\"),$AM35+$U36,\"\"),IF($B36=\"Y\",0,\"\"))","v":""},{"$f":"IF($B36=\"N\",AN35+1,IF($B36=\"Y\",0,\"\"))","v":""},{"$f":"IF($B36=\"N\",IF(AND($AO35<>\"\",$Y36<>\"\"),$AO35+$Y36,\"\"),IF($B36=\"Y\",0,\"\"))","v":""},{"$f":"IF($B36=\"N\",AP35+1,IF($B36=\"Y\",0,\"\"))","v":""},{"$f":"IF($B36=\"N\",IF(AND($AQ35<>\"\",$AC36<>\"\"),$AQ35+$AC36,\"\"),IF($B36=\"Y\",0,\"\"))","v":""},{"$f":"IF($B36=\"N\",AR35+1,IF($B36=\"Y\",0,\"\"))","v":""},null,{"$f":"IF(AND(B36<>\"\",C36<>\"\",D36<>\"\",E36<>\"\",G36<>\"\",H36<>\"\",I36<>\"\",J36<>\"\",K36<>\"\",M36<>\"\",N36<>\"\",O36<>\"\"),1,0)","v":0},{"$nulls":3},{"$f":"IF(AND($P36<>\"\",$AT36=1),$P36,\"\")","v":""},{"$f":"IF($B36=\"Y\",IF(AND($Q36<>\"\",$AK35<>\"\",$AL35<>\"\"),($Q36+$AK35)/($AL35+1),\"\"),\"\")","v":""},{"$f":"IF(AND($B36=\"Y\",$R36<>\"\",$R$18<>\"\"),IF($R$19=\"additive\",$R36+$R$18,IF($R$19=\"multiplicative\",$R36*$R$18,\"\")),\"\")","v":""},{"$f":"IF(COUNT($S$36:$S$85)>0,AVERAGE($S$36:$S$85),\"\")","v":""},{"$f":"IF(AND($T36<>\"\",$AT36=1),$T36,\"\")","v":""},{"$f":"IF($B36=\"Y\",IF(AND($U36<>\"\",$AM35<>\"\",$AN35<>\"\"),($U36+$AM35)/($AN35+1),\"\"),\"\")","v":""},{"$f":"IF(AND($B36=\"Y\",$V36<>\"\",$V$18<>\"\"),IF($V$19=\"additive\",$V36+$V$18,IF($V$19=\"multiplicative\",$V36*$V$18,\"\")),\"\")","v":""},{"$f":"IF(COUNT($W$36:$W$85)>0,AVERAGE($W$36:$W$85),\"\")","v":""},{"$f":"IF(AND($X36<>\"\",$AT36=1),$X36,\"\")","v":""},{"$f":"IF($B36=\"Y\",IF(AND($Y36<>\"\",$AO35<>\"\",$AP35<>\"\"),($Y36+$AO35)/($AP35+1),\"\"),\"\")","v":""},{"$f":"IF(AND($B36=\"Y\",$Z36<>\"\",$Z$18<>\"\"),IF($Z$19=\"additive\",$Z36+$Z$18,IF($Z$19=\"multiplicative\",$Z36*$Z$18,\"\")),\"\")","v":""},{"$f":"IF(COUNT($AA$36:$AA$85)>0,AVERAGE($AA$36:$AA$85),\"\")","v":""},{"$f":"IF(AND($AB36<>\"\",$AT36=1),$AB36,\"\")","v":""},{"$f":"IF($B36=\"Y\",IF(AND($AC36<>\"\",$AQ35<>\"\",$AR35<>\"\"),($AC36+$AQ35)/($AR35+1),\"\"),\"\")","v":""},{"$f":"IF(AND($B36=\"Y\",$AD36<>\"\",$AD$18<>\"\"),IF($AD$19=\"additive\",$AD36+$AD$18,IF($AD$19=\"multiplicative\",$AD36*$AD$18,\"\")),\"\")","v":""},{"$f":"IF(COUNT($AE$36:$AE$85)>0,AVERAGE($AE$36:$AE$85),\"\")","v":""},{"$nulls":7},{"$f":"IF($AX36<>\"\",ROUND($AX36,2),\"\")","v":""},{"$nulls":4},{"$f":"IF($AY36<>\"\",ROUND($AY36,2),\"\")","v":""},{"$nulls":4},{"$f":"IF($AZ36<>\"\",ROUND($AZ36,2),\"\")","v":""},{"$nulls":4},{"$f":"IF($BA36<>\"\",ROUND($BA36,2),\"\")","v":""},{"$nulls":10},{"$f":"IF($BB36<>\"\",ROUND($BB36,3),\"\")","v":""},{"$nulls":4},{"$f":"IF($BC36<>\"\",ROUND($BC36,3),\"\")","v":""},{"$nulls":4},{"$f":"IF($BD36<>\"\",ROUND($BD36,3),\"\")","v":""},{"$nulls":4},{"$f":"IF($BE36<>\"\",ROUND($BE36,3),\"\")","v":""},{"$nulls":10},{"$f":"IF($BF36<>\"\",ROUND($BF36,3),\"\")","v":""},{"$nulls":4},{"$f":"IF($BG36<>\"\",ROUND($BG36,3),\"\")","v":""},{"$nulls":4},{"$f":"IF($BH36<>\"\",ROUND($BH36,3),\"\")","v":""},{"$nulls":4},{"$f":"IF($BI36<>\"\",ROUND($BI36,3),\"\")","v":""},{"$f":"IF(EJ36=\"\",0,EJ36)","v":0},{"$nulls":9},{"$f":"IF($BJ36<>\"\",ROUND($BJ36,2),\"\")","v":""},{"$nulls":4},{"$f":"IF($BK36<>\"\",ROUND($BK36,2),\"\")","v":""},{"$nulls":4},{"$f":"IF($BL36<>\"\",ROUND($BL36,2),\"\")","v":""},{"$nulls":4},{"$f":"IF($BM36<>\"\",ROUND($BM36,2),\"\")","v":""},{"$f":"IF(FJ36=\"\",0,FJ36)","v":0},{"$f":"IF($AG$12<>\"CAT3\",IF(AND($B36=\"Y\",$S36<>\"\",$W36<>\"\",$AA36<>\"\",$AE36<>\"\"),1,0),IF($AE36<>\"\",1,0))","v":0},{"$f":"SUM($FL$36:$FL36)","v":0},{"$f":"IF($AG$12<>\"CAT3\",IF($FL36=1,IF(OR($S36>$R$16,$W36>$V$16,$AA36>$Z$16,IF($AF$12<>\"Y\",OR($AA36>$Z$16,$AE36>$AD$16),ROUND(($AA36+$AE36),2)>$Z$16)),1,0),0),IF($FL36=1,IF(AND($AE36>$AD$16,$AF$12=\"N\"),1,0),0))","v":0},{"$f":"IF(OR($M$11=\"\",$N$18=\"Y\"),0,IF($AG$12=\"CAT3\",$N$12,($FR$36+1)))","v":0},{"$f":"SUM(FL36:FL85)","v":0},{"$f":"IF(AND($G$17=\"Y\",$N$24<>\"\"),MIN($N$24,$FT$36),$FT$36)","v":0},{"$f":"$FS$36*2","v":0},{"$f":"SUM(FN36:FN85)","v":0},{"$f":"IF($N$12<>\"\",$N$12*0.01,0)","v":0}]
[{"$f":"A36+1","v":2},{"$nulls":4},"N/A",{"$nulls":10},"","","",null,"","","",null,"","","",null,"","","",{"$nulls":5},"",{"$f":"IF($B37=\"N\",AL36+1,IF($B37=\"Y\",0,\"\"))","v":""},"",{"$f":"IF($B37=\"N\",AN36+1,IF($B37=\"Y\",0,\"\"))","v":""},{"$f":"IF($B37=\"N\",IF(AND($AO36<>\"\",$Y37<>\"\"),$AO36+$Y37,\"\"),IF($B37=\"Y\",0,\"\"))","v":""},{"$f":"IF($B37=\"N\",AP36+1,IF($B37=\"Y\",0,\"\"))","v":""},{"$f":"IF($B37=\"N\",IF(AND($AQ36<>\"\",$AC37<>\"\"),$AQ36+$AC37,\"\"),IF($B37=\"Y\",0,\"\"))","v":""},{"$f":"IF($B37=\"N\",AR36+1,IF($B37=\"Y\",0,\"\"))","v":""},null,{"$f":"IF(AND(B37<>\"\",C37<>\"\",D37<>\"\",E37<>\"\",G37<>\"\",H37<>\"\",I37<>\"\",J37<>\"\",K37<>\"\",M37<>\"\",N37<>\"\",O37<>\"\"),1,0)","v":0},{"$nulls":3},"","",{"$f":"IF(AND($B37=\"Y\",$R37<>\"\",$R$18<>\"\"),IF($R$19=\"additive\",$R37+$R$18,IF($R$19=\"multiplicative\",$R37*$R$18,\"\")),\"\")","v":""},null,"","",{"$f":"IF(AND($B37=\"Y\",$V37<>\"\",$V$18<>\"\"),IF($V$19=\"additive\",$V37+$V$18,IF($V$19=\"multiplicative\",$V37*$V$18,\"\")),\"\")","v":""},null,{"$f":"IF(AND($X37<>\"\",$AT37=1),$X37,\"\")","v":""},{"$f":"IF($B37=\"Y\",IF(AND($Y37<>\"\",$AO36<>\"\",$AP36<>\"\"),($Y37+$AO36)/($AP36+1),\"\"),\"\")","v":""},{"$f":"IF(AND($B37=\"Y\",$Z37<>\"\",$Z$18<>\"\"),IF($Z$19=\"additive\",$Z37+$Z$18,IF($Z$19=\"multiplicative\",$Z37*$Z$18,\"\")),\"\")","v":""},null,{"$f":"IF(AND($AB37<>\"\",$AT37=1),$AB37,\"\")","v":""},{"$f":"IF($B37=\"Y\",IF(AND($AC37<>\"\",$AQ36<>\"\",$AR36<>\"\"),($AC37+$AQ36)/($AR36+1),\"\"),\"\")","v":""},{"$f":"IF(AND($B37=\"Y\",$AD37<>\"\",$AD$18<>\"\"),IF($AD$19=\"additive\",$AD37+$AD$18,IF($AD$19=\"multiplicative\",$AD37*$AD$18,\"\")),\"\")","v":""},{"$nulls":8},{"$f":"IF($AX37<>\"\",ROUND($AX37,2),\"\")","v":""},{"$nulls":4},{"$f":"IF($AY37<>\"\",ROUND($AY37,2),\"\")","v":""},{"$nulls":4},{"$f":"IF($AZ37<>\"\",ROUND($AZ37,2),\"\")","v":""},{"$nulls":15},{"$f":"IF($BB37<>\"\",ROUND($BB37,3),\"\")","v":""},{"$nulls":4},{"$f":"IF($BC37<>\"\",ROUND($BC37,3),\"\")","v":""},{"$nulls":4},{"$f":"IF($BD37<>\"\",ROUND($BD37,3),\"\")","v":""},{"$nulls":15},{"$f":"IF($BF37<>\"\",ROUND($BF37,3),\"\")","v":""},{"$nulls":4},{"$f":"IF($BG37<>\"\",ROUND($BG37,3),\"\")","v":""},{"$nulls":4},{"$f":"IF($BH37<>\"\",ROUND($BH37,3),\"\")","v":""},{"$nulls":15},{"$f":"IF($BJ37<>\"\",ROUND($BJ37,2),\"\")","v":""},{"$nulls":4},{"$f":"IF($BK37<>\"\",ROUND($BK37,2),\"\")","v":""},{"$nulls":4},{"$f":"IF($BL37<>\"\",ROUND($BL37,2),\"\")","v":""},{"$nulls":6},{"$f":"IF($AG$12<>\"CAT3\",IF(AND($B37=\"Y\",$S37<>\"\",$W37<>\"\",$AA37<>\"\",$AE37<>\"\"),1,0),IF($AE37<>\"\",1,0))","v":0},{"$f":"SUM($FL$36:$FL37)","v":0},{"$f":"IF($AG$12<>\"CAT3\",IF($FL37=1,IF(OR($S37>$R$16,$W37>$V$16,$AA37>$Z$16,IF($AF$12<>\"Y\",OR($AA37>$Z$16,$AE37>$AD$16),ROUND(($AA37+$AE37),2)>$Z$16)),1,0),0),IF($FL37=1,IF(AND($AE37>$AD$16,$AF$12=\"N\"),1,0),0))","v":0},null,null,{"$f":"MAX($FQ$36,$FL$10)","v":1}]
[{"$f":"A37+1","v":3},{"$nulls":4},"N/A",{"$nulls":10},"","","",null,"","","",null,"","","",null,"","","",{"$nulls":5},"","","","","","","","",null,0,{"$nulls":3},"","","",null,"","","",null,"","","",null,"","","",{"$nulls":8},"",{"$nulls":4},"",{"$nulls":4},"",{"$nulls":15},"",{"$nulls":4},"",{"$nulls":4},"",{"$nulls":15},"",{"$nulls":4},"",{"$nulls":4},"",{"$nulls":15},"",{"$nulls":4},"",{"$nulls":4},"",{"$nulls":6},0,{"$f":"SUM($FL$36:$FL38)","v":0},0]
[4,{"$nulls":4},"N/A",{"$nulls":10},"","","",null,"","","",null,"","","",null,"","","",{"$nulls":5},"","","","","","","","",null,0,{"$nulls":3},"","","",null,"","","",null,"","","",null,"","","",{"$nulls":8},"",{"$nulls":4},"",{"$nulls":4},"",{"$nulls":15},"",{"$nulls":4},"",{"$nulls":4},"",{"$nulls":15},"",{"$nulls":4},"",{"$nulls":4},"",{"$nulls":15},"",{"$nulls":4},"",{"$nulls":4},"",{"$nulls":6},0,{"$f":"SUM($FL$36:$FL39)","v":0},0,null,null,"then, the larger of that sample size or 1  (or if Part 94 and cat1,  can be 0)"]
[5,{"$nulls":4},"N/A",{"$nulls":10},"","","",null,"","","",null,"","","",null,"","","",{"$nulls":5},"","","","","","","","",null,0,{"$nulls":3},"","","",null,"","","",null,"","","",null,"","","",{"$nulls":8},"",{"$nulls":4},"",{"$nulls":4},"",{"$nulls":15},"",{"$nulls":4},"",{"$nulls":4},"",{"$nulls":15},"",{"$nulls":4},"",{"$nulls":4},"",{"$nulls":15},"",{"$nulls":4},"",{"$nulls":4},"",{"$nulls":6},0,{"$f":"SUM($FL$36:$FL40)","v":0},0]
[6,{"$nulls":4},"N/A",{"$nulls":10},"","","",null,"","","",null,"","","",null,"","","",{"$nulls":5},"","","","","","","","",null,0,{"$nulls":3},"","","",null,"","","",null,"","","",null,"","","",{"$nulls":8},"",{"$nulls":4},"",{"$nulls":4},"",{"$nulls":15},"",{"$nulls":4},"",{"$nulls":4},"",{"$nulls":15},"",{"$nulls":4},"",{"$nulls":4},"",{"$nulls":15},"",{"$nulls":4},"",{"$nulls":4},"",{"$nulls":6},0,{"$f":"SUM($FL$36:$FL41)","v":0},0]
[7,{"$nulls":4},"N/A",{"$nulls":10},"","","",null,"","","",null,"","","",null,"","","",{"$nulls":5},"","","","","","","","",null,0,{"$nulls":3},"","","",null,"","","",null,"","","",null,"","","",{"$nulls":8},"",{"$nulls":4},"",{"$nulls":4},"",{"$nulls":15},"",{"$nulls":4},"",{"$nulls":4},"",{"$nulls":15},"",{"$nulls":4},"",{"$nulls":4},"",{"$nulls":15},"",{"$nulls":4},"",{"$nulls":4},"",{"$nulls":6},0,{"$f":"SUM($FL$36:$FL42)","v":0},0]
[8,{"$nulls":4},"N/A",{"$nulls":10},"","","",null,"","","",null,"","","",null,"","","",{"$nulls":5},"","","","","","","","",null,0,{"$nulls":3},"","","",null,"","","",null,"","","",null,"","","",{"$nulls":8},"",{"$nulls":4},"",{"$nulls":4},"",{"$nulls":15},"",{"$nulls":4},"",{"$nulls":4},"",{"$nulls":15},"",{"$nulls":4},"",{"$nulls":4},"",{"$nulls":15},"",{"$nulls":4},"",{"$nulls":4},"",{"$nulls":6},0,{"$f":"SUM($FL$36:$FL43)","v":0},0]
[9,{"$nulls":4},"N/A",{"$nulls":10},"","","",null,"","","",null,"","","",null,"","","",{"$nulls":5},"","","","","","","","",null,0,{"$nulls":3},"","","",null,"","","",null,"","","",null,"","","",{"$nulls":8},"",{"$nulls":4},"",{"$nulls":4},"",{"$nulls":15},"",{"$nulls":4},"",{"$nulls":4},"",{"$nulls":15},"",{"$nulls":4},"",{"$nulls":4},"",{"$nulls":15},"",{"$nulls":4},"",{"$nulls":4},"",{"$nulls":6},0,{"$f":"SUM($FL$36:$FL44)","v":0},0]
[10,{"$nulls":4},"N/A",{"$nulls":10},"","","",null,"","","",null,"","","",null,"","","",{"$nulls":5},"","","","","","","","",null,0,{"$nulls":3},"","","",null,"","","",null,"","","",null,"","","",{"$nulls":8},"",{"$nulls":4},"",{"$nulls":4},"",{"$nulls":15},"",{"$nulls":4},"",{"$nulls":4},"",{"$nulls":15},"",{"$nulls":4},"",{"$nulls":4},"",{"$nulls":15},"",{"$nulls":4},"",{"$nulls":4},"",{"$nulls":6},0,{"$f":"SUM($FL$36:$FL45)","v":0},0]
[11,{"$nulls":4},"N/A",{"$nulls":10},"","","",null,"","","",null,"","","",null,"","","",{"$nulls":5},"","","","","","","","",null,0,{"$nulls":3},"","","",null,"","","",null,"","","",null,"","","",{"$nulls":8},"",{"$nulls":4},"",{"$nulls":4},"",{"$nulls":15},"",{"$nulls":4},"",{"$nulls":4},"",{"$nulls":15},"",{"$nulls":4},"",{"$nulls":4},"",{"$nulls":15},"",{"$nulls":4},"",{"$nulls":4},"",{"$nulls":6},0,{"$f":"SUM($FL$36:$FL46)","v":0},0]
[12,{"$nulls":4},"N/A",{"$nulls":10},"","","",null,"","","",null,"","","",null,"","","",{"$nulls":5},"","","","","","","","",null,0,{"$nulls":3},"","","",null,"","","",null,"","","",null,"","","",{"$nulls":8},"",{"$nulls":4},"",{"$nulls":4},"",{"$nulls":15},"",{"$nulls":4},"",{"$nulls":4},"",{"$nulls":15},"",{"$nulls":4},"",{"$nulls":4},"",{"$nulls":15},"",{"$nulls":4},"",{"$nulls":4},"",{"$nulls":6},0,{"$f":"SUM($FL$36:$FL47)","v":0},0]
[13,{"$nulls":4},"N/A",{"$nulls":10},"","","",null,"","","",null,"","","",null,"","","",{"$nulls":5},"","","","","","","","",null,0,{"$nulls":3},"","","",null,"","","",null,"","","",null,"","","",{"$nulls":8},"",{"$nulls":4},"",{"$nulls":4},"",{"$nulls":15},"",{"$nulls":4},"",{"$nulls":4},"",{"$nulls":15},"",{"$nulls":4},"",{"$nulls":4},"",{"$nulls":15},"",{"$nulls":4},"",{"$nulls":4},"",{"$nulls":6},0,{"$f":"SUM($FL$36:$FL48)","v":0},0]
[14,{"$nulls":4},"N/A",{"$nulls":10},"","","",null,"","","",null,"","","",null,"","","",{"$nulls":5},"","","","","","","","",null,0,{"$nulls":3},"","","",null,"","","",null,"","","",null,"","","",{"$nulls":8},"",{"$nulls":4},"",{"$nulls":4},"",{"$nulls":15},"",{"$nulls":4},"",{"$nulls":4},"",{"$nulls":15},"",{"$nulls":4},"",{"$nulls":4},"",{"$nulls":15},"",{"$nulls":4},"",{"$nulls":4},"",{"$nulls":6},0,{"$f":"SUM($FL$36:$FL49)","v":0},0]
[15,{"$nulls":4},"N/A",{"$nulls":10},"","","",null,"","","",null,"","","",null,"","","",{"$nulls":5},"","","","","","","","",null,0,{"$nulls":3},"","","",null,"","","",null,"","","",null,"","","",{"$nulls":8},"",{"$nulls":4},"",{"$nulls":4},"",{"$nulls":15},"",{"$nulls":4},"",{"$nulls":4},"",{"$nulls":15},"",{"$nulls":4},"",{"$nulls":4},"",{"$nulls":15},"",{"$nulls":4},"",{"$nulls":4},"",{"$nulls":6},0,{"$f":"SUM($FL$36:$FL50)","v":0},0]
[16,{"$nulls":4},"N/A",{"$nulls":10},"","","",null,"","","",null,"","","",null,"","","",{"$nulls":5},"","","","","","","","",null,0,{"$nulls":3},"","","",null,"","","",null,"","","",null,"","","",{"$nulls":8},"",{"$nulls":4},"",{"$nulls":4},"",{"$nulls":15},"",{"$nulls":4},"",{"$nulls":4},"",{"$nulls":15},"",{"$nulls":4},"",{"$nulls":4},"",{"$nulls":15},"",{"$nulls":4},"",{"$nulls":4},"",{"$nulls":6},0,{"$f":"SUM($FL$36:$FL51)","v":0},0]
[17,{"$nulls":4},"N/A",{"$nulls":10},"","","",null,"","","",null,"","","",null,"","","",{"$nulls":5},"","","","","","","","",null,0,{"$nulls":3},"","","",null,"","","",null,"","","",null,"","","",{"$nulls":8},"",{"$nulls":4},"",{"$nulls":4},"",{"$nulls":15},"",{"$nulls":4},"",{"$nulls":4},"",{"$nulls":15},"",{"$nulls":4},"",{"$nulls":4},"",{"$nulls":15},"",{"$nulls":4},"",{"$nulls":4},"",{"$nulls":6},0,{"$f":"SUM($FL$36:$FL52)","v":0},0]
[18,{"$nulls":4},"N/A",{"$nulls":10},"","","",null,"","","",null,"","","",null,"","","",{"$nulls":5},"","","","","","","","",null,0,{"$nulls":3},"","","",null,"","","",null,"","","",null,"","","",{"$nulls":8},"",{"$nulls":4},"",{"$nulls":4},"",{"$nulls":15},"",{"$nulls":4},"",{"$nulls":4},"",{"$nulls":15},"",{"$nulls":4},"",{"$nulls":4},"",{"$nulls":15},"",{"$nulls":4},"",{"$nulls":4},"",{"$nulls":6},0,{"$f":"SUM($FL$36:$FL53)","v":0},0]
[19,{"$nulls":4},"N/A",{"$nulls":10},"","","",null,"","","",null,"","","",null,"","","",{"$nulls":5},"","","","","","","","",null,0,{"$nulls":3},"","","",null,"","","",null,"","","",null,"","","",{"$nulls":8},"",{"$nulls":4},"",{"$nulls":4},"",{"$nulls":15},"",{"$nulls":4},"",{"$nulls":4},"",{"$nulls":15},"",{"$nulls":4},"",{"$nulls":4},"",{"$nulls":15},"",{"$nulls":4},"",{"$nulls":4},"",{"$nulls":6},0,{"$f":"SUM($FL$36:$FL54)","v":0},0]
[20,{"$nulls":4},"N/A",{"$nulls":10},"","","",null,"","","",null,"","","",null,"","","",{"$nulls":5},"","","","","","","","",null,0,{"$nulls":3},"","","",null,"","","",null,"","","",null,"","","",{"$nulls":8},"",{"$nulls":4},"",{"$nulls":4},"",{"$nulls":15},"",{"$nulls":4},"",{"$nulls":4},"",{"$nulls":15},"",{"$nulls":4},"",{"$nulls":4},"",{"$nulls":15},"",{"$nulls":4},"",{"$nulls":4},"",{"$nulls":6},0,{"$f":"SUM($FL$36:$FL55)","v":0},0]
[21,{"$nulls":4},"N/A",{"$nulls":10},"","","",null,"","","",null,"","","",null,"","","",{"$nulls":5},"","","","","","","","",null,0,{"$nulls":3},"","","",null,"","","",null,"","","",null,"","","",{"$nulls":8},"",{"$nulls":4},"",{"$nulls":4},"",{"$nulls":15},"",{"$nulls":4},"",{"$nulls":4},"",{"$nulls":15},"",{"$nulls":4},"",{"$nulls":4},"",{"$nulls":15},"",{"$nulls":4},"",{"$nulls":4},"",{"$nulls":6},0,{"$f":"SUM($FL$36:$FL56)","v":0},0]
[22,{"$nulls":4},"N/A",{"$nulls":10},"","","",null,"","","",null,"","","",null,"","","",{"$nulls":5},"","","","","","","","",null,0,{"$nulls":3},"","","",null,"","","",null,"","","",null,"","","",{"$nulls":8},"",{"$nulls":4},"",{"$nulls":4},"",{"$nulls":15},"",{"$nulls":4},"",{"$nulls":4},"",{"$nulls":15},"",{"$nulls":4},"",{"$nulls":4},"",{"$nulls":15},"",{"$nulls":4},"",{"$nulls":4},"",{"$nulls":6},0,{"$f":"SUM($FL$36:$FL57)","v":0},0]
[23,{"$nulls":4},"N/A",{"$nulls":10},"","","",null,"","","",null,"","","",null,"","","",{"$nulls":5},"","","","","","","","",null,0,{"$nulls":3},"","","",null,"","","",null,"","","",null,"","","",{"$nulls":8},"",{"$nulls":4},"",{"$nulls":4},"",{"$nulls":15},"",{"$nulls":4},"",{"$nulls":4},"",{"$nulls":15},"",{"$nulls":4},"",{"$nulls":4},"",{"$nulls":15},"",{"$nulls":4},"",{"$nulls":4},"",{"$nulls":6},0,{"$f":"SUM($FL$36:$FL58)","v":0},0]
[24,{"$nulls":4},"N/A",{"$nulls":10},"","","",null,"","","",null,"","","",null,"","","",{"$nulls":5},"","","","","","","","",null,0,{"$nulls":3},"","","",null,"","","",null,"","","",null,"","","",{"$nulls":8},"",{"$nulls":4},"",{"$nulls":4},"",{"$nulls":15},"",{"$nulls":4},"",{"$nulls":4},"",{"$nulls":15},"",{"$nulls":4},"",{"$nulls":4},"",{"$nulls":15},"",{"$nulls":4},"",{"$nulls":4},"",{"$nulls":6},0,{"$f":"SUM($FL$36:$FL59)","v":0},0]
[25,{"$nulls":4},"N/A",{"$nulls":10},"","","",null,"","","",null,"","","",null,"","","",{"$nulls":5},"","","","","","","","",null,0,{"$nulls":3},"","","",null,"","","",null,"","","",null,"","","",{"$nulls":8},"",{"$nulls":4},"",{"$nulls":4},"",{"$nulls":15},"",{"$nulls":4},"",{"$nulls":4},"",{"$nulls":15},"",{"$nulls":4},"",{"$nulls":4},"",{"$nulls":15},"",{"$nulls":4},"",{"$nulls":4},"",{"$nulls":6},0,{"$f":"SUM($FL$36:$FL60)","v":0},0]
[26,{"$nulls":4},"N/A",{"$nulls":10},"","","",null,"","","",null,"","","",null,"","","",{"$nulls":5},"","","","","","","","",null,0,{"$nulls":3},"","","",null,"","","",null,"","","",null,"","","",{"$nulls":8},"",{"$nulls":4},"",{"$nulls":4},"",{"$nulls":15},"",{"$nulls":4},"",{"$nulls":4},"",{"$nulls":15},"",{"$nulls":4},"",{"$nulls":4},"",{"$nulls":15},"",{"$nulls":4},"",{"$nulls":4},"",{"$nulls":6},0,{"$f":"SUM($FL$36:$FL61)","v":0},0]
[27,{"$nulls":4},"N/A",{"$nulls":10},"","","",null,"","","",null,"","","",null,"","","",{"$nulls":5},"","","","","","","","",null,0,{"$nulls":3},"","","",null,"","","",null,"","","",null,"","","",{"$nulls":8},"",{"$nulls":4},"",{"$nulls":4},"",{"$nulls":15},"",{"$nulls":4},"",{"$nulls":4},"",{"$nulls":15},"",{"$nulls":4},"",{"$nulls":4},"",{"$nulls":15},"",{"$nulls":4},"",{"$nulls":4},"",{"$nulls":6},0,{"$f":"SUM($FL$36:$FL62)","v":0},0]
[28,{"$nulls":4},"N/A",{"$nulls":10},"","","",null,"","","",null,"","","",null,"","","",{"$nulls":5},"","","","","","","","",null,0,{"$nulls":3},"","","",null,"","","",null,"","","",null,"","","",{"$nulls":8},"",{"$nulls":4},"",{"$nulls":4},"",{"$nulls":15},"",{"$nulls":4},"",{"$nulls":4},"",{"$nulls":15},"",{"$nulls":4},"",{"$nulls":4},"",{"$nulls":15},"",{"$nulls":4},"",{"$nulls":4},"",{"$nulls":6},0,{"$f":"SUM($FL$36:$FL63)","v":0},0]
[29,{"$nulls":4},"N/A",{"$nulls":10},"","","",null,"","","",null,"","","",null,"","","",{"$nulls":5},"","","","","","","","",null,0,{"$nulls":3},"","","",null,"","","",null,"","","",null,"","","",{"$nulls":8},"",{"$nulls":4},"",{"$nulls":4},"",{"$nulls":15},"",{"$nulls":4},"",{"$nulls":4},"",{"$nulls":15},"",{"$nulls":4},"",{"$nulls":4},"",{"$nulls":15},"",{"$nulls":4},"",{"$nulls":4},"",{"$nulls":6},0,{"$f":"SUM($FL$36:$FL64)","v":0},0]
[30,{"$nulls":4},"N/A",{"$nulls":10},"","","",null,"","","",null,"","","",null,"","","",{"$nulls":5},"","","","","","","","",null,0,{"$nulls":3},"","","",null,"","","",null,"","","",null,"","","",{"$nulls":8},"",{"$nulls":4},"",{"$nulls":4},"",{"$nulls":15},"",{"$nulls":4},"",{"$nulls":4},"",{"$nulls":15},"",{"$nulls":4},"",{"$nulls":4},"",{"$nulls":15},"",{"$nulls":4},"",{"$nulls":4},"",{"$nulls":6},0,{"$f":"SUM($FL$36:$FL65)","v":0},0]
[31,{"$nulls":4},"N/A",{"$nulls":10},"","","",null,"","","",null,"","","",null,"","","",{"$nulls":5},"","","","","","","","",null,0,{"$nulls":3},"","","",null,"","","",null,"","","",null,"","","",{"$nulls":8},"",{"$nulls":4},"",{"$nulls":4},"",{"$nulls":15},"",{"$nulls":4},"",{"$nulls":4},"",{"$nulls":15},"",{"$nulls":4},"",{"$nulls":4},"",{"$nulls":15},"",{"$nulls":4},"",{"$nulls":4},"",{"$nulls":6},0,{"$f":"SUM($FL$36:$FL66)","v":0},0]
[32,{"$nulls":4},"N/A",{"$nulls":10},"","","",null,"","","",null,"","","",null,"","","",{"$nulls":5},"","","","","","","","",null,0,{"$nulls":3},"","","",null,"","","",null,"","","",null,"","","",{"$nulls":8},"",{"$nulls":4},"",{"$nulls":4},"",{"$nulls":15},"",{"$nulls":4},"",{"$nulls":4},"",{"$nulls":15},"",{"$nulls":4},"",{"$nulls":4},"",{"$nulls":15},"",{"$nulls":4},"",{"$nulls":4},"",{"$nulls":6},0,{"$f":"SUM($FL$36:$FL67)","v":0},0]
[33,{"$nulls":4},"N/A",{"$nulls":10},"","","",null,"","","",null,"","","",null,"","","",{"$nulls":5},"","","","","","","","",null,0,{"$nulls":3},"","","",null,"","","",null,"","","",null,"","","",{"$nulls":8},"",{"$nulls":4},"",{"$nulls":4},"",{"$nulls":15},"",{"$nulls":4},"",{"$nulls":4},"",{"$nulls":15},"",{"$nulls":4},"",{"$nulls":4},"",{"$nulls":15},"",{"$nulls":4},"",{"$nulls":4},"",{"$nulls":6},0,{"$f":"SUM($FL$36:$FL68)","v":0},0]
[34,{"$nulls":4},"N/A",{"$nulls":10},"","","",null,"","","",null,"","","",null,"","","",{"$nulls":5},"","","","","","","","",null,0,{"$nulls":3},"","","",null,"","","",null,"","","",null,"","","",{"$nulls":8},"",{"$nulls":4},"",{"$nulls":4},"",{"$nulls":15},"",{"$nulls":4},"",{"$nulls":4},"",{"$nulls":15},"",{"$nulls":4},"",{"$nulls":4},"",{"$nulls":15},"",{"$nulls":4},"",{"$nulls":4},"",{"$nulls":6},0,{"$f":"SUM($FL$36:$FL69)","v":0},0]
[35,{"$nulls":4},"N/A",{"$nulls":10},"","","",null,"","","",null,"","","",null,"","","",{"$nulls":5},"","","","","","","","",null,0,{"$nulls":3},"","","",null,"","","",null,"","","",null,"","","",{"$nulls":8},"",{"$nulls":4},"",{"$nulls":4},"",{"$nulls":15},"",{"$nulls":4},"",{"$nulls":4},"",{"$nulls":15},"",{"$nulls":4},"",{"$nulls":4},"",{"$nulls":15},"",{"$nulls":4},"",{"$nulls":4},"",{"$nulls":6},0,{"$f":"SUM($FL$36:$FL70)","v":0},0]
[36,{"$nulls":4},"N/A",{"$nulls":10},"","","",null,"","","",null,"","","",null,"","","",{"$nulls":5},"","","","","","","","",null,0,{"$nulls":3},"","","",null,"","","",null,"","","",null,"","","",{"$nulls":8},"",{"$nulls":4},"",{"$nulls":4},"",{"$nulls":15},"",{"$nulls":4},"",{"$nulls":4},"",{"$nulls":15},"",{"$nulls":4},"",{"$nulls":4},"",{"$nulls":15},"",{"$nulls":4},"",{"$nulls":4},"",{"$nulls":6},0,{"$f":"SUM($FL$36:$FL71)","v":0},0]
[37,{"$nulls":4},"N/A",{"$nulls":10},"","","",null,"","","",null,"","","",null,"","","",{"$nulls":5},"","","","","","","","",null,0,{"$nulls":3},"","","",null,"","","",null,"","","",null,"","","",{"$nulls":8},"",{"$nulls":4},"",{"$nulls":4},"",{"$nulls":15},"",{"$nulls":4},"",{"$nulls":4},"",{"$nulls":15},"",{"$nulls":4},"",{"$nulls":4},"",{"$nulls":15},"",{"$nulls":4},"",{"$nulls":4},"",{"$nulls":6},0,{"$f":"SUM($FL$36:$FL72)","v":0},0]
[38,{"$nulls":4},"N/A",{"$nulls":10},"","","",null,"","","",null,"","","",null,"","","",{"$nulls":5},"","","","","","","","",null,0,{"$nulls":3},"","","",null,"","","",null,"","","",null,"","","",{"$nulls":8},"",{"$nulls":4},"",{"$nulls":4},"",{"$nulls":15},"",{"$nulls":4},"",{"$nulls":4},"",{"$nulls":15},"",{"$nulls":4},"",{"$nulls":4},"",{"$nulls":15},"",{"$nulls":4},"",{"$nulls":4},"",{"$nulls":6},0,{"$f":"SUM($FL$36:$FL73)","v":0},0]
[39,{"$nulls":4},"N/A",{"$nulls":10},"","","",null,"","","",null,"","","",null,"","","",{"$nulls":5},"","","","","","","","",null,0,{"$nulls":3},"","","",null,"","","",null,"","","",null,"","","",{"$nulls":8},"",{"$nulls":4},"",{"$nulls":4},"",{"$nulls":15},"",{"$nulls":4},"",{"$nulls":4},"",{"$nulls":15},"",{"$nulls":4},"",{"$nulls":4},"",{"$nulls":15},"",{"$nulls":4},"",{"$nulls":4},"",{"$nulls":6},0,{"$f":"SUM($FL$36:$FL74)","v":0},0]
[40,{"$nulls":4},"N/A",{"$nulls":10},"","","",null,"","","",null,"","","",null,"","","",{"$nulls":5},"","","","","","","","",null,0,{"$nulls":3},"","","",null,"","","",null,"","","",null,"","","",{"$nulls":8},"",{"$nulls":4},"",{"$nulls":4},"",{"$nulls":15},"",{"$nulls":4},"",{"$nulls":4},"",{"$nulls":15},"",{"$nulls":4},"",{"$nulls":4},"",{"$nulls":15},"",{"$nulls":4},"",{"$nulls":4},"",{"$nulls":6},0,{"$f":"SUM($FL$36:$FL75)","v":0},0]
[41,{"$nulls":4},"N/A",{"$nulls":10},"","","",null,"","","",null,"","","",null,"","","",{"$nulls":5},"","","","","","","","",null,0,{"$nulls":3},"","","",null,"","","",null,"","","",null,"","","",{"$nulls":8},"",{"$nulls":4},"",{"$nulls":4},"",{"$nulls":15},"",{"$nulls":4},"",{"$nulls":4},"",{"$nulls":15},"",{"$nulls":4},"",{"$nulls":4},"",{"$nulls":15},"",{"$nulls":4},"",{"$nulls":4},"",{"$nulls":6},0,{"$f":"SUM($FL$36:$FL76)","v":0},0]
[42,{"$nulls":4},"N/A",{"$nulls":10},"","","",null,"","","",null,"","","",null,"","","",{"$nulls":5},"","","","","","","","",null,0,{"$nulls":3},"","","",null,"","","",null,"","","",null,"","","",{"$nulls":8},"",{"$nulls":4},"",{"$nulls":4},"",{"$nulls":15},"",{"$nulls":4},"",{"$nulls":4},"",{"$nulls":15},"",{"$nulls":4},"",{"$nulls":4},"",{"$nulls":15},"",{"$nulls":4},"",{"$nulls":4},"",{"$nulls":6},0,{"$f":"SUM($FL$36:$FL77)","v":0},0]
[43,{"$nulls":4},"N/A",{"$nulls":10},"","","",null,"","","",null,"","","",null,"","","",{"$nulls":5},"","","","","","","","",null,0,{"$nulls":3},"","","",null,"","","",null,"","","",null,"","","",{"$nulls":8},"",{"$nulls":4},"",{"$nulls":4},"",{"$nulls":15},"",{"$nulls":4},"",{"$nulls":4},"",{"$nulls":15},"",{"$nulls":4},"",{"$nulls":4},"",{"$nulls":15},"",{"$nulls":4},"",{"$nulls":4},"",{"$nulls":6},0,{"$f":"SUM($FL$36:$FL78)","v":0},0]
[44,{"$nulls":4},"N/A",{"$nulls":10},"","","",null,"","","",null,"","","",null,"","","",{"$nulls":5},"","","","","","","","",null,0,{"$nulls":3},"","","",null,"","","",null,"","","",null,"","","",{"$nulls":8},"",{"$nulls":4},"",{"$nulls":4},"",{"$nulls":15},"",{"$nulls":4},"",{"$nulls":4},"",{"$nulls":15},"",{"$nulls":4},"",{"$nulls":4},"",{"$nulls":15},"",{"$nulls":4},"",{"$nulls":4},"",{"$nulls":6},0,{"$f":"SUM($FL$36:$FL79)","v":0},0]
[45,{"$nulls":4},"N/A",{"$nulls":10},"","","",null,"","","",null,"","","",null,"","","",{"$nulls":5},"","","","","","","","",null,0,{"$nulls":3},"","","",null,"","","",null,"","","",null,"","","",{"$nulls":8},"",{"$nulls":4},"",{"$nulls":4},"",{"$nulls":15},"",{"$nulls":4},"",{"$nulls":4},"",{"$nulls":15},"",{"$nulls":4},"",{"$nulls":4},"",{"$nulls":15},"",{"$nulls":4},"",{"$nulls":4},"",{"$nulls":6},0,{"$f":"SUM($FL$36:$FL80)","v":0},0]
[46,{"$nulls":4},"N/A",{"$nulls":10},"","","",null,"","","",null,"","","",null,"","","",{"$nulls":5},"","","","","","","","",null,0,{"$nulls":3},"","","",null,"","","",null,"","","",null,"","","",{"$nulls":8},"",{"$nulls":4},"",{"$nulls":4},"",{"$nulls":15},"",{"$nulls":4},"",{"$nulls":4},"",{"$nulls":15},"",{"$nulls":4},"",{"$nulls":4},"",{"$nulls":15},"",{"$nulls":4},"",{"$nulls":4},"",{"$nulls":6},0,{"$f":"SUM($FL$36:$FL81)","v":0},0]
[47,{"$nulls":4},"N/A",{"$nulls":10},"","","",null,"","","",null,"","","",null,"","","",{"$nulls":5},"","","","","","","","",null,0,{"$nulls":3},"","","",null,"","","",null,"","","",null,"","","",{"$nulls":8},"",{"$nulls":4},"",{"$nulls":4},"",{"$nulls":15},"",{"$nulls":4},"",{"$nulls":4},"",{"$nulls":15},"",{"$nulls":4},"",{"$nulls":4},"",{"$nulls":15},"",{"$nulls":4},"",{"$nulls":4},"",{"$nulls":6},0,{"$f":"SUM($FL$36:$FL82)","v":0},0]
[48,{"$nulls":4},"N/A",{"$nulls":10},"","","",null,"","","",null,"","","",null,"","","",{"$nulls":5},"","","","","","","","",null,0,{"$nulls":3},"","","",null,"","","",null,"","","",null,"","","",{"$nulls":8},"",{"$nulls":4},"",{"$nulls":4},"",{"$nulls":15},"",{"$nulls":4},"",{"$nulls":4},"",{"$nulls":15},"",{"$nulls":4},"",{"$nulls":4},"",{"$nulls":15},"",{"$nulls":4},"",{"$nulls":4},"",{"$nulls":6},0,{"$f":"SUM($FL$36:$FL83)","v":0},0]
[49,{"$nulls":4},"N/A",{"$nulls":10},"","","",null,"","","",null,"","","",null,"","","",{"$nulls":5},"","","","","","","","",null,0,{"$nulls":3},"","","",null,"","","",null,"","","",null,"","","",{"$nulls":8},"",{"$nulls":4},"",{"$nulls":4},"",{"$nulls":15},"",{"$nulls":4},"",{"$nulls":4},"",{"$nulls":15},"",{"$nulls":4},"",{"$nulls":4},"",{"$nulls":15},"",{"$nulls":4},"",{"$nulls":4},"",{"$nulls":6},0,{"$f":"SUM($FL$36:$FL84)","v":0},0]
[50,{"$nulls":4},"N/A",{"$nulls":10},"","","",null,"","","",null,"","","",null,"","","",{"$nulls":5},"","","","","","","","",null,0,{"$nulls":3},"","","",null,"","","",null,"","","",null,"",{"$f":"IF($B85=\"Y\",IF(AND($AC85<>\"\",$AQ84<>\"\",$AR84<>\"\"),($AC85+$AQ84)/($AR84+1),\"\"),\"\")","v":""},"",{"$nulls":8},"",{"$nulls":4},"",{"$nulls":4},"",{"$nulls":15},"",{"$nulls":4},"",{"$nulls":4},"",{"$nulls":15},"",{"$nulls":4},"",{"$nulls":4},"",{"$nulls":15},"",{"$nulls":4},"",{"$nulls":4},"",{"$nulls":6},0,{"$f":"SUM($FL$36:$FL85)","v":0},0]
[null,null,{"$f":"SUM(C36:C85)","v":0}]
["g/bhp-hr"]
["g/kW-hr"]

{"sheet":"Engine Family #12","index":14,"n_rows":88,"n_cols":176,"rows_kept":88,"merged":[[1,0,1,35],[2,0,2,35],[3,0,3,35],[4,0,4,35],[5,0,5,35],[6,0,6,35],[8,0,8,16],[10,4,10,6],[10,12,10,13],[11,4,11,6],[11,15,11,16],[11,19,11,20],[11,23,11,24],[11,27,11,28],[12,4,12,6],[13,4,13,6],[14,4,15,6],[17,14,22,14],[27,4,30,13],[27,15,28,16],[32,0,32,16],[32,17,32,33],[32,34,32,35],[33,45,34,45]]}
[]
["United States"]
["US Environmental Protection Agency"]
["Office of Air and Radiation, Office of Transportation and Air Quality"]
[{"$nulls":37},"Tier 2","Y",94]
["Manufacturer Production Line Testing Report for Marine Compression Ignition Engines",{"$nulls":36},"Tier 3","N",1042]
[{"$f":"Summary!B7","v":"Version Number: 1.4 DRAFT  Last Revision: September 2023"},{"$nulls":36},"Tier 4",null,"N/A"]
[]
["Basic Information: Engine Family #12"]
[{"$nulls":167},{"$f":"IF(AND($G$24=94,Summary!$L$13=\"Category 1\"),0,1)","v":1}]
[null,null,"Manufacturer:",null,{"$f":"IF(Summary!D12<>\"\",Summary!D12,\"\")","v":""},{"$nulls":3},"Engine Family:",{"$nulls":31},{"$f":"IF($G$19=\"Diesel\",\"'HC' refers to 'THC' \",IF($G$19=\"Natural Gas\",\"'HC' refers to 'NMHC' \",IF($G$19=\"Alcohol\",\"'HC' refers to 'THCE' \",\"\")))","v":""}]
[null,null,"PLT Test Contact:",null,{"$f":"IF(Summary!D13<>\"\",Summary!D13,\"\")","v":""},{"$nulls":3},"Production (Category 3 only):",{"$nulls":6},{"$f":"IF(N16<>\"Y\", \"Current CO Result\", \"Final CO Result\")","v":"Current CO Result"},null,{"$f":"$CJ$36","v":""},null,{"$f":"IF(N16<>\"Y\", \"Current PM Result\", \"Final PM Result\")","v":"Current PM Result"},null,{"$f":"$DJ$36","v":""},null,{"$f":"IF($AF$12=\"Y\",IF(N16<>\"Y\", \"Current NOx+HC Result\", \"Final NOx+HC Result\"),IF(N16<>\"Y\", \"Current HC Result\", \"Final HC Result\"))","v":"Current HC Result"},null,{"$f":"IF($AF$12=\"Y\",IF($FP$36>0,ROUND($EJ$36+$FJ$36,2),\"\"),$EJ$36)","v":""},null,{"$f":"IF(N16<>\"Y\", \"Current NOx Result\",\"Final NOx Result\")","v":"Current NOx Result"},null,{"$f":"$FJ$36","v":""},null,{"$f":"IF($L$13<>\"Category 3\",IF($G$23=\"\",\"N\",$G$23),\"N\")","v":"N"},{"$f":"IF(Summary!$L$13=\"Category 3\",\"CAT3\",\"\")","v":""}]
[null,null,"Email Address:",null,{"$f":"IF(Summary!D14<>\"\",Summary!D14,\"\")","v":""},{"$nulls":3},"Date of Start of Model Year Production:"]
[null,null,"Phone #:",null,{"$f":"IF(Summary!D15<>\"\",Summary!D15,\"\")","v":""},{"$nulls":3},"Date of End of Model Year Production:",{"$nulls":14},{"$f":"IF($G$19=\"Diesel\",\"'HC' refers to 'THC' \",IF($G$19=\"Natural Gas\",\"'HC' refers to 'NMHC' \",IF($G$19=\"Alcohol\",\"'HC' refers to 'THCE' \",\"\")))","v":""},{"$nulls":13},"Diesel",1,{"$nulls":6},1]
[null,null,"Test Location & Description:",{"$nulls":5},"Deterioration Factor Type:",{"$nulls":28},"Natural Gas",2,{"$nulls":6},2]
[{"$nulls":8},"Include Results from this Engine Family on Summary Sheet?",{"$nulls":6},"CO Standard ",{"$nulls":3},"PM Standard or FEL",{"$nulls":3},{"$f":"IF($AF$12=\"Y\",\"NOx+HC Standard or FEL\",\"HC Standard\")","v":"HC Standard"},{"$nulls":3},"NOx Standard or FEL",{"$nulls":9},"Alcohol",3,{"$nulls":6},3]
[null,null,"Carryover?:",{"$nulls":5},"Required Tests (including failure follow-ups)",{"$nulls":4},{"$f":"$FO36","v":0},null,"Units",null,"g/kW-hr",null,"Units",null,"g/kW-hr",null,"Units",null,"g/kW-hr",null,"Units",null,"g/kW-hr",{"$nulls":4},"Test Cycle Options",{"$nulls":10},4]
[null,null,{"$f":"IF($G$17=\"Y\",\"Please submit supporting documentation indicating that this is a carry-over engine family\",\"\")","v":""},{"$nulls":5},"Instead of testing, are PLT requirements for this Engine Family",{"$nulls":6},"CO  Det Factor",{"$nulls":3},"PM  Det Factor",{"$nulls":3},"HC Det Factor",{"$nulls":3},"NOx  Det Factor",{"$nulls":6},"1 = 4-Mode General Cycle (E3)",null,null,"Recreational"]
[null,null,"Fuel Type:",{"$nulls":5}," fulfilled under the following (Category 1 only)?",{"$nulls":6},"Det Factor Type",null,{"$f":"IF($N$15<>\"\",$N$15,\"\")","v":""},null,"Det Factor Type",null,{"$f":"IF($N$15<>\"\",$N$15,\"\")","v":""},null,"Det Factor Type",null,{"$f":"IF($N$15<>\"\",$N$15,\"\")","v":""},null,"Det Factor Type",null,{"$f":"IF($N$15<>\"\",$N$15,\"\")","v":""},{"$nulls":4},"2 = 5-Mode Recreational Cycle (E5)",null,null,"Commercial"]
[null,null,"Recreational/Commercial:",{"$nulls":5},"Please elaborate in the comments section.",{"$nulls":6},"CO Green Engine Factor",{"$nulls":3},"PM Green Engine Factor",{"$nulls":3},"HC Green Engine Factor",{"$nulls":3},"NOx Green Engine Factor",{"$nulls":6},"3 = 4-Mode Constant Speed Propulsion Cycle (E2)"]
[null,null,"Model Year:",{"$nulls":5},"    -1042.310(a) - EPA approved combining it, for PLT purposes only.",{"$nulls":25},"4 = 5-Mode Constant Speed Auxiliary Cycle (D2)"]
[null,null,"Tier:",{"$nulls":31},"5 = 6-Mode Variable Speed Auxiliary Cycle (G2)",null,null,"1 (E3)"]
[null,null,"Combined NOx+HC?",{"$nulls":31},"6 = 8-Mode Variable Speed Ausiliary Cycle (C1)",null,null,"2 (E5)"]
[null,null,"40 CFR Part:",{"$nulls":3},{"$f":"AN6","v":1042},null,"Additional testing required by EPA [40 CFR 1042.301(e)]? ",{"$nulls":25},"O = Other",null,null,"3 (E2)"]
[{"$nulls":37},"4 (D2)"]
[{"$nulls":37},"5 (G2)",{"$nulls":132},"deleted and redirected"]
[{"$nulls":22}," ",{"$nulls":14},"6 (C1)",4,{"$nulls":6},4]
[null,null,"Comments:",{"$nulls":34},"O (other)"]
[{"$nulls":22}," ",{"$nulls":22},"additive"]
[{"$nulls":45},"multiplicative",{"$nulls":22},"CO Rounding",{"$nulls":4},"CO Rounding",{"$nulls":4},"CO Rounding",{"$nulls":4},"CO Rounding",{"$nulls":10},"PM Rounding",{"$nulls":4},"PM Rounding",{"$nulls":4},"PM Rounding",{"$nulls":4},"PM Rounding",{"$nulls":10},"HC Rounding",{"$nulls":4},"HC Rounding",{"$nulls":4},"HC Rounding",{"$nulls":4},"HC Rounding",{"$nulls":10},"NOx Rounding",{"$nulls":4},"NOx Rounding",{"$nulls":4},"NOx Rounding",{"$nulls":4},"NOx Rounding"]
[{"$nulls":22}," ",{"$nulls":45},"initial",{"$nulls":4},"final",{"$nulls":4}," det final",{"$nulls":4},"ave of all final",{"$nulls":10},"initial",{"$nulls":4},"final",{"$nulls":4}," det final",{"$nulls":4},"ave of all final",{"$nulls":10},"initial",{"$nulls":4},"final",{"$nulls":4}," det final",{"$nulls":4},"ave of all final",{"$nulls":10},"initial",{"$nulls":4},"final",{"$nulls":4}," det final",{"$nulls":4},"ave of all final"]
[{"$nulls":38},"Y",{"$nulls":6},"Y"]
["PLT Engine Test Results: Engine Family #12",{"$nulls":37},"N",{"$nulls":6},"N",{"$nulls":124},"This is N17"]
[{"$nulls":36},"CO",null,"PM",null,null,"HC or HC+NOX",null,"Nox",null,"Engine Data Complete?",{"$nulls":11},"HC","HC","HC","HC","Nox","Nox","Nox","Nox",{"$nulls":107},"1% of production or pre-approved reduced sample size - whichever is Lower # "]
[null,"Calc Final Result?","Test Number","Test Date","Test Time","Test Qtr","Engine ID","Engine Make","Engine Configuration","Build Date","Green Engine Factor Applied?","Green Engine Factor Determination Method","Service Hours (or miles) Accumulation","Service Hours Location","Service Acc. Procedure","CO Initial Result ","Rounded CO Initial Result ","CO Final Result ","Det. CO Final Result ","PM Initial Result ","Rounded PM Initial Result ","PM Final Result ","Det. PM Final Result ","HC Initial Result ","Rounded HC Initial Result ","HC Final Result ","Det. HC Final Result ","NOx Initial Result ","Rounded NOx Initial Result ","NOx Final Result ","Det. NOx Final Result ","Reason for Failed Test (if applicable)","Remedy","Repairs","Test Cycle","Comments",0,0,0,0,0,0,0,0,{"$nulls":5},"Unrounded initial CO","Unrounded final CO","Det CO","Final CO","Unrounded initial PM","Unrounded final PM","Det PM","Final PM","Unrounded initial HCNOx","Unrounded final HCNOx","Det HCNOx","Final HCNOX","Unrounded initial NOx","Unrounded final NOx","Det NOx","Final HCNOX",{"$nulls":7},"rounded",{"$nulls":4},"rounded",{"$nulls":4},"rounded",{"$nulls":4},"rounded",{"$nulls":10},"rounded",{"$nulls":4},"rounded",{"$nulls":4},"rounded",{"$nulls":4},"rounded",{"$nulls":10},"rounded",{"$nulls":4},"rounded",{"$nulls":4},"rounded",{"$nulls":4},"rounded","ROUNDED AND ACCOUNT FOR BLANK",{"$nulls":9},"rounded",{"$nulls":4},"rounded",{"$nulls":4},"rounded",{"$nulls":4},"rounded","ROUNDED AND ACCOUNT FOR BLANK","Test complete Flag","Total complete","Fail Flag","req","val","baseline req","req due to fails","sum fails","baseline req"]
[1,{"$nulls":4},"N/A",{"$nulls":10},{"$f":"$BU36","v":""},{"$f":"$BZ36","v":""},{"$f":"$CE36","v":""},null,{"$f":"$CU36","v":""},{"$f":"$CZ36","v":""},{"$f":"$DE36","v":""},null,{"$f":"$DU36","v":""},{"$f":"$DZ36","v":""},{"$f":"$EE36","v":""},null,{"$f":"$EU36","v":""},{"$f":"$EZ36","v":""},{"$f":"$FE36","v":""},{"$nulls":5},{"$f":"IF($B36=\"N\",IF(AND($AK35<>\"\",$Q36<>\"\"),$AK35+$Q36,\"\"),IF($B36=\"Y\",0,\"\"))","v":""},{"$f":"IF($B36=\"N\",AL35+1,IF($B36=\"Y\",0,\"\"))","v":""},{"$f":"IF($B36=\"N\",IF(AND($AM35<>\"\",$U36<>\"\"),$AM35+$U36,\"\"),IF($B36=\"Y\",0,\"\"))","v":""},{"$f":"IF($B36=\"N\",AN35+1,IF($B36=\"Y\",0,\"\"))","v":""},{"$f":"IF($B36=\"N\",IF(AND($AO35<>\"\",$Y36<>\"\"),$AO35+$Y36,\"\"),IF($B36=\"Y\",0,\"\"))","v":""},{"$f":"IF($B36=\"N\",AP35+1,IF($B36=\"Y\",0,\"\"))","v":""},{"$f":"IF($B36=\"N\",IF(AND($AQ35<>\"\",$AC36<>\"\"),$AQ35+$AC36,\"\"),IF($B36=\"Y\",0,\"\"))","v":""},{"$f":"IF($B36=\"N\",AR35+1,IF($B36=\"Y\",0,\"\"))","v":""},null,{"$f":"IF(AND(B36<>\"\",C36<>\"\",D36<>\"\",E36<>\"\",G36<>\"\",H36<>\"\",I36<>\"\",J36<>\"\",K36<>\"\",M36<>\"\",N36<>\"\",O36<>\"\"),1,0)","v":0},{"$nulls":3},{"$f":"IF(AND($P36<>\"\",$AT36=1),$P36,\"\")","v":""},{"$f":"IF($B36=\"Y\",IF(AND($Q36<>\"\",$AK35<>\"\",$AL35<>\"\"),($Q36+$AK35)/($AL35+1),\"\"),\"\")","v":""},{"$f":"IF(AND($B36=\"Y\",$R36<>\"\",$R$18<>\"\"),IF($R$19=\"additive\",$R36+$R$18,IF($R$19=\"multiplicative\",$R36*$R$18,\"\")),\"\")","v":""},{"$f":"IF(COUNT($S$36:$S$85)>0,AVERAGE($S$36:$S$85),\"\")","v":""},{"$f":"IF(AND($T36<>\"\",$AT36=1),$T36,\"\")","v":""},{"$f":"IF($B36=\"Y\",IF(AND($U36<>\"\",$AM35<>\"\",$AN35<>\"\"),($U36+$AM35)/($AN35+1),\"\"),\"\")","v":""},{"$f":"IF(AND($B36=\"Y\",$V36<>\"\",$V$18<>\"\"),IF($V$19=\"additive\",$V36+$V$18,IF($V$19=\"multiplicative\",$V36*$V$18,\"\")),\"\")","v":""},{"$f":"IF(COUNT($W$36:$W$85)>0,AVERAGE($W$36:$W$85),\"\")","v":""},{"$f":"IF(AND($X36<>\"\",$AT36=1),$X36,\"\")","v":""},{"$f":"IF($B36=\"Y\",IF(AND($Y36<>\"\",$AO35<>\"\",$AP35<>\"\"),($Y36+$AO35)/($AP35+1),\"\"),\"\")","v":""},{"$f":"IF(AND($B36=\"Y\",$Z36<>\"\",$Z$18<>\"\"),IF($Z$19=\"additive\",$Z36+$Z$18,IF($Z$19=\"multiplicative\",$Z36*$Z$18,\"\")),\"\")","v":""},{"$f":"IF(COUNT($AA$36:$AA$85)>0,AVERAGE($AA$36:$AA$85),\"\")","v":""},{"$f":"IF(AND($AB36<>\"\",$AT36=1),$AB36,\"\")","v":""},{"$f":"IF($B36=\"Y\",IF(AND($AC36<>\"\",$AQ35<>\"\",$AR35<>\"\"),($AC36+$AQ35)/($AR35+1),\"\"),\"\")","v":""},{"$f":"IF(AND($B36=\"Y\",$AD36<>\"\",$AD$18<>\"\"),IF($AD$19=\"additive\",$AD36+$AD$18,IF($AD$19=\"multiplicative\",$AD36*$AD$18,\"\")),\"\")","v":""},{"$f":"IF(COUNT($AE$36:$AE$85)>0,AVERAGE($AE$36:$AE$85),\"\")","v":""},{"$nulls":7},{"$f":"IF($AX36<>\"\",ROUND($AX36,2),\"\")","v":""},{"$nulls":4},{"$f":"IF($AY36<>\"\",ROUND($AY36,2),\"\")","v":""},{"$nulls":4},{"$f":"IF($AZ36<>\"\",ROUND($AZ36,2),\"\")","v":""},{"$nulls":4},{"$f":"IF($BA36<>\"\",ROUND($BA36,2),\"\")","v":""},{"$nulls":10},{"$f":"IF($BB36<>\"\",ROUND($BB36,3),\"\")","v":""},{"$nulls":4},{"$f":"IF($BC36<>\"\",ROUND($BC36,3),\"\")","v":""},{"$nulls":4},{"$f":"IF($BD36<>\"\",ROUND($BD36,3),\"\")","v":""},{"$nulls":4},{"$f":"IF($BE36<>\"\",ROUND($BE36,3),\"\")","v":""},{"$nulls":10},{"$f":"IF($BF36<>\"\",ROUND($BF36,3),\"\")","v":""},{"$nulls":4},{"$f":"IF($BG36<>\"\",ROUND($BG36,3),\"\")","v":""},{"$nulls":4},{"$f":"IF($BH36<>\"\",ROUND($BH36,3),\"\")","v":""},{"$nulls":4},{"$f":"IF($BI36<>\"\",ROUND($BI36,3),\"\")","v":""},{"$f":"IF(EJ36=\"\",0,EJ36)","v":0},{"$nulls":9},{"$f":"IF($BJ36<>\"\",ROUND($BJ36,2),\"\")","v":""},{"$nulls":4},{"$f":"IF($BK36<>\"\",ROUND($BK36,2),\"\")","v":""},{"$nulls":4},{"$f":"IF($BL36<>\"\",ROUND($BL36,2),\"\")","v":""},{"$nulls":4},{"$f":"IF($BM36<>\"\",ROUND($BM36,2),\"\")","v":""},{"$f":"IF(FJ36=\"\",0,FJ36)","v":0},{"$f":"IF($AG$12<>\"CAT3\",IF(AND($B36=\"Y\",$S36<>\"\",$W36<>\"\",$AA36<>\"\",$AE36<>\"\"),1,0),IF($AE36<>\"\",1,0))","v":0},{"$f":"SUM($FL$36:$FL36)","v":0},{"$f":"IF($AG$12<>\"CAT3\",IF($FL36=1,IF(OR($S36>$R$16,$W36>$V$16,$AA36>$Z$16,IF($AF$12<>\"Y\",OR($AA36>$Z$16,$AE36>$AD$16),ROUND(($AA36+$AE36),2)>$Z$16)),1,0),0),IF($FL36=1,IF(AND($AE36>$AD$16,$AF$12=\"N\"),1,0),0))","v":0},{"$f":"IF(OR($M$11=\"\",$N$18=\"Y\"),0,IF($AG$12=\"CAT3\",$N$12,($FR$36+1)))","v":0},{"$f":"SUM(FL36:FL85)","v":0},{"$f":"IF(AND($G$17=\"Y\",$N$24<>\"\"),MIN($N$24,$FT$36),$FT$36)","v":0},{"$f":"$FS$36*2","v":0},{"$f":"SUM(FN36:FN85)","v":0},{"$f":"IF($N$12<>\"\",$N$12*0.01,0)","v":0}]
[{"$f":"A36+1","v":2},{"$nulls":4},"N/A",{"$nulls":10},"","","",null,"","","",null,"","","",null,"","","",{"$nulls":5},"",{"$f":"IF($B37=\"N\",AL36+1,IF($B37=\"Y\",0,\"\"))","v":""},"",{"$f":"IF($B37=\"N\",AN36+1,IF($B37=\"Y\",0,\"\"))","v":""},{"$f":"IF($B37=\"N\",IF(AND($AO36<>\"\",$Y37<>\"\"),$AO36+$Y37,\"\"),IF($B37=\"Y\",0,\"\"))","v":""},{"$f":"IF($B37=\"N\",AP36+1,IF($B37=\"Y\",0,\"\"))","v":""},{"$f":"IF($B37=\"N\",IF(AND($AQ36<>\"\",$AC37<>\"\"),$AQ36+$AC37,\"\"),IF($B37=\"Y\",0,\"\"))","v":""},{"$f":"IF($B37=\"N\",AR36+1,IF($B37=\"Y\",0,\"\"))","v":""},null,{"$f":"IF(AND(B37<>\"\",C37<>\"\",D37<>\"\",E37<>\"\",G37<>\"\",H37<>\"\",I37<>\"\",J37<>\"\",K37<>\"\",M37<>\"\",N37<>\"\",O37<>\"\"),1,0)","v":0},{"$nulls":3},"","",{"$f":"IF(AND($B37=\"Y\",$R37<>\"\",$R$18<>\"\"),IF($R$19=\"additive\",$R37+$R$18,IF($R$19=\"multiplicative\",$R37*$R$18,\"\")),\"\")","v":""},null,"","",{"$f":"IF(AND($B37=\"Y\",$V37<>\"\",$V$18<>\"\"),IF($V$19=\"additive\",$V37+$V$18,IF($V$19=\"multiplicative\",$V37*$V$18,\"\")),\"\")","v":""},null,{"$f":"IF(AND($X37<>\"\",$AT37=1),$X37,\"\")","v":""},{"$f":"IF($B37=\"Y\",IF(AND($Y37<>\"\",$AO36<>\"\",$AP36<>\"\"),($Y37+$AO36)/($AP36+1),\"\"),\"\")","v":""},{"$f":"IF(AND($B37=\"Y\",$Z37<>\"\",$Z$18<>\"\"),IF($Z$19=\"additive\",$Z37+$Z$18,IF($Z$19=\"multiplicative\",$Z37*$Z$18,\"\")),\"\")","v":""},null,{"$f":"IF(AND($AB37<>\"\",$AT37=1),$AB37,\"\")","v":""},{"$f":"IF($B37=\"Y\",IF(AND($AC37<>\"\",$AQ36<>\"\",$AR36<>\"\"),($AC37+$AQ36)/($AR36+1),\"\"),\"\")","v":""},{"$f":"IF(AND($B37=\"Y\",$AD37<>\"\",$AD$18<>\"\"),IF($AD$19=\"additive\",$AD37+$AD$18,IF($AD$19=\"multiplicative\",$AD37*$AD$18,\"\")),\"\")","v":""},{"$nulls":8},{"$f":"IF($AX37<>\"\",ROUND($AX37,2),\"\")","v":""},{"$nulls":4},{"$f":"IF($AY37<>\"\",ROUND($AY37,2),\"\")","v":""},{"$nulls":4},{"$f":"IF($AZ37<>\"\",ROUND($AZ37,2),\"\")","v":""},{"$nulls":15},{"$f":"IF($BB37<>\"\",ROUND($BB37,3),\"\")","v":""},{"$nulls":4},{"$f":"IF($BC37<>\"\",ROUND($BC37,3),\"\")","v":""},{"$nulls":4},{"$f":"IF($BD37<>\"\",ROUND($BD37,3),\"\")","v":""},{"$nulls":15},{"$f":"IF($BF37<>\"\",ROUND($BF37,3),\"\")","v":""},{"$nulls":4},{"$f":"IF($BG37<>\"\",ROUND($BG37,3),\"\")","v":""},{"$nulls":4},{"$f":"IF($BH37<>\"\",ROUND($BH37,3),\"\")","v":""},{"$nulls":15},{"$f":"IF($BJ37<>\"\",ROUND($BJ37,2),\"\")","v":""},{"$nulls":4},{"$f":"IF($BK37<>\"\",ROUND($BK37,2),\"\")","v":""},{"$nulls":4},{"$f":"IF($BL37<>\"\",ROUND($BL37,2),\"\")","v":""},{"$nulls":6},{"$f":"IF($AG$12<>\"CAT3\",IF(AND($B37=\"Y\",$S37<>\"\",$W37<>\"\",$AA37<>\"\",$AE37<>\"\"),1,0),IF($AE37<>\"\",1,0))","v":0},{"$f":"SUM($FL$36:$FL37)","v":0},{"$f":"IF($AG$12<>\"CAT3\",IF($FL37=1,IF(OR($S37>$R$16,$W37>$V$16,$AA37>$Z$16,IF($AF$12<>\"Y\",OR($AA37>$Z$16,$AE37>$AD$16),ROUND(($AA37+$AE37),2)>$Z$16)),1,0),0),IF($FL37=1,IF(AND($AE37>$AD$16,$AF$12=\"N\"),1,0),0))","v":0},null,null,{"$f":"MAX($FQ$36,$FL$10)","v":1}]
[{"$f":"A37+1","v":3},{"$nulls":4},"N/A",{"$nulls":10},"","","",null,"","","",null,"","","",null,"","","",{"$nulls":5},"","","","","","","","",null,0,{"$nulls":3},"","","",null,"","","",null,"","","",null,"","","",{"$nulls":8},"",{"$nulls":4},"",{"$nulls":4},"",{"$nulls":15},"",{"$nulls":4},"",{"$nulls":4},"",{"$nulls":15},"",{"$nulls":4},"",{"$nulls":4},"",{"$nulls":15},"",{"$nulls":4},"",{"$nulls":4},"",{"$nulls":6},0,{"$f":"SUM($FL$36:$FL38)","v":0},0]
[4,{"$nulls":4},"N/A",{"$nulls":10},"","","",null,"","","",null,"","","",null,"","","",{"$nulls":5},"","","","","","","","",null,0,{"$nulls":3},"","","",null,"","","",null,"","","",null,"","","",{"$nulls":8},"",{"$nulls":4},"",{"$nulls":4},"",{"$nulls":15},"",{"$nulls":4},"",{"$nulls":4},"",{"$nulls":15},"",{"$nulls":4},"",{"$nulls":4},"",{"$nulls":15},"",{"$nulls":4},"",{"$nulls":4},"",{"$nulls":6},0,{"$f":"SUM($FL$36:$FL39)","v":0},0,null,null,"then, the larger of that sample size or 1  (or if Part 94 and cat1,  can be 0)"]
[5,{"$nulls":4},"N/A",{"$nulls":10},"","","",null,"","","",null,"","","",null,"","","",{"$nulls":5},"","","","","","","","",null,0,{"$nulls":3},"","","",null,"","","",null,"","","",null,"","","",{"$nulls":8},"",{"$nulls":4},"",{"$nulls":4},"",{"$nulls":15},"",{"$nulls":4},"",{"$nulls":4},"",{"$nulls":15},"",{"$nulls":4},"",{"$nulls":4},"",{"$nulls":15},"",{"$nulls":4},"",{"$nulls":4},"",{"$nulls":6},0,{"$f":"SUM($FL$36:$FL40)","v":0},0]
[6,{"$nulls":4},"N/A",{"$nulls":10},"","","",null,"","","",null,"","","",null,"","","",{"$nulls":5},"","","","","","","","",null,0,{"$nulls":3},"","","",null,"","","",null,"","","",null,"","","",{"$nulls":8},"",{"$nulls":4},"",{"$nulls":4},"",{"$nulls":15},"",{"$nulls":4},"",{"$nulls":4},"",{"$nulls":15},"",{"$nulls":4},"",{"$nulls":4},"",{"$nulls":15},"",{"$nulls":4},"",{"$nulls":4},"",{"$nulls":6},0,{"$f":"SUM($FL$36:$FL41)","v":0},0]
[7,{"$nulls":4},"N/A",{"$nulls":10},"","","",null,"","","",null,"","","",null,"","","",{"$nulls":5},"","","","","","","","",null,0,{"$nulls":3},"","","",null,"","","",null,"","","",null,"","","",{"$nulls":8},"",{"$nulls":4},"",{"$nulls":4},"",{"$nulls":15},"",{"$nulls":4},"",{"$nulls":4},"",{"$nulls":15},"",{"$nulls":4},"",{"$nulls":4},"",{"$nulls":15},"",{"$nulls":4},"",{"$nulls":4},"",{"$nulls":6},0,{"$f":"SUM($FL$36:$FL42)","v":0},0]
[8,{"$nulls":4},"N/A",{"$nulls":10},"","","",null,"","","",null,"","","",null,"","","",{"$nulls":5},"","","","","","","","",null,0,{"$nulls":3},"","","",null,"","","",null,"","","",null,"","","",{"$nulls":8},"",{"$nulls":4},"",{"$nulls":4},"",{"$nulls":15},"",{"$nulls":4},"",{"$nulls":4},"",{"$nulls":15},"",{"$nulls":4},"",{"$nulls":4},"",{"$nulls":15},"",{"$nulls":4},"",{"$nulls":4},"",{"$nulls":6},0,{"$f":"SUM($FL$36:$FL43)","v":0},0]
[9,{"$nulls":4},"N/A",{"$nulls":10},"","","",null,"","","",null,"","","",null,"","","",{"$nulls":5},"","","","","","","","",null,0,{"$nulls":3},"","","",null,"","","",null,"","","",null,"","","",{"$nulls":8},"",{"$nulls":4},"",{"$nulls":4},"",{"$nulls":15},"",{"$nulls":4},"",{"$nulls":4},"",{"$nulls":15},"",{"$nulls":4},"",{"$nulls":4},"",{"$nulls":15},"",{"$nulls":4},"",{"$nulls":4},"",{"$nulls":6},0,{"$f":"SUM($FL$36:$FL44)","v":0},0]
[10,{"$nulls":4},"N/A",{"$nulls":10},"","","",null,"","","",null,"","","",null,"","","",{"$nulls":5},"","","","","","","","",null,0,{"$nulls":3},"","","",null,"","","",null,"","","",null,"","","",{"$nulls":8},"",{"$nulls":4},"",{"$nulls":4},"",{"$nulls":15},"",{"$nulls":4},"",{"$nulls":4},"",{"$nulls":15},"",{"$nulls":4},"",{"$nulls":4},"",{"$nulls":15},"",{"$nulls":4},"",{"$nulls":4},"",{"$nulls":6},0,{"$f":"SUM($FL$36:$FL45)","v":0},0]
[11,{"$nulls":4},"N/A",{"$nulls":10},"","","",null,"","","",null,"","","",null,"","","",{"$nulls":5},"","","","","","","","",null,0,{"$nulls":3},"","","",null,"","","",null,"","","",null,"","","",{"$nulls":8},"",{"$nulls":4},"",{"$nulls":4},"",{"$nulls":15},"",{"$nulls":4},"",{"$nulls":4},"",{"$nulls":15},"",{"$nulls":4},"",{"$nulls":4},"",{"$nulls":15},"",{"$nulls":4},"",{"$nulls":4},"",{"$nulls":6},0,{"$f":"SUM($FL$36:$FL46)","v":0},0]
[12,{"$nulls":4},"N/A",{"$nulls":10},"","","",null,"","","",null,"","","",null,"","","",{"$nulls":5},"","","","","","","","",null,0,{"$nulls":3},"","","",null,"","","",null,"","","",null,"","","",{"$nulls":8},"",{"$nulls":4},"",{"$nulls":4},"",{"$nulls":15},"",{"$nulls":4},"",{"$nulls":4},"",{"$nulls":15},"",{"$nulls":4},"",{"$nulls":4},"",{"$nulls":15},"",{"$nulls":4},"",{"$nulls":4},"",{"$nulls":6},0,{"$f":"SUM($FL$36:$FL47)","v":0},0]
[13,{"$nulls":4},"N/A",{"$nulls":10},"","","",null,"","","",null,"","","",null,"","","",{"$nulls":5},"","","","","","","","",null,0,{"$nulls":3},"","","",null,"","","",null,"","","",null,"","","",{"$nulls":8},"",{"$nulls":4},"",{"$nulls":4},"",{"$nulls":15},"",{"$nulls":4},"",{"$nulls":4},"",{"$nulls":15},"",{"$nulls":4},"",{"$nulls":4},"",{"$nulls":15},"",{"$nulls":4},"",{"$nulls":4},"",{"$nulls":6},0,{"$f":"SUM($FL$36:$FL48)","v":0},0]
[14,{"$nulls":4},"N/A",{"$nulls":10},"","","",null,"","","",null,"","","",null,"","","",{"$nulls":5},"","","","","","","","",null,0,{"$nulls":3},"","","",null,"","","",null,"","","",null,"","","",{"$nulls":8},"",{"$nulls":4},"",{"$nulls":4},"",{"$nulls":15},"",{"$nulls":4},"",{"$nulls":4},"",{"$nulls":15},"",{"$nulls":4},"",{"$nulls":4},"",{"$nulls":15},"",{"$nulls":4},"",{"$nulls":4},"",{"$nulls":6},0,{"$f":"SUM($FL$36:$FL49)","v":0},0]
[15,{"$nulls":4},"N/A",{"$nulls":10},"","","",null,"","","",null,"","","",null,"","","",{"$nulls":5},"","","","","","","","",null,0,{"$nulls":3},"","","",null,"","","",null,"","","",null,"","","",{"$nulls":8},"",{"$nulls":4},"",{"$nulls":4},"",{"$nulls":15},"",{"$nulls":4},"",{"$nulls":4},"",{"$nulls":15},"",{"$nulls":4},"",{"$nulls":4},"",{"$nulls":15},"",{"$nulls":4},"",{"$nulls":4},"",{"$nulls":6},0,{"$f":"SUM($FL$36:$FL50)","v":0},0]
[16,{"$nulls":4},"N/A",{"$nulls":10},"","","",null,"","","",null,"","","",null,"","","",{"$nulls":5},"","","","","","","","",null,0,{"$nulls":3},"","","",null,"","","",null,"","","",null,"","","",{"$nulls":8},"",{"$nulls":4},"",{"$nulls":4},"",{"$nulls":15},"",{"$nulls":4},"",{"$nulls":4},"",{"$nulls":15},"",{"$nulls":4},"",{"$nulls":4},"",{"$nulls":15},"",{"$nulls":4},"",{"$nulls":4},"",{"$nulls":6},0,{"$f":"SUM($FL$36:$FL51)","v":0},0]
[17,{"$nulls":4},"N/A",{"$nulls":10},"","","",null,"","","",null,"","","",null,"","","",{"$nulls":5},"","","","","","","","",null,0,{"$nulls":3},"","","",null,"","","",null,"","","",null,"","","",{"$nulls":8},"",{"$nulls":4},"",{"$nulls":4},"",{"$nulls":15},"",{"$nulls":4},"",{"$nulls":4},"",{"$nulls":15},"",{"$nulls":4},"",{"$nulls":4},"",{"$nulls":15},"",{"$nulls":4},"",{"$nulls":4},"",{"$nulls":6},0,{"$f":"SUM($FL$36:$FL52)","v":0},0]
[18,{"$nulls":4},"N/A",{"$nulls":10},"","","",null,"","","",null,"","","",null,"","","",{"$nulls":5},"","","","","","","","",null,0,{"$nulls":3},"","","",null,"","","",null,"","","",null,"","","",{"$nulls":8},"",{"$nulls":4},"",{"$nulls":4},"",{"$nulls":15},"",{"$nulls":4},"",{"$nulls":4},"",{"$nulls":15},"",{"$nulls":4},"",{"$nulls":4},"",{"$nulls":15},"",{"$nulls":4},"",{"$nulls":4},"",{"$nulls":6},0,{"$f":"SUM($FL$36:$FL53)","v":0},0]
[19,{"$nulls":4},"N/A",{"$nulls":10},"","","",null,"","","",null,"","","",null,"","","",{"$nulls":5},"","","","","","","","",null,0,{"$nulls":3},"","","",null,"","","",null,"","","",null,"","","",{"$nulls":8},"",{"$nulls":4},"",{"$nulls":4},"",{"$nulls":15},"",{"$nulls":4},"",{"$nulls":4},"",{"$nulls":15},"",{"$nulls":4},"",{"$nulls":4},"",{"$nulls":15},"",{"$nulls":4},"",{"$nulls":4},"",{"$nulls":6},0,{"$f":"SUM($FL$36:$FL54)","v":0},0]
[20,{"$nulls":4},"N/A",{"$nulls":10},"","","",null,"","","",null,"","","",null,"","","",{"$nulls":5},"","","","","","","","",null,0,{"$nulls":3},"","","",null,"","","",null,"","","",null,"","","",{"$nulls":8},"",{"$nulls":4},"",{"$nulls":4},"",{"$nulls":15},"",{"$nulls":4},"",{"$nulls":4},"",{"$nulls":15},"",{"$nulls":4},"",{"$nulls":4},"",{"$nulls":15},"",{"$nulls":4},"",{"$nulls":4},"",{"$nulls":6},0,{"$f":"SUM($FL$36:$FL55)","v":0},0]
[21,{"$nulls":4},"N/A",{"$nulls":10},"","","",null,"","","",null,"","","",null,"","","",{"$nulls":5},"","","","","","","","",null,0,{"$nulls":3},"","","",null,"","","",null,"","","",null,"","","",{"$nulls":8},"",{"$nulls":4},"",{"$nulls":4},"",{"$nulls":15},"",{"$nulls":4},"",{"$nulls":4},"",{"$nulls":15},"",{"$nulls":4},"",{"$nulls":4},"",{"$nulls":15},"",{"$nulls":4},"",{"$nulls":4},"",{"$nulls":6},0,{"$f":"SUM($FL$36:$FL56)","v":0},0]
[22,{"$nulls":4},"N/A",{"$nulls":10},"","","",null,"","","",null,"","","",null,"","","",{"$nulls":5},"","","","","","","","",null,0,{"$nulls":3},"","","",null,"","","",null,"","","",null,"","","",{"$nulls":8},"",{"$nulls":4},"",{"$nulls":4},"",{"$nulls":15},"",{"$nulls":4},"",{"$nulls":4},"",{"$nulls":15},"",{"$nulls":4},"",{"$nulls":4},"",{"$nulls":15},"",{"$nulls":4},"",{"$nulls":4},"",{"$nulls":6},0,{"$f":"SUM($FL$36:$FL57)","v":0},0]
[23,{"$nulls":4},"N/A",{"$nulls":10},"","","",null,"","","",null,"","","",null,"","","",{"$nulls":5},"","","","","","","","",null,0,{"$nulls":3},"","","",null,"","","",null,"","","",null,"","","",{"$nulls":8},"",{"$nulls":4},"",{"$nulls":4},"",{"$nulls":15},"",{"$nulls":4},"",{"$nulls":4},"",{"$nulls":15},"",{"$nulls":4},"",{"$nulls":4},"",{"$nulls":15},"",{"$nulls":4},"",{"$nulls":4},"",{"$nulls":6},0,{"$f":"SUM($FL$36:$FL58)","v":0},0]
[24,{"$nulls":4},"N/A",{"$nulls":10},"","","",null,"","","",null,"","","",null,"","","",{"$nulls":5},"","","","","","","","",null,0,{"$nulls":3},"","","",null,"","","",null,"","","",null,"","","",{"$nulls":8},"",{"$nulls":4},"",{"$nulls":4},"",{"$nulls":15},"",{"$nulls":4},"",{"$nulls":4},"",{"$nulls":15},"",{"$nulls":4},"",{"$nulls":4},"",{"$nulls":15},"",{"$nulls":4},"",{"$nulls":4},"",{"$nulls":6},0,{"$f":"SUM($FL$36:$FL59)","v":0},0]
[25,{"$nulls":4},"N/A",{"$nulls":10},"","","",null,"","","",null,"","","",null,"","","",{"$nulls":5},"","","","","","","","",null,0,{"$nulls":3},"","","",null,"","","",null,"","","",null,"","","",{"$nulls":8},"",{"$nulls":4},"",{"$nulls":4},"",{"$nulls":15},"",{"$nulls":4},"",{"$nulls":4},"",{"$nulls":15},"",{"$nulls":4},"",{"$nulls":4},"",{"$nulls":15},"",{"$nulls":4},"",{"$nulls":4},"",{"$nulls":6},0,{"$f":"SUM($FL$36:$FL60)","v":0},0]
[26,{"$nulls":4},"N/A",{"$nulls":10},"","","",null,"","","",null,"","","",null,"","","",{"$nulls":5},"","","","","","","","",null,0,{"$nulls":3},"","","",null,"","","",null,"","","",null,"","","",{"$nulls":8},"",{"$nulls":4},"",{"$nulls":4},"",{"$nulls":15},"",{"$nulls":4},"",{"$nulls":4},"",{"$nulls":15},"",{"$nulls":4},"",{"$nulls":4},"",{"$nulls":15},"",{"$nulls":4},"",{"$nulls":4},"",{"$nulls":6},0,{"$f":"SUM($FL$36:$FL61)","v":0},0]
[27,{"$nulls":4},"N/A",{"$nulls":10},"","","",null,"","","",null,"","","",null,"","","",{"$nulls":5},"","","","","","","","",null,0,{"$nulls":3},"","","",null,"","","",null,"","","",null,"","","",{"$nulls":8},"",{"$nulls":4},"",{"$nulls":4},"",{"$nulls":15},"",{"$nulls":4},"",{"$nulls":4},"",{"$nulls":15},"",{"$nulls":4},"",{"$nulls":4},"",{"$nulls":15},"",{"$nulls":4},"",{"$nulls":4},"",{"$nulls":6},0,{"$f":"SUM($FL$36:$FL62)","v":0},0]
[28,{"$nulls":4},"N/A",{"$nulls":10},"","","",null,"","","",null,"","","",null,"","","",{"$nulls":5},"","","","","","","","",null,0,{"$nulls":3},"","","",null,"","","",null,"","","",null,"","","",{"$nulls":8},"",{"$nulls":4},"",{"$nulls":4},"",{"$nulls":15},"",{"$nulls":4},"",{"$nulls":4},"",{"$nulls":15},"",{"$nulls":4},"",{"$nulls":4},"",{"$nulls":15},"",{"$nulls":4},"",{"$nulls":4},"",{"$nulls":6},0,{"$f":"SUM($FL$36:$FL63)","v":0},0]
[29,{"$nulls":4},"N/A",{"$nulls":10},"","","",null,"","","",null,"","","",null,"","","",{"$nulls":5},"","","","","","","","",null,0,{"$nulls":3},"","","",null,"","","",null,"","","",null,"","","",{"$nulls":8},"",{"$nulls":4},"",{"$nulls":4},"",{"$nulls":15},"",{"$nulls":4},"",{"$nulls":4},"",{"$nulls":15},"",{"$nulls":4},"",{"$nulls":4},"",{"$nulls":15},"",{"$nulls":4},"",{"$nulls":4},"",{"$nulls":6},0,{"$f":"SUM($FL$36:$FL64)","v":0},0]
[30,{"$nulls":4},"N/A",{"$nulls":10},"","","",null,"","","",null,"","","",null,"","","",{"$nulls":5},"","","","","","","","",null,0,{"$nulls":3},"","","",null,"","","",null,"","","",null,"","","",{"$nulls":8},"",{"$nulls":4},"",{"$nulls":4},"",{"$nulls":15},"",{"$nulls":4},"",{"$nulls":4},"",{"$nulls":15},"",{"$nulls":4},"",{"$nulls":4},"",{"$nulls":15},"",{"$nulls":4},"",{"$nulls":4},"",{"$nulls":6},0,{"$f":"SUM($FL$36:$FL65)","v":0},0]
[31,{"$nulls":4},"N/A",{"$nulls":10},"","","",null,"","","",null,"","","",null,"","","",{"$nulls":5},"","","","","","","","",null,0,{"$nulls":3},"","","",null,"","","",null,"","","",null,"","","",{"$nulls":8},"",{"$nulls":4},"",{"$nulls":4},"",{"$nulls":15},"",{"$nulls":4},"",{"$nulls":4},"",{"$nulls":15},"",{"$nulls":4},"",{"$nulls":4},"",{"$nulls":15},"",{"$nulls":4},"",{"$nulls":4},"",{"$nulls":6},0,{"$f":"SUM($FL$36:$FL66)","v":0},0]
[32,{"$nulls":4},"N/A",{"$nulls":10},"","","",null,"","","",null,"","","",null,"","","",{"$nulls":5},"","","","","","","","",null,0,{"$nulls":3},"","","",null,"","","",null,"","","",null,"","","",{"$nulls":8},"",{"$nulls":4},"",{"$nulls":4},"",{"$nulls":15},"",{"$nulls":4},"",{"$nulls":4},"",{"$nulls":15},"",{"$nulls":4},"",{"$nulls":4},"",{"$nulls":15},"",{"$nulls":4},"",{"$nulls":4},"",{"$nulls":6},0,{"$f":"SUM($FL$36:$FL67)","v":0},0]
[33,{"$nulls":4},"N/A",{"$nulls":10},"","","",null,"","","",null,"","","",null,"","","",{"$nulls":5},"","","","","","","","",null,0,{"$nulls":3},"","","",null,"","","",null,"","","",null,"","","",{"$nulls":8},"",{"$nulls":4},"",{"$nulls":4},"",{"$nulls":15},"",{"$nulls":4},"",{"$nulls":4},"",{"$nulls":15},"",{"$nulls":4},"",{"$nulls":4},"",{"$nulls":15},"",{"$nulls":4},"",{"$nulls":4},"",{"$nulls":6},0,{"$f":"SUM($FL$36:$FL68)","v":0},0]
[34,{"$nulls":4},"N/A",{"$nulls":10},"","","",null,"","","",null,"","","",null,"","","",{"$nulls":5},"","","","","","","","",null,0,{"$nulls":3},"","","",null,"","","",null,"","","",null,"","","",{"$nulls":8},"",{"$nulls":4},"",{"$nulls":4},"",{"$nulls":15},"",{"$nulls":4},"",{"$nulls":4},"",{"$nulls":15},"",{"$nulls":4},"",{"$nulls":4},"",{"$nulls":15},"",{"$nulls":4},"",{"$nulls":4},"",{"$nulls":6},0,{"$f":"SUM($FL$36:$FL69)","v":0},0]
[35,{"$nulls":4},"N/A",{"$nulls":10},"","","",null,"","","",null,"","","",null,"","","",{"$nulls":5},"","","","","","","","",null,0,{"$nulls":3},"","","",null,"","","",null,"","","",null,"","","",{"$nulls":8},"",{"$nulls":4},"",{"$nulls":4},"",{"$nulls":15},"",{"$nulls":4},"",{"$nulls":4},"",{"$nulls":15},"",{"$nulls":4},"",{"$nulls":4},"",{"$nulls":15},"",{"$nulls":4},"",{"$nulls":4},"",{"$nulls":6},0,{"$f":"SUM($FL$36:$FL70)","v":0},0]
[36,{"$nulls":4},"N/A",{"$nulls":10},"","","",null,"","","",null,"","","",null,"","","",{"$nulls":5},"","","","","","","","",null,0,{"$nulls":3},"","","",null,"","","",null,"","","",null,"","","",{"$nulls":8},"",{"$nulls":4},"",{"$nulls":4},"",{"$nulls":15},"",{"$nulls":4},"",{"$nulls":4},"",{"$nulls":15},"",{"$nulls":4},"",{"$nulls":4},"",{"$nulls":15},"",{"$nulls":4},"",{"$nulls":4},"",{"$nulls":6},0,{"$f":"SUM($FL$36:$FL71)","v":0},0]
[37,{"$nulls":4},"N/A",{"$nulls":10},"","","",null,"","","",null,"","","",null,"","","",{"$nulls":5},"","","","","","","","",null,0,{"$nulls":3},"","","",null,"","","",null,"","","",null,"","","",{"$nulls":8},"",{"$nulls":4},"",{"$nulls":4},"",{"$nulls":15},"",{"$nulls":4},"",{"$nulls":4},"",{"$nulls":15},"",{"$nulls":4},"",{"$nulls":4},"",{"$nulls":15},"",{"$nulls":4},"",{"$nulls":4},"",{"$nulls":6},0,{"$f":"SUM($FL$36:$FL72)","v":0},0]
[38,{"$nulls":4},"N/A",{"$nulls":10},"","","",null,"","","",null,"","","",null,"","","",{"$nulls":5},"","","","","","","","",null,0,{"$nulls":3},"","","",null,"","","",null,"","","",null,"","","",{"$nulls":8},"",{"$nulls":4},"",{"$nulls":4},"",{"$nulls":15},"",{"$nulls":4},"",{"$nulls":4},"",{"$nulls":15},"",{"$nulls":4},"",{"$nulls":4},"",{"$nulls":15},"",{"$nulls":4},"",{"$nulls":4},"",{"$nulls":6},0,{"$f":"SUM($FL$36:$FL73)","v":0},0]
[39,{"$nulls":4},"N/A",{"$nulls":10},"","","",null,"","","",null,"","","",null,"","","",{"$nulls":5},"","","","","","","","",null,0,{"$nulls":3},"","","",null,"","","",null,"","","",null,"","","",{"$nulls":8},"",{"$nulls":4},"",{"$nulls":4},"",{"$nulls":15},"",{"$nulls":4},"",{"$nulls":4},"",{"$nulls":15},"",{"$nulls":4},"",{"$nulls":4},"",{"$nulls":15},"",{"$nulls":4},"",{"$nulls":4},"",{"$nulls":6},0,{"$f":"SUM($FL$36:$FL74)","v":0},0]
[40,{"$nulls":4},"N/A",{"$nulls":10},"","","",null,"","","",null,"","","",null,"","","",{"$nulls":5},"","","","","","","","",null,0,{"$nulls":3},"","","",null,"","","",null,"","","",null,"","","",{"$nulls":8},"",{"$nulls":4},"",{"$nulls":4},"",{"$nulls":15},"",{"$nulls":4},"",{"$nulls":4},"",{"$nulls":15},"",{"$nulls":4},"",{"$nulls":4},"",{"$nulls":15},"",{"$nulls":4},"",{"$nulls":4},"",{"$nulls":6},0,{"$f":"SUM($FL$36:$FL75)","v":0},0]
[41,{"$nulls":4},"N/A",{"$nulls":10},"","","",null,"","","",null,"","","",null,"","","",{"$nulls":5},"","","","","","","","",null,0,{"$nulls":3},"","","",null,"","","",null,"","","",null,"","","",{"$nulls":8},"",{"$nulls":4},"",{"$nulls":4},"",{"$nulls":15},"",{"$nulls":4},"",{"$nulls":4},"",{"$nulls":15},"",{"$nulls":4},"",{"$nulls":4},"",{"$nulls":15},"",{"$nulls":4},"",{"$nulls":4},"",{"$nulls":6},0,{"$f":"SUM($FL$36:$FL76)","v":0},0]
[42,{"$nulls":4},"N/A",{"$nulls":10},"","","",null,"","","",null,"","","",null,"","","",{"$nulls":5},"","","","","","","","",null,0,{"$nulls":3},"","","",null,"","","",null,"","","",null,"","","",{"$nulls":8},"",{"$nulls":4},"",{"$nulls":4},"",{"$nulls":15},"",{"$nulls":4},"",{"$nulls":4},"",{"$nulls":15},"",{"$nulls":4},"",{"$nulls":4},"",{"$nulls":15},"",{"$nulls":4},"",{"$nulls":4},"",{"$nulls":6},0,{"$f":"SUM($FL$36:$FL77)","v":0},0]
[43,{"$nulls":4},"N/A",{"$nulls":10},"","","",null,"","","",null,"","","",null,"","","",{"$nulls":5},"","","","","","","","",null,0,{"$nulls":3},"","","",null,"","","",null,"","","",null,"","","",{"$nulls":8},"",{"$nulls":4},"",{"$nulls":4},"",{"$nulls":15},"",{"$nulls":4},"",{"$nulls":4},"",{"$nulls":15},"",{"$nulls":4},"",{"$nulls":4},"",{"$nulls":15},"",{"$nulls":4},"",{"$nulls":4},"",{"$nulls":6},0,{"$f":"SUM($FL$36:$FL78)","v":0},0]
[44,{"$nulls":4},"N/A",{"$nulls":10},"","","",null,"","","",null,"","","",null,"","","",{"$nulls":5},"","","","","","","","",null,0,{"$nulls":3},"","","",null,"","","",null,"","","",null,"","","",{"$nulls":8},"",{"$nulls":4},"",{"$nulls":4},"",{"$nulls":15},"",{"$nulls":4},"",{"$nulls":4},"",{"$nulls":15},"",{"$nulls":4},"",{"$nulls":4},"",{"$nulls":15},"",{"$nulls":4},"",{"$nulls":4},"",{"$nulls":6},0,{"$f":"SUM($FL$36:$FL79)","v":0},0]
[45,{"$nulls":4},"N/A",{"$nulls":10},"","","",null,"","","",null,"","","",null,"","","",{"$nulls":5},"","","","","","","","",null,0,{"$nulls":3},"","","",null,"","","",null,"","","",null,"","","",{"$nulls":8},"",{"$nulls":4},"",{"$nulls":4},"",{"$nulls":15},"",{"$nulls":4},"",{"$nulls":4},"",{"$nulls":15},"",{"$nulls":4},"",{"$nulls":4},"",{"$nulls":15},"",{"$nulls":4},"",{"$nulls":4},"",{"$nulls":6},0,{"$f":"SUM($FL$36:$FL80)","v":0},0]
[46,{"$nulls":4},"N/A",{"$nulls":10},"","","",null,"","","",null,"","","",null,"","","",{"$nulls":5},"","","","","","","","",null,0,{"$nulls":3},"","","",null,"","","",null,"","","",null,"","","",{"$nulls":8},"",{"$nulls":4},"",{"$nulls":4},"",{"$nulls":15},"",{"$nulls":4},"",{"$nulls":4},"",{"$nulls":15},"",{"$nulls":4},"",{"$nulls":4},"",{"$nulls":15},"",{"$nulls":4},"",{"$nulls":4},"",{"$nulls":6},0,{"$f":"SUM($FL$36:$FL81)","v":0},0]
[47,{"$nulls":4},"N/A",{"$nulls":10},"","","",null,"","","",null,"","","",null,"","","",{"$nulls":5},"","","","","","","","",null,0,{"$nulls":3},"","","",null,"","","",null,"","","",null,"","","",{"$nulls":8},"",{"$nulls":4},"",{"$nulls":4},"",{"$nulls":15},"",{"$nulls":4},"",{"$nulls":4},"",{"$nulls":15},"",{"$nulls":4},"",{"$nulls":4},"",{"$nulls":15},"",{"$nulls":4},"",{"$nulls":4},"",{"$nulls":6},0,{"$f":"SUM($FL$36:$FL82)","v":0},0]
[48,{"$nulls":4},"N/A",{"$nulls":10},"","","",null,"","","",null,"","","",null,"","","",{"$nulls":5},"","","","","","","","",null,0,{"$nulls":3},"","","",null,"","","",null,"","","",null,"","","",{"$nulls":8},"",{"$nulls":4},"",{"$nulls":4},"",{"$nulls":15},"",{"$nulls":4},"",{"$nulls":4},"",{"$nulls":15},"",{"$nulls":4},"",{"$nulls":4},"",{"$nulls":15},"",{"$nulls":4},"",{"$nulls":4},"",{"$nulls":6},0,{"$f":"SUM($FL$36:$FL83)","v":0},0]
[49,{"$nulls":4},"N/A",{"$nulls":10},"","","",null,"","","",null,"","","",null,"","","",{"$nulls":5},"","","","","","","","",null,0,{"$nulls":3},"","","",null,"","","",null,"","","",null,"","","",{"$nulls":8},"",{"$nulls":4},"",{"$nulls":4},"",{"$nulls":15},"",{"$nulls":4},"",{"$nulls":4},"",{"$nulls":15},"",{"$nulls":4},"",{"$nulls":4},"",{"$nulls":15},"",{"$nulls":4},"",{"$nulls":4},"",{"$nulls":6},0,{"$f":"SUM($FL$36:$FL84)","v":0},0]
[50,{"$nulls":4},"N/A",{"$nulls":10},"","","",null,"","","",null,"","","",null,"","","",{"$nulls":5},"","","","","","","","",null,0,{"$nulls":3},"","","",null,"","","",null,"","","",null,"",{"$f":"IF($B85=\"Y\",IF(AND($AC85<>\"\",$AQ84<>\"\",$AR84<>\"\"),($AC85+$AQ84)/($AR84+1),\"\"),\"\")","v":""},"",{"$nulls":8},"",{"$nulls":4},"",{"$nulls":4},"",{"$nulls":15},"",{"$nulls":4},"",{"$nulls":4},"",{"$nulls":15},"",{"$nulls":4},"",{"$nulls":4},"",{"$nulls":15},"",{"$nulls":4},"",{"$nulls":4},"",{"$nulls":6},0,{"$f":"SUM($FL$36:$FL85)","v":0},0]
[null,null,{"$f":"SUM(C36:C85)","v":0}]
["g/bhp-hr"]
["g/kW-hr"]

{"sheet":"Engine Family #13","index":15,"n_rows":88,"n_cols":176,"rows_kept":88,"merged":[[1,0,1,35],[2,0,2,35],[3,0,3,35],[4,0,4,35],[5,0,5,35],[6,0,6,35],[8,0,8,16],[10,4,10,6],[10,12,10,13],[11,4,11,6],[11,15,11,16],[11,19,11,20],[11,23,11,24],[11,27,11,28],[12,4,12,6],[13,4,13,6],[14,4,15,6],[17,14,22,14],[27,4,30,13],[27,15,28,16],[32,0,32,16],[32,17,32,33],[32,34,32,35],[33,45,34,45]]}
[]
["United States"]
["US Environmental Protection Agency"]
["Office of Air and Radiation, Office of Transportation and Air Quality"]
[{"$nulls":37},"Tier 2","Y",94]
["Manufacturer Production Line Testing Report for Marine Compression Ignition Engines",{"$nulls":36},"Tier 3","N",1042]
[{"$f":"Summary!B7","v":"Version Number: 1.4 DRAFT  Last Revision: September 2023"},{"$nulls":36},"Tier 4",null,"N/A"]
[]
["Basic Information: Engine Family #13"]
[{"$nulls":167},{"$f":"IF(AND($G$24=94,Summary!$L$13=\"Category 1\"),0,1)","v":1}]
[null,null,"Manufacturer:",null,{"$f":"IF(Summary!D12<>\"\",Summary!D12,\"\")","v":""},{"$nulls":3},"Engine Family:",{"$nulls":31},{"$f":"IF($G$19=\"Diesel\",\"'HC' refers to 'THC' \",IF($G$19=\"Natural Gas\",\"'HC' refers to 'NMHC' \",IF($G$19=\"Alcohol\",\"'HC' refers to 'THCE' \",\"\")))","v":""}]
[null,null,"PLT Test Contact:",null,{"$f":"IF(Summary!D13<>\"\",Summary!D13,\"\")","v":""},{"$nulls":3},"Production (Category 3 only):",{"$nulls":6},{"$f":"IF(N16<>\"Y\", \"Current CO Result\", \"Final CO Result\")","v":"Current CO Result"},null,{"$f":"$CJ$36","v":""},null,{"$f":"IF(N16<>\"Y\", \"Current PM Result\", \"Final PM Result\")","v":"Current PM Result"},null,{"$f":"$DJ$36","v":""},null,{"$f":"IF($AF$12=\"Y\",IF(N16<>\"Y\", \"Current NOx+HC Result\", \"Final NOx+HC Result\"),IF(N16<>\"Y\", \"Current HC Result\", \"Final HC Result\"))","v":"Current HC Result"},null,{"$f":"IF($AF$12=\"Y\",IF($FP$36>0,ROUND($EJ$36+$FJ$36,2),\"\"),$EJ$36)","v":""},null,{"$f":"IF(N16<>\"Y\", \"Current NOx Result\",\"Final NOx Result\")","v":"Current NOx Result"},null,{"$f":"$FJ$36","v":""},null,{"$f":"IF($L$13<>\"Category 3\",IF($G$23=\"\",\"N\",$G$23),\"N\")","v":"N"},{"$f":"IF(Summary!$L$13=\"Category 3\",\"CAT3\",\"\")","v":""}]
[null,null,"Email Address:",null,{"$f":"IF(Summary!D14<>\"\",Summary!D14,\"\")","v":""},{"$nulls":3},"Date of Start of Model Year Production:"]
[null,null,"Phone #:",null,{"$f":"IF(Summary!D15<>\"\",Summary!D15,\"\")","v":""},{"$nulls":3},"Date of End of Model Year Production:",{"$nulls":14},{"$f":"IF($G$19=\"Diesel\",\"'HC' refers to 'THC' \",IF($G$19=\"Natural Gas\",\"'HC' refers to 'NMHC' \",IF($G$19=\"Alcohol\",\"'HC' refers to 'THCE' \",\"\")))","v":""},{"$nulls":13},"Diesel",1,{"$nulls":6},1]
[null,null,"Test Location & Description:",{"$nulls":5},"Deterioration Factor Type:",{"$nulls":28},"Natural Gas",2,{"$nulls":6},2]
[{"$nulls":8},"Include Results from this Engine Family on Summary Sheet?",{"$nulls":6},"CO Standard ",{"$nulls":3},"PM Standard or FEL",{"$nulls":3},{"$f":"IF($AF$12=\"Y\",\"NOx+HC Standard or FEL\",\"HC Standard\")","v":"HC Standard"},{"$nulls":3},"NOx Standard or FEL",{"$nulls":9},"Alcohol",3,{"$nulls":6},3]
[null,null,"Carryover?:",{"$nulls":5},"Required Tests (including failure follow-ups)",{"$nulls":4},{"$f":"$FO36","v":0},null,"Units",null,"g/kW-hr",null,"Units",null,"g/kW-hr",null,"Units",null,"g/kW-hr",null,"Units",null,"g/kW-hr",{"$nulls":4},"Test Cycle Options",{"$nulls":10},4]
[null,null,{"$f":"IF($G$17=\"Y\",\"Please submit supporting documentation indicating that this is a carry-over engine family\",\"\")","v":""},{"$nulls":5},"Instead of testing, are PLT requirements for this Engine Family",{"$nulls":6},"CO  Det Factor",{"$nulls":3},"PM  Det Factor",{"$nulls":3},"HC Det Factor",{"$nulls":3},"NOx  Det Factor",{"$nulls":6},"1 = 4-Mode General Cycle (E3)",null,null,"Recreational"]
[null,null,"Fuel Type:",{"$nulls":5}," fulfilled under the following (Category 1 only)?",{"$nulls":6},"Det Factor Type",null,{"$f":"IF($N$15<>\"\",$N$15,\"\")","v":""},null,"Det Factor Type",null,{"$f":"IF($N$15<>\"\",$N$15,\"\")","v":""},null,"Det Factor Type",null,{"$f":"IF($N$15<>\"\",$N$15,\"\")","v":""},null,"Det Factor Type",null,{"$f":"IF($N$15<>\"\",$N$15,\"\")","v":""},{"$nulls":4},"2 = 5-Mode Recreational Cycle (E5)",null,null,"Commercial"]
[null,null,"Recreational/Commercial:",{"$nulls":5},"Please elaborate in the comments section.",{"$nulls":6},"CO Green Engine Factor",{"$nulls":3},"PM Green Engine Factor",{"$nulls":3},"HC Green Engine Factor",{"$nulls":3},"NOx Green Engine Factor",{"$nulls":6},"3 = 4-Mode Constant Speed Propulsion Cycle (E2)"]
[null,null,"Model Year:",{"$nulls":5},"    -1042.310(a) - EPA approved combining it, for PLT purposes only.",{"$nulls":25},"4 = 5-Mode Constant Speed Auxiliary Cycle (D2)"]
[null,null,"Tier:",{"$nulls":31},"5 = 6-Mode Variable Speed Auxiliary Cycle (G2)",null,null,"1 (E3)"]
[null,null,"Combined NOx+HC?",{"$nulls":31},"6 = 8-Mode Variable Speed Ausiliary Cycle (C1)",null,null,"2 (E5)"]
[null,null,"40 CFR Part:",{"$nulls":3},{"$f":"AN6","v":1042},null,"Additional testing required by EPA [40 CFR 1042.301(e)]? ",{"$nulls":25},"O = Other",null,null,"3 (E2)"]
[{"$nulls":37},"4 (D2)"]
[{"$nulls":37},"5 (G2)",{"$nulls":132},"deleted and redirected"]
[{"$nulls":22}," ",{"$nulls":14},"6 (C1)",4,{"$nulls":6},4]
[null,null,"Comments:",{"$nulls":34},"O (other)"]
[{"$nulls":22}," ",{"$nulls":22},"additive"]
[{"$nulls":45},"multiplicative",{"$nulls":22},"CO Rounding",{"$nulls":4},"CO Rounding",{"$nulls":4},"CO Rounding",{"$nulls":4},"CO Rounding",{"$nulls":10},"PM Rounding",{"$nulls":4},"PM Rounding",{"$nulls":4},"PM Rounding",{"$nulls":4},"PM Rounding",{"$nulls":10},"HC Rounding",{"$nulls":4},"HC Rounding",{"$nulls":4},"HC Rounding",{"$nulls":4},"HC Rounding",{"$nulls":10},"NOx Rounding",{"$nulls":4},"NOx Rounding",{"$nulls":4},"NOx Rounding",{"$nulls":4},"NOx Rounding"]
[{"$nulls":22}," ",{"$nulls":45},"initial",{"$nulls":4},"final",{"$nulls":4}," det final",{"$nulls":4},"ave of all final",{"$nulls":10},"initial",{"$nulls":4},"final",{"$nulls":4}," det final",{"$nulls":4},"ave of all final",{"$nulls":10},"initial",{"$nulls":4},"final",{"$nulls":4}," det final",{"$nulls":4},"ave of all final",{"$nulls":10},"initial",{"$nulls":4},"final",{"$nulls":4}," det final",{"$nulls":4},"ave of all final"]
[{"$nulls":38},"Y",{"$nulls":6},"Y"]
["PLT Engine Test Results: Engine Family #13",{"$nulls":37},"N",{"$nulls":6},"N",{"$nulls":124},"This is N17"]
[{"$nulls":36},"CO",null,"PM",null,null,"HC or HC+NOX",null,"Nox",null,"Engine Data Complete?",{"$nulls":11},"HC","HC","HC","HC","Nox","Nox","Nox","Nox",{"$nulls":107},"1% of production or pre-approved reduced sample size - whichever is Lower # "]
[null,"Calc Final Result?","Test Number","Test Date","Test Time","Test Qtr","Engine ID","Engine Make","Engine Configuration","Build Date","Green Engine Factor Applied?","Green Engine Factor Determination Method","Service Hours (or miles) Accumulation","Service Hours Location","Service Acc. Procedure","CO Initial Result ","Rounded CO Initial Result ","CO Final Result ","Det. CO Final Result ","PM Initial Result ","Rounded PM Initial Result ","PM Final Result ","Det. PM Final Result ","HC Initial Result ","Rounded HC Initial Result ","HC Final Result ","Det. HC Final Result ","NOx Initial Result ","Rounded NOx Initial Result ","NOx Final Result ","Det. NOx Final Result ","Reason for Failed Test (if applicable)","Remedy","Repairs","Test Cycle","Comments",0,0,0,0,0,0,0,0,{"$nulls":5},"Unrounded initial CO","Unrounded final CO","Det CO","Final CO","Unrounded initial PM","Unrounded final PM","Det PM","Final PM","Unrounded initial HCNOx","Unrounded final HCNOx","Det HCNOx","Final HCNOX","Unrounded initial NOx","Unrounded final NOx","Det NOx","Final HCNOX",{"$nulls":7},"rounded",{"$nulls":4},"rounded",{"$nulls":4},"rounded",{"$nulls":4},"rounded",{"$nulls":10},"rounded",{"$nulls":4},"rounded",{"$nulls":4},"rounded",{"$nulls":4},"rounded",{"$nulls":10},"rounded",{"$nulls":4},"rounded",{"$nulls":4},"rounded",{"$nulls":4},"rounded","ROUNDED AND ACCOUNT FOR BLANK",{"$nulls":9},"rounded",{"$nulls":4},"rounded",{"$nulls":4},"rounded",{"$nulls":4},"rounded","ROUNDED AND ACCOUNT FOR BLANK","Test complete Flag","Total complete","Fail Flag","req","val","baseline req","req due to fails","sum fails","baseline req"]
[1,{"$nulls":4},"N/A",{"$nulls":10},{"$f":"$BU36","v":""},{"$f":"$BZ36","v":""},{"$f":"$CE36","v":""},null,{"$f":"$CU36","v":""},{"$f":"$CZ36","v":""},{"$f":"$DE36","v":""},null,{"$f":"$DU36","v":""},{"$f":"$DZ36","v":""},{"$f":"$EE36","v":""},null,{"$f":"$EU36","v":""},{"$f":"$EZ36","v":""},{"$f":"$FE36","v":""},{"$nulls":5},{"$f":"IF($B36=\"N\",IF(AND($AK35<>\"\",$Q36<>\"\"),$AK35+$Q36,\"\"),IF($B36=\"Y\",0,\"\"))","v":""},{"$f":"IF($B36=\"N\",AL35+1,IF($B36=\"Y\",0,\"\"))","v":""},{"$f":"IF($B36=\"N\",IF(AND($AM35<>\"\",$U36<>\"\"),$AM35+$U36,\"\"),IF($B36=\"Y\",0,\"\"))","v":""},{"$f":"IF($B36=\"N\",AN35+1,IF($B36=\"Y\",0,\"\"))","v":""},{"$f":"IF($B36=\"N\",IF(AND($AO35<>\"\",$Y36<>\"\"),$AO35+$Y36,\"\"),IF($B36=\"Y\",0,\"\"))","v":""},{"$f":"IF($B36=\"N\",AP35+1,IF($B36=\"Y\",0,\"\"))","v":""},{"$f":"IF($B36=\"N\",IF(AND($AQ35<>\"\",$AC36<>\"\"),$AQ35+$AC36,\"\"),IF($B36=\"Y\",0,\"\"))","v":""},{"$f":"IF($B36=\"N\",AR35+1,IF($B36=\"Y\",0,\"\"))","v":""},null,{"$f":"IF(AND(B36<>\"\",C36<>\"\",D36<>\"\",E36<>\"\",G36<>\"\",H36<>\"\",I36<>\"\",J36<>\"\",K36<>\"\",M36<>\"\",N36<>\"\",O36<>\"\"),1,0)","v":0},{"$nulls":3},{"$f":"IF(AND($P36<>\"\",$AT36=1),$P36,\"\")","v":""},{"$f":"IF($B36=\"Y\",IF(AND($Q36<>\"\",$AK35<>\"\",$AL35<>\"\"),($Q36+$AK35)/($AL35+1),\"\"),\"\")","v":""},{"$f":"IF(AND($B36=\"Y\",$R36<>\"\",$R$18<>\"\"),IF($R$19=\"additive\",$R36+$R$18,IF($R$19=\"multiplicative\",$R36*$R$18,\"\")),\"\")","v":""},{"$f":"IF(COUNT($S$36:$S$85)>0,AVERAGE($S$36:$S$85),\"\")","v":""},{"$f":"IF(AND($T36<>\"\",$AT36=1),$T36,\"\")","v":""},{"$f":"IF($B36=\"Y\",IF(AND($U36<>\"\",$AM35<>\"\",$AN35<>\"\"),($U36+$AM35)/($AN35+1),\"\"),\"\")","v":""},{"$f":"IF(AND($B36=\"Y\",$V36<>\"\",$V$18<>\"\"),IF($V$19=\"additive\",$V36+$V$18,IF($V$19=\"multiplicative\",$V36*$V$18,\"\")),\"\")","v":""},{"$f":"IF(COUNT($W$36:$W$85)>0,AVERAGE($W$36:$W$85),\"\")","v":""},{"$f":"IF(AND($X36<>\"\",$AT36=1),$X36,\"\")","v":""},{"$f":"IF($B36=\"Y\",IF(AND($Y36<>\"\",$AO35<>\"\",$AP35<>\"\"),($Y36+$AO35)/($AP35+1),\"\"),\"\")","v":""},{"$f":"IF(AND($B36=\"Y\",$Z36<>\"\",$Z$18<>\"\"),IF($Z$19=\"additive\",$Z36+$Z$18,IF($Z$19=\"multiplicative\",$Z36*$Z$18,\"\")),\"\")","v":""},{"$f":"IF(COUNT($AA$36:$AA$85)>0,AVERAGE($AA$36:$AA$85),\"\")","v":""},{"$f":"IF(AND($AB36<>\"\",$AT36=1),$AB36,\"\")","v":""},{"$f":"IF($B36=\"Y\",IF(AND($AC36<>\"\",$AQ35<>\"\",$AR35<>\"\"),($AC36+$AQ35)/($AR35+1),\"\"),\"\")","v":""},{"$f":"IF(AND($B36=\"Y\",$AD36<>\"\",$AD$18<>\"\"),IF($AD$19=\"additive\",$AD36+$AD$18,IF($AD$19=\"multiplicative\",$AD36*$AD$18,\"\")),\"\")","v":""},{"$f":"IF(COUNT($AE$36:$AE$85)>0,AVERAGE($AE$36:$AE$85),\"\")","v":""},{"$nulls":7},{"$f":"IF($AX36<>\"\",ROUND($AX36,2),\"\")","v":""},{"$nulls":4},{"$f":"IF($AY36<>\"\",ROUND($AY36,2),\"\")","v":""},{"$nulls":4},{"$f":"IF($AZ36<>\"\",ROUND($AZ36,2),\"\")","v":""},{"$nulls":4},{"$f":"IF($BA36<>\"\",ROUND($BA36,2),\"\")","v":""},{"$nulls":10},{"$f":"IF($BB36<>\"\",ROUND($BB36,3),\"\")","v":""},{"$nulls":4},{"$f":"IF($BC36<>\"\",ROUND($BC36,3),\"\")","v":""},{"$nulls":4},{"$f":"IF($BD36<>\"\",ROUND($BD36,3),\"\")","v":""},{"$nulls":4},{"$f":"IF($BE36<>\"\",ROUND($BE36,3),\"\")","v":""},{"$nulls":10},{"$f":"IF($BF36<>\"\",ROUND($BF36,3),\"\")","v":""},{"$nulls":4},{"$f":"IF($BG36<>\"\",ROUND($BG36,3),\"\")","v":""},{"$nulls":4},{"$f":"IF($BH36<>\"\",ROUND($BH36,3),\"\")","v":""},{"$nulls":4},{"$f":"IF($BI36<>\"\",ROUND($BI36,3),\"\")","v":""},{"$f":"IF(EJ36=\"\",0,EJ36)","v":0},{"$nulls":9},{"$f":"IF($BJ36<>\"\",ROUND($BJ36,2),\"\")","v":""},{"$nulls":4},{"$f":"IF($BK36<>\"\",ROUND($BK36,2),\"\")","v":""},{"$nulls":4},{"$f":"IF($BL36<>\"\",ROUND($BL36,2),\"\")","v":""},{"$nulls":4},{"$f":"IF($BM36<>\"\",ROUND($BM36,2),\"\")","v":""},{"$f":"IF(FJ36=\"\",0,FJ36)","v":0},{"$f":"IF($AG$12<>\"CAT3\",IF(AND($B36=\"Y\",$S36<>\"\",$W36<>\"\",$AA36<>\"\",$AE36<>\"\"),1,0),IF($AE36<>\"\",1,0))","v":0},{"$f":"SUM($FL$36:$FL36)","v":0},{"$f":"IF($AG$12<>\"CAT3\",IF($FL36=1,IF(OR($S36>$R$16,$W36>$V$16,$AA36>$Z$16,IF($AF$12<>\"Y\",OR($AA36>$Z$16,$AE36>$AD$16),ROUND(($AA36+$AE36),2)>$Z$16)),1,0),0),IF($FL36=1,IF(AND($AE36>$AD$16,$AF$12=\"N\"),1,0),0))","v":0},{"$f":"IF(OR($M$11=\"\",$N$18=\"Y\"),0,IF($AG$12=\"CAT3\",$N$12,($FR$36+1)))","v":0},{"$f":"SUM(FL36:FL85)","v":0},{"$f":"IF(AND($G$17=\"Y\",$N$24<>\"\"),MIN($N$24,$FT$36),$FT$36)","v":0},{"$f":"$FS$36*2","v":0},{"$f":"SUM(FN36:FN85)","v":0},{"$f":"IF($N$12<>\"\",$N$12*0.01,0)","v":0}]
[{"$f":"A36+1","v":2},{"$nulls":4},"N/A",{"$nulls":10},"","","",null,"","","",null,"","","",null,"","","",{"$nulls":5},"",{"$f":"IF($B37=\"N\",AL36+1,IF($B37=\"Y\",0,\"\"))","v":""},"",{"$f":"IF($B37=\"N\",AN36+1,IF($B37=\"Y\",0,\"\"))","v":""},{"$f":"IF($B37=\"N\",IF(AND($AO36<>\"\",$Y37<>\"\"),$AO36+$Y37,\"\"),IF($B37=\"Y\",0,\"\"))","v":""},{"$f":"IF($B37=\"N\",AP36+1,IF($B37=\"Y\",0,\"\"))","v":""},{"$f":"IF($B37=\"N\",IF(AND($AQ36<>\"\",$AC37<>\"\"),$AQ36+$AC37,\"\"),IF($B37=\"Y\",0,\"\"))","v":""},{"$f":"IF($B37=\"N\",AR36+1,IF($B37=\"Y\",0,\"\"))","v":""},null,{"$f":"IF(AND(B37<>\"\",C37<>\"\",D37<>\"\",E37<>\"\",G37<>\"\",H37<>\"\",I37<>\"\",J37<>\"\",K37<>\"\",M37<>\"\",N37<>\"\",O37<>\"\"),1,0)","v":0},{"$nulls":3},"","",{"$f":"IF(AND($B37=\"Y\",$R37<>\"\",$R$18<>\"\"),IF($R$19=\"additive\",$R37+$R$18,IF($R$19=\"multiplicative\",$R37*$R$18,\"\")),\"\")","v":""},null,"","",{"$f":"IF(AND($B37=\"Y\",$V37<>\"\",$V$18<>\"\"),IF($V$19=\"additive\",$V37+$V$18,IF($V$19=\"multiplicative\",$V37*$V$18,\"\")),\"\")","v":""},null,{"$f":"IF(AND($X37<>\"\",$AT37=1),$X37,\"\")","v":""},{"$f":"IF($B37=\"Y\",IF(AND($Y37<>\"\",$AO36<>\"\",$AP36<>\"\"),($Y37+$AO36)/($AP36+1),\"\"),\"\")","v":""},{"$f":"IF(AND($B37=\"Y\",$Z37<>\"\",$Z$18<>\"\"),IF($Z$19=\"additive\",$Z37+$Z$18,IF($Z$19=\"multiplicative\",$Z37*$Z$18,\"\")),\"\")","v":""},null,{"$f":"IF(AND($AB37<>\"\",$AT37=1),$AB37,\"\")","v":""},{"$f":"IF($B37=\"Y\",IF(AND($AC37<>\"\",$AQ36<>\"\",$AR36<>\"\"),($AC37+$AQ36)/($AR36+1),\"\"),\"\")","v":""},{"$f":"IF(AND($B37=\"Y\",$AD37<>\"\",$AD$18<>\"\"),IF($AD$19=\"additive\",$AD37+$AD$18,IF($AD$19=\"multiplicative\",$AD37*$AD$18,\"\")),\"\")","v":""},{"$nulls":8},{"$f":"IF($AX37<>\"\",ROUND($AX37,2),\"\")","v":""},{"$nulls":4},{"$f":"IF($AY37<>\"\",ROUND($AY37,2),\"\")","v":""},{"$nulls":4},{"$f":"IF($AZ37<>\"\",ROUND($AZ37,2),\"\")","v":""},{"$nulls":15},{"$f":"IF($BB37<>\"\",ROUND($BB37,3),\"\")","v":""},{"$nulls":4},{"$f":"IF($BC37<>\"\",ROUND($BC37,3),\"\")","v":""},{"$nulls":4},{"$f":"IF($BD37<>\"\",ROUND($BD37,3),\"\")","v":""},{"$nulls":15},{"$f":"IF($BF37<>\"\",ROUND($BF37,3),\"\")","v":""},{"$nulls":4},{"$f":"IF($BG37<>\"\",ROUND($BG37,3),\"\")","v":""},{"$nulls":4},{"$f":"IF($BH37<>\"\",ROUND($BH37,3),\"\")","v":""},{"$nulls":15},{"$f":"IF($BJ37<>\"\",ROUND($BJ37,2),\"\")","v":""},{"$nulls":4},{"$f":"IF($BK37<>\"\",ROUND($BK37,2),\"\")","v":""},{"$nulls":4},{"$f":"IF($BL37<>\"\",ROUND($BL37,2),\"\")","v":""},{"$nulls":6},{"$f":"IF($AG$12<>\"CAT3\",IF(AND($B37=\"Y\",$S37<>\"\",$W37<>\"\",$AA37<>\"\",$AE37<>\"\"),1,0),IF($AE37<>\"\",1,0))","v":0},{"$f":"SUM($FL$36:$FL37)","v":0},{"$f":"IF($AG$12<>\"CAT3\",IF($FL37=1,IF(OR($S37>$R$16,$W37>$V$16,$AA37>$Z$16,IF($AF$12<>\"Y\",OR($AA37>$Z$16,$AE37>$AD$16),ROUND(($AA37+$AE37),2)>$Z$16)),1,0),0),IF($FL37=1,IF(AND($AE37>$AD$16,$AF$12=\"N\"),1,0),0))","v":0},null,null,{"$f":"MAX($FQ$36,$FL$10)","v":1}]
[{"$f":"A37+1","v":3},{"$nulls":4},"N/A",{"$nulls":10},"","","",null,"","","",null,"","","",null,"","","",{"$nulls":5},"","","","","","","","",null,0,{"$nulls":3},"","","",null,"","","",null,"","","",null,"","","",{"$nulls":8},"",{"$nulls":4},"",{"$nulls":4},"",{"$nulls":15},"",{"$nulls":4},"",{"$nulls":4},"",{"$nulls":15},"",{"$nulls":4},"",{"$nulls":4},"",{"$nulls":15},"",{"$nulls":4},"",{"$nulls":4},"",{"$nulls":6},0,{"$f":"SUM($FL$36:$FL38)","v":0},0]
[4,{"$nulls":4},"N/A",{"$nulls":10},"","","",null,"","","",null,"","","",null,"","","",{"$nulls":5},"","","","","","","","",null,0,{"$nulls":3},"","","",null,"","","",null,"","","",null,"","","",{"$nulls":8},"",{"$nulls":4},"",{"$nulls":4},"",{"$nulls":15},"",{"$nulls":4},"",{"$nulls":4},"",{"$nulls":15},"",{"$nulls":4},"",{"$nulls":4},"",{"$nulls":15},"",{"$nulls":4},"",{"$nulls":4},"",{"$nulls":6},0,{"$f":"SUM($FL$36:$FL39)","v":0},0,null,null,"then, the larger of that sample size or 1  (or if Part 94 and cat1,  can be 0)"]
[5,{"$nulls":4},"N/A",{"$nulls":10},"","","",null,"","","",null,"","","",null,"","","",{"$nulls":5},"","","","","","","","",null,0,{"$nulls":3},"","","",null,"","","",null,"","","",null,"","","",{"$nulls":8},"",{"$nulls":4},"",{"$nulls":4},"",{"$nulls":15},"",{"$nulls":4},"",{"$nulls":4},"",{"$nulls":15},"",{"$nulls":4},"",{"$nulls":4},"",{"$nulls":15},"",{"$nulls":4},"",{"$nulls":4},"",{"$nulls":6},0,{"$f":"SUM($FL$36:$FL40)","v":0},0]
[6,{"$nulls":4},"N/A",{"$nulls":10},"","","",null,"","","",null,"","","",null,"","","",{"$nulls":5},"","","","","","","","",null,0,{"$nulls":3},"","","",null,"","","",null,"","","",null,"","","",{"$nulls":8},"",{"$nulls":4},"",{"$nulls":4},"",{"$nulls":15},"",{"$nulls":4},"",{"$nulls":4},"",{"$nulls":15},"",{"$nulls":4},"",{"$nulls":4},"",{"$nulls":15},"",{"$nulls":4},"",{"$nulls":4},"",{"$nulls":6},0,{"$f":"SUM($FL$36:$FL41)","v":0},0]
[7,{"$nulls":4},"N/A",{"$nulls":10},"","","",null,"","","",null,"","","",null,"","","",{"$nulls":5},"","","","","","","","",null,0,{"$nulls":3},"","","",null,"","","",null,"","","",null,"","","",{"$nulls":8},"",{"$nulls":4},"",{"$nulls":4},"",{"$nulls":15},"",{"$nulls":4},"",{"$nulls":4},"",{"$nulls":15},"",{"$nulls":4},"",{"$nulls":4},"",{"$nulls":15},"",{"$nulls":4},"",{"$nulls":4},"",{"$nulls":6},0,{"$f":"SUM($FL$36:$FL42)","v":0},0]
[8,{"$nulls":4},"N/A",{"$nulls":10},"","","",null,"","","",null,"","","",null,"","","",{"$nulls":5},"","","","","","","","",null,0,{"$nulls":3},"","","",null,"","","",null,"","","",null,"","","",{"$nulls":8},"",{"$nulls":4},"",{"$nulls":4},"",{"$nulls":15},"",{"$nulls":4},"",{"$nulls":4},"",{"$nulls":15},"",{"$nulls":4},"",{"$nulls":4},"",{"$nulls":15},"",{"$nulls":4},"",{"$nulls":4},"",{"$nulls":6},0,{"$f":"SUM($FL$36:$FL43)","v":0},0]
[9,{"$nulls":4},"N/A",{"$nulls":10},"","","",null,"","","",null,"","","",null,"","","",{"$nulls":5},"","","","","","","","",null,0,{"$nulls":3},"","","",null,"","","",null,"","","",null,"","","",{"$nulls":8},"",{"$nulls":4},"",{"$nulls":4},"",{"$nulls":15},"",{"$nulls":4},"",{"$nulls":4},"",{"$nulls":15},"",{"$nulls":4},"",{"$nulls":4},"",{"$nulls":15},"",{"$nulls":4},"",{"$nulls":4},"",{"$nulls":6},0,{"$f":"SUM($FL$36:$FL44)","v":0},0]
[10,{"$nulls":4},"N/A",{"$nulls":10},"","","",null,"","","",null,"","","",null,"","","",{"$nulls":5},"","","","","","","","",null,0,{"$nulls":3},"","","",null,"","","",null,"","","",null,"","","",{"$nulls":8},"",{"$nulls":4},"",{"$nulls":4},"",{"$nulls":15},"",{"$nulls":4},"",{"$nulls":4},"",{"$nulls":15},"",{"$nulls":4},"",{"$nulls":4},"",{"$nulls":15},"",{"$nulls":4},"",{"$nulls":4},"",{"$nulls":6},0,{"$f":"SUM($FL$36:$FL45)","v":0},0]
[11,{"$nulls":4},"N/A",{"$nulls":10},"","","",null,"","","",null,"","","",null,"","","",{"$nulls":5},"","","","","","","","",null,0,{"$nulls":3},"","","",null,"","","",null,"","","",null,"","","",{"$nulls":8},"",{"$nulls":4},"",{"$nulls":4},"",{"$nulls":15},"",{"$nulls":4},"",{"$nulls":4},"",{"$nulls":15},"",{"$nulls":4},"",{"$nulls":4},"",{"$nulls":15},"",{"$nulls":4},"",{"$nulls":4},"",{"$nulls":6},0,{"$f":"SUM($FL$36:$FL46)","v":0},0]
[12,{"$nulls":4},"N/A",{"$nulls":10},"","","",null,"","","",null,"","","",null,"","","",{"$nulls":5},"","","","","","","","",null,0,{"$nulls":3},"","","",null,"","","",null,"","","",null,"","","",{"$nulls":8},"",{"$nulls":4},"",{"$nulls":4},"",{"$nulls":15},"",{"$nulls":4},"",{"$nulls":4},"",{"$nulls":15},"",{"$nulls":4},"",{"$nulls":4},"",{"$nulls":15},"",{"$nulls":4},"",{"$nulls":4},"",{"$nulls":6},0,{"$f":"SUM($FL$36:$FL47)","v":0},0]
[13,{"$nulls":4},"N/A",{"$nulls":10},"","","",null,"","","",null,"","","",null,"","","",{"$nulls":5},"","","","","","","","",null,0,{"$nulls":3},"","","",null,"","","",null,"","","",null,"","","",{"$nulls":8},"",{"$nulls":4},"",{"$nulls":4},"",{"$nulls":15},"",{"$nulls":4},"",{"$nulls":4},"",{"$nulls":15},"",{"$nulls":4},"",{"$nulls":4},"",{"$nulls":15},"",{"$nulls":4},"",{"$nulls":4},"",{"$nulls":6},0,{"$f":"SUM($FL$36:$FL48)","v":0},0]
[14,{"$nulls":4},"N/A",{"$nulls":10},"","","",null,"","","",null,"","","",null,"","","",{"$nulls":5},"","","","","","","","",null,0,{"$nulls":3},"","","",null,"","","",null,"","","",null,"","","",{"$nulls":8},"",{"$nulls":4},"",{"$nulls":4},"",{"$nulls":15},"",{"$nulls":4},"",{"$nulls":4},"",{"$nulls":15},"",{"$nulls":4},"",{"$nulls":4},"",{"$nulls":15},"",{"$nulls":4},"",{"$nulls":4},"",{"$nulls":6},0,{"$f":"SUM($FL$36:$FL49)","v":0},0]
[15,{"$nulls":4},"N/A",{"$nulls":10},"","","",null,"","","",null,"","","",null,"","","",{"$nulls":5},"","","","","","","","",null,0,{"$nulls":3},"","","",null,"","","",null,"","","",null,"","","",{"$nulls":8},"",{"$nulls":4},"",{"$nulls":4},"",{"$nulls":15},"",{"$nulls":4},"",{"$nulls":4},"",{"$nulls":15},"",{"$nulls":4},"",{"$nulls":4},"",{"$nulls":15},"",{"$nulls":4},"",{"$nulls":4},"",{"$nulls":6},0,{"$f":"SUM($FL$36:$FL50)","v":0},0]
[16,{"$nulls":4},"N/A",{"$nulls":10},"","","",null,"","","",null,"","","",null,"","","",{"$nulls":5},"","","","","","","","",null,0,{"$nulls":3},"","","",null,"","","",null,"","","",null,"","","",{"$nulls":8},"",{"$nulls":4},"",{"$nulls":4},"",{"$nulls":15},"",{"$nulls":4},"",{"$nulls":4},"",{"$nulls":15},"",{"$nulls":4},"",{"$nulls":4},"",{"$nulls":15},"",{"$nulls":4},"",{"$nulls":4},"",{"$nulls":6},0,{"$f":"SUM($FL$36:$FL51)","v":0},0]
[17,{"$nulls":4},"N/A",{"$nulls":10},"","","",null,"","","",null,"","","",null,"","","",{"$nulls":5},"","","","","","","","",null,0,{"$nulls":3},"","","",null,"","","",null,"","","",null,"","","",{"$nulls":8},"",{"$nulls":4},"",{"$nulls":4},"",{"$nulls":15},"",{"$nulls":4},"",{"$nulls":4},"",{"$nulls":15},"",{"$nulls":4},"",{"$nulls":4},"",{"$nulls":15},"",{"$nulls":4},"",{"$nulls":4},"",{"$nulls":6},0,{"$f":"SUM($FL$36:$FL52)","v":0},0]
[18,{"$nulls":4},"N/A",{"$nulls":10},"","","",null,"","","",null,"","","",null,"","","",{"$nulls":5},"","","","","","","","",null,0,{"$nulls":3},"","","",null,"","","",null,"","","",null,"","","",{"$nulls":8},"",{"$nulls":4},"",{"$nulls":4},"",{"$nulls":15},"",{"$nulls":4},"",{"$nulls":4},"",{"$nulls":15},"",{"$nulls":4},"",{"$nulls":4},"",{"$nulls":15},"",{"$nulls":4},"",{"$nulls":4},"",{"$nulls":6},0,{"$f":"SUM($FL$36:$FL53)","v":0},0]
[19,{"$nulls":4},"N/A",{"$nulls":10},"","","",null,"","","",null,"","","",null,"","","",{"$nulls":5},"","","","","","","","",null,0,{"$nulls":3},"","","",null,"","","",null,"","","",null,"","","",{"$nulls":8},"",{"$nulls":4},"",{"$nulls":4},"",{"$nulls":15},"",{"$nulls":4},"",{"$nulls":4},"",{"$nulls":15},"",{"$nulls":4},"",{"$nulls":4},"",{"$nulls":15},"",{"$nulls":4},"",{"$nulls":4},"",{"$nulls":6},0,{"$f":"SUM($FL$36:$FL54)","v":0},0]
[20,{"$nulls":4},"N/A",{"$nulls":10},"","","",null,"","","",null,"","","",null,"","","",{"$nulls":5},"","","","","","","","",null,0,{"$nulls":3},"","","",null,"","","",null,"","","",null,"","","",{"$nulls":8},"",{"$nulls":4},"",{"$nulls":4},"",{"$nulls":15},"",{"$nulls":4},"",{"$nulls":4},"",{"$nulls":15},"",{"$nulls":4},"",{"$nulls":4},"",{"$nulls":15},"",{"$nulls":4},"",{"$nulls":4},"",{"$nulls":6},0,{"$f":"SUM($FL$36:$FL55)","v":0},0]
[21,{"$nulls":4},"N/A",{"$nulls":10},"","","",null,"","","",null,"","","",null,"","","",{"$nulls":5},"","","","","","","","",null,0,{"$nulls":3},"","","",null,"","","",null,"","","",null,"","","",{"$nulls":8},"",{"$nulls":4},"",{"$nulls":4},"",{"$nulls":15},"",{"$nulls":4},"",{"$nulls":4},"",{"$nulls":15},"",{"$nulls":4},"",{"$nulls":4},"",{"$nulls":15},"",{"$nulls":4},"",{"$nulls":4},"",{"$nulls":6},0,{"$f":"SUM($FL$36:$FL56)","v":0},0]
[22,{"$nulls":4},"N/A",{"$nulls":10},"","","",null,"","","",null,"","","",null,"","","",{"$nulls":5},"","","","","","","","",null,0,{"$nulls":3},"","","",null,"","","",null,"","","",null,"","","",{"$nulls":8},"",{"$nulls":4},"",{"$nulls":4},"",{"$nulls":15},"",{"$nulls":4},"",{"$nulls":4},"",{"$nulls":15},"",{"$nulls":4},"",{"$nulls":4},"",{"$nulls":15},"",{"$nulls":4},"",{"$nulls":4},"",{"$nulls":6},0,{"$f":"SUM($FL$36:$FL57)","v":0},0]
[23,{"$nulls":4},"N/A",{"$nulls":10},"","","",null,"","","",null,"","","",null,"","","",{"$nulls":5},"","","","","","","","",null,0,{"$nulls":3},"","","",null,"","","",null,"","","",null,"","","",{"$nulls":8},"",{"$nulls":4},"",{"$nulls":4},"",{"$nulls":15},"",{"$nulls":4},"",{"$nulls":4},"",{"$nulls":15},"",{"$nulls":4},"",{"$nulls":4},"",{"$nulls":15},"",{"$nulls":4},"",{"$nulls":4},"",{"$nulls":6},0,{"$f":"SUM($FL$36:$FL58)","v":0},0]
[24,{"$nulls":4},"N/A",{"$nulls":10},"","","",null,"","","",null,"","","",null,"","","",{"$nulls":5},"","","","","","","","",null,0,{"$nulls":3},"","","",null,"","","",null,"","","",null,"","","",{"$nulls":8},"",{"$nulls":4},"",{"$nulls":4},"",{"$nulls":15},"",{"$nulls":4},"",{"$nulls":4},"",{"$nulls":15},"",{"$nulls":4},"",{"$nulls":4},"",{"$nulls":15},"",{"$nulls":4},"",{"$nulls":4},"",{"$nulls":6},0,{"$f":"SUM($FL$36:$FL59)","v":0},0]
[25,{"$nulls":4},"N/A",{"$nulls":10},"","","",null,"","","",null,"","","",null,"","","",{"$nulls":5},"","","","","","","","",null,0,{"$nulls":3},"","","",null,"","","",null,"","","",null,"","","",{"$nulls":8},"",{"$nulls":4},"",{"$nulls":4},"",{"$nulls":15},"",{"$nulls":4},"",{"$nulls":4},"",{"$nulls":15},"",{"$nulls":4},"",{"$nulls":4},"",{"$nulls":15},"",{"$nulls":4},"",{"$nulls":4},"",{"$nulls":6},0,{"$f":"SUM($FL$36:$FL60)","v":0},0]
[26,{"$nulls":4},"N/A",{"$nulls":10},"","","",null,"","","",null,"","","",null,"","","",{"$nulls":5},"","","","","","","","",null,0,{"$nulls":3},"","","",null,"","","",null,"","","",null,"","","",{"$nulls":8},"",{"$nulls":4},"",{"$nulls":4},"",{"$nulls":15},"",{"$nulls":4},"",{"$nulls":4},"",{"$nulls":15},"",{"$nulls":4},"",{"$nulls":4},"",{"$nulls":15},"",{"$nulls":4},"",{"$nulls":4},"",{"$nulls":6},0,{"$f":"SUM($FL$36:$FL61)","v":0},0]
[27,{"$nulls":4},"N/A",{"$nulls":10},"","","",null,"","","",null,"","","",null,"","","",{"$nulls":5},"","","","","","","","",null,0,{"$nulls":3},"","","",null,"","","",null,"","","",null,"","","",{"$nulls":8},"",{"$nulls":4},"",{"$nulls":4},"",{"$nulls":15},"",{"$nulls":4},"",{"$nulls":4},"",{"$nulls":15},"",{"$nulls":4},"",{"$nulls":4},"",{"$nulls":15},"",{"$nulls":4},"",{"$nulls":4},"",{"$nulls":6},0,{"$f":"SUM($FL$36:$FL62)","v":0},0]
[28,{"$nulls":4},"N/A",{"$nulls":10},"","","",null,"","","",null,"","","",null,"","","",{"$nulls":5},"","","","","","","","",null,0,{"$nulls":3},"","","",null,"","","",null,"","","",null,"","","",{"$nulls":8},"",{"$nulls":4},"",{"$nulls":4},"",{"$nulls":15},"",{"$nulls":4},"",{"$nulls":4},"",{"$nulls":15},"",{"$nulls":4},"",{"$nulls":4},"",{"$nulls":15},"",{"$nulls":4},"",{"$nulls":4},"",{"$nulls":6},0,{"$f":"SUM($FL$36:$FL63)","v":0},0]
[29,{"$nulls":4},"N/A",{"$nulls":10},"","","",null,"","","",null,"","","",null,"","","",{"$nulls":5},"","","","","","","","",null,0,{"$nulls":3},"","","",null,"","","",null,"","","",null,"","","",{"$nulls":8},"",{"$nulls":4},"",{"$nulls":4},"",{"$nulls":15},"",{"$nulls":4},"",{"$nulls":4},"",{"$nulls":15},"",{"$nulls":4},"",{"$nulls":4},"",{"$nulls":15},"",{"$nulls":4},"",{"$nulls":4},"",{"$nulls":6},0,{"$f":"SUM($FL$36:$FL64)","v":0},0]
[30,{"$nulls":4},"N/A",{"$nulls":10},"","","",null,"","","",null,"","","",null,"","","",{"$nulls":5},"","","","","","","","",null,0,{"$nulls":3},"","","",null,"","","",null,"","","",null,"","","",{"$nulls":8},"",{"$nulls":4},"",{"$nulls":4},"",{"$nulls":15},"",{"$nulls":4},"",{"$nulls":4},"",{"$nulls":15},"",{"$nulls":4},"",{"$nulls":4},"",{"$nulls":15},"",{"$nulls":4},"",{"$nulls":4},"",{"$nulls":6},0,{"$f":"SUM($FL$36:$FL65)","v":0},0]
[31,{"$nulls":4},"N/A",{"$nulls":10},"","","",null,"","","",null,"","","",null,"","","",{"$nulls":5},"","","","","","","","",null,0,{"$nulls":3},"","","",null,"","","",null,"","","",null,"","","",{"$nulls":8},"",{"$nulls":4},"",{"$nulls":4},"",{"$nulls":15},"",{"$nulls":4},"",{"$nulls":4},"",{"$nulls":15},"",{"$nulls":4},"",{"$nulls":4},"",{"$nulls":15},"",{"$nulls":4},"",{"$nulls":4},"",{"$nulls":6},0,{"$f":"SUM($FL$36:$FL66)","v":0},0]
[32,{"$nulls":4},"N/A",{"$nulls":10},"","","",null,"","","",null,"","","",null,"","","",{"$nulls":5},"","","","","","","","",null,0,{"$nulls":3},"","","",null,"","","",null,"","","",null,"","","",{"$nulls":8},"",{"$nulls":4},"",{"$nulls":4},"",{"$nulls":15},"",{"$nulls":4},"",{"$nulls":4},"",{"$nulls":15},"",{"$nulls":4},"",{"$nulls":4},"",{"$nulls":15},"",{"$nulls":4},"",{"$nulls":4},"",{"$nulls":6},0,{"$f":"SUM($FL$36:$FL67)","v":0},0]
[33,{"$nulls":4},"N/A",{"$nulls":10},"","","",null,"","","",null,"","","",null,"","","",{"$nulls":5},"","","","","","","","",null,0,{"$nulls":3},"","","",null,"","","",null,"","","",null,"","","",{"$nulls":8},"",{"$nulls":4},"",{"$nulls":4},"",{"$nulls":15},"",{"$nulls":4},"",{"$nulls":4},"",{"$nulls":15},"",{"$nulls":4},"",{"$nulls":4},"",{"$nulls":15},"",{"$nulls":4},"",{"$nulls":4},"",{"$nulls":6},0,{"$f":"SUM($FL$36:$FL68)","v":0},0]
[34,{"$nulls":4},"N/A",{"$nulls":10},"","","",null,"","","",null,"","","",null,"","","",{"$nulls":5},"","","","","","","","",null,0,{"$nulls":3},"","","",null,"","","",null,"","","",null,"","","",{"$nulls":8},"",{"$nulls":4},"",{"$nulls":4},"",{"$nulls":15},"",{"$nulls":4},"",{"$nulls":4},"",{"$nulls":15},"",{"$nulls":4},"",{"$nulls":4},"",{"$nulls":15},"",{"$nulls":4},"",{"$nulls":4},"",{"$nulls":6},0,{"$f":"SUM($FL$36:$FL69)","v":0},0]
[35,{"$nulls":4},"N/A",{"$nulls":10},"","","",null,"","","",null,"","","",null,"","","",{"$nulls":5},"","","","","","","","",null,0,{"$nulls":3},"","","",null,"","","",null,"","","",null,"","","",{"$nulls":8},"",{"$nulls":4},"",{"$nulls":4},"",{"$nulls":15},"",{"$nulls":4},"",{"$nulls":4},"",{"$nulls":15},"",{"$nulls":4},"",{"$nulls":4},"",{"$nulls":15},"",{"$nulls":4},"",{"$nulls":4},"",{"$nulls":6},0,{"$f":"SUM($FL$36:$FL70)","v":0},0]
[36,{"$nulls":4},"N/A",{"$nulls":10},"","","",null,"","","",null,"","","",null,"","","",{"$nulls":5},"","","","","","","","",null,0,{"$nulls":3},"","","",null,"","","",null,"","","",null,"","","",{"$nulls":8},"",{"$nulls":4},"",{"$nulls":4},"",{"$nulls":15},"",{"$nulls":4},"",{"$nulls":4},"",{"$nulls":15},"",{"$nulls":4},"",{"$nulls":4},"",{"$nulls":15},"",{"$nulls":4},"",{"$nulls":4},"",{"$nulls":6},0,{"$f":"SUM($FL$36:$FL71)","v":0},0]
[37,{"$nulls":4},"N/A",{"$nulls":10},"","","",null,"","","",null,"","","",null,"","","",{"$nulls":5},"","","","","","","","",null,0,{"$nulls":3},"","","",null,"","","",null,"","","",null,"","","",{"$nulls":8},"",{"$nulls":4},"",{"$nulls":4},"",{"$nulls":15},"",{"$nulls":4},"",{"$nulls":4},"",{"$nulls":15},"",{"$nulls":4},"",{"$nulls":4},"",{"$nulls":15},"",{"$nulls":4},"",{"$nulls":4},"",{"$nulls":6},0,{"$f":"SUM($FL$36:$FL72)","v":0},0]
[38,{"$nulls":4},"N/A",{"$nulls":10},"","","",null,"","","",null,"","","",null,"","","",{"$nulls":5},"","","","","","","","",null,0,{"$nulls":3},"","","",null,"","","",null,"","","",null,"","","",{"$nulls":8},"",{"$nulls":4},"",{"$nulls":4},"",{"$nulls":15},"",{"$nulls":4},"",{"$nulls":4},"",{"$nulls":15},"",{"$nulls":4},"",{"$nulls":4},"",{"$nulls":15},"",{"$nulls":4},"",{"$nulls":4},"",{"$nulls":6},0,{"$f":"SUM($FL$36:$FL73)","v":0},0]
[39,{"$nulls":4},"N/A",{"$nulls":10},"","","",null,"","","",null,"","","",null,"","","",{"$nulls":5},"","","","","","","","",null,0,{"$nulls":3},"","","",null,"","","",null,"","","",null,"","","",{"$nulls":8},"",{"$nulls":4},"",{"$nulls":4},"",{"$nulls":15},"",{"$nulls":4},"",{"$nulls":4},"",{"$nulls":15},"",{"$nulls":4},"",{"$nulls":4},"",{"$nulls":15},"",{"$nulls":4},"",{"$nulls":4},"",{"$nulls":6},0,{"$f":"SUM($FL$36:$FL74)","v":0},0]
[40,{"$nulls":4},"N/A",{"$nulls":10},"","","",null,"","","",null,"","","",null,"","","",{"$nulls":5},"","","","","","","","",null,0,{"$nulls":3},"","","",null,"","","",null,"","","",null,"","","",{"$nulls":8},"",{"$nulls":4},"",{"$nulls":4},"",{"$nulls":15},"",{"$nulls":4},"",{"$nulls":4},"",{"$nulls":15},"",{"$nulls":4},"",{"$nulls":4},"",{"$nulls":15},"",{"$nulls":4},"",{"$nulls":4},"",{"$nulls":6},0,{"$f":"SUM($FL$36:$FL75)","v":0},0]
[41,{"$nulls":4},"N/A",{"$nulls":10},"","","",null,"","","",null,"","","",null,"","","",{"$nulls":5},"","","","","","","","",null,0,{"$nulls":3},"","","",null,"","","",null,"","","",null,"","","",{"$nulls":8},"",{"$nulls":4},"",{"$nulls":4},"",{"$nulls":15},"",{"$nulls":4},"",{"$nulls":4},"",{"$nulls":15},"",{"$nulls":4},"",{"$nulls":4},"",{"$nulls":15},"",{"$nulls":4},"",{"$nulls":4},"",{"$nulls":6},0,{"$f":"SUM($FL$36:$FL76)","v":0},0]
[42,{"$nulls":4},"N/A",{"$nulls":10},"","","",null,"","","",null,"","","",null,"","","",{"$nulls":5},"","","","","","","","",null,0,{"$nulls":3},"","","",null,"","","",null,"","","",null,"","","",{"$nulls":8},"",{"$nulls":4},"",{"$nulls":4},"",{"$nulls":15},"",{"$nulls":4},"",{"$nulls":4},"",{"$nulls":15},"",{"$nulls":4},"",{"$nulls":4},"",{"$nulls":15},"",{"$nulls":4},"",{"$nulls":4},"",{"$nulls":6},0,{"$f":"SUM($FL$36:$FL77)","v":0},0]
[43,{"$nulls":4},"N/A",{"$nulls":10},"","","",null,"","","",null,"","","",null,"","","",{"$nulls":5},"","","","","","","","",null,0,{"$nulls":3},"","","",null,"","","",null,"","","",null,"","","",{"$nulls":8},"",{"$nulls":4},"",{"$nulls":4},"",{"$nulls":15},"",{"$nulls":4},"",{"$nulls":4},"",{"$nulls":15},"",{"$nulls":4},"",{"$nulls":4},"",{"$nulls":15},"",{"$nulls":4},"",{"$nulls":4},"",{"$nulls":6},0,{"$f":"SUM($FL$36:$FL78)","v":0},0]
[44,{"$nulls":4},"N/A",{"$nulls":10},"","","",null,"","","",null,"","","",null,"","","",{"$nulls":5},"","","","","","","","",null,0,{"$nulls":3},"","","",null,"","","",null,"","","",null,"","","",{"$nulls":8},"",{"$nulls":4},"",{"$nulls":4},"",{"$nulls":15},"",{"$nulls":4},"",{"$nulls":4},"",{"$nulls":15},"",{"$nulls":4},"",{"$nulls":4},"",{"$nulls":15},"",{"$nulls":4},"",{"$nulls":4},"",{"$nulls":6},0,{"$f":"SUM($FL$36:$FL79)","v":0},0]
[45,{"$nulls":4},"N/A",{"$nulls":10},"","","",null,"","","",null,"","","",null,"","","",{"$nulls":5},"","","","","","","","",null,0,{"$nulls":3},"","","",null,"","","",null,"","","",null,"","","",{"$nulls":8},"",{"$nulls":4},"",{"$nulls":4},"",{"$nulls":15},"",{"$nulls":4},"",{"$nulls":4},"",{"$nulls":15},"",{"$nulls":4},"",{"$nulls":4},"",{"$nulls":15},"",{"$nulls":4},"",{"$nulls":4},"",{"$nulls":6},0,{"$f":"SUM($FL$36:$FL80)","v":0},0]
[46,{"$nulls":4},"N/A",{"$nulls":10},"","","",null,"","","",null,"","","",null,"","","",{"$nulls":5},"","","","","","","","",null,0,{"$nulls":3},"","","",null,"","","",null,"","","",null,"","","",{"$nulls":8},"",{"$nulls":4},"",{"$nulls":4},"",{"$nulls":15},"",{"$nulls":4},"",{"$nulls":4},"",{"$nulls":15},"",{"$nulls":4},"",{"$nulls":4},"",{"$nulls":15},"",{"$nulls":4},"",{"$nulls":4},"",{"$nulls":6},0,{"$f":"SUM($FL$36:$FL81)","v":0},0]
[47,{"$nulls":4},"N/A",{"$nulls":10},"","","",null,"","","",null,"","","",null,"","","",{"$nulls":5},"","","","","","","","",null,0,{"$nulls":3},"","","",null,"","","",null,"","","",null,"","","",{"$nulls":8},"",{"$nulls":4},"",{"$nulls":4},"",{"$nulls":15},"",{"$nulls":4},"",{"$nulls":4},"",{"$nulls":15},"",{"$nulls":4},"",{"$nulls":4},"",{"$nulls":15},"",{"$nulls":4},"",{"$nulls":4},"",{"$nulls":6},0,{"$f":"SUM($FL$36:$FL82)","v":0},0]
[48,{"$nulls":4},"N/A",{"$nulls":10},"","","",null,"","","",null,"","","",null,"","","",{"$nulls":5},"","","","","","","","",null,0,{"$nulls":3},"","","",null,"","","",null,"","","",null,"","","",{"$nulls":8},"",{"$nulls":4},"",{"$nulls":4},"",{"$nulls":15},"",{"$nulls":4},"",{"$nulls":4},"",{"$nulls":15},"",{"$nulls":4},"",{"$nulls":4},"",{"$nulls":15},"",{"$nulls":4},"",{"$nulls":4},"",{"$nulls":6},0,{"$f":"SUM($FL$36:$FL83)","v":0},0]
[49,{"$nulls":4},"N/A",{"$nulls":10},"","","",null,"","","",null,"","","",null,"","","",{"$nulls":5},"","","","","","","","",null,0,{"$nulls":3},"","","",null,"","","",null,"","","",null,"","","",{"$nulls":8},"",{"$nulls":4},"",{"$nulls":4},"",{"$nulls":15},"",{"$nulls":4},"",{"$nulls":4},"",{"$nulls":15},"",{"$nulls":4},"",{"$nulls":4},"",{"$nulls":15},"",{"$nulls":4},"",{"$nulls":4},"",{"$nulls":6},0,{"$f":"SUM($FL$36:$FL84)","v":0},0]
[50,{"$nulls":4},"N/A",{"$nulls":10},"","","",null,"","","",null,"","","",null,"","","",{"$nulls":5},"","","","","","","","",null,0,{"$nulls":3},"","","",null,"","","",null,"","","",null,"",{"$f":"IF($B85=\"Y\",IF(AND($AC85<>\"\",$AQ84<>\"\",$AR84<>\"\"),($AC85+$AQ84)/($AR84+1),\"\"),\"\")","v":""},"",{"$nulls":8},"",{"$nulls":4},"",{"$nulls":4},"",{"$nulls":15},"",{"$nulls":4},"",{"$nulls":4},"",{"$nulls":15},"",{"$nulls":4},"",{"$nulls":4},"",{"$nulls":15},"",{"$nulls":4},"",{"$nulls":4},"",{"$nulls":6},0,{"$f":"SUM($FL$36:$FL85)","v":0},0]
[null,null,{"$f":"SUM(C36:C85)","v":0}]
["g/bhp-hr"]
["g/kW-hr"]

{"sheet":"Engine Family #14","index":16,"n_rows":88,"n_cols":176,"rows_kept":88,"merged":[[1,0,1,35],[2,0,2,35],[3,0,3,35],[4,0,4,35],[5,0,5,35],[6,0,6,35],[10,4,10,6],[10,12,10,13],[11,4,11,6],[11,15,11,16],[11,19,11,20],[11,23,11,24],[11,27,11,28],[12,4,12,6],[13,4,13,6],[14,4,15,6],[17,14,22,14],[27,4,30,13],[27,15,28,16],[32,0,32,35],[33,45,34,45]]}
[]
["United States"]
["US Environmental Protection Agency"]
["Office of Air and Radiation, Office of Transportation and Air Quality"]
[{"$nulls":37},"Tier 2","Y",94]
["Manufacturer Production Line Testing Report for Marine Compression Ignition Engines",{"$nulls":36},"Tier 3","N",1042]
[{"$f":"Summary!B7","v":"Version Number: 1.4 DRAFT  Last Revision: September 2023"},{"$nulls":36},"Tier 4",null,"N/A"]
[]
["Basic Information: Engine Family #14"]
[{"$nulls":167},{"$f":"IF(AND($G$24=94,Summary!$L$13=\"Category 1\"),0,1)","v":1}]
[null,null,"Manufacturer:",null,{"$f":"IF(Summary!D12<>\"\",Summary!D12,\"\")","v":""},{"$nulls":3},"Engine Family:",{"$nulls":31},{"$f":"IF($G$19=\"Diesel\",\"'HC' refers to 'THC' \",IF($G$19=\"Natural Gas\",\"'HC' refers to 'NMHC' \",IF($G$19=\"Alcohol\",\"'HC' refers to 'THCE' \",\"\")))","v":""}]
[null,null,"PLT Test Contact:",null,{"$f":"IF(Summary!D13<>\"\",Summary!D13,\"\")","v":""},{"$nulls":3},"Production (Category 3 only):",{"$nulls":6},{"$f":"IF(N16<>\"Y\", \"Current CO Result\", \"Final CO Result\")","v":"Current CO Result"},null,{"$f":"$CJ$36","v":""},null,{"$f":"IF(N16<>\"Y\", \"Current PM Result\", \"Final PM Result\")","v":"Current PM Result"},null,{"$f":"$DJ$36","v":""},null,{"$f":"IF($AF$12=\"Y\",IF(N16<>\"Y\", \"Current NOx+HC Result\", \"Final NOx+HC Result\"),IF(N16<>\"Y\", \"Current HC Result\", \"Final HC Result\"))","v":"Current HC Result"},null,{"$f":"IF($AF$12=\"Y\",IF($FP$36>0,ROUND($EJ$36+$FJ$36,2),\"\"),$EJ$36)","v":""},null,{"$f":"IF(N16<>\"Y\", \"Current NOx Result\",\"Final NOx Result\")","v":"Current NOx Result"},null,{"$f":"$FJ$36","v":""},null,{"$f":"IF($L$13<>\"Category 3\",IF($G$23=\"\",\"N\",$G$23),\"N\")","v":"N"},{"$f":"IF(Summary!$L$13=\"Category 3\",\"CAT3\",\"\")","v":""}]
[null,null,"Email Address:",null,{"$f":"IF(Summary!D14<>\"\",Summary!D14,\"\")","v":""},{"$nulls":3},"Date of Start of Model Year Production:"]
[null,null,"Phone #:",null,{"$f":"IF(Summary!D15<>\"\",Summary!D15,\"\")","v":""},{"$nulls":3},"Date of End of Model Year Production:",{"$nulls":14},{"$f":"IF($G$19=\"Diesel\",\"'HC' refers to 'THC' \",IF($G$19=\"Natural Gas\",\"'HC' refers to 'NMHC' \",IF($G$19=\"Alcohol\",\"'HC' refers to 'THCE' \",\"\")))","v":""},{"$nulls":13},"Diesel",1,{"$nulls":6},1]
[null,null,"Test Location & Description:",{"$nulls":5},"Deterioration Factor Type:",{"$nulls":28},"Natural Gas",2,{"$nulls":6},2]
[{"$nulls":8},"Include Results from this Engine Family on Summary Sheet?",{"$nulls":6},"CO Standard ",{"$nulls":3},"PM Standard or FEL",{"$nulls":3},{"$f":"IF($AF$12=\"Y\",\"NOx+HC Standard or FEL\",\"HC Standard\")","v":"HC Standard"},{"$nulls":3},"NOx Standard or FEL",{"$nulls":9},"Alcohol",3,{"$nulls":6},3]
[null,null,"Carryover?:",{"$nulls":5},"Required Tests (including failure follow-ups)",{"$nulls":4},{"$f":"$FO36","v":0},null,"Units",null,"g/kW-hr",null,"Units",null,"g/kW-hr",null,"Units",null,"g/kW-hr",null,"Units",null,"g/kW-hr",{"$nulls":4},"Test Cycle Options",{"$nulls":10},4]
[null,null,{"$f":"IF($G$17=\"Y\",\"Please submit supporting documentation indicating that this is a carry-over engine family\",\"\")","v":""},{"$nulls":5},"Instead of testing, are PLT requirements for this Engine Family",{"$nulls":6},"CO  Det Factor",{"$nulls":3},"PM  Det Factor",{"$nulls":3},"HC Det Factor",{"$nulls":3},"NOx  Det Factor",{"$nulls":6},"1 = 4-Mode General Cycle (E3)",null,null,"Recreational"]
[null,null,"Fuel Type:",{"$nulls":5}," fulfilled under the following (Category 1 only)?",{"$nulls":6},"Det Factor Type",null,{"$f":"IF($N$15<>\"\",$N$15,\"\")","v":""},null,"Det Factor Type",null,{"$f":"IF($N$15<>\"\",$N$15,\"\")","v":""},null,"Det Factor Type",null,{"$f":"IF($N$15<>\"\",$N$15,\"\")","v":""},null,"Det Factor Type",null,{"$f":"IF($N$15<>\"\",$N$15,\"\")","v":""},{"$nulls":4},"2 = 5-Mode Recreational Cycle (E5)",null,null,"Commercial"]
[null,null,"Recreational/Commercial:",{"$nulls":5},"Please elaborate in the comments section.",{"$nulls":6},"CO Green Engine Factor",{"$nulls":3},"PM Green Engine Factor",{"$nulls":3},"HC Green Engine Factor",{"$nulls":3},"NOx Green Engine Factor",{"$nulls":6},"3 = 4-Mode Constant Speed Propulsion Cycle (E2)"]
[null,null,"Model Year:",{"$nulls":5},"    -1042.310(a) - EPA approved combining it, for PLT purposes only.",{"$nulls":25},"4 = 5-Mode Constant Speed Auxiliary Cycle (D2)"]
[null,null,"Tier:",{"$nulls":31},"5 = 6-Mode Variable Speed Auxiliary Cycle (G2)",null,null,"1 (E3)"]
[null,null,"Combined NOx+HC?",{"$nulls":31},"6 = 8-Mode Variable Speed Ausiliary Cycle (C1)",null,null,"2 (E5)"]
[null,null,"40 CFR Part:",{"$nulls":3},{"$f":"AN6","v":1042},null,"Additional testing required by EPA [40 CFR 1042.301(e)]? ",{"$nulls":25},"O = Other",null,null,"3 (E2)"]
[{"$nulls":37},"4 (D2)"]
[{"$nulls":37},"5 (G2)",{"$nulls":132},"deleted and redirected"]
[{"$nulls":22}," ",{"$nulls":14},"6 (C1)",4,{"$nulls":6},4]
[null,null,"Comments:",{"$nulls":34},"O (other)"]
[{"$nulls":22}," ",{"$nulls":22},"additive"]
[{"$nulls":45},"multiplicative",{"$nulls":22},"CO Rounding",{"$nulls":4},"CO Rounding",{"$nulls":4},"CO Rounding",{"$nulls":4},"CO Rounding",{"$nulls":10},"PM Rounding",{"$nulls":4},"PM Rounding",{"$nulls":4},"PM Rounding",{"$nulls":4},"PM Rounding",{"$nulls":10},"HC Rounding",{"$nulls":4},"HC Rounding",{"$nulls":4},"HC Rounding",{"$nulls":4},"HC Rounding",{"$nulls":10},"NOx Rounding",{"$nulls":4},"NOx Rounding",{"$nulls":4},"NOx Rounding",{"$nulls":4},"NOx Rounding"]
[{"$nulls":22}," ",{"$nulls":45},"initial",{"$nulls":4},"final",{"$nulls":4}," det final",{"$nulls":4},"ave of all final",{"$nulls":10},"initial",{"$nulls":4},"final",{"$nulls":4}," det final",{"$nulls":4},"ave of all final",{"$nulls":10},"initial",{"$nulls":4},"final",{"$nulls":4}," det final",{"$nulls":4},"ave of all final",{"$nulls":10},"initial",{"$nulls":4},"final",{"$nulls":4}," det final",{"$nulls":4},"ave of all final"]
[{"$nulls":38},"Y",{"$nulls":6},"Y"]
["PLT Engine Test Results: Engine Family #14",{"$nulls":37},"N",{"$nulls":6},"N",{"$nulls":124},"This is N17"]
[{"$nulls":36},"CO",null,"PM",null,null,"HC or HC+NOX",null,"Nox",null,"Engine Data Complete?",{"$nulls":11},"HC","HC","HC","HC","Nox","Nox","Nox","Nox",{"$nulls":107},"1% of production or pre-approved reduced sample size - whichever is Lower # "]
[null,"Calc Final Result?","Test Number","Test Date","Test Time","Test Qtr","Engine ID","Engine Make","Engine Configuration","Build Date","Green Engine Factor Applied?","Green Engine Factor Determination Method","Service Hours (or miles) Accumulation","Service Hours Location","Service Acc. Procedure","CO Initial Result ","Rounded CO Initial Result ","CO Final Result ","Det. CO Final Result ","PM Initial Result ","Rounded PM Initial Result ","PM Final Result ","Det. PM Final Result ","HC Initial Result ","Rounded HC Initial Result ","HC Final Result ","Det. HC Final Result ","NOx Initial Result ","Rounded NOx Initial Result ","NOx Final Result ","Det. NOx Final Result ","Reason for Failed Test (if applicable)","Remedy","Repairs","Test Cycle","Comments",0,0,0,0,0,0,0,0,{"$nulls":5},"Unrounded initial CO","Unrounded final CO","Det CO","Final CO","Unrounded initial PM","Unrounded final PM","Det PM","Final PM","Unrounded initial HCNOx","Unrounded final HCNOx","Det HCNOx","Final HCNOX","Unrounded initial NOx","Unrounded final NOx","Det NOx","Final HCNOX",{"$nulls":7},"rounded",{"$nulls":4},"rounded",{"$nulls":4},"rounded",{"$nulls":4},"rounded",{"$nulls":10},"rounded",{"$nulls":4},"rounded",{"$nulls":4},"rounded",{"$nulls":4},"rounded",{"$nulls":10},"rounded",{"$nulls":4},"rounded",{"$nulls":4},"rounded",{"$nulls":4},"rounded","ROUNDED AND ACCOUNT FOR BLANK",{"$nulls":9},"rounded",{"$nulls":4},"rounded",{"$nulls":4},"rounded",{"$nulls":4},"rounded","ROUNDED AND ACCOUNT FOR BLANK","Test complete Flag","Total complete","Fail Flag","req","val","baseline req","req due to fails","sum fails","baseline req"]
[1,{"$nulls":4},"N/A",{"$nulls":10},{"$f":"$BU36","v":""},{"$f":"$BZ36","v":""},{"$f":"$CE36","v":""},null,{"$f":"$CU36","v":""},{"$f":"$CZ36","v":""},{"$f":"$DE36","v":""},null,{"$f":"$DU36","v":""},{"$f":"$DZ36","v":""},{"$f":"$EE36","v":""},null,{"$f":"$EU36","v":""},{"$f":"$EZ36","v":""},{"$f":"$FE36","v":""},{"$nulls":5},{"$f":"IF($B36=\"N\",IF(AND($AK35<>\"\",$Q36<>\"\"),$AK35+$Q36,\"\"),IF($B36=\"Y\",0,\"\"))","v":""},{"$f":"IF($B36=\"N\",AL35+1,IF($B36=\"Y\",0,\"\"))","v":""},{"$f":"IF($B36=\"N\",IF(AND($AM35<>\"\",$U36<>\"\"),$AM35+$U36,\"\"),IF($B36=\"Y\",0,\"\"))","v":""},{"$f":"IF($B36=\"N\",AN35+1,IF($B36=\"Y\",0,\"\"))","v":""},{"$f":"IF($B36=\"N\",IF(AND($AO35<>\"\",$Y36<>\"\"),$AO35+$Y36,\"\"),IF($B36=\"Y\",0,\"\"))","v":""},{"$f":"IF($B36=\"N\",AP35+1,IF($B36=\"Y\",0,\"\"))","v":""},{"$f":"IF($B36=\"N\",IF(AND($AQ35<>\"\",$AC36<>\"\"),$AQ35+$AC36,\"\"),IF($B36=\"Y\",0,\"\"))","v":""},{"$f":"IF($B36=\"N\",AR35+1,IF($B36=\"Y\",0,\"\"))","v":""},null,{"$f":"IF(AND(B36<>\"\",C36<>\"\",D36<>\"\",E36<>\"\",G36<>\"\",H36<>\"\",I36<>\"\",J36<>\"\",K36<>\"\",M36<>\"\",N36<>\"\",O36<>\"\"),1,0)","v":0},{"$nulls":3},{"$f":"IF(AND($P36<>\"\",$AT36=1),$P36,\"\")","v":""},{"$f":"IF($B36=\"Y\",IF(AND($Q36<>\"\",$AK35<>\"\",$AL35<>\"\"),($Q36+$AK35)/($AL35+1),\"\"),\"\")","v":""},{"$f":"IF(AND($B36=\"Y\",$R36<>\"\",$R$18<>\"\"),IF($R$19=\"additive\",$R36+$R$18,IF($R$19=\"multiplicative\",$R36*$R$18,\"\")),\"\")","v":""},{"$f":"IF(COUNT($S$36:$S$85)>0,AVERAGE($S$36:$S$85),\"\")","v":""},{"$f":"IF(AND($T36<>\"\",$AT36=1),$T36,\"\")","v":""},{"$f":"IF($B36=\"Y\",IF(AND($U36<>\"\",$AM35<>\"\",$AN35<>\"\"),($U36+$AM35)/($AN35+1),\"\"),\"\")","v":""},{"$f":"IF(AND($B36=\"Y\",$V36<>\"\",$V$18<>\"\"),IF($V$19=\"additive\",$V36+$V$18,IF($V$19=\"multiplicative\",$V36*$V$18,\"\")),\"\")","v":""},{"$f":"IF(COUNT($W$36:$W$85)>0,AVERAGE($W$36:$W$85),\"\")","v":""},{"$f":"IF(AND($X36<>\"\",$AT36=1),$X36,\"\")","v":""},{"$f":"IF($B36=\"Y\",IF(AND($Y36<>\"\",$AO35<>\"\",$AP35<>\"\"),($Y36+$AO35)/($AP35+1),\"\"),\"\")","v":""},{"$f":"IF(AND($B36=\"Y\",$Z36<>\"\",$Z$18<>\"\"),IF($Z$19=\"additive\",$Z36+$Z$18,IF($Z$19=\"multiplicative\",$Z36*$Z$18,\"\")),\"\")","v":""},{"$f":"IF(COUNT($AA$36:$AA$85)>0,AVERAGE($AA$36:$AA$85),\"\")","v":""},{"$f":"IF(AND($AB36<>\"\",$AT36=1),$AB36,\"\")","v":""},{"$f":"IF($B36=\"Y\",IF(AND($AC36<>\"\",$AQ35<>\"\",$AR35<>\"\"),($AC36+$AQ35)/($AR35+1),\"\"),\"\")","v":""},{"$f":"IF(AND($B36=\"Y\",$AD36<>\"\",$AD$18<>\"\"),IF($AD$19=\"additive\",$AD36+$AD$18,IF($AD$19=\"multiplicative\",$AD36*$AD$18,\"\")),\"\")","v":""},{"$f":"IF(COUNT($AE$36:$AE$85)>0,AVERAGE($AE$36:$AE$85),\"\")","v":""},{"$nulls":7},{"$f":"IF($AX36<>\"\",ROUND($AX36,2),\"\")","v":""},{"$nulls":4},{"$f":"IF($AY36<>\"\",ROUND($AY36,2),\"\")","v":""},{"$nulls":4},{"$f":"IF($AZ36<>\"\",ROUND($AZ36,2),\"\")","v":""},{"$nulls":4},{"$f":"IF($BA36<>\"\",ROUND($BA36,2),\"\")","v":""},{"$nulls":10},{"$f":"IF($BB36<>\"\",ROUND($BB36,3),\"\")","v":""},{"$nulls":4},{"$f":"IF($BC36<>\"\",ROUND($BC36,3),\"\")","v":""},{"$nulls":4},{"$f":"IF($BD36<>\"\",ROUND($BD36,3),\"\")","v":""},{"$nulls":4},{"$f":"IF($BE36<>\"\",ROUND($BE36,3),\"\")","v":""},{"$nulls":10},{"$f":"IF($BF36<>\"\",ROUND($BF36,3),\"\")","v":""},{"$nulls":4},{"$f":"IF($BG36<>\"\",ROUND($BG36,3),\"\")","v":""},{"$nulls":4},{"$f":"IF($BH36<>\"\",ROUND($BH36,3),\"\")","v":""},{"$nulls":4},{"$f":"IF($BI36<>\"\",ROUND($BI36,3),\"\")","v":""},{"$f":"IF(EJ36=\"\",0,EJ36)","v":0},{"$nulls":9},{"$f":"IF($BJ36<>\"\",ROUND($BJ36,2),\"\")","v":""},{"$nulls":4},{"$f":"IF($BK36<>\"\",ROUND($BK36,2),\"\")","v":""},{"$nulls":4},{"$f":"IF($BL36<>\"\",ROUND($BL36,2),\"\")","v":""},{"$nulls":4},{"$f":"IF($BM36<>\"\",ROUND($BM36,2),\"\")","v":""},{"$f":"IF(FJ36=\"\",0,FJ36)","v":0},{"$f":"IF($AG$12<>\"CAT3\",IF(AND($B36=\"Y\",$S36<>\"\",$W36<>\"\",$AA36<>\"\",$AE36<>\"\"),1,0),IF($AE36<>\"\",1,0))","v":0},{"$f":"SUM($FL$36:$FL36)","v":0},{"$f":"IF($AG$12<>\"CAT3\",IF($FL36=1,IF(OR($S36>$R$16,$W36>$V$16,$AA36>$Z$16,IF($AF$12<>\"Y\",OR($AA36>$Z$16,$AE36>$AD$16),ROUND(($AA36+$AE36),2)>$Z$16)),1,0),0),IF($FL36=1,IF(AND($AE36>$AD$16,$AF$12=\"N\"),1,0),0))","v":0},{"$f":"IF(OR($M$11=\"\",$N$18=\"Y\"),0,IF($AG$12=\"CAT3\",$N$12,($FR$36+1)))","v":0},{"$f":"SUM(FL36:FL85)","v":0},{"$f":"IF(AND($G$17=\"Y\",$N$24<>\"\"),MIN($N$24,$FT$36),$FT$36)","v":0},{"$f":"$FS$36*2","v":0},{"$f":"SUM(FN36:FN85)","v":0},{"$f":"IF($N$12<>\"\",$N$12*0.01,0)","v":0}]
[{"$f":"A36+1","v":2},{"$nulls":4},"N/A",{"$nulls":10},"","","",null,"","","",null,"","","",null,"","","",{"$nulls":5},"",{"$f":"IF($B37=\"N\",AL36+1,IF($B37=\"Y\",0,\"\"))","v":""},"",{"$f":"IF($B37=\"N\",AN36+1,IF($B37=\"Y\",0,\"\"))","v":""},{"$f":"IF($B37=\"N\",IF(AND($AO36<>\"\",$Y37<>\"\"),$AO36+$Y37,\"\"),IF($B37=\"Y\",0,\"\"))","v":""},{"$f":"IF($B37=\"N\",AP36+1,IF($B37=\"Y\",0,\"\"))","v":""},{"$f":"IF($B37=\"N\",IF(AND($AQ36<>\"\",$AC37<>\"\"),$AQ36+$AC37,\"\"),IF($B37=\"Y\",0,\"\"))","v":""},{"$f":"IF($B37=\"N\",AR36+1,IF($B37=\"Y\",0,\"\"))","v":""},null,{"$f":"IF(AND(B37<>\"\",C37<>\"\",D37<>\"\",E37<>\"\",G37<>\"\",H37<>\"\",I37<>\"\",J37<>\"\",K37<>\"\",M37<>\"\",N37<>\"\",O37<>\"\"),1,0)","v":0},{"$nulls":3},"","",{"$f":"IF(AND($B37=\"Y\",$R37<>\"\",$R$18<>\"\"),IF($R$19=\"additive\",$R37+$R$18,IF($R$19=\"multiplicative\",$R37*$R$18,\"\")),\"\")","v":""},null,"","",{"$f":"IF(AND($B37=\"Y\",$V37<>\"\",$V$18<>\"\"),IF($V$19=\"additive\",$V37+$V$18,IF($V$19=\"multiplicative\",$V37*$V$18,\"\")),\"\")","v":""},null,{"$f":"IF(AND($X37<>\"\",$AT37=1),$X37,\"\")","v":""},{"$f":"IF($B37=\"Y\",IF(AND($Y37<>\"\",$AO36<>\"\",$AP36<>\"\"),($Y37+$AO36)/($AP36+1),\"\"),\"\")","v":""},{"$f":"IF(AND($B37=\"Y\",$Z37<>\"\",$Z$18<>\"\"),IF($Z$19=\"additive\",$Z37+$Z$18,IF($Z$19=\"multiplicative\",$Z37*$Z$18,\"\")),\"\")","v":""},null,{"$f":"IF(AND($AB37<>\"\",$AT37=1),$AB37,\"\")","v":""},{"$f":"IF($B37=\"Y\",IF(AND($AC37<>\"\",$AQ36<>\"\",$AR36<>\"\"),($AC37+$AQ36)/($AR36+1),\"\"),\"\")","v":""},{"$f":"IF(AND($B37=\"Y\",$AD37<>\"\",$AD$18<>\"\"),IF($AD$19=\"additive\",$AD37+$AD$18,IF($AD$19=\"multiplicative\",$AD37*$AD$18,\"\")),\"\")","v":""},{"$nulls":8},{"$f":"IF($AX37<>\"\",ROUND($AX37,2),\"\")","v":""},{"$nulls":4},{"$f":"IF($AY37<>\"\",ROUND($AY37,2),\"\")","v":""},{"$nulls":4},{"$f":"IF($AZ37<>\"\",ROUND($AZ37,2),\"\")","v":""},{"$nulls":15},{"$f":"IF($BB37<>\"\",ROUND($BB37,3),\"\")","v":""},{"$nulls":4},{"$f":"IF($BC37<>\"\",ROUND($BC37,3),\"\")","v":""},{"$nulls":4},{"$f":"IF($BD37<>\"\",ROUND($BD37,3),\"\")","v":""},{"$nulls":15},{"$f":"IF($BF37<>\"\",ROUND($BF37,3),\"\")","v":""},{"$nulls":4},{"$f":"IF($BG37<>\"\",ROUND($BG37,3),\"\")","v":""},{"$nulls":4},{"$f":"IF($BH37<>\"\",ROUND($BH37,3),\"\")","v":""},{"$nulls":15},{"$f":"IF($BJ37<>\"\",ROUND($BJ37,2),\"\")","v":""},{"$nulls":4},{"$f":"IF($BK37<>\"\",ROUND($BK37,2),\"\")","v":""},{"$nulls":4},{"$f":"IF($BL37<>\"\",ROUND($BL37,2),\"\")","v":""},{"$nulls":6},{"$f":"IF($AG$12<>\"CAT3\",IF(AND($B37=\"Y\",$S37<>\"\",$W37<>\"\",$AA37<>\"\",$AE37<>\"\"),1,0),IF($AE37<>\"\",1,0))","v":0},{"$f":"SUM($FL$36:$FL37)","v":0},{"$f":"IF($AG$12<>\"CAT3\",IF($FL37=1,IF(OR($S37>$R$16,$W37>$V$16,$AA37>$Z$16,IF($AF$12<>\"Y\",OR($AA37>$Z$16,$AE37>$AD$16),ROUND(($AA37+$AE37),2)>$Z$16)),1,0),0),IF($FL37=1,IF(AND($AE37>$AD$16,$AF$12=\"N\"),1,0),0))","v":0},null,null,{"$f":"MAX($FQ$36,$FL$10)","v":1}]
[{"$f":"A37+1","v":3},{"$nulls":4},"N/A",{"$nulls":10},"","","",null,"","","",null,"","","",null,"","","",{"$nulls":5},"","","","","","","","",null,0,{"$nulls":3},"","","",null,"","","",null,"","","",null,"","","",{"$nulls":8},"",{"$nulls":4},"",{"$nulls":4},"",{"$nulls":15},"",{"$nulls":4},"",{"$nulls":4},"",{"$nulls":15},"",{"$nulls":4},"",{"$nulls":4},"",{"$nulls":15},"",{"$nulls":4},"",{"$nulls":4},"",{"$nulls":6},0,{"$f":"SUM($FL$36:$FL38)","v":0},0]
[4,{"$nulls":4},"N/A",{"$nulls":10},"","","",null,"","","",null,"","","",null,"","","",{"$nulls":5},"","","","","","","","",null,0,{"$nulls":3},"","","",null,"","","",null,"","","",null,"","","",{"$nulls":8},"",{"$nulls":4},"",{"$nulls":4},"",{"$nulls":15},"",{"$nulls":4},"",{"$nulls":4},"",{"$nulls":15},"",{"$nulls":4},"",{"$nulls":4},"",{"$nulls":15},"",{"$nulls":4},"",{"$nulls":4},"",{"$nulls":6},0,{"$f":"SUM($FL$36:$FL39)","v":0},0,null,null,"then, the larger of that sample size or 1  (or if Part 94 and cat1,  can be 0)"]
[5,{"$nulls":4},"N/A",{"$nulls":10},"","","",null,"","","",null,"","","",null,"","","",{"$nulls":5},"","","","","","","","",null,0,{"$nulls":3},"","","",null,"","","",null,"","","",null,"","","",{"$nulls":8},"",{"$nulls":4},"",{"$nulls":4},"",{"$nulls":15},"",{"$nulls":4},"",{"$nulls":4},"",{"$nulls":15},"",{"$nulls":4},"",{"$nulls":4},"",{"$nulls":15},"",{"$nulls":4},"",{"$nulls":4},"",{"$nulls":6},0,{"$f":"SUM($FL$36:$FL40)","v":0},0]
[6,{"$nulls":4},"N/A",{"$nulls":10},"","","",null,"","","",null,"","","",null,"","","",{"$nulls":5},"","","","","","","","",null,0,{"$nulls":3},"","","",null,"","","",null,"","","",null,"","","",{"$nulls":8},"",{"$nulls":4},"",{"$nulls":4},"",{"$nulls":15},"",{"$nulls":4},"",{"$nulls":4},"",{"$nulls":15},"",{"$nulls":4},"",{"$nulls":4},"",{"$nulls":15},"",{"$nulls":4},"",{"$nulls":4},"",{"$nulls":6},0,{"$f":"SUM($FL$36:$FL41)","v":0},0]
[7,{"$nulls":4},"N/A",{"$nulls":10},"","","",null,"","","",null,"","","",null,"","","",{"$nulls":5},"","","","","","","","",null,0,{"$nulls":3},"","","",null,"","","",null,"","","",null,"","","",{"$nulls":8},"",{"$nulls":4},"",{"$nulls":4},"",{"$nulls":15},"",{"$nulls":4},"",{"$nulls":4},"",{"$nulls":15},"",{"$nulls":4},"",{"$nulls":4},"",{"$nulls":15},"",{"$nulls":4},"",{"$nulls":4},"",{"$nulls":6},0,{"$f":"SUM($FL$36:$FL42)","v":0},0]
[8,{"$nulls":4},"N/A",{"$nulls":10},"","","",null,"","","",null,"","","",null,"","","",{"$nulls":5},"","","","","","","","",null,0,{"$nulls":3},"","","",null,"","","",null,"","","",null,"","","",{"$nulls":8},"",{"$nulls":4},"",{"$nulls":4},"",{"$nulls":15},"",{"$nulls":4},"",{"$nulls":4},"",{"$nulls":15},"",{"$nulls":4},"",{"$nulls":4},"",{"$nulls":15},"",{"$nulls":4},"",{"$nulls":4},"",{"$nulls":6},0,{"$f":"SUM($FL$36:$FL43)","v":0},0]
[9,{"$nulls":4},"N/A",{"$nulls":10},"","","",null,"","","",null,"","","",null,"","","",{"$nulls":5},"","","","","","","","",null,0,{"$nulls":3},"","","",null,"","","",null,"","","",null,"","","",{"$nulls":8},"",{"$nulls":4},"",{"$nulls":4},"",{"$nulls":15},"",{"$nulls":4},"",{"$nulls":4},"",{"$nulls":15},"",{"$nulls":4},"",{"$nulls":4},"",{"$nulls":15},"",{"$nulls":4},"",{"$nulls":4},"",{"$nulls":6},0,{"$f":"SUM($FL$36:$FL44)","v":0},0]
[10,{"$nulls":4},"N/A",{"$nulls":10},"","","",null,"","","",null,"","","",null,"","","",{"$nulls":5},"","","","","","","","",null,0,{"$nulls":3},"","","",null,"","","",null,"","","",null,"","","",{"$nulls":8},"",{"$nulls":4},"",{"$nulls":4},"",{"$nulls":15},"",{"$nulls":4},"",{"$nulls":4},"",{"$nulls":15},"",{"$nulls":4},"",{"$nulls":4},"",{"$nulls":15},"",{"$nulls":4},"",{"$nulls":4},"",{"$nulls":6},0,{"$f":"SUM($FL$36:$FL45)","v":0},0]
[11,{"$nulls":4},"N/A",{"$nulls":10},"","","",null,"","","",null,"","","",null,"","","",{"$nulls":5},"","","","","","","","",null,0,{"$nulls":3},"","","",null,"","","",null,"","","",null,"","","",{"$nulls":8},"",{"$nulls":4},"",{"$nulls":4},"",{"$nulls":15},"",{"$nulls":4},"",{"$nulls":4},"",{"$nulls":15},"",{"$nulls":4},"",{"$nulls":4},"",{"$nulls":15},"",{"$nulls":4},"",{"$nulls":4},"",{"$nulls":6},0,{"$f":"SUM($FL$36:$FL46)","v":0},0]
[12,{"$nulls":4},"N/A",{"$nulls":10},"","","",null,"","","",null,"","","",null,"","","",{"$nulls":5},"","","","","","","","",null,0,{"$nulls":3},"","","",null,"","","",null,"","","",null,"","","",{"$nulls":8},"",{"$nulls":4},"",{"$nulls":4},"",{"$nulls":15},"",{"$nulls":4},"",{"$nulls":4},"",{"$nulls":15},"",{"$nulls":4},"",{"$nulls":4},"",{"$nulls":15},"",{"$nulls":4},"",{"$nulls":4},"",{"$nulls":6},0,{"$f":"SUM($FL$36:$FL47)","v":0},0]
[13,{"$nulls":4},"N/A",{"$nulls":10},"","","",null,"","","",null,"","","",null,"","","",{"$nulls":5},"","","","","","","","",null,0,{"$nulls":3},"","","",null,"","","",null,"","","",null,"","","",{"$nulls":8},"",{"$nulls":4},"",{"$nulls":4},"",{"$nulls":15},"",{"$nulls":4},"",{"$nulls":4},"",{"$nulls":15},"",{"$nulls":4},"",{"$nulls":4},"",{"$nulls":15},"",{"$nulls":4},"",{"$nulls":4},"",{"$nulls":6},0,{"$f":"SUM($FL$36:$FL48)","v":0},0]
[14,{"$nulls":4},"N/A",{"$nulls":10},"","","",null,"","","",null,"","","",null,"","","",{"$nulls":5},"","","","","","","","",null,0,{"$nulls":3},"","","",null,"","","",null,"","","",null,"","","",{"$nulls":8},"",{"$nulls":4},"",{"$nulls":4},"",{"$nulls":15},"",{"$nulls":4},"",{"$nulls":4},"",{"$nulls":15},"",{"$nulls":4},"",{"$nulls":4},"",{"$nulls":15},"",{"$nulls":4},"",{"$nulls":4},"",{"$nulls":6},0,{"$f":"SUM($FL$36:$FL49)","v":0},0]
[15,{"$nulls":4},"N/A",{"$nulls":10},"","","",null,"","","",null,"","","",null,"","","",{"$nulls":5},"","","","","","","","",null,0,{"$nulls":3},"","","",null,"","","",null,"","","",null,"","","",{"$nulls":8},"",{"$nulls":4},"",{"$nulls":4},"",{"$nulls":15},"",{"$nulls":4},"",{"$nulls":4},"",{"$nulls":15},"",{"$nulls":4},"",{"$nulls":4},"",{"$nulls":15},"",{"$nulls":4},"",{"$nulls":4},"",{"$nulls":6},0,{"$f":"SUM($FL$36:$FL50)","v":0},0]
[16,{"$nulls":4},"N/A",{"$nulls":10},"","","",null,"","","",null,"","","",null,"","","",{"$nulls":5},"","","","","","","","",null,0,{"$nulls":3},"","","",null,"","","",null,"","","",null,"","","",{"$nulls":8},"",{"$nulls":4},"",{"$nulls":4},"",{"$nulls":15},"",{"$nulls":4},"",{"$nulls":4},"",{"$nulls":15},"",{"$nulls":4},"",{"$nulls":4},"",{"$nulls":15},"",{"$nulls":4},"",{"$nulls":4},"",{"$nulls":6},0,{"$f":"SUM($FL$36:$FL51)","v":0},0]
[17,{"$nulls":4},"N/A",{"$nulls":10},"","","",null,"","","",null,"","","",null,"","","",{"$nulls":5},"","","","","","","","",null,0,{"$nulls":3},"","","",null,"","","",null,"","","",null,"","","",{"$nulls":8},"",{"$nulls":4},"",{"$nulls":4},"",{"$nulls":15},"",{"$nulls":4},"",{"$nulls":4},"",{"$nulls":15},"",{"$nulls":4},"",{"$nulls":4},"",{"$nulls":15},"",{"$nulls":4},"",{"$nulls":4},"",{"$nulls":6},0,{"$f":"SUM($FL$36:$FL52)","v":0},0]
[18,{"$nulls":4},"N/A",{"$nulls":10},"","","",null,"","","",null,"","","",null,"","","",{"$nulls":5},"","","","","","","","",null,0,{"$nulls":3},"","","",null,"","","",null,"","","",null,"","","",{"$nulls":8},"",{"$nulls":4},"",{"$nulls":4},"",{"$nulls":15},"",{"$nulls":4},"",{"$nulls":4},"",{"$nulls":15},"",{"$nulls":4},"",{"$nulls":4},"",{"$nulls":15},"",{"$nulls":4},"",{"$nulls":4},"",{"$nulls":6},0,{"$f":"SUM($FL$36:$FL53)","v":0},0]
[19,{"$nulls":4},"N/A",{"$nulls":10},"","","",null,"","","",null,"","","",null,"","","",{"$nulls":5},"","","","","","","","",null,0,{"$nulls":3},"","","",null,"","","",null,"","","",null,"","","",{"$nulls":8},"",{"$nulls":4},"",{"$nulls":4},"",{"$nulls":15},"",{"$nulls":4},"",{"$nulls":4},"",{"$nulls":15},"",{"$nulls":4},"",{"$nulls":4},"",{"$nulls":15},"",{"$nulls":4},"",{"$nulls":4},"",{"$nulls":6},0,{"$f":"SUM($FL$36:$FL54)","v":0},0]
[20,{"$nulls":4},"N/A",{"$nulls":10},"","","",null,"","","",null,"","","",null,"","","",{"$nulls":5},"","","","","","","","",null,0,{"$nulls":3},"","","",null,"","","",null,"","","",null,"","","",{"$nulls":8},"",{"$nulls":4},"",{"$nulls":4},"",{"$nulls":15},"",{"$nulls":4},"",{"$nulls":4},"",{"$nulls":15},"",{"$nulls":4},"",{"$nulls":4},"",{"$nulls":15},"",{"$nulls":4},"",{"$nulls":4},"",{"$nulls":6},0,{"$f":"SUM($FL$36:$FL55)","v":0},0]
[21,{"$nulls":4},"N/A",{"$nulls":10},"","","",null,"","","",null,"","","",null,"","","",{"$nulls":5},"","","","","","","","",null,0,{"$nulls":3},"","","",null,"","","",null,"","","",null,"","","",{"$nulls":8},"",{"$nulls":4},"",{"$nulls":4},"",{"$nulls":15},"",{"$nulls":4},"",{"$nulls":4},"",{"$nulls":15},"",{"$nulls":4},"",{"$nulls":4},"",{"$nulls":15},"",{"$nulls":4},"",{"$nulls":4},"",{"$nulls":6},0,{"$f":"SUM($FL$36:$FL56)","v":0},0]
[22,{"$nulls":4},"N/A",{"$nulls":10},"","","",null,"","","",null,"","","",null,"","","",{"$nulls":5},"","","","","","","","",null,0,{"$nulls":3},"","","",null,"","","",null,"","","",null,"","","",{"$nulls":8},"",{"$nulls":4},"",{"$nulls":4},"",{"$nulls":15},"",{"$nulls":4},"",{"$nulls":4},"",{"$nulls":15},"",{"$nulls":4},"",{"$nulls":4},"",{"$nulls":15},"",{"$nulls":4},"",{"$nulls":4},"",{"$nulls":6},0,{"$f":"SUM($FL$36:$FL57)","v":0},0]
[23,{"$nulls":4},"N/A",{"$nulls":10},"","","",null,"","","",null,"","","",null,"","","",{"$nulls":5},"","","","","","","","",null,0,{"$nulls":3},"","","",null,"","","",null,"","","",null,"","","",{"$nulls":8},"",{"$nulls":4},"",{"$nulls":4},"",{"$nulls":15},"",{"$nulls":4},"",{"$nulls":4},"",{"$nulls":15},"",{"$nulls":4},"",{"$nulls":4},"",{"$nulls":15},"",{"$nulls":4},"",{"$nulls":4},"",{"$nulls":6},0,{"$f":"SUM($FL$36:$FL58)","v":0},0]
[24,{"$nulls":4},"N/A",{"$nulls":10},"","","",null,"","","",null,"","","",null,"","","",{"$nulls":5},"","","","","","","","",null,0,{"$nulls":3},"","","",null,"","","",null,"","","",null,"","","",{"$nulls":8},"",{"$nulls":4},"",{"$nulls":4},"",{"$nulls":15},"",{"$nulls":4},"",{"$nulls":4},"",{"$nulls":15},"",{"$nulls":4},"",{"$nulls":4},"",{"$nulls":15},"",{"$nulls":4},"",{"$nulls":4},"",{"$nulls":6},0,{"$f":"SUM($FL$36:$FL59)","v":0},0]
[25,{"$nulls":4},"N/A",{"$nulls":10},"","","",null,"","","",null,"","","",null,"","","",{"$nulls":5},"","","","","","","","",null,0,{"$nulls":3},"","","",null,"","","",null,"","","",null,"","","",{"$nulls":8},"",{"$nulls":4},"",{"$nulls":4},"",{"$nulls":15},"",{"$nulls":4},"",{"$nulls":4},"",{"$nulls":15},"",{"$nulls":4},"",{"$nulls":4},"",{"$nulls":15},"",{"$nulls":4},"",{"$nulls":4},"",{"$nulls":6},0,{"$f":"SUM($FL$36:$FL60)","v":0},0]
[26,{"$nulls":4},"N/A",{"$nulls":10},"","","",null,"","","",null,"","","",null,"","","",{"$nulls":5},"","","","","","","","",null,0,{"$nulls":3},"","","",null,"","","",null,"","","",null,"","","",{"$nulls":8},"",{"$nulls":4},"",{"$nulls":4},"",{"$nulls":15},"",{"$nulls":4},"",{"$nulls":4},"",{"$nulls":15},"",{"$nulls":4},"",{"$nulls":4},"",{"$nulls":15},"",{"$nulls":4},"",{"$nulls":4},"",{"$nulls":6},0,{"$f":"SUM($FL$36:$FL61)","v":0},0]
[27,{"$nulls":4},"N/A",{"$nulls":10},"","","",null,"","","",null,"","","",null,"","","",{"$nulls":5},"","","","","","","","",null,0,{"$nulls":3},"","","",null,"","","",null,"","","",null,"","","",{"$nulls":8},"",{"$nulls":4},"",{"$nulls":4},"",{"$nulls":15},"",{"$nulls":4},"",{"$nulls":4},"",{"$nulls":15},"",{"$nulls":4},"",{"$nulls":4},"",{"$nulls":15},"",{"$nulls":4},"",{"$nulls":4},"",{"$nulls":6},0,{"$f":"SUM($FL$36:$FL62)","v":0},0]
[28,{"$nulls":4},"N/A",{"$nulls":10},"","","",null,"","","",null,"","","",null,"","","",{"$nulls":5},"","","","","","","","",null,0,{"$nulls":3},"","","",null,"","","",null,"","","",null,"","","",{"$nulls":8},"",{"$nulls":4},"",{"$nulls":4},"",{"$nulls":15},"",{"$nulls":4},"",{"$nulls":4},"",{"$nulls":15},"",{"$nulls":4},"",{"$nulls":4},"",{"$nulls":15},"",{"$nulls":4},"",{"$nulls":4},"",{"$nulls":6},0,{"$f":"SUM($FL$36:$FL63)","v":0},0]
[29,{"$nulls":4},"N/A",{"$nulls":10},"","","",null,"","","",null,"","","",null,"","","",{"$nulls":5},"","","","","","","","",null,0,{"$nulls":3},"","","",null,"","","",null,"","","",null,"","","",{"$nulls":8},"",{"$nulls":4},"",{"$nulls":4},"",{"$nulls":15},"",{"$nulls":4},"",{"$nulls":4},"",{"$nulls":15},"",{"$nulls":4},"",{"$nulls":4},"",{"$nulls":15},"",{"$nulls":4},"",{"$nulls":4},"",{"$nulls":6},0,{"$f":"SUM($FL$36:$FL64)","v":0},0]
[30,{"$nulls":4},"N/A",{"$nulls":10},"","","",null,"","","",null,"","","",null,"","","",{"$nulls":5},"","","","","","","","",null,0,{"$nulls":3},"","","",null,"","","",null,"","","",null,"","","",{"$nulls":8},"",{"$nulls":4},"",{"$nulls":4},"",{"$nulls":15},"",{"$nulls":4},"",{"$nulls":4},"",{"$nulls":15},"",{"$nulls":4},"",{"$nulls":4},"",{"$nulls":15},"",{"$nulls":4},"",{"$nulls":4},"",{"$nulls":6},0,{"$f":"SUM($FL$36:$FL65)","v":0},0]
[31,{"$nulls":4},"N/A",{"$nulls":10},"","","",null,"","","",null,"","","",null,"","","",{"$nulls":5},"","","","","","","","",null,0,{"$nulls":3},"","","",null,"","","",null,"","","",null,"","","",{"$nulls":8},"",{"$nulls":4},"",{"$nulls":4},"",{"$nulls":15},"",{"$nulls":4},"",{"$nulls":4},"",{"$nulls":15},"",{"$nulls":4},"",{"$nulls":4},"",{"$nulls":15},"",{"$nulls":4},"",{"$nulls":4},"",{"$nulls":6},0,{"$f":"SUM($FL$36:$FL66)","v":0},0]
[32,{"$nulls":4},"N/A",{"$nulls":10},"","","",null,"","","",null,"","","",null,"","","",{"$nulls":5},"","","","","","","","",null,0,{"$nulls":3},"","","",null,"","","",null,"","","",null,"","","",{"$nulls":8},"",{"$nulls":4},"",{"$nulls":4},"",{"$nulls":15},"",{"$nulls":4},"",{"$nulls":4},"",{"$nulls":15},"",{"$nulls":4},"",{"$nulls":4},"",{"$nulls":15},"",{"$nulls":4},"",{"$nulls":4},"",{"$nulls":6},0,{"$f":"SUM($FL$36:$FL67)","v":0},0]
[33,{"$nulls":4},"N/A",{"$nulls":10},"","","",null,"","","",null,"","","",null,"","","",{"$nulls":5},"","","","","","","","",null,0,{"$nulls":3},"","","",null,"","","",null,"","","",null,"","","",{"$nulls":8},"",{"$nulls":4},"",{"$nulls":4},"",{"$nulls":15},"",{"$nulls":4},"",{"$nulls":4},"",{"$nulls":15},"",{"$nulls":4},"",{"$nulls":4},"",{"$nulls":15},"",{"$nulls":4},"",{"$nulls":4},"",{"$nulls":6},0,{"$f":"SUM($FL$36:$FL68)","v":0},0]
[34,{"$nulls":4},"N/A",{"$nulls":10},"","","",null,"","","",null,"","","",null,"","","",{"$nulls":5},"","","","","","","","",null,0,{"$nulls":3},"","","",null,"","","",null,"","","",null,"","","",{"$nulls":8},"",{"$nulls":4},"",{"$nulls":4},"",{"$nulls":15},"",{"$nulls":4},"",{"$nulls":4},"",{"$nulls":15},"",{"$nulls":4},"",{"$nulls":4},"",{"$nulls":15},"",{"$nulls":4},"",{"$nulls":4},"",{"$nulls":6},0,{"$f":"SUM($FL$36:$FL69)","v":0},0]
[35,{"$nulls":4},"N/A",{"$nulls":10},"","","",null,"","","",null,"","","",null,"","","",{"$nulls":5},"","","","","","","","",null,0,{"$nulls":3},"","","",null,"","","",null,"","","",null,"","","",{"$nulls":8},"",{"$nulls":4},"",{"$nulls":4},"",{"$nulls":15},"",{"$nulls":4},"",{"$nulls":4},"",{"$nulls":15},"",{"$nulls":4},"",{"$nulls":4},"",{"$nulls":15},"",{"$nulls":4},"",{"$nulls":4},"",{"$nulls":6},0,{"$f":"SUM($FL$36:$FL70)","v":0},0]
[36,{"$nulls":4},"N/A",{"$nulls":10},"","","",null,"","","",null,"","","",null,"","","",{"$nulls":5},"","","","","","","","",null,0,{"$nulls":3},"","","",null,"","","",null,"","","",null,"","","",{"$nulls":8},"",{"$nulls":4},"",{"$nulls":4},"",{"$nulls":15},"",{"$nulls":4},"",{"$nulls":4},"",{"$nulls":15},"",{"$nulls":4},"",{"$nulls":4},"",{"$nulls":15},"",{"$nulls":4},"",{"$nulls":4},"",{"$nulls":6},0,{"$f":"SUM($FL$36:$FL71)","v":0},0]
[37,{"$nulls":4},"N/A",{"$nulls":10},"","","",null,"","","",null,"","","",null,"","","",{"$nulls":5},"","","","","","","","",null,0,{"$nulls":3},"","","",null,"","","",null,"","","",null,"","","",{"$nulls":8},"",{"$nulls":4},"",{"$nulls":4},"",{"$nulls":15},"",{"$nulls":4},"",{"$nulls":4},"",{"$nulls":15},"",{"$nulls":4},"",{"$nulls":4},"",{"$nulls":15},"",{"$nulls":4},"",{"$nulls":4},"",{"$nulls":6},0,{"$f":"SUM($FL$36:$FL72)","v":0},0]
[38,{"$nulls":4},"N/A",{"$nulls":10},"","","",null,"","","",null,"","","",null,"","","",{"$nulls":5},"","","","","","","","",null,0,{"$nulls":3},"","","",null,"","","",null,"","","",null,"","","",{"$nulls":8},"",{"$nulls":4},"",{"$nulls":4},"",{"$nulls":15},"",{"$nulls":4},"",{"$nulls":4},"",{"$nulls":15},"",{"$nulls":4},"",{"$nulls":4},"",{"$nulls":15},"",{"$nulls":4},"",{"$nulls":4},"",{"$nulls":6},0,{"$f":"SUM($FL$36:$FL73)","v":0},0]
[39,{"$nulls":4},"N/A",{"$nulls":10},"","","",null,"","","",null,"","","",null,"","","",{"$nulls":5},"","","","","","","","",null,0,{"$nulls":3},"","","",null,"","","",null,"","","",null,"","","",{"$nulls":8},"",{"$nulls":4},"",{"$nulls":4},"",{"$nulls":15},"",{"$nulls":4},"",{"$nulls":4},"",{"$nulls":15},"",{"$nulls":4},"",{"$nulls":4},"",{"$nulls":15},"",{"$nulls":4},"",{"$nulls":4},"",{"$nulls":6},0,{"$f":"SUM($FL$36:$FL74)","v":0},0]
[40,{"$nulls":4},"N/A",{"$nulls":10},"","","",null,"","","",null,"","","",null,"","","",{"$nulls":5},"","","","","","","","",null,0,{"$nulls":3},"","","",null,"","","",null,"","","",null,"","","",{"$nulls":8},"",{"$nulls":4},"",{"$nulls":4},"",{"$nulls":15},"",{"$nulls":4},"",{"$nulls":4},"",{"$nulls":15},"",{"$nulls":4},"",{"$nulls":4},"",{"$nulls":15},"",{"$nulls":4},"",{"$nulls":4},"",{"$nulls":6},0,{"$f":"SUM($FL$36:$FL75)","v":0},0]
[41,{"$nulls":4},"N/A",{"$nulls":10},"","","",null,"","","",null,"","","",null,"","","",{"$nulls":5},"","","","","","","","",null,0,{"$nulls":3},"","","",null,"","","",null,"","","",null,"","","",{"$nulls":8},"",{"$nulls":4},"",{"$nulls":4},"",{"$nulls":15},"",{"$nulls":4},"",{"$nulls":4},"",{"$nulls":15},"",{"$nulls":4},"",{"$nulls":4},"",{"$nulls":15},"",{"$nulls":4},"",{"$nulls":4},"",{"$nulls":6},0,{"$f":"SUM($FL$36:$FL76)","v":0},0]
[42,{"$nulls":4},"N/A",{"$nulls":10},"","","",null,"","","",null,"","","",null,"","","",{"$nulls":5},"","","","","","","","",null,0,{"$nulls":3},"","","",null,"","","",null,"","","",null,"","","",{"$nulls":8},"",{"$nulls":4},"",{"$nulls":4},"",{"$nulls":15},"",{"$nulls":4},"",{"$nulls":4},"",{"$nulls":15},"",{"$nulls":4},"",{"$nulls":4},"",{"$nulls":15},"",{"$nulls":4},"",{"$nulls":4},"",{"$nulls":6},0,{"$f":"SUM($FL$36:$FL77)","v":0},0]
[43,{"$nulls":4},"N/A",{"$nulls":10},"","","",null,"","","",null,"","","",null,"","","",{"$nulls":5},"","","","","","","","",null,0,{"$nulls":3},"","","",null,"","","",null,"","","",null,"","","",{"$nulls":8},"",{"$nulls":4},"",{"$nulls":4},"",{"$nulls":15},"",{"$nulls":4},"",{"$nulls":4},"",{"$nulls":15},"",{"$nulls":4},"",{"$nulls":4},"",{"$nulls":15},"",{"$nulls":4},"",{"$nulls":4},"",{"$nulls":6},0,{"$f":"SUM($FL$36:$FL78)","v":0},0]
[44,{"$nulls":4},"N/A",{"$nulls":10},"","","",null,"","","",null,"","","",null,"","","",{"$nulls":5},"","","","","","","","",null,0,{"$nulls":3},"","","",null,"","","",null,"","","",null,"","","",{"$nulls":8},"",{"$nulls":4},"",{"$nulls":4},"",{"$nulls":15},"",{"$nulls":4},"",{"$nulls":4},"",{"$nulls":15},"",{"$nulls":4},"",{"$nulls":4},"",{"$nulls":15},"",{"$nulls":4},"",{"$nulls":4},"",{"$nulls":6},0,{"$f":"SUM($FL$36:$FL79)","v":0},0]
[45,{"$nulls":4},"N/A",{"$nulls":10},"","","",null,"","","",null,"","","",null,"","","",{"$nulls":5},"","","","","","","","",null,0,{"$nulls":3},"","","",null,"","","",null,"","","",null,"","","",{"$nulls":8},"",{"$nulls":4},"",{"$nulls":4},"",{"$nulls":15},"",{"$nulls":4},"",{"$nulls":4},"",{"$nulls":15},"",{"$nulls":4},"",{"$nulls":4},"",{"$nulls":15},"",{"$nulls":4},"",{"$nulls":4},"",{"$nulls":6},0,{"$f":"SUM($FL$36:$FL80)","v":0},0]
[46,{"$nulls":4},"N/A",{"$nulls":10},"","","",null,"","","",null,"","","",null,"","","",{"$nulls":5},"","","","","","","","",null,0,{"$nulls":3},"","","",null,"","","",null,"","","",null,"","","",{"$nulls":8},"",{"$nulls":4},"",{"$nulls":4},"",{"$nulls":15},"",{"$nulls":4},"",{"$nulls":4},"",{"$nulls":15},"",{"$nulls":4},"",{"$nulls":4},"",{"$nulls":15},"",{"$nulls":4},"",{"$nulls":4},"",{"$nulls":6},0,{"$f":"SUM($FL$36:$FL81)","v":0},0]
[47,{"$nulls":4},"N/A",{"$nulls":10},"","","",null,"","","",null,"","","",null,"","","",{"$nulls":5},"","","","","","","","",null,0,{"$nulls":3},"","","",null,"","","",null,"","","",null,"","","",{"$nulls":8},"",{"$nulls":4},"",{"$nulls":4},"",{"$nulls":15},"",{"$nulls":4},"",{"$nulls":4},"",{"$nulls":15},"",{"$nulls":4},"",{"$nulls":4},"",{"$nulls":15},"",{"$nulls":4},"",{"$nulls":4},"",{"$nulls":6},0,{"$f":"SUM($FL$36:$FL82)","v":0},0]
[48,{"$nulls":4},"N/A",{"$nulls":10},"","","",null,"","","",null,"","","",null,"","","",{"$nulls":5},"","","","","","","","",null,0,{"$nulls":3},"","","",null,"","","",null,"","","",null,"","","",{"$nulls":8},"",{"$nulls":4},"",{"$nulls":4},"",{"$nulls":15},"",{"$nulls":4},"",{"$nulls":4},"",{"$nulls":15},"",{"$nulls":4},"",{"$nulls":4},"",{"$nulls":15},"",{"$nulls":4},"",{"$nulls":4},"",{"$nulls":6},0,{"$f":"SUM($FL$36:$FL83)","v":0},0]
[49,{"$nulls":4},"N/A",{"$nulls":10},"","","",null,"","","",null,"","","",null,"","","",{"$nulls":5},"","","","","","","","",null,0,{"$nulls":3},"","","",null,"","","",null,"","","",null,"","","",{"$nulls":8},"",{"$nulls":4},"",{"$nulls":4},"",{"$nulls":15},"",{"$nulls":4},"",{"$nulls":4},"",{"$nulls":15},"",{"$nulls":4},"",{"$nulls":4},"",{"$nulls":15},"",{"$nulls":4},"",{"$nulls":4},"",{"$nulls":6},0,{"$f":"SUM($FL$36:$FL84)","v":0},0]
[50,{"$nulls":4},"N/A",{"$nulls":10},"","","",null,"","","",null,"","","",null,"","","",{"$nulls":5},"","","","","","","","",null,0,{"$nulls":3},"","","",null,"","","",null,"","","",null,"",{"$f":"IF($B85=\"Y\",IF(AND($AC85<>\"\",$AQ84<>\"\",$AR84<>\"\"),($AC85+$AQ84)/($AR84+1),\"\"),\"\")","v":""},"",{"$nulls":8},"",{"$nulls":4},"",{"$nulls":4},"",{"$nulls":15},"",{"$nulls":4},"",{"$nulls":4},"",{"$nulls":15},"",{"$nulls":4},"",{"$nulls":4},"",{"$nulls":15},"",{"$nulls":4},"",{"$nulls":4},"",{"$nulls":6},0,{"$f":"SUM($FL$36:$FL85)","v":0},0]
[null,null,{"$f":"SUM(C36:C85)","v":0}]
["g/bhp-hr"]
["g/kW-hr"]

{"sheet":"Engine Family #15","index":17,"n_rows":88,"n_cols":176,"rows_kept":88,"merged":[[1,0,1,35],[2,0,2,35],[3,0,3,35],[4,0,4,35],[5,0,5,35],[6,0,6,35],[10,4,10,6],[10,12,10,13],[11,4,11,6],[11,15,11,16],[11,19,11,20],[11,23,11,24],[11,27,11,28],[12,4,12,6],[13,4,13,6],[14,4,15,6],[17,14,22,14],[27,4,30,13],[27,15,28,16],[32,0,32,35],[33,45,34,45]]}
[]
["United States"]
["US Environmental Protection Agency"]
["Office of Air and Radiation, Office of Transportation and Air Quality"]
[{"$nulls":37},"Tier 2","Y",94]
["Manufacturer Production Line Testing Report for Marine Compression Ignition Engines",{"$nulls":36},"Tier 3","N",1042]
[{"$f":"Summary!B7","v":"Version Number: 1.4 DRAFT  Last Revision: September 2023"},{"$nulls":36},"Tier 4",null,"N/A"]
[]
["Basic Information: Engine Family #15"]
[{"$nulls":167},{"$f":"IF(AND($G$24=94,Summary!$L$13=\"Category 1\"),0,1)","v":1}]
[null,null,"Manufacturer:",null,{"$f":"IF(Summary!D12<>\"\",Summary!D12,\"\")","v":""},{"$nulls":3},"Engine Family:",{"$nulls":31},{"$f":"IF($G$19=\"Diesel\",\"'HC' refers to 'THC' \",IF($G$19=\"Natural Gas\",\"'HC' refers to 'NMHC' \",IF($G$19=\"Alcohol\",\"'HC' refers to 'THCE' \",\"\")))","v":""}]
[null,null,"PLT Test Contact:",null,{"$f":"IF(Summary!D13<>\"\",Summary!D13,\"\")","v":""},{"$nulls":3},"Production (Category 3 only):",{"$nulls":6},{"$f":"IF(N16<>\"Y\", \"Current CO Result\", \"Final CO Result\")","v":"Current CO Result"},null,{"$f":"$CJ$36","v":""},null,{"$f":"IF(N16<>\"Y\", \"Current PM Result\", \"Final PM Result\")","v":"Current PM Result"},null,{"$f":"$DJ$36","v":""},null,{"$f":"IF($AF$12=\"Y\",IF(N16<>\"Y\", \"Current NOx+HC Result\", \"Final NOx+HC Result\"),IF(N16<>\"Y\", \"Current HC Result\", \"Final HC Result\"))","v":"Current HC Result"},null,{"$f":"IF($AF$12=\"Y\",IF($FP$36>0,ROUND($EJ$36+$FJ$36,2),\"\"),$EJ$36)","v":""},null,{"$f":"IF(N16<>\"Y\", \"Current NOx Result\",\"Final NOx Result\")","v":"Current NOx Result"},null,{"$f":"$FJ$36","v":""},null,{"$f":"IF($L$13<>\"Category 3\",IF($G$23=\"\",\"N\",$G$23),\"N\")","v":"N"},{"$f":"IF(Summary!$L$13=\"Category 3\",\"CAT3\",\"\")","v":""}]
[null,null,"Email Address:",null,{"$f":"IF(Summary!D14<>\"\",Summary!D14,\"\")","v":""},{"$nulls":3},"Date of Start of Model Year Production:"]
[null,null,"Phone #:",null,{"$f":"IF(Summary!D15<>\"\",Summary!D15,\"\")","v":""},{"$nulls":3},"Date of End of Model Year Production:",{"$nulls":14},{"$f":"IF($G$19=\"Diesel\",\"'HC' refers to 'THC' \",IF($G$19=\"Natural Gas\",\"'HC' refers to 'NMHC' \",IF($G$19=\"Alcohol\",\"'HC' refers to 'THCE' \",\"\")))","v":""},{"$nulls":13},"Diesel",1,{"$nulls":6},1]
[null,null,"Test Location & Description:",{"$nulls":5},"Deterioration Factor Type:",{"$nulls":28},"Natural Gas",2,{"$nulls":6},2]
[{"$nulls":8},"Include Results from this Engine Family on Summary Sheet?",{"$nulls":6},"CO Standard ",{"$nulls":3},"PM Standard or FEL",{"$nulls":3},{"$f":"IF($AF$12=\"Y\",\"NOx+HC Standard or FEL\",\"HC Standard\")","v":"HC Standard"},{"$nulls":3},"NOx Standard or FEL",{"$nulls":9},"Alcohol",3,{"$nulls":6},3]
[null,null,"Carryover?:",{"$nulls":5},"Required Tests (including failure follow-ups)",{"$nulls":4},{"$f":"$FO36","v":0},null,"Units",null,"g/kW-hr",null,"Units",null,"g/kW-hr",null,"Units",null,"g/kW-hr",null,"Units",null,"g/kW-hr",{"$nulls":4},"Test Cycle Options",{"$nulls":10},4]
[null,null,{"$f":"IF($G$17=\"Y\",\"Please submit supporting documentation indicating that this is a carry-over engine family\",\"\")","v":""},{"$nulls":5},"Instead of testing, are PLT requirements for this Engine Family",{"$nulls":6},"CO  Det Factor",{"$nulls":3},"PM  Det Factor",{"$nulls":3},"HC Det Factor",{"$nulls":3},"NOx  Det Factor",{"$nulls":6},"1 = 4-Mode General Cycle (E3)",null,null,"Recreational"]
[null,null,"Fuel Type:",{"$nulls":5}," fulfilled under the following (Category 1 only)?",{"$nulls":6},"Det Factor Type",null,{"$f":"IF($N$15<>\"\",$N$15,\"\")","v":""},null,"Det Factor Type",null,{"$f":"IF($N$15<>\"\",$N$15,\"\")","v":""},null,"Det Factor Type",null,{"$f":"IF($N$15<>\"\",$N$15,\"\")","v":""},null,"Det Factor Type",null,{"$f":"IF($N$15<>\"\",$N$15,\"\")","v":""},{"$nulls":4},"2 = 5-Mode Recreational Cycle (E5)",null,null,"Commercial"]
[null,null,"Recreational/Commercial:",{"$nulls":5},"Please elaborate in the comments section.",{"$nulls":6},"CO Green Engine Factor",{"$nulls":3},"PM Green Engine Factor",{"$nulls":3},"HC Green Engine Factor",{"$nulls":3},"NOx Green Engine Factor",{"$nulls":6},"3 = 4-Mode Constant Speed Propulsion Cycle (E2)"]
[null,null,"Model Year:",{"$nulls":5},"    -1042.310(a) - EPA approved combining it, for PLT purposes only.",{"$nulls":25},"4 = 5-Mode Constant Speed Auxiliary Cycle (D2)"]
[null,null,"Tier:",{"$nulls":31},"5 = 6-Mode Variable Speed Auxiliary Cycle (G2)",null,null,"1 (E3)"]
[null,null,"Combined NOx+HC?",{"$nulls":31},"6 = 8-Mode Variable Speed Ausiliary Cycle (C1)",null,null,"2 (E5)"]
[null,null,"40 CFR Part:",{"$nulls":3},{"$f":"AN6","v":1042},null,"Additional testing required by EPA [40 CFR 1042.301(e)]? ",{"$nulls":25},"O = Other",null,null,"3 (E2)"]
[{"$nulls":37},"4 (D2)"]
[{"$nulls":37},"5 (G2)",{"$nulls":132},"deleted and redirected"]
[{"$nulls":22}," ",{"$nulls":14},"6 (C1)",4,{"$nulls":6},4]
[null,null,"Comments:",{"$nulls":34},"O (other)"]
[{"$nulls":22}," ",{"$nulls":22},"additive"]
[{"$nulls":45},"multiplicative",{"$nulls":22},"CO Rounding",{"$nulls":4},"CO Rounding",{"$nulls":4},"CO Rounding",{"$nulls":4},"CO Rounding",{"$nulls":10},"PM Rounding",{"$nulls":4},"PM Rounding",{"$nulls":4},"PM Rounding",{"$nulls":4},"PM Rounding",{"$nulls":10},"HC Rounding",{"$nulls":4},"HC Rounding",{"$nulls":4},"HC Rounding",{"$nulls":4},"HC Rounding",{"$nulls":10},"NOx Rounding",{"$nulls":4},"NOx Rounding",{"$nulls":4},"NOx Rounding",{"$nulls":4},"NOx Rounding"]
[{"$nulls":22}," ",{"$nulls":45},"initial",{"$nulls":4},"final",{"$nulls":4}," det final",{"$nulls":4},"ave of all final",{"$nulls":10},"initial",{"$nulls":4},"final",{"$nulls":4}," det final",{"$nulls":4},"ave of all final",{"$nulls":10},"initial",{"$nulls":4},"final",{"$nulls":4}," det final",{"$nulls":4},"ave of all final",{"$nulls":10},"initial",{"$nulls":4},"final",{"$nulls":4}," det final",{"$nulls":4},"ave of all final"]
[{"$nulls":38},"Y",{"$nulls":6},"Y"]
["PLT Engine Test Results: Engine Family #15",{"$nulls":37},"N",{"$nulls":6},"N",{"$nulls":124},"This is N17"]
[{"$nulls":36},"CO",null,"PM",null,null,"HC or HC+NOX",null,"Nox",null,"Engine Data Complete?",{"$nulls":11},"HC","HC","HC","HC","Nox","Nox","Nox","Nox",{"$nulls":107},"1% of production or pre-approved reduced sample size - whichever is Lower # "]
[null,"Calc Final Result?","Test Number","Test Date","Test Time","Test Qtr","Engine ID","Engine Make","Engine Configuration","Build Date","Green Engine Factor Applied?","Green Engine Factor Determination Method","Service Hours (or miles) Accumulation","Service Hours Location","Service Acc. Procedure","CO Initial Result ","Rounded CO Initial Result ","CO Final Result ","Det. CO Final Result ","PM Initial Result ","Rounded PM Initial Result ","PM Final Result ","Det. PM Final Result ","HC Initial Result ","Rounded HC Initial Result ","HC Final Result ","Det. HC Final Result ","NOx Initial Result ","Rounded NOx Initial Result ","NOx Final Result ","Det. NOx Final Result ","Reason for Failed Test (if applicable)","Remedy","Repairs","Test Cycle","Comments",0,0,0,0,0,0,0,0,{"$nulls":5},"Unrounded initial CO","Unrounded final CO","Det CO","Final CO","Unrounded initial PM","Unrounded final PM","Det PM","Final PM","Unrounded initial HCNOx","Unrounded final HCNOx","Det HCNOx","Final HCNOX","Unrounded initial NOx","Unrounded final NOx","Det NOx","Final HCNOX",{"$nulls":7},"rounded",{"$nulls":4},"rounded",{"$nulls":4},"rounded",{"$nulls":4},"rounded",{"$nulls":10},"rounded",{"$nulls":4},"rounded",{"$nulls":4},"rounded",{"$nulls":4},"rounded",{"$nulls":10},"rounded",{"$nulls":4},"rounded",{"$nulls":4},"rounded",{"$nulls":4},"rounded","ROUNDED AND ACCOUNT FOR BLANK",{"$nulls":9},"rounded",{"$nulls":4},"rounded",{"$nulls":4},"rounded",{"$nulls":4},"rounded","ROUNDED AND ACCOUNT FOR BLANK","Test complete Flag","Total complete","Fail Flag","req","val","baseline req","req due to fails","sum fails","baseline req"]
[1,{"$nulls":4},"N/A",{"$nulls":10},{"$f":"$BU36","v":""},{"$f":"$BZ36","v":""},{"$f":"$CE36","v":""},null,{"$f":"$CU36","v":""},{"$f":"$CZ36","v":""},{"$f":"$DE36","v":""},null,{"$f":"$DU36","v":""},{"$f":"$DZ36","v":""},{"$f":"$EE36","v":""},null,{"$f":"$EU36","v":""},{"$f":"$EZ36","v":""},{"$f":"$FE36","v":""},{"$nulls":5},{"$f":"IF($B36=\"N\",IF(AND($AK35<>\"\",$Q36<>\"\"),$AK35+$Q36,\"\"),IF($B36=\"Y\",0,\"\"))","v":""},{"$f":"IF($B36=\"N\",AL35+1,IF($B36=\"Y\",0,\"\"))","v":""},{"$f":"IF($B36=\"N\",IF(AND($AM35<>\"\",$U36<>\"\"),$AM35+$U36,\"\"),IF($B36=\"Y\",0,\"\"))","v":""},{"$f":"IF($B36=\"N\",AN35+1,IF($B36=\"Y\",0,\"\"))","v":""},{"$f":"IF($B36=\"N\",IF(AND($AO35<>\"\",$Y36<>\"\"),$AO35+$Y36,\"\"),IF($B36=\"Y\",0,\"\"))","v":""},{"$f":"IF($B36=\"N\",AP35+1,IF($B36=\"Y\",0,\"\"))","v":""},{"$f":"IF($B36=\"N\",IF(AND($AQ35<>\"\",$AC36<>\"\"),$AQ35+$AC36,\"\"),IF($B36=\"Y\",0,\"\"))","v":""},{"$f":"IF($B36=\"N\",AR35+1,IF($B36=\"Y\",0,\"\"))","v":""},null,{"$f":"IF(AND(B36<>\"\",C36<>\"\",D36<>\"\",E36<>\"\",G36<>\"\",H36<>\"\",I36<>\"\",J36<>\"\",K36<>\"\",M36<>\"\",N36<>\"\",O36<>\"\"),1,0)","v":0},{"$nulls":3},{"$f":"IF(AND($P36<>\"\",$AT36=1),$P36,\"\")","v":""},{"$f":"IF($B36=\"Y\",IF(AND($Q36<>\"\",$AK35<>\"\",$AL35<>\"\"),($Q36+$AK35)/($AL35+1),\"\"),\"\")","v":""},{"$f":"IF(AND($B36=\"Y\",$R36<>\"\",$R$18<>\"\"),IF($R$19=\"additive\",$R36+$R$18,IF($R$19=\"multiplicative\",$R36*$R$18,\"\")),\"\")","v":""},{"$f":"IF(COUNT($S$36:$S$85)>0,AVERAGE($S$36:$S$85),\"\")","v":""},{"$f":"IF(AND($T36<>\"\",$AT36=1),$T36,\"\")","v":""},{"$f":"IF($B36=\"Y\",IF(AND($U36<>\"\",$AM35<>\"\",$AN35<>\"\"),($U36+$AM35)/($AN35+1),\"\"),\"\")","v":""},{"$f":"IF(AND($B36=\"Y\",$V36<>\"\",$V$18<>\"\"),IF($V$19=\"additive\",$V36+$V$18,IF($V$19=\"multiplicative\",$V36*$V$18,\"\")),\"\")","v":""},{"$f":"IF(COUNT($W$36:$W$85)>0,AVERAGE($W$36:$W$85),\"\")","v":""},{"$f":"IF(AND($X36<>\"\",$AT36=1),$X36,\"\")","v":""},{"$f":"IF($B36=\"Y\",IF(AND($Y36<>\"\",$AO35<>\"\",$AP35<>\"\"),($Y36+$AO35)/($AP35+1),\"\"),\"\")","v":""},{"$f":"IF(AND($B36=\"Y\",$Z36<>\"\",$Z$18<>\"\"),IF($Z$19=\"additive\",$Z36+$Z$18,IF($Z$19=\"multiplicative\",$Z36*$Z$18,\"\")),\"\")","v":""},{"$f":"IF(COUNT($AA$36:$AA$85)>0,AVERAGE($AA$36:$AA$85),\"\")","v":""},{"$f":"IF(AND($AB36<>\"\",$AT36=1),$AB36,\"\")","v":""},{"$f":"IF($B36=\"Y\",IF(AND($AC36<>\"\",$AQ35<>\"\",$AR35<>\"\"),($AC36+$AQ35)/($AR35+1),\"\"),\"\")","v":""},{"$f":"IF(AND($B36=\"Y\",$AD36<>\"\",$AD$18<>\"\"),IF($AD$19=\"additive\",$AD36+$AD$18,IF($AD$19=\"multiplicative\",$AD36*$AD$18,\"\")),\"\")","v":""},{"$f":"IF(COUNT($AE$36:$AE$85)>0,AVERAGE($AE$36:$AE$85),\"\")","v":""},{"$nulls":7},{"$f":"IF($AX36<>\"\",ROUND($AX36,2),\"\")","v":""},{"$nulls":4},{"$f":"IF($AY36<>\"\",ROUND($AY36,2),\"\")","v":""},{"$nulls":4},{"$f":"IF($AZ36<>\"\",ROUND($AZ36,2),\"\")","v":""},{"$nulls":4},{"$f":"IF($BA36<>\"\",ROUND($BA36,2),\"\")","v":""},{"$nulls":10},{"$f":"IF($BB36<>\"\",ROUND($BB36,3),\"\")","v":""},{"$nulls":4},{"$f":"IF($BC36<>\"\",ROUND($BC36,3),\"\")","v":""},{"$nulls":4},{"$f":"IF($BD36<>\"\",ROUND($BD36,3),\"\")","v":""},{"$nulls":4},{"$f":"IF($BE36<>\"\",ROUND($BE36,3),\"\")","v":""},{"$nulls":10},{"$f":"IF($BF36<>\"\",ROUND($BF36,3),\"\")","v":""},{"$nulls":4},{"$f":"IF($BG36<>\"\",ROUND($BG36,3),\"\")","v":""},{"$nulls":4},{"$f":"IF($BH36<>\"\",ROUND($BH36,3),\"\")","v":""},{"$nulls":4},{"$f":"IF($BI36<>\"\",ROUND($BI36,3),\"\")","v":""},{"$f":"IF(EJ36=\"\",0,EJ36)","v":0},{"$nulls":9},{"$f":"IF($BJ36<>\"\",ROUND($BJ36,2),\"\")","v":""},{"$nulls":4},{"$f":"IF($BK36<>\"\",ROUND($BK36,2),\"\")","v":""},{"$nulls":4},{"$f":"IF($BL36<>\"\",ROUND($BL36,2),\"\")","v":""},{"$nulls":4},{"$f":"IF($BM36<>\"\",ROUND($BM36,2),\"\")","v":""},{"$f":"IF(FJ36=\"\",0,FJ36)","v":0},{"$f":"IF($AG$12<>\"CAT3\",IF(AND($B36=\"Y\",$S36<>\"\",$W36<>\"\",$AA36<>\"\",$AE36<>\"\"),1,0),IF($AE36<>\"\",1,0))","v":0},{"$f":"SUM($FL$36:$FL36)","v":0},{"$f":"IF($AG$12<>\"CAT3\",IF($FL36=1,IF(OR($S36>$R$16,$W36>$V$16,$AA36>$Z$16,IF($AF$12<>\"Y\",OR($AA36>$Z$16,$AE36>$AD$16),ROUND(($AA36+$AE36),2)>$Z$16)),1,0),0),IF($FL36=1,IF(AND($AE36>$AD$16,$AF$12=\"N\"),1,0),0))","v":0},{"$f":"IF(OR($M$11=\"\",$N$18=\"Y\"),0,IF($AG$12=\"CAT3\",$N$12,($FR$36+1)))","v":0},{"$f":"SUM(FL36:FL85)","v":0},{"$f":"IF(AND($G$17=\"Y\",$N$24<>\"\"),MIN($N$24,$FT$36),$FT$36)","v":0},{"$f":"$FS$36*2","v":0},{"$f":"SUM(FN36:FN85)","v":0},{"$f":"IF($N$12<>\"\",$N$12*0.01,0)","v":0}]
[{"$f":"A36+1","v":2},{"$nulls":4},"N/A",{"$nulls":10},"","","",null,"","","",null,"","","",null,"","","",{"$nulls":5},"",{"$f":"IF($B37=\"N\",AL36+1,IF($B37=\"Y\",0,\"\"))","v":""},"",{"$f":"IF($B37=\"N\",AN36+1,IF($B37=\"Y\",0,\"\"))","v":""},{"$f":"IF($B37=\"N\",IF(AND($AO36<>\"\",$Y37<>\"\"),$AO36+$Y37,\"\"),IF($B37=\"Y\",0,\"\"))","v":""},{"$f":"IF($B37=\"N\",AP36+1,IF($B37=\"Y\",0,\"\"))","v":""},{"$f":"IF($B37=\"N\",IF(AND($AQ36<>\"\",$AC37<>\"\"),$AQ36+$AC37,\"\"),IF($B37=\"Y\",0,\"\"))","v":""},{"$f":"IF($B37=\"N\",AR36+1,IF($B37=\"Y\",0,\"\"))","v":""},null,{"$f":"IF(AND(B37<>\"\",C37<>\"\",D37<>\"\",E37<>\"\",G37<>\"\",H37<>\"\",I37<>\"\",J37<>\"\",K37<>\"\",M37<>\"\",N37<>\"\",O37<>\"\"),1,0)","v":0},{"$nulls":3},"","",{"$f":"IF(AND($B37=\"Y\",$R37<>\"\",$R$18<>\"\"),IF($R$19=\"additive\",$R37+$R$18,IF($R$19=\"multiplicative\",$R37*$R$18,\"\")),\"\")","v":""},null,"","",{"$f":"IF(AND($B37=\"Y\",$V37<>\"\",$V$18<>\"\"),IF($V$19=\"additive\",$V37+$V$18,IF($V$19=\"multiplicative\",$V37*$V$18,\"\")),\"\")","v":""},null,{"$f":"IF(AND($X37<>\"\",$AT37=1),$X37,\"\")","v":""},{"$f":"IF($B37=\"Y\",IF(AND($Y37<>\"\",$AO36<>\"\",$AP36<>\"\"),($Y37+$AO36)/($AP36+1),\"\"),\"\")","v":""},{"$f":"IF(AND($B37=\"Y\",$Z37<>\"\",$Z$18<>\"\"),IF($Z$19=\"additive\",$Z37+$Z$18,IF($Z$19=\"multiplicative\",$Z37*$Z$18,\"\")),\"\")","v":""},null,{"$f":"IF(AND($AB37<>\"\",$AT37=1),$AB37,\"\")","v":""},{"$f":"IF($B37=\"Y\",IF(AND($AC37<>\"\",$AQ36<>\"\",$AR36<>\"\"),($AC37+$AQ36)/($AR36+1),\"\"),\"\")","v":""},{"$f":"IF(AND($B37=\"Y\",$AD37<>\"\",$AD$18<>\"\"),IF($AD$19=\"additive\",$AD37+$AD$18,IF($AD$19=\"multiplicative\",$AD37*$AD$18,\"\")),\"\")","v":""},{"$nulls":8},{"$f":"IF($AX37<>\"\",ROUND($AX37,2),\"\")","v":""},{"$nulls":4},{"$f":"IF($AY37<>\"\",ROUND($AY37,2),\"\")","v":""},{"$nulls":4},{"$f":"IF($AZ37<>\"\",ROUND($AZ37,2),\"\")","v":""},{"$nulls":15},{"$f":"IF($BB37<>\"\",ROUND($BB37,3),\"\")","v":""},{"$nulls":4},{"$f":"IF($BC37<>\"\",ROUND($BC37,3),\"\")","v":""},{"$nulls":4},{"$f":"IF($BD37<>\"\",ROUND($BD37,3),\"\")","v":""},{"$nulls":15},{"$f":"IF($BF37<>\"\",ROUND($BF37,3),\"\")","v":""},{"$nulls":4},{"$f":"IF($BG37<>\"\",ROUND($BG37,3),\"\")","v":""},{"$nulls":4},{"$f":"IF($BH37<>\"\",ROUND($BH37,3),\"\")","v":""},{"$nulls":15},{"$f":"IF($BJ37<>\"\",ROUND($BJ37,2),\"\")","v":""},{"$nulls":4},{"$f":"IF($BK37<>\"\",ROUND($BK37,2),\"\")","v":""},{"$nulls":4},{"$f":"IF($BL37<>\"\",ROUND($BL37,2),\"\")","v":""},{"$nulls":6},{"$f":"IF($AG$12<>\"CAT3\",IF(AND($B37=\"Y\",$S37<>\"\",$W37<>\"\",$AA37<>\"\",$AE37<>\"\"),1,0),IF($AE37<>\"\",1,0))","v":0},{"$f":"SUM($FL$36:$FL37)","v":0},{"$f":"IF($AG$12<>\"CAT3\",IF($FL37=1,IF(OR($S37>$R$16,$W37>$V$16,$AA37>$Z$16,IF($AF$12<>\"Y\",OR($AA37>$Z$16,$AE37>$AD$16),ROUND(($AA37+$AE37),2)>$Z$16)),1,0),0),IF($FL37=1,IF(AND($AE37>$AD$16,$AF$12=\"N\"),1,0),0))","v":0},null,null,{"$f":"MAX($FQ$36,$FL$10)","v":1}]
[{"$f":"A37+1","v":3},{"$nulls":4},"N/A",{"$nulls":10},"","","",null,"","","",null,"","","",null,"","","",{"$nulls":5},"","","","","","","","",null,0,{"$nulls":3},"","","",null,"","","",null,"","","",null,"","","",{"$nulls":8},"",{"$nulls":4},"",{"$nulls":4},"",{"$nulls":15},"",{"$nulls":4},"",{"$nulls":4},"",{"$nulls":15},"",{"$nulls":4},"",{"$nulls":4},"",{"$nulls":15},"",{"$nulls":4},"",{"$nulls":4},"",{"$nulls":6},0,{"$f":"SUM($FL$36:$FL38)","v":0},0]
[4,{"$nulls":4},"N/A",{"$nulls":10},"","","",null,"","","",null,"","","",null,"","","",{"$nulls":5},"","","","","","","","",null,0,{"$nulls":3},"","","",null,"","","",null,"","","",null,"","","",{"$nulls":8},"",{"$nulls":4},"",{"$nulls":4},"",{"$nulls":15},"",{"$nulls":4},"",{"$nulls":4},"",{"$nulls":15},"",{"$nulls":4},"",{"$nulls":4},"",{"$nulls":15},"",{"$nulls":4},"",{"$nulls":4},"",{"$nulls":6},0,{"$f":"SUM($FL$36:$FL39)","v":0},0,null,null,"then, the larger of that sample size or 1  (or if Part 94 and cat1,  can be 0)"]
[5,{"$nulls":4},"N/A",{"$nulls":10},"","","",null,"","","",null,"","","",null,"","","",{"$nulls":5},"","","","","","","","",null,0,{"$nulls":3},"","","",null,"","","",null,"","","",null,"","","",{"$nulls":8},"",{"$nulls":4},"",{"$nulls":4},"",{"$nulls":15},"",{"$nulls":4},"",{"$nulls":4},"",{"$nulls":15},"",{"$nulls":4},"",{"$nulls":4},"",{"$nulls":15},"",{"$nulls":4},"",{"$nulls":4},"",{"$nulls":6},0,{"$f":"SUM($FL$36:$FL40)","v":0},0]
[6,{"$nulls":4},"N/A",{"$nulls":10},"","","",null,"","","",null,"","","",null,"","","",{"$nulls":5},"","","","","","","","",null,0,{"$nulls":3},"","","",null,"","","",null,"","","",null,"","","",{"$nulls":8},"",{"$nulls":4},"",{"$nulls":4},"",{"$nulls":15},"",{"$nulls":4},"",{"$nulls":4},"",{"$nulls":15},"",{"$nulls":4},"",{"$nulls":4},"",{"$nulls":15},"",{"$nulls":4},"",{"$nulls":4},"",{"$nulls":6},0,{"$f":"SUM($FL$36:$FL41)","v":0},0]
[7,{"$nulls":4},"N/A",{"$nulls":10},"","","",null,"","","",null,"","","",null,"","","",{"$nulls":5},"","","","","","","","",null,0,{"$nulls":3},"","","",null,"","","",null,"","","",null,"","","",{"$nulls":8},"",{"$nulls":4},"",{"$nulls":4},"",{"$nulls":15},"",{"$nulls":4},"",{"$nulls":4},"",{"$nulls":15},"",{"$nulls":4},"",{"$nulls":4},"",{"$nulls":15},"",{"$nulls":4},"",{"$nulls":4},"",{"$nulls":6},0,{"$f":"SUM($FL$36:$FL42)","v":0},0]
[8,{"$nulls":4},"N/A",{"$nulls":10},"","","",null,"","","",null,"","","",null,"","","",{"$nulls":5},"","","","","","","","",null,0,{"$nulls":3},"","","",null,"","","",null,"","","",null,"","","",{"$nulls":8},"",{"$nulls":4},"",{"$nulls":4},"",{"$nulls":15},"",{"$nulls":4},"",{"$nulls":4},"",{"$nulls":15},"",{"$nulls":4},"",{"$nulls":4},"",{"$nulls":15},"",{"$nulls":4},"",{"$nulls":4},"",{"$nulls":6},0,{"$f":"SUM($FL$36:$FL43)","v":0},0]
[9,{"$nulls":4},"N/A",{"$nulls":10},"","","",null,"","","",null,"","","",null,"","","",{"$nulls":5},"","","","","","","","",null,0,{"$nulls":3},"","","",null,"","","",null,"","","",null,"","","",{"$nulls":8},"",{"$nulls":4},"",{"$nulls":4},"",{"$nulls":15},"",{"$nulls":4},"",{"$nulls":4},"",{"$nulls":15},"",{"$nulls":4},"",{"$nulls":4},"",{"$nulls":15},"",{"$nulls":4},"",{"$nulls":4},"",{"$nulls":6},0,{"$f":"SUM($FL$36:$FL44)","v":0},0]
[10,{"$nulls":4},"N/A",{"$nulls":10},"","","",null,"","","",null,"","","",null,"","","",{"$nulls":5},"","","","","","","","",null,0,{"$nulls":3},"","","",null,"","","",null,"","","",null,"","","",{"$nulls":8},"",{"$nulls":4},"",{"$nulls":4},"",{"$nulls":15},"",{"$nulls":4},"",{"$nulls":4},"",{"$nulls":15},"",{"$nulls":4},"",{"$nulls":4},"",{"$nulls":15},"",{"$nulls":4},"",{"$nulls":4},"",{"$nulls":6},0,{"$f":"SUM($FL$36:$FL45)","v":0},0]
[11,{"$nulls":4},"N/A",{"$nulls":10},"","","",null,"","","",null,"","","",null,"","","",{"$nulls":5},"","","","","","","","",null,0,{"$nulls":3},"","","",null,"","","",null,"","","",null,"","","",{"$nulls":8},"",{"$nulls":4},"",{"$nulls":4},"",{"$nulls":15},"",{"$nulls":4},"",{"$nulls":4},"",{"$nulls":15},"",{"$nulls":4},"",{"$nulls":4},"",{"$nulls":15},"",{"$nulls":4},"",{"$nulls":4},"",{"$nulls":6},0,{"$f":"SUM($FL$36:$FL46)","v":0},0]
[12,{"$nulls":4},"N/A",{"$nulls":10},"","","",null,"","","",null,"","","",null,"","","",{"$nulls":5},"","","","","","","","",null,0,{"$nulls":3},"","","",null,"","","",null,"","","",null,"","","",{"$nulls":8},"",{"$nulls":4},"",{"$nulls":4},"",{"$nulls":15},"",{"$nulls":4},"",{"$nulls":4},"",{"$nulls":15},"",{"$nulls":4},"",{"$nulls":4},"",{"$nulls":15},"",{"$nulls":4},"",{"$nulls":4},"",{"$nulls":6},0,{"$f":"SUM($FL$36:$FL47)","v":0},0]
[13,{"$nulls":4},"N/A",{"$nulls":10},"","","",null,"","","",null,"","","",null,"","","",{"$nulls":5},"","","","","","","","",null,0,{"$nulls":3},"","","",null,"","","",null,"","","",null,"","","",{"$nulls":8},"",{"$nulls":4},"",{"$nulls":4},"",{"$nulls":15},"",{"$nulls":4},"",{"$nulls":4},"",{"$nulls":15},"",{"$nulls":4},"",{"$nulls":4},"",{"$nulls":15},"",{"$nulls":4},"",{"$nulls":4},"",{"$nulls":6},0,{"$f":"SUM($FL$36:$FL48)","v":0},0]
[14,{"$nulls":4},"N/A",{"$nulls":10},"","","",null,"","","",null,"","","",null,"","","",{"$nulls":5},"","","","","","","","",null,0,{"$nulls":3},"","","",null,"","","",null,"","","",null,"","","",{"$nulls":8},"",{"$nulls":4},"",{"$nulls":4},"",{"$nulls":15},"",{"$nulls":4},"",{"$nulls":4},"",{"$nulls":15},"",{"$nulls":4},"",{"$nulls":4},"",{"$nulls":15},"",{"$nulls":4},"",{"$nulls":4},"",{"$nulls":6},0,{"$f":"SUM($FL$36:$FL49)","v":0},0]
[15,{"$nulls":4},"N/A",{"$nulls":10},"","","",null,"","","",null,"","","",null,"","","",{"$nulls":5},"","","","","","","","",null,0,{"$nulls":3},"","","",null,"","","",null,"","","",null,"","","",{"$nulls":8},"",{"$nulls":4},"",{"$nulls":4},"",{"$nulls":15},"",{"$nulls":4},"",{"$nulls":4},"",{"$nulls":15},"",{"$nulls":4},"",{"$nulls":4},"",{"$nulls":15},"",{"$nulls":4},"",{"$nulls":4},"",{"$nulls":6},0,{"$f":"SUM($FL$36:$FL50)","v":0},0]
[16,{"$nulls":4},"N/A",{"$nulls":10},"","","",null,"","","",null,"","","",null,"","","",{"$nulls":5},"","","","","","","","",null,0,{"$nulls":3},"","","",null,"","","",null,"","","",null,"","","",{"$nulls":8},"",{"$nulls":4},"",{"$nulls":4},"",{"$nulls":15},"",{"$nulls":4},"",{"$nulls":4},"",{"$nulls":15},"",{"$nulls":4},"",{"$nulls":4},"",{"$nulls":15},"",{"$nulls":4},"",{"$nulls":4},"",{"$nulls":6},0,{"$f":"SUM($FL$36:$FL51)","v":0},0]
[17,{"$nulls":4},"N/A",{"$nulls":10},"","","",null,"","","",null,"","","",null,"","","",{"$nulls":5},"","","","","","","","",null,0,{"$nulls":3},"","","",null,"","","",null,"","","",null,"","","",{"$nulls":8},"",{"$nulls":4},"",{"$nulls":4},"",{"$nulls":15},"",{"$nulls":4},"",{"$nulls":4},"",{"$nulls":15},"",{"$nulls":4},"",{"$nulls":4},"",{"$nulls":15},"",{"$nulls":4},"",{"$nulls":4},"",{"$nulls":6},0,{"$f":"SUM($FL$36:$FL52)","v":0},0]
[18,{"$nulls":4},"N/A",{"$nulls":10},"","","",null,"","","",null,"","","",null,"","","",{"$nulls":5},"","","","","","","","",null,0,{"$nulls":3},"","","",null,"","","",null,"","","",null,"","","",{"$nulls":8},"",{"$nulls":4},"",{"$nulls":4},"",{"$nulls":15},"",{"$nulls":4},"",{"$nulls":4},"",{"$nulls":15},"",{"$nulls":4},"",{"$nulls":4},"",{"$nulls":15},"",{"$nulls":4},"",{"$nulls":4},"",{"$nulls":6},0,{"$f":"SUM($FL$36:$FL53)","v":0},0]
[19,{"$nulls":4},"N/A",{"$nulls":10},"","","",null,"","","",null,"","","",null,"","","",{"$nulls":5},"","","","","","","","",null,0,{"$nulls":3},"","","",null,"","","",null,"","","",null,"","","",{"$nulls":8},"",{"$nulls":4},"",{"$nulls":4},"",{"$nulls":15},"",{"$nulls":4},"",{"$nulls":4},"",{"$nulls":15},"",{"$nulls":4},"",{"$nulls":4},"",{"$nulls":15},"",{"$nulls":4},"",{"$nulls":4},"",{"$nulls":6},0,{"$f":"SUM($FL$36:$FL54)","v":0},0]
[20,{"$nulls":4},"N/A",{"$nulls":10},"","","",null,"","","",null,"","","",null,"","","",{"$nulls":5},"","","","","","","","",null,0,{"$nulls":3},"","","",null,"","","",null,"","","",null,"","","",{"$nulls":8},"",{"$nulls":4},"",{"$nulls":4},"",{"$nulls":15},"",{"$nulls":4},"",{"$nulls":4},"",{"$nulls":15},"",{"$nulls":4},"",{"$nulls":4},"",{"$nulls":15},"",{"$nulls":4},"",{"$nulls":4},"",{"$nulls":6},0,{"$f":"SUM($FL$36:$FL55)","v":0},0]
[21,{"$nulls":4},"N/A",{"$nulls":10},"","","",null,"","","",null,"","","",null,"","","",{"$nulls":5},"","","","","","","","",null,0,{"$nulls":3},"","","",null,"","","",null,"","","",null,"","","",{"$nulls":8},"",{"$nulls":4},"",{"$nulls":4},"",{"$nulls":15},"",{"$nulls":4},"",{"$nulls":4},"",{"$nulls":15},"",{"$nulls":4},"",{"$nulls":4},"",{"$nulls":15},"",{"$nulls":4},"",{"$nulls":4},"",{"$nulls":6},0,{"$f":"SUM($FL$36:$FL56)","v":0},0]
[22,{"$nulls":4},"N/A",{"$nulls":10},"","","",null,"","","",null,"","","",null,"","","",{"$nulls":5},"","","","","","","","",null,0,{"$nulls":3},"","","",null,"","","",null,"","","",null,"","","",{"$nulls":8},"",{"$nulls":4},"",{"$nulls":4},"",{"$nulls":15},"",{"$nulls":4},"",{"$nulls":4},"",{"$nulls":15},"",{"$nulls":4},"",{"$nulls":4},"",{"$nulls":15},"",{"$nulls":4},"",{"$nulls":4},"",{"$nulls":6},0,{"$f":"SUM($FL$36:$FL57)","v":0},0]
[23,{"$nulls":4},"N/A",{"$nulls":10},"","","",null,"","","",null,"","","",null,"","","",{"$nulls":5},"","","","","","","","",null,0,{"$nulls":3},"","","",null,"","","",null,"","","",null,"","","",{"$nulls":8},"",{"$nulls":4},"",{"$nulls":4},"",{"$nulls":15},"",{"$nulls":4},"",{"$nulls":4},"",{"$nulls":15},"",{"$nulls":4},"",{"$nulls":4},"",{"$nulls":15},"",{"$nulls":4},"",{"$nulls":4},"",{"$nulls":6},0,{"$f":"SUM($FL$36:$FL58)","v":0},0]
[24,{"$nulls":4},"N/A",{"$nulls":10},"","","",null,"","","",null,"","","",null,"","","",{"$nulls":5},"","","","","","","","",null,0,{"$nulls":3},"","","",null,"","","",null,"","","",null,"","","",{"$nulls":8},"",{"$nulls":4},"",{"$nulls":4},"",{"$nulls":15},"",{"$nulls":4},"",{"$nulls":4},"",{"$nulls":15},"",{"$nulls":4},"",{"$nulls":4},"",{"$nulls":15},"",{"$nulls":4},"",{"$nulls":4},"",{"$nulls":6},0,{"$f":"SUM($FL$36:$FL59)","v":0},0]
[25,{"$nulls":4},"N/A",{"$nulls":10},"","","",null,"","","",null,"","","",null,"","","",{"$nulls":5},"","","","","","","","",null,0,{"$nulls":3},"","","",null,"","","",null,"","","",null,"","","",{"$nulls":8},"",{"$nulls":4},"",{"$nulls":4},"",{"$nulls":15},"",{"$nulls":4},"",{"$nulls":4},"",{"$nulls":15},"",{"$nulls":4},"",{"$nulls":4},"",{"$nulls":15},"",{"$nulls":4},"",{"$nulls":4},"",{"$nulls":6},0,{"$f":"SUM($FL$36:$FL60)","v":0},0]
[26,{"$nulls":4},"N/A",{"$nulls":10},"","","",null,"","","",null,"","","",null,"","","",{"$nulls":5},"","","","","","","","",null,0,{"$nulls":3},"","","",null,"","","",null,"","","",null,"","","",{"$nulls":8},"",{"$nulls":4},"",{"$nulls":4},"",{"$nulls":15},"",{"$nulls":4},"",{"$nulls":4},"",{"$nulls":15},"",{"$nulls":4},"",{"$nulls":4},"",{"$nulls":15},"",{"$nulls":4},"",{"$nulls":4},"",{"$nulls":6},0,{"$f":"SUM($FL$36:$FL61)","v":0},0]
[27,{"$nulls":4},"N/A",{"$nulls":10},"","","",null,"","","",null,"","","",null,"","","",{"$nulls":5},"","","","","","","","",null,0,{"$nulls":3},"","","",null,"","","",null,"","","",null,"","","",{"$nulls":8},"",{"$nulls":4},"",{"$nulls":4},"",{"$nulls":15},"",{"$nulls":4},"",{"$nulls":4},"",{"$nulls":15},"",{"$nulls":4},"",{"$nulls":4},"",{"$nulls":15},"",{"$nulls":4},"",{"$nulls":4},"",{"$nulls":6},0,{"$f":"SUM($FL$36:$FL62)","v":0},0]
[28,{"$nulls":4},"N/A",{"$nulls":10},"","","",null,"","","",null,"","","",null,"","","",{"$nulls":5},"","","","","","","","",null,0,{"$nulls":3},"","","",null,"","","",null,"","","",null,"","","",{"$nulls":8},"",{"$nulls":4},"",{"$nulls":4},"",{"$nulls":15},"",{"$nulls":4},"",{"$nulls":4},"",{"$nulls":15},"",{"$nulls":4},"",{"$nulls":4},"",{"$nulls":15},"",{"$nulls":4},"",{"$nulls":4},"",{"$nulls":6},0,{"$f":"SUM($FL$36:$FL63)","v":0},0]
[29,{"$nulls":4},"N/A",{"$nulls":10},"","","",null,"","","",null,"","","",null,"","","",{"$nulls":5},"","","","","","","","",null,0,{"$nulls":3},"","","",null,"","","",null,"","","",null,"","","",{"$nulls":8},"",{"$nulls":4},"",{"$nulls":4},"",{"$nulls":15},"",{"$nulls":4},"",{"$nulls":4},"",{"$nulls":15},"",{"$nulls":4},"",{"$nulls":4},"",{"$nulls":15},"",{"$nulls":4},"",{"$nulls":4},"",{"$nulls":6},0,{"$f":"SUM($FL$36:$FL64)","v":0},0]
[30,{"$nulls":4},"N/A",{"$nulls":10},"","","",null,"","","",null,"","","",null,"","","",{"$nulls":5},"","","","","","","","",null,0,{"$nulls":3},"","","",null,"","","",null,"","","",null,"","","",{"$nulls":8},"",{"$nulls":4},"",{"$nulls":4},"",{"$nulls":15},"",{"$nulls":4},"",{"$nulls":4},"",{"$nulls":15},"",{"$nulls":4},"",{"$nulls":4},"",{"$nulls":15},"",{"$nulls":4},"",{"$nulls":4},"",{"$nulls":6},0,{"$f":"SUM($FL$36:$FL65)","v":0},0]
[31,{"$nulls":4},"N/A",{"$nulls":10},"","","",null,"","","",null,"","","",null,"","","",{"$nulls":5},"","","","","","","","",null,0,{"$nulls":3},"","","",null,"","","",null,"","","",null,"","","",{"$nulls":8},"",{"$nulls":4},"",{"$nulls":4},"",{"$nulls":15},"",{"$nulls":4},"",{"$nulls":4},"",{"$nulls":15},"",{"$nulls":4},"",{"$nulls":4},"",{"$nulls":15},"",{"$nulls":4},"",{"$nulls":4},"",{"$nulls":6},0,{"$f":"SUM($FL$36:$FL66)","v":0},0]
[32,{"$nulls":4},"N/A",{"$nulls":10},"","","",null,"","","",null,"","","",null,"","","",{"$nulls":5},"","","","","","","","",null,0,{"$nulls":3},"","","",null,"","","",null,"","","",null,"","","",{"$nulls":8},"",{"$nulls":4},"",{"$nulls":4},"",{"$nulls":15},"",{"$nulls":4},"",{"$nulls":4},"",{"$nulls":15},"",{"$nulls":4},"",{"$nulls":4},"",{"$nulls":15},"",{"$nulls":4},"",{"$nulls":4},"",{"$nulls":6},0,{"$f":"SUM($FL$36:$FL67)","v":0},0]
[33,{"$nulls":4},"N/A",{"$nulls":10},"","","",null,"","","",null,"","","",null,"","","",{"$nulls":5},"","","","","","","","",null,0,{"$nulls":3},"","","",null,"","","",null,"","","",null,"","","",{"$nulls":8},"",{"$nulls":4},"",{"$nulls":4},"",{"$nulls":15},"",{"$nulls":4},"",{"$nulls":4},"",{"$nulls":15},"",{"$nulls":4},"",{"$nulls":4},"",{"$nulls":15},"",{"$nulls":4},"",{"$nulls":4},"",{"$nulls":6},0,{"$f":"SUM($FL$36:$FL68)","v":0},0]
[34,{"$nulls":4},"N/A",{"$nulls":10},"","","",null,"","","",null,"","","",null,"","","",{"$nulls":5},"","","","","","","","",null,0,{"$nulls":3},"","","",null,"","","",null,"","","",null,"","","",{"$nulls":8},"",{"$nulls":4},"",{"$nulls":4},"",{"$nulls":15},"",{"$nulls":4},"",{"$nulls":4},"",{"$nulls":15},"",{"$nulls":4},"",{"$nulls":4},"",{"$nulls":15},"",{"$nulls":4},"",{"$nulls":4},"",{"$nulls":6},0,{"$f":"SUM($FL$36:$FL69)","v":0},0]
[35,{"$nulls":4},"N/A",{"$nulls":10},"","","",null,"","","",null,"","","",null,"","","",{"$nulls":5},"","","","","","","","",null,0,{"$nulls":3},"","","",null,"","","",null,"","","",null,"","","",{"$nulls":8},"",{"$nulls":4},"",{"$nulls":4},"",{"$nulls":15},"",{"$nulls":4},"",{"$nulls":4},"",{"$nulls":15},"",{"$nulls":4},"",{"$nulls":4},"",{"$nulls":15},"",{"$nulls":4},"",{"$nulls":4},"",{"$nulls":6},0,{"$f":"SUM($FL$36:$FL70)","v":0},0]
[36,{"$nulls":4},"N/A",{"$nulls":10},"","","",null,"","","",null,"","","",null,"","","",{"$nulls":5},"","","","","","","","",null,0,{"$nulls":3},"","","",null,"","","",null,"","","",null,"","","",{"$nulls":8},"",{"$nulls":4},"",{"$nulls":4},"",{"$nulls":15},"",{"$nulls":4},"",{"$nulls":4},"",{"$nulls":15},"",{"$nulls":4},"",{"$nulls":4},"",{"$nulls":15},"",{"$nulls":4},"",{"$nulls":4},"",{"$nulls":6},0,{"$f":"SUM($FL$36:$FL71)","v":0},0]
[37,{"$nulls":4},"N/A",{"$nulls":10},"","","",null,"","","",null,"","","",null,"","","",{"$nulls":5},"","","","","","","","",null,0,{"$nulls":3},"","","",null,"","","",null,"","","",null,"","","",{"$nulls":8},"",{"$nulls":4},"",{"$nulls":4},"",{"$nulls":15},"",{"$nulls":4},"",{"$nulls":4},"",{"$nulls":15},"",{"$nulls":4},"",{"$nulls":4},"",{"$nulls":15},"",{"$nulls":4},"",{"$nulls":4},"",{"$nulls":6},0,{"$f":"SUM($FL$36:$FL72)","v":0},0]
[38,{"$nulls":4},"N/A",{"$nulls":10},"","","",null,"","","",null,"","","",null,"","","",{"$nulls":5},"","","","","","","","",null,0,{"$nulls":3},"","","",null,"","","",null,"","","",null,"","","",{"$nulls":8},"",{"$nulls":4},"",{"$nulls":4},"",{"$nulls":15},"",{"$nulls":4},"",{"$nulls":4},"",{"$nulls":15},"",{"$nulls":4},"",{"$nulls":4},"",{"$nulls":15},"",{"$nulls":4},"",{"$nulls":4},"",{"$nulls":6},0,{"$f":"SUM($FL$36:$FL73)","v":0},0]
[39,{"$nulls":4},"N/A",{"$nulls":10},"","","",null,"","","",null,"","","",null,"","","",{"$nulls":5},"","","","","","","","",null,0,{"$nulls":3},"","","",null,"","","",null,"","","",null,"","","",{"$nulls":8},"",{"$nulls":4},"",{"$nulls":4},"",{"$nulls":15},"",{"$nulls":4},"",{"$nulls":4},"",{"$nulls":15},"",{"$nulls":4},"",{"$nulls":4},"",{"$nulls":15},"",{"$nulls":4},"",{"$nulls":4},"",{"$nulls":6},0,{"$f":"SUM($FL$36:$FL74)","v":0},0]
[40,{"$nulls":4},"N/A",{"$nulls":10},"","","",null,"","","",null,"","","",null,"","","",{"$nulls":5},"","","","","","","","",null,0,{"$nulls":3},"","","",null,"","","",null,"","","",null,"","","",{"$nulls":8},"",{"$nulls":4},"",{"$nulls":4},"",{"$nulls":15},"",{"$nulls":4},"",{"$nulls":4},"",{"$nulls":15},"",{"$nulls":4},"",{"$nulls":4},"",{"$nulls":15},"",{"$nulls":4},"",{"$nulls":4},"",{"$nulls":6},0,{"$f":"SUM($FL$36:$FL75)","v":0},0]
[41,{"$nulls":4},"N/A",{"$nulls":10},"","","",null,"","","",null,"","","",null,"","","",{"$nulls":5},"","","","","","","","",null,0,{"$nulls":3},"","","",null,"","","",null,"","","",null,"","","",{"$nulls":8},"",{"$nulls":4},"",{"$nulls":4},"",{"$nulls":15},"",{"$nulls":4},"",{"$nulls":4},"",{"$nulls":15},"",{"$nulls":4},"",{"$nulls":4},"",{"$nulls":15},"",{"$nulls":4},"",{"$nulls":4},"",{"$nulls":6},0,{"$f":"SUM($FL$36:$FL76)","v":0},0]
[42,{"$nulls":4},"N/A",{"$nulls":10},"","","",null,"","","",null,"","","",null,"","","",{"$nulls":5},"","","","","","","","",null,0,{"$nulls":3},"","","",null,"","","",null,"","","",null,"","","",{"$nulls":8},"",{"$nulls":4},"",{"$nulls":4},"",{"$nulls":15},"",{"$nulls":4},"",{"$nulls":4},"",{"$nulls":15},"",{"$nulls":4},"",{"$nulls":4},"",{"$nulls":15},"",{"$nulls":4},"",{"$nulls":4},"",{"$nulls":6},0,{"$f":"SUM($FL$36:$FL77)","v":0},0]
[43,{"$nulls":4},"N/A",{"$nulls":10},"","","",null,"","","",null,"","","",null,"","","",{"$nulls":5},"","","","","","","","",null,0,{"$nulls":3},"","","",null,"","","",null,"","","",null,"","","",{"$nulls":8},"",{"$nulls":4},"",{"$nulls":4},"",{"$nulls":15},"",{"$nulls":4},"",{"$nulls":4},"",{"$nulls":15},"",{"$nulls":4},"",{"$nulls":4},"",{"$nulls":15},"",{"$nulls":4},"",{"$nulls":4},"",{"$nulls":6},0,{"$f":"SUM($FL$36:$FL78)","v":0},0]
[44,{"$nulls":4},"N/A",{"$nulls":10},"","","",null,"","","",null,"","","",null,"","","",{"$nulls":5},"","","","","","","","",null,0,{"$nulls":3},"","","",null,"","","",null,"","","",null,"","","",{"$nulls":8},"",{"$nulls":4},"",{"$nulls":4},"",{"$nulls":15},"",{"$nulls":4},"",{"$nulls":4},"",{"$nulls":15},"",{"$nulls":4},"",{"$nulls":4},"",{"$nulls":15},"",{"$nulls":4},"",{"$nulls":4},"",{"$nulls":6},0,{"$f":"SUM($FL$36:$FL79)","v":0},0]
[45,{"$nulls":4},"N/A",{"$nulls":10},"","","",null,"","","",null,"","","",null,"","","",{"$nulls":5},"","","","","","","","",null,0,{"$nulls":3},"","","",null,"","","",null,"","","",null,"","","",{"$nulls":8},"",{"$nulls":4},"",{"$nulls":4},"",{"$nulls":15},"",{"$nulls":4},"",{"$nulls":4},"",{"$nulls":15},"",{"$nulls":4},"",{"$nulls":4},"",{"$nulls":15},"",{"$nulls":4},"",{"$nulls":4},"",{"$nulls":6},0,{"$f":"SUM($FL$36:$FL80)","v":0},0]
[46,{"$nulls":4},"N/A",{"$nulls":10},"","","",null,"","","",null,"","","",null,"","","",{"$nulls":5},"","","","","","","","",null,0,{"$nulls":3},"","","",null,"","","",null,"","","",null,"","","",{"$nulls":8},"",{"$nulls":4},"",{"$nulls":4},"",{"$nulls":15},"",{"$nulls":4},"",{"$nulls":4},"",{"$nulls":15},"",{"$nulls":4},"",{"$nulls":4},"",{"$nulls":15},"",{"$nulls":4},"",{"$nulls":4},"",{"$nulls":6},0,{"$f":"SUM($FL$36:$FL81)","v":0},0]
[47,{"$nulls":4},"N/A",{"$nulls":10},"","","",null,"","","",null,"","","",null,"","","",{"$nulls":5},"","","","","","","","",null,0,{"$nulls":3},"","","",null,"","","",null,"","","",null,"","","",{"$nulls":8},"",{"$nulls":4},"",{"$nulls":4},"",{"$nulls":15},"",{"$nulls":4},"",{"$nulls":4},"",{"$nulls":15},"",{"$nulls":4},"",{"$nulls":4},"",{"$nulls":15},"",{"$nulls":4},"",{"$nulls":4},"",{"$nulls":6},0,{"$f":"SUM($FL$36:$FL82)","v":0},0]
[48,{"$nulls":4},"N/A",{"$nulls":10},"","","",null,"","","",null,"","","",null,"","","",{"$nulls":5},"","","","","","","","",null,0,{"$nulls":3},"","","",null,"","","",null,"","","",null,"","","",{"$nulls":8},"",{"$nulls":4},"",{"$nulls":4},"",{"$nulls":15},"",{"$nulls":4},"",{"$nulls":4},"",{"$nulls":15},"",{"$nulls":4},"",{"$nulls":4},"",{"$nulls":15},"",{"$nulls":4},"",{"$nulls":4},"",{"$nulls":6},0,{"$f":"SUM($FL$36:$FL83)","v":0},0]
[49,{"$nulls":4},"N/A",{"$nulls":10},"","","",null,"","","",null,"","","",null,"","","",{"$nulls":5},"","","","","","","","",null,0,{"$nulls":3},"","","",null,"","","",null,"","","",null,"","","",{"$nulls":8},"",{"$nulls":4},"",{"$nulls":4},"",{"$nulls":15},"",{"$nulls":4},"",{"$nulls":4},"",{"$nulls":15},"",{"$nulls":4},"",{"$nulls":4},"",{"$nulls":15},"",{"$nulls":4},"",{"$nulls":4},"",{"$nulls":6},0,{"$f":"SUM($FL$36:$FL84)","v":0},0]
[50,{"$nulls":4},"N/A",{"$nulls":10},"","","",null,"","","",null,"","","",null,"","","",{"$nulls":5},"","","","","","","","",null,0,{"$nulls":3},"","","",null,"","","",null,"","","",null,"",{"$f":"IF($B85=\"Y\",IF(AND($AC85<>\"\",$AQ84<>\"\",$AR84<>\"\"),($AC85+$AQ84)/($AR84+1),\"\"),\"\")","v":""},"",{"$nulls":8},"",{"$nulls":4},"",{"$nulls":4},"",{"$nulls":15},"",{"$nulls":4},"",{"$nulls":4},"",{"$nulls":15},"",{"$nulls":4},"",{"$nulls":4},"",{"$nulls":15},"",{"$nulls":4},"",{"$nulls":4},"",{"$nulls":6},0,{"$f":"SUM($FL$36:$FL85)","v":0},0]
[null,null,{"$f":"SUM(C36:C85)","v":0}]
["g/bhp-hr"]
["g/kW-hr"]

{"sheet":"Engine Family #16","index":18,"n_rows":88,"n_cols":176,"rows_kept":88,"merged":[[1,0,1,35],[2,0,2,35],[3,0,3,35],[4,0,4,35],[5,0,5,35],[6,0,6,35],[10,4,10,6],[10,12,10,13],[11,4,11,6],[11,15,11,16],[11,19,11,20],[11,23,11,24],[11,27,11,28],[12,4,12,6],[13,4,13,6],[14,4,15,6],[17,14,22,14],[27,4,30,13],[27,15,28,16],[32,0,32,35],[33,45,34,45]]}
[]
["United States"]
["US Environmental Protection Agency"]
["Office of Air and Radiation, Office of Transportation and Air Quality"]
[{"$nulls":37},"Tier 2","Y",94]
["Manufacturer Production Line Testing Report for Marine Compression Ignition Engines",{"$nulls":36},"Tier 3","N",1042]
[{"$f":"Summary!B7","v":"Version Number: 1.4 DRAFT  Last Revision: September 2023"},{"$nulls":36},"Tier 4",null,"N/A"]
[]
["Basic Information: Engine Family #16"]
[{"$nulls":167},{"$f":"IF(AND($G$24=94,Summary!$L$13=\"Category 1\"),0,1)","v":1}]
[null,null,"Manufacturer:",null,{"$f":"IF(Summary!D12<>\"\",Summary!D12,\"\")","v":""},{"$nulls":3},"Engine Family:",{"$nulls":31},{"$f":"IF($G$19=\"Diesel\",\"'HC' refers to 'THC' \",IF($G$19=\"Natural Gas\",\"'HC' refers to 'NMHC' \",IF($G$19=\"Alcohol\",\"'HC' refers to 'THCE' \",\"\")))","v":""}]
[null,null,"PLT Test Contact:",null,{"$f":"IF(Summary!D13<>\"\",Summary!D13,\"\")","v":""},{"$nulls":3},"Production (Category 3 only):",{"$nulls":6},{"$f":"IF(N16<>\"Y\", \"Current CO Result\", \"Final CO Result\")","v":"Current CO Result"},null,{"$f":"$CJ$36","v":""},null,{"$f":"IF(N16<>\"Y\", \"Current PM Result\", \"Final PM Result\")","v":"Current PM Result"},null,{"$f":"$DJ$36","v":""},null,{"$f":"IF($AF$12=\"Y\",IF(N16<>\"Y\", \"Current NOx+HC Result\", \"Final NOx+HC Result\"),IF(N16<>\"Y\", \"Current HC Result\", \"Final HC Result\"))","v":"Current HC Result"},null,{"$f":"IF($AF$12=\"Y\",IF($FP$36>0,ROUND($EJ$36+$FJ$36,2),\"\"),$EJ$36)","v":""},null,{"$f":"IF(N16<>\"Y\", \"Current NOx Result\",\"Final NOx Result\")","v":"Current NOx Result"},null,{"$f":"$FJ$36","v":""},null,{"$f":"IF($L$13<>\"Category 3\",IF($G$23=\"\",\"N\",$G$23),\"N\")","v":"N"},{"$f":"IF(Summary!$L$13=\"Category 3\",\"CAT3\",\"\")","v":""}]
[null,null,"Email Address:",null,{"$f":"IF(Summary!D14<>\"\",Summary!D14,\"\")","v":""},{"$nulls":3},"Date of Start of Model Year Production:"]
[null,null,"Phone #:",null,{"$f":"IF(Summary!D15<>\"\",Summary!D15,\"\")","v":""},{"$nulls":3},"Date of End of Model Year Production:",{"$nulls":14},{"$f":"IF($G$19=\"Diesel\",\"'HC' refers to 'THC' \",IF($G$19=\"Natural Gas\",\"'HC' refers to 'NMHC' \",IF($G$19=\"Alcohol\",\"'HC' refers to 'THCE' \",\"\")))","v":""},{"$nulls":13},"Diesel",1,{"$nulls":6},1]
[null,null,"Test Location & Description:",{"$nulls":5},"Deterioration Factor Type:",{"$nulls":28},"Natural Gas",2,{"$nulls":6},2]
[{"$nulls":8},"Include Results from this Engine Family on Summary Sheet?",{"$nulls":6},"CO Standard ",{"$nulls":3},"PM Standard or FEL",{"$nulls":3},{"$f":"IF($AF$12=\"Y\",\"NOx+HC Standard or FEL\",\"HC Standard\")","v":"HC Standard"},{"$nulls":3},"NOx Standard or FEL",{"$nulls":9},"Alcohol",3,{"$nulls":6},3]
[null,null,"Carryover?:",{"$nulls":5},"Required Tests (including failure follow-ups)",{"$nulls":4},{"$f":"$FO36","v":0},null,"Units",null,"g/kW-hr",null,"Units",null,"g/kW-hr",null,"Units",null,"g/kW-hr",null,"Units",null,"g/kW-hr",{"$nulls":4},"Test Cycle Options",{"$nulls":10},4]
[null,null,{"$f":"IF($G$17=\"Y\",\"Please submit supporting documentation indicating that this is a carry-over engine family\",\"\")","v":""},{"$nulls":5},"Instead of testing, are PLT requirements for this Engine Family",{"$nulls":6},"CO  Det Factor",{"$nulls":3},"PM  Det Factor",{"$nulls":3},"HC Det Factor",{"$nulls":3},"NOx  Det Factor",{"$nulls":6},"1 = 4-Mode General Cycle (E3)",null,null,"Recreational"]
[null,null,"Fuel Type:",{"$nulls":5}," fulfilled under the following (Category 1 only)?",{"$nulls":6},"Det Factor Type",null,{"$f":"IF($N$15<>\"\",$N$15,\"\")","v":""},null,"Det Factor Type",null,{"$f":"IF($N$15<>\"\",$N$15,\"\")","v":""},null,"Det Factor Type",null,{"$f":"IF($N$15<>\"\",$N$15,\"\")","v":""},null,"Det Factor Type",null,{"$f":"IF($N$15<>\"\",$N$15,\"\")","v":""},{"$nulls":4},"2 = 5-Mode Recreational Cycle (E5)",null,null,"Commercial"]
[null,null,"Recreational/Commercial:",{"$nulls":5},"Please elaborate in the comments section.",{"$nulls":6},"CO Green Engine Factor",{"$nulls":3},"PM Green Engine Factor",{"$nulls":3},"HC Green Engine Factor",{"$nulls":3},"NOx Green Engine Factor",{"$nulls":6},"3 = 4-Mode Constant Speed Propulsion Cycle (E2)"]
[null,null,"Model Year:",{"$nulls":5},"    -1042.310(a) - EPA approved combining it, for PLT purposes only.",{"$nulls":25},"4 = 5-Mode Constant Speed Auxiliary Cycle (D2)"]
[null,null,"Tier:",{"$nulls":31},"5 = 6-Mode Variable Speed Auxiliary Cycle (G2)",null,null,"1 (E3)"]
[null,null,"Combined NOx+HC?",{"$nulls":31},"6 = 8-Mode Variable Speed Ausiliary Cycle (C1)",null,null,"2 (E5)"]
[null,null,"40 CFR Part:",{"$nulls":3},{"$f":"AN6","v":1042},null,"Additional testing required by EPA [40 CFR 1042.301(e)]? ",{"$nulls":25},"O = Other",null,null,"3 (E2)"]
[{"$nulls":37},"4 (D2)"]
[{"$nulls":37},"5 (G2)",{"$nulls":132},"deleted and redirected"]
[{"$nulls":22}," ",{"$nulls":14},"6 (C1)",4,{"$nulls":6},4]
[null,null,"Comments:",{"$nulls":34},"O (other)"]
[{"$nulls":22}," ",{"$nulls":22},"additive"]
[{"$nulls":45},"multiplicative",{"$nulls":22},"CO Rounding",{"$nulls":4},"CO Rounding",{"$nulls":4},"CO Rounding",{"$nulls":4},"CO Rounding",{"$nulls":10},"PM Rounding",{"$nulls":4},"PM Rounding",{"$nulls":4},"PM Rounding",{"$nulls":4},"PM Rounding",{"$nulls":10},"HC Rounding",{"$nulls":4},"HC Rounding",{"$nulls":4},"HC Rounding",{"$nulls":4},"HC Rounding",{"$nulls":10},"NOx Rounding",{"$nulls":4},"NOx Rounding",{"$nulls":4},"NOx Rounding",{"$nulls":4},"NOx Rounding"]
[{"$nulls":22}," ",{"$nulls":45},"initial",{"$nulls":4},"final",{"$nulls":4}," det final",{"$nulls":4},"ave of all final",{"$nulls":10},"initial",{"$nulls":4},"final",{"$nulls":4}," det final",{"$nulls":4},"ave of all final",{"$nulls":10},"initial",{"$nulls":4},"final",{"$nulls":4}," det final",{"$nulls":4},"ave of all final",{"$nulls":10},"initial",{"$nulls":4},"final",{"$nulls":4}," det final",{"$nulls":4},"ave of all final"]
[{"$nulls":38},"Y",{"$nulls":6},"Y"]
["PLT Engine Test Results: Engine Family #16",{"$nulls":37},"N",{"$nulls":6},"N",{"$nulls":124},"This is N17"]
[{"$nulls":36},"CO",null,"PM",null,null,"HC or HC+NOX",null,"Nox",null,"Engine Data Complete?",{"$nulls":11},"HC","HC","HC","HC","Nox","Nox","Nox","Nox",{"$nulls":107},"1% of production or pre-approved reduced sample size - whichever is Lower # "]
[null,"Calc Final Result?","Test Number","Test Date","Test Time","Test Qtr","Engine ID","Engine Make","Engine Configuration","Build Date","Green Engine Factor Applied?","Green Engine Factor Determination Method","Service Hours (or miles) Accumulation","Service Hours Location","Service Acc. Procedure","CO Initial Result ","Rounded CO Initial Result ","CO Final Result ","Det. CO Final Result ","PM Initial Result ","Rounded PM Initial Result ","PM Final Result ","Det. PM Final Result ","HC Initial Result ","Rounded HC Initial Result ","HC Final Result ","Det. HC Final Result ","NOx Initial Result ","Rounded NOx Initial Result ","NOx Final Result ","Det. NOx Final Result ","Reason for Failed Test (if applicable)","Remedy","Repairs","Test Cycle","Comments",0,0,0,0,0,0,0,0,{"$nulls":5},"Unrounded initial CO","Unrounded final CO","Det CO","Final CO","Unrounded initial PM","Unrounded final PM","Det PM","Final PM","Unrounded initial HCNOx","Unrounded final HCNOx","Det HCNOx","Final HCNOX","Unrounded initial NOx","Unrounded final NOx","Det NOx","Final HCNOX",{"$nulls":7},"rounded",{"$nulls":4},"rounded",{"$nulls":4},"rounded",{"$nulls":4},"rounded",{"$nulls":10},"rounded",{"$nulls":4},"rounded",{"$nulls":4},"rounded",{"$nulls":4},"rounded",{"$nulls":10},"rounded",{"$nulls":4},"rounded",{"$nulls":4},"rounded",{"$nulls":4},"rounded","ROUNDED AND ACCOUNT FOR BLANK",{"$nulls":9},"rounded",{"$nulls":4},"rounded",{"$nulls":4},"rounded",{"$nulls":4},"rounded","ROUNDED AND ACCOUNT FOR BLANK","Test complete Flag","Total complete","Fail Flag","req","val","baseline req","req due to fails","sum fails","baseline req"]
[1,{"$nulls":4},"N/A",{"$nulls":10},{"$f":"$BU36","v":""},{"$f":"$BZ36","v":""},{"$f":"$CE36","v":""},null,{"$f":"$CU36","v":""},{"$f":"$CZ36","v":""},{"$f":"$DE36","v":""},null,{"$f":"$DU36","v":""},{"$f":"$DZ36","v":""},{"$f":"$EE36","v":""},null,{"$f":"$EU36","v":""},{"$f":"$EZ36","v":""},{"$f":"$FE36","v":""},{"$nulls":5},{"$f":"IF($B36=\"N\",IF(AND($AK35<>\"\",$Q36<>\"\"),$AK35+$Q36,\"\"),IF($B36=\"Y\",0,\"\"))","v":""},{"$f":"IF($B36=\"N\",AL35+1,IF($B36=\"Y\",0,\"\"))","v":""},{"$f":"IF($B36=\"N\",IF(AND($AM35<>\"\",$U36<>\"\"),$AM35+$U36,\"\"),IF($B36=\"Y\",0,\"\"))","v":""},{"$f":"IF($B36=\"N\",AN35+1,IF($B36=\"Y\",0,\"\"))","v":""},{"$f":"IF($B36=\"N\",IF(AND($AO35<>\"\",$Y36<>\"\"),$AO35+$Y36,\"\"),IF($B36=\"Y\",0,\"\"))","v":""},{"$f":"IF($B36=\"N\",AP35+1,IF($B36=\"Y\",0,\"\"))","v":""},{"$f":"IF($B36=\"N\",IF(AND($AQ35<>\"\",$AC36<>\"\"),$AQ35+$AC36,\"\"),IF($B36=\"Y\",0,\"\"))","v":""},{"$f":"IF($B36=\"N\",AR35+1,IF($B36=\"Y\",0,\"\"))","v":""},null,{"$f":"IF(AND(B36<>\"\",C36<>\"\",D36<>\"\",E36<>\"\",G36<>\"\",H36<>\"\",I36<>\"\",J36<>\"\",K36<>\"\",M36<>\"\",N36<>\"\",O36<>\"\"),1,0)","v":0},{"$nulls":3},{"$f":"IF(AND($P36<>\"\",$AT36=1),$P36,\"\")","v":""},{"$f":"IF($B36=\"Y\",IF(AND($Q36<>\"\",$AK35<>\"\",$AL35<>\"\"),($Q36+$AK35)/($AL35+1),\"\"),\"\")","v":""},{"$f":"IF(AND($B36=\"Y\",$R36<>\"\",$R$18<>\"\"),IF($R$19=\"additive\",$R36+$R$18,IF($R$19=\"multiplicative\",$R36*$R$18,\"\")),\"\")","v":""},{"$f":"IF(COUNT($S$36:$S$85)>0,AVERAGE($S$36:$S$85),\"\")","v":""},{"$f":"IF(AND($T36<>\"\",$AT36=1),$T36,\"\")","v":""},{"$f":"IF($B36=\"Y\",IF(AND($U36<>\"\",$AM35<>\"\",$AN35<>\"\"),($U36+$AM35)/($AN35+1),\"\"),\"\")","v":""},{"$f":"IF(AND($B36=\"Y\",$V36<>\"\",$V$18<>\"\"),IF($V$19=\"additive\",$V36+$V$18,IF($V$19=\"multiplicative\",$V36*$V$18,\"\")),\"\")","v":""},{"$f":"IF(COUNT($W$36:$W$85)>0,AVERAGE($W$36:$W$85),\"\")","v":""},{"$f":"IF(AND($X36<>\"\",$AT36=1),$X36,\"\")","v":""},{"$f":"IF($B36=\"Y\",IF(AND($Y36<>\"\",$AO35<>\"\",$AP35<>\"\"),($Y36+$AO35)/($AP35+1),\"\"),\"\")","v":""},{"$f":"IF(AND($B36=\"Y\",$Z36<>\"\",$Z$18<>\"\"),IF($Z$19=\"additive\",$Z36+$Z$18,IF($Z$19=\"multiplicative\",$Z36*$Z$18,\"\")),\"\")","v":""},{"$f":"IF(COUNT($AA$36:$AA$85)>0,AVERAGE($AA$36:$AA$85),\"\")","v":""},{"$f":"IF(AND($AB36<>\"\",$AT36=1),$AB36,\"\")","v":""},{"$f":"IF($B36=\"Y\",IF(AND($AC36<>\"\",$AQ35<>\"\",$AR35<>\"\"),($AC36+$AQ35)/($AR35+1),\"\"),\"\")","v":""},{"$f":"IF(AND($B36=\"Y\",$AD36<>\"\",$AD$18<>\"\"),IF($AD$19=\"additive\",$AD36+$AD$18,IF($AD$19=\"multiplicative\",$AD36*$AD$18,\"\")),\"\")","v":""},{"$f":"IF(COUNT($AE$36:$AE$85)>0,AVERAGE($AE$36:$AE$85),\"\")","v":""},{"$nulls":7},{"$f":"IF($AX36<>\"\",ROUND($AX36,2),\"\")","v":""},{"$nulls":4},{"$f":"IF($AY36<>\"\",ROUND($AY36,2),\"\")","v":""},{"$nulls":4},{"$f":"IF($AZ36<>\"\",ROUND($AZ36,2),\"\")","v":""},{"$nulls":4},{"$f":"IF($BA36<>\"\",ROUND($BA36,2),\"\")","v":""},{"$nulls":10},{"$f":"IF($BB36<>\"\",ROUND($BB36,3),\"\")","v":""},{"$nulls":4},{"$f":"IF($BC36<>\"\",ROUND($BC36,3),\"\")","v":""},{"$nulls":4},{"$f":"IF($BD36<>\"\",ROUND($BD36,3),\"\")","v":""},{"$nulls":4},{"$f":"IF($BE36<>\"\",ROUND($BE36,3),\"\")","v":""},{"$nulls":10},{"$f":"IF($BF36<>\"\",ROUND($BF36,3),\"\")","v":""},{"$nulls":4},{"$f":"IF($BG36<>\"\",ROUND($BG36,3),\"\")","v":""},{"$nulls":4},{"$f":"IF($BH36<>\"\",ROUND($BH36,3),\"\")","v":""},{"$nulls":4},{"$f":"IF($BI36<>\"\",ROUND($BI36,3),\"\")","v":""},{"$f":"IF(EJ36=\"\",0,EJ36)","v":0},{"$nulls":9},{"$f":"IF($BJ36<>\"\",ROUND($BJ36,2),\"\")","v":""},{"$nulls":4},{"$f":"IF($BK36<>\"\",ROUND($BK36,2),\"\")","v":""},{"$nulls":4},{"$f":"IF($BL36<>\"\",ROUND($BL36,2),\"\")","v":""},{"$nulls":4},{"$f":"IF($BM36<>\"\",ROUND($BM36,2),\"\")","v":""},{"$f":"IF(FJ36=\"\",0,FJ36)","v":0},{"$f":"IF($AG$12<>\"CAT3\",IF(AND($B36=\"Y\",$S36<>\"\",$W36<>\"\",$AA36<>\"\",$AE36<>\"\"),1,0),IF($AE36<>\"\",1,0))","v":0},{"$f":"SUM($FL$36:$FL36)","v":0},{"$f":"IF($AG$12<>\"CAT3\",IF($FL36=1,IF(OR($S36>$R$16,$W36>$V$16,$AA36>$Z$16,IF($AF$12<>\"Y\",OR($AA36>$Z$16,$AE36>$AD$16),ROUND(($AA36+$AE36),2)>$Z$16)),1,0),0),IF($FL36=1,IF(AND($AE36>$AD$16,$AF$12=\"N\"),1,0),0))","v":0},{"$f":"IF(OR($M$11=\"\",$N$18=\"Y\"),0,IF($AG$12=\"CAT3\",$N$12,($FR$36+1)))","v":0},{"$f":"SUM(FL36:FL85)","v":0},{"$f":"IF(AND($G$17=\"Y\",$N$24<>\"\"),MIN($N$24,$FT$36),$FT$36)","v":0},{"$f":"$FS$36*2","v":0},{"$f":"SUM(FN36:FN85)","v":0},{"$f":"IF($N$12<>\"\",$N$12*0.01,0)","v":0}]
[{"$f":"A36+1","v":2},{"$nulls":4},"N/A",{"$nulls":10},"","","",null,"","","",null,"","","",null,"","","",{"$nulls":5},"",{"$f":"IF($B37=\"N\",AL36+1,IF($B37=\"Y\",0,\"\"))","v":""},"",{"$f":"IF($B37=\"N\",AN36+1,IF($B37=\"Y\",0,\"\"))","v":""},{"$f":"IF($B37=\"N\",IF(AND($AO36<>\"\",$Y37<>\"\"),$AO36+$Y37,\"\"),IF($B37=\"Y\",0,\"\"))","v":""},{"$f":"IF($B37=\"N\",AP36+1,IF($B37=\"Y\",0,\"\"))","v":""},{"$f":"IF($B37=\"N\",IF(AND($AQ36<>\"\",$AC37<>\"\"),$AQ36+$AC37,\"\"),IF($B37=\"Y\",0,\"\"))","v":""},{"$f":"IF($B37=\"N\",AR36+1,IF($B37=\"Y\",0,\"\"))","v":""},null,{"$f":"IF(AND(B37<>\"\",C37<>\"\",D37<>\"\",E37<>\"\",G37<>\"\",H37<>\"\",I37<>\"\",J37<>\"\",K37<>\"\",M37<>\"\",N37<>\"\",O37<>\"\"),1,0)","v":0},{"$nulls":3},"","",{"$f":"IF(AND($B37=\"Y\",$R37<>\"\",$R$18<>\"\"),IF($R$19=\"additive\",$R37+$R$18,IF($R$19=\"multiplicative\",$R37*$R$18,\"\")),\"\")","v":""},null,"","",{"$f":"IF(AND($B37=\"Y\",$V37<>\"\",$V$18<>\"\"),IF($V$19=\"additive\",$V37+$V$18,IF($V$19=\"multiplicative\",$V37*$V$18,\"\")),\"\")","v":""},null,{"$f":"IF(AND($X37<>\"\",$AT37=1),$X37,\"\")","v":""},{"$f":"IF($B37=\"Y\",IF(AND($Y37<>\"\",$AO36<>\"\",$AP36<>\"\"),($Y37+$AO36)/($AP36+1),\"\"),\"\")","v":""},{"$f":"IF(AND($B37=\"Y\",$Z37<>\"\",$Z$18<>\"\"),IF($Z$19=\"additive\",$Z37+$Z$18,IF($Z$19=\"multiplicative\",$Z37*$Z$18,\"\")),\"\")","v":""},null,{"$f":"IF(AND($AB37<>\"\",$AT37=1),$AB37,\"\")","v":""},{"$f":"IF($B37=\"Y\",IF(AND($AC37<>\"\",$AQ36<>\"\",$AR36<>\"\"),($AC37+$AQ36)/($AR36+1),\"\"),\"\")","v":""},{"$f":"IF(AND($B37=\"Y\",$AD37<>\"\",$AD$18<>\"\"),IF($AD$19=\"additive\",$AD37+$AD$18,IF($AD$19=\"multiplicative\",$AD37*$AD$18,\"\")),\"\")","v":""},{"$nulls":8},{"$f":"IF($AX37<>\"\",ROUND($AX37,2),\"\")","v":""},{"$nulls":4},{"$f":"IF($AY37<>\"\",ROUND($AY37,2),\"\")","v":""},{"$nulls":4},{"$f":"IF($AZ37<>\"\",ROUND($AZ37,2),\"\")","v":""},{"$nulls":15},{"$f":"IF($BB37<>\"\",ROUND($BB37,3),\"\")","v":""},{"$nulls":4},{"$f":"IF($BC37<>\"\",ROUND($BC37,3),\"\")","v":""},{"$nulls":4},{"$f":"IF($BD37<>\"\",ROUND($BD37,3),\"\")","v":""},{"$nulls":15},{"$f":"IF($BF37<>\"\",ROUND($BF37,3),\"\")","v":""},{"$nulls":4},{"$f":"IF($BG37<>\"\",ROUND($BG37,3),\"\")","v":""},{"$nulls":4},{"$f":"IF($BH37<>\"\",ROUND($BH37,3),\"\")","v":""},{"$nulls":15},{"$f":"IF($BJ37<>\"\",ROUND($BJ37,2),\"\")","v":""},{"$nulls":4},{"$f":"IF($BK37<>\"\",ROUND($BK37,2),\"\")","v":""},{"$nulls":4},{"$f":"IF($BL37<>\"\",ROUND($BL37,2),\"\")","v":""},{"$nulls":6},{"$f":"IF($AG$12<>\"CAT3\",IF(AND($B37=\"Y\",$S37<>\"\",$W37<>\"\",$AA37<>\"\",$AE37<>\"\"),1,0),IF($AE37<>\"\",1,0))","v":0},{"$f":"SUM($FL$36:$FL37)","v":0},{"$f":"IF($AG$12<>\"CAT3\",IF($FL37=1,IF(OR($S37>$R$16,$W37>$V$16,$AA37>$Z$16,IF($AF$12<>\"Y\",OR($AA37>$Z$16,$AE37>$AD$16),ROUND(($AA37+$AE37),2)>$Z$16)),1,0),0),IF($FL37=1,IF(AND($AE37>$AD$16,$AF$12=\"N\"),1,0),0))","v":0},null,null,{"$f":"MAX($FQ$36,$FL$10)","v":1}]
[{"$f":"A37+1","v":3},{"$nulls":4},"N/A",{"$nulls":10},"","","",null,"","","",null,"","","",null,"","","",{"$nulls":5},"","","","","","","","",null,0,{"$nulls":3},"","","",null,"","","",null,"","","",null,"","","",{"$nulls":8},"",{"$nulls":4},"",{"$nulls":4},"",{"$nulls":15},"",{"$nulls":4},"",{"$nulls":4},"",{"$nulls":15},"",{"$nulls":4},"",{"$nulls":4},"",{"$nulls":15},"",{"$nulls":4},"",{"$nulls":4},"",{"$nulls":6},0,{"$f":"SUM($FL$36:$FL38)","v":0},0]
[4,{"$nulls":4},"N/A",{"$nulls":10},"","","",null,"","","",null,"","","",null,"","","",{"$nulls":5},"","","","","","","","",null,0,{"$nulls":3},"","","",null,"","","",null,"","","",null,"","","",{"$nulls":8},"",{"$nulls":4},"",{"$nulls":4},"",{"$nulls":15},"",{"$nulls":4},"",{"$nulls":4},"",{"$nulls":15},"",{"$nulls":4},"",{"$nulls":4},"",{"$nulls":15},"",{"$nulls":4},"",{"$nulls":4},"",{"$nulls":6},0,{"$f":"SUM($FL$36:$FL39)","v":0},0,null,null,"then, the larger of that sample size or 1  (or if Part 94 and cat1,  can be 0)"]
[5,{"$nulls":4},"N/A",{"$nulls":10},"","","",null,"","","",null,"","","",null,"","","",{"$nulls":5},"","","","","","","","",null,0,{"$nulls":3},"","","",null,"","","",null,"","","",null,"","","",{"$nulls":8},"",{"$nulls":4},"",{"$nulls":4},"",{"$nulls":15},"",{"$nulls":4},"",{"$nulls":4},"",{"$nulls":15},"",{"$nulls":4},"",{"$nulls":4},"",{"$nulls":15},"",{"$nulls":4},"",{"$nulls":4},"",{"$nulls":6},0,{"$f":"SUM($FL$36:$FL40)","v":0},0]
[6,{"$nulls":4},"N/A",{"$nulls":10},"","","",null,"","","",null,"","","",null,"","","",{"$nulls":5},"","","","","","","","",null,0,{"$nulls":3},"","","",null,"","","",null,"","","",null,"","","",{"$nulls":8},"",{"$nulls":4},"",{"$nulls":4},"",{"$nulls":15},"",{"$nulls":4},"",{"$nulls":4},"",{"$nulls":15},"",{"$nulls":4},"",{"$nulls":4},"",{"$nulls":15},"",{"$nulls":4},"",{"$nulls":4},"",{"$nulls":6},0,{"$f":"SUM($FL$36:$FL41)","v":0},0]
[7,{"$nulls":4},"N/A",{"$nulls":10},"","","",null,"","","",null,"","","",null,"","","",{"$nulls":5},"","","","","","","","",null,0,{"$nulls":3},"","","",null,"","","",null,"","","",null,"","","",{"$nulls":8},"",{"$nulls":4},"",{"$nulls":4},"",{"$nulls":15},"",{"$nulls":4},"",{"$nulls":4},"",{"$nulls":15},"",{"$nulls":4},"",{"$nulls":4},"",{"$nulls":15},"",{"$nulls":4},"",{"$nulls":4},"",{"$nulls":6},0,{"$f":"SUM($FL$36:$FL42)","v":0},0]
[8,{"$nulls":4},"N/A",{"$nulls":10},"","","",null,"","","",null,"","","",null,"","","",{"$nulls":5},"","","","","","","","",null,0,{"$nulls":3},"","","",null,"","","",null,"","","",null,"","","",{"$nulls":8},"",{"$nulls":4},"",{"$nulls":4},"",{"$nulls":15},"",{"$nulls":4},"",{"$nulls":4},"",{"$nulls":15},"",{"$nulls":4},"",{"$nulls":4},"",{"$nulls":15},"",{"$nulls":4},"",{"$nulls":4},"",{"$nulls":6},0,{"$f":"SUM($FL$36:$FL43)","v":0},0]
[9,{"$nulls":4},"N/A",{"$nulls":10},"","","",null,"","","",null,"","","",null,"","","",{"$nulls":5},"","","","","","","","",null,0,{"$nulls":3},"","","",null,"","","",null,"","","",null,"","","",{"$nulls":8},"",{"$nulls":4},"",{"$nulls":4},"",{"$nulls":15},"",{"$nulls":4},"",{"$nulls":4},"",{"$nulls":15},"",{"$nulls":4},"",{"$nulls":4},"",{"$nulls":15},"",{"$nulls":4},"",{"$nulls":4},"",{"$nulls":6},0,{"$f":"SUM($FL$36:$FL44)","v":0},0]
[10,{"$nulls":4},"N/A",{"$nulls":10},"","","",null,"","","",null,"","","",null,"","","",{"$nulls":5},"","","","","","","","",null,0,{"$nulls":3},"","","",null,"","","",null,"","","",null,"","","",{"$nulls":8},"",{"$nulls":4},"",{"$nulls":4},"",{"$nulls":15},"",{"$nulls":4},"",{"$nulls":4},"",{"$nulls":15},"",{"$nulls":4},"",{"$nulls":4},"",{"$nulls":15},"",{"$nulls":4},"",{"$nulls":4},"",{"$nulls":6},0,{"$f":"SUM($FL$36:$FL45)","v":0},0]
[11,{"$nulls":4},"N/A",{"$nulls":10},"","","",null,"","","",null,"","","",null,"","","",{"$nulls":5},"","","","","","","","",null,0,{"$nulls":3},"","","",null,"","","",null,"","","",null,"","","",{"$nulls":8},"",{"$nulls":4},"",{"$nulls":4},"",{"$nulls":15},"",{"$nulls":4},"",{"$nulls":4},"",{"$nulls":15},"",{"$nulls":4},"",{"$nulls":4},"",{"$nulls":15},"",{"$nulls":4},"",{"$nulls":4},"",{"$nulls":6},0,{"$f":"SUM($FL$36:$FL46)","v":0},0]
[12,{"$nulls":4},"N/A",{"$nulls":10},"","","",null,"","","",null,"","","",null,"","","",{"$nulls":5},"","","","","","","","",null,0,{"$nulls":3},"","","",null,"","","",null,"","","",null,"","","",{"$nulls":8},"",{"$nulls":4},"",{"$nulls":4},"",{"$nulls":15},"",{"$nulls":4},"",{"$nulls":4},"",{"$nulls":15},"",{"$nulls":4},"",{"$nulls":4},"",{"$nulls":15},"",{"$nulls":4},"",{"$nulls":4},"",{"$nulls":6},0,{"$f":"SUM($FL$36:$FL47)","v":0},0]
[13,{"$nulls":4},"N/A",{"$nulls":10},"","","",null,"","","",null,"","","",null,"","","",{"$nulls":5},"","","","","","","","",null,0,{"$nulls":3},"","","",null,"","","",null,"","","",null,"","","",{"$nulls":8},"",{"$nulls":4},"",{"$nulls":4},"",{"$nulls":15},"",{"$nulls":4},"",{"$nulls":4},"",{"$nulls":15},"",{"$nulls":4},"",{"$nulls":4},"",{"$nulls":15},"",{"$nulls":4},"",{"$nulls":4},"",{"$nulls":6},0,{"$f":"SUM($FL$36:$FL48)","v":0},0]
[14,{"$nulls":4},"N/A",{"$nulls":10},"","","",null,"","","",null,"","","",null,"","","",{"$nulls":5},"","","","","","","","",null,0,{"$nulls":3},"","","",null,"","","",null,"","","",null,"","","",{"$nulls":8},"",{"$nulls":4},"",{"$nulls":4},"",{"$nulls":15},"",{"$nulls":4},"",{"$nulls":4},"",{"$nulls":15},"",{"$nulls":4},"",{"$nulls":4},"",{"$nulls":15},"",{"$nulls":4},"",{"$nulls":4},"",{"$nulls":6},0,{"$f":"SUM($FL$36:$FL49)","v":0},0]
[15,{"$nulls":4},"N/A",{"$nulls":10},"","","",null,"","","",null,"","","",null,"","","",{"$nulls":5},"","","","","","","","",null,0,{"$nulls":3},"","","",null,"","","",null,"","","",null,"","","",{"$nulls":8},"",{"$nulls":4},"",{"$nulls":4},"",{"$nulls":15},"",{"$nulls":4},"",{"$nulls":4},"",{"$nulls":15},"",{"$nulls":4},"",{"$nulls":4},"",{"$nulls":15},"",{"$nulls":4},"",{"$nulls":4},"",{"$nulls":6},0,{"$f":"SUM($FL$36:$FL50)","v":0},0]
[16,{"$nulls":4},"N/A",{"$nulls":10},"","","",null,"","","",null,"","","",null,"","","",{"$nulls":5},"","","","","","","","",null,0,{"$nulls":3},"","","",null,"","","",null,"","","",null,"","","",{"$nulls":8},"",{"$nulls":4},"",{"$nulls":4},"",{"$nulls":15},"",{"$nulls":4},"",{"$nulls":4},"",{"$nulls":15},"",{"$nulls":4},"",{"$nulls":4},"",{"$nulls":15},"",{"$nulls":4},"",{"$nulls":4},"",{"$nulls":6},0,{"$f":"SUM($FL$36:$FL51)","v":0},0]
[17,{"$nulls":4},"N/A",{"$nulls":10},"","","",null,"","","",null,"","","",null,"","","",{"$nulls":5},"","","","","","","","",null,0,{"$nulls":3},"","","",null,"","","",null,"","","",null,"","","",{"$nulls":8},"",{"$nulls":4},"",{"$nulls":4},"",{"$nulls":15},"",{"$nulls":4},"",{"$nulls":4},"",{"$nulls":15},"",{"$nulls":4},"",{"$nulls":4},"",{"$nulls":15},"",{"$nulls":4},"",{"$nulls":4},"",{"$nulls":6},0,{"$f":"SUM($FL$36:$FL52)","v":0},0]
[18,{"$nulls":4},"N/A",{"$nulls":10},"","","",null,"","","",null,"","","",null,"","","",{"$nulls":5},"","","","","","","","",null,0,{"$nulls":3},"","","",null,"","","",null,"","","",null,"","","",{"$nulls":8},"",{"$nulls":4},"",{"$nulls":4},"",{"$nulls":15},"",{"$nulls":4},"",{"$nulls":4},"",{"$nulls":15},"",{"$nulls":4},"",{"$nulls":4},"",{"$nulls":15},"",{"$nulls":4},"",{"$nulls":4},"",{"$nulls":6},0,{"$f":"SUM($FL$36:$FL53)","v":0},0]
[19,{"$nulls":4},"N/A",{"$nulls":10},"","","",null,"","","",null,"","","",null,"","","",{"$nulls":5},"","","","","","","","",null,0,{"$nulls":3},"","","",null,"","","",null,"","","",null,"","","",{"$nulls":8},"",{"$nulls":4},"",{"$nulls":4},"",{"$nulls":15},"",{"$nulls":4},"",{"$nulls":4},"",{"$nulls":15},"",{"$nulls":4},"",{"$nulls":4},"",{"$nulls":15},"",{"$nulls":4},"",{"$nulls":4},"",{"$nulls":6},0,{"$f":"SUM($FL$36:$FL54)","v":0},0]
[20,{"$nulls":4},"N/A",{"$nulls":10},"","","",null,"","","",null,"","","",null,"","","",{"$nulls":5},"","","","","","","","",null,0,{"$nulls":3},"","","",null,"","","",null,"","","",null,"","","",{"$nulls":8},"",{"$nulls":4},"",{"$nulls":4},"",{"$nulls":15},"",{"$nulls":4},"",{"$nulls":4},"",{"$nulls":15},"",{"$nulls":4},"",{"$nulls":4},"",{"$nulls":15},"",{"$nulls":4},"",{"$nulls":4},"",{"$nulls":6},0,{"$f":"SUM($FL$36:$FL55)","v":0},0]
[21,{"$nulls":4},"N/A",{"$nulls":10},"","","",null,"","","",null,"","","",null,"","","",{"$nulls":5},"","","","","","","","",null,0,{"$nulls":3},"","","",null,"","","",null,"","","",null,"","","",{"$nulls":8},"",{"$nulls":4},"",{"$nulls":4},"",{"$nulls":15},"",{"$nulls":4},"",{"$nulls":4},"",{"$nulls":15},"",{"$nulls":4},"",{"$nulls":4},"",{"$nulls":15},"",{"$nulls":4},"",{"$nulls":4},"",{"$nulls":6},0,{"$f":"SUM($FL$36:$FL56)","v":0},0]
[22,{"$nulls":4},"N/A",{"$nulls":10},"","","",null,"","","",null,"","","",null,"","","",{"$nulls":5},"","","","","","","","",null,0,{"$nulls":3},"","","",null,"","","",null,"","","",null,"","","",{"$nulls":8},"",{"$nulls":4},"",{"$nulls":4},"",{"$nulls":15},"",{"$nulls":4},"",{"$nulls":4},"",{"$nulls":15},"",{"$nulls":4},"",{"$nulls":4},"",{"$nulls":15},"",{"$nulls":4},"",{"$nulls":4},"",{"$nulls":6},0,{"$f":"SUM($FL$36:$FL57)","v":0},0]
[23,{"$nulls":4},"N/A",{"$nulls":10},"","","",null,"","","",null,"","","",null,"","","",{"$nulls":5},"","","","","","","","",null,0,{"$nulls":3},"","","",null,"","","",null,"","","",null,"","","",{"$nulls":8},"",{"$nulls":4},"",{"$nulls":4},"",{"$nulls":15},"",{"$nulls":4},"",{"$nulls":4},"",{"$nulls":15},"",{"$nulls":4},"",{"$nulls":4},"",{"$nulls":15},"",{"$nulls":4},"",{"$nulls":4},"",{"$nulls":6},0,{"$f":"SUM($FL$36:$FL58)","v":0},0]
[24,{"$nulls":4},"N/A",{"$nulls":10},"","","",null,"","","",null,"","","",null,"","","",{"$nulls":5},"","","","","","","","",null,0,{"$nulls":3},"","","",null,"","","",null,"","","",null,"","","",{"$nulls":8},"",{"$nulls":4},"",{"$nulls":4},"",{"$nulls":15},"",{"$nulls":4},"",{"$nulls":4},"",{"$nulls":15},"",{"$nulls":4},"",{"$nulls":4},"",{"$nulls":15},"",{"$nulls":4},"",{"$nulls":4},"",{"$nulls":6},0,{"$f":"SUM($FL$36:$FL59)","v":0},0]
[25,{"$nulls":4},"N/A",{"$nulls":10},"","","",null,"","","",null,"","","",null,"","","",{"$nulls":5},"","","","","","","","",null,0,{"$nulls":3},"","","",null,"","","",null,"","","",null,"","","",{"$nulls":8},"",{"$nulls":4},"",{"$nulls":4},"",{"$nulls":15},"",{"$nulls":4},"",{"$nulls":4},"",{"$nulls":15},"",{"$nulls":4},"",{"$nulls":4},"",{"$nulls":15},"",{"$nulls":4},"",{"$nulls":4},"",{"$nulls":6},0,{"$f":"SUM($FL$36:$FL60)","v":0},0]
[26,{"$nulls":4},"N/A",{"$nulls":10},"","","",null,"","","",null,"","","",null,"","","",{"$nulls":5},"","","","","","","","",null,0,{"$nulls":3},"","","",null,"","","",null,"","","",null,"","","",{"$nulls":8},"",{"$nulls":4},"",{"$nulls":4},"",{"$nulls":15},"",{"$nulls":4},"",{"$nulls":4},"",{"$nulls":15},"",{"$nulls":4},"",{"$nulls":4},"",{"$nulls":15},"",{"$nulls":4},"",{"$nulls":4},"",{"$nulls":6},0,{"$f":"SUM($FL$36:$FL61)","v":0},0]
[27,{"$nulls":4},"N/A",{"$nulls":10},"","","",null,"","","",null,"","","",null,"","","",{"$nulls":5},"","","","","","","","",null,0,{"$nulls":3},"","","",null,"","","",null,"","","",null,"","","",{"$nulls":8},"",{"$nulls":4},"",{"$nulls":4},"",{"$nulls":15},"",{"$nulls":4},"",{"$nulls":4},"",{"$nulls":15},"",{"$nulls":4},"",{"$nulls":4},"",{"$nulls":15},"",{"$nulls":4},"",{"$nulls":4},"",{"$nulls":6},0,{"$f":"SUM($FL$36:$FL62)","v":0},0]
[28,{"$nulls":4},"N/A",{"$nulls":10},"","","",null,"","","",null,"","","",null,"","","",{"$nulls":5},"","","","","","","","",null,0,{"$nulls":3},"","","",null,"","","",null,"","","",null,"","","",{"$nulls":8},"",{"$nulls":4},"",{"$nulls":4},"",{"$nulls":15},"",{"$nulls":4},"",{"$nulls":4},"",{"$nulls":15},"",{"$nulls":4},"",{"$nulls":4},"",{"$nulls":15},"",{"$nulls":4},"",{"$nulls":4},"",{"$nulls":6},0,{"$f":"SUM($FL$36:$FL63)","v":0},0]
[29,{"$nulls":4},"N/A",{"$nulls":10},"","","",null,"","","",null,"","","",null,"","","",{"$nulls":5},"","","","","","","","",null,0,{"$nulls":3},"","","",null,"","","",null,"","","",null,"","","",{"$nulls":8},"",{"$nulls":4},"",{"$nulls":4},"",{"$nulls":15},"",{"$nulls":4},"",{"$nulls":4},"",{"$nulls":15},"",{"$nulls":4},"",{"$nulls":4},"",{"$nulls":15},"",{"$nulls":4},"",{"$nulls":4},"",{"$nulls":6},0,{"$f":"SUM($FL$36:$FL64)","v":0},0]
[30,{"$nulls":4},"N/A",{"$nulls":10},"","","",null,"","","",null,"","","",null,"","","",{"$nulls":5},"","","","","","","","",null,0,{"$nulls":3},"","","",null,"","","",null,"","","",null,"","","",{"$nulls":8},"",{"$nulls":4},"",{"$nulls":4},"",{"$nulls":15},"",{"$nulls":4},"",{"$nulls":4},"",{"$nulls":15},"",{"$nulls":4},"",{"$nulls":4},"",{"$nulls":15},"",{"$nulls":4},"",{"$nulls":4},"",{"$nulls":6},0,{"$f":"SUM($FL$36:$FL65)","v":0},0]
[31,{"$nulls":4},"N/A",{"$nulls":10},"","","",null,"","","",null,"","","",null,"","","",{"$nulls":5},"","","","","","","","",null,0,{"$nulls":3},"","","",null,"","","",null,"","","",null,"","","",{"$nulls":8},"",{"$nulls":4},"",{"$nulls":4},"",{"$nulls":15},"",{"$nulls":4},"",{"$nulls":4},"",{"$nulls":15},"",{"$nulls":4},"",{"$nulls":4},"",{"$nulls":15},"",{"$nulls":4},"",{"$nulls":4},"",{"$nulls":6},0,{"$f":"SUM($FL$36:$FL66)","v":0},0]
[32,{"$nulls":4},"N/A",{"$nulls":10},"","","",null,"","","",null,"","","",null,"","","",{"$nulls":5},"","","","","","","","",null,0,{"$nulls":3},"","","",null,"","","",null,"","","",null,"","","",{"$nulls":8},"",{"$nulls":4},"",{"$nulls":4},"",{"$nulls":15},"",{"$nulls":4},"",{"$nulls":4},"",{"$nulls":15},"",{"$nulls":4},"",{"$nulls":4},"",{"$nulls":15},"",{"$nulls":4},"",{"$nulls":4},"",{"$nulls":6},0,{"$f":"SUM($FL$36:$FL67)","v":0},0]
[33,{"$nulls":4},"N/A",{"$nulls":10},"","","",null,"","","",null,"","","",null,"","","",{"$nulls":5},"","","","","","","","",null,0,{"$nulls":3},"","","",null,"","","",null,"","","",null,"","","",{"$nulls":8},"",{"$nulls":4},"",{"$nulls":4},"",{"$nulls":15},"",{"$nulls":4},"",{"$nulls":4},"",{"$nulls":15},"",{"$nulls":4},"",{"$nulls":4},"",{"$nulls":15},"",{"$nulls":4},"",{"$nulls":4},"",{"$nulls":6},0,{"$f":"SUM($FL$36:$FL68)","v":0},0]
[34,{"$nulls":4},"N/A",{"$nulls":10},"","","",null,"","","",null,"","","",null,"","","",{"$nulls":5},"","","","","","","","",null,0,{"$nulls":3},"","","",null,"","","",null,"","","",null,"","","",{"$nulls":8},"",{"$nulls":4},"",{"$nulls":4},"",{"$nulls":15},"",{"$nulls":4},"",{"$nulls":4},"",{"$nulls":15},"",{"$nulls":4},"",{"$nulls":4},"",{"$nulls":15},"",{"$nulls":4},"",{"$nulls":4},"",{"$nulls":6},0,{"$f":"SUM($FL$36:$FL69)","v":0},0]
[35,{"$nulls":4},"N/A",{"$nulls":10},"","","",null,"","","",null,"","","",null,"","","",{"$nulls":5},"","","","","","","","",null,0,{"$nulls":3},"","","",null,"","","",null,"","","",null,"","","",{"$nulls":8},"",{"$nulls":4},"",{"$nulls":4},"",{"$nulls":15},"",{"$nulls":4},"",{"$nulls":4},"",{"$nulls":15},"",{"$nulls":4},"",{"$nulls":4},"",{"$nulls":15},"",{"$nulls":4},"",{"$nulls":4},"",{"$nulls":6},0,{"$f":"SUM($FL$36:$FL70)","v":0},0]
[36,{"$nulls":4},"N/A",{"$nulls":10},"","","",null,"","","",null,"","","",null,"","","",{"$nulls":5},"","","","","","","","",null,0,{"$nulls":3},"","","",null,"","","",null,"","","",null,"","","",{"$nulls":8},"",{"$nulls":4},"",{"$nulls":4},"",{"$nulls":15},"",{"$nulls":4},"",{"$nulls":4},"",{"$nulls":15},"",{"$nulls":4},"",{"$nulls":4},"",{"$nulls":15},"",{"$nulls":4},"",{"$nulls":4},"",{"$nulls":6},0,{"$f":"SUM($FL$36:$FL71)","v":0},0]
[37,{"$nulls":4},"N/A",{"$nulls":10},"","","",null,"","","",null,"","","",null,"","","",{"$nulls":5},"","","","","","","","",null,0,{"$nulls":3},"","","",null,"","","",null,"","","",null,"","","",{"$nulls":8},"",{"$nulls":4},"",{"$nulls":4},"",{"$nulls":15},"",{"$nulls":4},"",{"$nulls":4},"",{"$nulls":15},"",{"$nulls":4},"",{"$nulls":4},"",{"$nulls":15},"",{"$nulls":4},"",{"$nulls":4},"",{"$nulls":6},0,{"$f":"SUM($FL$36:$FL72)","v":0},0]
[38,{"$nulls":4},"N/A",{"$nulls":10},"","","",null,"","","",null,"","","",null,"","","",{"$nulls":5},"","","","","","","","",null,0,{"$nulls":3},"","","",null,"","","",null,"","","",null,"","","",{"$nulls":8},"",{"$nulls":4},"",{"$nulls":4},"",{"$nulls":15},"",{"$nulls":4},"",{"$nulls":4},"",{"$nulls":15},"",{"$nulls":4},"",{"$nulls":4},"",{"$nulls":15},"",{"$nulls":4},"",{"$nulls":4},"",{"$nulls":6},0,{"$f":"SUM($FL$36:$FL73)","v":0},0]
[39,{"$nulls":4},"N/A",{"$nulls":10},"","","",null,"","","",null,"","","",null,"","","",{"$nulls":5},"","","","","","","","",null,0,{"$nulls":3},"","","",null,"","","",null,"","","",null,"","","",{"$nulls":8},"",{"$nulls":4},"",{"$nulls":4},"",{"$nulls":15},"",{"$nulls":4},"",{"$nulls":4},"",{"$nulls":15},"",{"$nulls":4},"",{"$nulls":4},"",{"$nulls":15},"",{"$nulls":4},"",{"$nulls":4},"",{"$nulls":6},0,{"$f":"SUM($FL$36:$FL74)","v":0},0]
[40,{"$nulls":4},"N/A",{"$nulls":10},"","","",null,"","","",null,"","","",null,"","","",{"$nulls":5},"","","","","","","","",null,0,{"$nulls":3},"","","",null,"","","",null,"","","",null,"","","",{"$nulls":8},"",{"$nulls":4},"",{"$nulls":4},"",{"$nulls":15},"",{"$nulls":4},"",{"$nulls":4},"",{"$nulls":15},"",{"$nulls":4},"",{"$nulls":4},"",{"$nulls":15},"",{"$nulls":4},"",{"$nulls":4},"",{"$nulls":6},0,{"$f":"SUM($FL$36:$FL75)","v":0},0]
[41,{"$nulls":4},"N/A",{"$nulls":10},"","","",null,"","","",null,"","","",null,"","","",{"$nulls":5},"","","","","","","","",null,0,{"$nulls":3},"","","",null,"","","",null,"","","",null,"","","",{"$nulls":8},"",{"$nulls":4},"",{"$nulls":4},"",{"$nulls":15},"",{"$nulls":4},"",{"$nulls":4},"",{"$nulls":15},"",{"$nulls":4},"",{"$nulls":4},"",{"$nulls":15},"",{"$nulls":4},"",{"$nulls":4},"",{"$nulls":6},0,{"$f":"SUM($FL$36:$FL76)","v":0},0]
[42,{"$nulls":4},"N/A",{"$nulls":10},"","","",null,"","","",null,"","","",null,"","","",{"$nulls":5},"","","","","","","","",null,0,{"$nulls":3},"","","",null,"","","",null,"","","",null,"","","",{"$nulls":8},"",{"$nulls":4},"",{"$nulls":4},"",{"$nulls":15},"",{"$nulls":4},"",{"$nulls":4},"",{"$nulls":15},"",{"$nulls":4},"",{"$nulls":4},"",{"$nulls":15},"",{"$nulls":4},"",{"$nulls":4},"",{"$nulls":6},0,{"$f":"SUM($FL$36:$FL77)","v":0},0]
[43,{"$nulls":4},"N/A",{"$nulls":10},"","","",null,"","","",null,"","","",null,"","","",{"$nulls":5},"","","","","","","","",null,0,{"$nulls":3},"","","",null,"","","",null,"","","",null,"","","",{"$nulls":8},"",{"$nulls":4},"",{"$nulls":4},"",{"$nulls":15},"",{"$nulls":4},"",{"$nulls":4},"",{"$nulls":15},"",{"$nulls":4},"",{"$nulls":4},"",{"$nulls":15},"",{"$nulls":4},"",{"$nulls":4},"",{"$nulls":6},0,{"$f":"SUM($FL$36:$FL78)","v":0},0]
[44,{"$nulls":4},"N/A",{"$nulls":10},"","","",null,"","","",null,"","","",null,"","","",{"$nulls":5},"","","","","","","","",null,0,{"$nulls":3},"","","",null,"","","",null,"","","",null,"","","",{"$nulls":8},"",{"$nulls":4},"",{"$nulls":4},"",{"$nulls":15},"",{"$nulls":4},"",{"$nulls":4},"",{"$nulls":15},"",{"$nulls":4},"",{"$nulls":4},"",{"$nulls":15},"",{"$nulls":4},"",{"$nulls":4},"",{"$nulls":6},0,{"$f":"SUM($FL$36:$FL79)","v":0},0]
[45,{"$nulls":4},"N/A",{"$nulls":10},"","","",null,"","","",null,"","","",null,"","","",{"$nulls":5},"","","","","","","","",null,0,{"$nulls":3},"","","",null,"","","",null,"","","",null,"","","",{"$nulls":8},"",{"$nulls":4},"",{"$nulls":4},"",{"$nulls":15},"",{"$nulls":4},"",{"$nulls":4},"",{"$nulls":15},"",{"$nulls":4},"",{"$nulls":4},"",{"$nulls":15},"",{"$nulls":4},"",{"$nulls":4},"",{"$nulls":6},0,{"$f":"SUM($FL$36:$FL80)","v":0},0]
[46,{"$nulls":4},"N/A",{"$nulls":10},"","","",null,"","","",null,"","","",null,"","","",{"$nulls":5},"","","","","","","","",null,0,{"$nulls":3},"","","",null,"","","",null,"","","",null,"","","",{"$nulls":8},"",{"$nulls":4},"",{"$nulls":4},"",{"$nulls":15},"",{"$nulls":4},"",{"$nulls":4},"",{"$nulls":15},"",{"$nulls":4},"",{"$nulls":4},"",{"$nulls":15},"",{"$nulls":4},"",{"$nulls":4},"",{"$nulls":6},0,{"$f":"SUM($FL$36:$FL81)","v":0},0]
[47,{"$nulls":4},"N/A",{"$nulls":10},"","","",null,"","","",null,"","","",null,"","","",{"$nulls":5},"","","","","","","","",null,0,{"$nulls":3},"","","",null,"","","",null,"","","",null,"","","",{"$nulls":8},"",{"$nulls":4},"",{"$nulls":4},"",{"$nulls":15},"",{"$nulls":4},"",{"$nulls":4},"",{"$nulls":15},"",{"$nulls":4},"",{"$nulls":4},"",{"$nulls":15},"",{"$nulls":4},"",{"$nulls":4},"",{"$nulls":6},0,{"$f":"SUM($FL$36:$FL82)","v":0},0]
[48,{"$nulls":4},"N/A",{"$nulls":10},"","","",null,"","","",null,"","","",null,"","","",{"$nulls":5},"","","","","","","","",null,0,{"$nulls":3},"","","",null,"","","",null,"","","",null,"","","",{"$nulls":8},"",{"$nulls":4},"",{"$nulls":4},"",{"$nulls":15},"",{"$nulls":4},"",{"$nulls":4},"",{"$nulls":15},"",{"$nulls":4},"",{"$nulls":4},"",{"$nulls":15},"",{"$nulls":4},"",{"$nulls":4},"",{"$nulls":6},0,{"$f":"SUM($FL$36:$FL83)","v":0},0]
[49,{"$nulls":4},"N/A",{"$nulls":10},"","","",null,"","","",null,"","","",null,"","","",{"$nulls":5},"","","","","","","","",null,0,{"$nulls":3},"","","",null,"","","",null,"","","",null,"","","",{"$nulls":8},"",{"$nulls":4},"",{"$nulls":4},"",{"$nulls":15},"",{"$nulls":4},"",{"$nulls":4},"",{"$nulls":15},"",{"$nulls":4},"",{"$nulls":4},"",{"$nulls":15},"",{"$nulls":4},"",{"$nulls":4},"",{"$nulls":6},0,{"$f":"SUM($FL$36:$FL84)","v":0},0]
[50,{"$nulls":4},"N/A",{"$nulls":10},"","","",null,"","","",null,"","","",null,"","","",{"$nulls":5},"","","","","","","","",null,0,{"$nulls":3},"","","",null,"","","",null,"","","",null,"",{"$f":"IF($B85=\"Y\",IF(AND($AC85<>\"\",$AQ84<>\"\",$AR84<>\"\"),($AC85+$AQ84)/($AR84+1),\"\"),\"\")","v":""},"",{"$nulls":8},"",{"$nulls":4},"",{"$nulls":4},"",{"$nulls":15},"",{"$nulls":4},"",{"$nulls":4},"",{"$nulls":15},"",{"$nulls":4},"",{"$nulls":4},"",{"$nulls":15},"",{"$nulls":4},"",{"$nulls":4},"",{"$nulls":6},0,{"$f":"SUM($FL$36:$FL85)","v":0},0]
[null,null,{"$f":"SUM(C36:C85)","v":0}]
["g/bhp-hr"]
["g/kW-hr"]

{"sheet":"Engine Family #17","index":19,"n_rows":88,"n_cols":176,"rows_kept":88,"merged":[[1,0,1,35],[2,0,2,35],[3,0,3,35],[4,0,4,35],[5,0,5,35],[6,0,6,35],[8,0,8,9],[10,4,10,6],[10,12,10,13],[11,4,11,6],[11,15,11,16],[11,19,11,20],[11,23,11,24],[11,27,11,28],[12,4,12,6],[13,4,13,6],[14,4,15,6],[17,14,22,14],[27,4,30,13],[27,15,28,16],[32,0,32,35],[33,45,34,45]]}
[]
["United States"]
["US Environmental Protection Agency"]
["Office of Air and Radiation, Office of Transportation and Air Quality"]
[{"$nulls":37},"Tier 2","Y",94]
["Manufacturer Production Line Testing Report for Marine Compression Ignition Engines",{"$nulls":36},"Tier 3","N",1042]
[{"$f":"Summary!B7","v":"Version Number: 1.4 DRAFT  Last Revision: September 2023"},{"$nulls":36},"Tier 4",null,"N/A"]
[]
["Basic Information: Engine Family #17"]
[{"$nulls":167},{"$f":"IF(AND($G$24=94,Summary!$L$13=\"Category 1\"),0,1)","v":1}]
[null,null,"Manufacturer:",null,{"$f":"IF(Summary!D12<>\"\",Summary!D12,\"\")","v":""},{"$nulls":3},"Engine Family:",{"$nulls":31},{"$f":"IF($G$19=\"Diesel\",\"'HC' refers to 'THC' \",IF($G$19=\"Natural Gas\",\"'HC' refers to 'NMHC' \",IF($G$19=\"Alcohol\",\"'HC' refers to 'THCE' \",\"\")))","v":""}]
[null,null,"PLT Test Contact:",null,{"$f":"IF(Summary!D13<>\"\",Summary!D13,\"\")","v":""},{"$nulls":3},"Production (Category 3 only):",{"$nulls":6},{"$f":"IF(N16<>\"Y\", \"Current CO Result\", \"Final CO Result\")","v":"Current CO Result"},null,{"$f":"$CJ$36","v":""},null,{"$f":"IF(N16<>\"Y\", \"Current PM Result\", \"Final PM Result\")","v":"Current PM Result"},null,{"$f":"$DJ$36","v":""},null,{"$f":"IF($AF$12=\"Y\",IF(N16<>\"Y\", \"Current NOx+HC Result\", \"Final NOx+HC Result\"),IF(N16<>\"Y\", \"Current HC Result\", \"Final HC Result\"))","v":"Current HC Result"},null,{"$f":"IF($AF$12=\"Y\",IF($FP$36>0,ROUND($EJ$36+$FJ$36,2),\"\"),$EJ$36)","v":""},null,{"$f":"IF(N16<>\"Y\", \"Current NOx Result\",\"Final NOx Result\")","v":"Current NOx Result"},null,{"$f":"$FJ$36","v":""},null,{"$f":"IF($L$13<>\"Category 3\",IF($G$23=\"\",\"N\",$G$23),\"N\")","v":"N"},{"$f":"IF(Summary!$L$13=\"Category 3\",\"CAT3\",\"\")","v":""}]
[null,null,"Email Address:",null,{"$f":"IF(Summary!D14<>\"\",Summary!D14,\"\")","v":""},{"$nulls":3},"Date of Start of Model Year Production:"]
[null,null,"Phone #:",null,{"$f":"IF(Summary!D15<>\"\",Summary!D15,\"\")","v":""},{"$nulls":3},"Date of End of Model Year Production:",{"$nulls":14},{"$f":"IF($G$19=\"Diesel\",\"'HC' refers to 'THC' \",IF($G$19=\"Natural Gas\",\"'HC' refers to 'NMHC' \",IF($G$19=\"Alcohol\",\"'HC' refers to 'THCE' \",\"\")))","v":""},{"$nulls":13},"Diesel",1,{"$nulls":6},1]
[null,null,"Test Location & Description:",{"$nulls":5},"Deterioration Factor Type:",{"$nulls":28},"Natural Gas",2,{"$nulls":6},2]
[{"$nulls":8},"Include Results from this Engine Family on Summary Sheet?",{"$nulls":6},"CO Standard ",{"$nulls":3},"PM Standard or FEL",{"$nulls":3},{"$f":"IF($AF$12=\"Y\",\"NOx+HC Standard or FEL\",\"HC Standard\")","v":"HC Standard"},{"$nulls":3},"NOx Standard or FEL",{"$nulls":9},"Alcohol",3,{"$nulls":6},3]
[null,null,"Carryover?:",{"$nulls":5},"Required Tests (including failure follow-ups)",{"$nulls":4},{"$f":"$FO36","v":0},null,"Units",null,"g/kW-hr",null,"Units",null,"g/kW-hr",null,"Units",null,"g/kW-hr",null,"Units",null,"g/kW-hr",{"$nulls":4},"Test Cycle Options",{"$nulls":10},4]
[null,null,{"$f":"IF($G$17=\"Y\",\"Please submit supporting documentation indicating that this is a carry-over engine family\",\"\")","v":""},{"$nulls":5},"Instead of testing, are PLT requirements for this Engine Family",{"$nulls":6},"CO  Det Factor",{"$nulls":3},"PM  Det Factor",{"$nulls":3},"HC Det Factor",{"$nulls":3},"NOx  Det Factor",{"$nulls":6},"1 = 4-Mode General Cycle (E3)",null,null,"Recreational"]
[null,null,"Fuel Type:",{"$nulls":5}," fulfilled under the following (Category 1 only)?",{"$nulls":6},"Det Factor Type",null,{"$f":"IF($N$15<>\"\",$N$15,\"\")","v":""},null,"Det Factor Type",null,{"$f":"IF($N$15<>\"\",$N$15,\"\")","v":""},null,"Det Factor Type",null,{"$f":"IF($N$15<>\"\",$N$15,\"\")","v":""},null,"Det Factor Type",null,{"$f":"IF($N$15<>\"\",$N$15,\"\")","v":""},{"$nulls":4},"2 = 5-Mode Recreational Cycle (E5)",null,null,"Commercial"]
[null,null,"Recreational/Commercial:",{"$nulls":5},"Please elaborate in the comments section.",{"$nulls":6},"CO Green Engine Factor",{"$nulls":3},"PM Green Engine Factor",{"$nulls":3},"HC Green Engine Factor",{"$nulls":3},"NOx Green Engine Factor",{"$nulls":6},"3 = 4-Mode Constant Speed Propulsion Cycle (E2)"]
[null,null,"Model Year:",{"$nulls":5},"    -1042.310(a) - EPA approved combining it, for PLT purposes only.",{"$nulls":25},"4 = 5-Mode Constant Speed Auxiliary Cycle (D2)"]
[null,null,"Tier:",{"$nulls":31},"5 = 6-Mode Variable Speed Auxiliary Cycle (G2)",null,null,"1 (E3)"]
[null,null,"Combined NOx+HC?",{"$nulls":31},"6 = 8-Mode Variable Speed Ausiliary Cycle (C1)",null,null,"2 (E5)"]
[null,null,"40 CFR Part:",{"$nulls":3},{"$f":"AN6","v":1042},null,"Additional testing required by EPA [40 CFR 1042.301(e)]? ",{"$nulls":25},"O = Other",null,null,"3 (E2)"]
[{"$nulls":37},"4 (D2)"]
[{"$nulls":37},"5 (G2)",{"$nulls":132},"deleted and redirected"]
[{"$nulls":22}," ",{"$nulls":14},"6 (C1)",4,{"$nulls":6},4]
[null,null,"Comments:",{"$nulls":34},"O (other)"]
[{"$nulls":22}," ",{"$nulls":22},"additive"]
[{"$nulls":45},"multiplicative",{"$nulls":22},"CO Rounding",{"$nulls":4},"CO Rounding",{"$nulls":4},"CO Rounding",{"$nulls":4},"CO Rounding",{"$nulls":10},"PM Rounding",{"$nulls":4},"PM Rounding",{"$nulls":4},"PM Rounding",{"$nulls":4},"PM Rounding",{"$nulls":10},"HC Rounding",{"$nulls":4},"HC Rounding",{"$nulls":4},"HC Rounding",{"$nulls":4},"HC Rounding",{"$nulls":10},"NOx Rounding",{"$nulls":4},"NOx Rounding",{"$nulls":4},"NOx Rounding",{"$nulls":4},"NOx Rounding"]
[{"$nulls":22}," ",{"$nulls":45},"initial",{"$nulls":4},"final",{"$nulls":4}," det final",{"$nulls":4},"ave of all final",{"$nulls":10},"initial",{"$nulls":4},"final",{"$nulls":4}," det final",{"$nulls":4},"ave of all final",{"$nulls":10},"initial",{"$nulls":4},"final",{"$nulls":4}," det final",{"$nulls":4},"ave of all final",{"$nulls":10},"initial",{"$nulls":4},"final",{"$nulls":4}," det final",{"$nulls":4},"ave of all final"]
[{"$nulls":38},"Y",{"$nulls":6},"Y"]
["PLT Engine Test Results: Engine Family #17",{"$nulls":37},"N",{"$nulls":6},"N",{"$nulls":124},"This is N17"]
[{"$nulls":36},"CO",null,"PM",null,null,"HC or HC+NOX",null,"Nox",null,"Engine Data Complete?",{"$nulls":11},"HC","HC","HC","HC","Nox","Nox","Nox","Nox",{"$nulls":107},"1% of production or pre-approved reduced sample size - whichever is Lower # "]
[null,"Calc Final Result?","Test Number","Test Date","Test Time","Test Qtr","Engine ID","Engine Make","Engine Configuration","Build Date","Green Engine Factor Applied?","Green Engine Factor Determination Method","Service Hours (or miles) Accumulation","Service Hours Location","Service Acc. Procedure","CO Initial Result ","Rounded CO Initial Result ","CO Final Result ","Det. CO Final Result ","PM Initial Result ","Rounded PM Initial Result ","PM Final Result ","Det. PM Final Result ","HC Initial Result ","Rounded HC Initial Result ","HC Final Result ","Det. HC Final Result ","NOx Initial Result ","Rounded NOx Initial Result ","NOx Final Result ","Det. NOx Final Result ","Reason for Failed Test (if applicable)","Remedy","Repairs","Test Cycle","Comments",0,0,0,0,0,0,0,0,{"$nulls":5},"Unrounded initial CO","Unrounded final CO","Det CO","Final CO","Unrounded initial PM","Unrounded final PM","Det PM","Final PM","Unrounded initial HCNOx","Unrounded final HCNOx","Det HCNOx","Final HCNOX","Unrounded initial NOx","Unrounded final NOx","Det NOx","Final HCNOX",{"$nulls":7},"rounded",{"$nulls":4},"rounded",{"$nulls":4},"rounded",{"$nulls":4},"rounded",{"$nulls":10},"rounded",{"$nulls":4},"rounded",{"$nulls":4},"rounded",{"$nulls":4},"rounded",{"$nulls":10},"rounded",{"$nulls":4},"rounded",{"$nulls":4},"rounded",{"$nulls":4},"rounded","ROUNDED AND ACCOUNT FOR BLANK",{"$nulls":9},"rounded",{"$nulls":4},"rounded",{"$nulls":4},"rounded",{"$nulls":4},"rounded","ROUNDED AND ACCOUNT FOR BLANK","Test complete Flag","Total complete","Fail Flag","req","val","baseline req","req due to fails","sum fails","baseline req"]
[1,{"$nulls":4},"N/A",{"$nulls":10},{"$f":"$BU36","v":""},{"$f":"$BZ36","v":""},{"$f":"$CE36","v":""},null,{"$f":"$CU36","v":""},{"$f":"$CZ36","v":""},{"$f":"$DE36","v":""},null,{"$f":"$DU36","v":""},{"$f":"$DZ36","v":""},{"$f":"$EE36","v":""},null,{"$f":"$EU36","v":""},{"$f":"$EZ36","v":""},{"$f":"$FE36","v":""},{"$nulls":5},{"$f":"IF($B36=\"N\",IF(AND($AK35<>\"\",$Q36<>\"\"),$AK35+$Q36,\"\"),IF($B36=\"Y\",0,\"\"))","v":""},{"$f":"IF($B36=\"N\",AL35+1,IF($B36=\"Y\",0,\"\"))","v":""},{"$f":"IF($B36=\"N\",IF(AND($AM35<>\"\",$U36<>\"\"),$AM35+$U36,\"\"),IF($B36=\"Y\",0,\"\"))","v":""},{"$f":"IF($B36=\"N\",AN35+1,IF($B36=\"Y\",0,\"\"))","v":""},{"$f":"IF($B36=\"N\",IF(AND($AO35<>\"\",$Y36<>\"\"),$AO35+$Y36,\"\"),IF($B36=\"Y\",0,\"\"))","v":""},{"$f":"IF($B36=\"N\",AP35+1,IF($B36=\"Y\",0,\"\"))","v":""},{"$f":"IF($B36=\"N\",IF(AND($AQ35<>\"\",$AC36<>\"\"),$AQ35+$AC36,\"\"),IF($B36=\"Y\",0,\"\"))","v":""},{"$f":"IF($B36=\"N\",AR35+1,IF($B36=\"Y\",0,\"\"))","v":""},null,{"$f":"IF(AND(B36<>\"\",C36<>\"\",D36<>\"\",E36<>\"\",G36<>\"\",H36<>\"\",I36<>\"\",J36<>\"\",K36<>\"\",M36<>\"\",N36<>\"\",O36<>\"\"),1,0)","v":0},{"$nulls":3},{"$f":"IF(AND($P36<>\"\",$AT36=1),$P36,\"\")","v":""},{"$f":"IF($B36=\"Y\",IF(AND($Q36<>\"\",$AK35<>\"\",$AL35<>\"\"),($Q36+$AK35)/($AL35+1),\"\"),\"\")","v":""},{"$f":"IF(AND($B36=\"Y\",$R36<>\"\",$R$18<>\"\"),IF($R$19=\"additive\",$R36+$R$18,IF($R$19=\"multiplicative\",$R36*$R$18,\"\")),\"\")","v":""},{"$f":"IF(COUNT($S$36:$S$85)>0,AVERAGE($S$36:$S$85),\"\")","v":""},{"$f":"IF(AND($T36<>\"\",$AT36=1),$T36,\"\")","v":""},{"$f":"IF($B36=\"Y\",IF(AND($U36<>\"\",$AM35<>\"\",$AN35<>\"\"),($U36+$AM35)/($AN35+1),\"\"),\"\")","v":""},{"$f":"IF(AND($B36=\"Y\",$V36<>\"\",$V$18<>\"\"),IF($V$19=\"additive\",$V36+$V$18,IF($V$19=\"multiplicative\",$V36*$V$18,\"\")),\"\")","v":""},{"$f":"IF(COUNT($W$36:$W$85)>0,AVERAGE($W$36:$W$85),\"\")","v":""},{"$f":"IF(AND($X36<>\"\",$AT36=1),$X36,\"\")","v":""},{"$f":"IF($B36=\"Y\",IF(AND($Y36<>\"\",$AO35<>\"\",$AP35<>\"\"),($Y36+$AO35)/($AP35+1),\"\"),\"\")","v":""},{"$f":"IF(AND($B36=\"Y\",$Z36<>\"\",$Z$18<>\"\"),IF($Z$19=\"additive\",$Z36+$Z$18,IF($Z$19=\"multiplicative\",$Z36*$Z$18,\"\")),\"\")","v":""},{"$f":"IF(COUNT($AA$36:$AA$85)>0,AVERAGE($AA$36:$AA$85),\"\")","v":""},{"$f":"IF(AND($AB36<>\"\",$AT36=1),$AB36,\"\")","v":""},{"$f":"IF($B36=\"Y\",IF(AND($AC36<>\"\",$AQ35<>\"\",$AR35<>\"\"),($AC36+$AQ35)/($AR35+1),\"\"),\"\")","v":""},{"$f":"IF(AND($B36=\"Y\",$AD36<>\"\",$AD$18<>\"\"),IF($AD$19=\"additive\",$AD36+$AD$18,IF($AD$19=\"multiplicative\",$AD36*$AD$18,\"\")),\"\")","v":""},{"$f":"IF(COUNT($AE$36:$AE$85)>0,AVERAGE($AE$36:$AE$85),\"\")","v":""},{"$nulls":7},{"$f":"IF($AX36<>\"\",ROUND($AX36,2),\"\")","v":""},{"$nulls":4},{"$f":"IF($AY36<>\"\",ROUND($AY36,2),\"\")","v":""},{"$nulls":4},{"$f":"IF($AZ36<>\"\",ROUND($AZ36,2),\"\")","v":""},{"$nulls":4},{"$f":"IF($BA36<>\"\",ROUND($BA36,2),\"\")","v":""},{"$nulls":10},{"$f":"IF($BB36<>\"\",ROUND($BB36,3),\"\")","v":""},{"$nulls":4},{"$f":"IF($BC36<>\"\",ROUND($BC36,3),\"\")","v":""},{"$nulls":4},{"$f":"IF($BD36<>\"\",ROUND($BD36,3),\"\")","v":""},{"$nulls":4},{"$f":"IF($BE36<>\"\",ROUND($BE36,3),\"\")","v":""},{"$nulls":10},{"$f":"IF($BF36<>\"\",ROUND($BF36,3),\"\")","v":""},{"$nulls":4},{"$f":"IF($BG36<>\"\",ROUND($BG36,3),\"\")","v":""},{"$nulls":4},{"$f":"IF($BH36<>\"\",ROUND($BH36,3),\"\")","v":""},{"$nulls":4},{"$f":"IF($BI36<>\"\",ROUND($BI36,3),\"\")","v":""},{"$f":"IF(EJ36=\"\",0,EJ36)","v":0},{"$nulls":9},{"$f":"IF($BJ36<>\"\",ROUND($BJ36,2),\"\")","v":""},{"$nulls":4},{"$f":"IF($BK36<>\"\",ROUND($BK36,2),\"\")","v":""},{"$nulls":4},{"$f":"IF($BL36<>\"\",ROUND($BL36,2),\"\")","v":""},{"$nulls":4},{"$f":"IF($BM36<>\"\",ROUND($BM36,2),\"\")","v":""},{"$f":"IF(FJ36=\"\",0,FJ36)","v":0},{"$f":"IF($AG$12<>\"CAT3\",IF(AND($B36=\"Y\",$S36<>\"\",$W36<>\"\",$AA36<>\"\",$AE36<>\"\"),1,0),IF($AE36<>\"\",1,0))","v":0},{"$f":"SUM($FL$36:$FL36)","v":0},{"$f":"IF($AG$12<>\"CAT3\",IF($FL36=1,IF(OR($S36>$R$16,$W36>$V$16,$AA36>$Z$16,IF($AF$12<>\"Y\",OR($AA36>$Z$16,$AE36>$AD$16),ROUND(($AA36+$AE36),2)>$Z$16)),1,0),0),IF($FL36=1,IF(AND($AE36>$AD$16,$AF$12=\"N\"),1,0),0))","v":0},{"$f":"IF(OR($M$11=\"\",$N$18=\"Y\"),0,IF($AG$12=\"CAT3\",$N$12,($FR$36+1)))","v":0},{"$f":"SUM(FL36:FL85)","v":0},{"$f":"IF(AND($G$17=\"Y\",$N$24<>\"\"),MIN($N$24,$FT$36),$FT$36)","v":0},{"$f":"$FS$36*2","v":0},{"$f":"SUM(FN36:FN85)","v":0},{"$f":"IF($N$12<>\"\",$N$12*0.01,0)","v":0}]
[{"$f":"A36+1","v":2},{"$nulls":4},"N/A",{"$nulls":10},"","","",null,"","","",null,"","","",null,"","","",{"$nulls":5},"",{"$f":"IF($B37=\"N\",AL36+1,IF($B37=\"Y\",0,\"\"))","v":""},"",{"$f":"IF($B37=\"N\",AN36+1,IF($B37=\"Y\",0,\"\"))","v":""},{"$f":"IF($B37=\"N\",IF(AND($AO36<>\"\",$Y37<>\"\"),$AO36+$Y37,\"\"),IF($B37=\"Y\",0,\"\"))","v":""},{"$f":"IF($B37=\"N\",AP36+1,IF($B37=\"Y\",0,\"\"))","v":""},{"$f":"IF($B37=\"N\",IF(AND($AQ36<>\"\",$AC37<>\"\"),$AQ36+$AC37,\"\"),IF($B37=\"Y\",0,\"\"))","v":""},{"$f":"IF($B37=\"N\",AR36+1,IF($B37=\"Y\",0,\"\"))","v":""},null,{"$f":"IF(AND(B37<>\"\",C37<>\"\",D37<>\"\",E37<>\"\",G37<>\"\",H37<>\"\",I37<>\"\",J37<>\"\",K37<>\"\",M37<>\"\",N37<>\"\",O37<>\"\"),1,0)","v":0},{"$nulls":3},"","",{"$f":"IF(AND($B37=\"Y\",$R37<>\"\",$R$18<>\"\"),IF($R$19=\"additive\",$R37+$R$18,IF($R$19=\"multiplicative\",$R37*$R$18,\"\")),\"\")","v":""},null,"","",{"$f":"IF(AND($B37=\"Y\",$V37<>\"\",$V$18<>\"\"),IF($V$19=\"additive\",$V37+$V$18,IF($V$19=\"multiplicative\",$V37*$V$18,\"\")),\"\")","v":""},null,{"$f":"IF(AND($X37<>\"\",$AT37=1),$X37,\"\")","v":""},{"$f":"IF($B37=\"Y\",IF(AND($Y37<>\"\",$AO36<>\"\",$AP36<>\"\"),($Y37+$AO36)/($AP36+1),\"\"),\"\")","v":""},{"$f":"IF(AND($B37=\"Y\",$Z37<>\"\",$Z$18<>\"\"),IF($Z$19=\"additive\",$Z37+$Z$18,IF($Z$19=\"multiplicative\",$Z37*$Z$18,\"\")),\"\")","v":""},null,{"$f":"IF(AND($AB37<>\"\",$AT37=1),$AB37,\"\")","v":""},{"$f":"IF($B37=\"Y\",IF(AND($AC37<>\"\",$AQ36<>\"\",$AR36<>\"\"),($AC37+$AQ36)/($AR36+1),\"\"),\"\")","v":""},{"$f":"IF(AND($B37=\"Y\",$AD37<>\"\",$AD$18<>\"\"),IF($AD$19=\"additive\",$AD37+$AD$18,IF($AD$19=\"multiplicative\",$AD37*$AD$18,\"\")),\"\")","v":""},{"$nulls":8},{"$f":"IF($AX37<>\"\",ROUND($AX37,2),\"\")","v":""},{"$nulls":4},{"$f":"IF($AY37<>\"\",ROUND($AY37,2),\"\")","v":""},{"$nulls":4},{"$f":"IF($AZ37<>\"\",ROUND($AZ37,2),\"\")","v":""},{"$nulls":15},{"$f":"IF($BB37<>\"\",ROUND($BB37,3),\"\")","v":""},{"$nulls":4},{"$f":"IF($BC37<>\"\",ROUND($BC37,3),\"\")","v":""},{"$nulls":4},{"$f":"IF($BD37<>\"\",ROUND($BD37,3),\"\")","v":""},{"$nulls":15},{"$f":"IF($BF37<>\"\",ROUND($BF37,3),\"\")","v":""},{"$nulls":4},{"$f":"IF($BG37<>\"\",ROUND($BG37,3),\"\")","v":""},{"$nulls":4},{"$f":"IF($BH37<>\"\",ROUND($BH37,3),\"\")","v":""},{"$nulls":15},{"$f":"IF($BJ37<>\"\",ROUND($BJ37,2),\"\")","v":""},{"$nulls":4},{"$f":"IF($BK37<>\"\",ROUND($BK37,2),\"\")","v":""},{"$nulls":4},{"$f":"IF($BL37<>\"\",ROUND($BL37,2),\"\")","v":""},{"$nulls":6},{"$f":"IF($AG$12<>\"CAT3\",IF(AND($B37=\"Y\",$S37<>\"\",$W37<>\"\",$AA37<>\"\",$AE37<>\"\"),1,0),IF($AE37<>\"\",1,0))","v":0},{"$f":"SUM($FL$36:$FL37)","v":0},{"$f":"IF($AG$12<>\"CAT3\",IF($FL37=1,IF(OR($S37>$R$16,$W37>$V$16,$AA37>$Z$16,IF($AF$12<>\"Y\",OR($AA37>$Z$16,$AE37>$AD$16),ROUND(($AA37+$AE37),2)>$Z$16)),1,0),0),IF($FL37=1,IF(AND($AE37>$AD$16,$AF$12=\"N\"),1,0),0))","v":0},null,null,{"$f":"MAX($FQ$36,$FL$10)","v":1}]
[{"$f":"A37+1","v":3},{"$nulls":4},"N/A",{"$nulls":10},"","","",null,"","","",null,"","","",null,"","","",{"$nulls":5},"","","","","","","","",null,0,{"$nulls":3},"","","",null,"","","",null,"","","",null,"","","",{"$nulls":8},"",{"$nulls":4},"",{"$nulls":4},"",{"$nulls":15},"",{"$nulls":4},"",{"$nulls":4},"",{"$nulls":15},"",{"$nulls":4},"",{"$nulls":4},"",{"$nulls":15},"",{"$nulls":4},"",{"$nulls":4},"",{"$nulls":6},0,{"$f":"SUM($FL$36:$FL38)","v":0},0]
[4,{"$nulls":4},"N/A",{"$nulls":10},"","","",null,"","","",null,"","","",null,"","","",{"$nulls":5},"","","","","","","","",null,0,{"$nulls":3},"","","",null,"","","",null,"","","",null,"","","",{"$nulls":8},"",{"$nulls":4},"",{"$nulls":4},"",{"$nulls":15},"",{"$nulls":4},"",{"$nulls":4},"",{"$nulls":15},"",{"$nulls":4},"",{"$nulls":4},"",{"$nulls":15},"",{"$nulls":4},"",{"$nulls":4},"",{"$nulls":6},0,{"$f":"SUM($FL$36:$FL39)","v":0},0,null,null,"then, the larger of that sample size or 1  (or if Part 94 and cat1,  can be 0)"]
[5,{"$nulls":4},"N/A",{"$nulls":10},"","","",null,"","","",null,"","","",null,"","","",{"$nulls":5},"","","","","","","","",null,0,{"$nulls":3},"","","",null,"","","",null,"","","",null,"","","",{"$nulls":8},"",{"$nulls":4},"",{"$nulls":4},"",{"$nulls":15},"",{"$nulls":4},"",{"$nulls":4},"",{"$nulls":15},"",{"$nulls":4},"",{"$nulls":4},"",{"$nulls":15},"",{"$nulls":4},"",{"$nulls":4},"",{"$nulls":6},0,{"$f":"SUM($FL$36:$FL40)","v":0},0]
[6,{"$nulls":4},"N/A",{"$nulls":10},"","","",null,"","","",null,"","","",null,"","","",{"$nulls":5},"","","","","","","","",null,0,{"$nulls":3},"","","",null,"","","",null,"","","",null,"","","",{"$nulls":8},"",{"$nulls":4},"",{"$nulls":4},"",{"$nulls":15},"",{"$nulls":4},"",{"$nulls":4},"",{"$nulls":15},"",{"$nulls":4},"",{"$nulls":4},"",{"$nulls":15},"",{"$nulls":4},"",{"$nulls":4},"",{"$nulls":6},0,{"$f":"SUM($FL$36:$FL41)","v":0},0]
[7,{"$nulls":4},"N/A",{"$nulls":10},"","","",null,"","","",null,"","","",null,"","","",{"$nulls":5},"","","","","","","","",null,0,{"$nulls":3},"","","",null,"","","",null,"","","",null,"","","",{"$nulls":8},"",{"$nulls":4},"",{"$nulls":4},"",{"$nulls":15},"",{"$nulls":4},"",{"$nulls":4},"",{"$nulls":15},"",{"$nulls":4},"",{"$nulls":4},"",{"$nulls":15},"",{"$nulls":4},"",{"$nulls":4},"",{"$nulls":6},0,{"$f":"SUM($FL$36:$FL42)","v":0},0]
[8,{"$nulls":4},"N/A",{"$nulls":10},"","","",null,"","","",null,"","","",null,"","","",{"$nulls":5},"","","","","","","","",null,0,{"$nulls":3},"","","",null,"","","",null,"","","",null,"","","",{"$nulls":8},"",{"$nulls":4},"",{"$nulls":4},"",{"$nulls":15},"",{"$nulls":4},"",{"$nulls":4},"",{"$nulls":15},"",{"$nulls":4},"",{"$nulls":4},"",{"$nulls":15},"",{"$nulls":4},"",{"$nulls":4},"",{"$nulls":6},0,{"$f":"SUM($FL$36:$FL43)","v":0},0]
[9,{"$nulls":4},"N/A",{"$nulls":10},"","","",null,"","","",null,"","","",null,"","","",{"$nulls":5},"","","","","","","","",null,0,{"$nulls":3},"","","",null,"","","",null,"","","",null,"","","",{"$nulls":8},"",{"$nulls":4},"",{"$nulls":4},"",{"$nulls":15},"",{"$nulls":4},"",{"$nulls":4},"",{"$nulls":15},"",{"$nulls":4},"",{"$nulls":4},"",{"$nulls":15},"",{"$nulls":4},"",{"$nulls":4},"",{"$nulls":6},0,{"$f":"SUM($FL$36:$FL44)","v":0},0]
[10,{"$nulls":4},"N/A",{"$nulls":10},"","","",null,"","","",null,"","","",null,"","","",{"$nulls":5},"","","","","","","","",null,0,{"$nulls":3},"","","",null,"","","",null,"","","",null,"","","",{"$nulls":8},"",{"$nulls":4},"",{"$nulls":4},"",{"$nulls":15},"",{"$nulls":4},"",{"$nulls":4},"",{"$nulls":15},"",{"$nulls":4},"",{"$nulls":4},"",{"$nulls":15},"",{"$nulls":4},"",{"$nulls":4},"",{"$nulls":6},0,{"$f":"SUM($FL$36:$FL45)","v":0},0]
[11,{"$nulls":4},"N/A",{"$nulls":10},"","","",null,"","","",null,"","","",null,"","","",{"$nulls":5},"","","","","","","","",null,0,{"$nulls":3},"","","",null,"","","",null,"","","",null,"","","",{"$nulls":8},"",{"$nulls":4},"",{"$nulls":4},"",{"$nulls":15},"",{"$nulls":4},"",{"$nulls":4},"",{"$nulls":15},"",{"$nulls":4},"",{"$nulls":4},"",{"$nulls":15},"",{"$nulls":4},"",{"$nulls":4},"",{"$nulls":6},0,{"$f":"SUM($FL$36:$FL46)","v":0},0]
[12,{"$nulls":4},"N/A",{"$nulls":10},"","","",null,"","","",null,"","","",null,"","","",{"$nulls":5},"","","","","","","","",null,0,{"$nulls":3},"","","",null,"","","",null,"","","",null,"","","",{"$nulls":8},"",{"$nulls":4},"",{"$nulls":4},"",{"$nulls":15},"",{"$nulls":4},"",{"$nulls":4},"",{"$nulls":15},"",{"$nulls":4},"",{"$nulls":4},"",{"$nulls":15},"",{"$nulls":4},"",{"$nulls":4},"",{"$nulls":6},0,{"$f":"SUM($FL$36:$FL47)","v":0},0]
[13,{"$nulls":4},"N/A",{"$nulls":10},"","","",null,"","","",null,"","","",null,"","","",{"$nulls":5},"","","","","","","","",null,0,{"$nulls":3},"","","",null,"","","",null,"","","",null,"","","",{"$nulls":8},"",{"$nulls":4},"",{"$nulls":4},"",{"$nulls":15},"",{"$nulls":4},"",{"$nulls":4},"",{"$nulls":15},"",{"$nulls":4},"",{"$nulls":4},"",{"$nulls":15},"",{"$nulls":4},"",{"$nulls":4},"",{"$nulls":6},0,{"$f":"SUM($FL$36:$FL48)","v":0},0]
[14,{"$nulls":4},"N/A",{"$nulls":10},"","","",null,"","","",null,"","","",null,"","","",{"$nulls":5},"","","","","","","","",null,0,{"$nulls":3},"","","",null,"","","",null,"","","",null,"","","",{"$nulls":8},"",{"$nulls":4},"",{"$nulls":4},"",{"$nulls":15},"",{"$nulls":4},"",{"$nulls":4},"",{"$nulls":15},"",{"$nulls":4},"",{"$nulls":4},"",{"$nulls":15},"",{"$nulls":4},"",{"$nulls":4},"",{"$nulls":6},0,{"$f":"SUM($FL$36:$FL49)","v":0},0]
[15,{"$nulls":4},"N/A",{"$nulls":10},"","","",null,"","","",null,"","","",null,"","","",{"$nulls":5},"","","","","","","","",null,0,{"$nulls":3},"","","",null,"","","",null,"","","",null,"","","",{"$nulls":8},"",{"$nulls":4},"",{"$nulls":4},"",{"$nulls":15},"",{"$nulls":4},"",{"$nulls":4},"",{"$nulls":15},"",{"$nulls":4},"",{"$nulls":4},"",{"$nulls":15},"",{"$nulls":4},"",{"$nulls":4},"",{"$nulls":6},0,{"$f":"SUM($FL$36:$FL50)","v":0},0]
[16,{"$nulls":4},"N/A",{"$nulls":10},"","","",null,"","","",null,"","","",null,"","","",{"$nulls":5},"","","","","","","","",null,0,{"$nulls":3},"","","",null,"","","",null,"","","",null,"","","",{"$nulls":8},"",{"$nulls":4},"",{"$nulls":4},"",{"$nulls":15},"",{"$nulls":4},"",{"$nulls":4},"",{"$nulls":15},"",{"$nulls":4},"",{"$nulls":4},"",{"$nulls":15},"",{"$nulls":4},"",{"$nulls":4},"",{"$nulls":6},0,{"$f":"SUM($FL$36:$FL51)","v":0},0]
[17,{"$nulls":4},"N/A",{"$nulls":10},"","","",null,"","","",null,"","","",null,"","","",{"$nulls":5},"","","","","","","","",null,0,{"$nulls":3},"","","",null,"","","",null,"","","",null,"","","",{"$nulls":8},"",{"$nulls":4},"",{"$nulls":4},"",{"$nulls":15},"",{"$nulls":4},"",{"$nulls":4},"",{"$nulls":15},"",{"$nulls":4},"",{"$nulls":4},"",{"$nulls":15},"",{"$nulls":4},"",{"$nulls":4},"",{"$nulls":6},0,{"$f":"SUM($FL$36:$FL52)","v":0},0]
[18,{"$nulls":4},"N/A",{"$nulls":10},"","","",null,"","","",null,"","","",null,"","","",{"$nulls":5},"","","","","","","","",null,0,{"$nulls":3},"","","",null,"","","",null,"","","",null,"","","",{"$nulls":8},"",{"$nulls":4},"",{"$nulls":4},"",{"$nulls":15},"",{"$nulls":4},"",{"$nulls":4},"",{"$nulls":15},"",{"$nulls":4},"",{"$nulls":4},"",{"$nulls":15},"",{"$nulls":4},"",{"$nulls":4},"",{"$nulls":6},0,{"$f":"SUM($FL$36:$FL53)","v":0},0]
[19,{"$nulls":4},"N/A",{"$nulls":10},"","","",null,"","","",null,"","","",null,"","","",{"$nulls":5},"","","","","","","","",null,0,{"$nulls":3},"","","",null,"","","",null,"","","",null,"","","",{"$nulls":8},"",{"$nulls":4},"",{"$nulls":4},"",{"$nulls":15},"",{"$nulls":4},"",{"$nulls":4},"",{"$nulls":15},"",{"$nulls":4},"",{"$nulls":4},"",{"$nulls":15},"",{"$nulls":4},"",{"$nulls":4},"",{"$nulls":6},0,{"$f":"SUM($FL$36:$FL54)","v":0},0]
[20,{"$nulls":4},"N/A",{"$nulls":10},"","","",null,"","","",null,"","","",null,"","","",{"$nulls":5},"","","","","","","","",null,0,{"$nulls":3},"","","",null,"","","",null,"","","",null,"","","",{"$nulls":8},"",{"$nulls":4},"",{"$nulls":4},"",{"$nulls":15},"",{"$nulls":4},"",{"$nulls":4},"",{"$nulls":15},"",{"$nulls":4},"",{"$nulls":4},"",{"$nulls":15},"",{"$nulls":4},"",{"$nulls":4},"",{"$nulls":6},0,{"$f":"SUM($FL$36:$FL55)","v":0},0]
[21,{"$nulls":4},"N/A",{"$nulls":10},"","","",null,"","","",null,"","","",null,"","","",{"$nulls":5},"","","","","","","","",null,0,{"$nulls":3},"","","",null,"","","",null,"","","",null,"","","",{"$nulls":8},"",{"$nulls":4},"",{"$nulls":4},"",{"$nulls":15},"",{"$nulls":4},"",{"$nulls":4},"",{"$nulls":15},"",{"$nulls":4},"",{"$nulls":4},"",{"$nulls":15},"",{"$nulls":4},"",{"$nulls":4},"",{"$nulls":6},0,{"$f":"SUM($FL$36:$FL56)","v":0},0]
[22,{"$nulls":4},"N/A",{"$nulls":10},"","","",null,"","","",null,"","","",null,"","","",{"$nulls":5},"","","","","","","","",null,0,{"$nulls":3},"","","",null,"","","",null,"","","",null,"","","",{"$nulls":8},"",{"$nulls":4},"",{"$nulls":4},"",{"$nulls":15},"",{"$nulls":4},"",{"$nulls":4},"",{"$nulls":15},"",{"$nulls":4},"",{"$nulls":4},"",{"$nulls":15},"",{"$nulls":4},"",{"$nulls":4},"",{"$nulls":6},0,{"$f":"SUM($FL$36:$FL57)","v":0},0]
[23,{"$nulls":4},"N/A",{"$nulls":10},"","","",null,"","","",null,"","","",null,"","","",{"$nulls":5},"","","","","","","","",null,0,{"$nulls":3},"","","",null,"","","",null,"","","",null,"","","",{"$nulls":8},"",{"$nulls":4},"",{"$nulls":4},"",{"$nulls":15},"",{"$nulls":4},"",{"$nulls":4},"",{"$nulls":15},"",{"$nulls":4},"",{"$nulls":4},"",{"$nulls":15},"",{"$nulls":4},"",{"$nulls":4},"",{"$nulls":6},0,{"$f":"SUM($FL$36:$FL58)","v":0},0]
[24,{"$nulls":4},"N/A",{"$nulls":10},"","","",null,"","","",null,"","","",null,"","","",{"$nulls":5},"","","","","","","","",null,0,{"$nulls":3},"","","",null,"","","",null,"","","",null,"","","",{"$nulls":8},"",{"$nulls":4},"",{"$nulls":4},"",{"$nulls":15},"",{"$nulls":4},"",{"$nulls":4},"",{"$nulls":15},"",{"$nulls":4},"",{"$nulls":4},"",{"$nulls":15},"",{"$nulls":4},"",{"$nulls":4},"",{"$nulls":6},0,{"$f":"SUM($FL$36:$FL59)","v":0},0]
[25,{"$nulls":4},"N/A",{"$nulls":10},"","","",null,"","","",null,"","","",null,"","","",{"$nulls":5},"","","","","","","","",null,0,{"$nulls":3},"","","",null,"","","",null,"","","",null,"","","",{"$nulls":8},"",{"$nulls":4},"",{"$nulls":4},"",{"$nulls":15},"",{"$nulls":4},"",{"$nulls":4},"",{"$nulls":15},"",{"$nulls":4},"",{"$nulls":4},"",{"$nulls":15},"",{"$nulls":4},"",{"$nulls":4},"",{"$nulls":6},0,{"$f":"SUM($FL$36:$FL60)","v":0},0]
[26,{"$nulls":4},"N/A",{"$nulls":10},"","","",null,"","","",null,"","","",null,"","","",{"$nulls":5},"","","","","","","","",null,0,{"$nulls":3},"","","",null,"","","",null,"","","",null,"","","",{"$nulls":8},"",{"$nulls":4},"",{"$nulls":4},"",{"$nulls":15},"",{"$nulls":4},"",{"$nulls":4},"",{"$nulls":15},"",{"$nulls":4},"",{"$nulls":4},"",{"$nulls":15},"",{"$nulls":4},"",{"$nulls":4},"",{"$nulls":6},0,{"$f":"SUM($FL$36:$FL61)","v":0},0]
[27,{"$nulls":4},"N/A",{"$nulls":10},"","","",null,"","","",null,"","","",null,"","","",{"$nulls":5},"","","","","","","","",null,0,{"$nulls":3},"","","",null,"","","",null,"","","",null,"","","",{"$nulls":8},"",{"$nulls":4},"",{"$nulls":4},"",{"$nulls":15},"",{"$nulls":4},"",{"$nulls":4},"",{"$nulls":15},"",{"$nulls":4},"",{"$nulls":4},"",{"$nulls":15},"",{"$nulls":4},"",{"$nulls":4},"",{"$nulls":6},0,{"$f":"SUM($FL$36:$FL62)","v":0},0]
[28,{"$nulls":4},"N/A",{"$nulls":10},"","","",null,"","","",null,"","","",null,"","","",{"$nulls":5},"","","","","","","","",null,0,{"$nulls":3},"","","",null,"","","",null,"","","",null,"","","",{"$nulls":8},"",{"$nulls":4},"",{"$nulls":4},"",{"$nulls":15},"",{"$nulls":4},"",{"$nulls":4},"",{"$nulls":15},"",{"$nulls":4},"",{"$nulls":4},"",{"$nulls":15},"",{"$nulls":4},"",{"$nulls":4},"",{"$nulls":6},0,{"$f":"SUM($FL$36:$FL63)","v":0},0]
[29,{"$nulls":4},"N/A",{"$nulls":10},"","","",null,"","","",null,"","","",null,"","","",{"$nulls":5},"","","","","","","","",null,0,{"$nulls":3},"","","",null,"","","",null,"","","",null,"","","",{"$nulls":8},"",{"$nulls":4},"",{"$nulls":4},"",{"$nulls":15},"",{"$nulls":4},"",{"$nulls":4},"",{"$nulls":15},"",{"$nulls":4},"",{"$nulls":4},"",{"$nulls":15},"",{"$nulls":4},"",{"$nulls":4},"",{"$nulls":6},0,{"$f":"SUM($FL$36:$FL64)","v":0},0]
[30,{"$nulls":4},"N/A",{"$nulls":10},"","","",null,"","","",null,"","","",null,"","","",{"$nulls":5},"","","","","","","","",null,0,{"$nulls":3},"","","",null,"","","",null,"","","",null,"","","",{"$nulls":8},"",{"$nulls":4},"",{"$nulls":4},"",{"$nulls":15},"",{"$nulls":4},"",{"$nulls":4},"",{"$nulls":15},"",{"$nulls":4},"",{"$nulls":4},"",{"$nulls":15},"",{"$nulls":4},"",{"$nulls":4},"",{"$nulls":6},0,{"$f":"SUM($FL$36:$FL65)","v":0},0]
[31,{"$nulls":4},"N/A",{"$nulls":10},"","","",null,"","","",null,"","","",null,"","","",{"$nulls":5},"","","","","","","","",null,0,{"$nulls":3},"","","",null,"","","",null,"","","",null,"","","",{"$nulls":8},"",{"$nulls":4},"",{"$nulls":4},"",{"$nulls":15},"",{"$nulls":4},"",{"$nulls":4},"",{"$nulls":15},"",{"$nulls":4},"",{"$nulls":4},"",{"$nulls":15},"",{"$nulls":4},"",{"$nulls":4},"",{"$nulls":6},0,{"$f":"SUM($FL$36:$FL66)","v":0},0]
[32,{"$nulls":4},"N/A",{"$nulls":10},"","","",null,"","","",null,"","","",null,"","","",{"$nulls":5},"","","","","","","","",null,0,{"$nulls":3},"","","",null,"","","",null,"","","",null,"","","",{"$nulls":8},"",{"$nulls":4},"",{"$nulls":4},"",{"$nulls":15},"",{"$nulls":4},"",{"$nulls":4},"",{"$nulls":15},"",{"$nulls":4},"",{"$nulls":4},"",{"$nulls":15},"",{"$nulls":4},"",{"$nulls":4},"",{"$nulls":6},0,{"$f":"SUM($FL$36:$FL67)","v":0},0]
[33,{"$nulls":4},"N/A",{"$nulls":10},"","","",null,"","","",null,"","","",null,"","","",{"$nulls":5},"","","","","","","","",null,0,{"$nulls":3},"","","",null,"","","",null,"","","",null,"","","",{"$nulls":8},"",{"$nulls":4},"",{"$nulls":4},"",{"$nulls":15},"",{"$nulls":4},"",{"$nulls":4},"",{"$nulls":15},"",{"$nulls":4},"",{"$nulls":4},"",{"$nulls":15},"",{"$nulls":4},"",{"$nulls":4},"",{"$nulls":6},0,{"$f":"SUM($FL$36:$FL68)","v":0},0]
[34,{"$nulls":4},"N/A",{"$nulls":10},"","","",null,"","","",null,"","","",null,"","","",{"$nulls":5},"","","","","","","","",null,0,{"$nulls":3},"","","",null,"","","",null,"","","",null,"","","",{"$nulls":8},"",{"$nulls":4},"",{"$nulls":4},"",{"$nulls":15},"",{"$nulls":4},"",{"$nulls":4},"",{"$nulls":15},"",{"$nulls":4},"",{"$nulls":4},"",{"$nulls":15},"",{"$nulls":4},"",{"$nulls":4},"",{"$nulls":6},0,{"$f":"SUM($FL$36:$FL69)","v":0},0]
[35,{"$nulls":4},"N/A",{"$nulls":10},"","","",null,"","","",null,"","","",null,"","","",{"$nulls":5},"","","","","","","","",null,0,{"$nulls":3},"","","",null,"","","",null,"","","",null,"","","",{"$nulls":8},"",{"$nulls":4},"",{"$nulls":4},"",{"$nulls":15},"",{"$nulls":4},"",{"$nulls":4},"",{"$nulls":15},"",{"$nulls":4},"",{"$nulls":4},"",{"$nulls":15},"",{"$nulls":4},"",{"$nulls":4},"",{"$nulls":6},0,{"$f":"SUM($FL$36:$FL70)","v":0},0]
[36,{"$nulls":4},"N/A",{"$nulls":10},"","","",null,"","","",null,"","","",null,"","","",{"$nulls":5},"","","","","","","","",null,0,{"$nulls":3},"","","",null,"","","",null,"","","",null,"","","",{"$nulls":8},"",{"$nulls":4},"",{"$nulls":4},"",{"$nulls":15},"",{"$nulls":4},"",{"$nulls":4},"",{"$nulls":15},"",{"$nulls":4},"",{"$nulls":4},"",{"$nulls":15},"",{"$nulls":4},"",{"$nulls":4},"",{"$nulls":6},0,{"$f":"SUM($FL$36:$FL71)","v":0},0]
[37,{"$nulls":4},"N/A",{"$nulls":10},"","","",null,"","","",null,"","","",null,"","","",{"$nulls":5},"","","","","","","","",null,0,{"$nulls":3},"","","",null,"","","",null,"","","",null,"","","",{"$nulls":8},"",{"$nulls":4},"",{"$nulls":4},"",{"$nulls":15},"",{"$nulls":4},"",{"$nulls":4},"",{"$nulls":15},"",{"$nulls":4},"",{"$nulls":4},"",{"$nulls":15},"",{"$nulls":4},"",{"$nulls":4},"",{"$nulls":6},0,{"$f":"SUM($FL$36:$FL72)","v":0},0]
[38,{"$nulls":4},"N/A",{"$nulls":10},"","","",null,"","","",null,"","","",null,"","","",{"$nulls":5},"","","","","","","","",null,0,{"$nulls":3},"","","",null,"","","",null,"","","",null,"","","",{"$nulls":8},"",{"$nulls":4},"",{"$nulls":4},"",{"$nulls":15},"",{"$nulls":4},"",{"$nulls":4},"",{"$nulls":15},"",{"$nulls":4},"",{"$nulls":4},"",{"$nulls":15},"",{"$nulls":4},"",{"$nulls":4},"",{"$nulls":6},0,{"$f":"SUM($FL$36:$FL73)","v":0},0]
[39,{"$nulls":4},"N/A",{"$nulls":10},"","","",null,"","","",null,"","","",null,"","","",{"$nulls":5},"","","","","","","","",null,0,{"$nulls":3},"","","",null,"","","",null,"","","",null,"","","",{"$nulls":8},"",{"$nulls":4},"",{"$nulls":4},"",{"$nulls":15},"",{"$nulls":4},"",{"$nulls":4},"",{"$nulls":15},"",{"$nulls":4},"",{"$nulls":4},"",{"$nulls":15},"",{"$nulls":4},"",{"$nulls":4},"",{"$nulls":6},0,{"$f":"SUM($FL$36:$FL74)","v":0},0]
[40,{"$nulls":4},"N/A",{"$nulls":10},"","","",null,"","","",null,"","","",null,"","","",{"$nulls":5},"","","","","","","","",null,0,{"$nulls":3},"","","",null,"","","",null,"","","",null,"","","",{"$nulls":8},"",{"$nulls":4},"",{"$nulls":4},"",{"$nulls":15},"",{"$nulls":4},"",{"$nulls":4},"",{"$nulls":15},"",{"$nulls":4},"",{"$nulls":4},"",{"$nulls":15},"",{"$nulls":4},"",{"$nulls":4},"",{"$nulls":6},0,{"$f":"SUM($FL$36:$FL75)","v":0},0]
[41,{"$nulls":4},"N/A",{"$nulls":10},"","","",null,"","","",null,"","","",null,"","","",{"$nulls":5},"","","","","","","","",null,0,{"$nulls":3},"","","",null,"","","",null,"","","",null,"","","",{"$nulls":8},"",{"$nulls":4},"",{"$nulls":4},"",{"$nulls":15},"",{"$nulls":4},"",{"$nulls":4},"",{"$nulls":15},"",{"$nulls":4},"",{"$nulls":4},"",{"$nulls":15},"",{"$nulls":4},"",{"$nulls":4},"",{"$nulls":6},0,{"$f":"SUM($FL$36:$FL76)","v":0},0]
[42,{"$nulls":4},"N/A",{"$nulls":10},"","","",null,"","","",null,"","","",null,"","","",{"$nulls":5},"","","","","","","","",null,0,{"$nulls":3},"","","",null,"","","",null,"","","",null,"","","",{"$nulls":8},"",{"$nulls":4},"",{"$nulls":4},"",{"$nulls":15},"",{"$nulls":4},"",{"$nulls":4},"",{"$nulls":15},"",{"$nulls":4},"",{"$nulls":4},"",{"$nulls":15},"",{"$nulls":4},"",{"$nulls":4},"",{"$nulls":6},0,{"$f":"SUM($FL$36:$FL77)","v":0},0]
[43,{"$nulls":4},"N/A",{"$nulls":10},"","","",null,"","","",null,"","","",null,"","","",{"$nulls":5},"","","","","","","","",null,0,{"$nulls":3},"","","",null,"","","",null,"","","",null,"","","",{"$nulls":8},"",{"$nulls":4},"",{"$nulls":4},"",{"$nulls":15},"",{"$nulls":4},"",{"$nulls":4},"",{"$nulls":15},"",{"$nulls":4},"",{"$nulls":4},"",{"$nulls":15},"",{"$nulls":4},"",{"$nulls":4},"",{"$nulls":6},0,{"$f":"SUM($FL$36:$FL78)","v":0},0]
[44,{"$nulls":4},"N/A",{"$nulls":10},"","","",null,"","","",null,"","","",null,"","","",{"$nulls":5},"","","","","","","","",null,0,{"$nulls":3},"","","",null,"","","",null,"","","",null,"","","",{"$nulls":8},"",{"$nulls":4},"",{"$nulls":4},"",{"$nulls":15},"",{"$nulls":4},"",{"$nulls":4},"",{"$nulls":15},"",{"$nulls":4},"",{"$nulls":4},"",{"$nulls":15},"",{"$nulls":4},"",{"$nulls":4},"",{"$nulls":6},0,{"$f":"SUM($FL$36:$FL79)","v":0},0]
[45,{"$nulls":4},"N/A",{"$nulls":10},"","","",null,"","","",null,"","","",null,"","","",{"$nulls":5},"","","","","","","","",null,0,{"$nulls":3},"","","",null,"","","",null,"","","",null,"","","",{"$nulls":8},"",{"$nulls":4},"",{"$nulls":4},"",{"$nulls":15},"",{"$nulls":4},"",{"$nulls":4},"",{"$nulls":15},"",{"$nulls":4},"",{"$nulls":4},"",{"$nulls":15},"",{"$nulls":4},"",{"$nulls":4},"",{"$nulls":6},0,{"$f":"SUM($FL$36:$FL80)","v":0},0]
[46,{"$nulls":4},"N/A",{"$nulls":10},"","","",null,"","","",null,"","","",null,"","","",{"$nulls":5},"","","","","","","","",null,0,{"$nulls":3},"","","",null,"","","",null,"","","",null,"","","",{"$nulls":8},"",{"$nulls":4},"",{"$nulls":4},"",{"$nulls":15},"",{"$nulls":4},"",{"$nulls":4},"",{"$nulls":15},"",{"$nulls":4},"",{"$nulls":4},"",{"$nulls":15},"",{"$nulls":4},"",{"$nulls":4},"",{"$nulls":6},0,{"$f":"SUM($FL$36:$FL81)","v":0},0]
[47,{"$nulls":4},"N/A",{"$nulls":10},"","","",null,"","","",null,"","","",null,"","","",{"$nulls":5},"","","","","","","","",null,0,{"$nulls":3},"","","",null,"","","",null,"","","",null,"","","",{"$nulls":8},"",{"$nulls":4},"",{"$nulls":4},"",{"$nulls":15},"",{"$nulls":4},"",{"$nulls":4},"",{"$nulls":15},"",{"$nulls":4},"",{"$nulls":4},"",{"$nulls":15},"",{"$nulls":4},"",{"$nulls":4},"",{"$nulls":6},0,{"$f":"SUM($FL$36:$FL82)","v":0},0]
[48,{"$nulls":4},"N/A",{"$nulls":10},"","","",null,"","","",null,"","","",null,"","","",{"$nulls":5},"","","","","","","","",null,0,{"$nulls":3},"","","",null,"","","",null,"","","",null,"","","",{"$nulls":8},"",{"$nulls":4},"",{"$nulls":4},"",{"$nulls":15},"",{"$nulls":4},"",{"$nulls":4},"",{"$nulls":15},"",{"$nulls":4},"",{"$nulls":4},"",{"$nulls":15},"",{"$nulls":4},"",{"$nulls":4},"",{"$nulls":6},0,{"$f":"SUM($FL$36:$FL83)","v":0},0]
[49,{"$nulls":4},"N/A",{"$nulls":10},"","","",null,"","","",null,"","","",null,"","","",{"$nulls":5},"","","","","","","","",null,0,{"$nulls":3},"","","",null,"","","",null,"","","",null,"","","",{"$nulls":8},"",{"$nulls":4},"",{"$nulls":4},"",{"$nulls":15},"",{"$nulls":4},"",{"$nulls":4},"",{"$nulls":15},"",{"$nulls":4},"",{"$nulls":4},"",{"$nulls":15},"",{"$nulls":4},"",{"$nulls":4},"",{"$nulls":6},0,{"$f":"SUM($FL$36:$FL84)","v":0},0]
[50,{"$nulls":4},"N/A",{"$nulls":10},"","","",null,"","","",null,"","","",null,"","","",{"$nulls":5},"","","","","","","","",null,0,{"$nulls":3},"","","",null,"","","",null,"","","",null,"",{"$f":"IF($B85=\"Y\",IF(AND($AC85<>\"\",$AQ84<>\"\",$AR84<>\"\"),($AC85+$AQ84)/($AR84+1),\"\"),\"\")","v":""},"",{"$nulls":8},"",{"$nulls":4},"",{"$nulls":4},"",{"$nulls":15},"",{"$nulls":4},"",{"$nulls":4},"",{"$nulls":15},"",{"$nulls":4},"",{"$nulls":4},"",{"$nulls":15},"",{"$nulls":4},"",{"$nulls":4},"",{"$nulls":6},0,{"$f":"SUM($FL$36:$FL85)","v":0},0]
[null,null,{"$f":"SUM(C36:C85)","v":0}]
["g/bhp-hr"]
["g/kW-hr"]

{"sheet":"Engine Family #18","index":20,"n_rows":88,"n_cols":176,"rows_kept":88,"merged":[[1,0,1,35],[2,0,2,35],[3,0,3,35],[4,0,4,35],[5,0,5,35],[6,0,6,35],[8,0,8,16],[10,4,10,6],[10,12,10,13],[11,4,11,6],[11,15,11,16],[11,19,11,20],[11,23,11,24],[11,27,11,28],[12,4,12,6],[13,4,13,6],[14,4,15,6],[17,14,22,14],[27,4,30,13],[27,15,28,16],[32,0,32,16],[32,17,32,33],[32,34,32,35],[33,45,34,45]]}
[]
["United States"]
["US Environmental Protection Agency"]
["Office of Air and Radiation, Office of Transportation and Air Quality"]
[{"$nulls":37},"Tier 2","Y",94]
["Manufacturer Production Line Testing Report for Marine Compression Ignition Engines",{"$nulls":36},"Tier 3","N",1042]
[{"$f":"Summary!B7","v":"Version Number: 1.4 DRAFT  Last Revision: September 2023"},{"$nulls":36},"Tier 4",null,"N/A"]
[]
["Basic Information: Engine Family #18"]
[{"$nulls":167},{"$f":"IF(AND($G$24=94,Summary!$L$13=\"Category 1\"),0,1)","v":1}]
[null,null,"Manufacturer:",null,{"$f":"IF(Summary!D12<>\"\",Summary!D12,\"\")","v":""},{"$nulls":3},"Engine Family:",{"$nulls":31},{"$f":"IF($G$19=\"Diesel\",\"'HC' refers to 'THC' \",IF($G$19=\"Natural Gas\",\"'HC' refers to 'NMHC' \",IF($G$19=\"Alcohol\",\"'HC' refers to 'THCE' \",\"\")))","v":""}]
[null,null,"PLT Test Contact:",null,{"$f":"IF(Summary!D13<>\"\",Summary!D13,\"\")","v":""},{"$nulls":3},"Production (Category 3 only):",{"$nulls":6},{"$f":"IF(N16<>\"Y\", \"Current CO Result\", \"Final CO Result\")","v":"Current CO Result"},null,{"$f":"$CJ$36","v":""},null,{"$f":"IF(N16<>\"Y\", \"Current PM Result\", \"Final PM Result\")","v":"Current PM Result"},null,{"$f":"$DJ$36","v":""},null,{"$f":"IF($AF$12=\"Y\",IF(N16<>\"Y\", \"Current NOx+HC Result\", \"Final NOx+HC Result\"),IF(N16<>\"Y\", \"Current HC Result\", \"Final HC Result\"))","v":"Current HC Result"},null,{"$f":"IF($AF$12=\"Y\",IF($FP$36>0,ROUND($EJ$36+$FJ$36,2),\"\"),$EJ$36)","v":""},null,{"$f":"IF(N16<>\"Y\", \"Current NOx Result\",\"Final NOx Result\")","v":"Current NOx Result"},null,{"$f":"$FJ$36","v":""},null,{"$f":"IF($L$13<>\"Category 3\",IF($G$23=\"\",\"N\",$G$23),\"N\")","v":"N"},{"$f":"IF(Summary!$L$13=\"Category 3\",\"CAT3\",\"\")","v":""}]
[null,null,"Email Address:",null,{"$f":"IF(Summary!D14<>\"\",Summary!D14,\"\")","v":""},{"$nulls":3},"Date of Start of Model Year Production:"]
[null,null,"Phone #:",null,{"$f":"IF(Summary!D15<>\"\",Summary!D15,\"\")","v":""},{"$nulls":3},"Date of End of Model Year Production:",{"$nulls":14},{"$f":"IF($G$19=\"Diesel\",\"'HC' refers to 'THC' \",IF($G$19=\"Natural Gas\",\"'HC' refers to 'NMHC' \",IF($G$19=\"Alcohol\",\"'HC' refers to 'THCE' \",\"\")))","v":""},{"$nulls":13},"Diesel",1,{"$nulls":6},1]
[null,null,"Test Location & Description:",{"$nulls":5},"Deterioration Factor Type:",{"$nulls":28},"Natural Gas",2,{"$nulls":6},2]
[{"$nulls":8},"Include Results from this Engine Family on Summary Sheet?",{"$nulls":6},"CO Standard ",{"$nulls":3},"PM Standard or FEL",{"$nulls":3},{"$f":"IF($AF$12=\"Y\",\"NOx+HC Standard or FEL\",\"HC Standard\")","v":"HC Standard"},{"$nulls":3},"NOx Standard or FEL",{"$nulls":9},"Alcohol",3,{"$nulls":6},3]
[null,null,"Carryover?:",{"$nulls":5},"Required Tests (including failure follow-ups)",{"$nulls":4},{"$f":"$FO36","v":0},null,"Units",null,"g/kW-hr",null,"Units",null,"g/kW-hr",null,"Units",null,"g/kW-hr",null,"Units",null,"g/kW-hr",{"$nulls":4},"Test Cycle Options",{"$nulls":10},4]
[null,null,{"$f":"IF($G$17=\"Y\",\"Please submit supporting documentation indicating that this is a carry-over engine family\",\"\")","v":""},{"$nulls":5},"Instead of testing, are PLT requirements for this Engine Family",{"$nulls":6},"CO  Det Factor",{"$nulls":3},"PM  Det Factor",{"$nulls":3},"HC Det Factor",{"$nulls":3},"NOx  Det Factor",{"$nulls":6},"1 = 4-Mode General Cycle (E3)",null,null,"Recreational"]
[null,null,"Fuel Type:",{"$nulls":5}," fulfilled under the following (Category 1 only)?",{"$nulls":6},"Det Factor Type",null,{"$f":"IF($N$15<>\"\",$N$15,\"\")","v":""},null,"Det Factor Type",null,{"$f":"IF($N$15<>\"\",$N$15,\"\")","v":""},null,"Det Factor Type",null,{"$f":"IF($N$15<>\"\",$N$15,\"\")","v":""},null,"Det Factor Type",null,{"$f":"IF($N$15<>\"\",$N$15,\"\")","v":""},{"$nulls":4},"2 = 5-Mode Recreational Cycle (E5)",null,null,"Commercial"]
[null,null,"Recreational/Commercial:",{"$nulls":5},"Please elaborate in the comments section.",{"$nulls":6},"CO Green Engine Factor",{"$nulls":3},"PM Green Engine Factor",{"$nulls":3},"HC Green Engine Factor",{"$nulls":3},"NOx Green Engine Factor",{"$nulls":6},"3 = 4-Mode Constant Speed Propulsion Cycle (E2)"]
[null,null,"Model Year:",{"$nulls":5},"    -1042.310(a) - EPA approved combining it, for PLT purposes only.",{"$nulls":25},"4 = 5-Mode Constant Speed Auxiliary Cycle (D2)"]
[null,null,"Tier:",{"$nulls":31},"5 = 6-Mode Variable Speed Auxiliary Cycle (G2)",null,null,"1 (E3)"]
[null,null,"Combined NOx+HC?",{"$nulls":31},"6 = 8-Mode Variable Speed Ausiliary Cycle (C1)",null,null,"2 (E5)"]
[null,null,"40 CFR Part:",{"$nulls":3},{"$f":"AN6","v":1042},null,"Additional testing required by EPA [40 CFR 1042.301(e)]? ",{"$nulls":25},"O = Other",null,null,"3 (E2)"]
[{"$nulls":37},"4 (D2)"]
[{"$nulls":37},"5 (G2)",{"$nulls":132},"deleted and redirected"]
[{"$nulls":22}," ",{"$nulls":14},"6 (C1)",4,{"$nulls":6},4]
[null,null,"Comments:",{"$nulls":34},"O (other)"]
[{"$nulls":22}," ",{"$nulls":22},"additive"]
[{"$nulls":45},"multiplicative",{"$nulls":22},"CO Rounding",{"$nulls":4},"CO Rounding",{"$nulls":4},"CO Rounding",{"$nulls":4},"CO Rounding",{"$nulls":10},"PM Rounding",{"$nulls":4},"PM Rounding",{"$nulls":4},"PM Rounding",{"$nulls":4},"PM Rounding",{"$nulls":10},"HC Rounding",{"$nulls":4},"HC Rounding",{"$nulls":4},"HC Rounding",{"$nulls":4},"HC Rounding",{"$nulls":10},"NOx Rounding",{"$nulls":4},"NOx Rounding",{"$nulls":4},"NOx Rounding",{"$nulls":4},"NOx Rounding"]
[{"$nulls":22}," ",{"$nulls":45},"initial",{"$nulls":4},"final",{"$nulls":4}," det final",{"$nulls":4},"ave of all final",{"$nulls":10},"initial",{"$nulls":4},"final",{"$nulls":4}," det final",{"$nulls":4},"ave of all final",{"$nulls":10},"initial",{"$nulls":4},"final",{"$nulls":4}," det final",{"$nulls":4},"ave of all final",{"$nulls":10},"initial",{"$nulls":4},"final",{"$nulls":4}," det final",{"$nulls":4},"ave of all final"]
[{"$nulls":38},"Y",{"$nulls":6},"Y"]
["PLT Engine Test Results: Engine Family #18",{"$nulls":37},"N",{"$nulls":6},"N",{"$nulls":124},"This is N17"]
[{"$nulls":36},"CO",null,"PM",null,null,"HC or HC+NOX",null,"Nox",null,"Engine Data Complete?",{"$nulls":11},"HC","HC","HC","HC","Nox","Nox","Nox","Nox",{"$nulls":107},"1% of production or pre-approved reduced sample size - whichever is Lower # "]
[null,"Calc Final Result?","Test Number","Test Date","Test Time","Test Qtr","Engine ID","Engine Make","Engine Configuration","Build Date","Green Engine Factor Applied?","Green Engine Factor Determination Method","Service Hours (or miles) Accumulation","Service Hours Location","Service Acc. Procedure","CO Initial Result ","Rounded CO Initial Result ","CO Final Result ","Det. CO Final Result ","PM Initial Result ","Rounded PM Initial Result ","PM Final Result ","Det. PM Final Result ","HC Initial Result ","Rounded HC Initial Result ","HC Final Result ","Det. HC Final Result ","NOx Initial Result ","Rounded NOx Initial Result ","NOx Final Result ","Det. NOx Final Result ","Reason for Failed Test (if applicable)","Remedy","Repairs","Test Cycle","Comments",0,0,0,0,0,0,0,0,{"$nulls":5},"Unrounded initial CO","Unrounded final CO","Det CO","Final CO","Unrounded initial PM","Unrounded final PM","Det PM","Final PM","Unrounded initial HCNOx","Unrounded final HCNOx","Det HCNOx","Final HCNOX","Unrounded initial NOx","Unrounded final NOx","Det NOx","Final HCNOX",{"$nulls":7},"rounded",{"$nulls":4},"rounded",{"$nulls":4},"rounded",{"$nulls":4},"rounded",{"$nulls":10},"rounded",{"$nulls":4},"rounded",{"$nulls":4},"rounded",{"$nulls":4},"rounded",{"$nulls":10},"rounded",{"$nulls":4},"rounded",{"$nulls":4},"rounded",{"$nulls":4},"rounded","ROUNDED AND ACCOUNT FOR BLANK",{"$nulls":9},"rounded",{"$nulls":4},"rounded",{"$nulls":4},"rounded",{"$nulls":4},"rounded","ROUNDED AND ACCOUNT FOR BLANK","Test complete Flag","Total complete","Fail Flag","req","val","baseline req","req due to fails","sum fails","baseline req"]
[1,{"$nulls":4},"N/A",{"$nulls":10},{"$f":"$BU36","v":""},{"$f":"$BZ36","v":""},{"$f":"$CE36","v":""},null,{"$f":"$CU36","v":""},{"$f":"$CZ36","v":""},{"$f":"$DE36","v":""},null,{"$f":"$DU36","v":""},{"$f":"$DZ36","v":""},{"$f":"$EE36","v":""},null,{"$f":"$EU36","v":""},{"$f":"$EZ36","v":""},{"$f":"$FE36","v":""},{"$nulls":5},{"$f":"IF($B36=\"N\",IF(AND($AK35<>\"\",$Q36<>\"\"),$AK35+$Q36,\"\"),IF($B36=\"Y\",0,\"\"))","v":""},{"$f":"IF($B36=\"N\",AL35+1,IF($B36=\"Y\",0,\"\"))","v":""},{"$f":"IF($B36=\"N\",IF(AND($AM35<>\"\",$U36<>\"\"),$AM35+$U36,\"\"),IF($B36=\"Y\",0,\"\"))","v":""},{"$f":"IF($B36=\"N\",AN35+1,IF($B36=\"Y\",0,\"\"))","v":""},{"$f":"IF($B36=\"N\",IF(AND($AO35<>\"\",$Y36<>\"\"),$AO35+$Y36,\"\"),IF($B36=\"Y\",0,\"\"))","v":""},{"$f":"IF($B36=\"N\",AP35+1,IF($B36=\"Y\",0,\"\"))","v":""},{"$f":"IF($B36=\"N\",IF(AND($AQ35<>\"\",$AC36<>\"\"),$AQ35+$AC36,\"\"),IF($B36=\"Y\",0,\"\"))","v":""},{"$f":"IF($B36=\"N\",AR35+1,IF($B36=\"Y\",0,\"\"))","v":""},null,{"$f":"IF(AND(B36<>\"\",C36<>\"\",D36<>\"\",E36<>\"\",G36<>\"\",H36<>\"\",I36<>\"\",J36<>\"\",K36<>\"\",M36<>\"\",N36<>\"\",O36<>\"\"),1,0)","v":0},{"$nulls":3},{"$f":"IF(AND($P36<>\"\",$AT36=1),$P36,\"\")","v":""},{"$f":"IF($B36=\"Y\",IF(AND($Q36<>\"\",$AK35<>\"\",$AL35<>\"\"),($Q36+$AK35)/($AL35+1),\"\"),\"\")","v":""},{"$f":"IF(AND($B36=\"Y\",$R36<>\"\",$R$18<>\"\"),IF($R$19=\"additive\",$R36+$R$18,IF($R$19=\"multiplicative\",$R36*$R$18,\"\")),\"\")","v":""},{"$f":"IF(COUNT($S$36:$S$85)>0,AVERAGE($S$36:$S$85),\"\")","v":""},{"$f":"IF(AND($T36<>\"\",$AT36=1),$T36,\"\")","v":""},{"$f":"IF($B36=\"Y\",IF(AND($U36<>\"\",$AM35<>\"\",$AN35<>\"\"),($U36+$AM35)/($AN35+1),\"\"),\"\")","v":""},{"$f":"IF(AND($B36=\"Y\",$V36<>\"\",$V$18<>\"\"),IF($V$19=\"additive\",$V36+$V$18,IF($V$19=\"multiplicative\",$V36*$V$18,\"\")),\"\")","v":""},{"$f":"IF(COUNT($W$36:$W$85)>0,AVERAGE($W$36:$W$85),\"\")","v":""},{"$f":"IF(AND($X36<>\"\",$AT36=1),$X36,\"\")","v":""},{"$f":"IF($B36=\"Y\",IF(AND($Y36<>\"\",$AO35<>\"\",$AP35<>\"\"),($Y36+$AO35)/($AP35+1),\"\"),\"\")","v":""},{"$f":"IF(AND($B36=\"Y\",$Z36<>\"\",$Z$18<>\"\"),IF($Z$19=\"additive\",$Z36+$Z$18,IF($Z$19=\"multiplicative\",$Z36*$Z$18,\"\")),\"\")","v":""},{"$f":"IF(COUNT($AA$36:$AA$85)>0,AVERAGE($AA$36:$AA$85),\"\")","v":""},{"$f":"IF(AND($AB36<>\"\",$AT36=1),$AB36,\"\")","v":""},{"$f":"IF($B36=\"Y\",IF(AND($AC36<>\"\",$AQ35<>\"\",$AR35<>\"\"),($AC36+$AQ35)/($AR35+1),\"\"),\"\")","v":""},{"$f":"IF(AND($B36=\"Y\",$AD36<>\"\",$AD$18<>\"\"),IF($AD$19=\"additive\",$AD36+$AD$18,IF($AD$19=\"multiplicative\",$AD36*$AD$18,\"\")),\"\")","v":""},{"$f":"IF(COUNT($AE$36:$AE$85)>0,AVERAGE($AE$36:$AE$85),\"\")","v":""},{"$nulls":7},{"$f":"IF($AX36<>\"\",ROUND($AX36,2),\"\")","v":""},{"$nulls":4},{"$f":"IF($AY36<>\"\",ROUND($AY36,2),\"\")","v":""},{"$nulls":4},{"$f":"IF($AZ36<>\"\",ROUND($AZ36,2),\"\")","v":""},{"$nulls":4},{"$f":"IF($BA36<>\"\",ROUND($BA36,2),\"\")","v":""},{"$nulls":10},{"$f":"IF($BB36<>\"\",ROUND($BB36,3),\"\")","v":""},{"$nulls":4},{"$f":"IF($BC36<>\"\",ROUND($BC36,3),\"\")","v":""},{"$nulls":4},{"$f":"IF($BD36<>\"\",ROUND($BD36,3),\"\")","v":""},{"$nulls":4},{"$f":"IF($BE36<>\"\",ROUND($BE36,3),\"\")","v":""},{"$nulls":10},{"$f":"IF($BF36<>\"\",ROUND($BF36,3),\"\")","v":""},{"$nulls":4},{"$f":"IF($BG36<>\"\",ROUND($BG36,3),\"\")","v":""},{"$nulls":4},{"$f":"IF($BH36<>\"\",ROUND($BH36,3),\"\")","v":""},{"$nulls":4},{"$f":"IF($BI36<>\"\",ROUND($BI36,3),\"\")","v":""},{"$f":"IF(EJ36=\"\",0,EJ36)","v":0},{"$nulls":9},{"$f":"IF($BJ36<>\"\",ROUND($BJ36,2),\"\")","v":""},{"$nulls":4},{"$f":"IF($BK36<>\"\",ROUND($BK36,2),\"\")","v":""},{"$nulls":4},{"$f":"IF($BL36<>\"\",ROUND($BL36,2),\"\")","v":""},{"$nulls":4},{"$f":"IF($BM36<>\"\",ROUND($BM36,2),\"\")","v":""},{"$f":"IF(FJ36=\"\",0,FJ36)","v":0},{"$f":"IF($AG$12<>\"CAT3\",IF(AND($B36=\"Y\",$S36<>\"\",$W36<>\"\",$AA36<>\"\",$AE36<>\"\"),1,0),IF($AE36<>\"\",1,0))","v":0},{"$f":"SUM($FL$36:$FL36)","v":0},{"$f":"IF($AG$12<>\"CAT3\",IF($FL36=1,IF(OR($S36>$R$16,$W36>$V$16,$AA36>$Z$16,IF($AF$12<>\"Y\",OR($AA36>$Z$16,$AE36>$AD$16),ROUND(($AA36+$AE36),2)>$Z$16)),1,0),0),IF($FL36=1,IF(AND($AE36>$AD$16,$AF$12=\"N\"),1,0),0))","v":0},{"$f":"IF(OR($M$11=\"\",$N$18=\"Y\"),0,IF($AG$12=\"CAT3\",$N$12,($FR$36+1)))","v":0},{"$f":"SUM(FL36:FL85)","v":0},{"$f":"IF(AND($G$17=\"Y\",$N$24<>\"\"),MIN($N$24,$FT$36),$FT$36)","v":0},{"$f":"$FS$36*2","v":0},{"$f":"SUM(FN36:FN85)","v":0},{"$f":"IF($N$12<>\"\",$N$12*0.01,0)","v":0}]
[{"$f":"A36+1","v":2},{"$nulls":4},"N/A",{"$nulls":10},"","","",null,"","","",null,"","","",null,"","","",{"$nulls":5},"",{"$f":"IF($B37=\"N\",AL36+1,IF($B37=\"Y\",0,\"\"))","v":""},"",{"$f":"IF($B37=\"N\",AN36+1,IF($B37=\"Y\",0,\"\"))","v":""},{"$f":"IF($B37=\"N\",IF(AND($AO36<>\"\",$Y37<>\"\"),$AO36+$Y37,\"\"),IF($B37=\"Y\",0,\"\"))","v":""},{"$f":"IF($B37=\"N\",AP36+1,IF($B37=\"Y\",0,\"\"))","v":""},{"$f":"IF($B37=\"N\",IF(AND($AQ36<>\"\",$AC37<>\"\"),$AQ36+$AC37,\"\"),IF($B37=\"Y\",0,\"\"))","v":""},{"$f":"IF($B37=\"N\",AR36+1,IF($B37=\"Y\",0,\"\"))","v":""},null,{"$f":"IF(AND(B37<>\"\",C37<>\"\",D37<>\"\",E37<>\"\",G37<>\"\",H37<>\"\",I37<>\"\",J37<>\"\",K37<>\"\",M37<>\"\",N37<>\"\",O37<>\"\"),1,0)","v":0},{"$nulls":3},"","",{"$f":"IF(AND($B37=\"Y\",$R37<>\"\",$R$18<>\"\"),IF($R$19=\"additive\",$R37+$R$18,IF($R$19=\"multiplicative\",$R37*$R$18,\"\")),\"\")","v":""},null,"","",{"$f":"IF(AND($B37=\"Y\",$V37<>\"\",$V$18<>\"\"),IF($V$19=\"additive\",$V37+$V$18,IF($V$19=\"multiplicative\",$V37*$V$18,\"\")),\"\")","v":""},null,{"$f":"IF(AND($X37<>\"\",$AT37=1),$X37,\"\")","v":""},{"$f":"IF($B37=\"Y\",IF(AND($Y37<>\"\",$AO36<>\"\",$AP36<>\"\"),($Y37+$AO36)/($AP36+1),\"\"),\"\")","v":""},{"$f":"IF(AND($B37=\"Y\",$Z37<>\"\",$Z$18<>\"\"),IF($Z$19=\"additive\",$Z37+$Z$18,IF($Z$19=\"multiplicative\",$Z37*$Z$18,\"\")),\"\")","v":""},null,{"$f":"IF(AND($AB37<>\"\",$AT37=1),$AB37,\"\")","v":""},{"$f":"IF($B37=\"Y\",IF(AND($AC37<>\"\",$AQ36<>\"\",$AR36<>\"\"),($AC37+$AQ36)/($AR36+1),\"\"),\"\")","v":""},{"$f":"IF(AND($B37=\"Y\",$AD37<>\"\",$AD$18<>\"\"),IF($AD$19=\"additive\",$AD37+$AD$18,IF($AD$19=\"multiplicative\",$AD37*$AD$18,\"\")),\"\")","v":""},{"$nulls":8},{"$f":"IF($AX37<>\"\",ROUND($AX37,2),\"\")","v":""},{"$nulls":4},{"$f":"IF($AY37<>\"\",ROUND($AY37,2),\"\")","v":""},{"$nulls":4},{"$f":"IF($AZ37<>\"\",ROUND($AZ37,2),\"\")","v":""},{"$nulls":15},{"$f":"IF($BB37<>\"\",ROUND($BB37,3),\"\")","v":""},{"$nulls":4},{"$f":"IF($BC37<>\"\",ROUND($BC37,3),\"\")","v":""},{"$nulls":4},{"$f":"IF($BD37<>\"\",ROUND($BD37,3),\"\")","v":""},{"$nulls":15},{"$f":"IF($BF37<>\"\",ROUND($BF37,3),\"\")","v":""},{"$nulls":4},{"$f":"IF($BG37<>\"\",ROUND($BG37,3),\"\")","v":""},{"$nulls":4},{"$f":"IF($BH37<>\"\",ROUND($BH37,3),\"\")","v":""},{"$nulls":15},{"$f":"IF($BJ37<>\"\",ROUND($BJ37,2),\"\")","v":""},{"$nulls":4},{"$f":"IF($BK37<>\"\",ROUND($BK37,2),\"\")","v":""},{"$nulls":4},{"$f":"IF($BL37<>\"\",ROUND($BL37,2),\"\")","v":""},{"$nulls":6},{"$f":"IF($AG$12<>\"CAT3\",IF(AND($B37=\"Y\",$S37<>\"\",$W37<>\"\",$AA37<>\"\",$AE37<>\"\"),1,0),IF($AE37<>\"\",1,0))","v":0},{"$f":"SUM($FL$36:$FL37)","v":0},{"$f":"IF($AG$12<>\"CAT3\",IF($FL37=1,IF(OR($S37>$R$16,$W37>$V$16,$AA37>$Z$16,IF($AF$12<>\"Y\",OR($AA37>$Z$16,$AE37>$AD$16),ROUND(($AA37+$AE37),2)>$Z$16)),1,0),0),IF($FL37=1,IF(AND($AE37>$AD$16,$AF$12=\"N\"),1,0),0))","v":0},null,null,{"$f":"MAX($FQ$36,$FL$10)","v":1}]
[{"$f":"A37+1","v":3},{"$nulls":4},"N/A",{"$nulls":10},"","","",null,"","","",null,"","","",null,"","","",{"$nulls":5},"","","","","","","","",null,0,{"$nulls":3},"","","",null,"","","",null,"","","",null,"","","",{"$nulls":8},"",{"$nulls":4},"",{"$nulls":4},"",{"$nulls":15},"",{"$nulls":4},"",{"$nulls":4},"",{"$nulls":15},"",{"$nulls":4},"",{"$nulls":4},"",{"$nulls":15},"",{"$nulls":4},"",{"$nulls":4},"",{"$nulls":6},0,{"$f":"SUM($FL$36:$FL38)","v":0},0]
[4,{"$nulls":4},"N/A",{"$nulls":10},"","","",null,"","","",null,"","","",null,"","","",{"$nulls":5},"","","","","","","","",null,0,{"$nulls":3},"","","",null,"","","",null,"","","",null,"","","",{"$nulls":8},"",{"$nulls":4},"",{"$nulls":4},"",{"$nulls":15},"",{"$nulls":4},"",{"$nulls":4},"",{"$nulls":15},"",{"$nulls":4},"",{"$nulls":4},"",{"$nulls":15},"",{"$nulls":4},"",{"$nulls":4},"",{"$nulls":6},0,{"$f":"SUM($FL$36:$FL39)","v":0},0,null,null,"then, the larger of that sample size or 1  (or if Part 94 and cat1,  can be 0)"]
[5,{"$nulls":4},"N/A",{"$nulls":10},"","","",null,"","","",null,"","","",null,"","","",{"$nulls":5},"","","","","","","","",null,0,{"$nulls":3},"","","",null,"","","",null,"","","",null,"","","",{"$nulls":8},"",{"$nulls":4},"",{"$nulls":4},"",{"$nulls":15},"",{"$nulls":4},"",{"$nulls":4},"",{"$nulls":15},"",{"$nulls":4},"",{"$nulls":4},"",{"$nulls":15},"",{"$nulls":4},"",{"$nulls":4},"",{"$nulls":6},0,{"$f":"SUM($FL$36:$FL40)","v":0},0]
[6,{"$nulls":4},"N/A",{"$nulls":10},"","","",null,"","","",null,"","","",null,"","","",{"$nulls":5},"","","","","","","","",null,0,{"$nulls":3},"","","",null,"","","",null,"","","",null,"","","",{"$nulls":8},"",{"$nulls":4},"",{"$nulls":4},"",{"$nulls":15},"",{"$nulls":4},"",{"$nulls":4},"",{"$nulls":15},"",{"$nulls":4},"",{"$nulls":4},"",{"$nulls":15},"",{"$nulls":4},"",{"$nulls":4},"",{"$nulls":6},0,{"$f":"SUM($FL$36:$FL41)","v":0},0]
[7,{"$nulls":4},"N/A",{"$nulls":10},"","","",null,"","","",null,"","","",null,"","","",{"$nulls":5},"","","","","","","","",null,0,{"$nulls":3},"","","",null,"","","",null,"","","",null,"","","",{"$nulls":8},"",{"$nulls":4},"",{"$nulls":4},"",{"$nulls":15},"",{"$nulls":4},"",{"$nulls":4},"",{"$nulls":15},"",{"$nulls":4},"",{"$nulls":4},"",{"$nulls":15},"",{"$nulls":4},"",{"$nulls":4},"",{"$nulls":6},0,{"$f":"SUM($FL$36:$FL42)","v":0},0]
[8,{"$nulls":4},"N/A",{"$nulls":10},"","","",null,"","","",null,"","","",null,"","","",{"$nulls":5},"","","","","","","","",null,0,{"$nulls":3},"","","",null,"","","",null,"","","",null,"","","",{"$nulls":8},"",{"$nulls":4},"",{"$nulls":4},"",{"$nulls":15},"",{"$nulls":4},"",{"$nulls":4},"",{"$nulls":15},"",{"$nulls":4},"",{"$nulls":4},"",{"$nulls":15},"",{"$nulls":4},"",{"$nulls":4},"",{"$nulls":6},0,{"$f":"SUM($FL$36:$FL43)","v":0},0]
[9,{"$nulls":4},"N/A",{"$nulls":10},"","","",null,"","","",null,"","","",null,"","","",{"$nulls":5},"","","","","","","","",null,0,{"$nulls":3},"","","",null,"","","",null,"","","",null,"","","",{"$nulls":8},"",{"$nulls":4},"",{"$nulls":4},"",{"$nulls":15},"",{"$nulls":4},"",{"$nulls":4},"",{"$nulls":15},"",{"$nulls":4},"",{"$nulls":4},"",{"$nulls":15},"",{"$nulls":4},"",{"$nulls":4},"",{"$nulls":6},0,{"$f":"SUM($FL$36:$FL44)","v":0},0]
[10,{"$nulls":4},"N/A",{"$nulls":10},"","","",null,"","","",null,"","","",null,"","","",{"$nulls":5},"","","","","","","","",null,0,{"$nulls":3},"","","",null,"","","",null,"","","",null,"","","",{"$nulls":8},"",{"$nulls":4},"",{"$nulls":4},"",{"$nulls":15},"",{"$nulls":4},"",{"$nulls":4},"",{"$nulls":15},"",{"$nulls":4},"",{"$nulls":4},"",{"$nulls":15},"",{"$nulls":4},"",{"$nulls":4},"",{"$nulls":6},0,{"$f":"SUM($FL$36:$FL45)","v":0},0]
[11,{"$nulls":4},"N/A",{"$nulls":10},"","","",null,"","","",null,"","","",null,"","","",{"$nulls":5},"","","","","","","","",null,0,{"$nulls":3},"","","",null,"","","",null,"","","",null,"","","",{"$nulls":8},"",{"$nulls":4},"",{"$nulls":4},"",{"$nulls":15},"",{"$nulls":4},"",{"$nulls":4},"",{"$nulls":15},"",{"$nulls":4},"",{"$nulls":4},"",{"$nulls":15},"",{"$nulls":4},"",{"$nulls":4},"",{"$nulls":6},0,{"$f":"SUM($FL$36:$FL46)","v":0},0]
[12,{"$nulls":4},"N/A",{"$nulls":10},"","","",null,"","","",null,"","","",null,"","","",{"$nulls":5},"","","","","","","","",null,0,{"$nulls":3},"","","",null,"","","",null,"","","",null,"","","",{"$nulls":8},"",{"$nulls":4},"",{"$nulls":4},"",{"$nulls":15},"",{"$nulls":4},"",{"$nulls":4},"",{"$nulls":15},"",{"$nulls":4},"",{"$nulls":4},"",{"$nulls":15},"",{"$nulls":4},"",{"$nulls":4},"",{"$nulls":6},0,{"$f":"SUM($FL$36:$FL47)","v":0},0]
[13,{"$nulls":4},"N/A",{"$nulls":10},"","","",null,"","","",null,"","","",null,"","","",{"$nulls":5},"","","","","","","","",null,0,{"$nulls":3},"","","",null,"","","",null,"","","",null,"","","",{"$nulls":8},"",{"$nulls":4},"",{"$nulls":4},"",{"$nulls":15},"",{"$nulls":4},"",{"$nulls":4},"",{"$nulls":15},"",{"$nulls":4},"",{"$nulls":4},"",{"$nulls":15},"",{"$nulls":4},"",{"$nulls":4},"",{"$nulls":6},0,{"$f":"SUM($FL$36:$FL48)","v":0},0]
[14,{"$nulls":4},"N/A",{"$nulls":10},"","","",null,"","","",null,"","","",null,"","","",{"$nulls":5},"","","","","","","","",null,0,{"$nulls":3},"","","",null,"","","",null,"","","",null,"","","",{"$nulls":8},"",{"$nulls":4},"",{"$nulls":4},"",{"$nulls":15},"",{"$nulls":4},"",{"$nulls":4},"",{"$nulls":15},"",{"$nulls":4},"",{"$nulls":4},"",{"$nulls":15},"",{"$nulls":4},"",{"$nulls":4},"",{"$nulls":6},0,{"$f":"SUM($FL$36:$FL49)","v":0},0]
[15,{"$nulls":4},"N/A",{"$nulls":10},"","","",null,"","","",null,"","","",null,"","","",{"$nulls":5},"","","","","","","","",null,0,{"$nulls":3},"","","",null,"","","",null,"","","",null,"","","",{"$nulls":8},"",{"$nulls":4},"",{"$nulls":4},"",{"$nulls":15},"",{"$nulls":4},"",{"$nulls":4},"",{"$nulls":15},"",{"$nulls":4},"",{"$nulls":4},"",{"$nulls":15},"",{"$nulls":4},"",{"$nulls":4},"",{"$nulls":6},0,{"$f":"SUM($FL$36:$FL50)","v":0},0]
[16,{"$nulls":4},"N/A",{"$nulls":10},"","","",null,"","","",null,"","","",null,"","","",{"$nulls":5},"","","","","","","","",null,0,{"$nulls":3},"","","",null,"","","",null,"","","",null,"","","",{"$nulls":8},"",{"$nulls":4},"",{"$nulls":4},"",{"$nulls":15},"",{"$nulls":4},"",{"$nulls":4},"",{"$nulls":15},"",{"$nulls":4},"",{"$nulls":4},"",{"$nulls":15},"",{"$nulls":4},"",{"$nulls":4},"",{"$nulls":6},0,{"$f":"SUM($FL$36:$FL51)","v":0},0]
[17,{"$nulls":4},"N/A",{"$nulls":10},"","","",null,"","","",null,"","","",null,"","","",{"$nulls":5},"","","","","","","","",null,0,{"$nulls":3},"","","",null,"","","",null,"","","",null,"","","",{"$nulls":8},"",{"$nulls":4},"",{"$nulls":4},"",{"$nulls":15},"",{"$nulls":4},"",{"$nulls":4},"",{"$nulls":15},"",{"$nulls":4},"",{"$nulls":4},"",{"$nulls":15},"",{"$nulls":4},"",{"$nulls":4},"",{"$nulls":6},0,{"$f":"SUM($FL$36:$FL52)","v":0},0]
[18,{"$nulls":4},"N/A",{"$nulls":10},"","","",null,"","","",null,"","","",null,"","","",{"$nulls":5},"","","","","","","","",null,0,{"$nulls":3},"","","",null,"","","",null,"","","",null,"","","",{"$nulls":8},"",{"$nulls":4},"",{"$nulls":4},"",{"$nulls":15},"",{"$nulls":4},"",{"$nulls":4},"",{"$nulls":15},"",{"$nulls":4},"",{"$nulls":4},"",{"$nulls":15},"",{"$nulls":4},"",{"$nulls":4},"",{"$nulls":6},0,{"$f":"SUM($FL$36:$FL53)","v":0},0]
[19,{"$nulls":4},"N/A",{"$nulls":10},"","","",null,"","","",null,"","","",null,"","","",{"$nulls":5},"","","","","","","","",null,0,{"$nulls":3},"","","",null,"","","",null,"","","",null,"","","",{"$nulls":8},"",{"$nulls":4},"",{"$nulls":4},"",{"$nulls":15},"",{"$nulls":4},"",{"$nulls":4},"",{"$nulls":15},"",{"$nulls":4},"",{"$nulls":4},"",{"$nulls":15},"",{"$nulls":4},"",{"$nulls":4},"",{"$nulls":6},0,{"$f":"SUM($FL$36:$FL54)","v":0},0]
[20,{"$nulls":4},"N/A",{"$nulls":10},"","","",null,"","","",null,"","","",null,"","","",{"$nulls":5},"","","","","","","","",null,0,{"$nulls":3},"","","",null,"","","",null,"","","",null,"","","",{"$nulls":8},"",{"$nulls":4},"",{"$nulls":4},"",{"$nulls":15},"",{"$nulls":4},"",{"$nulls":4},"",{"$nulls":15},"",{"$nulls":4},"",{"$nulls":4},"",{"$nulls":15},"",{"$nulls":4},"",{"$nulls":4},"",{"$nulls":6},0,{"$f":"SUM($FL$36:$FL55)","v":0},0]
[21,{"$nulls":4},"N/A",{"$nulls":10},"","","",null,"","","",null,"","","",null,"","","",{"$nulls":5},"","","","","","","","",null,0,{"$nulls":3},"","","",null,"","","",null,"","","",null,"","","",{"$nulls":8},"",{"$nulls":4},"",{"$nulls":4},"",{"$nulls":15},"",{"$nulls":4},"",{"$nulls":4},"",{"$nulls":15},"",{"$nulls":4},"",{"$nulls":4},"",{"$nulls":15},"",{"$nulls":4},"",{"$nulls":4},"",{"$nulls":6},0,{"$f":"SUM($FL$36:$FL56)","v":0},0]
[22,{"$nulls":4},"N/A",{"$nulls":10},"","","",null,"","","",null,"","","",null,"","","",{"$nulls":5},"","","","","","","","",null,0,{"$nulls":3},"","","",null,"","","",null,"","","",null,"","","",{"$nulls":8},"",{"$nulls":4},"",{"$nulls":4},"",{"$nulls":15},"",{"$nulls":4},"",{"$nulls":4},"",{"$nulls":15},"",{"$nulls":4},"",{"$nulls":4},"",{"$nulls":15},"",{"$nulls":4},"",{"$nulls":4},"",{"$nulls":6},0,{"$f":"SUM($FL$36:$FL57)","v":0},0]
[23,{"$nulls":4},"N/A",{"$nulls":10},"","","",null,"","","",null,"","","",null,"","","",{"$nulls":5},"","","","","","","","",null,0,{"$nulls":3},"","","",null,"","","",null,"","","",null,"","","",{"$nulls":8},"",{"$nulls":4},"",{"$nulls":4},"",{"$nulls":15},"",{"$nulls":4},"",{"$nulls":4},"",{"$nulls":15},"",{"$nulls":4},"",{"$nulls":4},"",{"$nulls":15},"",{"$nulls":4},"",{"$nulls":4},"",{"$nulls":6},0,{"$f":"SUM($FL$36:$FL58)","v":0},0]
[24,{"$nulls":4},"N/A",{"$nulls":10},"","","",null,"","","",null,"","","",null,"","","",{"$nulls":5},"","","","","","","","",null,0,{"$nulls":3},"","","",null,"","","",null,"","","",null,"","","",{"$nulls":8},"",{"$nulls":4},"",{"$nulls":4},"",{"$nulls":15},"",{"$nulls":4},"",{"$nulls":4},"",{"$nulls":15},"",{"$nulls":4},"",{"$nulls":4},"",{"$nulls":15},"",{"$nulls":4},"",{"$nulls":4},"",{"$nulls":6},0,{"$f":"SUM($FL$36:$FL59)","v":0},0]
[25,{"$nulls":4},"N/A",{"$nulls":10},"","","",null,"","","",null,"","","",null,"","","",{"$nulls":5},"","","","","","","","",null,0,{"$nulls":3},"","","",null,"","","",null,"","","",null,"","","",{"$nulls":8},"",{"$nulls":4},"",{"$nulls":4},"",{"$nulls":15},"",{"$nulls":4},"",{"$nulls":4},"",{"$nulls":15},"",{"$nulls":4},"",{"$nulls":4},"",{"$nulls":15},"",{"$nulls":4},"",{"$nulls":4},"",{"$nulls":6},0,{"$f":"SUM($FL$36:$FL60)","v":0},0]
[26,{"$nulls":4},"N/A",{"$nulls":10},"","","",null,"","","",null,"","","",null,"","","",{"$nulls":5},"","","","","","","","",null,0,{"$nulls":3},"","","",null,"","","",null,"","","",null,"","","",{"$nulls":8},"",{"$nulls":4},"",{"$nulls":4},"",{"$nulls":15},"",{"$nulls":4},"",{"$nulls":4},"",{"$nulls":15},"",{"$nulls":4},"",{"$nulls":4},"",{"$nulls":15},"",{"$nulls":4},"",{"$nulls":4},"",{"$nulls":6},0,{"$f":"SUM($FL$36:$FL61)","v":0},0]
[27,{"$nulls":4},"N/A",{"$nulls":10},"","","",null,"","","",null,"","","",null,"","","",{"$nulls":5},"","","","","","","","",null,0,{"$nulls":3},"","","",null,"","","",null,"","","",null,"","","",{"$nulls":8},"",{"$nulls":4},"",{"$nulls":4},"",{"$nulls":15},"",{"$nulls":4},"",{"$nulls":4},"",{"$nulls":15},"",{"$nulls":4},"",{"$nulls":4},"",{"$nulls":15},"",{"$nulls":4},"",{"$nulls":4},"",{"$nulls":6},0,{"$f":"SUM($FL$36:$FL62)","v":0},0]
[28,{"$nulls":4},"N/A",{"$nulls":10},"","","",null,"","","",null,"","","",null,"","","",{"$nulls":5},"","","","","","","","",null,0,{"$nulls":3},"","","",null,"","","",null,"","","",null,"","","",{"$nulls":8},"",{"$nulls":4},"",{"$nulls":4},"",{"$nulls":15},"",{"$nulls":4},"",{"$nulls":4},"",{"$nulls":15},"",{"$nulls":4},"",{"$nulls":4},"",{"$nulls":15},"",{"$nulls":4},"",{"$nulls":4},"",{"$nulls":6},0,{"$f":"SUM($FL$36:$FL63)","v":0},0]
[29,{"$nulls":4},"N/A",{"$nulls":10},"","","",null,"","","",null,"","","",null,"","","",{"$nulls":5},"","","","","","","","",null,0,{"$nulls":3},"","","",null,"","","",null,"","","",null,"","","",{"$nulls":8},"",{"$nulls":4},"",{"$nulls":4},"",{"$nulls":15},"",{"$nulls":4},"",{"$nulls":4},"",{"$nulls":15},"",{"$nulls":4},"",{"$nulls":4},"",{"$nulls":15},"",{"$nulls":4},"",{"$nulls":4},"",{"$nulls":6},0,{"$f":"SUM($FL$36:$FL64)","v":0},0]
[30,{"$nulls":4},"N/A",{"$nulls":10},"","","",null,"","","",null,"","","",null,"","","",{"$nulls":5},"","","","","","","","",null,0,{"$nulls":3},"","","",null,"","","",null,"","","",null,"","","",{"$nulls":8},"",{"$nulls":4},"",{"$nulls":4},"",{"$nulls":15},"",{"$nulls":4},"",{"$nulls":4},"",{"$nulls":15},"",{"$nulls":4},"",{"$nulls":4},"",{"$nulls":15},"",{"$nulls":4},"",{"$nulls":4},"",{"$nulls":6},0,{"$f":"SUM($FL$36:$FL65)","v":0},0]
[31,{"$nulls":4},"N/A",{"$nulls":10},"","","",null,"","","",null,"","","",null,"","","",{"$nulls":5},"","","","","","","","",null,0,{"$nulls":3},"","","",null,"","","",null,"","","",null,"","","",{"$nulls":8},"",{"$nulls":4},"",{"$nulls":4},"",{"$nulls":15},"",{"$nulls":4},"",{"$nulls":4},"",{"$nulls":15},"",{"$nulls":4},"",{"$nulls":4},"",{"$nulls":15},"",{"$nulls":4},"",{"$nulls":4},"",{"$nulls":6},0,{"$f":"SUM($FL$36:$FL66)","v":0},0]
[32,{"$nulls":4},"N/A",{"$nulls":10},"","","",null,"","","",null,"","","",null,"","","",{"$nulls":5},"","","","","","","","",null,0,{"$nulls":3},"","","",null,"","","",null,"","","",null,"","","",{"$nulls":8},"",{"$nulls":4},"",{"$nulls":4},"",{"$nulls":15},"",{"$nulls":4},"",{"$nulls":4},"",{"$nulls":15},"",{"$nulls":4},"",{"$nulls":4},"",{"$nulls":15},"",{"$nulls":4},"",{"$nulls":4},"",{"$nulls":6},0,{"$f":"SUM($FL$36:$FL67)","v":0},0]
[33,{"$nulls":4},"N/A",{"$nulls":10},"","","",null,"","","",null,"","","",null,"","","",{"$nulls":5},"","","","","","","","",null,0,{"$nulls":3},"","","",null,"","","",null,"","","",null,"","","",{"$nulls":8},"",{"$nulls":4},"",{"$nulls":4},"",{"$nulls":15},"",{"$nulls":4},"",{"$nulls":4},"",{"$nulls":15},"",{"$nulls":4},"",{"$nulls":4},"",{"$nulls":15},"",{"$nulls":4},"",{"$nulls":4},"",{"$nulls":6},0,{"$f":"SUM($FL$36:$FL68)","v":0},0]
[34,{"$nulls":4},"N/A",{"$nulls":10},"","","",null,"","","",null,"","","",null,"","","",{"$nulls":5},"","","","","","","","",null,0,{"$nulls":3},"","","",null,"","","",null,"","","",null,"","","",{"$nulls":8},"",{"$nulls":4},"",{"$nulls":4},"",{"$nulls":15},"",{"$nulls":4},"",{"$nulls":4},"",{"$nulls":15},"",{"$nulls":4},"",{"$nulls":4},"",{"$nulls":15},"",{"$nulls":4},"",{"$nulls":4},"",{"$nulls":6},0,{"$f":"SUM($FL$36:$FL69)","v":0},0]
[35,{"$nulls":4},"N/A",{"$nulls":10},"","","",null,"","","",null,"","","",null,"","","",{"$nulls":5},"","","","","","","","",null,0,{"$nulls":3},"","","",null,"","","",null,"","","",null,"","","",{"$nulls":8},"",{"$nulls":4},"",{"$nulls":4},"",{"$nulls":15},"",{"$nulls":4},"",{"$nulls":4},"",{"$nulls":15},"",{"$nulls":4},"",{"$nulls":4},"",{"$nulls":15},"",{"$nulls":4},"",{"$nulls":4},"",{"$nulls":6},0,{"$f":"SUM($FL$36:$FL70)","v":0},0]
[36,{"$nulls":4},"N/A",{"$nulls":10},"","","",null,"","","",null,"","","",null,"","","",{"$nulls":5},"","","","","","","","",null,0,{"$nulls":3},"","","",null,"","","",null,"","","",null,"","","",{"$nulls":8},"",{"$nulls":4},"",{"$nulls":4},"",{"$nulls":15},"",{"$nulls":4},"",{"$nulls":4},"",{"$nulls":15},"",{"$nulls":4},"",{"$nulls":4},"",{"$nulls":15},"",{"$nulls":4},"",{"$nulls":4},"",{"$nulls":6},0,{"$f":"SUM($FL$36:$FL71)","v":0},0]
[37,{"$nulls":4},"N/A",{"$nulls":10},"","","",null,"","","",null,"","","",null,"","","",{"$nulls":5},"","","","","","","","",null,0,{"$nulls":3},"","","",null,"","","",null,"","","",null,"","","",{"$nulls":8},"",{"$nulls":4},"",{"$nulls":4},"",{"$nulls":15},"",{"$nulls":4},"",{"$nulls":4},"",{"$nulls":15},"",{"$nulls":4},"",{"$nulls":4},"",{"$nulls":15},"",{"$nulls":4},"",{"$nulls":4},"",{"$nulls":6},0,{"$f":"SUM($FL$36:$FL72)","v":0},0]
[38,{"$nulls":4},"N/A",{"$nulls":10},"","","",null,"","","",null,"","","",null,"","","",{"$nulls":5},"","","","","","","","",null,0,{"$nulls":3},"","","",null,"","","",null,"","","",null,"","","",{"$nulls":8},"",{"$nulls":4},"",{"$nulls":4},"",{"$nulls":15},"",{"$nulls":4},"",{"$nulls":4},"",{"$nulls":15},"",{"$nulls":4},"",{"$nulls":4},"",{"$nulls":15},"",{"$nulls":4},"",{"$nulls":4},"",{"$nulls":6},0,{"$f":"SUM($FL$36:$FL73)","v":0},0]
[39,{"$nulls":4},"N/A",{"$nulls":10},"","","",null,"","","",null,"","","",null,"","","",{"$nulls":5},"","","","","","","","",null,0,{"$nulls":3},"","","",null,"","","",null,"","","",null,"","","",{"$nulls":8},"",{"$nulls":4},"",{"$nulls":4},"",{"$nulls":15},"",{"$nulls":4},"",{"$nulls":4},"",{"$nulls":15},"",{"$nulls":4},"",{"$nulls":4},"",{"$nulls":15},"",{"$nulls":4},"",{"$nulls":4},"",{"$nulls":6},0,{"$f":"SUM($FL$36:$FL74)","v":0},0]
[40,{"$nulls":4},"N/A",{"$nulls":10},"","","",null,"","","",null,"","","",null,"","","",{"$nulls":5},"","","","","","","","",null,0,{"$nulls":3},"","","",null,"","","",null,"","","",null,"","","",{"$nulls":8},"",{"$nulls":4},"",{"$nulls":4},"",{"$nulls":15},"",{"$nulls":4},"",{"$nulls":4},"",{"$nulls":15},"",{"$nulls":4},"",{"$nulls":4},"",{"$nulls":15},"",{"$nulls":4},"",{"$nulls":4},"",{"$nulls":6},0,{"$f":"SUM($FL$36:$FL75)","v":0},0]
[41,{"$nulls":4},"N/A",{"$nulls":10},"","","",null,"","","",null,"","","",null,"","","",{"$nulls":5},"","","","","","","","",null,0,{"$nulls":3},"","","",null,"","","",null,"","","",null,"","","",{"$nulls":8},"",{"$nulls":4},"",{"$nulls":4},"",{"$nulls":15},"",{"$nulls":4},"",{"$nulls":4},"",{"$nulls":15},"",{"$nulls":4},"",{"$nulls":4},"",{"$nulls":15},"",{"$nulls":4},"",{"$nulls":4},"",{"$nulls":6},0,{"$f":"SUM($FL$36:$FL76)","v":0},0]
[42,{"$nulls":4},"N/A",{"$nulls":10},"","","",null,"","","",null,"","","",null,"","","",{"$nulls":5},"","","","","","","","",null,0,{"$nulls":3},"","","",null,"","","",null,"","","",null,"","","",{"$nulls":8},"",{"$nulls":4},"",{"$nulls":4},"",{"$nulls":15},"",{"$nulls":4},"",{"$nulls":4},"",{"$nulls":15},"",{"$nulls":4},"",{"$nulls":4},"",{"$nulls":15},"",{"$nulls":4},"",{"$nulls":4},"",{"$nulls":6},0,{"$f":"SUM($FL$36:$FL77)","v":0},0]
[43,{"$nulls":4},"N/A",{"$nulls":10},"","","",null,"","","",null,"","","",null,"","","",{"$nulls":5},"","","","","","","","",null,0,{"$nulls":3},"","","",null,"","","",null,"","","",null,"","","",{"$nulls":8},"",{"$nulls":4},"",{"$nulls":4},"",{"$nulls":15},"",{"$nulls":4},"",{"$nulls":4},"",{"$nulls":15},"",{"$nulls":4},"",{"$nulls":4},"",{"$nulls":15},"",{"$nulls":4},"",{"$nulls":4},"",{"$nulls":6},0,{"$f":"SUM($FL$36:$FL78)","v":0},0]
[44,{"$nulls":4},"N/A",{"$nulls":10},"","","",null,"","","",null,"","","",null,"","","",{"$nulls":5},"","","","","","","","",null,0,{"$nulls":3},"","","",null,"","","",null,"","","",null,"","","",{"$nulls":8},"",{"$nulls":4},"",{"$nulls":4},"",{"$nulls":15},"",{"$nulls":4},"",{"$nulls":4},"",{"$nulls":15},"",{"$nulls":4},"",{"$nulls":4},"",{"$nulls":15},"",{"$nulls":4},"",{"$nulls":4},"",{"$nulls":6},0,{"$f":"SUM($FL$36:$FL79)","v":0},0]
[45,{"$nulls":4},"N/A",{"$nulls":10},"","","",null,"","","",null,"","","",null,"","","",{"$nulls":5},"","","","","","","","",null,0,{"$nulls":3},"","","",null,"","","",null,"","","",null,"","","",{"$nulls":8},"",{"$nulls":4},"",{"$nulls":4},"",{"$nulls":15},"",{"$nulls":4},"",{"$nulls":4},"",{"$nulls":15},"",{"$nulls":4},"",{"$nulls":4},"",{"$nulls":15},"",{"$nulls":4},"",{"$nulls":4},"",{"$nulls":6},0,{"$f":"SUM($FL$36:$FL80)","v":0},0]
[46,{"$nulls":4},"N/A",{"$nulls":10},"","","",null,"","","",null,"","","",null,"","","",{"$nulls":5},"","","","","","","","",null,0,{"$nulls":3},"","","",null,"","","",null,"","","",null,"","","",{"$nulls":8},"",{"$nulls":4},"",{"$nulls":4},"",{"$nulls":15},"",{"$nulls":4},"",{"$nulls":4},"",{"$nulls":15},"",{"$nulls":4},"",{"$nulls":4},"",{"$nulls":15},"",{"$nulls":4},"",{"$nulls":4},"",{"$nulls":6},0,{"$f":"SUM($FL$36:$FL81)","v":0},0]
[47,{"$nulls":4},"N/A",{"$nulls":10},"","","",null,"","","",null,"","","",null,"","","",{"$nulls":5},"","","","","","","","",null,0,{"$nulls":3},"","","",null,"","","",null,"","","",null,"","","",{"$nulls":8},"",{"$nulls":4},"",{"$nulls":4},"",{"$nulls":15},"",{"$nulls":4},"",{"$nulls":4},"",{"$nulls":15},"",{"$nulls":4},"",{"$nulls":4},"",{"$nulls":15},"",{"$nulls":4},"",{"$nulls":4},"",{"$nulls":6},0,{"$f":"SUM($FL$36:$FL82)","v":0},0]
[48,{"$nulls":4},"N/A",{"$nulls":10},"","","",null,"","","",null,"","","",null,"","","",{"$nulls":5},"","","","","","","","",null,0,{"$nulls":3},"","","",null,"","","",null,"","","",null,"","","",{"$nulls":8},"",{"$nulls":4},"",{"$nulls":4},"",{"$nulls":15},"",{"$nulls":4},"",{"$nulls":4},"",{"$nulls":15},"",{"$nulls":4},"",{"$nulls":4},"",{"$nulls":15},"",{"$nulls":4},"",{"$nulls":4},"",{"$nulls":6},0,{"$f":"SUM($FL$36:$FL83)","v":0},0]
[49,{"$nulls":4},"N/A",{"$nulls":10},"","","",null,"","","",null,"","","",null,"","","",{"$nulls":5},"","","","","","","","",null,0,{"$nulls":3},"","","",null,"","","",null,"","","",null,"","","",{"$nulls":8},"",{"$nulls":4},"",{"$nulls":4},"",{"$nulls":15},"",{"$nulls":4},"",{"$nulls":4},"",{"$nulls":15},"",{"$nulls":4},"",{"$nulls":4},"",{"$nulls":15},"",{"$nulls":4},"",{"$nulls":4},"",{"$nulls":6},0,{"$f":"SUM($FL$36:$FL84)","v":0},0]
[50,{"$nulls":4},"N/A",{"$nulls":10},"","","",null,"","","",null,"","","",null,"","","",{"$nulls":5},"","","","","","","","",null,0,{"$nulls":3},"","","",null,"","","",null,"","","",null,"",{"$f":"IF($B85=\"Y\",IF(AND($AC85<>\"\",$AQ84<>\"\",$AR84<>\"\"),($AC85+$AQ84)/($AR84+1),\"\"),\"\")","v":""},"",{"$nulls":8},"",{"$nulls":4},"",{"$nulls":4},"",{"$nulls":15},"",{"$nulls":4},"",{"$nulls":4},"",{"$nulls":15},"",{"$nulls":4},"",{"$nulls":4},"",{"$nulls":15},"",{"$nulls":4},"",{"$nulls":4},"",{"$nulls":6},0,{"$f":"SUM($FL$36:$FL85)","v":0},0]
[null,null,{"$f":"SUM(C36:C85)","v":0}]
["g/bhp-hr"]
["g/kW-hr"]

{"sheet":"Engine Family #19","index":21,"n_rows":88,"n_cols":176,"rows_kept":88,"merged":[[1,0,1,35],[2,0,2,35],[3,0,3,35],[4,0,4,35],[5,0,5,35],[6,0,6,35],[8,0,8,16],[10,4,10,6],[10,12,10,13],[11,4,11,6],[11,15,11,16],[11,19,11,20],[11,23,11,24],[11,27,11,28],[12,4,12,6],[13,4,13,6],[14,4,15,6],[17,14,22,14],[27,4,30,13],[27,15,28,16],[32,0,32,16],[32,17,32,33],[32,34,32,35],[33,45,34,45]]}
[]
["United States"]
["US Environmental Protection Agency"]
["Office of Air and Radiation, Office of Transportation and Air Quality"]
[{"$nulls":37},"Tier 2","Y",94]
["Manufacturer Production Line Testing Report for Marine Compression Ignition Engines",{"$nulls":36},"Tier 3","N",1042]
[{"$f":"Summary!B7","v":"Version Number: 1.4 DRAFT  Last Revision: September 2023"},{"$nulls":36},"Tier 4",null,"N/A"]
[]
["Basic Information: Engine Family #19"]
[{"$nulls":167},{"$f":"IF(AND($G$24=94,Summary!$L$13=\"Category 1\"),0,1)","v":1}]
[null,null,"Manufacturer:",null,{"$f":"IF(Summary!D12<>\"\",Summary!D12,\"\")","v":""},{"$nulls":3},"Engine Family:",{"$nulls":31},{"$f":"IF($G$19=\"Diesel\",\"'HC' refers to 'THC' \",IF($G$19=\"Natural Gas\",\"'HC' refers to 'NMHC' \",IF($G$19=\"Alcohol\",\"'HC' refers to 'THCE' \",\"\")))","v":""}]
[null,null,"PLT Test Contact:",null,{"$f":"IF(Summary!D13<>\"\",Summary!D13,\"\")","v":""},{"$nulls":3},"Production (Category 3 only):",{"$nulls":6},{"$f":"IF(N16<>\"Y\", \"Current CO Result\", \"Final CO Result\")","v":"Current CO Result"},null,{"$f":"$CJ$36","v":""},null,{"$f":"IF(N16<>\"Y\", \"Current PM Result\", \"Final PM Result\")","v":"Current PM Result"},null,{"$f":"$DJ$36","v":""},null,{"$f":"IF($AF$12=\"Y\",IF(N16<>\"Y\", \"Current NOx+HC Result\", \"Final NOx+HC Result\"),IF(N16<>\"Y\", \"Current HC Result\", \"Final HC Result\"))","v":"Current HC Result"},null,{"$f":"IF($AF$12=\"Y\",IF($FP$36>0,ROUND($EJ$36+$FJ$36,2),\"\"),$EJ$36)","v":""},null,{"$f":"IF(N16<>\"Y\", \"Current NOx Result\",\"Final NOx Result\")","v":"Current NOx Result"},null,{"$f":"$FJ$36","v":""},null,{"$f":"IF($L$13<>\"Category 3\",IF($G$23=\"\",\"N\",$G$23),\"N\")","v":"N"},{"$f":"IF(Summary!$L$13=\"Category 3\",\"CAT3\",\"\")","v":""}]
[null,null,"Email Address:",null,{"$f":"IF(Summary!D14<>\"\",Summary!D14,\"\")","v":""},{"$nulls":3},"Date of Start of Model Year Production:"]
[null,null,"Phone #:",null,{"$f":"IF(Summary!D15<>\"\",Summary!D15,\"\")","v":""},{"$nulls":3},"Date of End of Model Year Production:",{"$nulls":14},{"$f":"IF($G$19=\"Diesel\",\"'HC' refers to 'THC' \",IF($G$19=\"Natural Gas\",\"'HC' refers to 'NMHC' \",IF($G$19=\"Alcohol\",\"'HC' refers to 'THCE' \",\"\")))","v":""},{"$nulls":13},"Diesel",1,{"$nulls":6},1]
[null,null,"Test Location & Description:",{"$nulls":5},"Deterioration Factor Type:",{"$nulls":28},"Natural Gas",2,{"$nulls":6},2]
[{"$nulls":8},"Include Results from this Engine Family on Summary Sheet?",{"$nulls":6},"CO Standard ",{"$nulls":3},"PM Standard or FEL",{"$nulls":3},{"$f":"IF($AF$12=\"Y\",\"NOx+HC Standard or FEL\",\"HC Standard\")","v":"HC Standard"},{"$nulls":3},"NOx Standard or FEL",{"$nulls":9},"Alcohol",3,{"$nulls":6},3]
[null,null,"Carryover?:",{"$nulls":5},"Required Tests (including failure follow-ups)",{"$nulls":4},{"$f":"$FO36","v":0},null,"Units",null,"g/kW-hr",null,"Units",null,"g/kW-hr",null,"Units",null,"g/kW-hr",null,"Units",null,"g/kW-hr",{"$nulls":4},"Test Cycle Options",{"$nulls":10},4]
[null,null,{"$f":"IF($G$17=\"Y\",\"Please submit supporting documentation indicating that this is a carry-over engine family\",\"\")","v":""},{"$nulls":5},"Instead of testing, are PLT requirements for this Engine Family",{"$nulls":6},"CO  Det Factor",{"$nulls":3},"PM  Det Factor",{"$nulls":3},"HC Det Factor",{"$nulls":3},"NOx  Det Factor",{"$nulls":6},"1 = 4-Mode General Cycle (E3)",null,null,"Recreational"]
[null,null,"Fuel Type:",{"$nulls":5}," fulfilled under the following (Category 1 only)?",{"$nulls":6},"Det Factor Type",null,{"$f":"IF($N$15<>\"\",$N$15,\"\")","v":""},null,"Det Factor Type",null,{"$f":"IF($N$15<>\"\",$N$15,\"\")","v":""},null,"Det Factor Type",null,{"$f":"IF($N$15<>\"\",$N$15,\"\")","v":""},null,"Det Factor Type",null,{"$f":"IF($N$15<>\"\",$N$15,\"\")","v":""},{"$nulls":4},"2 = 5-Mode Recreational Cycle (E5)",null,null,"Commercial"]
[null,null,"Recreational/Commercial:",{"$nulls":5},"Please elaborate in the comments section.",{"$nulls":6},"CO Green Engine Factor",{"$nulls":3},"PM Green Engine Factor",{"$nulls":3},"HC Green Engine Factor",{"$nulls":3},"NOx Green Engine Factor",{"$nulls":6},"3 = 4-Mode Constant Speed Propulsion Cycle (E2)"]
[null,null,"Model Year:",{"$nulls":5},"    -1042.310(a) - EPA approved combining it, for PLT purposes only.",{"$nulls":25},"4 = 5-Mode Constant Speed Auxiliary Cycle (D2)"]
[null,null,"Tier:",{"$nulls":31},"5 = 6-Mode Variable Speed Auxiliary Cycle (G2)",null,null,"1 (E3)"]
[null,null,"Combined NOx+HC?",{"$nulls":31},"6 = 8-Mode Variable Speed Ausiliary Cycle (C1)",null,null,"2 (E5)"]
[null,null,"40 CFR Part:",{"$nulls":3},{"$f":"AN6","v":1042},null,"Additional testing required by EPA [40 CFR 1042.301(e)]? ",{"$nulls":25},"O = Other",null,null,"3 (E2)"]
[{"$nulls":37},"4 (D2)"]
[{"$nulls":37},"5 (G2)",{"$nulls":132},"deleted and redirected"]
[{"$nulls":22}," ",{"$nulls":14},"6 (C1)",4,{"$nulls":6},4]
[null,null,"Comments:",{"$nulls":34},"O (other)"]
[{"$nulls":22}," ",{"$nulls":22},"additive"]
[{"$nulls":45},"multiplicative",{"$nulls":22},"CO Rounding",{"$nulls":4},"CO Rounding",{"$nulls":4},"CO Rounding",{"$nulls":4},"CO Rounding",{"$nulls":10},"PM Rounding",{"$nulls":4},"PM Rounding",{"$nulls":4},"PM Rounding",{"$nulls":4},"PM Rounding",{"$nulls":10},"HC Rounding",{"$nulls":4},"HC Rounding",{"$nulls":4},"HC Rounding",{"$nulls":4},"HC Rounding",{"$nulls":10},"NOx Rounding",{"$nulls":4},"NOx Rounding",{"$nulls":4},"NOx Rounding",{"$nulls":4},"NOx Rounding"]
[{"$nulls":22}," ",{"$nulls":45},"initial",{"$nulls":4},"final",{"$nulls":4}," det final",{"$nulls":4},"ave of all final",{"$nulls":10},"initial",{"$nulls":4},"final",{"$nulls":4}," det final",{"$nulls":4},"ave of all final",{"$nulls":10},"initial",{"$nulls":4},"final",{"$nulls":4}," det final",{"$nulls":4},"ave of all final",{"$nulls":10},"initial",{"$nulls":4},"final",{"$nulls":4}," det final",{"$nulls":4},"ave of all final"]
[{"$nulls":38},"Y",{"$nulls":6},"Y"]
["PLT Engine Test Results: Engine Family #19",{"$nulls":37},"N",{"$nulls":6},"N",{"$nulls":124},"This is N17"]
[{"$nulls":36},"CO",null,"PM",null,null,"HC or HC+NOX",null,"Nox",null,"Engine Data Complete?",{"$nulls":11},"HC","HC","HC","HC","Nox","Nox","Nox","Nox",{"$nulls":107},"1% of production or pre-approved reduced sample size - whichever is Lower # "]
[null,"Calc Final Result?","Test Number","Test Date","Test Time","Test Qtr","Engine ID","Engine Make","Engine Configuration","Build Date","Green Engine Factor Applied?","Green Engine Factor Determination Method","Service Hours (or miles) Accumulation","Service Hours Location","Service Acc. Procedure","CO Initial Result ","Rounded CO Initial Result ","CO Final Result ","Det. CO Final Result ","PM Initial Result ","Rounded PM Initial Result ","PM Final Result ","Det. PM Final Result ","HC Initial Result ","Rounded HC Initial Result ","HC Final Result ","Det. HC Final Result ","NOx Initial Result ","Rounded NOx Initial Result ","NOx Final Result ","Det. NOx Final Result ","Reason for Failed Test (if applicable)","Remedy","Repairs","Test Cycle","Comments",0,0,0,0,0,0,0,0,{"$nulls":5},"Unrounded initial CO","Unrounded final CO","Det CO","Final CO","Unrounded initial PM","Unrounded final PM","Det PM","Final PM","Unrounded initial HCNOx","Unrounded final HCNOx","Det HCNOx","Final HCNOX","Unrounded initial NOx","Unrounded final NOx","Det NOx","Final HCNOX",{"$nulls":7},"rounded",{"$nulls":4},"rounded",{"$nulls":4},"rounded",{"$nulls":4},"rounded",{"$nulls":10},"rounded",{"$nulls":4},"rounded",{"$nulls":4},"rounded",{"$nulls":4},"rounded",{"$nulls":10},"rounded",{"$nulls":4},"rounded",{"$nulls":4},"rounded",{"$nulls":4},"rounded","ROUNDED AND ACCOUNT FOR BLANK",{"$nulls":9},"rounded",{"$nulls":4},"rounded",{"$nulls":4},"rounded",{"$nulls":4},"rounded","ROUNDED AND ACCOUNT FOR BLANK","Test complete Flag","Total complete","Fail Flag","req","val","baseline req","req due to fails","sum fails","baseline req"]
[1,{"$nulls":4},"N/A",{"$nulls":10},{"$f":"$BU36","v":""},{"$f":"$BZ36","v":""},{"$f":"$CE36","v":""},null,{"$f":"$CU36","v":""},{"$f":"$CZ36","v":""},{"$f":"$DE36","v":""},null,{"$f":"$DU36","v":""},{"$f":"$DZ36","v":""},{"$f":"$EE36","v":""},null,{"$f":"$EU36","v":""},{"$f":"$EZ36","v":""},{"$f":"$FE36","v":""},{"$nulls":5},{"$f":"IF($B36=\"N\",IF(AND($AK35<>\"\",$Q36<>\"\"),$AK35+$Q36,\"\"),IF($B36=\"Y\",0,\"\"))","v":""},{"$f":"IF($B36=\"N\",AL35+1,IF($B36=\"Y\",0,\"\"))","v":""},{"$f":"IF($B36=\"N\",IF(AND($AM35<>\"\",$U36<>\"\"),$AM35+$U36,\"\"),IF($B36=\"Y\",0,\"\"))","v":""},{"$f":"IF($B36=\"N\",AN35+1,IF($B36=\"Y\",0,\"\"))","v":""},{"$f":"IF($B36=\"N\",IF(AND($AO35<>\"\",$Y36<>\"\"),$AO35+$Y36,\"\"),IF($B36=\"Y\",0,\"\"))","v":""},{"$f":"IF($B36=\"N\",AP35+1,IF($B36=\"Y\",0,\"\"))","v":""},{"$f":"IF($B36=\"N\",IF(AND($AQ35<>\"\",$AC36<>\"\"),$AQ35+$AC36,\"\"),IF($B36=\"Y\",0,\"\"))","v":""},{"$f":"IF($B36=\"N\",AR35+1,IF($B36=\"Y\",0,\"\"))","v":""},null,{"$f":"IF(AND(B36<>\"\",C36<>\"\",D36<>\"\",E36<>\"\",G36<>\"\",H36<>\"\",I36<>\"\",J36<>\"\",K36<>\"\",M36<>\"\",N36<>\"\",O36<>\"\"),1,0)","v":0},{"$nulls":3},{"$f":"IF(AND($P36<>\"\",$AT36=1),$P36,\"\")","v":""},{"$f":"IF($B36=\"Y\",IF(AND($Q36<>\"\",$AK35<>\"\",$AL35<>\"\"),($Q36+$AK35)/($AL35+1),\"\"),\"\")","v":""},{"$f":"IF(AND($B36=\"Y\",$R36<>\"\",$R$18<>\"\"),IF($R$19=\"additive\",$R36+$R$18,IF($R$19=\"multiplicative\",$R36*$R$18,\"\")),\"\")","v":""},{"$f":"IF(COUNT($S$36:$S$85)>0,AVERAGE($S$36:$S$85),\"\")","v":""},{"$f":"IF(AND($T36<>\"\",$AT36=1),$T36,\"\")","v":""},{"$f":"IF($B36=\"Y\",IF(AND($U36<>\"\",$AM35<>\"\",$AN35<>\"\"),($U36+$AM35)/($AN35+1),\"\"),\"\")","v":""},{"$f":"IF(AND($B36=\"Y\",$V36<>\"\",$V$18<>\"\"),IF($V$19=\"additive\",$V36+$V$18,IF($V$19=\"multiplicative\",$V36*$V$18,\"\")),\"\")","v":""},{"$f":"IF(COUNT($W$36:$W$85)>0,AVERAGE($W$36:$W$85),\"\")","v":""},{"$f":"IF(AND($X36<>\"\",$AT36=1),$X36,\"\")","v":""},{"$f":"IF($B36=\"Y\",IF(AND($Y36<>\"\",$AO35<>\"\",$AP35<>\"\"),($Y36+$AO35)/($AP35+1),\"\"),\"\")","v":""},{"$f":"IF(AND($B36=\"Y\",$Z36<>\"\",$Z$18<>\"\"),IF($Z$19=\"additive\",$Z36+$Z$18,IF($Z$19=\"multiplicative\",$Z36*$Z$18,\"\")),\"\")","v":""},{"$f":"IF(COUNT($AA$36:$AA$85)>0,AVERAGE($AA$36:$AA$85),\"\")","v":""},{"$f":"IF(AND($AB36<>\"\",$AT36=1),$AB36,\"\")","v":""},{"$f":"IF($B36=\"Y\",IF(AND($AC36<>\"\",$AQ35<>\"\",$AR35<>\"\"),($AC36+$AQ35)/($AR35+1),\"\"),\"\")","v":""},{"$f":"IF(AND($B36=\"Y\",$AD36<>\"\",$AD$18<>\"\"),IF($AD$19=\"additive\",$AD36+$AD$18,IF($AD$19=\"multiplicative\",$AD36*$AD$18,\"\")),\"\")","v":""},{"$f":"IF(COUNT($AE$36:$AE$85)>0,AVERAGE($AE$36:$AE$85),\"\")","v":""},{"$nulls":7},{"$f":"IF($AX36<>\"\",ROUND($AX36,2),\"\")","v":""},{"$nulls":4},{"$f":"IF($AY36<>\"\",ROUND($AY36,2),\"\")","v":""},{"$nulls":4},{"$f":"IF($AZ36<>\"\",ROUND($AZ36,2),\"\")","v":""},{"$nulls":4},{"$f":"IF($BA36<>\"\",ROUND($BA36,2),\"\")","v":""},{"$nulls":10},{"$f":"IF($BB36<>\"\",ROUND($BB36,3),\"\")","v":""},{"$nulls":4},{"$f":"IF($BC36<>\"\",ROUND($BC36,3),\"\")","v":""},{"$nulls":4},{"$f":"IF($BD36<>\"\",ROUND($BD36,3),\"\")","v":""},{"$nulls":4},{"$f":"IF($BE36<>\"\",ROUND($BE36,3),\"\")","v":""},{"$nulls":10},{"$f":"IF($BF36<>\"\",ROUND($BF36,3),\"\")","v":""},{"$nulls":4},{"$f":"IF($BG36<>\"\",ROUND($BG36,3),\"\")","v":""},{"$nulls":4},{"$f":"IF($BH36<>\"\",ROUND($BH36,3),\"\")","v":""},{"$nulls":4},{"$f":"IF($BI36<>\"\",ROUND($BI36,3),\"\")","v":""},{"$f":"IF(EJ36=\"\",0,EJ36)","v":0},{"$nulls":9},{"$f":"IF($BJ36<>\"\",ROUND($BJ36,2),\"\")","v":""},{"$nulls":4},{"$f":"IF($BK36<>\"\",ROUND($BK36,2),\"\")","v":""},{"$nulls":4},{"$f":"IF($BL36<>\"\",ROUND($BL36,2),\"\")","v":""},{"$nulls":4},{"$f":"IF($BM36<>\"\",ROUND($BM36,2),\"\")","v":""},{"$f":"IF(FJ36=\"\",0,FJ36)","v":0},{"$f":"IF($AG$12<>\"CAT3\",IF(AND($B36=\"Y\",$S36<>\"\",$W36<>\"\",$AA36<>\"\",$AE36<>\"\"),1,0),IF($AE36<>\"\",1,0))","v":0},{"$f":"SUM($FL$36:$FL36)","v":0},{"$f":"IF($AG$12<>\"CAT3\",IF($FL36=1,IF(OR($S36>$R$16,$W36>$V$16,$AA36>$Z$16,IF($AF$12<>\"Y\",OR($AA36>$Z$16,$AE36>$AD$16),ROUND(($AA36+$AE36),2)>$Z$16)),1,0),0),IF($FL36=1,IF(AND($AE36>$AD$16,$AF$12=\"N\"),1,0),0))","v":0},{"$f":"IF(OR($M$11=\"\",$N$18=\"Y\"),0,IF($AG$12=\"CAT3\",$N$12,($FR$36+1)))","v":0},{"$f":"SUM(FL36:FL85)","v":0},{"$f":"IF(AND($G$17=\"Y\",$N$24<>\"\"),MIN($N$24,$FT$36),$FT$36)","v":0},{"$f":"$FS$36*2","v":0},{"$f":"SUM(FN36:FN85)","v":0},{"$f":"IF($N$12<>\"\",$N$12*0.01,0)","v":0}]
[{"$f":"A36+1","v":2},{"$nulls":4},"N/A",{"$nulls":10},"","","",null,"","","",null,"","","",null,"","","",{"$nulls":5},"",{"$f":"IF($B37=\"N\",AL36+1,IF($B37=\"Y\",0,\"\"))","v":""},"",{"$f":"IF($B37=\"N\",AN36+1,IF($B37=\"Y\",0,\"\"))","v":""},{"$f":"IF($B37=\"N\",IF(AND($AO36<>\"\",$Y37<>\"\"),$AO36+$Y37,\"\"),IF($B37=\"Y\",0,\"\"))","v":""},{"$f":"IF($B37=\"N\",AP36+1,IF($B37=\"Y\",0,\"\"))","v":""},{"$f":"IF($B37=\"N\",IF(AND($AQ36<>\"\",$AC37<>\"\"),$AQ36+$AC37,\"\"),IF($B37=\"Y\",0,\"\"))","v":""},{"$f":"IF($B37=\"N\",AR36+1,IF($B37=\"Y\",0,\"\"))","v":""},null,{"$f":"IF(AND(B37<>\"\",C37<>\"\",D37<>\"\",E37<>\"\",G37<>\"\",H37<>\"\",I37<>\"\",J37<>\"\",K37<>\"\",M37<>\"\",N37<>\"\",O37<>\"\"),1,0)","v":0},{"$nulls":3},"","",{"$f":"IF(AND($B37=\"Y\",$R37<>\"\",$R$18<>\"\"),IF($R$19=\"additive\",$R37+$R$18,IF($R$19=\"multiplicative\",$R37*$R$18,\"\")),\"\")","v":""},null,"","",{"$f":"IF(AND($B37=\"Y\",$V37<>\"\",$V$18<>\"\"),IF($V$19=\"additive\",$V37+$V$18,IF($V$19=\"multiplicative\",$V37*$V$18,\"\")),\"\")","v":""},null,{"$f":"IF(AND($X37<>\"\",$AT37=1),$X37,\"\")","v":""},{"$f":"IF($B37=\"Y\",IF(AND($Y37<>\"\",$AO36<>\"\",$AP36<>\"\"),($Y37+$AO36)/($AP36+1),\"\"),\"\")","v":""},{"$f":"IF(AND($B37=\"Y\",$Z37<>\"\",$Z$18<>\"\"),IF($Z$19=\"additive\",$Z37+$Z$18,IF($Z$19=\"multiplicative\",$Z37*$Z$18,\"\")),\"\")","v":""},null,{"$f":"IF(AND($AB37<>\"\",$AT37=1),$AB37,\"\")","v":""},{"$f":"IF($B37=\"Y\",IF(AND($AC37<>\"\",$AQ36<>\"\",$AR36<>\"\"),($AC37+$AQ36)/($AR36+1),\"\"),\"\")","v":""},{"$f":"IF(AND($B37=\"Y\",$AD37<>\"\",$AD$18<>\"\"),IF($AD$19=\"additive\",$AD37+$AD$18,IF($AD$19=\"multiplicative\",$AD37*$AD$18,\"\")),\"\")","v":""},{"$nulls":8},{"$f":"IF($AX37<>\"\",ROUND($AX37,2),\"\")","v":""},{"$nulls":4},{"$f":"IF($AY37<>\"\",ROUND($AY37,2),\"\")","v":""},{"$nulls":4},{"$f":"IF($AZ37<>\"\",ROUND($AZ37,2),\"\")","v":""},{"$nulls":15},{"$f":"IF($BB37<>\"\",ROUND($BB37,3),\"\")","v":""},{"$nulls":4},{"$f":"IF($BC37<>\"\",ROUND($BC37,3),\"\")","v":""},{"$nulls":4},{"$f":"IF($BD37<>\"\",ROUND($BD37,3),\"\")","v":""},{"$nulls":15},{"$f":"IF($BF37<>\"\",ROUND($BF37,3),\"\")","v":""},{"$nulls":4},{"$f":"IF($BG37<>\"\",ROUND($BG37,3),\"\")","v":""},{"$nulls":4},{"$f":"IF($BH37<>\"\",ROUND($BH37,3),\"\")","v":""},{"$nulls":15},{"$f":"IF($BJ37<>\"\",ROUND($BJ37,2),\"\")","v":""},{"$nulls":4},{"$f":"IF($BK37<>\"\",ROUND($BK37,2),\"\")","v":""},{"$nulls":4},{"$f":"IF($BL37<>\"\",ROUND($BL37,2),\"\")","v":""},{"$nulls":6},{"$f":"IF($AG$12<>\"CAT3\",IF(AND($B37=\"Y\",$S37<>\"\",$W37<>\"\",$AA37<>\"\",$AE37<>\"\"),1,0),IF($AE37<>\"\",1,0))","v":0},{"$f":"SUM($FL$36:$FL37)","v":0},{"$f":"IF($AG$12<>\"CAT3\",IF($FL37=1,IF(OR($S37>$R$16,$W37>$V$16,$AA37>$Z$16,IF($AF$12<>\"Y\",OR($AA37>$Z$16,$AE37>$AD$16),ROUND(($AA37+$AE37),2)>$Z$16)),1,0),0),IF($FL37=1,IF(AND($AE37>$AD$16,$AF$12=\"N\"),1,0),0))","v":0},null,null,{"$f":"MAX($FQ$36,$FL$10)","v":1}]
[{"$f":"A37+1","v":3},{"$nulls":4},"N/A",{"$nulls":10},"","","",null,"","","",null,"","","",null,"","","",{"$nulls":5},"","","","","","","","",null,0,{"$nulls":3},"","","",null,"","","",null,"","","",null,"","","",{"$nulls":8},"",{"$nulls":4},"",{"$nulls":4},"",{"$nulls":15},"",{"$nulls":4},"",{"$nulls":4},"",{"$nulls":15},"",{"$nulls":4},"",{"$nulls":4},"",{"$nulls":15},"",{"$nulls":4},"",{"$nulls":4},"",{"$nulls":6},0,{"$f":"SUM($FL$36:$FL38)","v":0},0]
[4,{"$nulls":4},"N/A",{"$nulls":10},"","","",null,"","","",null,"","","",null,"","","",{"$nulls":5},"","","","","","","","",null,0,{"$nulls":3},"","","",null,"","","",null,"","","",null,"","","",{"$nulls":8},"",{"$nulls":4},"",{"$nulls":4},"",{"$nulls":15},"",{"$nulls":4},"",{"$nulls":4},"",{"$nulls":15},"",{"$nulls":4},"",{"$nulls":4},"",{"$nulls":15},"",{"$nulls":4},"",{"$nulls":4},"",{"$nulls":6},0,{"$f":"SUM($FL$36:$FL39)","v":0},0,null,null,"then, the larger of that sample size or 1  (or if Part 94 and cat1,  can be 0)"]
[5,{"$nulls":4},"N/A",{"$nulls":10},"","","",null,"","","",null,"","","",null,"","","",{"$nulls":5},"","","","","","","","",null,0,{"$nulls":3},"","","",null,"","","",null,"","","",null,"","","",{"$nulls":8},"",{"$nulls":4},"",{"$nulls":4},"",{"$nulls":15},"",{"$nulls":4},"",{"$nulls":4},"",{"$nulls":15},"",{"$nulls":4},"",{"$nulls":4},"",{"$nulls":15},"",{"$nulls":4},"",{"$nulls":4},"",{"$nulls":6},0,{"$f":"SUM($FL$36:$FL40)","v":0},0]
[6,{"$nulls":4},"N/A",{"$nulls":10},"","","",null,"","","",null,"","","",null,"","","",{"$nulls":5},"","","","","","","","",null,0,{"$nulls":3},"","","",null,"","","",null,"","","",null,"","","",{"$nulls":8},"",{"$nulls":4},"",{"$nulls":4},"",{"$nulls":15},"",{"$nulls":4},"",{"$nulls":4},"",{"$nulls":15},"",{"$nulls":4},"",{"$nulls":4},"",{"$nulls":15},"",{"$nulls":4},"",{"$nulls":4},"",{"$nulls":6},0,{"$f":"SUM($FL$36:$FL41)","v":0},0]
[7,{"$nulls":4},"N/A",{"$nulls":10},"","","",null,"","","",null,"","","",null,"","","",{"$nulls":5},"","","","","","","","",null,0,{"$nulls":3},"","","",null,"","","",null,"","","",null,"","","",{"$nulls":8},"",{"$nulls":4},"",{"$nulls":4},"",{"$nulls":15},"",{"$nulls":4},"",{"$nulls":4},"",{"$nulls":15},"",{"$nulls":4},"",{"$nulls":4},"",{"$nulls":15},"",{"$nulls":4},"",{"$nulls":4},"",{"$nulls":6},0,{"$f":"SUM($FL$36:$FL42)","v":0},0]
[8,{"$nulls":4},"N/A",{"$nulls":10},"","","",null,"","","",null,"","","",null,"","","",{"$nulls":5},"","","","","","","","",null,0,{"$nulls":3},"","","",null,"","","",null,"","","",null,"","","",{"$nulls":8},"",{"$nulls":4},"",{"$nulls":4},"",{"$nulls":15},"",{"$nulls":4},"",{"$nulls":4},"",{"$nulls":15},"",{"$nulls":4},"",{"$nulls":4},"",{"$nulls":15},"",{"$nulls":4},"",{"$nulls":4},"",{"$nulls":6},0,{"$f":"SUM($FL$36:$FL43)","v":0},0]
[9,{"$nulls":4},"N/A",{"$nulls":10},"","","",null,"","","",null,"","","",null,"","","",{"$nulls":5},"","","","","","","","",null,0,{"$nulls":3},"","","",null,"","","",null,"","","",null,"","","",{"$nulls":8},"",{"$nulls":4},"",{"$nulls":4},"",{"$nulls":15},"",{"$nulls":4},"",{"$nulls":4},"",{"$nulls":15},"",{"$nulls":4},"",{"$nulls":4},"",{"$nulls":15},"",{"$nulls":4},"",{"$nulls":4},"",{"$nulls":6},0,{"$f":"SUM($FL$36:$FL44)","v":0},0]
[10,{"$nulls":4},"N/A",{"$nulls":10},"","","",null,"","","",null,"","","",null,"","","",{"$nulls":5},"","","","","","","","",null,0,{"$nulls":3},"","","",null,"","","",null,"","","",null,"","","",{"$nulls":8},"",{"$nulls":4},"",{"$nulls":4},"",{"$nulls":15},"",{"$nulls":4},"",{"$nulls":4},"",{"$nulls":15},"",{"$nulls":4},"",{"$nulls":4},"",{"$nulls":15},"",{"$nulls":4},"",{"$nulls":4},"",{"$nulls":6},0,{"$f":"SUM($FL$36:$FL45)","v":0},0]
[11,{"$nulls":4},"N/A",{"$nulls":10},"","","",null,"","","",null,"","","",null,"","","",{"$nulls":5},"","","","","","","","",null,0,{"$nulls":3},"","","",null,"","","",null,"","","",null,"","","",{"$nulls":8},"",{"$nulls":4},"",{"$nulls":4},"",{"$nulls":15},"",{"$nulls":4},"",{"$nulls":4},"",{"$nulls":15},"",{"$nulls":4},"",{"$nulls":4},"",{"$nulls":15},"",{"$nulls":4},"",{"$nulls":4},"",{"$nulls":6},0,{"$f":"SUM($FL$36:$FL46)","v":0},0]
[12,{"$nulls":4},"N/A",{"$nulls":10},"","","",null,"","","",null,"","","",null,"","","",{"$nulls":5},"","","","","","","","",null,0,{"$nulls":3},"","","",null,"","","",null,"","","",null,"","","",{"$nulls":8},"",{"$nulls":4},"",{"$nulls":4},"",{"$nulls":15},"",{"$nulls":4},"",{"$nulls":4},"",{"$nulls":15},"",{"$nulls":4},"",{"$nulls":4},"",{"$nulls":15},"",{"$nulls":4},"",{"$nulls":4},"",{"$nulls":6},0,{"$f":"SUM($FL$36:$FL47)","v":0},0]
[13,{"$nulls":4},"N/A",{"$nulls":10},"","","",null,"","","",null,"","","",null,"","","",{"$nulls":5},"","","","","","","","",null,0,{"$nulls":3},"","","",null,"","","",null,"","","",null,"","","",{"$nulls":8},"",{"$nulls":4},"",{"$nulls":4},"",{"$nulls":15},"",{"$nulls":4},"",{"$nulls":4},"",{"$nulls":15},"",{"$nulls":4},"",{"$nulls":4},"",{"$nulls":15},"",{"$nulls":4},"",{"$nulls":4},"",{"$nulls":6},0,{"$f":"SUM($FL$36:$FL48)","v":0},0]
[14,{"$nulls":4},"N/A",{"$nulls":10},"","","",null,"","","",null,"","","",null,"","","",{"$nulls":5},"","","","","","","","",null,0,{"$nulls":3},"","","",null,"","","",null,"","","",null,"","","",{"$nulls":8},"",{"$nulls":4},"",{"$nulls":4},"",{"$nulls":15},"",{"$nulls":4},"",{"$nulls":4},"",{"$nulls":15},"",{"$nulls":4},"",{"$nulls":4},"",{"$nulls":15},"",{"$nulls":4},"",{"$nulls":4},"",{"$nulls":6},0,{"$f":"SUM($FL$36:$FL49)","v":0},0]
[15,{"$nulls":4},"N/A",{"$nulls":10},"","","",null,"","","",null,"","","",null,"","","",{"$nulls":5},"","","","","","","","",null,0,{"$nulls":3},"","","",null,"","","",null,"","","",null,"","","",{"$nulls":8},"",{"$nulls":4},"",{"$nulls":4},"",{"$nulls":15},"",{"$nulls":4},"",{"$nulls":4},"",{"$nulls":15},"",{"$nulls":4},"",{"$nulls":4},"",{"$nulls":15},"",{"$nulls":4},"",{"$nulls":4},"",{"$nulls":6},0,{"$f":"SUM($FL$36:$FL50)","v":0},0]
[16,{"$nulls":4},"N/A",{"$nulls":10},"","","",null,"","","",null,"","","",null,"","","",{"$nulls":5},"","","","","","","","",null,0,{"$nulls":3},"","","",null,"","","",null,"","","",null,"","","",{"$nulls":8},"",{"$nulls":4},"",{"$nulls":4},"",{"$nulls":15},"",{"$nulls":4},"",{"$nulls":4},"",{"$nulls":15},"",{"$nulls":4},"",{"$nulls":4},"",{"$nulls":15},"",{"$nulls":4},"",{"$nulls":4},"",{"$nulls":6},0,{"$f":"SUM($FL$36:$FL51)","v":0},0]
[17,{"$nulls":4},"N/A",{"$nulls":10},"","","",null,"","","",null,"","","",null,"","","",{"$nulls":5},"","","","","","","","",null,0,{"$nulls":3},"","","",null,"","","",null,"","","",null,"","","",{"$nulls":8},"",{"$nulls":4},"",{"$nulls":4},"",{"$nulls":15},"",{"$nulls":4},"",{"$nulls":4},"",{"$nulls":15},"",{"$nulls":4},"",{"$nulls":4},"",{"$nulls":15},"",{"$nulls":4},"",{"$nulls":4},"",{"$nulls":6},0,{"$f":"SUM($FL$36:$FL52)","v":0},0]
[18,{"$nulls":4},"N/A",{"$nulls":10},"","","",null,"","","",null,"","","",null,"","","",{"$nulls":5},"","","","","","","","",null,0,{"$nulls":3},"","","",null,"","","",null,"","","",null,"","","",{"$nulls":8},"",{"$nulls":4},"",{"$nulls":4},"",{"$nulls":15},"",{"$nulls":4},"",{"$nulls":4},"",{"$nulls":15},"",{"$nulls":4},"",{"$nulls":4},"",{"$nulls":15},"",{"$nulls":4},"",{"$nulls":4},"",{"$nulls":6},0,{"$f":"SUM($FL$36:$FL53)","v":0},0]
[19,{"$nulls":4},"N/A",{"$nulls":10},"","","",null,"","","",null,"","","",null,"","","",{"$nulls":5},"","","","","","","","",null,0,{"$nulls":3},"","","",null,"","","",null,"","","",null,"","","",{"$nulls":8},"",{"$nulls":4},"",{"$nulls":4},"",{"$nulls":15},"",{"$nulls":4},"",{"$nulls":4},"",{"$nulls":15},"",{"$nulls":4},"",{"$nulls":4},"",{"$nulls":15},"",{"$nulls":4},"",{"$nulls":4},"",{"$nulls":6},0,{"$f":"SUM($FL$36:$FL54)","v":0},0]
[20,{"$nulls":4},"N/A",{"$nulls":10},"","","",null,"","","",null,"","","",null,"","","",{"$nulls":5},"","","","","","","","",null,0,{"$nulls":3},"","","",null,"","","",null,"","","",null,"","","",{"$nulls":8},"",{"$nulls":4},"",{"$nulls":4},"",{"$nulls":15},"",{"$nulls":4},"",{"$nulls":4},"",{"$nulls":15},"",{"$nulls":4},"",{"$nulls":4},"",{"$nulls":15},"",{"$nulls":4},"",{"$nulls":4},"",{"$nulls":6},0,{"$f":"SUM($FL$36:$FL55)","v":0},0]
[21,{"$nulls":4},"N/A",{"$nulls":10},"","","",null,"","","",null,"","","",null,"","","",{"$nulls":5},"","","","","","","","",null,0,{"$nulls":3},"","","",null,"","","",null,"","","",null,"","","",{"$nulls":8},"",{"$nulls":4},"",{"$nulls":4},"",{"$nulls":15},"",{"$nulls":4},"",{"$nulls":4},"",{"$nulls":15},"",{"$nulls":4},"",{"$nulls":4},"",{"$nulls":15},"",{"$nulls":4},"",{"$nulls":4},"",{"$nulls":6},0,{"$f":"SUM($FL$36:$FL56)","v":0},0]
[22,{"$nulls":4},"N/A",{"$nulls":10},"","","",null,"","","",null,"","","",null,"","","",{"$nulls":5},"","","","","","","","",null,0,{"$nulls":3},"","","",null,"","","",null,"","","",null,"","","",{"$nulls":8},"",{"$nulls":4},"",{"$nulls":4},"",{"$nulls":15},"",{"$nulls":4},"",{"$nulls":4},"",{"$nulls":15},"",{"$nulls":4},"",{"$nulls":4},"",{"$nulls":15},"",{"$nulls":4},"",{"$nulls":4},"",{"$nulls":6},0,{"$f":"SUM($FL$36:$FL57)","v":0},0]
[23,{"$nulls":4},"N/A",{"$nulls":10},"","","",null,"","","",null,"","","",null,"","","",{"$nulls":5},"","","","","","","","",null,0,{"$nulls":3},"","","",null,"","","",null,"","","",null,"","","",{"$nulls":8},"",{"$nulls":4},"",{"$nulls":4},"",{"$nulls":15},"",{"$nulls":4},"",{"$nulls":4},"",{"$nulls":15},"",{"$nulls":4},"",{"$nulls":4},"",{"$nulls":15},"",{"$nulls":4},"",{"$nulls":4},"",{"$nulls":6},0,{"$f":"SUM($FL$36:$FL58)","v":0},0]
[24,{"$nulls":4},"N/A",{"$nulls":10},"","","",null,"","","",null,"","","",null,"","","",{"$nulls":5},"","","","","","","","",null,0,{"$nulls":3},"","","",null,"","","",null,"","","",null,"","","",{"$nulls":8},"",{"$nulls":4},"",{"$nulls":4},"",{"$nulls":15},"",{"$nulls":4},"",{"$nulls":4},"",{"$nulls":15},"",{"$nulls":4},"",{"$nulls":4},"",{"$nulls":15},"",{"$nulls":4},"",{"$nulls":4},"",{"$nulls":6},0,{"$f":"SUM($FL$36:$FL59)","v":0},0]
[25,{"$nulls":4},"N/A",{"$nulls":10},"","","",null,"","","",null,"","","",null,"","","",{"$nulls":5},"","","","","","","","",null,0,{"$nulls":3},"","","",null,"","","",null,"","","",null,"","","",{"$nulls":8},"",{"$nulls":4},"",{"$nulls":4},"",{"$nulls":15},"",{"$nulls":4},"",{"$nulls":4},"",{"$nulls":15},"",{"$nulls":4},"",{"$nulls":4},"",{"$nulls":15},"",{"$nulls":4},"",{"$nulls":4},"",{"$nulls":6},0,{"$f":"SUM($FL$36:$FL60)","v":0},0]
[26,{"$nulls":4},"N/A",{"$nulls":10},"","","",null,"","","",null,"","","",null,"","","",{"$nulls":5},"","","","","","","","",null,0,{"$nulls":3},"","","",null,"","","",null,"","","",null,"","","",{"$nulls":8},"",{"$nulls":4},"",{"$nulls":4},"",{"$nulls":15},"",{"$nulls":4},"",{"$nulls":4},"",{"$nulls":15},"",{"$nulls":4},"",{"$nulls":4},"",{"$nulls":15},"",{"$nulls":4},"",{"$nulls":4},"",{"$nulls":6},0,{"$f":"SUM($FL$36:$FL61)","v":0},0]
[27,{"$nulls":4},"N/A",{"$nulls":10},"","","",null,"","","",null,"","","",null,"","","",{"$nulls":5},"","","","","","","","",null,0,{"$nulls":3},"","","",null,"","","",null,"","","",null,"","","",{"$nulls":8},"",{"$nulls":4},"",{"$nulls":4},"",{"$nulls":15},"",{"$nulls":4},"",{"$nulls":4},"",{"$nulls":15},"",{"$nulls":4},"",{"$nulls":4},"",{"$nulls":15},"",{"$nulls":4},"",{"$nulls":4},"",{"$nulls":6},0,{"$f":"SUM($FL$36:$FL62)","v":0},0]
[28,{"$nulls":4},"N/A",{"$nulls":10},"","","",null,"","","",null,"","","",null,"","","",{"$nulls":5},"","","","","","","","",null,0,{"$nulls":3},"","","",null,"","","",null,"","","",null,"","","",{"$nulls":8},"",{"$nulls":4},"",{"$nulls":4},"",{"$nulls":15},"",{"$nulls":4},"",{"$nulls":4},"",{"$nulls":15},"",{"$nulls":4},"",{"$nulls":4},"",{"$nulls":15},"",{"$nulls":4},"",{"$nulls":4},"",{"$nulls":6},0,{"$f":"SUM($FL$36:$FL63)","v":0},0]
[29,{"$nulls":4},"N/A",{"$nulls":10},"","","",null,"","","",null,"","","",null,"","","",{"$nulls":5},"","","","","","","","",null,0,{"$nulls":3},"","","",null,"","","",null,"","","",null,"","","",{"$nulls":8},"",{"$nulls":4},"",{"$nulls":4},"",{"$nulls":15},"",{"$nulls":4},"",{"$nulls":4},"",{"$nulls":15},"",{"$nulls":4},"",{"$nulls":4},"",{"$nulls":15},"",{"$nulls":4},"",{"$nulls":4},"",{"$nulls":6},0,{"$f":"SUM($FL$36:$FL64)","v":0},0]
[30,{"$nulls":4},"N/A",{"$nulls":10},"","","",null,"","","",null,"","","",null,"","","",{"$nulls":5},"","","","","","","","",null,0,{"$nulls":3},"","","",null,"","","",null,"","","",null,"","","",{"$nulls":8},"",{"$nulls":4},"",{"$nulls":4},"",{"$nulls":15},"",{"$nulls":4},"",{"$nulls":4},"",{"$nulls":15},"",{"$nulls":4},"",{"$nulls":4},"",{"$nulls":15},"",{"$nulls":4},"",{"$nulls":4},"",{"$nulls":6},0,{"$f":"SUM($FL$36:$FL65)","v":0},0]
[31,{"$nulls":4},"N/A",{"$nulls":10},"","","",null,"","","",null,"","","",null,"","","",{"$nulls":5},"","","","","","","","",null,0,{"$nulls":3},"","","",null,"","","",null,"","","",null,"","","",{"$nulls":8},"",{"$nulls":4},"",{"$nulls":4},"",{"$nulls":15},"",{"$nulls":4},"",{"$nulls":4},"",{"$nulls":15},"",{"$nulls":4},"",{"$nulls":4},"",{"$nulls":15},"",{"$nulls":4},"",{"$nulls":4},"",{"$nulls":6},0,{"$f":"SUM($FL$36:$FL66)","v":0},0]
[32,{"$nulls":4},"N/A",{"$nulls":10},"","","",null,"","","",null,"","","",null,"","","",{"$nulls":5},"","","","","","","","",null,0,{"$nulls":3},"","","",null,"","","",null,"","","",null,"","","",{"$nulls":8},"",{"$nulls":4},"",{"$nulls":4},"",{"$nulls":15},"",{"$nulls":4},"",{"$nulls":4},"",{"$nulls":15},"",{"$nulls":4},"",{"$nulls":4},"",{"$nulls":15},"",{"$nulls":4},"",{"$nulls":4},"",{"$nulls":6},0,{"$f":"SUM($FL$36:$FL67)","v":0},0]
[33,{"$nulls":4},"N/A",{"$nulls":10},"","","",null,"","","",null,"","","",null,"","","",{"$nulls":5},"","","","","","","","",null,0,{"$nulls":3},"","","",null,"","","",null,"","","",null,"","","",{"$nulls":8},"",{"$nulls":4},"",{"$nulls":4},"",{"$nulls":15},"",{"$nulls":4},"",{"$nulls":4},"",{"$nulls":15},"",{"$nulls":4},"",{"$nulls":4},"",{"$nulls":15},"",{"$nulls":4},"",{"$nulls":4},"",{"$nulls":6},0,{"$f":"SUM($FL$36:$FL68)","v":0},0]
[34,{"$nulls":4},"N/A",{"$nulls":10},"","","",null,"","","",null,"","","",null,"","","",{"$nulls":5},"","","","","","","","",null,0,{"$nulls":3},"","","",null,"","","",null,"","","",null,"","","",{"$nulls":8},"",{"$nulls":4},"",{"$nulls":4},"",{"$nulls":15},"",{"$nulls":4},"",{"$nulls":4},"",{"$nulls":15},"",{"$nulls":4},"",{"$nulls":4},"",{"$nulls":15},"",{"$nulls":4},"",{"$nulls":4},"",{"$nulls":6},0,{"$f":"SUM($FL$36:$FL69)","v":0},0]
[35,{"$nulls":4},"N/A",{"$nulls":10},"","","",null,"","","",null,"","","",null,"","","",{"$nulls":5},"","","","","","","","",null,0,{"$nulls":3},"","","",null,"","","",null,"","","",null,"","","",{"$nulls":8},"",{"$nulls":4},"",{"$nulls":4},"",{"$nulls":15},"",{"$nulls":4},"",{"$nulls":4},"",{"$nulls":15},"",{"$nulls":4},"",{"$nulls":4},"",{"$nulls":15},"",{"$nulls":4},"",{"$nulls":4},"",{"$nulls":6},0,{"$f":"SUM($FL$36:$FL70)","v":0},0]
[36,{"$nulls":4},"N/A",{"$nulls":10},"","","",null,"","","",null,"","","",null,"","","",{"$nulls":5},"","","","","","","","",null,0,{"$nulls":3},"","","",null,"","","",null,"","","",null,"","","",{"$nulls":8},"",{"$nulls":4},"",{"$nulls":4},"",{"$nulls":15},"",{"$nulls":4},"",{"$nulls":4},"",{"$nulls":15},"",{"$nulls":4},"",{"$nulls":4},"",{"$nulls":15},"",{"$nulls":4},"",{"$nulls":4},"",{"$nulls":6},0,{"$f":"SUM($FL$36:$FL71)","v":0},0]
[37,{"$nulls":4},"N/A",{"$nulls":10},"","","",null,"","","",null,"","","",null,"","","",{"$nulls":5},"","","","","","","","",null,0,{"$nulls":3},"","","",null,"","","",null,"","","",null,"","","",{"$nulls":8},"",{"$nulls":4},"",{"$nulls":4},"",{"$nulls":15},"",{"$nulls":4},"",{"$nulls":4},"",{"$nulls":15},"",{"$nulls":4},"",{"$nulls":4},"",{"$nulls":15},"",{"$nulls":4},"",{"$nulls":4},"",{"$nulls":6},0,{"$f":"SUM($FL$36:$FL72)","v":0},0]
[38,{"$nulls":4},"N/A",{"$nulls":10},"","","",null,"","","",null,"","","",null,"","","",{"$nulls":5},"","","","","","","","",null,0,{"$nulls":3},"","","",null,"","","",null,"","","",null,"","","",{"$nulls":8},"",{"$nulls":4},"",{"$nulls":4},"",{"$nulls":15},"",{"$nulls":4},"",{"$nulls":4},"",{"$nulls":15},"",{"$nulls":4},"",{"$nulls":4},"",{"$nulls":15},"",{"$nulls":4},"",{"$nulls":4},"",{"$nulls":6},0,{"$f":"SUM($FL$36:$FL73)","v":0},0]
[39,{"$nulls":4},"N/A",{"$nulls":10},"","","",null,"","","",null,"","","",null,"","","",{"$nulls":5},"","","","","","","","",null,0,{"$nulls":3},"","","",null,"","","",null,"","","",null,"","","",{"$nulls":8},"",{"$nulls":4},"",{"$nulls":4},"",{"$nulls":15},"",{"$nulls":4},"",{"$nulls":4},"",{"$nulls":15},"",{"$nulls":4},"",{"$nulls":4},"",{"$nulls":15},"",{"$nulls":4},"",{"$nulls":4},"",{"$nulls":6},0,{"$f":"SUM($FL$36:$FL74)","v":0},0]
[40,{"$nulls":4},"N/A",{"$nulls":10},"","","",null,"","","",null,"","","",null,"","","",{"$nulls":5},"","","","","","","","",null,0,{"$nulls":3},"","","",null,"","","",null,"","","",null,"","","",{"$nulls":8},"",{"$nulls":4},"",{"$nulls":4},"",{"$nulls":15},"",{"$nulls":4},"",{"$nulls":4},"",{"$nulls":15},"",{"$nulls":4},"",{"$nulls":4},"",{"$nulls":15},"",{"$nulls":4},"",{"$nulls":4},"",{"$nulls":6},0,{"$f":"SUM($FL$36:$FL75)","v":0},0]
[41,{"$nulls":4},"N/A",{"$nulls":10},"","","",null,"","","",null,"","","",null,"","","",{"$nulls":5},"","","","","","","","",null,0,{"$nulls":3},"","","",null,"","","",null,"","","",null,"","","",{"$nulls":8},"",{"$nulls":4},"",{"$nulls":4},"",{"$nulls":15},"",{"$nulls":4},"",{"$nulls":4},"",{"$nulls":15},"",{"$nulls":4},"",{"$nulls":4},"",{"$nulls":15},"",{"$nulls":4},"",{"$nulls":4},"",{"$nulls":6},0,{"$f":"SUM($FL$36:$FL76)","v":0},0]
[42,{"$nulls":4},"N/A",{"$nulls":10},"","","",null,"","","",null,"","","",null,"","","",{"$nulls":5},"","","","","","","","",null,0,{"$nulls":3},"","","",null,"","","",null,"","","",null,"","","",{"$nulls":8},"",{"$nulls":4},"",{"$nulls":4},"",{"$nulls":15},"",{"$nulls":4},"",{"$nulls":4},"",{"$nulls":15},"",{"$nulls":4},"",{"$nulls":4},"",{"$nulls":15},"",{"$nulls":4},"",{"$nulls":4},"",{"$nulls":6},0,{"$f":"SUM($FL$36:$FL77)","v":0},0]
[43,{"$nulls":4},"N/A",{"$nulls":10},"","","",null,"","","",null,"","","",null,"","","",{"$nulls":5},"","","","","","","","",null,0,{"$nulls":3},"","","",null,"","","",null,"","","",null,"","","",{"$nulls":8},"",{"$nulls":4},"",{"$nulls":4},"",{"$nulls":15},"",{"$nulls":4},"",{"$nulls":4},"",{"$nulls":15},"",{"$nulls":4},"",{"$nulls":4},"",{"$nulls":15},"",{"$nulls":4},"",{"$nulls":4},"",{"$nulls":6},0,{"$f":"SUM($FL$36:$FL78)","v":0},0]
[44,{"$nulls":4},"N/A",{"$nulls":10},"","","",null,"","","",null,"","","",null,"","","",{"$nulls":5},"","","","","","","","",null,0,{"$nulls":3},"","","",null,"","","",null,"","","",null,"","","",{"$nulls":8},"",{"$nulls":4},"",{"$nulls":4},"",{"$nulls":15},"",{"$nulls":4},"",{"$nulls":4},"",{"$nulls":15},"",{"$nulls":4},"",{"$nulls":4},"",{"$nulls":15},"",{"$nulls":4},"",{"$nulls":4},"",{"$nulls":6},0,{"$f":"SUM($FL$36:$FL79)","v":0},0]
[45,{"$nulls":4},"N/A",{"$nulls":10},"","","",null,"","","",null,"","","",null,"","","",{"$nulls":5},"","","","","","","","",null,0,{"$nulls":3},"","","",null,"","","",null,"","","",null,"","","",{"$nulls":8},"",{"$nulls":4},"",{"$nulls":4},"",{"$nulls":15},"",{"$nulls":4},"",{"$nulls":4},"",{"$nulls":15},"",{"$nulls":4},"",{"$nulls":4},"",{"$nulls":15},"",{"$nulls":4},"",{"$nulls":4},"",{"$nulls":6},0,{"$f":"SUM($FL$36:$FL80)","v":0},0]
[46,{"$nulls":4},"N/A",{"$nulls":10},"","","",null,"","","",null,"","","",null,"","","",{"$nulls":5},"","","","","","","","",null,0,{"$nulls":3},"","","",null,"","","",null,"","","",null,"","","",{"$nulls":8},"",{"$nulls":4},"",{"$nulls":4},"",{"$nulls":15},"",{"$nulls":4},"",{"$nulls":4},"",{"$nulls":15},"",{"$nulls":4},"",{"$nulls":4},"",{"$nulls":15},"",{"$nulls":4},"",{"$nulls":4},"",{"$nulls":6},0,{"$f":"SUM($FL$36:$FL81)","v":0},0]
[47,{"$nulls":4},"N/A",{"$nulls":10},"","","",null,"","","",null,"","","",null,"","","",{"$nulls":5},"","","","","","","","",null,0,{"$nulls":3},"","","",null,"","","",null,"","","",null,"","","",{"$nulls":8},"",{"$nulls":4},"",{"$nulls":4},"",{"$nulls":15},"",{"$nulls":4},"",{"$nulls":4},"",{"$nulls":15},"",{"$nulls":4},"",{"$nulls":4},"",{"$nulls":15},"",{"$nulls":4},"",{"$nulls":4},"",{"$nulls":6},0,{"$f":"SUM($FL$36:$FL82)","v":0},0]
[48,{"$nulls":4},"N/A",{"$nulls":10},"","","",null,"","","",null,"","","",null,"","","",{"$nulls":5},"","","","","","","","",null,0,{"$nulls":3},"","","",null,"","","",null,"","","",null,"","","",{"$nulls":8},"",{"$nulls":4},"",{"$nulls":4},"",{"$nulls":15},"",{"$nulls":4},"",{"$nulls":4},"",{"$nulls":15},"",{"$nulls":4},"",{"$nulls":4},"",{"$nulls":15},"",{"$nulls":4},"",{"$nulls":4},"",{"$nulls":6},0,{"$f":"SUM($FL$36:$FL83)","v":0},0]
[49,{"$nulls":4},"N/A",{"$nulls":10},"","","",null,"","","",null,"","","",null,"","","",{"$nulls":5},"","","","","","","","",null,0,{"$nulls":3},"","","",null,"","","",null,"","","",null,"","","",{"$nulls":8},"",{"$nulls":4},"",{"$nulls":4},"",{"$nulls":15},"",{"$nulls":4},"",{"$nulls":4},"",{"$nulls":15},"",{"$nulls":4},"",{"$nulls":4},"",{"$nulls":15},"",{"$nulls":4},"",{"$nulls":4},"",{"$nulls":6},0,{"$f":"SUM($FL$36:$FL84)","v":0},0]
[50,{"$nulls":4},"N/A",{"$nulls":10},"","","",null,"","","",null,"","","",null,"","","",{"$nulls":5},"","","","","","","","",null,0,{"$nulls":3},"","","",null,"","","",null,"","","",null,"",{"$f":"IF($B85=\"Y\",IF(AND($AC85<>\"\",$AQ84<>\"\",$AR84<>\"\"),($AC85+$AQ84)/($AR84+1),\"\"),\"\")","v":""},"",{"$nulls":8},"",{"$nulls":4},"",{"$nulls":4},"",{"$nulls":15},"",{"$nulls":4},"",{"$nulls":4},"",{"$nulls":15},"",{"$nulls":4},"",{"$nulls":4},"",{"$nulls":15},"",{"$nulls":4},"",{"$nulls":4},"",{"$nulls":6},0,{"$f":"SUM($FL$36:$FL85)","v":0},0]
[null,null,{"$f":"SUM(C36:C85)","v":0}]
["g/bhp-hr"]
["g/kW-hr"]

{"sheet":"Engine Family #20","index":22,"n_rows":88,"n_cols":176,"rows_kept":88,"merged":[[1,0,1,35],[2,0,2,35],[3,0,3,35],[4,0,4,35],[5,0,5,35],[6,0,6,35],[8,0,8,16],[10,4,10,6],[10,12,10,13],[11,4,11,6],[11,15,11,16],[11,19,11,20],[11,23,11,24],[11,27,11,28],[12,4,12,6],[13,4,13,6],[14,4,15,6],[17,14,22,14],[27,4,30,13],[27,15,28,16],[32,0,32,16],[32,17,32,33],[32,34,32,35],[33,45,34,45]]}
[]
["United States"]
["US Environmental Protection Agency"]
["Office of Air and Radiation, Office of Transportation and Air Quality"]
[{"$nulls":37},"Tier 2","Y",94]
["Manufacturer Production Line Testing Report for Marine Compression Ignition Engines",{"$nulls":36},"Tier 3","N",1042]
[{"$f":"Summary!B7","v":"Version Number: 1.4 DRAFT  Last Revision: September 2023"},{"$nulls":36},"Tier 4",null,"N/A"]
[]
["Basic Information: Engine Family #20"]
[{"$nulls":167},{"$f":"IF(AND($G$24=94,Summary!$L$13=\"Category 1\"),0,1)","v":1}]
[null,null,"Manufacturer:",null,{"$f":"IF(Summary!D12<>\"\",Summary!D12,\"\")","v":""},{"$nulls":3},"Engine Family:",{"$nulls":31},{"$f":"IF($G$19=\"Diesel\",\"'HC' refers to 'THC' \",IF($G$19=\"Natural Gas\",\"'HC' refers to 'NMHC' \",IF($G$19=\"Alcohol\",\"'HC' refers to 'THCE' \",\"\")))","v":""}]
[null,null,"PLT Test Contact:",null,{"$f":"IF(Summary!D13<>\"\",Summary!D13,\"\")","v":""},{"$nulls":3},"Production (Category 3 only):",{"$nulls":6},{"$f":"IF(N16<>\"Y\", \"Current CO Result\", \"Final CO Result\")","v":"Current CO Result"},null,{"$f":"$CJ$36","v":""},null,{"$f":"IF(N16<>\"Y\", \"Current PM Result\", \"Final PM Result\")","v":"Current PM Result"},null,{"$f":"$DJ$36","v":""},null,{"$f":"IF($AF$12=\"Y\",IF(N16<>\"Y\", \"Current NOx+HC Result\", \"Final NOx+HC Result\"),IF(N16<>\"Y\", \"Current HC Result\", \"Final HC Result\"))","v":"Current HC Result"},null,{"$f":"IF($AF$12=\"Y\",IF($FP$36>0,ROUND($EJ$36+$FJ$36,2),\"\"),$EJ$36)","v":""},null,{"$f":"IF(N16<>\"Y\", \"Current NOx Result\",\"Final NOx Result\")","v":"Current NOx Result"},null,{"$f":"$FJ$36","v":""},null,{"$f":"IF($L$13<>\"Category 3\",IF($G$23=\"\",\"N\",$G$23),\"N\")","v":"N"},{"$f":"IF(Summary!$L$13=\"Category 3\",\"CAT3\",\"\")","v":""}]
[null,null,"Email Address:",null,{"$f":"IF(Summary!D14<>\"\",Summary!D14,\"\")","v":""},{"$nulls":3},"Date of Start of Model Year Production:"]
[null,null,"Phone #:",null,{"$f":"IF(Summary!D15<>\"\",Summary!D15,\"\")","v":""},{"$nulls":3},"Date of End of Model Year Production:",{"$nulls":14},{"$f":"IF($G$19=\"Diesel\",\"'HC' refers to 'THC' \",IF($G$19=\"Natural Gas\",\"'HC' refers to 'NMHC' \",IF($G$19=\"Alcohol\",\"'HC' refers to 'THCE' \",\"\")))","v":""},{"$nulls":13},"Diesel",1,{"$nulls":6},1]
[null,null,"Test Location & Description:",{"$nulls":5},"Deterioration Factor Type:",{"$nulls":28},"Natural Gas",2,{"$nulls":6},2]
[{"$nulls":8},"Include Results from this Engine Family on Summary Sheet?",{"$nulls":6},"CO Standard ",{"$nulls":3},"PM Standard or FEL",{"$nulls":3},{"$f":"IF($AF$12=\"Y\",\"NOx+HC Standard or FEL\",\"HC Standard\")","v":"HC Standard"},{"$nulls":3},"NOx Standard or FEL",{"$nulls":9},"Alcohol",3,{"$nulls":6},3]
[null,null,"Carryover?:",{"$nulls":5},"Required Tests (including failure follow-ups)",{"$nulls":4},{"$f":"$FO36","v":0},null,"Units",null,"g/kW-hr",null,"Units",null,"g/kW-hr",null,"Units",null,"g/kW-hr",null,"Units",null,"g/kW-hr",{"$nulls":4},"Test Cycle Options",{"$nulls":10},4]
[null,null,{"$f":"IF($G$17=\"Y\",\"Please submit supporting documentation indicating that this is a carry-over engine family\",\"\")","v":""},{"$nulls":5},"Instead of testing, are PLT requirements for this Engine Family",{"$nulls":6},"CO  Det Factor",{"$nulls":3},"PM  Det Factor",{"$nulls":3},"HC Det Factor",{"$nulls":3},"NOx  Det Factor",{"$nulls":6},"1 = 4-Mode General Cycle (E3)",null,null,"Recreational"]
[null,null,"Fuel Type:",{"$nulls":5}," fulfilled under the following (Category 1 only)?",{"$nulls":6},"Det Factor Type",null,{"$f":"IF($N$15<>\"\",$N$15,\"\")","v":""},null,"Det Factor Type",null,{"$f":"IF($N$15<>\"\",$N$15,\"\")","v":""},null,"Det Factor Type",null,{"$f":"IF($N$15<>\"\",$N$15,\"\")","v":""},null,"Det Factor Type",null,{"$f":"IF($N$15<>\"\",$N$15,\"\")","v":""},{"$nulls":4},"2 = 5-Mode Recreational Cycle (E5)",null,null,"Commercial"]
[null,null,"Recreational/Commercial:",{"$nulls":5},"Please elaborate in the comments section.",{"$nulls":6},"CO Green Engine Factor",{"$nulls":3},"PM Green Engine Factor",{"$nulls":3},"HC Green Engine Factor",{"$nulls":3},"NOx Green Engine Factor",{"$nulls":6},"3 = 4-Mode Constant Speed Propulsion Cycle (E2)"]
[null,null,"Model Year:",{"$nulls":5},"    -1042.310(a) - EPA approved combining it, for PLT purposes only.",{"$nulls":25},"4 = 5-Mode Constant Speed Auxiliary Cycle (D2)"]
[null,null,"Tier:",{"$nulls":31},"5 = 6-Mode Variable Speed Auxiliary Cycle (G2)",null,null,"1 (E3)"]
[null,null,"Combined NOx+HC?",{"$nulls":31},"6 = 8-Mode Variable Speed Ausiliary Cycle (C1)",null,null,"2 (E5)"]
[null,null,"40 CFR Part:",{"$nulls":3},{"$f":"AN6","v":1042},null,"Additional testing required by EPA [40 CFR 1042.301(e)]? ",{"$nulls":25},"O = Other",null,null,"3 (E2)"]
[{"$nulls":37},"4 (D2)"]
[{"$nulls":37},"5 (G2)",{"$nulls":132},"deleted and redirected"]
[{"$nulls":22}," ",{"$nulls":14},"6 (C1)",4,{"$nulls":6},4]
[null,null,"Comments:",{"$nulls":34},"O (other)"]
[{"$nulls":22}," ",{"$nulls":22},"additive"]
[{"$nulls":45},"multiplicative",{"$nulls":22},"CO Rounding",{"$nulls":4},"CO Rounding",{"$nulls":4},"CO Rounding",{"$nulls":4},"CO Rounding",{"$nulls":10},"PM Rounding",{"$nulls":4},"PM Rounding",{"$nulls":4},"PM Rounding",{"$nulls":4},"PM Rounding",{"$nulls":10},"HC Rounding",{"$nulls":4},"HC Rounding",{"$nulls":4},"HC Rounding",{"$nulls":4},"HC Rounding",{"$nulls":10},"NOx Rounding",{"$nulls":4},"NOx Rounding",{"$nulls":4},"NOx Rounding",{"$nulls":4},"NOx Rounding"]
[{"$nulls":22}," ",{"$nulls":45},"initial",{"$nulls":4},"final",{"$nulls":4}," det final",{"$nulls":4},"ave of all final",{"$nulls":10},"initial",{"$nulls":4},"final",{"$nulls":4}," det final",{"$nulls":4},"ave of all final",{"$nulls":10},"initial",{"$nulls":4},"final",{"$nulls":4}," det final",{"$nulls":4},"ave of all final",{"$nulls":10},"initial",{"$nulls":4},"final",{"$nulls":4}," det final",{"$nulls":4},"ave of all final"]
[{"$nulls":38},"Y",{"$nulls":6},"Y"]
["PLT Engine Test Results: Engine Family #20",{"$nulls":37},"N",{"$nulls":6},"N",{"$nulls":124},"This is N17"]
[{"$nulls":36},"CO",null,"PM",null,null,"HC or HC+NOX",null,"Nox",null,"Engine Data Complete?",{"$nulls":11},"HC","HC","HC","HC","Nox","Nox","Nox","Nox",{"$nulls":107},"1% of production or pre-approved reduced sample size - whichever is Lower # "]
[null,"Calc Final Result?","Test Number","Test Date","Test Time","Test Qtr","Engine ID","Engine Make","Engine Configuration","Build Date","Green Engine Factor Applied?","Green Engine Factor Determination Method","Service Hours (or miles) Accumulation","Service Hours Location","Service Acc. Procedure","CO Initial Result ","Rounded CO Initial Result ","CO Final Result ","Det. CO Final Result ","PM Initial Result ","Rounded PM Initial Result ","PM Final Result ","Det. PM Final Result ","HC Initial Result ","Rounded HC Initial Result ","HC Final Result ","Det. HC Final Result ","NOx Initial Result ","Rounded NOx Initial Result ","NOx Final Result ","Det. NOx Final Result ","Reason for Failed Test (if applicable)","Remedy","Repairs","Test Cycle","Comments",0,0,0,0,0,0,0,0,{"$nulls":5},"Unrounded initial CO","Unrounded final CO","Det CO","Final CO","Unrounded initial PM","Unrounded final PM","Det PM","Final PM","Unrounded initial HCNOx","Unrounded final HCNOx","Det HCNOx","Final HCNOX","Unrounded initial NOx","Unrounded final NOx","Det NOx","Final HCNOX",{"$nulls":7},"rounded",{"$nulls":4},"rounded",{"$nulls":4},"rounded",{"$nulls":4},"rounded",{"$nulls":10},"rounded",{"$nulls":4},"rounded",{"$nulls":4},"rounded",{"$nulls":4},"rounded",{"$nulls":10},"rounded",{"$nulls":4},"rounded",{"$nulls":4},"rounded",{"$nulls":4},"rounded","ROUNDED AND ACCOUNT FOR BLANK",{"$nulls":9},"rounded",{"$nulls":4},"rounded",{"$nulls":4},"rounded",{"$nulls":4},"rounded","ROUNDED AND ACCOUNT FOR BLANK","Test complete Flag","Total complete","Fail Flag","req","val","baseline req","req due to fails","sum fails","baseline req"]
[1,{"$nulls":4},"N/A",{"$nulls":10},{"$f":"$BU36","v":""},{"$f":"$BZ36","v":""},{"$f":"$CE36","v":""},null,{"$f":"$CU36","v":""},{"$f":"$CZ36","v":""},{"$f":"$DE36","v":""},null,{"$f":"$DU36","v":""},{"$f":"$DZ36","v":""},{"$f":"$EE36","v":""},null,{"$f":"$EU36","v":""},{"$f":"$EZ36","v":""},{"$f":"$FE36","v":""},{"$nulls":5},{"$f":"IF($B36=\"N\",IF(AND($AK35<>\"\",$Q36<>\"\"),$AK35+$Q36,\"\"),IF($B36=\"Y\",0,\"\"))","v":""},{"$f":"IF($B36=\"N\",AL35+1,IF($B36=\"Y\",0,\"\"))","v":""},{"$f":"IF($B36=\"N\",IF(AND($AM35<>\"\",$U36<>\"\"),$AM35+$U36,\"\"),IF($B36=\"Y\",0,\"\"))","v":""},{"$f":"IF($B36=\"N\",AN35+1,IF($B36=\"Y\",0,\"\"))","v":""},{"$f":"IF($B36=\"N\",IF(AND($AO35<>\"\",$Y36<>\"\"),$AO35+$Y36,\"\"),IF($B36=\"Y\",0,\"\"))","v":""},{"$f":"IF($B36=\"N\",AP35+1,IF($B36=\"Y\",0,\"\"))","v":""},{"$f":"IF($B36=\"N\",IF(AND($AQ35<>\"\",$AC36<>\"\"),$AQ35+$AC36,\"\"),IF($B36=\"Y\",0,\"\"))","v":""},{"$f":"IF($B36=\"N\",AR35+1,IF($B36=\"Y\",0,\"\"))","v":""},null,{"$f":"IF(AND(B36<>\"\",C36<>\"\",D36<>\"\",E36<>\"\",G36<>\"\",H36<>\"\",I36<>\"\",J36<>\"\",K36<>\"\",M36<>\"\",N36<>\"\",O36<>\"\"),1,0)","v":0},{"$nulls":3},{"$f":"IF(AND($P36<>\"\",$AT36=1),$P36,\"\")","v":""},{"$f":"IF($B36=\"Y\",IF(AND($Q36<>\"\",$AK35<>\"\",$AL35<>\"\"),($Q36+$AK35)/($AL35+1),\"\"),\"\")","v":""},{"$f":"IF(AND($B36=\"Y\",$R36<>\"\",$R$18<>\"\"),IF($R$19=\"additive\",$R36+$R$18,IF($R$19=\"multiplicative\",$R36*$R$18,\"\")),\"\")","v":""},{"$f":"IF(COUNT($S$36:$S$85)>0,AVERAGE($S$36:$S$85),\"\")","v":""},{"$f":"IF(AND($T36<>\"\",$AT36=1),$T36,\"\")","v":""},{"$f":"IF($B36=\"Y\",IF(AND($U36<>\"\",$AM35<>\"\",$AN35<>\"\"),($U36+$AM35)/($AN35+1),\"\"),\"\")","v":""},{"$f":"IF(AND($B36=\"Y\",$V36<>\"\",$V$18<>\"\"),IF($V$19=\"additive\",$V36+$V$18,IF($V$19=\"multiplicative\",$V36*$V$18,\"\")),\"\")","v":""},{"$f":"IF(COUNT($W$36:$W$85)>0,AVERAGE($W$36:$W$85),\"\")","v":""},{"$f":"IF(AND($X36<>\"\",$AT36=1),$X36,\"\")","v":""},{"$f":"IF($B36=\"Y\",IF(AND($Y36<>\"\",$AO35<>\"\",$AP35<>\"\"),($Y36+$AO35)/($AP35+1),\"\"),\"\")","v":""},{"$f":"IF(AND($B36=\"Y\",$Z36<>\"\",$Z$18<>\"\"),IF($Z$19=\"additive\",$Z36+$Z$18,IF($Z$19=\"multiplicative\",$Z36*$Z$18,\"\")),\"\")","v":""},{"$f":"IF(COUNT($AA$36:$AA$85)>0,AVERAGE($AA$36:$AA$85),\"\")","v":""},{"$f":"IF(AND($AB36<>\"\",$AT36=1),$AB36,\"\")","v":""},{"$f":"IF($B36=\"Y\",IF(AND($AC36<>\"\",$AQ35<>\"\",$AR35<>\"\"),($AC36+$AQ35)/($AR35+1),\"\"),\"\")","v":""},{"$f":"IF(AND($B36=\"Y\",$AD36<>\"\",$AD$18<>\"\"),IF($AD$19=\"additive\",$AD36+$AD$18,IF($AD$19=\"multiplicative\",$AD36*$AD$18,\"\")),\"\")","v":""},{"$f":"IF(COUNT($AE$36:$AE$85)>0,AVERAGE($AE$36:$AE$85),\"\")","v":""},{"$nulls":7},{"$f":"IF($AX36<>\"\",ROUND($AX36,2),\"\")","v":""},{"$nulls":4},{"$f":"IF($AY36<>\"\",ROUND($AY36,2),\"\")","v":""},{"$nulls":4},{"$f":"IF($AZ36<>\"\",ROUND($AZ36,2),\"\")","v":""},{"$nulls":4},{"$f":"IF($BA36<>\"\",ROUND($BA36,2),\"\")","v":""},{"$nulls":10},{"$f":"IF($BB36<>\"\",ROUND($BB36,3),\"\")","v":""},{"$nulls":4},{"$f":"IF($BC36<>\"\",ROUND($BC36,3),\"\")","v":""},{"$nulls":4},{"$f":"IF($BD36<>\"\",ROUND($BD36,3),\"\")","v":""},{"$nulls":4},{"$f":"IF($BE36<>\"\",ROUND($BE36,3),\"\")","v":""},{"$nulls":10},{"$f":"IF($BF36<>\"\",ROUND($BF36,3),\"\")","v":""},{"$nulls":4},{"$f":"IF($BG36<>\"\",ROUND($BG36,3),\"\")","v":""},{"$nulls":4},{"$f":"IF($BH36<>\"\",ROUND($BH36,3),\"\")","v":""},{"$nulls":4},{"$f":"IF($BI36<>\"\",ROUND($BI36,3),\"\")","v":""},{"$f":"IF(EJ36=\"\",0,EJ36)","v":0},{"$nulls":9},{"$f":"IF($BJ36<>\"\",ROUND($BJ36,2),\"\")","v":""},{"$nulls":4},{"$f":"IF($BK36<>\"\",ROUND($BK36,2),\"\")","v":""},{"$nulls":4},{"$f":"IF($BL36<>\"\",ROUND($BL36,2),\"\")","v":""},{"$nulls":4},{"$f":"IF($BM36<>\"\",ROUND($BM36,2),\"\")","v":""},{"$f":"IF(FJ36=\"\",0,FJ36)","v":0},{"$f":"IF($AG$12<>\"CAT3\",IF(AND($B36=\"Y\",$S36<>\"\",$W36<>\"\",$AA36<>\"\",$AE36<>\"\"),1,0),IF($AE36<>\"\",1,0))","v":0},{"$f":"SUM($FL$36:$FL36)","v":0},{"$f":"IF($AG$12<>\"CAT3\",IF($FL36=1,IF(OR($S36>$R$16,$W36>$V$16,$AA36>$Z$16,IF($AF$12<>\"Y\",OR($AA36>$Z$16,$AE36>$AD$16),ROUND(($AA36+$AE36),2)>$Z$16)),1,0),0),IF($FL36=1,IF(AND($AE36>$AD$16,$AF$12=\"N\"),1,0),0))","v":0},{"$f":"IF(OR($M$11=\"\",$N$18=\"Y\"),0,IF($AG$12=\"CAT3\",$N$12,($FR$36+1)))","v":0},{"$f":"SUM(FL36:FL85)","v":0},{"$f":"IF(AND($G$17=\"Y\",$N$24<>\"\"),MIN($N$24,$FT$36),$FT$36)","v":0},{"$f":"$FS$36*2","v":0},{"$f":"SUM(FN36:FN85)","v":0},{"$f":"IF($N$12<>\"\",$N$12*0.01,0)","v":0}]
[{"$f":"A36+1","v":2},{"$nulls":4},"N/A",{"$nulls":10},"","","",null,"","","",null,"","","",null,"","","",{"$nulls":5},"",{"$f":"IF($B37=\"N\",AL36+1,IF($B37=\"Y\",0,\"\"))","v":""},"",{"$f":"IF($B37=\"N\",AN36+1,IF($B37=\"Y\",0,\"\"))","v":""},{"$f":"IF($B37=\"N\",IF(AND($AO36<>\"\",$Y37<>\"\"),$AO36+$Y37,\"\"),IF($B37=\"Y\",0,\"\"))","v":""},{"$f":"IF($B37=\"N\",AP36+1,IF($B37=\"Y\",0,\"\"))","v":""},{"$f":"IF($B37=\"N\",IF(AND($AQ36<>\"\",$AC37<>\"\"),$AQ36+$AC37,\"\"),IF($B37=\"Y\",0,\"\"))","v":""},{"$f":"IF($B37=\"N\",AR36+1,IF($B37=\"Y\",0,\"\"))","v":""},null,{"$f":"IF(AND(B37<>\"\",C37<>\"\",D37<>\"\",E37<>\"\",G37<>\"\",H37<>\"\",I37<>\"\",J37<>\"\",K37<>\"\",M37<>\"\",N37<>\"\",O37<>\"\"),1,0)","v":0},{"$nulls":3},"","",{"$f":"IF(AND($B37=\"Y\",$R37<>\"\",$R$18<>\"\"),IF($R$19=\"additive\",$R37+$R$18,IF($R$19=\"multiplicative\",$R37*$R$18,\"\")),\"\")","v":""},null,"","",{"$f":"IF(AND($B37=\"Y\",$V37<>\"\",$V$18<>\"\"),IF($V$19=\"additive\",$V37+$V$18,IF($V$19=\"multiplicative\",$V37*$V$18,\"\")),\"\")","v":""},null,{"$f":"IF(AND($X37<>\"\",$AT37=1),$X37,\"\")","v":""},{"$f":"IF($B37=\"Y\",IF(AND($Y37<>\"\",$AO36<>\"\",$AP36<>\"\"),($Y37+$AO36)/($AP36+1),\"\"),\"\")","v":""},{"$f":"IF(AND($B37=\"Y\",$Z37<>\"\",$Z$18<>\"\"),IF($Z$19=\"additive\",$Z37+$Z$18,IF($Z$19=\"multiplicative\",$Z37*$Z$18,\"\")),\"\")","v":""},null,{"$f":"IF(AND($AB37<>\"\",$AT37=1),$AB37,\"\")","v":""},{"$f":"IF($B37=\"Y\",IF(AND($AC37<>\"\",$AQ36<>\"\",$AR36<>\"\"),($AC37+$AQ36)/($AR36+1),\"\"),\"\")","v":""},{"$f":"IF(AND($B37=\"Y\",$AD37<>\"\",$AD$18<>\"\"),IF($AD$19=\"additive\",$AD37+$AD$18,IF($AD$19=\"multiplicative\",$AD37*$AD$18,\"\")),\"\")","v":""},{"$nulls":8},{"$f":"IF($AX37<>\"\",ROUND($AX37,2),\"\")","v":""},{"$nulls":4},{"$f":"IF($AY37<>\"\",ROUND($AY37,2),\"\")","v":""},{"$nulls":4},{"$f":"IF($AZ37<>\"\",ROUND($AZ37,2),\"\")","v":""},{"$nulls":15},{"$f":"IF($BB37<>\"\",ROUND($BB37,3),\"\")","v":""},{"$nulls":4},{"$f":"IF($BC37<>\"\",ROUND($BC37,3),\"\")","v":""},{"$nulls":4},{"$f":"IF($BD37<>\"\",ROUND($BD37,3),\"\")","v":""},{"$nulls":15},{"$f":"IF($BF37<>\"\",ROUND($BF37,3),\"\")","v":""},{"$nulls":4},{"$f":"IF($BG37<>\"\",ROUND($BG37,3),\"\")","v":""},{"$nulls":4},{"$f":"IF($BH37<>\"\",ROUND($BH37,3),\"\")","v":""},{"$nulls":15},{"$f":"IF($BJ37<>\"\",ROUND($BJ37,2),\"\")","v":""},{"$nulls":4},{"$f":"IF($BK37<>\"\",ROUND($BK37,2),\"\")","v":""},{"$nulls":4},{"$f":"IF($BL37<>\"\",ROUND($BL37,2),\"\")","v":""},{"$nulls":6},{"$f":"IF($AG$12<>\"CAT3\",IF(AND($B37=\"Y\",$S37<>\"\",$W37<>\"\",$AA37<>\"\",$AE37<>\"\"),1,0),IF($AE37<>\"\",1,0))","v":0},{"$f":"SUM($FL$36:$FL37)","v":0},{"$f":"IF($AG$12<>\"CAT3\",IF($FL37=1,IF(OR($S37>$R$16,$W37>$V$16,$AA37>$Z$16,IF($AF$12<>\"Y\",OR($AA37>$Z$16,$AE37>$AD$16),ROUND(($AA37+$AE37),2)>$Z$16)),1,0),0),IF($FL37=1,IF(AND($AE37>$AD$16,$AF$12=\"N\"),1,0),0))","v":0},null,null,{"$f":"MAX($FQ$36,$FL$10)","v":1}]
[{"$f":"A37+1","v":3},{"$nulls":4},"N/A",{"$nulls":10},"","","",null,"","","",null,"","","",null,"","","",{"$nulls":5},"","","","","","","","",null,0,{"$nulls":3},"","","",null,"","","",null,"","","",null,"","","",{"$nulls":8},"",{"$nulls":4},"",{"$nulls":4},"",{"$nulls":15},"",{"$nulls":4},"",{"$nulls":4},"",{"$nulls":15},"",{"$nulls":4},"",{"$nulls":4},"",{"$nulls":15},"",{"$nulls":4},"",{"$nulls":4},"",{"$nulls":6},0,{"$f":"SUM($FL$36:$FL38)","v":0},0]
[4,{"$nulls":4},"N/A",{"$nulls":10},"","","",null,"","","",null,"","","",null,"","","",{"$nulls":5},"","","","","","","","",null,0,{"$nulls":3},"","","",null,"","","",null,"","","",null,"","","",{"$nulls":8},"",{"$nulls":4},"",{"$nulls":4},"",{"$nulls":15},"",{"$nulls":4},"",{"$nulls":4},"",{"$nulls":15},"",{"$nulls":4},"",{"$nulls":4},"",{"$nulls":15},"",{"$nulls":4},"",{"$nulls":4},"",{"$nulls":6},0,{"$f":"SUM($FL$36:$FL39)","v":0},0,null,null,"then, the larger of that sample size or 1  (or if Part 94 and cat1,  can be 0)"]
[5,{"$nulls":4},"N/A",{"$nulls":10},"","","",null,"","","",null,"","","",null,"","","",{"$nulls":5},"","","","","","","","",null,0,{"$nulls":3},"","","",null,"","","",null,"","","",null,"","","",{"$nulls":8},"",{"$nulls":4},"",{"$nulls":4},"",{"$nulls":15},"",{"$nulls":4},"",{"$nulls":4},"",{"$nulls":15},"",{"$nulls":4},"",{"$nulls":4},"",{"$nulls":15},"",{"$nulls":4},"",{"$nulls":4},"",{"$nulls":6},0,{"$f":"SUM($FL$36:$FL40)","v":0},0]
[6,{"$nulls":4},"N/A",{"$nulls":10},"","","",null,"","","",null,"","","",null,"","","",{"$nulls":5},"","","","","","","","",null,0,{"$nulls":3},"","","",null,"","","",null,"","","",null,"","","",{"$nulls":8},"",{"$nulls":4},"",{"$nulls":4},"",{"$nulls":15},"",{"$nulls":4},"",{"$nulls":4},"",{"$nulls":15},"",{"$nulls":4},"",{"$nulls":4},"",{"$nulls":15},"",{"$nulls":4},"",{"$nulls":4},"",{"$nulls":6},0,{"$f":"SUM($FL$36:$FL41)","v":0},0]
[7,{"$nulls":4},"N/A",{"$nulls":10},"","","",null,"","","",null,"","","",null,"","","",{"$nulls":5},"","","","","","","","",null,0,{"$nulls":3},"","","",null,"","","",null,"","","",null,"","","",{"$nulls":8},"",{"$nulls":4},"",{"$nulls":4},"",{"$nulls":15},"",{"$nulls":4},"",{"$nulls":4},"",{"$nulls":15},"",{"$nulls":4},"",{"$nulls":4},"",{"$nulls":15},"",{"$nulls":4},"",{"$nulls":4},"",{"$nulls":6},0,{"$f":"SUM($FL$36:$FL42)","v":0},0]
[8,{"$nulls":4},"N/A",{"$nulls":10},"","","",null,"","","",null,"","","",null,"","","",{"$nulls":5},"","","","","","","","",null,0,{"$nulls":3},"","","",null,"","","",null,"","","",null,"","","",{"$nulls":8},"",{"$nulls":4},"",{"$nulls":4},"",{"$nulls":15},"",{"$nulls":4},"",{"$nulls":4},"",{"$nulls":15},"",{"$nulls":4},"",{"$nulls":4},"",{"$nulls":15},"",{"$nulls":4},"",{"$nulls":4},"",{"$nulls":6},0,{"$f":"SUM($FL$36:$FL43)","v":0},0]
[9,{"$nulls":4},"N/A",{"$nulls":10},"","","",null,"","","",null,"","","",null,"","","",{"$nulls":5},"","","","","","","","",null,0,{"$nulls":3},"","","",null,"","","",null,"","","",null,"","","",{"$nulls":8},"",{"$nulls":4},"",{"$nulls":4},"",{"$nulls":15},"",{"$nulls":4},"",{"$nulls":4},"",{"$nulls":15},"",{"$nulls":4},"",{"$nulls":4},"",{"$nulls":15},"",{"$nulls":4},"",{"$nulls":4},"",{"$nulls":6},0,{"$f":"SUM($FL$36:$FL44)","v":0},0]
[10,{"$nulls":4},"N/A",{"$nulls":10},"","","",null,"","","",null,"","","",null,"","","",{"$nulls":5},"","","","","","","","",null,0,{"$nulls":3},"","","",null,"","","",null,"","","",null,"","","",{"$nulls":8},"",{"$nulls":4},"",{"$nulls":4},"",{"$nulls":15},"",{"$nulls":4},"",{"$nulls":4},"",{"$nulls":15},"",{"$nulls":4},"",{"$nulls":4},"",{"$nulls":15},"",{"$nulls":4},"",{"$nulls":4},"",{"$nulls":6},0,{"$f":"SUM($FL$36:$FL45)","v":0},0]
[11,{"$nulls":4},"N/A",{"$nulls":10},"","","",null,"","","",null,"","","",null,"","","",{"$nulls":5},"","","","","","","","",null,0,{"$nulls":3},"","","",null,"","","",null,"","","",null,"","","",{"$nulls":8},"",{"$nulls":4},"",{"$nulls":4},"",{"$nulls":15},"",{"$nulls":4},"",{"$nulls":4},"",{"$nulls":15},"",{"$nulls":4},"",{"$nulls":4},"",{"$nulls":15},"",{"$nulls":4},"",{"$nulls":4},"",{"$nulls":6},0,{"$f":"SUM($FL$36:$FL46)","v":0},0]
[12,{"$nulls":4},"N/A",{"$nulls":10},"","","",null,"","","",null,"","","",null,"","","",{"$nulls":5},"","","","","","","","",null,0,{"$nulls":3},"","","",null,"","","",null,"","","",null,"","","",{"$nulls":8},"",{"$nulls":4},"",{"$nulls":4},"",{"$nulls":15},"",{"$nulls":4},"",{"$nulls":4},"",{"$nulls":15},"",{"$nulls":4},"",{"$nulls":4},"",{"$nulls":15},"",{"$nulls":4},"",{"$nulls":4},"",{"$nulls":6},0,{"$f":"SUM($FL$36:$FL47)","v":0},0]
[13,{"$nulls":4},"N/A",{"$nulls":10},"","","",null,"","","",null,"","","",null,"","","",{"$nulls":5},"","","","","","","","",null,0,{"$nulls":3},"","","",null,"","","",null,"","","",null,"","","",{"$nulls":8},"",{"$nulls":4},"",{"$nulls":4},"",{"$nulls":15},"",{"$nulls":4},"",{"$nulls":4},"",{"$nulls":15},"",{"$nulls":4},"",{"$nulls":4},"",{"$nulls":15},"",{"$nulls":4},"",{"$nulls":4},"",{"$nulls":6},0,{"$f":"SUM($FL$36:$FL48)","v":0},0]
[14,{"$nulls":4},"N/A",{"$nulls":10},"","","",null,"","","",null,"","","",null,"","","",{"$nulls":5},"","","","","","","","",null,0,{"$nulls":3},"","","",null,"","","",null,"","","",null,"","","",{"$nulls":8},"",{"$nulls":4},"",{"$nulls":4},"",{"$nulls":15},"",{"$nulls":4},"",{"$nulls":4},"",{"$nulls":15},"",{"$nulls":4},"",{"$nulls":4},"",{"$nulls":15},"",{"$nulls":4},"",{"$nulls":4},"",{"$nulls":6},0,{"$f":"SUM($FL$36:$FL49)","v":0},0]
[15,{"$nulls":4},"N/A",{"$nulls":10},"","","",null,"","","",null,"","","",null,"","","",{"$nulls":5},"","","","","","","","",null,0,{"$nulls":3},"","","",null,"","","",null,"","","",null,"","","",{"$nulls":8},"",{"$nulls":4},"",{"$nulls":4},"",{"$nulls":15},"",{"$nulls":4},"",{"$nulls":4},"",{"$nulls":15},"",{"$nulls":4},"",{"$nulls":4},"",{"$nulls":15},"",{"$nulls":4},"",{"$nulls":4},"",{"$nulls":6},0,{"$f":"SUM($FL$36:$FL50)","v":0},0]
[16,{"$nulls":4},"N/A",{"$nulls":10},"","","",null,"","","",null,"","","",null,"","","",{"$nulls":5},"","","","","","","","",null,0,{"$nulls":3},"","","",null,"","","",null,"","","",null,"","","",{"$nulls":8},"",{"$nulls":4},"",{"$nulls":4},"",{"$nulls":15},"",{"$nulls":4},"",{"$nulls":4},"",{"$nulls":15},"",{"$nulls":4},"",{"$nulls":4},"",{"$nulls":15},"",{"$nulls":4},"",{"$nulls":4},"",{"$nulls":6},0,{"$f":"SUM($FL$36:$FL51)","v":0},0]
[17,{"$nulls":4},"N/A",{"$nulls":10},"","","",null,"","","",null,"","","",null,"","","",{"$nulls":5},"","","","","","","","",null,0,{"$nulls":3},"","","",null,"","","",null,"","","",null,"","","",{"$nulls":8},"",{"$nulls":4},"",{"$nulls":4},"",{"$nulls":15},"",{"$nulls":4},"",{"$nulls":4},"",{"$nulls":15},"",{"$nulls":4},"",{"$nulls":4},"",{"$nulls":15},"",{"$nulls":4},"",{"$nulls":4},"",{"$nulls":6},0,{"$f":"SUM($FL$36:$FL52)","v":0},0]
[18,{"$nulls":4},"N/A",{"$nulls":10},"","","",null,"","","",null,"","","",null,"","","",{"$nulls":5},"","","","","","","","",null,0,{"$nulls":3},"","","",null,"","","",null,"","","",null,"","","",{"$nulls":8},"",{"$nulls":4},"",{"$nulls":4},"",{"$nulls":15},"",{"$nulls":4},"",{"$nulls":4},"",{"$nulls":15},"",{"$nulls":4},"",{"$nulls":4},"",{"$nulls":15},"",{"$nulls":4},"",{"$nulls":4},"",{"$nulls":6},0,{"$f":"SUM($FL$36:$FL53)","v":0},0]
[19,{"$nulls":4},"N/A",{"$nulls":10},"","","",null,"","","",null,"","","",null,"","","",{"$nulls":5},"","","","","","","","",null,0,{"$nulls":3},"","","",null,"","","",null,"","","",null,"","","",{"$nulls":8},"",{"$nulls":4},"",{"$nulls":4},"",{"$nulls":15},"",{"$nulls":4},"",{"$nulls":4},"",{"$nulls":15},"",{"$nulls":4},"",{"$nulls":4},"",{"$nulls":15},"",{"$nulls":4},"",{"$nulls":4},"",{"$nulls":6},0,{"$f":"SUM($FL$36:$FL54)","v":0},0]
[20,{"$nulls":4},"N/A",{"$nulls":10},"","","",null,"","","",null,"","","",null,"","","",{"$nulls":5},"","","","","","","","",null,0,{"$nulls":3},"","","",null,"","","",null,"","","",null,"","","",{"$nulls":8},"",{"$nulls":4},"",{"$nulls":4},"",{"$nulls":15},"",{"$nulls":4},"",{"$nulls":4},"",{"$nulls":15},"",{"$nulls":4},"",{"$nulls":4},"",{"$nulls":15},"",{"$nulls":4},"",{"$nulls":4},"",{"$nulls":6},0,{"$f":"SUM($FL$36:$FL55)","v":0},0]
[21,{"$nulls":4},"N/A",{"$nulls":10},"","","",null,"","","",null,"","","",null,"","","",{"$nulls":5},"","","","","","","","",null,0,{"$nulls":3},"","","",null,"","","",null,"","","",null,"","","",{"$nulls":8},"",{"$nulls":4},"",{"$nulls":4},"",{"$nulls":15},"",{"$nulls":4},"",{"$nulls":4},"",{"$nulls":15},"",{"$nulls":4},"",{"$nulls":4},"",{"$nulls":15},"",{"$nulls":4},"",{"$nulls":4},"",{"$nulls":6},0,{"$f":"SUM($FL$36:$FL56)","v":0},0]
[22,{"$nulls":4},"N/A",{"$nulls":10},"","","",null,"","","",null,"","","",null,"","","",{"$nulls":5},"","","","","","","","",null,0,{"$nulls":3},"","","",null,"","","",null,"","","",null,"","","",{"$nulls":8},"",{"$nulls":4},"",{"$nulls":4},"",{"$nulls":15},"",{"$nulls":4},"",{"$nulls":4},"",{"$nulls":15},"",{"$nulls":4},"",{"$nulls":4},"",{"$nulls":15},"",{"$nulls":4},"",{"$nulls":4},"",{"$nulls":6},0,{"$f":"SUM($FL$36:$FL57)","v":0},0]
[23,{"$nulls":4},"N/A",{"$nulls":10},"","","",null,"","","",null,"","","",null,"","","",{"$nulls":5},"","","","","","","","",null,0,{"$nulls":3},"","","",null,"","","",null,"","","",null,"","","",{"$nulls":8},"",{"$nulls":4},"",{"$nulls":4},"",{"$nulls":15},"",{"$nulls":4},"",{"$nulls":4},"",{"$nulls":15},"",{"$nulls":4},"",{"$nulls":4},"",{"$nulls":15},"",{"$nulls":4},"",{"$nulls":4},"",{"$nulls":6},0,{"$f":"SUM($FL$36:$FL58)","v":0},0]
[24,{"$nulls":4},"N/A",{"$nulls":10},"","","",null,"","","",null,"","","",null,"","","",{"$nulls":5},"","","","","","","","",null,0,{"$nulls":3},"","","",null,"","","",null,"","","",null,"","","",{"$nulls":8},"",{"$nulls":4},"",{"$nulls":4},"",{"$nulls":15},"",{"$nulls":4},"",{"$nulls":4},"",{"$nulls":15},"",{"$nulls":4},"",{"$nulls":4},"",{"$nulls":15},"",{"$nulls":4},"",{"$nulls":4},"",{"$nulls":6},0,{"$f":"SUM($FL$36:$FL59)","v":0},0]
[25,{"$nulls":4},"N/A",{"$nulls":10},"","","",null,"","","",null,"","","",null,"","","",{"$nulls":5},"","","","","","","","",null,0,{"$nulls":3},"","","",null,"","","",null,"","","",null,"","","",{"$nulls":8},"",{"$nulls":4},"",{"$nulls":4},"",{"$nulls":15},"",{"$nulls":4},"",{"$nulls":4},"",{"$nulls":15},"",{"$nulls":4},"",{"$nulls":4},"",{"$nulls":15},"",{"$nulls":4},"",{"$nulls":4},"",{"$nulls":6},0,{"$f":"SUM($FL$36:$FL60)","v":0},0]
[26,{"$nulls":4},"N/A",{"$nulls":10},"","","",null,"","","",null,"","","",null,"","","",{"$nulls":5},"","","","","","","","",null,0,{"$nulls":3},"","","",null,"","","",null,"","","",null,"","","",{"$nulls":8},"",{"$nulls":4},"",{"$nulls":4},"",{"$nulls":15},"",{"$nulls":4},"",{"$nulls":4},"",{"$nulls":15},"",{"$nulls":4},"",{"$nulls":4},"",{"$nulls":15},"",{"$nulls":4},"",{"$nulls":4},"",{"$nulls":6},0,{"$f":"SUM($FL$36:$FL61)","v":0},0]
[27,{"$nulls":4},"N/A",{"$nulls":10},"","","",null,"","","",null,"","","",null,"","","",{"$nulls":5},"","","","","","","","",null,0,{"$nulls":3},"","","",null,"","","",null,"","","",null,"","","",{"$nulls":8},"",{"$nulls":4},"",{"$nulls":4},"",{"$nulls":15},"",{"$nulls":4},"",{"$nulls":4},"",{"$nulls":15},"",{"$nulls":4},"",{"$nulls":4},"",{"$nulls":15},"",{"$nulls":4},"",{"$nulls":4},"",{"$nulls":6},0,{"$f":"SUM($FL$36:$FL62)","v":0},0]
[28,{"$nulls":4},"N/A",{"$nulls":10},"","","",null,"","","",null,"","","",null,"","","",{"$nulls":5},"","","","","","","","",null,0,{"$nulls":3},"","","",null,"","","",null,"","","",null,"","","",{"$nulls":8},"",{"$nulls":4},"",{"$nulls":4},"",{"$nulls":15},"",{"$nulls":4},"",{"$nulls":4},"",{"$nulls":15},"",{"$nulls":4},"",{"$nulls":4},"",{"$nulls":15},"",{"$nulls":4},"",{"$nulls":4},"",{"$nulls":6},0,{"$f":"SUM($FL$36:$FL63)","v":0},0]
[29,{"$nulls":4},"N/A",{"$nulls":10},"","","",null,"","","",null,"","","",null,"","","",{"$nulls":5},"","","","","","","","",null,0,{"$nulls":3},"","","",null,"","","",null,"","","",null,"","","",{"$nulls":8},"",{"$nulls":4},"",{"$nulls":4},"",{"$nulls":15},"",{"$nulls":4},"",{"$nulls":4},"",{"$nulls":15},"",{"$nulls":4},"",{"$nulls":4},"",{"$nulls":15},"",{"$nulls":4},"",{"$nulls":4},"",{"$nulls":6},0,{"$f":"SUM($FL$36:$FL64)","v":0},0]
[30,{"$nulls":4},"N/A",{"$nulls":10},"","","",null,"","","",null,"","","",null,"","","",{"$nulls":5},"","","","","","","","",null,0,{"$nulls":3},"","","",null,"","","",null,"","","",null,"","","",{"$nulls":8},"",{"$nulls":4},"",{"$nulls":4},"",{"$nulls":15},"",{"$nulls":4},"",{"$nulls":4},"",{"$nulls":15},"",{"$nulls":4},"",{"$nulls":4},"",{"$nulls":15},"",{"$nulls":4},"",{"$nulls":4},"",{"$nulls":6},0,{"$f":"SUM($FL$36:$FL65)","v":0},0]
[31,{"$nulls":4},"N/A",{"$nulls":10},"","","",null,"","","",null,"","","",null,"","","",{"$nulls":5},"","","","","","","","",null,0,{"$nulls":3},"","","",null,"","","",null,"","","",null,"","","",{"$nulls":8},"",{"$nulls":4},"",{"$nulls":4},"",{"$nulls":15},"",{"$nulls":4},"",{"$nulls":4},"",{"$nulls":15},"",{"$nulls":4},"",{"$nulls":4},"",{"$nulls":15},"",{"$nulls":4},"",{"$nulls":4},"",{"$nulls":6},0,{"$f":"SUM($FL$36:$FL66)","v":0},0]
[32,{"$nulls":4},"N/A",{"$nulls":10},"","","",null,"","","",null,"","","",null,"","","",{"$nulls":5},"","","","","","","","",null,0,{"$nulls":3},"","","",null,"","","",null,"","","",null,"","","",{"$nulls":8},"",{"$nulls":4},"",{"$nulls":4},"",{"$nulls":15},"",{"$nulls":4},"",{"$nulls":4},"",{"$nulls":15},"",{"$nulls":4},"",{"$nulls":4},"",{"$nulls":15},"",{"$nulls":4},"",{"$nulls":4},"",{"$nulls":6},0,{"$f":"SUM($FL$36:$FL67)","v":0},0]
[33,{"$nulls":4},"N/A",{"$nulls":10},"","","",null,"","","",null,"","","",null,"","","",{"$nulls":5},"","","","","","","","",null,0,{"$nulls":3},"","","",null,"","","",null,"","","",null,"","","",{"$nulls":8},"",{"$nulls":4},"",{"$nulls":4},"",{"$nulls":15},"",{"$nulls":4},"",{"$nulls":4},"",{"$nulls":15},"",{"$nulls":4},"",{"$nulls":4},"",{"$nulls":15},"",{"$nulls":4},"",{"$nulls":4},"",{"$nulls":6},0,{"$f":"SUM($FL$36:$FL68)","v":0},0]
[34,{"$nulls":4},"N/A",{"$nulls":10},"","","",null,"","","",null,"","","",null,"","","",{"$nulls":5},"","","","","","","","",null,0,{"$nulls":3},"","","",null,"","","",null,"","","",null,"","","",{"$nulls":8},"",{"$nulls":4},"",{"$nulls":4},"",{"$nulls":15},"",{"$nulls":4},"",{"$nulls":4},"",{"$nulls":15},"",{"$nulls":4},"",{"$nulls":4},"",{"$nulls":15},"",{"$nulls":4},"",{"$nulls":4},"",{"$nulls":6},0,{"$f":"SUM($FL$36:$FL69)","v":0},0]
[35,{"$nulls":4},"N/A",{"$nulls":10},"","","",null,"","","",null,"","","",null,"","","",{"$nulls":5},"","","","","","","","",null,0,{"$nulls":3},"","","",null,"","","",null,"","","",null,"","","",{"$nulls":8},"",{"$nulls":4},"",{"$nulls":4},"",{"$nulls":15},"",{"$nulls":4},"",{"$nulls":4},"",{"$nulls":15},"",{"$nulls":4},"",{"$nulls":4},"",{"$nulls":15},"",{"$nulls":4},"",{"$nulls":4},"",{"$nulls":6},0,{"$f":"SUM($FL$36:$FL70)","v":0},0]
[36,{"$nulls":4},"N/A",{"$nulls":10},"","","",null,"","","",null,"","","",null,"","","",{"$nulls":5},"","","","","","","","",null,0,{"$nulls":3},"","","",null,"","","",null,"","","",null,"","","",{"$nulls":8},"",{"$nulls":4},"",{"$nulls":4},"",{"$nulls":15},"",{"$nulls":4},"",{"$nulls":4},"",{"$nulls":15},"",{"$nulls":4},"",{"$nulls":4},"",{"$nulls":15},"",{"$nulls":4},"",{"$nulls":4},"",{"$nulls":6},0,{"$f":"SUM($FL$36:$FL71)","v":0},0]
[37,{"$nulls":4},"N/A",{"$nulls":10},"","","",null,"","","",null,"","","",null,"","","",{"$nulls":5},"","","","","","","","",null,0,{"$nulls":3},"","","",null,"","","",null,"","","",null,"","","",{"$nulls":8},"",{"$nulls":4},"",{"$nulls":4},"",{"$nulls":15},"",{"$nulls":4},"",{"$nulls":4},"",{"$nulls":15},"",{"$nulls":4},"",{"$nulls":4},"",{"$nulls":15},"",{"$nulls":4},"",{"$nulls":4},"",{"$nulls":6},0,{"$f":"SUM($FL$36:$FL72)","v":0},0]
[38,{"$nulls":4},"N/A",{"$nulls":10},"","","",null,"","","",null,"","","",null,"","","",{"$nulls":5},"","","","","","","","",null,0,{"$nulls":3},"","","",null,"","","",null,"","","",null,"","","",{"$nulls":8},"",{"$nulls":4},"",{"$nulls":4},"",{"$nulls":15},"",{"$nulls":4},"",{"$nulls":4},"",{"$nulls":15},"",{"$nulls":4},"",{"$nulls":4},"",{"$nulls":15},"",{"$nulls":4},"",{"$nulls":4},"",{"$nulls":6},0,{"$f":"SUM($FL$36:$FL73)","v":0},0]
[39,{"$nulls":4},"N/A",{"$nulls":10},"","","",null,"","","",null,"","","",null,"","","",{"$nulls":5},"","","","","","","","",null,0,{"$nulls":3},"","","",null,"","","",null,"","","",null,"","","",{"$nulls":8},"",{"$nulls":4},"",{"$nulls":4},"",{"$nulls":15},"",{"$nulls":4},"",{"$nulls":4},"",{"$nulls":15},"",{"$nulls":4},"",{"$nulls":4},"",{"$nulls":15},"",{"$nulls":4},"",{"$nulls":4},"",{"$nulls":6},0,{"$f":"SUM($FL$36:$FL74)","v":0},0]
[40,{"$nulls":4},"N/A",{"$nulls":10},"","","",null,"","","",null,"","","",null,"","","",{"$nulls":5},"","","","","","","","",null,0,{"$nulls":3},"","","",null,"","","",null,"","","",null,"","","",{"$nulls":8},"",{"$nulls":4},"",{"$nulls":4},"",{"$nulls":15},"",{"$nulls":4},"",{"$nulls":4},"",{"$nulls":15},"",{"$nulls":4},"",{"$nulls":4},"",{"$nulls":15},"",{"$nulls":4},"",{"$nulls":4},"",{"$nulls":6},0,{"$f":"SUM($FL$36:$FL75)","v":0},0]
[41,{"$nulls":4},"N/A",{"$nulls":10},"","","",null,"","","",null,"","","",null,"","","",{"$nulls":5},"","","","","","","","",null,0,{"$nulls":3},"","","",null,"","","",null,"","","",null,"","","",{"$nulls":8},"",{"$nulls":4},"",{"$nulls":4},"",{"$nulls":15},"",{"$nulls":4},"",{"$nulls":4},"",{"$nulls":15},"",{"$nulls":4},"",{"$nulls":4},"",{"$nulls":15},"",{"$nulls":4},"",{"$nulls":4},"",{"$nulls":6},0,{"$f":"SUM($FL$36:$FL76)","v":0},0]
[42,{"$nulls":4},"N/A",{"$nulls":10},"","","",null,"","","",null,"","","",null,"","","",{"$nulls":5},"","","","","","","","",null,0,{"$nulls":3},"","","",null,"","","",null,"","","",null,"","","",{"$nulls":8},"",{"$nulls":4},"",{"$nulls":4},"",{"$nulls":15},"",{"$nulls":4},"",{"$nulls":4},"",{"$nulls":15},"",{"$nulls":4},"",{"$nulls":4},"",{"$nulls":15},"",{"$nulls":4},"",{"$nulls":4},"",{"$nulls":6},0,{"$f":"SUM($FL$36:$FL77)","v":0},0]
[43,{"$nulls":4},"N/A",{"$nulls":10},"","","",null,"","","",null,"","","",null,"","","",{"$nulls":5},"","","","","","","","",null,0,{"$nulls":3},"","","",null,"","","",null,"","","",null,"","","",{"$nulls":8},"",{"$nulls":4},"",{"$nulls":4},"",{"$nulls":15},"",{"$nulls":4},"",{"$nulls":4},"",{"$nulls":15},"",{"$nulls":4},"",{"$nulls":4},"",{"$nulls":15},"",{"$nulls":4},"",{"$nulls":4},"",{"$nulls":6},0,{"$f":"SUM($FL$36:$FL78)","v":0},0]
[44,{"$nulls":4},"N/A",{"$nulls":10},"","","",null,"","","",null,"","","",null,"","","",{"$nulls":5},"","","","","","","","",null,0,{"$nulls":3},"","","",null,"","","",null,"","","",null,"","","",{"$nulls":8},"",{"$nulls":4},"",{"$nulls":4},"",{"$nulls":15},"",{"$nulls":4},"",{"$nulls":4},"",{"$nulls":15},"",{"$nulls":4},"",{"$nulls":4},"",{"$nulls":15},"",{"$nulls":4},"",{"$nulls":4},"",{"$nulls":6},0,{"$f":"SUM($FL$36:$FL79)","v":0},0]
[45,{"$nulls":4},"N/A",{"$nulls":10},"","","",null,"","","",null,"","","",null,"","","",{"$nulls":5},"","","","","","","","",null,0,{"$nulls":3},"","","",null,"","","",null,"","","",null,"","","",{"$nulls":8},"",{"$nulls":4},"",{"$nulls":4},"",{"$nulls":15},"",{"$nulls":4},"",{"$nulls":4},"",{"$nulls":15},"",{"$nulls":4},"",{"$nulls":4},"",{"$nulls":15},"",{"$nulls":4},"",{"$nulls":4},"",{"$nulls":6},0,{"$f":"SUM($FL$36:$FL80)","v":0},0]
[46,{"$nulls":4},"N/A",{"$nulls":10},"","","",null,"","","",null,"","","",null,"","","",{"$nulls":5},"","","","","","","","",null,0,{"$nulls":3},"","","",null,"","","",null,"","","",null,"","","",{"$nulls":8},"",{"$nulls":4},"",{"$nulls":4},"",{"$nulls":15},"",{"$nulls":4},"",{"$nulls":4},"",{"$nulls":15},"",{"$nulls":4},"",{"$nulls":4},"",{"$nulls":15},"",{"$nulls":4},"",{"$nulls":4},"",{"$nulls":6},0,{"$f":"SUM($FL$36:$FL81)","v":0},0]
[47,{"$nulls":4},"N/A",{"$nulls":10},"","","",null,"","","",null,"","","",null,"","","",{"$nulls":5},"","","","","","","","",null,0,{"$nulls":3},"","","",null,"","","",null,"","","",null,"","","",{"$nulls":8},"",{"$nulls":4},"",{"$nulls":4},"",{"$nulls":15},"",{"$nulls":4},"",{"$nulls":4},"",{"$nulls":15},"",{"$nulls":4},"",{"$nulls":4},"",{"$nulls":15},"",{"$nulls":4},"",{"$nulls":4},"",{"$nulls":6},0,{"$f":"SUM($FL$36:$FL82)","v":0},0]
[48,{"$nulls":4},"N/A",{"$nulls":10},"","","",null,"","","",null,"","","",null,"","","",{"$nulls":5},"","","","","","","","",null,0,{"$nulls":3},"","","",null,"","","",null,"","","",null,"","","",{"$nulls":8},"",{"$nulls":4},"",{"$nulls":4},"",{"$nulls":15},"",{"$nulls":4},"",{"$nulls":4},"",{"$nulls":15},"",{"$nulls":4},"",{"$nulls":4},"",{"$nulls":15},"",{"$nulls":4},"",{"$nulls":4},"",{"$nulls":6},0,{"$f":"SUM($FL$36:$FL83)","v":0},0]
[49,{"$nulls":4},"N/A",{"$nulls":10},"","","",null,"","","",null,"","","",null,"","","",{"$nulls":5},"","","","","","","","",null,0,{"$nulls":3},"","","",null,"","","",null,"","","",null,"","","",{"$nulls":8},"",{"$nulls":4},"",{"$nulls":4},"",{"$nulls":15},"",{"$nulls":4},"",{"$nulls":4},"",{"$nulls":15},"",{"$nulls":4},"",{"$nulls":4},"",{"$nulls":15},"",{"$nulls":4},"",{"$nulls":4},"",{"$nulls":6},0,{"$f":"SUM($FL$36:$FL84)","v":0},0]
[50,{"$nulls":4},"N/A",{"$nulls":10},"","","",null,"","","",null,"","","",null,"","","",{"$nulls":5},"","","","","","","","",null,0,{"$nulls":3},"","","",null,"","","",null,"","","",null,"",{"$f":"IF($B85=\"Y\",IF(AND($AC85<>\"\",$AQ84<>\"\",$AR84<>\"\"),($AC85+$AQ84)/($AR84+1),\"\"),\"\")","v":""},"",{"$nulls":8},"",{"$nulls":4},"",{"$nulls":4},"",{"$nulls":15},"",{"$nulls":4},"",{"$nulls":4},"",{"$nulls":15},"",{"$nulls":4},"",{"$nulls":4},"",{"$nulls":15},"",{"$nulls":4},"",{"$nulls":4},"",{"$nulls":6},0,{"$f":"SUM($FL$36:$FL85)","v":0},0]
[null,null,{"$f":"SUM(C36:C85)","v":0}]
["g/bhp-hr"]
["g/kW-hr"]

{"sheet":"Engine Family #21","index":23,"n_rows":88,"n_cols":176,"rows_kept":88,"merged":[[1,0,1,35],[2,0,2,35],[3,0,3,35],[4,0,4,35],[5,0,5,35],[6,0,6,35],[8,0,8,16],[10,4,10,6],[10,12,10,13],[11,4,11,6],[11,15,11,16],[11,19,11,20],[11,23,11,24],[11,27,11,28],[12,4,12,6],[13,4,13,6],[14,4,15,6],[17,14,22,14],[27,4,30,13],[27,15,28,16],[32,0,32,16],[32,17,32,33],[32,34,32,35],[33,45,34,45]]}
[]
["United States"]
["US Environmental Protection Agency"]
["Office of Air and Radiation, Office of Transportation and Air Quality"]
[{"$nulls":37},"Tier 2","Y",94]
["Manufacturer Production Line Testing Report for Marine Compression Ignition Engines",{"$nulls":36},"Tier 3","N",1042]
[{"$f":"Summary!B7","v":"Version Number: 1.4 DRAFT  Last Revision: September 2023"},{"$nulls":36},"Tier 4",null,"N/A"]
[]
["Basic Information: Engine Family #21"]
[{"$nulls":167},{"$f":"IF(AND($G$24=94,Summary!$L$13=\"Category 1\"),0,1)","v":1}]
[null,null,"Manufacturer:",null,{"$f":"IF(Summary!D12<>\"\",Summary!D12,\"\")","v":""},{"$nulls":3},"Engine Family:",{"$nulls":31},{"$f":"IF($G$19=\"Diesel\",\"'HC' refers to 'THC' \",IF($G$19=\"Natural Gas\",\"'HC' refers to 'NMHC' \",IF($G$19=\"Alcohol\",\"'HC' refers to 'THCE' \",\"\")))","v":""}]
[null,null,"PLT Test Contact:",null,{"$f":"IF(Summary!D13<>\"\",Summary!D13,\"\")","v":""},{"$nulls":3},"Production (Category 3 only):",{"$nulls":6},{"$f":"IF(N16<>\"Y\", \"Current CO Result\", \"Final CO Result\")","v":"Current CO Result"},null,{"$f":"$CJ$36","v":""},null,{"$f":"IF(N16<>\"Y\", \"Current PM Result\", \"Final PM Result\")","v":"Current PM Result"},null,{"$f":"$DJ$36","v":""},null,{"$f":"IF($AF$12=\"Y\",IF(N16<>\"Y\", \"Current NOx+HC Result\", \"Final NOx+HC Result\"),IF(N16<>\"Y\", \"Current HC Result\", \"Final HC Result\"))","v":"Current HC Result"},null,{"$f":"IF($AF$12=\"Y\",IF($FP$36>0,ROUND($EJ$36+$FJ$36,2),\"\"),$EJ$36)","v":""},null,{"$f":"IF(N16<>\"Y\", \"Current NOx Result\",\"Final NOx Result\")","v":"Current NOx Result"},null,{"$f":"$FJ$36","v":""},null,{"$f":"IF($L$13<>\"Category 3\",IF($G$23=\"\",\"N\",$G$23),\"N\")","v":"N"},{"$f":"IF(Summary!$L$13=\"Category 3\",\"CAT3\",\"\")","v":""}]
[null,null,"Email Address:",null,{"$f":"IF(Summary!D14<>\"\",Summary!D14,\"\")","v":""},{"$nulls":3},"Date of Start of Model Year Production:"]
[null,null,"Phone #:",null,{"$f":"IF(Summary!D15<>\"\",Summary!D15,\"\")","v":""},{"$nulls":3},"Date of End of Model Year Production:",{"$nulls":14},{"$f":"IF($G$19=\"Diesel\",\"'HC' refers to 'THC' \",IF($G$19=\"Natural Gas\",\"'HC' refers to 'NMHC' \",IF($G$19=\"Alcohol\",\"'HC' refers to 'THCE' \",\"\")))","v":""},{"$nulls":13},"Diesel",1,{"$nulls":6},1]
[null,null,"Test Location & Description:",{"$nulls":5},"Deterioration Factor Type:",{"$nulls":28},"Natural Gas",2,{"$nulls":6},2]
[{"$nulls":8},"Include Results from this Engine Family on Summary Sheet?",{"$nulls":6},"CO Standard ",{"$nulls":3},"PM Standard or FEL",{"$nulls":3},{"$f":"IF($AF$12=\"Y\",\"NOx+HC Standard or FEL\",\"HC Standard\")","v":"HC Standard"},{"$nulls":3},"NOx Standard or FEL",{"$nulls":9},"Alcohol",3,{"$nulls":6},3]
[null,null,"Carryover?:",{"$nulls":5},"Required Tests (including failure follow-ups)",{"$nulls":4},{"$f":"$FO36","v":0},null,"Units",null,"g/kW-hr",null,"Units",null,"g/kW-hr",null,"Units",null,"g/kW-hr",null,"Units",null,"g/kW-hr",{"$nulls":4},"Test Cycle Options",{"$nulls":10},4]
[null,null,{"$f":"IF($G$17=\"Y\",\"Please submit supporting documentation indicating that this is a carry-over engine family\",\"\")","v":""},{"$nulls":5},"Instead of testing, are PLT requirements for this Engine Family",{"$nulls":6},"CO  Det Factor",{"$nulls":3},"PM  Det Factor",{"$nulls":3},"HC Det Factor",{"$nulls":3},"NOx  Det Factor",{"$nulls":6},"1 = 4-Mode General Cycle (E3)",null,null,"Recreational"]
[null,null,"Fuel Type:",{"$nulls":5}," fulfilled under the following (Category 1 only)?",{"$nulls":6},"Det Factor Type",null,{"$f":"IF($N$15<>\"\",$N$15,\"\")","v":""},null,"Det Factor Type",null,{"$f":"IF($N$15<>\"\",$N$15,\"\")","v":""},null,"Det Factor Type",null,{"$f":"IF($N$15<>\"\",$N$15,\"\")","v":""},null,"Det Factor Type",null,{"$f":"IF($N$15<>\"\",$N$15,\"\")","v":""},{"$nulls":4},"2 = 5-Mode Recreational Cycle (E5)",null,null,"Commercial"]
[null,null,"Recreational/Commercial:",{"$nulls":5},"Please elaborate in the comments section.",{"$nulls":6},"CO Green Engine Factor",{"$nulls":3},"PM Green Engine Factor",{"$nulls":3},"HC Green Engine Factor",{"$nulls":3},"NOx Green Engine Factor",{"$nulls":6},"3 = 4-Mode Constant Speed Propulsion Cycle (E2)"]
[null,null,"Model Year:",{"$nulls":5},"    -1042.310(a) - EPA approved combining it, for PLT purposes only.",{"$nulls":25},"4 = 5-Mode Constant Speed Auxiliary Cycle (D2)"]
[null,null,"Tier:",{"$nulls":31},"5 = 6-Mode Variable Speed Auxiliary Cycle (G2)",null,null,"1 (E3)"]
[null,null,"Combined NOx+HC?",{"$nulls":31},"6 = 8-Mode Variable Speed Ausiliary Cycle (C1)",null,null,"2 (E5)"]
[null,null,"40 CFR Part:",{"$nulls":3},{"$f":"AN6","v":1042},null,"Additional testing required by EPA [40 CFR 1042.301(e)]? ",{"$nulls":25},"O = Other",null,null,"3 (E2)"]
[{"$nulls":37},"4 (D2)"]
[{"$nulls":37},"5 (G2)",{"$nulls":132},"deleted and redirected"]
[{"$nulls":22}," ",{"$nulls":14},"6 (C1)",4,{"$nulls":6},4]
[null,null,"Comments:",{"$nulls":34},"O (other)"]
[{"$nulls":22}," ",{"$nulls":22},"additive"]
[{"$nulls":45},"multiplicative",{"$nulls":22},"CO Rounding",{"$nulls":4},"CO Rounding",{"$nulls":4},"CO Rounding",{"$nulls":4},"CO Rounding",{"$nulls":10},"PM Rounding",{"$nulls":4},"PM Rounding",{"$nulls":4},"PM Rounding",{"$nulls":4},"PM Rounding",{"$nulls":10},"HC Rounding",{"$nulls":4},"HC Rounding",{"$nulls":4},"HC Rounding",{"$nulls":4},"HC Rounding",{"$nulls":10},"NOx Rounding",{"$nulls":4},"NOx Rounding",{"$nulls":4},"NOx Rounding",{"$nulls":4},"NOx Rounding"]
[{"$nulls":22}," ",{"$nulls":45},"initial",{"$nulls":4},"final",{"$nulls":4}," det final",{"$nulls":4},"ave of all final",{"$nulls":10},"initial",{"$nulls":4},"final",{"$nulls":4}," det final",{"$nulls":4},"ave of all final",{"$nulls":10},"initial",{"$nulls":4},"final",{"$nulls":4}," det final",{"$nulls":4},"ave of all final",{"$nulls":10},"initial",{"$nulls":4},"final",{"$nulls":4}," det final",{"$nulls":4},"ave of all final"]
[{"$nulls":38},"Y",{"$nulls":6},"Y"]
["PLT Engine Test Results: Engine Family #21",{"$nulls":37},"N",{"$nulls":6},"N",{"$nulls":124},"This is N17"]
[{"$nulls":36},"CO",null,"PM",null,null,"HC or HC+NOX",null,"Nox",null,"Engine Data Complete?",{"$nulls":11},"HC","HC","HC","HC","Nox","Nox","Nox","Nox",{"$nulls":107},"1% of production or pre-approved reduced sample size - whichever is Lower # "]
[null,"Calc Final Result?","Test Number","Test Date","Test Time","Test Qtr","Engine ID","Engine Make","Engine Configuration","Build Date","Green Engine Factor Applied?","Green Engine Factor Determination Method","Service Hours (or miles) Accumulation","Service Hours Location","Service Acc. Procedure","CO Initial Result ","Rounded CO Initial Result ","CO Final Result ","Det. CO Final Result ","PM Initial Result ","Rounded PM Initial Result ","PM Final Result ","Det. PM Final Result ","HC Initial Result ","Rounded HC Initial Result ","HC Final Result ","Det. HC Final Result ","NOx Initial Result ","Rounded NOx Initial Result ","NOx Final Result ","Det. NOx Final Result ","Reason for Failed Test (if applicable)","Remedy","Repairs","Test Cycle","Comments",0,0,0,0,0,0,0,0,{"$nulls":5},"Unrounded initial CO","Unrounded final CO","Det CO","Final CO","Unrounded initial PM","Unrounded final PM","Det PM","Final PM","Unrounded initial HCNOx","Unrounded final HCNOx","Det HCNOx","Final HCNOX","Unrounded initial NOx","Unrounded final NOx","Det NOx","Final HCNOX",{"$nulls":7},"rounded",{"$nulls":4},"rounded",{"$nulls":4},"rounded",{"$nulls":4},"rounded",{"$nulls":10},"rounded",{"$nulls":4},"rounded",{"$nulls":4},"rounded",{"$nulls":4},"rounded",{"$nulls":10},"rounded",{"$nulls":4},"rounded",{"$nulls":4},"rounded",{"$nulls":4},"rounded","ROUNDED AND ACCOUNT FOR BLANK",{"$nulls":9},"rounded",{"$nulls":4},"rounded",{"$nulls":4},"rounded",{"$nulls":4},"rounded","ROUNDED AND ACCOUNT FOR BLANK","Test complete Flag","Total complete","Fail Flag","req","val","baseline req","req due to fails","sum fails","baseline req"]
[1,{"$nulls":4},"N/A",{"$nulls":10},{"$f":"$BU36","v":""},{"$f":"$BZ36","v":""},{"$f":"$CE36","v":""},null,{"$f":"$CU36","v":""},{"$f":"$CZ36","v":""},{"$f":"$DE36","v":""},null,{"$f":"$DU36","v":""},{"$f":"$DZ36","v":""},{"$f":"$EE36","v":""},null,{"$f":"$EU36","v":""},{"$f":"$EZ36","v":""},{"$f":"$FE36","v":""},{"$nulls":5},{"$f":"IF($B36=\"N\",IF(AND($AK35<>\"\",$Q36<>\"\"),$AK35+$Q36,\"\"),IF($B36=\"Y\",0,\"\"))","v":""},{"$f":"IF($B36=\"N\",AL35+1,IF($B36=\"Y\",0,\"\"))","v":""},{"$f":"IF($B36=\"N\",IF(AND($AM35<>\"\",$U36<>\"\"),$AM35+$U36,\"\"),IF($B36=\"Y\",0,\"\"))","v":""},{"$f":"IF($B36=\"N\",AN35+1,IF($B36=\"Y\",0,\"\"))","v":""},{"$f":"IF($B36=\"N\",IF(AND($AO35<>\"\",$Y36<>\"\"),$AO35+$Y36,\"\"),IF($B36=\"Y\",0,\"\"))","v":""},{"$f":"IF($B36=\"N\",AP35+1,IF($B36=\"Y\",0,\"\"))","v":""},{"$f":"IF($B36=\"N\",IF(AND($AQ35<>\"\",$AC36<>\"\"),$AQ35+$AC36,\"\"),IF($B36=\"Y\",0,\"\"))","v":""},{"$f":"IF($B36=\"N\",AR35+1,IF($B36=\"Y\",0,\"\"))","v":""},null,{"$f":"IF(AND(B36<>\"\",C36<>\"\",D36<>\"\",E36<>\"\",G36<>\"\",H36<>\"\",I36<>\"\",J36<>\"\",K36<>\"\",M36<>\"\",N36<>\"\",O36<>\"\"),1,0)","v":0},{"$nulls":3},{"$f":"IF(AND($P36<>\"\",$AT36=1),$P36,\"\")","v":""},{"$f":"IF($B36=\"Y\",IF(AND($Q36<>\"\",$AK35<>\"\",$AL35<>\"\"),($Q36+$AK35)/($AL35+1),\"\"),\"\")","v":""},{"$f":"IF(AND($B36=\"Y\",$R36<>\"\",$R$18<>\"\"),IF($R$19=\"additive\",$R36+$R$18,IF($R$19=\"multiplicative\",$R36*$R$18,\"\")),\"\")","v":""},{"$f":"IF(COUNT($S$36:$S$85)>0,AVERAGE($S$36:$S$85),\"\")","v":""},{"$f":"IF(AND($T36<>\"\",$AT36=1),$T36,\"\")","v":""},{"$f":"IF($B36=\"Y\",IF(AND($U36<>\"\",$AM35<>\"\",$AN35<>\"\"),($U36+$AM35)/($AN35+1),\"\"),\"\")","v":""},{"$f":"IF(AND($B36=\"Y\",$V36<>\"\",$V$18<>\"\"),IF($V$19=\"additive\",$V36+$V$18,IF($V$19=\"multiplicative\",$V36*$V$18,\"\")),\"\")","v":""},{"$f":"IF(COUNT($W$36:$W$85)>0,AVERAGE($W$36:$W$85),\"\")","v":""},{"$f":"IF(AND($X36<>\"\",$AT36=1),$X36,\"\")","v":""},{"$f":"IF($B36=\"Y\",IF(AND($Y36<>\"\",$AO35<>\"\",$AP35<>\"\"),($Y36+$AO35)/($AP35+1),\"\"),\"\")","v":""},{"$f":"IF(AND($B36=\"Y\",$Z36<>\"\",$Z$18<>\"\"),IF($Z$19=\"additive\",$Z36+$Z$18,IF($Z$19=\"multiplicative\",$Z36*$Z$18,\"\")),\"\")","v":""},{"$f":"IF(COUNT($AA$36:$AA$85)>0,AVERAGE($AA$36:$AA$85),\"\")","v":""},{"$f":"IF(AND($AB36<>\"\",$AT36=1),$AB36,\"\")","v":""},{"$f":"IF($B36=\"Y\",IF(AND($AC36<>\"\",$AQ35<>\"\",$AR35<>\"\"),($AC36+$AQ35)/($AR35+1),\"\"),\"\")","v":""},{"$f":"IF(AND($B36=\"Y\",$AD36<>\"\",$AD$18<>\"\"),IF($AD$19=\"additive\",$AD36+$AD$18,IF($AD$19=\"multiplicative\",$AD36*$AD$18,\"\")),\"\")","v":""},{"$f":"IF(COUNT($AE$36:$AE$85)>0,AVERAGE($AE$36:$AE$85),\"\")","v":""},{"$nulls":7},{"$f":"IF($AX36<>\"\",ROUND($AX36,2),\"\")","v":""},{"$nulls":4},{"$f":"IF($AY36<>\"\",ROUND($AY36,2),\"\")","v":""},{"$nulls":4},{"$f":"IF($AZ36<>\"\",ROUND($AZ36,2),\"\")","v":""},{"$nulls":4},{"$f":"IF($BA36<>\"\",ROUND($BA36,2),\"\")","v":""},{"$nulls":10},{"$f":"IF($BB36<>\"\",ROUND($BB36,3),\"\")","v":""},{"$nulls":4},{"$f":"IF($BC36<>\"\",ROUND($BC36,3),\"\")","v":""},{"$nulls":4},{"$f":"IF($BD36<>\"\",ROUND($BD36,3),\"\")","v":""},{"$nulls":4},{"$f":"IF($BE36<>\"\",ROUND($BE36,3),\"\")","v":""},{"$nulls":10},{"$f":"IF($BF36<>\"\",ROUND($BF36,3),\"\")","v":""},{"$nulls":4},{"$f":"IF($BG36<>\"\",ROUND($BG36,3),\"\")","v":""},{"$nulls":4},{"$f":"IF($BH36<>\"\",ROUND($BH36,3),\"\")","v":""},{"$nulls":4},{"$f":"IF($BI36<>\"\",ROUND($BI36,3),\"\")","v":""},{"$f":"IF(EJ36=\"\",0,EJ36)","v":0},{"$nulls":9},{"$f":"IF($BJ36<>\"\",ROUND($BJ36,2),\"\")","v":""},{"$nulls":4},{"$f":"IF($BK36<>\"\",ROUND($BK36,2),\"\")","v":""},{"$nulls":4},{"$f":"IF($BL36<>\"\",ROUND($BL36,2),\"\")","v":""},{"$nulls":4},{"$f":"IF($BM36<>\"\",ROUND($BM36,2),\"\")","v":""},{"$f":"IF(FJ36=\"\",0,FJ36)","v":0},{"$f":"IF($AG$12<>\"CAT3\",IF(AND($B36=\"Y\",$S36<>\"\",$W36<>\"\",$AA36<>\"\",$AE36<>\"\"),1,0),IF($AE36<>\"\",1,0))","v":0},{"$f":"SUM($FL$36:$FL36)","v":0},{"$f":"IF($AG$12<>\"CAT3\",IF($FL36=1,IF(OR($S36>$R$16,$W36>$V$16,$AA36>$Z$16,IF($AF$12<>\"Y\",OR($AA36>$Z$16,$AE36>$AD$16),ROUND(($AA36+$AE36),2)>$Z$16)),1,0),0),IF($FL36=1,IF(AND($AE36>$AD$16,$AF$12=\"N\"),1,0),0))","v":0},{"$f":"IF(OR($M$11=\"\",$N$18=\"Y\"),0,IF($AG$12=\"CAT3\",$N$12,($FR$36+1)))","v":0},{"$f":"SUM(FL36:FL85)","v":0},{"$f":"IF(AND($G$17=\"Y\",$N$24<>\"\"),MIN($N$24,$FT$36),$FT$36)","v":0},{"$f":"$FS$36*2","v":0},{"$f":"SUM(FN36:FN85)","v":0},{"$f":"IF($N$12<>\"\",$N$12*0.01,0)","v":0}]
[{"$f":"A36+1","v":2},{"$nulls":4},"N/A",{"$nulls":10},"","","",null,"","","",null,"","","",null,"","","",{"$nulls":5},"",{"$f":"IF($B37=\"N\",AL36+1,IF($B37=\"Y\",0,\"\"))","v":""},"",{"$f":"IF($B37=\"N\",AN36+1,IF($B37=\"Y\",0,\"\"))","v":""},{"$f":"IF($B37=\"N\",IF(AND($AO36<>\"\",$Y37<>\"\"),$AO36+$Y37,\"\"),IF($B37=\"Y\",0,\"\"))","v":""},{"$f":"IF($B37=\"N\",AP36+1,IF($B37=\"Y\",0,\"\"))","v":""},{"$f":"IF($B37=\"N\",IF(AND($AQ36<>\"\",$AC37<>\"\"),$AQ36+$AC37,\"\"),IF($B37=\"Y\",0,\"\"))","v":""},{"$f":"IF($B37=\"N\",AR36+1,IF($B37=\"Y\",0,\"\"))","v":""},null,{"$f":"IF(AND(B37<>\"\",C37<>\"\",D37<>\"\",E37<>\"\",G37<>\"\",H37<>\"\",I37<>\"\",J37<>\"\",K37<>\"\",M37<>\"\",N37<>\"\",O37<>\"\"),1,0)","v":0},{"$nulls":3},"","",{"$f":"IF(AND($B37=\"Y\",$R37<>\"\",$R$18<>\"\"),IF($R$19=\"additive\",$R37+$R$18,IF($R$19=\"multiplicative\",$R37*$R$18,\"\")),\"\")","v":""},null,"","",{"$f":"IF(AND($B37=\"Y\",$V37<>\"\",$V$18<>\"\"),IF($V$19=\"additive\",$V37+$V$18,IF($V$19=\"multiplicative\",$V37*$V$18,\"\")),\"\")","v":""},null,{"$f":"IF(AND($X37<>\"\",$AT37=1),$X37,\"\")","v":""},{"$f":"IF($B37=\"Y\",IF(AND($Y37<>\"\",$AO36<>\"\",$AP36<>\"\"),($Y37+$AO36)/($AP36+1),\"\"),\"\")","v":""},{"$f":"IF(AND($B37=\"Y\",$Z37<>\"\",$Z$18<>\"\"),IF($Z$19=\"additive\",$Z37+$Z$18,IF($Z$19=\"multiplicative\",$Z37*$Z$18,\"\")),\"\")","v":""},null,{"$f":"IF(AND($AB37<>\"\",$AT37=1),$AB37,\"\")","v":""},{"$f":"IF($B37=\"Y\",IF(AND($AC37<>\"\",$AQ36<>\"\",$AR36<>\"\"),($AC37+$AQ36)/($AR36+1),\"\"),\"\")","v":""},{"$f":"IF(AND($B37=\"Y\",$AD37<>\"\",$AD$18<>\"\"),IF($AD$19=\"additive\",$AD37+$AD$18,IF($AD$19=\"multiplicative\",$AD37*$AD$18,\"\")),\"\")","v":""},{"$nulls":8},{"$f":"IF($AX37<>\"\",ROUND($AX37,2),\"\")","v":""},{"$nulls":4},{"$f":"IF($AY37<>\"\",ROUND($AY37,2),\"\")","v":""},{"$nulls":4},{"$f":"IF($AZ37<>\"\",ROUND($AZ37,2),\"\")","v":""},{"$nulls":15},{"$f":"IF($BB37<>\"\",ROUND($BB37,3),\"\")","v":""},{"$nulls":4},{"$f":"IF($BC37<>\"\",ROUND($BC37,3),\"\")","v":""},{"$nulls":4},{"$f":"IF($BD37<>\"\",ROUND($BD37,3),\"\")","v":""},{"$nulls":15},{"$f":"IF($BF37<>\"\",ROUND($BF37,3),\"\")","v":""},{"$nulls":4},{"$f":"IF($BG37<>\"\",ROUND($BG37,3),\"\")","v":""},{"$nulls":4},{"$f":"IF($BH37<>\"\",ROUND($BH37,3),\"\")","v":""},{"$nulls":15},{"$f":"IF($BJ37<>\"\",ROUND($BJ37,2),\"\")","v":""},{"$nulls":4},{"$f":"IF($BK37<>\"\",ROUND($BK37,2),\"\")","v":""},{"$nulls":4},{"$f":"IF($BL37<>\"\",ROUND($BL37,2),\"\")","v":""},{"$nulls":6},{"$f":"IF($AG$12<>\"CAT3\",IF(AND($B37=\"Y\",$S37<>\"\",$W37<>\"\",$AA37<>\"\",$AE37<>\"\"),1,0),IF($AE37<>\"\",1,0))","v":0},{"$f":"SUM($FL$36:$FL37)","v":0},{"$f":"IF($AG$12<>\"CAT3\",IF($FL37=1,IF(OR($S37>$R$16,$W37>$V$16,$AA37>$Z$16,IF($AF$12<>\"Y\",OR($AA37>$Z$16,$AE37>$AD$16),ROUND(($AA37+$AE37),2)>$Z$16)),1,0),0),IF($FL37=1,IF(AND($AE37>$AD$16,$AF$12=\"N\"),1,0),0))","v":0},null,null,{"$f":"MAX($FQ$36,$FL$10)","v":1}]
[{"$f":"A37+1","v":3},{"$nulls":4},"N/A",{"$nulls":10},"","","",null,"","","",null,"","","",null,"","","",{"$nulls":5},"","","","","","","","",null,0,{"$nulls":3},"","","",null,"","","",null,"","","",null,"","","",{"$nulls":8},"",{"$nulls":4},"",{"$nulls":4},"",{"$nulls":15},"",{"$nulls":4},"",{"$nulls":4},"",{"$nulls":15},"",{"$nulls":4},"",{"$nulls":4},"",{"$nulls":15},"",{"$nulls":4},"",{"$nulls":4},"",{"$nulls":6},0,{"$f":"SUM($FL$36:$FL38)","v":0},0]
[4,{"$nulls":4},"N/A",{"$nulls":10},"","","",null,"","","",null,"","","",null,"","","",{"$nulls":5},"","","","","","","","",null,0,{"$nulls":3},"","","",null,"","","",null,"","","",null,"","","",{"$nulls":8},"",{"$nulls":4},"",{"$nulls":4},"",{"$nulls":15},"",{"$nulls":4},"",{"$nulls":4},"",{"$nulls":15},"",{"$nulls":4},"",{"$nulls":4},"",{"$nulls":15},"",{"$nulls":4},"",{"$nulls":4},"",{"$nulls":6},0,{"$f":"SUM($FL$36:$FL39)","v":0},0,null,null,"then, the larger of that sample size or 1  (or if Part 94 and cat1,  can be 0)"]
[5,{"$nulls":4},"N/A",{"$nulls":10},"","","",null,"","","",null,"","","",null,"","","",{"$nulls":5},"","","","","","","","",null,0,{"$nulls":3},"","","",null,"","","",null,"","","",null,"","","",{"$nulls":8},"",{"$nulls":4},"",{"$nulls":4},"",{"$nulls":15},"",{"$nulls":4},"",{"$nulls":4},"",{"$nulls":15},"",{"$nulls":4},"",{"$nulls":4},"",{"$nulls":15},"",{"$nulls":4},"",{"$nulls":4},"",{"$nulls":6},0,{"$f":"SUM($FL$36:$FL40)","v":0},0]
[6,{"$nulls":4},"N/A",{"$nulls":10},"","","",null,"","","",null,"","","",null,"","","",{"$nulls":5},"","","","","","","","",null,0,{"$nulls":3},"","","",null,"","","",null,"","","",null,"","","",{"$nulls":8},"",{"$nulls":4},"",{"$nulls":4},"",{"$nulls":15},"",{"$nulls":4},"",{"$nulls":4},"",{"$nulls":15},"",{"$nulls":4},"",{"$nulls":4},"",{"$nulls":15},"",{"$nulls":4},"",{"$nulls":4},"",{"$nulls":6},0,{"$f":"SUM($FL$36:$FL41)","v":0},0]
[7,{"$nulls":4},"N/A",{"$nulls":10},"","","",null,"","","",null,"","","",null,"","","",{"$nulls":5},"","","","","","","","",null,0,{"$nulls":3},"","","",null,"","","",null,"","","",null,"","","",{"$nulls":8},"",{"$nulls":4},"",{"$nulls":4},"",{"$nulls":15},"",{"$nulls":4},"",{"$nulls":4},"",{"$nulls":15},"",{"$nulls":4},"",{"$nulls":4},"",{"$nulls":15},"",{"$nulls":4},"",{"$nulls":4},"",{"$nulls":6},0,{"$f":"SUM($FL$36:$FL42)","v":0},0]
[8,{"$nulls":4},"N/A",{"$nulls":10},"","","",null,"","","",null,"","","",null,"","","",{"$nulls":5},"","","","","","","","",null,0,{"$nulls":3},"","","",null,"","","",null,"","","",null,"","","",{"$nulls":8},"",{"$nulls":4},"",{"$nulls":4},"",{"$nulls":15},"",{"$nulls":4},"",{"$nulls":4},"",{"$nulls":15},"",{"$nulls":4},"",{"$nulls":4},"",{"$nulls":15},"",{"$nulls":4},"",{"$nulls":4},"",{"$nulls":6},0,{"$f":"SUM($FL$36:$FL43)","v":0},0]
[9,{"$nulls":4},"N/A",{"$nulls":10},"","","",null,"","","",null,"","","",null,"","","",{"$nulls":5},"","","","","","","","",null,0,{"$nulls":3},"","","",null,"","","",null,"","","",null,"","","",{"$nulls":8},"",{"$nulls":4},"",{"$nulls":4},"",{"$nulls":15},"",{"$nulls":4},"",{"$nulls":4},"",{"$nulls":15},"",{"$nulls":4},"",{"$nulls":4},"",{"$nulls":15},"",{"$nulls":4},"",{"$nulls":4},"",{"$nulls":6},0,{"$f":"SUM($FL$36:$FL44)","v":0},0]
[10,{"$nulls":4},"N/A",{"$nulls":10},"","","",null,"","","",null,"","","",null,"","","",{"$nulls":5},"","","","","","","","",null,0,{"$nulls":3},"","","",null,"","","",null,"","","",null,"","","",{"$nulls":8},"",{"$nulls":4},"",{"$nulls":4},"",{"$nulls":15},"",{"$nulls":4},"",{"$nulls":4},"",{"$nulls":15},"",{"$nulls":4},"",{"$nulls":4},"",{"$nulls":15},"",{"$nulls":4},"",{"$nulls":4},"",{"$nulls":6},0,{"$f":"SUM($FL$36:$FL45)","v":0},0]
[11,{"$nulls":4},"N/A",{"$nulls":10},"","","",null,"","","",null,"","","",null,"","","",{"$nulls":5},"","","","","","","","",null,0,{"$nulls":3},"","","",null,"","","",null,"","","",null,"","","",{"$nulls":8},"",{"$nulls":4},"",{"$nulls":4},"",{"$nulls":15},"",{"$nulls":4},"",{"$nulls":4},"",{"$nulls":15},"",{"$nulls":4},"",{"$nulls":4},"",{"$nulls":15},"",{"$nulls":4},"",{"$nulls":4},"",{"$nulls":6},0,{"$f":"SUM($FL$36:$FL46)","v":0},0]
[12,{"$nulls":4},"N/A",{"$nulls":10},"","","",null,"","","",null,"","","",null,"","","",{"$nulls":5},"","","","","","","","",null,0,{"$nulls":3},"","","",null,"","","",null,"","","",null,"","","",{"$nulls":8},"",{"$nulls":4},"",{"$nulls":4},"",{"$nulls":15},"",{"$nulls":4},"",{"$nulls":4},"",{"$nulls":15},"",{"$nulls":4},"",{"$nulls":4},"",{"$nulls":15},"",{"$nulls":4},"",{"$nulls":4},"",{"$nulls":6},0,{"$f":"SUM($FL$36:$FL47)","v":0},0]
[13,{"$nulls":4},"N/A",{"$nulls":10},"","","",null,"","","",null,"","","",null,"","","",{"$nulls":5},"","","","","","","","",null,0,{"$nulls":3},"","","",null,"","","",null,"","","",null,"","","",{"$nulls":8},"",{"$nulls":4},"",{"$nulls":4},"",{"$nulls":15},"",{"$nulls":4},"",{"$nulls":4},"",{"$nulls":15},"",{"$nulls":4},"",{"$nulls":4},"",{"$nulls":15},"",{"$nulls":4},"",{"$nulls":4},"",{"$nulls":6},0,{"$f":"SUM($FL$36:$FL48)","v":0},0]
[14,{"$nulls":4},"N/A",{"$nulls":10},"","","",null,"","","",null,"","","",null,"","","",{"$nulls":5},"","","","","","","","",null,0,{"$nulls":3},"","","",null,"","","",null,"","","",null,"","","",{"$nulls":8},"",{"$nulls":4},"",{"$nulls":4},"",{"$nulls":15},"",{"$nulls":4},"",{"$nulls":4},"",{"$nulls":15},"",{"$nulls":4},"",{"$nulls":4},"",{"$nulls":15},"",{"$nulls":4},"",{"$nulls":4},"",{"$nulls":6},0,{"$f":"SUM($FL$36:$FL49)","v":0},0]
[15,{"$nulls":4},"N/A",{"$nulls":10},"","","",null,"","","",null,"","","",null,"","","",{"$nulls":5},"","","","","","","","",null,0,{"$nulls":3},"","","",null,"","","",null,"","","",null,"","","",{"$nulls":8},"",{"$nulls":4},"",{"$nulls":4},"",{"$nulls":15},"",{"$nulls":4},"",{"$nulls":4},"",{"$nulls":15},"",{"$nulls":4},"",{"$nulls":4},"",{"$nulls":15},"",{"$nulls":4},"",{"$nulls":4},"",{"$nulls":6},0,{"$f":"SUM($FL$36:$FL50)","v":0},0]
[16,{"$nulls":4},"N/A",{"$nulls":10},"","","",null,"","","",null,"","","",null,"","","",{"$nulls":5},"","","","","","","","",null,0,{"$nulls":3},"","","",null,"","","",null,"","","",null,"","","",{"$nulls":8},"",{"$nulls":4},"",{"$nulls":4},"",{"$nulls":15},"",{"$nulls":4},"",{"$nulls":4},"",{"$nulls":15},"",{"$nulls":4},"",{"$nulls":4},"",{"$nulls":15},"",{"$nulls":4},"",{"$nulls":4},"",{"$nulls":6},0,{"$f":"SUM($FL$36:$FL51)","v":0},0]
[17,{"$nulls":4},"N/A",{"$nulls":10},"","","",null,"","","",null,"","","",null,"","","",{"$nulls":5},"","","","","","","","",null,0,{"$nulls":3},"","","",null,"","","",null,"","","",null,"","","",{"$nulls":8},"",{"$nulls":4},"",{"$nulls":4},"",{"$nulls":15},"",{"$nulls":4},"",{"$nulls":4},"",{"$nulls":15},"",{"$nulls":4},"",{"$nulls":4},"",{"$nulls":15},"",{"$nulls":4},"",{"$nulls":4},"",{"$nulls":6},0,{"$f":"SUM($FL$36:$FL52)","v":0},0]
[18,{"$nulls":4},"N/A",{"$nulls":10},"","","",null,"","","",null,"","","",null,"","","",{"$nulls":5},"","","","","","","","",null,0,{"$nulls":3},"","","",null,"","","",null,"","","",null,"","","",{"$nulls":8},"",{"$nulls":4},"",{"$nulls":4},"",{"$nulls":15},"",{"$nulls":4},"",{"$nulls":4},"",{"$nulls":15},"",{"$nulls":4},"",{"$nulls":4},"",{"$nulls":15},"",{"$nulls":4},"",{"$nulls":4},"",{"$nulls":6},0,{"$f":"SUM($FL$36:$FL53)","v":0},0]
[19,{"$nulls":4},"N/A",{"$nulls":10},"","","",null,"","","",null,"","","",null,"","","",{"$nulls":5},"","","","","","","","",null,0,{"$nulls":3},"","","",null,"","","",null,"","","",null,"","","",{"$nulls":8},"",{"$nulls":4},"",{"$nulls":4},"",{"$nulls":15},"",{"$nulls":4},"",{"$nulls":4},"",{"$nulls":15},"",{"$nulls":4},"",{"$nulls":4},"",{"$nulls":15},"",{"$nulls":4},"",{"$nulls":4},"",{"$nulls":6},0,{"$f":"SUM($FL$36:$FL54)","v":0},0]
[20,{"$nulls":4},"N/A",{"$nulls":10},"","","",null,"","","",null,"","","",null,"","","",{"$nulls":5},"","","","","","","","",null,0,{"$nulls":3},"","","",null,"","","",null,"","","",null,"","","",{"$nulls":8},"",{"$nulls":4},"",{"$nulls":4},"",{"$nulls":15},"",{"$nulls":4},"",{"$nulls":4},"",{"$nulls":15},"",{"$nulls":4},"",{"$nulls":4},"",{"$nulls":15},"",{"$nulls":4},"",{"$nulls":4},"",{"$nulls":6},0,{"$f":"SUM($FL$36:$FL55)","v":0},0]
[21,{"$nulls":4},"N/A",{"$nulls":10},"","","",null,"","","",null,"","","",null,"","","",{"$nulls":5},"","","","","","","","",null,0,{"$nulls":3},"","","",null,"","","",null,"","","",null,"","","",{"$nulls":8},"",{"$nulls":4},"",{"$nulls":4},"",{"$nulls":15},"",{"$nulls":4},"",{"$nulls":4},"",{"$nulls":15},"",{"$nulls":4},"",{"$nulls":4},"",{"$nulls":15},"",{"$nulls":4},"",{"$nulls":4},"",{"$nulls":6},0,{"$f":"SUM($FL$36:$FL56)","v":0},0]
[22,{"$nulls":4},"N/A",{"$nulls":10},"","","",null,"","","",null,"","","",null,"","","",{"$nulls":5},"","","","","","","","",null,0,{"$nulls":3},"","","",null,"","","",null,"","","",null,"","","",{"$nulls":8},"",{"$nulls":4},"",{"$nulls":4},"",{"$nulls":15},"",{"$nulls":4},"",{"$nulls":4},"",{"$nulls":15},"",{"$nulls":4},"",{"$nulls":4},"",{"$nulls":15},"",{"$nulls":4},"",{"$nulls":4},"",{"$nulls":6},0,{"$f":"SUM($FL$36:$FL57)","v":0},0]
[23,{"$nulls":4},"N/A",{"$nulls":10},"","","",null,"","","",null,"","","",null,"","","",{"$nulls":5},"","","","","","","","",null,0,{"$nulls":3},"","","",null,"","","",null,"","","",null,"","","",{"$nulls":8},"",{"$nulls":4},"",{"$nulls":4},"",{"$nulls":15},"",{"$nulls":4},"",{"$nulls":4},"",{"$nulls":15},"",{"$nulls":4},"",{"$nulls":4},"",{"$nulls":15},"",{"$nulls":4},"",{"$nulls":4},"",{"$nulls":6},0,{"$f":"SUM($FL$36:$FL58)","v":0},0]
[24,{"$nulls":4},"N/A",{"$nulls":10},"","","",null,"","","",null,"","","",null,"","","",{"$nulls":5},"","","","","","","","",null,0,{"$nulls":3},"","","",null,"","","",null,"","","",null,"","","",{"$nulls":8},"",{"$nulls":4},"",{"$nulls":4},"",{"$nulls":15},"",{"$nulls":4},"",{"$nulls":4},"",{"$nulls":15},"",{"$nulls":4},"",{"$nulls":4},"",{"$nulls":15},"",{"$nulls":4},"",{"$nulls":4},"",{"$nulls":6},0,{"$f":"SUM($FL$36:$FL59)","v":0},0]
[25,{"$nulls":4},"N/A",{"$nulls":10},"","","",null,"","","",null,"","","",null,"","","",{"$nulls":5},"","","","","","","","",null,0,{"$nulls":3},"","","",null,"","","",null,"","","",null,"","","",{"$nulls":8},"",{"$nulls":4},"",{"$nulls":4},"",{"$nulls":15},"",{"$nulls":4},"",{"$nulls":4},"",{"$nulls":15},"",{"$nulls":4},"",{"$nulls":4},"",{"$nulls":15},"",{"$nulls":4},"",{"$nulls":4},"",{"$nulls":6},0,{"$f":"SUM($FL$36:$FL60)","v":0},0]
[26,{"$nulls":4},"N/A",{"$nulls":10},"","","",null,"","","",null,"","","",null,"","","",{"$nulls":5},"","","","","","","","",null,0,{"$nulls":3},"","","",null,"","","",null,"","","",null,"","","",{"$nulls":8},"",{"$nulls":4},"",{"$nulls":4},"",{"$nulls":15},"",{"$nulls":4},"",{"$nulls":4},"",{"$nulls":15},"",{"$nulls":4},"",{"$nulls":4},"",{"$nulls":15},"",{"$nulls":4},"",{"$nulls":4},"",{"$nulls":6},0,{"$f":"SUM($FL$36:$FL61)","v":0},0]
[27,{"$nulls":4},"N/A",{"$nulls":10},"","","",null,"","","",null,"","","",null,"","","",{"$nulls":5},"","","","","","","","",null,0,{"$nulls":3},"","","",null,"","","",null,"","","",null,"","","",{"$nulls":8},"",{"$nulls":4},"",{"$nulls":4},"",{"$nulls":15},"",{"$nulls":4},"",{"$nulls":4},"",{"$nulls":15},"",{"$nulls":4},"",{"$nulls":4},"",{"$nulls":15},"",{"$nulls":4},"",{"$nulls":4},"",{"$nulls":6},0,{"$f":"SUM($FL$36:$FL62)","v":0},0]
[28,{"$nulls":4},"N/A",{"$nulls":10},"","","",null,"","","",null,"","","",null,"","","",{"$nulls":5},"","","","","","","","",null,0,{"$nulls":3},"","","",null,"","","",null,"","","",null,"","","",{"$nulls":8},"",{"$nulls":4},"",{"$nulls":4},"",{"$nulls":15},"",{"$nulls":4},"",{"$nulls":4},"",{"$nulls":15},"",{"$nulls":4},"",{"$nulls":4},"",{"$nulls":15},"",{"$nulls":4},"",{"$nulls":4},"",{"$nulls":6},0,{"$f":"SUM($FL$36:$FL63)","v":0},0]
[29,{"$nulls":4},"N/A",{"$nulls":10},"","","",null,"","","",null,"","","",null,"","","",{"$nulls":5},"","","","","","","","",null,0,{"$nulls":3},"","","",null,"","","",null,"","","",null,"","","",{"$nulls":8},"",{"$nulls":4},"",{"$nulls":4},"",{"$nulls":15},"",{"$nulls":4},"",{"$nulls":4},"",{"$nulls":15},"",{"$nulls":4},"",{"$nulls":4},"",{"$nulls":15},"",{"$nulls":4},"",{"$nulls":4},"",{"$nulls":6},0,{"$f":"SUM($FL$36:$FL64)","v":0},0]
[30,{"$nulls":4},"N/A",{"$nulls":10},"","","",null,"","","",null,"","","",null,"","","",{"$nulls":5},"","","","","","","","",null,0,{"$nulls":3},"","","",null,"","","",null,"","","",null,"","","",{"$nulls":8},"",{"$nulls":4},"",{"$nulls":4},"",{"$nulls":15},"",{"$nulls":4},"",{"$nulls":4},"",{"$nulls":15},"",{"$nulls":4},"",{"$nulls":4},"",{"$nulls":15},"",{"$nulls":4},"",{"$nulls":4},"",{"$nulls":6},0,{"$f":"SUM($FL$36:$FL65)","v":0},0]
[31,{"$nulls":4},"N/A",{"$nulls":10},"","","",null,"","","",null,"","","",null,"","","",{"$nulls":5},"","","","","","","","",null,0,{"$nulls":3},"","","",null,"","","",null,"","","",null,"","","",{"$nulls":8},"",{"$nulls":4},"",{"$nulls":4},"",{"$nulls":15},"",{"$nulls":4},"",{"$nulls":4},"",{"$nulls":15},"",{"$nulls":4},"",{"$nulls":4},"",{"$nulls":15},"",{"$nulls":4},"",{"$nulls":4},"",{"$nulls":6},0,{"$f":"SUM($FL$36:$FL66)","v":0},0]
[32,{"$nulls":4},"N/A",{"$nulls":10},"","","",null,"","","",null,"","","",null,"","","",{"$nulls":5},"","","","","","","","",null,0,{"$nulls":3},"","","",null,"","","",null,"","","",null,"","","",{"$nulls":8},"",{"$nulls":4},"",{"$nulls":4},"",{"$nulls":15},"",{"$nulls":4},"",{"$nulls":4},"",{"$nulls":15},"",{"$nulls":4},"",{"$nulls":4},"",{"$nulls":15},"",{"$nulls":4},"",{"$nulls":4},"",{"$nulls":6},0,{"$f":"SUM($FL$36:$FL67)","v":0},0]
[33,{"$nulls":4},"N/A",{"$nulls":10},"","","",null,"","","",null,"","","",null,"","","",{"$nulls":5},"","","","","","","","",null,0,{"$nulls":3},"","","",null,"","","",null,"","","",null,"","","",{"$nulls":8},"",{"$nulls":4},"",{"$nulls":4},"",{"$nulls":15},"",{"$nulls":4},"",{"$nulls":4},"",{"$nulls":15},"",{"$nulls":4},"",{"$nulls":4},"",{"$nulls":15},"",{"$nulls":4},"",{"$nulls":4},"",{"$nulls":6},0,{"$f":"SUM($FL$36:$FL68)","v":0},0]
[34,{"$nulls":4},"N/A",{"$nulls":10},"","","",null,"","","",null,"","","",null,"","","",{"$nulls":5},"","","","","","","","",null,0,{"$nulls":3},"","","",null,"","","",null,"","","",null,"","","",{"$nulls":8},"",{"$nulls":4},"",{"$nulls":4},"",{"$nulls":15},"",{"$nulls":4},"",{"$nulls":4},"",{"$nulls":15},"",{"$nulls":4},"",{"$nulls":4},"",{"$nulls":15},"",{"$nulls":4},"",{"$nulls":4},"",{"$nulls":6},0,{"$f":"SUM($FL$36:$FL69)","v":0},0]
[35,{"$nulls":4},"N/A",{"$nulls":10},"","","",null,"","","",null,"","","",null,"","","",{"$nulls":5},"","","","","","","","",null,0,{"$nulls":3},"","","",null,"","","",null,"","","",null,"","","",{"$nulls":8},"",{"$nulls":4},"",{"$nulls":4},"",{"$nulls":15},"",{"$nulls":4},"",{"$nulls":4},"",{"$nulls":15},"",{"$nulls":4},"",{"$nulls":4},"",{"$nulls":15},"",{"$nulls":4},"",{"$nulls":4},"",{"$nulls":6},0,{"$f":"SUM($FL$36:$FL70)","v":0},0]
[36,{"$nulls":4},"N/A",{"$nulls":10},"","","",null,"","","",null,"","","",null,"","","",{"$nulls":5},"","","","","","","","",null,0,{"$nulls":3},"","","",null,"","","",null,"","","",null,"","","",{"$nulls":8},"",{"$nulls":4},"",{"$nulls":4},"",{"$nulls":15},"",{"$nulls":4},"",{"$nulls":4},"",{"$nulls":15},"",{"$nulls":4},"",{"$nulls":4},"",{"$nulls":15},"",{"$nulls":4},"",{"$nulls":4},"",{"$nulls":6},0,{"$f":"SUM($FL$36:$FL71)","v":0},0]
[37,{"$nulls":4},"N/A",{"$nulls":10},"","","",null,"","","",null,"","","",null,"","","",{"$nulls":5},"","","","","","","","",null,0,{"$nulls":3},"","","",null,"","","",null,"","","",null,"","","",{"$nulls":8},"",{"$nulls":4},"",{"$nulls":4},"",{"$nulls":15},"",{"$nulls":4},"",{"$nulls":4},"",{"$nulls":15},"",{"$nulls":4},"",{"$nulls":4},"",{"$nulls":15},"",{"$nulls":4},"",{"$nulls":4},"",{"$nulls":6},0,{"$f":"SUM($FL$36:$FL72)","v":0},0]
[38,{"$nulls":4},"N/A",{"$nulls":10},"","","",null,"","","",null,"","","",null,"","","",{"$nulls":5},"","","","","","","","",null,0,{"$nulls":3},"","","",null,"","","",null,"","","",null,"","","",{"$nulls":8},"",{"$nulls":4},"",{"$nulls":4},"",{"$nulls":15},"",{"$nulls":4},"",{"$nulls":4},"",{"$nulls":15},"",{"$nulls":4},"",{"$nulls":4},"",{"$nulls":15},"",{"$nulls":4},"",{"$nulls":4},"",{"$nulls":6},0,{"$f":"SUM($FL$36:$FL73)","v":0},0]
[39,{"$nulls":4},"N/A",{"$nulls":10},"","","",null,"","","",null,"","","",null,"","","",{"$nulls":5},"","","","","","","","",null,0,{"$nulls":3},"","","",null,"","","",null,"","","",null,"","","",{"$nulls":8},"",{"$nulls":4},"",{"$nulls":4},"",{"$nulls":15},"",{"$nulls":4},"",{"$nulls":4},"",{"$nulls":15},"",{"$nulls":4},"",{"$nulls":4},"",{"$nulls":15},"",{"$nulls":4},"",{"$nulls":4},"",{"$nulls":6},0,{"$f":"SUM($FL$36:$FL74)","v":0},0]
[40,{"$nulls":4},"N/A",{"$nulls":10},"","","",null,"","","",null,"","","",null,"","","",{"$nulls":5},"","","","","","","","",null,0,{"$nulls":3},"","","",null,"","","",null,"","","",null,"","","",{"$nulls":8},"",{"$nulls":4},"",{"$nulls":4},"",{"$nulls":15},"",{"$nulls":4},"",{"$nulls":4},"",{"$nulls":15},"",{"$nulls":4},"",{"$nulls":4},"",{"$nulls":15},"",{"$nulls":4},"",{"$nulls":4},"",{"$nulls":6},0,{"$f":"SUM($FL$36:$FL75)","v":0},0]
[41,{"$nulls":4},"N/A",{"$nulls":10},"","","",null,"","","",null,"","","",null,"","","",{"$nulls":5},"","","","","","","","",null,0,{"$nulls":3},"","","",null,"","","",null,"","","",null,"","","",{"$nulls":8},"",{"$nulls":4},"",{"$nulls":4},"",{"$nulls":15},"",{"$nulls":4},"",{"$nulls":4},"",{"$nulls":15},"",{"$nulls":4},"",{"$nulls":4},"",{"$nulls":15},"",{"$nulls":4},"",{"$nulls":4},"",{"$nulls":6},0,{"$f":"SUM($FL$36:$FL76)","v":0},0]
[42,{"$nulls":4},"N/A",{"$nulls":10},"","","",null,"","","",null,"","","",null,"","","",{"$nulls":5},"","","","","","","","",null,0,{"$nulls":3},"","","",null,"","","",null,"","","",null,"","","",{"$nulls":8},"",{"$nulls":4},"",{"$nulls":4},"",{"$nulls":15},"",{"$nulls":4},"",{"$nulls":4},"",{"$nulls":15},"",{"$nulls":4},"",{"$nulls":4},"",{"$nulls":15},"",{"$nulls":4},"",{"$nulls":4},"",{"$nulls":6},0,{"$f":"SUM($FL$36:$FL77)","v":0},0]
[43,{"$nulls":4},"N/A",{"$nulls":10},"","","",null,"","","",null,"","","",null,"","","",{"$nulls":5},"","","","","","","","",null,0,{"$nulls":3},"","","",null,"","","",null,"","","",null,"","","",{"$nulls":8},"",{"$nulls":4},"",{"$nulls":4},"",{"$nulls":15},"",{"$nulls":4},"",{"$nulls":4},"",{"$nulls":15},"",{"$nulls":4},"",{"$nulls":4},"",{"$nulls":15},"",{"$nulls":4},"",{"$nulls":4},"",{"$nulls":6},0,{"$f":"SUM($FL$36:$FL78)","v":0},0]
[44,{"$nulls":4},"N/A",{"$nulls":10},"","","",null,"","","",null,"","","",null,"","","",{"$nulls":5},"","","","","","","","",null,0,{"$nulls":3},"","","",null,"","","",null,"","","",null,"","","",{"$nulls":8},"",{"$nulls":4},"",{"$nulls":4},"",{"$nulls":15},"",{"$nulls":4},"",{"$nulls":4},"",{"$nulls":15},"",{"$nulls":4},"",{"$nulls":4},"",{"$nulls":15},"",{"$nulls":4},"",{"$nulls":4},"",{"$nulls":6},0,{"$f":"SUM($FL$36:$FL79)","v":0},0]
[45,{"$nulls":4},"N/A",{"$nulls":10},"","","",null,"","","",null,"","","",null,"","","",{"$nulls":5},"","","","","","","","",null,0,{"$nulls":3},"","","",null,"","","",null,"","","",null,"","","",{"$nulls":8},"",{"$nulls":4},"",{"$nulls":4},"",{"$nulls":15},"",{"$nulls":4},"",{"$nulls":4},"",{"$nulls":15},"",{"$nulls":4},"",{"$nulls":4},"",{"$nulls":15},"",{"$nulls":4},"",{"$nulls":4},"",{"$nulls":6},0,{"$f":"SUM($FL$36:$FL80)","v":0},0]
[46,{"$nulls":4},"N/A",{"$nulls":10},"","","",null,"","","",null,"","","",null,"","","",{"$nulls":5},"","","","","","","","",null,0,{"$nulls":3},"","","",null,"","","",null,"","","",null,"","","",{"$nulls":8},"",{"$nulls":4},"",{"$nulls":4},"",{"$nulls":15},"",{"$nulls":4},"",{"$nulls":4},"",{"$nulls":15},"",{"$nulls":4},"",{"$nulls":4},"",{"$nulls":15},"",{"$nulls":4},"",{"$nulls":4},"",{"$nulls":6},0,{"$f":"SUM($FL$36:$FL81)","v":0},0]
[47,{"$nulls":4},"N/A",{"$nulls":10},"","","",null,"","","",null,"","","",null,"","","",{"$nulls":5},"","","","","","","","",null,0,{"$nulls":3},"","","",null,"","","",null,"","","",null,"","","",{"$nulls":8},"",{"$nulls":4},"",{"$nulls":4},"",{"$nulls":15},"",{"$nulls":4},"",{"$nulls":4},"",{"$nulls":15},"",{"$nulls":4},"",{"$nulls":4},"",{"$nulls":15},"",{"$nulls":4},"",{"$nulls":4},"",{"$nulls":6},0,{"$f":"SUM($FL$36:$FL82)","v":0},0]
[48,{"$nulls":4},"N/A",{"$nulls":10},"","","",null,"","","",null,"","","",null,"","","",{"$nulls":5},"","","","","","","","",null,0,{"$nulls":3},"","","",null,"","","",null,"","","",null,"","","",{"$nulls":8},"",{"$nulls":4},"",{"$nulls":4},"",{"$nulls":15},"",{"$nulls":4},"",{"$nulls":4},"",{"$nulls":15},"",{"$nulls":4},"",{"$nulls":4},"",{"$nulls":15},"",{"$nulls":4},"",{"$nulls":4},"",{"$nulls":6},0,{"$f":"SUM($FL$36:$FL83)","v":0},0]
[49,{"$nulls":4},"N/A",{"$nulls":10},"","","",null,"","","",null,"","","",null,"","","",{"$nulls":5},"","","","","","","","",null,0,{"$nulls":3},"","","",null,"","","",null,"","","",null,"","","",{"$nulls":8},"",{"$nulls":4},"",{"$nulls":4},"",{"$nulls":15},"",{"$nulls":4},"",{"$nulls":4},"",{"$nulls":15},"",{"$nulls":4},"",{"$nulls":4},"",{"$nulls":15},"",{"$nulls":4},"",{"$nulls":4},"",{"$nulls":6},0,{"$f":"SUM($FL$36:$FL84)","v":0},0]
[50,{"$nulls":4},"N/A",{"$nulls":10},"","","",null,"","","",null,"","","",null,"","","",{"$nulls":5},"","","","","","","","",null,0,{"$nulls":3},"","","",null,"","","",null,"","","",null,"",{"$f":"IF($B85=\"Y\",IF(AND($AC85<>\"\",$AQ84<>\"\",$AR84<>\"\"),($AC85+$AQ84)/($AR84+1),\"\"),\"\")","v":""},"",{"$nulls":8},"",{"$nulls":4},"",{"$nulls":4},"",{"$nulls":15},"",{"$nulls":4},"",{"$nulls":4},"",{"$nulls":15},"",{"$nulls":4},"",{"$nulls":4},"",{"$nulls":15},"",{"$nulls":4},"",{"$nulls":4},"",{"$nulls":6},0,{"$f":"SUM($FL$36:$FL85)","v":0},0]
[null,null,{"$f":"SUM(C36:C85)","v":0}]
["g/bhp-hr"]
["g/kW-hr"]

{"sheet":"Engine Family #22","index":24,"n_rows":88,"n_cols":176,"rows_kept":88,"merged":[[1,0,1,35],[2,0,2,35],[3,0,3,35],[4,0,4,35],[5,0,5,35],[6,0,6,35],[8,0,8,16],[10,4,10,6],[10,12,10,13],[11,4,11,6],[11,15,11,16],[11,19,11,20],[11,23,11,24],[11,27,11,28],[12,4,12,6],[13,4,13,6],[14,4,15,6],[17,14,22,14],[27,4,30,13],[27,15,28,16],[32,0,32,16],[32,17,32,33],[32,34,32,35],[33,45,34,45]]}
[]
["United States"]
["US Environmental Protection Agency"]
["Office of Air and Radiation, Office of Transportation and Air Quality"]
[{"$nulls":37},"Tier 2","Y",94]
["Manufacturer Production Line Testing Report for Marine Compression Ignition Engines",{"$nulls":36},"Tier 3","N",1042]
[{"$f":"Summary!B7","v":"Version Number: 1.4 DRAFT  Last Revision: September 2023"},{"$nulls":36},"Tier 4",null,"N/A"]
[]
["Basic Information: Engine Family #22"]
[{"$nulls":167},{"$f":"IF(AND($G$24=94,Summary!$L$13=\"Category 1\"),0,1)","v":1}]
[null,null,"Manufacturer:",null,{"$f":"IF(Summary!D12<>\"\",Summary!D12,\"\")","v":""},{"$nulls":3},"Engine Family:",{"$nulls":31},{"$f":"IF($G$19=\"Diesel\",\"'HC' refers to 'THC' \",IF($G$19=\"Natural Gas\",\"'HC' refers to 'NMHC' \",IF($G$19=\"Alcohol\",\"'HC' refers to 'THCE' \",\"\")))","v":""}]
[null,null,"PLT Test Contact:",null,{"$f":"IF(Summary!D13<>\"\",Summary!D13,\"\")","v":""},{"$nulls":3},"Production (Category 3 only):",{"$nulls":6},{"$f":"IF(N16<>\"Y\", \"Current CO Result\", \"Final CO Result\")","v":"Current CO Result"},null,{"$f":"$CJ$36","v":""},null,{"$f":"IF(N16<>\"Y\", \"Current PM Result\", \"Final PM Result\")","v":"Current PM Result"},null,{"$f":"$DJ$36","v":""},null,{"$f":"IF($AF$12=\"Y\",IF(N16<>\"Y\", \"Current NOx+HC Result\", \"Final NOx+HC Result\"),IF(N16<>\"Y\", \"Current HC Result\", \"Final HC Result\"))","v":"Current HC Result"},null,{"$f":"IF($AF$12=\"Y\",IF($FP$36>0,ROUND($EJ$36+$FJ$36,2),\"\"),$EJ$36)","v":""},null,{"$f":"IF(N16<>\"Y\", \"Current NOx Result\",\"Final NOx Result\")","v":"Current NOx Result"},null,{"$f":"$FJ$36","v":""},null,{"$f":"IF($L$13<>\"Category 3\",IF($G$23=\"\",\"N\",$G$23),\"N\")","v":"N"},{"$f":"IF(Summary!$L$13=\"Category 3\",\"CAT3\",\"\")","v":""}]
[null,null,"Email Address:",null,{"$f":"IF(Summary!D14<>\"\",Summary!D14,\"\")","v":""},{"$nulls":3},"Date of Start of Model Year Production:"]
[null,null,"Phone #:",null,{"$f":"IF(Summary!D15<>\"\",Summary!D15,\"\")","v":""},{"$nulls":3},"Date of End of Model Year Production:",{"$nulls":14},{"$f":"IF($G$19=\"Diesel\",\"'HC' refers to 'THC' \",IF($G$19=\"Natural Gas\",\"'HC' refers to 'NMHC' \",IF($G$19=\"Alcohol\",\"'HC' refers to 'THCE' \",\"\")))","v":""},{"$nulls":13},"Diesel",1,{"$nulls":6},1]
[null,null,"Test Location & Description:",{"$nulls":5},"Deterioration Factor Type:",{"$nulls":28},"Natural Gas",2,{"$nulls":6},2]
[{"$nulls":8},"Include Results from this Engine Family on Summary Sheet?",{"$nulls":6},"CO Standard ",{"$nulls":3},"PM Standard or FEL",{"$nulls":3},{"$f":"IF($AF$12=\"Y\",\"NOx+HC Standard or FEL\",\"HC Standard\")","v":"HC Standard"},{"$nulls":3},"NOx Standard or FEL",{"$nulls":9},"Alcohol",3,{"$nulls":6},3]
[null,null,"Carryover?:",{"$nulls":5},"Required Tests (including failure follow-ups)",{"$nulls":4},{"$f":"$FO36","v":0},null,"Units",null,"g/kW-hr",null,"Units",null,"g/kW-hr",null,"Units",null,"g/kW-hr",null,"Units",null,"g/kW-hr",{"$nulls":4},"Test Cycle Options",{"$nulls":10},4]
[null,null,{"$f":"IF($G$17=\"Y\",\"Please submit supporting documentation indicating that this is a carry-over engine family\",\"\")","v":""},{"$nulls":5},"Instead of testing, are PLT requirements for this Engine Family",{"$nulls":6},"CO  Det Factor",{"$nulls":3},"PM  Det Factor",{"$nulls":3},"HC Det Factor",{"$nulls":3},"NOx  Det Factor",{"$nulls":6},"1 = 4-Mode General Cycle (E3)",null,null,"Recreational"]
[null,null,"Fuel Type:",{"$nulls":5}," fulfilled under the following (Category 1 only)?",{"$nulls":6},"Det Factor Type",null,{"$f":"IF($N$15<>\"\",$N$15,\"\")","v":""},null,"Det Factor Type",null,{"$f":"IF($N$15<>\"\",$N$15,\"\")","v":""},null,"Det Factor Type",null,{"$f":"IF($N$15<>\"\",$N$15,\"\")","v":""},null,"Det Factor Type",null,{"$f":"IF($N$15<>\"\",$N$15,\"\")","v":""},{"$nulls":4},"2 = 5-Mode Recreational Cycle (E5)",null,null,"Commercial"]
[null,null,"Recreational/Commercial:",{"$nulls":5},"Please elaborate in the comments section.",{"$nulls":6},"CO Green Engine Factor",{"$nulls":3},"PM Green Engine Factor",{"$nulls":3},"HC Green Engine Factor",{"$nulls":3},"NOx Green Engine Factor",{"$nulls":6},"3 = 4-Mode Constant Speed Propulsion Cycle (E2)"]
[null,null,"Model Year:",{"$nulls":5},"    -1042.310(a) - EPA approved combining it, for PLT purposes only.",{"$nulls":25},"4 = 5-Mode Constant Speed Auxiliary Cycle (D2)"]
[null,null,"Tier:",{"$nulls":31},"5 = 6-Mode Variable Speed Auxiliary Cycle (G2)",null,null,"1 (E3)"]
[null,null,"Combined NOx+HC?",{"$nulls":31},"6 = 8-Mode Variable Speed Ausiliary Cycle (C1)",null,null,"2 (E5)"]
[null,null,"40 CFR Part:",{"$nulls":3},{"$f":"AN6","v":1042},null,"Additional testing required by EPA [40 CFR 1042.301(e)]? ",{"$nulls":25},"O = Other",null,null,"3 (E2)"]
[{"$nulls":37},"4 (D2)"]
[{"$nulls":37},"5 (G2)",{"$nulls":132},"deleted and redirected"]
[{"$nulls":22}," ",{"$nulls":14},"6 (C1)",4,{"$nulls":6},4]
[null,null,"Comments:",{"$nulls":34},"O (other)"]
[{"$nulls":22}," ",{"$nulls":22},"additive"]
[{"$nulls":45},"multiplicative",{"$nulls":22},"CO Rounding",{"$nulls":4},"CO Rounding",{"$nulls":4},"CO Rounding",{"$nulls":4},"CO Rounding",{"$nulls":10},"PM Rounding",{"$nulls":4},"PM Rounding",{"$nulls":4},"PM Rounding",{"$nulls":4},"PM Rounding",{"$nulls":10},"HC Rounding",{"$nulls":4},"HC Rounding",{"$nulls":4},"HC Rounding",{"$nulls":4},"HC Rounding",{"$nulls":10},"NOx Rounding",{"$nulls":4},"NOx Rounding",{"$nulls":4},"NOx Rounding",{"$nulls":4},"NOx Rounding"]
[{"$nulls":22}," ",{"$nulls":45},"initial",{"$nulls":4},"final",{"$nulls":4}," det final",{"$nulls":4},"ave of all final",{"$nulls":10},"initial",{"$nulls":4},"final",{"$nulls":4}," det final",{"$nulls":4},"ave of all final",{"$nulls":10},"initial",{"$nulls":4},"final",{"$nulls":4}," det final",{"$nulls":4},"ave of all final",{"$nulls":10},"initial",{"$nulls":4},"final",{"$nulls":4}," det final",{"$nulls":4},"ave of all final"]
[{"$nulls":38},"Y",{"$nulls":6},"Y"]
["PLT Engine Test Results: Engine Family #22",{"$nulls":37},"N",{"$nulls":6},"N",{"$nulls":124},"This is N17"]
[{"$nulls":36},"CO",null,"PM",null,null,"HC or HC+NOX",null,"Nox",null,"Engine Data Complete?",{"$nulls":11},"HC","HC","HC","HC","Nox","Nox","Nox","Nox",{"$nulls":107},"1% of production or pre-approved reduced sample size - whichever is Lower # "]
[null,"Calc Final Result?","Test Number","Test Date","Test Time","Test Qtr","Engine ID","Engine Make","Engine Configuration","Build Date","Green Engine Factor Applied?","Green Engine Factor Determination Method","Service Hours (or miles) Accumulation","Service Hours Location","Service Acc. Procedure","CO Initial Result ","Rounded CO Initial Result ","CO Final Result ","Det. CO Final Result ","PM Initial Result ","Rounded PM Initial Result ","PM Final Result ","Det. PM Final Result ","HC Initial Result ","Rounded HC Initial Result ","HC Final Result ","Det. HC Final Result ","NOx Initial Result ","Rounded NOx Initial Result ","NOx Final Result ","Det. NOx Final Result ","Reason for Failed Test (if applicable)","Remedy","Repairs","Test Cycle","Comments",0,0,0,0,0,0,0,0,{"$nulls":5},"Unrounded initial CO","Unrounded final CO","Det CO","Final CO","Unrounded initial PM","Unrounded final PM","Det PM","Final PM","Unrounded initial HCNOx","Unrounded final HCNOx","Det HCNOx","Final HCNOX","Unrounded initial NOx","Unrounded final NOx","Det NOx","Final HCNOX",{"$nulls":7},"rounded",{"$nulls":4},"rounded",{"$nulls":4},"rounded",{"$nulls":4},"rounded",{"$nulls":10},"rounded",{"$nulls":4},"rounded",{"$nulls":4},"rounded",{"$nulls":4},"rounded",{"$nulls":10},"rounded",{"$nulls":4},"rounded",{"$nulls":4},"rounded",{"$nulls":4},"rounded","ROUNDED AND ACCOUNT FOR BLANK",{"$nulls":9},"rounded",{"$nulls":4},"rounded",{"$nulls":4},"rounded",{"$nulls":4},"rounded","ROUNDED AND ACCOUNT FOR BLANK","Test complete Flag","Total complete","Fail Flag","req","val","baseline req","req due to fails","sum fails","baseline req"]
[1,{"$nulls":4},"N/A",{"$nulls":10},{"$f":"$BU36","v":""},{"$f":"$BZ36","v":""},{"$f":"$CE36","v":""},null,{"$f":"$CU36","v":""},{"$f":"$CZ36","v":""},{"$f":"$DE36","v":""},null,{"$f":"$DU36","v":""},{"$f":"$DZ36","v":""},{"$f":"$EE36","v":""},null,{"$f":"$EU36","v":""},{"$f":"$EZ36","v":""},{"$f":"$FE36","v":""},{"$nulls":5},{"$f":"IF($B36=\"N\",IF(AND($AK35<>\"\",$Q36<>\"\"),$AK35+$Q36,\"\"),IF($B36=\"Y\",0,\"\"))","v":""},{"$f":"IF($B36=\"N\",AL35+1,IF($B36=\"Y\",0,\"\"))","v":""},{"$f":"IF($B36=\"N\",IF(AND($AM35<>\"\",$U36<>\"\"),$AM35+$U36,\"\"),IF($B36=\"Y\",0,\"\"))","v":""},{"$f":"IF($B36=\"N\",AN35+1,IF($B36=\"Y\",0,\"\"))","v":""},{"$f":"IF($B36=\"N\",IF(AND($AO35<>\"\",$Y36<>\"\"),$AO35+$Y36,\"\"),IF($B36=\"Y\",0,\"\"))","v":""},{"$f":"IF($B36=\"N\",AP35+1,IF($B36=\"Y\",0,\"\"))","v":""},{"$f":"IF($B36=\"N\",IF(AND($AQ35<>\"\",$AC36<>\"\"),$AQ35+$AC36,\"\"),IF($B36=\"Y\",0,\"\"))","v":""},{"$f":"IF($B36=\"N\",AR35+1,IF($B36=\"Y\",0,\"\"))","v":""},null,{"$f":"IF(AND(B36<>\"\",C36<>\"\",D36<>\"\",E36<>\"\",G36<>\"\",H36<>\"\",I36<>\"\",J36<>\"\",K36<>\"\",M36<>\"\",N36<>\"\",O36<>\"\"),1,0)","v":0},{"$nulls":3},{"$f":"IF(AND($P36<>\"\",$AT36=1),$P36,\"\")","v":""},{"$f":"IF($B36=\"Y\",IF(AND($Q36<>\"\",$AK35<>\"\",$AL35<>\"\"),($Q36+$AK35)/($AL35+1),\"\"),\"\")","v":""},{"$f":"IF(AND($B36=\"Y\",$R36<>\"\",$R$18<>\"\"),IF($R$19=\"additive\",$R36+$R$18,IF($R$19=\"multiplicative\",$R36*$R$18,\"\")),\"\")","v":""},{"$f":"IF(COUNT($S$36:$S$85)>0,AVERAGE($S$36:$S$85),\"\")","v":""},{"$f":"IF(AND($T36<>\"\",$AT36=1),$T36,\"\")","v":""},{"$f":"IF($B36=\"Y\",IF(AND($U36<>\"\",$AM35<>\"\",$AN35<>\"\"),($U36+$AM35)/($AN35+1),\"\"),\"\")","v":""},{"$f":"IF(AND($B36=\"Y\",$V36<>\"\",$V$18<>\"\"),IF($V$19=\"additive\",$V36+$V$18,IF($V$19=\"multiplicative\",$V36*$V$18,\"\")),\"\")","v":""},{"$f":"IF(COUNT($W$36:$W$85)>0,AVERAGE($W$36:$W$85),\"\")","v":""},{"$f":"IF(AND($X36<>\"\",$AT36=1),$X36,\"\")","v":""},{"$f":"IF($B36=\"Y\",IF(AND($Y36<>\"\",$AO35<>\"\",$AP35<>\"\"),($Y36+$AO35)/($AP35+1),\"\"),\"\")","v":""},{"$f":"IF(AND($B36=\"Y\",$Z36<>\"\",$Z$18<>\"\"),IF($Z$19=\"additive\",$Z36+$Z$18,IF($Z$19=\"multiplicative\",$Z36*$Z$18,\"\")),\"\")","v":""},{"$f":"IF(COUNT($AA$36:$AA$85)>0,AVERAGE($AA$36:$AA$85),\"\")","v":""},{"$f":"IF(AND($AB36<>\"\",$AT36=1),$AB36,\"\")","v":""},{"$f":"IF($B36=\"Y\",IF(AND($AC36<>\"\",$AQ35<>\"\",$AR35<>\"\"),($AC36+$AQ35)/($AR35+1),\"\"),\"\")","v":""},{"$f":"IF(AND($B36=\"Y\",$AD36<>\"\",$AD$18<>\"\"),IF($AD$19=\"additive\",$AD36+$AD$18,IF($AD$19=\"multiplicative\",$AD36*$AD$18,\"\")),\"\")","v":""},{"$f":"IF(COUNT($AE$36:$AE$85)>0,AVERAGE($AE$36:$AE$85),\"\")","v":""},{"$nulls":7},{"$f":"IF($AX36<>\"\",ROUND($AX36,2),\"\")","v":""},{"$nulls":4},{"$f":"IF($AY36<>\"\",ROUND($AY36,2),\"\")","v":""},{"$nulls":4},{"$f":"IF($AZ36<>\"\",ROUND($AZ36,2),\"\")","v":""},{"$nulls":4},{"$f":"IF($BA36<>\"\",ROUND($BA36,2),\"\")","v":""},{"$nulls":10},{"$f":"IF($BB36<>\"\",ROUND($BB36,3),\"\")","v":""},{"$nulls":4},{"$f":"IF($BC36<>\"\",ROUND($BC36,3),\"\")","v":""},{"$nulls":4},{"$f":"IF($BD36<>\"\",ROUND($BD36,3),\"\")","v":""},{"$nulls":4},{"$f":"IF($BE36<>\"\",ROUND($BE36,3),\"\")","v":""},{"$nulls":10},{"$f":"IF($BF36<>\"\",ROUND($BF36,3),\"\")","v":""},{"$nulls":4},{"$f":"IF($BG36<>\"\",ROUND($BG36,3),\"\")","v":""},{"$nulls":4},{"$f":"IF($BH36<>\"\",ROUND($BH36,3),\"\")","v":""},{"$nulls":4},{"$f":"IF($BI36<>\"\",ROUND($BI36,3),\"\")","v":""},{"$f":"IF(EJ36=\"\",0,EJ36)","v":0},{"$nulls":9},{"$f":"IF($BJ36<>\"\",ROUND($BJ36,2),\"\")","v":""},{"$nulls":4},{"$f":"IF($BK36<>\"\",ROUND($BK36,2),\"\")","v":""},{"$nulls":4},{"$f":"IF($BL36<>\"\",ROUND($BL36,2),\"\")","v":""},{"$nulls":4},{"$f":"IF($BM36<>\"\",ROUND($BM36,2),\"\")","v":""},{"$f":"IF(FJ36=\"\",0,FJ36)","v":0},{"$f":"IF($AG$12<>\"CAT3\",IF(AND($B36=\"Y\",$S36<>\"\",$W36<>\"\",$AA36<>\"\",$AE36<>\"\"),1,0),IF($AE36<>\"\",1,0))","v":0},{"$f":"SUM($FL$36:$FL36)","v":0},{"$f":"IF($AG$12<>\"CAT3\",IF($FL36=1,IF(OR($S36>$R$16,$W36>$V$16,$AA36>$Z$16,IF($AF$12<>\"Y\",OR($AA36>$Z$16,$AE36>$AD$16),ROUND(($AA36+$AE36),2)>$Z$16)),1,0),0),IF($FL36=1,IF(AND($AE36>$AD$16,$AF$12=\"N\"),1,0),0))","v":0},{"$f":"IF(OR($M$11=\"\",$N$18=\"Y\"),0,IF($AG$12=\"CAT3\",$N$12,($FR$36+1)))","v":0},{"$f":"SUM(FL36:FL85)","v":0},{"$f":"IF(AND($G$17=\"Y\",$N$24<>\"\"),MIN($N$24,$FT$36),$FT$36)","v":0},{"$f":"$FS$36*2","v":0},{"$f":"SUM(FN36:FN85)","v":0},{"$f":"IF($N$12<>\"\",$N$12*0.01,0)","v":0}]
[{"$f":"A36+1","v":2},{"$nulls":4},"N/A",{"$nulls":10},"","","",null,"","","",null,"","","",null,"","","",{"$nulls":5},"",{"$f":"IF($B37=\"N\",AL36+1,IF($B37=\"Y\",0,\"\"))","v":""},"",{"$f":"IF($B37=\"N\",AN36+1,IF($B37=\"Y\",0,\"\"))","v":""},{"$f":"IF($B37=\"N\",IF(AND($AO36<>\"\",$Y37<>\"\"),$AO36+$Y37,\"\"),IF($B37=\"Y\",0,\"\"))","v":""},{"$f":"IF($B37=\"N\",AP36+1,IF($B37=\"Y\",0,\"\"))","v":""},{"$f":"IF($B37=\"N\",IF(AND($AQ36<>\"\",$AC37<>\"\"),$AQ36+$AC37,\"\"),IF($B37=\"Y\",0,\"\"))","v":""},{"$f":"IF($B37=\"N\",AR36+1,IF($B37=\"Y\",0,\"\"))","v":""},null,{"$f":"IF(AND(B37<>\"\",C37<>\"\",D37<>\"\",E37<>\"\",G37<>\"\",H37<>\"\",I37<>\"\",J37<>\"\",K37<>\"\",M37<>\"\",N37<>\"\",O37<>\"\"),1,0)","v":0},{"$nulls":3},"","",{"$f":"IF(AND($B37=\"Y\",$R37<>\"\",$R$18<>\"\"),IF($R$19=\"additive\",$R37+$R$18,IF($R$19=\"multiplicative\",$R37*$R$18,\"\")),\"\")","v":""},null,"","",{"$f":"IF(AND($B37=\"Y\",$V37<>\"\",$V$18<>\"\"),IF($V$19=\"additive\",$V37+$V$18,IF($V$19=\"multiplicative\",$V37*$V$18,\"\")),\"\")","v":""},null,{"$f":"IF(AND($X37<>\"\",$AT37=1),$X37,\"\")","v":""},{"$f":"IF($B37=\"Y\",IF(AND($Y37<>\"\",$AO36<>\"\",$AP36<>\"\"),($Y37+$AO36)/($AP36+1),\"\"),\"\")","v":""},{"$f":"IF(AND($B37=\"Y\",$Z37<>\"\",$Z$18<>\"\"),IF($Z$19=\"additive\",$Z37+$Z$18,IF($Z$19=\"multiplicative\",$Z37*$Z$18,\"\")),\"\")","v":""},null,{"$f":"IF(AND($AB37<>\"\",$AT37=1),$AB37,\"\")","v":""},{"$f":"IF($B37=\"Y\",IF(AND($AC37<>\"\",$AQ36<>\"\",$AR36<>\"\"),($AC37+$AQ36)/($AR36+1),\"\"),\"\")","v":""},{"$f":"IF(AND($B37=\"Y\",$AD37<>\"\",$AD$18<>\"\"),IF($AD$19=\"additive\",$AD37+$AD$18,IF($AD$19=\"multiplicative\",$AD37*$AD$18,\"\")),\"\")","v":""},{"$nulls":8},{"$f":"IF($AX37<>\"\",ROUND($AX37,2),\"\")","v":""},{"$nulls":4},{"$f":"IF($AY37<>\"\",ROUND($AY37,2),\"\")","v":""},{"$nulls":4},{"$f":"IF($AZ37<>\"\",ROUND($AZ37,2),\"\")","v":""},{"$nulls":15},{"$f":"IF($BB37<>\"\",ROUND($BB37,3),\"\")","v":""},{"$nulls":4},{"$f":"IF($BC37<>\"\",ROUND($BC37,3),\"\")","v":""},{"$nulls":4},{"$f":"IF($BD37<>\"\",ROUND($BD37,3),\"\")","v":""},{"$nulls":15},{"$f":"IF($BF37<>\"\",ROUND($BF37,3),\"\")","v":""},{"$nulls":4},{"$f":"IF($BG37<>\"\",ROUND($BG37,3),\"\")","v":""},{"$nulls":4},{"$f":"IF($BH37<>\"\",ROUND($BH37,3),\"\")","v":""},{"$nulls":15},{"$f":"IF($BJ37<>\"\",ROUND($BJ37,2),\"\")","v":""},{"$nulls":4},{"$f":"IF($BK37<>\"\",ROUND($BK37,2),\"\")","v":""},{"$nulls":4},{"$f":"IF($BL37<>\"\",ROUND($BL37,2),\"\")","v":""},{"$nulls":6},{"$f":"IF($AG$12<>\"CAT3\",IF(AND($B37=\"Y\",$S37<>\"\",$W37<>\"\",$AA37<>\"\",$AE37<>\"\"),1,0),IF($AE37<>\"\",1,0))","v":0},{"$f":"SUM($FL$36:$FL37)","v":0},{"$f":"IF($AG$12<>\"CAT3\",IF($FL37=1,IF(OR($S37>$R$16,$W37>$V$16,$AA37>$Z$16,IF($AF$12<>\"Y\",OR($AA37>$Z$16,$AE37>$AD$16),ROUND(($AA37+$AE37),2)>$Z$16)),1,0),0),IF($FL37=1,IF(AND($AE37>$AD$16,$AF$12=\"N\"),1,0),0))","v":0},null,null,{"$f":"MAX($FQ$36,$FL$10)","v":1}]
[{"$f":"A37+1","v":3},{"$nulls":4},"N/A",{"$nulls":10},"","","",null,"","","",null,"","","",null,"","","",{"$nulls":5},"","","","","","","","",null,0,{"$nulls":3},"","","",null,"","","",null,"","","",null,"","","",{"$nulls":8},"",{"$nulls":4},"",{"$nulls":4},"",{"$nulls":15},"",{"$nulls":4},"",{"$nulls":4},"",{"$nulls":15},"",{"$nulls":4},"",{"$nulls":4},"",{"$nulls":15},"",{"$nulls":4},"",{"$nulls":4},"",{"$nulls":6},0,{"$f":"SUM($FL$36:$FL38)","v":0},0]
[4,{"$nulls":4},"N/A",{"$nulls":10},"","","",null,"","","",null,"","","",null,"","","",{"$nulls":5},"","","","","","","","",null,0,{"$nulls":3},"","","",null,"","","",null,"","","",null,"","","",{"$nulls":8},"",{"$nulls":4},"",{"$nulls":4},"",{"$nulls":15},"",{"$nulls":4},"",{"$nulls":4},"",{"$nulls":15},"",{"$nulls":4},"",{"$nulls":4},"",{"$nulls":15},"",{"$nulls":4},"",{"$nulls":4},"",{"$nulls":6},0,{"$f":"SUM($FL$36:$FL39)","v":0},0,null,null,"then, the larger of that sample size or 1  (or if Part 94 and cat1,  can be 0)"]
[5,{"$nulls":4},"N/A",{"$nulls":10},"","","",null,"","","",null,"","","",null,"","","",{"$nulls":5},"","","","","","","","",null,0,{"$nulls":3},"","","",null,"","","",null,"","","",null,"","","",{"$nulls":8},"",{"$nulls":4},"",{"$nulls":4},"",{"$nulls":15},"",{"$nulls":4},"",{"$nulls":4},"",{"$nulls":15},"",{"$nulls":4},"",{"$nulls":4},"",{"$nulls":15},"",{"$nulls":4},"",{"$nulls":4},"",{"$nulls":6},0,{"$f":"SUM($FL$36:$FL40)","v":0},0]
[6,{"$nulls":4},"N/A",{"$nulls":10},"","","",null,"","","",null,"","","",null,"","","",{"$nulls":5},"","","","","","","","",null,0,{"$nulls":3},"","","",null,"","","",null,"","","",null,"","","",{"$nulls":8},"",{"$nulls":4},"",{"$nulls":4},"",{"$nulls":15},"",{"$nulls":4},"",{"$nulls":4},"",{"$nulls":15},"",{"$nulls":4},"",{"$nulls":4},"",{"$nulls":15},"",{"$nulls":4},"",{"$nulls":4},"",{"$nulls":6},0,{"$f":"SUM($FL$36:$FL41)","v":0},0]
[7,{"$nulls":4},"N/A",{"$nulls":10},"","","",null,"","","",null,"","","",null,"","","",{"$nulls":5},"","","","","","","","",null,0,{"$nulls":3},"","","",null,"","","",null,"","","",null,"","","",{"$nulls":8},"",{"$nulls":4},"",{"$nulls":4},"",{"$nulls":15},"",{"$nulls":4},"",{"$nulls":4},"",{"$nulls":15},"",{"$nulls":4},"",{"$nulls":4},"",{"$nulls":15},"",{"$nulls":4},"",{"$nulls":4},"",{"$nulls":6},0,{"$f":"SUM($FL$36:$FL42)","v":0},0]
[8,{"$nulls":4},"N/A",{"$nulls":10},"","","",null,"","","",null,"","","",null,"","","",{"$nulls":5},"","","","","","","","",null,0,{"$nulls":3},"","","",null,"","","",null,"","","",null,"","","",{"$nulls":8},"",{"$nulls":4},"",{"$nulls":4},"",{"$nulls":15},"",{"$nulls":4},"",{"$nulls":4},"",{"$nulls":15},"",{"$nulls":4},"",{"$nulls":4},"",{"$nulls":15},"",{"$nulls":4},"",{"$nulls":4},"",{"$nulls":6},0,{"$f":"SUM($FL$36:$FL43)","v":0},0]
[9,{"$nulls":4},"N/A",{"$nulls":10},"","","",null,"","","",null,"","","",null,"","","",{"$nulls":5},"","","","","","","","",null,0,{"$nulls":3},"","","",null,"","","",null,"","","",null,"","","",{"$nulls":8},"",{"$nulls":4},"",{"$nulls":4},"",{"$nulls":15},"",{"$nulls":4},"",{"$nulls":4},"",{"$nulls":15},"",{"$nulls":4},"",{"$nulls":4},"",{"$nulls":15},"",{"$nulls":4},"",{"$nulls":4},"",{"$nulls":6},0,{"$f":"SUM($FL$36:$FL44)","v":0},0]
[10,{"$nulls":4},"N/A",{"$nulls":10},"","","",null,"","","",null,"","","",null,"","","",{"$nulls":5},"","","","","","","","",null,0,{"$nulls":3},"","","",null,"","","",null,"","","",null,"","","",{"$nulls":8},"",{"$nulls":4},"",{"$nulls":4},"",{"$nulls":15},"",{"$nulls":4},"",{"$nulls":4},"",{"$nulls":15},"",{"$nulls":4},"",{"$nulls":4},"",{"$nulls":15},"",{"$nulls":4},"",{"$nulls":4},"",{"$nulls":6},0,{"$f":"SUM($FL$36:$FL45)","v":0},0]
[11,{"$nulls":4},"N/A",{"$nulls":10},"","","",null,"","","",null,"","","",null,"","","",{"$nulls":5},"","","","","","","","",null,0,{"$nulls":3},"","","",null,"","","",null,"","","",null,"","","",{"$nulls":8},"",{"$nulls":4},"",{"$nulls":4},"",{"$nulls":15},"",{"$nulls":4},"",{"$nulls":4},"",{"$nulls":15},"",{"$nulls":4},"",{"$nulls":4},"",{"$nulls":15},"",{"$nulls":4},"",{"$nulls":4},"",{"$nulls":6},0,{"$f":"SUM($FL$36:$FL46)","v":0},0]
[12,{"$nulls":4},"N/A",{"$nulls":10},"","","",null,"","","",null,"","","",null,"","","",{"$nulls":5},"","","","","","","","",null,0,{"$nulls":3},"","","",null,"","","",null,"","","",null,"","","",{"$nulls":8},"",{"$nulls":4},"",{"$nulls":4},"",{"$nulls":15},"",{"$nulls":4},"",{"$nulls":4},"",{"$nulls":15},"",{"$nulls":4},"",{"$nulls":4},"",{"$nulls":15},"",{"$nulls":4},"",{"$nulls":4},"",{"$nulls":6},0,{"$f":"SUM($FL$36:$FL47)","v":0},0]
[13,{"$nulls":4},"N/A",{"$nulls":10},"","","",null,"","","",null,"","","",null,"","","",{"$nulls":5},"","","","","","","","",null,0,{"$nulls":3},"","","",null,"","","",null,"","","",null,"","","",{"$nulls":8},"",{"$nulls":4},"",{"$nulls":4},"",{"$nulls":15},"",{"$nulls":4},"",{"$nulls":4},"",{"$nulls":15},"",{"$nulls":4},"",{"$nulls":4},"",{"$nulls":15},"",{"$nulls":4},"",{"$nulls":4},"",{"$nulls":6},0,{"$f":"SUM($FL$36:$FL48)","v":0},0]
[14,{"$nulls":4},"N/A",{"$nulls":10},"","","",null,"","","",null,"","","",null,"","","",{"$nulls":5},"","","","","","","","",null,0,{"$nulls":3},"","","",null,"","","",null,"","","",null,"","","",{"$nulls":8},"",{"$nulls":4},"",{"$nulls":4},"",{"$nulls":15},"",{"$nulls":4},"",{"$nulls":4},"",{"$nulls":15},"",{"$nulls":4},"",{"$nulls":4},"",{"$nulls":15},"",{"$nulls":4},"",{"$nulls":4},"",{"$nulls":6},0,{"$f":"SUM($FL$36:$FL49)","v":0},0]
[15,{"$nulls":4},"N/A",{"$nulls":10},"","","",null,"","","",null,"","","",null,"","","",{"$nulls":5},"","","","","","","","",null,0,{"$nulls":3},"","","",null,"","","",null,"","","",null,"","","",{"$nulls":8},"",{"$nulls":4},"",{"$nulls":4},"",{"$nulls":15},"",{"$nulls":4},"",{"$nulls":4},"",{"$nulls":15},"",{"$nulls":4},"",{"$nulls":4},"",{"$nulls":15},"",{"$nulls":4},"",{"$nulls":4},"",{"$nulls":6},0,{"$f":"SUM($FL$36:$FL50)","v":0},0]
[16,{"$nulls":4},"N/A",{"$nulls":10},"","","",null,"","","",null,"","","",null,"","","",{"$nulls":5},"","","","","","","","",null,0,{"$nulls":3},"","","",null,"","","",null,"","","",null,"","","",{"$nulls":8},"",{"$nulls":4},"",{"$nulls":4},"",{"$nulls":15},"",{"$nulls":4},"",{"$nulls":4},"",{"$nulls":15},"",{"$nulls":4},"",{"$nulls":4},"",{"$nulls":15},"",{"$nulls":4},"",{"$nulls":4},"",{"$nulls":6},0,{"$f":"SUM($FL$36:$FL51)","v":0},0]
[17,{"$nulls":4},"N/A",{"$nulls":10},"","","",null,"","","",null,"","","",null,"","","",{"$nulls":5},"","","","","","","","",null,0,{"$nulls":3},"","","",null,"","","",null,"","","",null,"","","",{"$nulls":8},"",{"$nulls":4},"",{"$nulls":4},"",{"$nulls":15},"",{"$nulls":4},"",{"$nulls":4},"",{"$nulls":15},"",{"$nulls":4},"",{"$nulls":4},"",{"$nulls":15},"",{"$nulls":4},"",{"$nulls":4},"",{"$nulls":6},0,{"$f":"SUM($FL$36:$FL52)","v":0},0]
[18,{"$nulls":4},"N/A",{"$nulls":10},"","","",null,"","","",null,"","","",null,"","","",{"$nulls":5},"","","","","","","","",null,0,{"$nulls":3},"","","",null,"","","",null,"","","",null,"","","",{"$nulls":8},"",{"$nulls":4},"",{"$nulls":4},"",{"$nulls":15},"",{"$nulls":4},"",{"$nulls":4},"",{"$nulls":15},"",{"$nulls":4},"",{"$nulls":4},"",{"$nulls":15},"",{"$nulls":4},"",{"$nulls":4},"",{"$nulls":6},0,{"$f":"SUM($FL$36:$FL53)","v":0},0]
[19,{"$nulls":4},"N/A",{"$nulls":10},"","","",null,"","","",null,"","","",null,"","","",{"$nulls":5},"","","","","","","","",null,0,{"$nulls":3},"","","",null,"","","",null,"","","",null,"","","",{"$nulls":8},"",{"$nulls":4},"",{"$nulls":4},"",{"$nulls":15},"",{"$nulls":4},"",{"$nulls":4},"",{"$nulls":15},"",{"$nulls":4},"",{"$nulls":4},"",{"$nulls":15},"",{"$nulls":4},"",{"$nulls":4},"",{"$nulls":6},0,{"$f":"SUM($FL$36:$FL54)","v":0},0]
[20,{"$nulls":4},"N/A",{"$nulls":10},"","","",null,"","","",null,"","","",null,"","","",{"$nulls":5},"","","","","","","","",null,0,{"$nulls":3},"","","",null,"","","",null,"","","",null,"","","",{"$nulls":8},"",{"$nulls":4},"",{"$nulls":4},"",{"$nulls":15},"",{"$nulls":4},"",{"$nulls":4},"",{"$nulls":15},"",{"$nulls":4},"",{"$nulls":4},"",{"$nulls":15},"",{"$nulls":4},"",{"$nulls":4},"",{"$nulls":6},0,{"$f":"SUM($FL$36:$FL55)","v":0},0]
[21,{"$nulls":4},"N/A",{"$nulls":10},"","","",null,"","","",null,"","","",null,"","","",{"$nulls":5},"","","","","","","","",null,0,{"$nulls":3},"","","",null,"","","",null,"","","",null,"","","",{"$nulls":8},"",{"$nulls":4},"",{"$nulls":4},"",{"$nulls":15},"",{"$nulls":4},"",{"$nulls":4},"",{"$nulls":15},"",{"$nulls":4},"",{"$nulls":4},"",{"$nulls":15},"",{"$nulls":4},"",{"$nulls":4},"",{"$nulls":6},0,{"$f":"SUM($FL$36:$FL56)","v":0},0]
[22,{"$nulls":4},"N/A",{"$nulls":10},"","","",null,"","","",null,"","","",null,"","","",{"$nulls":5},"","","","","","","","",null,0,{"$nulls":3},"","","",null,"","","",null,"","","",null,"","","",{"$nulls":8},"",{"$nulls":4},"",{"$nulls":4},"",{"$nulls":15},"",{"$nulls":4},"",{"$nulls":4},"",{"$nulls":15},"",{"$nulls":4},"",{"$nulls":4},"",{"$nulls":15},"",{"$nulls":4},"",{"$nulls":4},"",{"$nulls":6},0,{"$f":"SUM($FL$36:$FL57)","v":0},0]
[23,{"$nulls":4},"N/A",{"$nulls":10},"","","",null,"","","",null,"","","",null,"","","",{"$nulls":5},"","","","","","","","",null,0,{"$nulls":3},"","","",null,"","","",null,"","","",null,"","","",{"$nulls":8},"",{"$nulls":4},"",{"$nulls":4},"",{"$nulls":15},"",{"$nulls":4},"",{"$nulls":4},"",{"$nulls":15},"",{"$nulls":4},"",{"$nulls":4},"",{"$nulls":15},"",{"$nulls":4},"",{"$nulls":4},"",{"$nulls":6},0,{"$f":"SUM($FL$36:$FL58)","v":0},0]
[24,{"$nulls":4},"N/A",{"$nulls":10},"","","",null,"","","",null,"","","",null,"","","",{"$nulls":5},"","","","","","","","",null,0,{"$nulls":3},"","","",null,"","","",null,"","","",null,"","","",{"$nulls":8},"",{"$nulls":4},"",{"$nulls":4},"",{"$nulls":15},"",{"$nulls":4},"",{"$nulls":4},"",{"$nulls":15},"",{"$nulls":4},"",{"$nulls":4},"",{"$nulls":15},"",{"$nulls":4},"",{"$nulls":4},"",{"$nulls":6},0,{"$f":"SUM($FL$36:$FL59)","v":0},0]
[25,{"$nulls":4},"N/A",{"$nulls":10},"","","",null,"","","",null,"","","",null,"","","",{"$nulls":5},"","","","","","","","",null,0,{"$nulls":3},"","","",null,"","","",null,"","","",null,"","","",{"$nulls":8},"",{"$nulls":4},"",{"$nulls":4},"",{"$nulls":15},"",{"$nulls":4},"",{"$nulls":4},"",{"$nulls":15},"",{"$nulls":4},"",{"$nulls":4},"",{"$nulls":15},"",{"$nulls":4},"",{"$nulls":4},"",{"$nulls":6},0,{"$f":"SUM($FL$36:$FL60)","v":0},0]
[26,{"$nulls":4},"N/A",{"$nulls":10},"","","",null,"","","",null,"","","",null,"","","",{"$nulls":5},"","","","","","","","",null,0,{"$nulls":3},"","","",null,"","","",null,"","","",null,"","","",{"$nulls":8},"",{"$nulls":4},"",{"$nulls":4},"",{"$nulls":15},"",{"$nulls":4},"",{"$nulls":4},"",{"$nulls":15},"",{"$nulls":4},"",{"$nulls":4},"",{"$nulls":15},"",{"$nulls":4},"",{"$nulls":4},"",{"$nulls":6},0,{"$f":"SUM($FL$36:$FL61)","v":0},0]
[27,{"$nulls":4},"N/A",{"$nulls":10},"","","",null,"","","",null,"","","",null,"","","",{"$nulls":5},"","","","","","","","",null,0,{"$nulls":3},"","","",null,"","","",null,"","","",null,"","","",{"$nulls":8},"",{"$nulls":4},"",{"$nulls":4},"",{"$nulls":15},"",{"$nulls":4},"",{"$nulls":4},"",{"$nulls":15},"",{"$nulls":4},"",{"$nulls":4},"",{"$nulls":15},"",{"$nulls":4},"",{"$nulls":4},"",{"$nulls":6},0,{"$f":"SUM($FL$36:$FL62)","v":0},0]
[28,{"$nulls":4},"N/A",{"$nulls":10},"","","",null,"","","",null,"","","",null,"","","",{"$nulls":5},"","","","","","","","",null,0,{"$nulls":3},"","","",null,"","","",null,"","","",null,"","","",{"$nulls":8},"",{"$nulls":4},"",{"$nulls":4},"",{"$nulls":15},"",{"$nulls":4},"",{"$nulls":4},"",{"$nulls":15},"",{"$nulls":4},"",{"$nulls":4},"",{"$nulls":15},"",{"$nulls":4},"",{"$nulls":4},"",{"$nulls":6},0,{"$f":"SUM($FL$36:$FL63)","v":0},0]
[29,{"$nulls":4},"N/A",{"$nulls":10},"","","",null,"","","",null,"","","",null,"","","",{"$nulls":5},"","","","","","","","",null,0,{"$nulls":3},"","","",null,"","","",null,"","","",null,"","","",{"$nulls":8},"",{"$nulls":4},"",{"$nulls":4},"",{"$nulls":15},"",{"$nulls":4},"",{"$nulls":4},"",{"$nulls":15},"",{"$nulls":4},"",{"$nulls":4},"",{"$nulls":15},"",{"$nulls":4},"",{"$nulls":4},"",{"$nulls":6},0,{"$f":"SUM($FL$36:$FL64)","v":0},0]
[30,{"$nulls":4},"N/A",{"$nulls":10},"","","",null,"","","",null,"","","",null,"","","",{"$nulls":5},"","","","","","","","",null,0,{"$nulls":3},"","","",null,"","","",null,"","","",null,"","","",{"$nulls":8},"",{"$nulls":4},"",{"$nulls":4},"",{"$nulls":15},"",{"$nulls":4},"",{"$nulls":4},"",{"$nulls":15},"",{"$nulls":4},"",{"$nulls":4},"",{"$nulls":15},"",{"$nulls":4},"",{"$nulls":4},"",{"$nulls":6},0,{"$f":"SUM($FL$36:$FL65)","v":0},0]
[31,{"$nulls":4},"N/A",{"$nulls":10},"","","",null,"","","",null,"","","",null,"","","",{"$nulls":5},"","","","","","","","",null,0,{"$nulls":3},"","","",null,"","","",null,"","","",null,"","","",{"$nulls":8},"",{"$nulls":4},"",{"$nulls":4},"",{"$nulls":15},"",{"$nulls":4},"",{"$nulls":4},"",{"$nulls":15},"",{"$nulls":4},"",{"$nulls":4},"",{"$nulls":15},"",{"$nulls":4},"",{"$nulls":4},"",{"$nulls":6},0,{"$f":"SUM($FL$36:$FL66)","v":0},0]
[32,{"$nulls":4},"N/A",{"$nulls":10},"","","",null,"","","",null,"","","",null,"","","",{"$nulls":5},"","","","","","","","",null,0,{"$nulls":3},"","","",null,"","","",null,"","","",null,"","","",{"$nulls":8},"",{"$nulls":4},"",{"$nulls":4},"",{"$nulls":15},"",{"$nulls":4},"",{"$nulls":4},"",{"$nulls":15},"",{"$nulls":4},"",{"$nulls":4},"",{"$nulls":15},"",{"$nulls":4},"",{"$nulls":4},"",{"$nulls":6},0,{"$f":"SUM($FL$36:$FL67)","v":0},0]
[33,{"$nulls":4},"N/A",{"$nulls":10},"","","",null,"","","",null,"","","",null,"","","",{"$nulls":5},"","","","","","","","",null,0,{"$nulls":3},"","","",null,"","","",null,"","","",null,"","","",{"$nulls":8},"",{"$nulls":4},"",{"$nulls":4},"",{"$nulls":15},"",{"$nulls":4},"",{"$nulls":4},"",{"$nulls":15},"",{"$nulls":4},"",{"$nulls":4},"",{"$nulls":15},"",{"$nulls":4},"",{"$nulls":4},"",{"$nulls":6},0,{"$f":"SUM($FL$36:$FL68)","v":0},0]
[34,{"$nulls":4},"N/A",{"$nulls":10},"","","",null,"","","",null,"","","",null,"","","",{"$nulls":5},"","","","","","","","",null,0,{"$nulls":3},"","","",null,"","","",null,"","","",null,"","","",{"$nulls":8},"",{"$nulls":4},"",{"$nulls":4},"",{"$nulls":15},"",{"$nulls":4},"",{"$nulls":4},"",{"$nulls":15},"",{"$nulls":4},"",{"$nulls":4},"",{"$nulls":15},"",{"$nulls":4},"",{"$nulls":4},"",{"$nulls":6},0,{"$f":"SUM($FL$36:$FL69)","v":0},0]
[35,{"$nulls":4},"N/A",{"$nulls":10},"","","",null,"","","",null,"","","",null,"","","",{"$nulls":5},"","","","","","","","",null,0,{"$nulls":3},"","","",null,"","","",null,"","","",null,"","","",{"$nulls":8},"",{"$nulls":4},"",{"$nulls":4},"",{"$nulls":15},"",{"$nulls":4},"",{"$nulls":4},"",{"$nulls":15},"",{"$nulls":4},"",{"$nulls":4},"",{"$nulls":15},"",{"$nulls":4},"",{"$nulls":4},"",{"$nulls":6},0,{"$f":"SUM($FL$36:$FL70)","v":0},0]
[36,{"$nulls":4},"N/A",{"$nulls":10},"","","",null,"","","",null,"","","",null,"","","",{"$nulls":5},"","","","","","","","",null,0,{"$nulls":3},"","","",null,"","","",null,"","","",null,"","","",{"$nulls":8},"",{"$nulls":4},"",{"$nulls":4},"",{"$nulls":15},"",{"$nulls":4},"",{"$nulls":4},"",{"$nulls":15},"",{"$nulls":4},"",{"$nulls":4},"",{"$nulls":15},"",{"$nulls":4},"",{"$nulls":4},"",{"$nulls":6},0,{"$f":"SUM($FL$36:$FL71)","v":0},0]
[37,{"$nulls":4},"N/A",{"$nulls":10},"","","",null,"","","",null,"","","",null,"","","",{"$nulls":5},"","","","","","","","",null,0,{"$nulls":3},"","","",null,"","","",null,"","","",null,"","","",{"$nulls":8},"",{"$nulls":4},"",{"$nulls":4},"",{"$nulls":15},"",{"$nulls":4},"",{"$nulls":4},"",{"$nulls":15},"",{"$nulls":4},"",{"$nulls":4},"",{"$nulls":15},"",{"$nulls":4},"",{"$nulls":4},"",{"$nulls":6},0,{"$f":"SUM($FL$36:$FL72)","v":0},0]
[38,{"$nulls":4},"N/A",{"$nulls":10},"","","",null,"","","",null,"","","",null,"","","",{"$nulls":5},"","","","","","","","",null,0,{"$nulls":3},"","","",null,"","","",null,"","","",null,"","","",{"$nulls":8},"",{"$nulls":4},"",{"$nulls":4},"",{"$nulls":15},"",{"$nulls":4},"",{"$nulls":4},"",{"$nulls":15},"",{"$nulls":4},"",{"$nulls":4},"",{"$nulls":15},"",{"$nulls":4},"",{"$nulls":4},"",{"$nulls":6},0,{"$f":"SUM($FL$36:$FL73)","v":0},0]
[39,{"$nulls":4},"N/A",{"$nulls":10},"","","",null,"","","",null,"","","",null,"","","",{"$nulls":5},"","","","","","","","",null,0,{"$nulls":3},"","","",null,"","","",null,"","","",null,"","","",{"$nulls":8},"",{"$nulls":4},"",{"$nulls":4},"",{"$nulls":15},"",{"$nulls":4},"",{"$nulls":4},"",{"$nulls":15},"",{"$nulls":4},"",{"$nulls":4},"",{"$nulls":15},"",{"$nulls":4},"",{"$nulls":4},"",{"$nulls":6},0,{"$f":"SUM($FL$36:$FL74)","v":0},0]
[40,{"$nulls":4},"N/A",{"$nulls":10},"","","",null,"","","",null,"","","",null,"","","",{"$nulls":5},"","","","","","","","",null,0,{"$nulls":3},"","","",null,"","","",null,"","","",null,"","","",{"$nulls":8},"",{"$nulls":4},"",{"$nulls":4},"",{"$nulls":15},"",{"$nulls":4},"",{"$nulls":4},"",{"$nulls":15},"",{"$nulls":4},"",{"$nulls":4},"",{"$nulls":15},"",{"$nulls":4},"",{"$nulls":4},"",{"$nulls":6},0,{"$f":"SUM($FL$36:$FL75)","v":0},0]
[41,{"$nulls":4},"N/A",{"$nulls":10},"","","",null,"","","",null,"","","",null,"","","",{"$nulls":5},"","","","","","","","",null,0,{"$nulls":3},"","","",null,"","","",null,"","","",null,"","","",{"$nulls":8},"",{"$nulls":4},"",{"$nulls":4},"",{"$nulls":15},"",{"$nulls":4},"",{"$nulls":4},"",{"$nulls":15},"",{"$nulls":4},"",{"$nulls":4},"",{"$nulls":15},"",{"$nulls":4},"",{"$nulls":4},"",{"$nulls":6},0,{"$f":"SUM($FL$36:$FL76)","v":0},0]
[42,{"$nulls":4},"N/A",{"$nulls":10},"","","",null,"","","",null,"","","",null,"","","",{"$nulls":5},"","","","","","","","",null,0,{"$nulls":3},"","","",null,"","","",null,"","","",null,"","","",{"$nulls":8},"",{"$nulls":4},"",{"$nulls":4},"",{"$nulls":15},"",{"$nulls":4},"",{"$nulls":4},"",{"$nulls":15},"",{"$nulls":4},"",{"$nulls":4},"",{"$nulls":15},"",{"$nulls":4},"",{"$nulls":4},"",{"$nulls":6},0,{"$f":"SUM($FL$36:$FL77)","v":0},0]
[43,{"$nulls":4},"N/A",{"$nulls":10},"","","",null,"","","",null,"","","",null,"","","",{"$nulls":5},"","","","","","","","",null,0,{"$nulls":3},"","","",null,"","","",null,"","","",null,"","","",{"$nulls":8},"",{"$nulls":4},"",{"$nulls":4},"",{"$nulls":15},"",{"$nulls":4},"",{"$nulls":4},"",{"$nulls":15},"",{"$nulls":4},"",{"$nulls":4},"",{"$nulls":15},"",{"$nulls":4},"",{"$nulls":4},"",{"$nulls":6},0,{"$f":"SUM($FL$36:$FL78)","v":0},0]
[44,{"$nulls":4},"N/A",{"$nulls":10},"","","",null,"","","",null,"","","",null,"","","",{"$nulls":5},"","","","","","","","",null,0,{"$nulls":3},"","","",null,"","","",null,"","","",null,"","","",{"$nulls":8},"",{"$nulls":4},"",{"$nulls":4},"",{"$nulls":15},"",{"$nulls":4},"",{"$nulls":4},"",{"$nulls":15},"",{"$nulls":4},"",{"$nulls":4},"",{"$nulls":15},"",{"$nulls":4},"",{"$nulls":4},"",{"$nulls":6},0,{"$f":"SUM($FL$36:$FL79)","v":0},0]
[45,{"$nulls":4},"N/A",{"$nulls":10},"","","",null,"","","",null,"","","",null,"","","",{"$nulls":5},"","","","","","","","",null,0,{"$nulls":3},"","","",null,"","","",null,"","","",null,"","","",{"$nulls":8},"",{"$nulls":4},"",{"$nulls":4},"",{"$nulls":15},"",{"$nulls":4},"",{"$nulls":4},"",{"$nulls":15},"",{"$nulls":4},"",{"$nulls":4},"",{"$nulls":15},"",{"$nulls":4},"",{"$nulls":4},"",{"$nulls":6},0,{"$f":"SUM($FL$36:$FL80)","v":0},0]
[46,{"$nulls":4},"N/A",{"$nulls":10},"","","",null,"","","",null,"","","",null,"","","",{"$nulls":5},"","","","","","","","",null,0,{"$nulls":3},"","","",null,"","","",null,"","","",null,"","","",{"$nulls":8},"",{"$nulls":4},"",{"$nulls":4},"",{"$nulls":15},"",{"$nulls":4},"",{"$nulls":4},"",{"$nulls":15},"",{"$nulls":4},"",{"$nulls":4},"",{"$nulls":15},"",{"$nulls":4},"",{"$nulls":4},"",{"$nulls":6},0,{"$f":"SUM($FL$36:$FL81)","v":0},0]
[47,{"$nulls":4},"N/A",{"$nulls":10},"","","",null,"","","",null,"","","",null,"","","",{"$nulls":5},"","","","","","","","",null,0,{"$nulls":3},"","","",null,"","","",null,"","","",null,"","","",{"$nulls":8},"",{"$nulls":4},"",{"$nulls":4},"",{"$nulls":15},"",{"$nulls":4},"",{"$nulls":4},"",{"$nulls":15},"",{"$nulls":4},"",{"$nulls":4},"",{"$nulls":15},"",{"$nulls":4},"",{"$nulls":4},"",{"$nulls":6},0,{"$f":"SUM($FL$36:$FL82)","v":0},0]
[48,{"$nulls":4},"N/A",{"$nulls":10},"","","",null,"","","",null,"","","",null,"","","",{"$nulls":5},"","","","","","","","",null,0,{"$nulls":3},"","","",null,"","","",null,"","","",null,"","","",{"$nulls":8},"",{"$nulls":4},"",{"$nulls":4},"",{"$nulls":15},"",{"$nulls":4},"",{"$nulls":4},"",{"$nulls":15},"",{"$nulls":4},"",{"$nulls":4},"",{"$nulls":15},"",{"$nulls":4},"",{"$nulls":4},"",{"$nulls":6},0,{"$f":"SUM($FL$36:$FL83)","v":0},0]
[49,{"$nulls":4},"N/A",{"$nulls":10},"","","",null,"","","",null,"","","",null,"","","",{"$nulls":5},"","","","","","","","",null,0,{"$nulls":3},"","","",null,"","","",null,"","","",null,"","","",{"$nulls":8},"",{"$nulls":4},"",{"$nulls":4},"",{"$nulls":15},"",{"$nulls":4},"",{"$nulls":4},"",{"$nulls":15},"",{"$nulls":4},"",{"$nulls":4},"",{"$nulls":15},"",{"$nulls":4},"",{"$nulls":4},"",{"$nulls":6},0,{"$f":"SUM($FL$36:$FL84)","v":0},0]
[50,{"$nulls":4},"N/A",{"$nulls":10},"","","",null,"","","",null,"","","",null,"","","",{"$nulls":5},"","","","","","","","",null,0,{"$nulls":3},"","","",null,"","","",null,"","","",null,"",{"$f":"IF($B85=\"Y\",IF(AND($AC85<>\"\",$AQ84<>\"\",$AR84<>\"\"),($AC85+$AQ84)/($AR84+1),\"\"),\"\")","v":""},"",{"$nulls":8},"",{"$nulls":4},"",{"$nulls":4},"",{"$nulls":15},"",{"$nulls":4},"",{"$nulls":4},"",{"$nulls":15},"",{"$nulls":4},"",{"$nulls":4},"",{"$nulls":15},"",{"$nulls":4},"",{"$nulls":4},"",{"$nulls":6},0,{"$f":"SUM($FL$36:$FL85)","v":0},0]
[null,null,{"$f":"SUM(C36:C85)","v":0}]
["g/bhp-hr"]
["g/kW-hr"]

{"sheet":"Engine Family #23","index":25,"n_rows":88,"n_cols":176,"rows_kept":88,"merged":[[1,0,1,35],[2,0,2,35],[3,0,3,35],[4,0,4,35],[5,0,5,35],[6,0,6,35],[8,0,8,16],[10,4,10,6],[10,12,10,13],[11,4,11,6],[11,15,11,16],[11,19,11,20],[11,23,11,24],[11,27,11,28],[12,4,12,6],[13,4,13,6],[14,4,15,6],[17,14,22,14],[27,4,30,13],[27,15,28,16],[32,0,32,16],[32,17,32,33],[32,34,32,35],[33,45,34,45]]}
[]
["United States"]
["US Environmental Protection Agency"]
["Office of Air and Radiation, Office of Transportation and Air Quality"]
[{"$nulls":37},"Tier 2","Y",94]
["Manufacturer Production Line Testing Report for Marine Compression Ignition Engines",{"$nulls":36},"Tier 3","N",1042]
[{"$f":"Summary!B7","v":"Version Number: 1.4 DRAFT  Last Revision: September 2023"},{"$nulls":36},"Tier 4",null,"N/A"]
[]
["Basic Information: Engine Family #23"]
[{"$nulls":167},{"$f":"IF(AND($G$24=94,Summary!$L$13=\"Category 1\"),0,1)","v":1}]
[null,null,"Manufacturer:",null,{"$f":"IF(Summary!D12<>\"\",Summary!D12,\"\")","v":""},{"$nulls":3},"Engine Family:",{"$nulls":31},{"$f":"IF($G$19=\"Diesel\",\"'HC' refers to 'THC' \",IF($G$19=\"Natural Gas\",\"'HC' refers to 'NMHC' \",IF($G$19=\"Alcohol\",\"'HC' refers to 'THCE' \",\"\")))","v":""}]
[null,null,"PLT Test Contact:",null,{"$f":"IF(Summary!D13<>\"\",Summary!D13,\"\")","v":""},{"$nulls":3},"Production (Category 3 only):",{"$nulls":6},{"$f":"IF(N16<>\"Y\", \"Current CO Result\", \"Final CO Result\")","v":"Current CO Result"},null,{"$f":"$CJ$36","v":""},null,{"$f":"IF(N16<>\"Y\", \"Current PM Result\", \"Final PM Result\")","v":"Current PM Result"},null,{"$f":"$DJ$36","v":""},null,{"$f":"IF($AF$12=\"Y\",IF(N16<>\"Y\", \"Current NOx+HC Result\", \"Final NOx+HC Result\"),IF(N16<>\"Y\", \"Current HC Result\", \"Final HC Result\"))","v":"Current HC Result"},null,{"$f":"IF($AF$12=\"Y\",IF($FP$36>0,ROUND($EJ$36+$FJ$36,2),\"\"),$EJ$36)","v":""},null,{"$f":"IF(N16<>\"Y\", \"Current NOx Result\",\"Final NOx Result\")","v":"Current NOx Result"},null,{"$f":"$FJ$36","v":""},null,{"$f":"IF($L$13<>\"Category 3\",IF($G$23=\"\",\"N\",$G$23),\"N\")","v":"N"},{"$f":"IF(Summary!$L$13=\"Category 3\",\"CAT3\",\"\")","v":""}]
[null,null,"Email Address:",null,{"$f":"IF(Summary!D14<>\"\",Summary!D14,\"\")","v":""},{"$nulls":3},"Date of Start of Model Year Production:"]
[null,null,"Phone #:",null,{"$f":"IF(Summary!D15<>\"\",Summary!D15,\"\")","v":""},{"$nulls":3},"Date of End of Model Year Production:",{"$nulls":14},{"$f":"IF($G$19=\"Diesel\",\"'HC' refers to 'THC' \",IF($G$19=\"Natural Gas\",\"'HC' refers to 'NMHC' \",IF($G$19=\"Alcohol\",\"'HC' refers to 'THCE' \",\"\")))","v":""},{"$nulls":13},"Diesel",1,{"$nulls":6},1]
[null,null,"Test Location & Description:",{"$nulls":5},"Deterioration Factor Type:",{"$nulls":28},"Natural Gas",2,{"$nulls":6},2]
[{"$nulls":8},"Include Results from this Engine Family on Summary Sheet?",{"$nulls":6},"CO Standard ",{"$nulls":3},"PM Standard or FEL",{"$nulls":3},{"$f":"IF($AF$12=\"Y\",\"NOx+HC Standard or FEL\",\"HC Standard\")","v":"HC Standard"},{"$nulls":3},"NOx Standard or FEL",{"$nulls":9},"Alcohol",3,{"$nulls":6},3]
[null,null,"Carryover?:",{"$nulls":5},"Required Tests (including failure follow-ups)",{"$nulls":4},{"$f":"$FO36","v":0},null,"Units",null,"g/kW-hr",null,"Units",null,"g/kW-hr",null,"Units",null,"g/kW-hr",null,"Units",null,"g/kW-hr",{"$nulls":4},"Test Cycle Options",{"$nulls":10},4]
[null,null,{"$f":"IF($G$17=\"Y\",\"Please submit supporting documentation indicating that this is a carry-over engine family\",\"\")","v":""},{"$nulls":5},"Instead of testing, are PLT requirements for this Engine Family",{"$nulls":6},"CO  Det Factor",{"$nulls":3},"PM  Det Factor",{"$nulls":3},"HC Det Factor",{"$nulls":3},"NOx  Det Factor",{"$nulls":6},"1 = 4-Mode General Cycle (E3)",null,null,"Recreational"]
[null,null,"Fuel Type:",{"$nulls":5}," fulfilled under the following (Category 1 only)?",{"$nulls":6},"Det Factor Type",null,{"$f":"IF($N$15<>\"\",$N$15,\"\")","v":""},null,"Det Factor Type",null,{"$f":"IF($N$15<>\"\",$N$15,\"\")","v":""},null,"Det Factor Type",null,{"$f":"IF($N$15<>\"\",$N$15,\"\")","v":""},null,"Det Factor Type",null,{"$f":"IF($N$15<>\"\",$N$15,\"\")","v":""},{"$nulls":4},"2 = 5-Mode Recreational Cycle (E5)",null,null,"Commercial"]
[null,null,"Recreational/Commercial:",{"$nulls":5},"Please elaborate in the comments section.",{"$nulls":6},"CO Green Engine Factor",{"$nulls":3},"PM Green Engine Factor",{"$nulls":3},"HC Green Engine Factor",{"$nulls":3},"NOx Green Engine Factor",{"$nulls":6},"3 = 4-Mode Constant Speed Propulsion Cycle (E2)"]
[null,null,"Model Year:",{"$nulls":5},"    -1042.310(a) - EPA approved combining it, for PLT purposes only.",{"$nulls":25},"4 = 5-Mode Constant Speed Auxiliary Cycle (D2)"]
[null,null,"Tier:",{"$nulls":31},"5 = 6-Mode Variable Speed Auxiliary Cycle (G2)",null,null,"1 (E3)"]
[null,null,"Combined NOx+HC?",{"$nulls":31},"6 = 8-Mode Variable Speed Ausiliary Cycle (C1)",null,null,"2 (E5)"]
[null,null,"40 CFR Part:",{"$nulls":3},{"$f":"AN6","v":1042},null,"Additional testing required by EPA [40 CFR 1042.301(e)]? ",{"$nulls":25},"O = Other",null,null,"3 (E2)"]
[{"$nulls":37},"4 (D2)"]
[{"$nulls":37},"5 (G2)",{"$nulls":132},"deleted and redirected"]
[{"$nulls":22}," ",{"$nulls":14},"6 (C1)",4,{"$nulls":6},4]
[null,null,"Comments:",{"$nulls":34},"O (other)"]
[{"$nulls":22}," ",{"$nulls":22},"additive"]
[{"$nulls":45},"multiplicative",{"$nulls":22},"CO Rounding",{"$nulls":4},"CO Rounding",{"$nulls":4},"CO Rounding",{"$nulls":4},"CO Rounding",{"$nulls":10},"PM Rounding",{"$nulls":4},"PM Rounding",{"$nulls":4},"PM Rounding",{"$nulls":4},"PM Rounding",{"$nulls":10},"HC Rounding",{"$nulls":4},"HC Rounding",{"$nulls":4},"HC Rounding",{"$nulls":4},"HC Rounding",{"$nulls":10},"NOx Rounding",{"$nulls":4},"NOx Rounding",{"$nulls":4},"NOx Rounding",{"$nulls":4},"NOx Rounding"]
[{"$nulls":22}," ",{"$nulls":45},"initial",{"$nulls":4},"final",{"$nulls":4}," det final",{"$nulls":4},"ave of all final",{"$nulls":10},"initial",{"$nulls":4},"final",{"$nulls":4}," det final",{"$nulls":4},"ave of all final",{"$nulls":10},"initial",{"$nulls":4},"final",{"$nulls":4}," det final",{"$nulls":4},"ave of all final",{"$nulls":10},"initial",{"$nulls":4},"final",{"$nulls":4}," det final",{"$nulls":4},"ave of all final"]
[{"$nulls":38},"Y",{"$nulls":6},"Y"]
["PLT Engine Test Results: Engine Family #23",{"$nulls":37},"N",{"$nulls":6},"N",{"$nulls":124},"This is N17"]
[{"$nulls":36},"CO",null,"PM",null,null,"HC or HC+NOX",null,"Nox",null,"Engine Data Complete?",{"$nulls":11},"HC","HC","HC","HC","Nox","Nox","Nox","Nox",{"$nulls":107},"1% of production or pre-approved reduced sample size - whichever is Lower # "]
[null,"Calc Final Result?","Test Number","Test Date","Test Time","Test Qtr","Engine ID","Engine Make","Engine Configuration","Build Date","Green Engine Factor Applied?","Green Engine Factor Determination Method","Service Hours (or miles) Accumulation","Service Hours Location","Service Acc. Procedure","CO Initial Result ","Rounded CO Initial Result ","CO Final Result ","Det. CO Final Result ","PM Initial Result ","Rounded PM Initial Result ","PM Final Result ","Det. PM Final Result ","HC Initial Result ","Rounded HC Initial Result ","HC Final Result ","Det. HC Final Result ","NOx Initial Result ","Rounded NOx Initial Result ","NOx Final Result ","Det. NOx Final Result ","Reason for Failed Test (if applicable)","Remedy","Repairs","Test Cycle","Comments",0,0,0,0,0,0,0,0,{"$nulls":5},"Unrounded initial CO","Unrounded final CO","Det CO","Final CO","Unrounded initial PM","Unrounded final PM","Det PM","Final PM","Unrounded initial HCNOx","Unrounded final HCNOx","Det HCNOx","Final HCNOX","Unrounded initial NOx","Unrounded final NOx","Det NOx","Final HCNOX",{"$nulls":7},"rounded",{"$nulls":4},"rounded",{"$nulls":4},"rounded",{"$nulls":4},"rounded",{"$nulls":10},"rounded",{"$nulls":4},"rounded",{"$nulls":4},"rounded",{"$nulls":4},"rounded",{"$nulls":10},"rounded",{"$nulls":4},"rounded",{"$nulls":4},"rounded",{"$nulls":4},"rounded","ROUNDED AND ACCOUNT FOR BLANK",{"$nulls":9},"rounded",{"$nulls":4},"rounded",{"$nulls":4},"rounded",{"$nulls":4},"rounded","ROUNDED AND ACCOUNT FOR BLANK","Test complete Flag","Total complete","Fail Flag","req","val","baseline req","req due to fails","sum fails","baseline req"]
[1,{"$nulls":4},"N/A",{"$nulls":10},{"$f":"$BU36","v":""},{"$f":"$BZ36","v":""},{"$f":"$CE36","v":""},null,{"$f":"$CU36","v":""},{"$f":"$CZ36","v":""},{"$f":"$DE36","v":""},null,{"$f":"$DU36","v":""},{"$f":"$DZ36","v":""},{"$f":"$EE36","v":""},null,{"$f":"$EU36","v":""},{"$f":"$EZ36","v":""},{"$f":"$FE36","v":""},{"$nulls":5},{"$f":"IF($B36=\"N\",IF(AND($AK35<>\"\",$Q36<>\"\"),$AK35+$Q36,\"\"),IF($B36=\"Y\",0,\"\"))","v":""},{"$f":"IF($B36=\"N\",AL35+1,IF($B36=\"Y\",0,\"\"))","v":""},{"$f":"IF($B36=\"N\",IF(AND($AM35<>\"\",$U36<>\"\"),$AM35+$U36,\"\"),IF($B36=\"Y\",0,\"\"))","v":""},{"$f":"IF($B36=\"N\",AN35+1,IF($B36=\"Y\",0,\"\"))","v":""},{"$f":"IF($B36=\"N\",IF(AND($AO35<>\"\",$Y36<>\"\"),$AO35+$Y36,\"\"),IF($B36=\"Y\",0,\"\"))","v":""},{"$f":"IF($B36=\"N\",AP35+1,IF($B36=\"Y\",0,\"\"))","v":""},{"$f":"IF($B36=\"N\",IF(AND($AQ35<>\"\",$AC36<>\"\"),$AQ35+$AC36,\"\"),IF($B36=\"Y\",0,\"\"))","v":""},{"$f":"IF($B36=\"N\",AR35+1,IF($B36=\"Y\",0,\"\"))","v":""},null,{"$f":"IF(AND(B36<>\"\",C36<>\"\",D36<>\"\",E36<>\"\",G36<>\"\",H36<>\"\",I36<>\"\",J36<>\"\",K36<>\"\",M36<>\"\",N36<>\"\",O36<>\"\"),1,0)","v":0},{"$nulls":3},{"$f":"IF(AND($P36<>\"\",$AT36=1),$P36,\"\")","v":""},{"$f":"IF($B36=\"Y\",IF(AND($Q36<>\"\",$AK35<>\"\",$AL35<>\"\"),($Q36+$AK35)/($AL35+1),\"\"),\"\")","v":""},{"$f":"IF(AND($B36=\"Y\",$R36<>\"\",$R$18<>\"\"),IF($R$19=\"additive\",$R36+$R$18,IF($R$19=\"multiplicative\",$R36*$R$18,\"\")),\"\")","v":""},{"$f":"IF(COUNT($S$36:$S$85)>0,AVERAGE($S$36:$S$85),\"\")","v":""},{"$f":"IF(AND($T36<>\"\",$AT36=1),$T36,\"\")","v":""},{"$f":"IF($B36=\"Y\",IF(AND($U36<>\"\",$AM35<>\"\",$AN35<>\"\"),($U36+$AM35)/($AN35+1),\"\"),\"\")","v":""},{"$f":"IF(AND($B36=\"Y\",$V36<>\"\",$V$18<>\"\"),IF($V$19=\"additive\",$V36+$V$18,IF($V$19=\"multiplicative\",$V36*$V$18,\"\")),\"\")","v":""},{"$f":"IF(COUNT($W$36:$W$85)>0,AVERAGE($W$36:$W$85),\"\")","v":""},{"$f":"IF(AND($X36<>\"\",$AT36=1),$X36,\"\")","v":""},{"$f":"IF($B36=\"Y\",IF(AND($Y36<>\"\",$AO35<>\"\",$AP35<>\"\"),($Y36+$AO35)/($AP35+1),\"\"),\"\")","v":""},{"$f":"IF(AND($B36=\"Y\",$Z36<>\"\",$Z$18<>\"\"),IF($Z$19=\"additive\",$Z36+$Z$18,IF($Z$19=\"multiplicative\",$Z36*$Z$18,\"\")),\"\")","v":""},{"$f":"IF(COUNT($AA$36:$AA$85)>0,AVERAGE($AA$36:$AA$85),\"\")","v":""},{"$f":"IF(AND($AB36<>\"\",$AT36=1),$AB36,\"\")","v":""},{"$f":"IF($B36=\"Y\",IF(AND($AC36<>\"\",$AQ35<>\"\",$AR35<>\"\"),($AC36+$AQ35)/($AR35+1),\"\"),\"\")","v":""},{"$f":"IF(AND($B36=\"Y\",$AD36<>\"\",$AD$18<>\"\"),IF($AD$19=\"additive\",$AD36+$AD$18,IF($AD$19=\"multiplicative\",$AD36*$AD$18,\"\")),\"\")","v":""},{"$f":"IF(COUNT($AE$36:$AE$85)>0,AVERAGE($AE$36:$AE$85),\"\")","v":""},{"$nulls":7},{"$f":"IF($AX36<>\"\",ROUND($AX36,2),\"\")","v":""},{"$nulls":4},{"$f":"IF($AY36<>\"\",ROUND($AY36,2),\"\")","v":""},{"$nulls":4},{"$f":"IF($AZ36<>\"\",ROUND($AZ36,2),\"\")","v":""},{"$nulls":4},{"$f":"IF($BA36<>\"\",ROUND($BA36,2),\"\")","v":""},{"$nulls":10},{"$f":"IF($BB36<>\"\",ROUND($BB36,3),\"\")","v":""},{"$nulls":4},{"$f":"IF($BC36<>\"\",ROUND($BC36,3),\"\")","v":""},{"$nulls":4},{"$f":"IF($BD36<>\"\",ROUND($BD36,3),\"\")","v":""},{"$nulls":4},{"$f":"IF($BE36<>\"\",ROUND($BE36,3),\"\")","v":""},{"$nulls":10},{"$f":"IF($BF36<>\"\",ROUND($BF36,3),\"\")","v":""},{"$nulls":4},{"$f":"IF($BG36<>\"\",ROUND($BG36,3),\"\")","v":""},{"$nulls":4},{"$f":"IF($BH36<>\"\",ROUND($BH36,3),\"\")","v":""},{"$nulls":4},{"$f":"IF($BI36<>\"\",ROUND($BI36,3),\"\")","v":""},{"$f":"IF(EJ36=\"\",0,EJ36)","v":0},{"$nulls":9},{"$f":"IF($BJ36<>\"\",ROUND($BJ36,2),\"\")","v":""},{"$nulls":4},{"$f":"IF($BK36<>\"\",ROUND($BK36,2),\"\")","v":""},{"$nulls":4},{"$f":"IF($BL36<>\"\",ROUND($BL36,2),\"\")","v":""},{"$nulls":4},{"$f":"IF($BM36<>\"\",ROUND($BM36,2),\"\")","v":""},{"$f":"IF(FJ36=\"\",0,FJ36)","v":0},{"$f":"IF($AG$12<>\"CAT3\",IF(AND($B36=\"Y\",$S36<>\"\",$W36<>\"\",$AA36<>\"\",$AE36<>\"\"),1,0),IF($AE36<>\"\",1,0))","v":0},{"$f":"SUM($FL$36:$FL36)","v":0},{"$f":"IF($AG$12<>\"CAT3\",IF($FL36=1,IF(OR($S36>$R$16,$W36>$V$16,$AA36>$Z$16,IF($AF$12<>\"Y\",OR($AA36>$Z$16,$AE36>$AD$16),ROUND(($AA36+$AE36),2)>$Z$16)),1,0),0),IF($FL36=1,IF(AND($AE36>$AD$16,$AF$12=\"N\"),1,0),0))","v":0},{"$f":"IF(OR($M$11=\"\",$N$18=\"Y\"),0,IF($AG$12=\"CAT3\",$N$12,($FR$36+1)))","v":0},{"$f":"SUM(FL36:FL85)","v":0},{"$f":"IF(AND($G$17=\"Y\",$N$24<>\"\"),MIN($N$24,$FT$36),$FT$36)","v":0},{"$f":"$FS$36*2","v":0},{"$f":"SUM(FN36:FN85)","v":0},{"$f":"IF($N$12<>\"\",$N$12*0.01,0)","v":0}]
[{"$f":"A36+1","v":2},{"$nulls":4},"N/A",{"$nulls":10},"","","",null,"","","",null,"","","",null,"","","",{"$nulls":5},"",{"$f":"IF($B37=\"N\",AL36+1,IF($B37=\"Y\",0,\"\"))","v":""},"",{"$f":"IF($B37=\"N\",AN36+1,IF($B37=\"Y\",0,\"\"))","v":""},{"$f":"IF($B37=\"N\",IF(AND($AO36<>\"\",$Y37<>\"\"),$AO36+$Y37,\"\"),IF($B37=\"Y\",0,\"\"))","v":""},{"$f":"IF($B37=\"N\",AP36+1,IF($B37=\"Y\",0,\"\"))","v":""},{"$f":"IF($B37=\"N\",IF(AND($AQ36<>\"\",$AC37<>\"\"),$AQ36+$AC37,\"\"),IF($B37=\"Y\",0,\"\"))","v":""},{"$f":"IF($B37=\"N\",AR36+1,IF($B37=\"Y\",0,\"\"))","v":""},null,{"$f":"IF(AND(B37<>\"\",C37<>\"\",D37<>\"\",E37<>\"\",G37<>\"\",H37<>\"\",I37<>\"\",J37<>\"\",K37<>\"\",M37<>\"\",N37<>\"\",O37<>\"\"),1,0)","v":0},{"$nulls":3},"","",{"$f":"IF(AND($B37=\"Y\",$R37<>\"\",$R$18<>\"\"),IF($R$19=\"additive\",$R37+$R$18,IF($R$19=\"multiplicative\",$R37*$R$18,\"\")),\"\")","v":""},null,"","",{"$f":"IF(AND($B37=\"Y\",$V37<>\"\",$V$18<>\"\"),IF($V$19=\"additive\",$V37+$V$18,IF($V$19=\"multiplicative\",$V37*$V$18,\"\")),\"\")","v":""},null,{"$f":"IF(AND($X37<>\"\",$AT37=1),$X37,\"\")","v":""},{"$f":"IF($B37=\"Y\",IF(AND($Y37<>\"\",$AO36<>\"\",$AP36<>\"\"),($Y37+$AO36)/($AP36+1),\"\"),\"\")","v":""},{"$f":"IF(AND($B37=\"Y\",$Z37<>\"\",$Z$18<>\"\"),IF($Z$19=\"additive\",$Z37+$Z$18,IF($Z$19=\"multiplicative\",$Z37*$Z$18,\"\")),\"\")","v":""},null,{"$f":"IF(AND($AB37<>\"\",$AT37=1),$AB37,\"\")","v":""},{"$f":"IF($B37=\"Y\",IF(AND($AC37<>\"\",$AQ36<>\"\",$AR36<>\"\"),($AC37+$AQ36)/($AR36+1),\"\"),\"\")","v":""},{"$f":"IF(AND($B37=\"Y\",$AD37<>\"\",$AD$18<>\"\"),IF($AD$19=\"additive\",$AD37+$AD$18,IF($AD$19=\"multiplicative\",$AD37*$AD$18,\"\")),\"\")","v":""},{"$nulls":8},{"$f":"IF($AX37<>\"\",ROUND($AX37,2),\"\")","v":""},{"$nulls":4},{"$f":"IF($AY37<>\"\",ROUND($AY37,2),\"\")","v":""},{"$nulls":4},{"$f":"IF($AZ37<>\"\",ROUND($AZ37,2),\"\")","v":""},{"$nulls":15},{"$f":"IF($BB37<>\"\",ROUND($BB37,3),\"\")","v":""},{"$nulls":4},{"$f":"IF($BC37<>\"\",ROUND($BC37,3),\"\")","v":""},{"$nulls":4},{"$f":"IF($BD37<>\"\",ROUND($BD37,3),\"\")","v":""},{"$nulls":15},{"$f":"IF($BF37<>\"\",ROUND($BF37,3),\"\")","v":""},{"$nulls":4},{"$f":"IF($BG37<>\"\",ROUND($BG37,3),\"\")","v":""},{"$nulls":4},{"$f":"IF($BH37<>\"\",ROUND($BH37,3),\"\")","v":""},{"$nulls":15},{"$f":"IF($BJ37<>\"\",ROUND($BJ37,2),\"\")","v":""},{"$nulls":4},{"$f":"IF($BK37<>\"\",ROUND($BK37,2),\"\")","v":""},{"$nulls":4},{"$f":"IF($BL37<>\"\",ROUND($BL37,2),\"\")","v":""},{"$nulls":6},{"$f":"IF($AG$12<>\"CAT3\",IF(AND($B37=\"Y\",$S37<>\"\",$W37<>\"\",$AA37<>\"\",$AE37<>\"\"),1,0),IF($AE37<>\"\",1,0))","v":0},{"$f":"SUM($FL$36:$FL37)","v":0},{"$f":"IF($AG$12<>\"CAT3\",IF($FL37=1,IF(OR($S37>$R$16,$W37>$V$16,$AA37>$Z$16,IF($AF$12<>\"Y\",OR($AA37>$Z$16,$AE37>$AD$16),ROUND(($AA37+$AE37),2)>$Z$16)),1,0),0),IF($FL37=1,IF(AND($AE37>$AD$16,$AF$12=\"N\"),1,0),0))","v":0},null,null,{"$f":"MAX($FQ$36,$FL$10)","v":1}]
[{"$f":"A37+1","v":3},{"$nulls":4},"N/A",{"$nulls":10},"","","",null,"","","",null,"","","",null,"","","",{"$nulls":5},"","","","","","","","",null,0,{"$nulls":3},"","","",null,"","","",null,"","","",null,"","","",{"$nulls":8},"",{"$nulls":4},"",{"$nulls":4},"",{"$nulls":15},"",{"$nulls":4},"",{"$nulls":4},"",{"$nulls":15},"",{"$nulls":4},"",{"$nulls":4},"",{"$nulls":15},"",{"$nulls":4},"",{"$nulls":4},"",{"$nulls":6},0,{"$f":"SUM($FL$36:$FL38)","v":0},0]
[4,{"$nulls":4},"N/A",{"$nulls":10},"","","",null,"","","",null,"","","",null,"","","",{"$nulls":5},"","","","","","","","",null,0,{"$nulls":3},"","","",null,"","","",null,"","","",null,"","","",{"$nulls":8},"",{"$nulls":4},"",{"$nulls":4},"",{"$nulls":15},"",{"$nulls":4},"",{"$nulls":4},"",{"$nulls":15},"",{"$nulls":4},"",{"$nulls":4},"",{"$nulls":15},"",{"$nulls":4},"",{"$nulls":4},"",{"$nulls":6},0,{"$f":"SUM($FL$36:$FL39)","v":0},0,null,null,"then, the larger of that sample size or 1  (or if Part 94 and cat1,  can be 0)"]
[5,{"$nulls":4},"N/A",{"$nulls":10},"","","",null,"","","",null,"","","",null,"","","",{"$nulls":5},"","","","","","","","",null,0,{"$nulls":3},"","","",null,"","","",null,"","","",null,"","","",{"$nulls":8},"",{"$nulls":4},"",{"$nulls":4},"",{"$nulls":15},"",{"$nulls":4},"",{"$nulls":4},"",{"$nulls":15},"",{"$nulls":4},"",{"$nulls":4},"",{"$nulls":15},"",{"$nulls":4},"",{"$nulls":4},"",{"$nulls":6},0,{"$f":"SUM($FL$36:$FL40)","v":0},0]
[6,{"$nulls":4},"N/A",{"$nulls":10},"","","",null,"","","",null,"","","",null,"","","",{"$nulls":5},"","","","","","","","",null,0,{"$nulls":3},"","","",null,"","","",null,"","","",null,"","","",{"$nulls":8},"",{"$nulls":4},"",{"$nulls":4},"",{"$nulls":15},"",{"$nulls":4},"",{"$nulls":4},"",{"$nulls":15},"",{"$nulls":4},"",{"$nulls":4},"",{"$nulls":15},"",{"$nulls":4},"",{"$nulls":4},"",{"$nulls":6},0,{"$f":"SUM($FL$36:$FL41)","v":0},0]
[7,{"$nulls":4},"N/A",{"$nulls":10},"","","",null,"","","",null,"","","",null,"","","",{"$nulls":5},"","","","","","","","",null,0,{"$nulls":3},"","","",null,"","","",null,"","","",null,"","","",{"$nulls":8},"",{"$nulls":4},"",{"$nulls":4},"",{"$nulls":15},"",{"$nulls":4},"",{"$nulls":4},"",{"$nulls":15},"",{"$nulls":4},"",{"$nulls":4},"",{"$nulls":15},"",{"$nulls":4},"",{"$nulls":4},"",{"$nulls":6},0,{"$f":"SUM($FL$36:$FL42)","v":0},0]
[8,{"$nulls":4},"N/A",{"$nulls":10},"","","",null,"","","",null,"","","",null,"","","",{"$nulls":5},"","","","","","","","",null,0,{"$nulls":3},"","","",null,"","","",null,"","","",null,"","","",{"$nulls":8},"",{"$nulls":4},"",{"$nulls":4},"",{"$nulls":15},"",{"$nulls":4},"",{"$nulls":4},"",{"$nulls":15},"",{"$nulls":4},"",{"$nulls":4},"",{"$nulls":15},"",{"$nulls":4},"",{"$nulls":4},"",{"$nulls":6},0,{"$f":"SUM($FL$36:$FL43)","v":0},0]
[9,{"$nulls":4},"N/A",{"$nulls":10},"","","",null,"","","",null,"","","",null,"","","",{"$nulls":5},"","","","","","","","",null,0,{"$nulls":3},"","","",null,"","","",null,"","","",null,"","","",{"$nulls":8},"",{"$nulls":4},"",{"$nulls":4},"",{"$nulls":15},"",{"$nulls":4},"",{"$nulls":4},"",{"$nulls":15},"",{"$nulls":4},"",{"$nulls":4},"",{"$nulls":15},"",{"$nulls":4},"",{"$nulls":4},"",{"$nulls":6},0,{"$f":"SUM($FL$36:$FL44)","v":0},0]
[10,{"$nulls":4},"N/A",{"$nulls":10},"","","",null,"","","",null,"","","",null,"","","",{"$nulls":5},"","","","","","","","",null,0,{"$nulls":3},"","","",null,"","","",null,"","","",null,"","","",{"$nulls":8},"",{"$nulls":4},"",{"$nulls":4},"",{"$nulls":15},"",{"$nulls":4},"",{"$nulls":4},"",{"$nulls":15},"",{"$nulls":4},"",{"$nulls":4},"",{"$nulls":15},"",{"$nulls":4},"",{"$nulls":4},"",{"$nulls":6},0,{"$f":"SUM($FL$36:$FL45)","v":0},0]
[11,{"$nulls":4},"N/A",{"$nulls":10},"","","",null,"","","",null,"","","",null,"","","",{"$nulls":5},"","","","","","","","",null,0,{"$nulls":3},"","","",null,"","","",null,"","","",null,"","","",{"$nulls":8},"",{"$nulls":4},"",{"$nulls":4},"",{"$nulls":15},"",{"$nulls":4},"",{"$nulls":4},"",{"$nulls":15},"",{"$nulls":4},"",{"$nulls":4},"",{"$nulls":15},"",{"$nulls":4},"",{"$nulls":4},"",{"$nulls":6},0,{"$f":"SUM($FL$36:$FL46)","v":0},0]
[12,{"$nulls":4},"N/A",{"$nulls":10},"","","",null,"","","",null,"","","",null,"","","",{"$nulls":5},"","","","","","","","",null,0,{"$nulls":3},"","","",null,"","","",null,"","","",null,"","","",{"$nulls":8},"",{"$nulls":4},"",{"$nulls":4},"",{"$nulls":15},"",{"$nulls":4},"",{"$nulls":4},"",{"$nulls":15},"",{"$nulls":4},"",{"$nulls":4},"",{"$nulls":15},"",{"$nulls":4},"",{"$nulls":4},"",{"$nulls":6},0,{"$f":"SUM($FL$36:$FL47)","v":0},0]
[13,{"$nulls":4},"N/A",{"$nulls":10},"","","",null,"","","",null,"","","",null,"","","",{"$nulls":5},"","","","","","","","",null,0,{"$nulls":3},"","","",null,"","","",null,"","","",null,"","","",{"$nulls":8},"",{"$nulls":4},"",{"$nulls":4},"",{"$nulls":15},"",{"$nulls":4},"",{"$nulls":4},"",{"$nulls":15},"",{"$nulls":4},"",{"$nulls":4},"",{"$nulls":15},"",{"$nulls":4},"",{"$nulls":4},"",{"$nulls":6},0,{"$f":"SUM($FL$36:$FL48)","v":0},0]
[14,{"$nulls":4},"N/A",{"$nulls":10},"","","",null,"","","",null,"","","",null,"","","",{"$nulls":5},"","","","","","","","",null,0,{"$nulls":3},"","","",null,"","","",null,"","","",null,"","","",{"$nulls":8},"",{"$nulls":4},"",{"$nulls":4},"",{"$nulls":15},"",{"$nulls":4},"",{"$nulls":4},"",{"$nulls":15},"",{"$nulls":4},"",{"$nulls":4},"",{"$nulls":15},"",{"$nulls":4},"",{"$nulls":4},"",{"$nulls":6},0,{"$f":"SUM($FL$36:$FL49)","v":0},0]
[15,{"$nulls":4},"N/A",{"$nulls":10},"","","",null,"","","",null,"","","",null,"","","",{"$nulls":5},"","","","","","","","",null,0,{"$nulls":3},"","","",null,"","","",null,"","","",null,"","","",{"$nulls":8},"",{"$nulls":4},"",{"$nulls":4},"",{"$nulls":15},"",{"$nulls":4},"",{"$nulls":4},"",{"$nulls":15},"",{"$nulls":4},"",{"$nulls":4},"",{"$nulls":15},"",{"$nulls":4},"",{"$nulls":4},"",{"$nulls":6},0,{"$f":"SUM($FL$36:$FL50)","v":0},0]
[16,{"$nulls":4},"N/A",{"$nulls":10},"","","",null,"","","",null,"","","",null,"","","",{"$nulls":5},"","","","","","","","",null,0,{"$nulls":3},"","","",null,"","","",null,"","","",null,"","","",{"$nulls":8},"",{"$nulls":4},"",{"$nulls":4},"",{"$nulls":15},"",{"$nulls":4},"",{"$nulls":4},"",{"$nulls":15},"",{"$nulls":4},"",{"$nulls":4},"",{"$nulls":15},"",{"$nulls":4},"",{"$nulls":4},"",{"$nulls":6},0,{"$f":"SUM($FL$36:$FL51)","v":0},0]
[17,{"$nulls":4},"N/A",{"$nulls":10},"","","",null,"","","",null,"","","",null,"","","",{"$nulls":5},"","","","","","","","",null,0,{"$nulls":3},"","","",null,"","","",null,"","","",null,"","","",{"$nulls":8},"",{"$nulls":4},"",{"$nulls":4},"",{"$nulls":15},"",{"$nulls":4},"",{"$nulls":4},"",{"$nulls":15},"",{"$nulls":4},"",{"$nulls":4},"",{"$nulls":15},"",{"$nulls":4},"",{"$nulls":4},"",{"$nulls":6},0,{"$f":"SUM($FL$36:$FL52)","v":0},0]
[18,{"$nulls":4},"N/A",{"$nulls":10},"","","",null,"","","",null,"","","",null,"","","",{"$nulls":5},"","","","","","","","",null,0,{"$nulls":3},"","","",null,"","","",null,"","","",null,"","","",{"$nulls":8},"",{"$nulls":4},"",{"$nulls":4},"",{"$nulls":15},"",{"$nulls":4},"",{"$nulls":4},"",{"$nulls":15},"",{"$nulls":4},"",{"$nulls":4},"",{"$nulls":15},"",{"$nulls":4},"",{"$nulls":4},"",{"$nulls":6},0,{"$f":"SUM($FL$36:$FL53)","v":0},0]
[19,{"$nulls":4},"N/A",{"$nulls":10},"","","",null,"","","",null,"","","",null,"","","",{"$nulls":5},"","","","","","","","",null,0,{"$nulls":3},"","","",null,"","","",null,"","","",null,"","","",{"$nulls":8},"",{"$nulls":4},"",{"$nulls":4},"",{"$nulls":15},"",{"$nulls":4},"",{"$nulls":4},"",{"$nulls":15},"",{"$nulls":4},"",{"$nulls":4},"",{"$nulls":15},"",{"$nulls":4},"",{"$nulls":4},"",{"$nulls":6},0,{"$f":"SUM($FL$36:$FL54)","v":0},0]
[20,{"$nulls":4},"N/A",{"$nulls":10},"","","",null,"","","",null,"","","",null,"","","",{"$nulls":5},"","","","","","","","",null,0,{"$nulls":3},"","","",null,"","","",null,"","","",null,"","","",{"$nulls":8},"",{"$nulls":4},"",{"$nulls":4},"",{"$nulls":15},"",{"$nulls":4},"",{"$nulls":4},"",{"$nulls":15},"",{"$nulls":4},"",{"$nulls":4},"",{"$nulls":15},"",{"$nulls":4},"",{"$nulls":4},"",{"$nulls":6},0,{"$f":"SUM($FL$36:$FL55)","v":0},0]
[21,{"$nulls":4},"N/A",{"$nulls":10},"","","",null,"","","",null,"","","",null,"","","",{"$nulls":5},"","","","","","","","",null,0,{"$nulls":3},"","","",null,"","","",null,"","","",null,"","","",{"$nulls":8},"",{"$nulls":4},"",{"$nulls":4},"",{"$nulls":15},"",{"$nulls":4},"",{"$nulls":4},"",{"$nulls":15},"",{"$nulls":4},"",{"$nulls":4},"",{"$nulls":15},"",{"$nulls":4},"",{"$nulls":4},"",{"$nulls":6},0,{"$f":"SUM($FL$36:$FL56)","v":0},0]
[22,{"$nulls":4},"N/A",{"$nulls":10},"","","",null,"","","",null,"","","",null,"","","",{"$nulls":5},"","","","","","","","",null,0,{"$nulls":3},"","","",null,"","","",null,"","","",null,"","","",{"$nulls":8},"",{"$nulls":4},"",{"$nulls":4},"",{"$nulls":15},"",{"$nulls":4},"",{"$nulls":4},"",{"$nulls":15},"",{"$nulls":4},"",{"$nulls":4},"",{"$nulls":15},"",{"$nulls":4},"",{"$nulls":4},"",{"$nulls":6},0,{"$f":"SUM($FL$36:$FL57)","v":0},0]
[23,{"$nulls":4},"N/A",{"$nulls":10},"","","",null,"","","",null,"","","",null,"","","",{"$nulls":5},"","","","","","","","",null,0,{"$nulls":3},"","","",null,"","","",null,"","","",null,"","","",{"$nulls":8},"",{"$nulls":4},"",{"$nulls":4},"",{"$nulls":15},"",{"$nulls":4},"",{"$nulls":4},"",{"$nulls":15},"",{"$nulls":4},"",{"$nulls":4},"",{"$nulls":15},"",{"$nulls":4},"",{"$nulls":4},"",{"$nulls":6},0,{"$f":"SUM($FL$36:$FL58)","v":0},0]
[24,{"$nulls":4},"N/A",{"$nulls":10},"","","",null,"","","",null,"","","",null,"","","",{"$nulls":5},"","","","","","","","",null,0,{"$nulls":3},"","","",null,"","","",null,"","","",null,"","","",{"$nulls":8},"",{"$nulls":4},"",{"$nulls":4},"",{"$nulls":15},"",{"$nulls":4},"",{"$nulls":4},"",{"$nulls":15},"",{"$nulls":4},"",{"$nulls":4},"",{"$nulls":15},"",{"$nulls":4},"",{"$nulls":4},"",{"$nulls":6},0,{"$f":"SUM($FL$36:$FL59)","v":0},0]
[25,{"$nulls":4},"N/A",{"$nulls":10},"","","",null,"","","",null,"","","",null,"","","",{"$nulls":5},"","","","","","","","",null,0,{"$nulls":3},"","","",null,"","","",null,"","","",null,"","","",{"$nulls":8},"",{"$nulls":4},"",{"$nulls":4},"",{"$nulls":15},"",{"$nulls":4},"",{"$nulls":4},"",{"$nulls":15},"",{"$nulls":4},"",{"$nulls":4},"",{"$nulls":15},"",{"$nulls":4},"",{"$nulls":4},"",{"$nulls":6},0,{"$f":"SUM($FL$36:$FL60)","v":0},0]
[26,{"$nulls":4},"N/A",{"$nulls":10},"","","",null,"","","",null,"","","",null,"","","",{"$nulls":5},"","","","","","","","",null,0,{"$nulls":3},"","","",null,"","","",null,"","","",null,"","","",{"$nulls":8},"",{"$nulls":4},"",{"$nulls":4},"",{"$nulls":15},"",{"$nulls":4},"",{"$nulls":4},"",{"$nulls":15},"",{"$nulls":4},"",{"$nulls":4},"",{"$nulls":15},"",{"$nulls":4},"",{"$nulls":4},"",{"$nulls":6},0,{"$f":"SUM($FL$36:$FL61)","v":0},0]
[27,{"$nulls":4},"N/A",{"$nulls":10},"","","",null,"","","",null,"","","",null,"","","",{"$nulls":5},"","","","","","","","",null,0,{"$nulls":3},"","","",null,"","","",null,"","","",null,"","","",{"$nulls":8},"",{"$nulls":4},"",{"$nulls":4},"",{"$nulls":15},"",{"$nulls":4},"",{"$nulls":4},"",{"$nulls":15},"",{"$nulls":4},"",{"$nulls":4},"",{"$nulls":15},"",{"$nulls":4},"",{"$nulls":4},"",{"$nulls":6},0,{"$f":"SUM($FL$36:$FL62)","v":0},0]
[28,{"$nulls":4},"N/A",{"$nulls":10},"","","",null,"","","",null,"","","",null,"","","",{"$nulls":5},"","","","","","","","",null,0,{"$nulls":3},"","","",null,"","","",null,"","","",null,"","","",{"$nulls":8},"",{"$nulls":4},"",{"$nulls":4},"",{"$nulls":15},"",{"$nulls":4},"",{"$nulls":4},"",{"$nulls":15},"",{"$nulls":4},"",{"$nulls":4},"",{"$nulls":15},"",{"$nulls":4},"",{"$nulls":4},"",{"$nulls":6},0,{"$f":"SUM($FL$36:$FL63)","v":0},0]
[29,{"$nulls":4},"N/A",{"$nulls":10},"","","",null,"","","",null,"","","",null,"","","",{"$nulls":5},"","","","","","","","",null,0,{"$nulls":3},"","","",null,"","","",null,"","","",null,"","","",{"$nulls":8},"",{"$nulls":4},"",{"$nulls":4},"",{"$nulls":15},"",{"$nulls":4},"",{"$nulls":4},"",{"$nulls":15},"",{"$nulls":4},"",{"$nulls":4},"",{"$nulls":15},"",{"$nulls":4},"",{"$nulls":4},"",{"$nulls":6},0,{"$f":"SUM($FL$36:$FL64)","v":0},0]
[30,{"$nulls":4},"N/A",{"$nulls":10},"","","",null,"","","",null,"","","",null,"","","",{"$nulls":5},"","","","","","","","",null,0,{"$nulls":3},"","","",null,"","","",null,"","","",null,"","","",{"$nulls":8},"",{"$nulls":4},"",{"$nulls":4},"",{"$nulls":15},"",{"$nulls":4},"",{"$nulls":4},"",{"$nulls":15},"",{"$nulls":4},"",{"$nulls":4},"",{"$nulls":15},"",{"$nulls":4},"",{"$nulls":4},"",{"$nulls":6},0,{"$f":"SUM($FL$36:$FL65)","v":0},0]
[31,{"$nulls":4},"N/A",{"$nulls":10},"","","",null,"","","",null,"","","",null,"","","",{"$nulls":5},"","","","","","","","",null,0,{"$nulls":3},"","","",null,"","","",null,"","","",null,"","","",{"$nulls":8},"",{"$nulls":4},"",{"$nulls":4},"",{"$nulls":15},"",{"$nulls":4},"",{"$nulls":4},"",{"$nulls":15},"",{"$nulls":4},"",{"$nulls":4},"",{"$nulls":15},"",{"$nulls":4},"",{"$nulls":4},"",{"$nulls":6},0,{"$f":"SUM($FL$36:$FL66)","v":0},0]
[32,{"$nulls":4},"N/A",{"$nulls":10},"","","",null,"","","",null,"","","",null,"","","",{"$nulls":5},"","","","","","","","",null,0,{"$nulls":3},"","","",null,"","","",null,"","","",null,"","","",{"$nulls":8},"",{"$nulls":4},"",{"$nulls":4},"",{"$nulls":15},"",{"$nulls":4},"",{"$nulls":4},"",{"$nulls":15},"",{"$nulls":4},"",{"$nulls":4},"",{"$nulls":15},"",{"$nulls":4},"",{"$nulls":4},"",{"$nulls":6},0,{"$f":"SUM($FL$36:$FL67)","v":0},0]
[33,{"$nulls":4},"N/A",{"$nulls":10},"","","",null,"","","",null,"","","",null,"","","",{"$nulls":5},"","","","","","","","",null,0,{"$nulls":3},"","","",null,"","","",null,"","","",null,"","","",{"$nulls":8},"",{"$nulls":4},"",{"$nulls":4},"",{"$nulls":15},"",{"$nulls":4},"",{"$nulls":4},"",{"$nulls":15},"",{"$nulls":4},"",{"$nulls":4},"",{"$nulls":15},"",{"$nulls":4},"",{"$nulls":4},"",{"$nulls":6},0,{"$f":"SUM($FL$36:$FL68)","v":0},0]
[34,{"$nulls":4},"N/A",{"$nulls":10},"","","",null,"","","",null,"","","",null,"","","",{"$nulls":5},"","","","","","","","",null,0,{"$nulls":3},"","","",null,"","","",null,"","","",null,"","","",{"$nulls":8},"",{"$nulls":4},"",{"$nulls":4},"",{"$nulls":15},"",{"$nulls":4},"",{"$nulls":4},"",{"$nulls":15},"",{"$nulls":4},"",{"$nulls":4},"",{"$nulls":15},"",{"$nulls":4},"",{"$nulls":4},"",{"$nulls":6},0,{"$f":"SUM($FL$36:$FL69)","v":0},0]
[35,{"$nulls":4},"N/A",{"$nulls":10},"","","",null,"","","",null,"","","",null,"","","",{"$nulls":5},"","","","","","","","",null,0,{"$nulls":3},"","","",null,"","","",null,"","","",null,"","","",{"$nulls":8},"",{"$nulls":4},"",{"$nulls":4},"",{"$nulls":15},"",{"$nulls":4},"",{"$nulls":4},"",{"$nulls":15},"",{"$nulls":4},"",{"$nulls":4},"",{"$nulls":15},"",{"$nulls":4},"",{"$nulls":4},"",{"$nulls":6},0,{"$f":"SUM($FL$36:$FL70)","v":0},0]
[36,{"$nulls":4},"N/A",{"$nulls":10},"","","",null,"","","",null,"","","",null,"","","",{"$nulls":5},"","","","","","","","",null,0,{"$nulls":3},"","","",null,"","","",null,"","","",null,"","","",{"$nulls":8},"",{"$nulls":4},"",{"$nulls":4},"",{"$nulls":15},"",{"$nulls":4},"",{"$nulls":4},"",{"$nulls":15},"",{"$nulls":4},"",{"$nulls":4},"",{"$nulls":15},"",{"$nulls":4},"",{"$nulls":4},"",{"$nulls":6},0,{"$f":"SUM($FL$36:$FL71)","v":0},0]
[37,{"$nulls":4},"N/A",{"$nulls":10},"","","",null,"","","",null,"","","",null,"","","",{"$nulls":5},"","","","","","","","",null,0,{"$nulls":3},"","","",null,"","","",null,"","","",null,"","","",{"$nulls":8},"",{"$nulls":4},"",{"$nulls":4},"",{"$nulls":15},"",{"$nulls":4},"",{"$nulls":4},"",{"$nulls":15},"",{"$nulls":4},"",{"$nulls":4},"",{"$nulls":15},"",{"$nulls":4},"",{"$nulls":4},"",{"$nulls":6},0,{"$f":"SUM($FL$36:$FL72)","v":0},0]
[38,{"$nulls":4},"N/A",{"$nulls":10},"","","",null,"","","",null,"","","",null,"","","",{"$nulls":5},"","","","","","","","",null,0,{"$nulls":3},"","","",null,"","","",null,"","","",null,"","","",{"$nulls":8},"",{"$nulls":4},"",{"$nulls":4},"",{"$nulls":15},"",{"$nulls":4},"",{"$nulls":4},"",{"$nulls":15},"",{"$nulls":4},"",{"$nulls":4},"",{"$nulls":15},"",{"$nulls":4},"",{"$nulls":4},"",{"$nulls":6},0,{"$f":"SUM($FL$36:$FL73)","v":0},0]
[39,{"$nulls":4},"N/A",{"$nulls":10},"","","",null,"","","",null,"","","",null,"","","",{"$nulls":5},"","","","","","","","",null,0,{"$nulls":3},"","","",null,"","","",null,"","","",null,"","","",{"$nulls":8},"",{"$nulls":4},"",{"$nulls":4},"",{"$nulls":15},"",{"$nulls":4},"",{"$nulls":4},"",{"$nulls":15},"",{"$nulls":4},"",{"$nulls":4},"",{"$nulls":15},"",{"$nulls":4},"",{"$nulls":4},"",{"$nulls":6},0,{"$f":"SUM($FL$36:$FL74)","v":0},0]
[40,{"$nulls":4},"N/A",{"$nulls":10},"","","",null,"","","",null,"","","",null,"","","",{"$nulls":5},"","","","","","","","",null,0,{"$nulls":3},"","","",null,"","","",null,"","","",null,"","","",{"$nulls":8},"",{"$nulls":4},"",{"$nulls":4},"",{"$nulls":15},"",{"$nulls":4},"",{"$nulls":4},"",{"$nulls":15},"",{"$nulls":4},"",{"$nulls":4},"",{"$nulls":15},"",{"$nulls":4},"",{"$nulls":4},"",{"$nulls":6},0,{"$f":"SUM($FL$36:$FL75)","v":0},0]
[41,{"$nulls":4},"N/A",{"$nulls":10},"","","",null,"","","",null,"","","",null,"","","",{"$nulls":5},"","","","","","","","",null,0,{"$nulls":3},"","","",null,"","","",null,"","","",null,"","","",{"$nulls":8},"",{"$nulls":4},"",{"$nulls":4},"",{"$nulls":15},"",{"$nulls":4},"",{"$nulls":4},"",{"$nulls":15},"",{"$nulls":4},"",{"$nulls":4},"",{"$nulls":15},"",{"$nulls":4},"",{"$nulls":4},"",{"$nulls":6},0,{"$f":"SUM($FL$36:$FL76)","v":0},0]
[42,{"$nulls":4},"N/A",{"$nulls":10},"","","",null,"","","",null,"","","",null,"","","",{"$nulls":5},"","","","","","","","",null,0,{"$nulls":3},"","","",null,"","","",null,"","","",null,"","","",{"$nulls":8},"",{"$nulls":4},"",{"$nulls":4},"",{"$nulls":15},"",{"$nulls":4},"",{"$nulls":4},"",{"$nulls":15},"",{"$nulls":4},"",{"$nulls":4},"",{"$nulls":15},"",{"$nulls":4},"",{"$nulls":4},"",{"$nulls":6},0,{"$f":"SUM($FL$36:$FL77)","v":0},0]
[43,{"$nulls":4},"N/A",{"$nulls":10},"","","",null,"","","",null,"","","",null,"","","",{"$nulls":5},"","","","","","","","",null,0,{"$nulls":3},"","","",null,"","","",null,"","","",null,"","","",{"$nulls":8},"",{"$nulls":4},"",{"$nulls":4},"",{"$nulls":15},"",{"$nulls":4},"",{"$nulls":4},"",{"$nulls":15},"",{"$nulls":4},"",{"$nulls":4},"",{"$nulls":15},"",{"$nulls":4},"",{"$nulls":4},"",{"$nulls":6},0,{"$f":"SUM($FL$36:$FL78)","v":0},0]
[44,{"$nulls":4},"N/A",{"$nulls":10},"","","",null,"","","",null,"","","",null,"","","",{"$nulls":5},"","","","","","","","",null,0,{"$nulls":3},"","","",null,"","","",null,"","","",null,"","","",{"$nulls":8},"",{"$nulls":4},"",{"$nulls":4},"",{"$nulls":15},"",{"$nulls":4},"",{"$nulls":4},"",{"$nulls":15},"",{"$nulls":4},"",{"$nulls":4},"",{"$nulls":15},"",{"$nulls":4},"",{"$nulls":4},"",{"$nulls":6},0,{"$f":"SUM($FL$36:$FL79)","v":0},0]
[45,{"$nulls":4},"N/A",{"$nulls":10},"","","",null,"","","",null,"","","",null,"","","",{"$nulls":5},"","","","","","","","",null,0,{"$nulls":3},"","","",null,"","","",null,"","","",null,"","","",{"$nulls":8},"",{"$nulls":4},"",{"$nulls":4},"",{"$nulls":15},"",{"$nulls":4},"",{"$nulls":4},"",{"$nulls":15},"",{"$nulls":4},"",{"$nulls":4},"",{"$nulls":15},"",{"$nulls":4},"",{"$nulls":4},"",{"$nulls":6},0,{"$f":"SUM($FL$36:$FL80)","v":0},0]
[46,{"$nulls":4},"N/A",{"$nulls":10},"","","",null,"","","",null,"","","",null,"","","",{"$nulls":5},"","","","","","","","",null,0,{"$nulls":3},"","","",null,"","","",null,"","","",null,"","","",{"$nulls":8},"",{"$nulls":4},"",{"$nulls":4},"",{"$nulls":15},"",{"$nulls":4},"",{"$nulls":4},"",{"$nulls":15},"",{"$nulls":4},"",{"$nulls":4},"",{"$nulls":15},"",{"$nulls":4},"",{"$nulls":4},"",{"$nulls":6},0,{"$f":"SUM($FL$36:$FL81)","v":0},0]
[47,{"$nulls":4},"N/A",{"$nulls":10},"","","",null,"","","",null,"","","",null,"","","",{"$nulls":5},"","","","","","","","",null,0,{"$nulls":3},"","","",null,"","","",null,"","","",null,"","","",{"$nulls":8},"",{"$nulls":4},"",{"$nulls":4},"",{"$nulls":15},"",{"$nulls":4},"",{"$nulls":4},"",{"$nulls":15},"",{"$nulls":4},"",{"$nulls":4},"",{"$nulls":15},"",{"$nulls":4},"",{"$nulls":4},"",{"$nulls":6},0,{"$f":"SUM($FL$36:$FL82)","v":0},0]
[48,{"$nulls":4},"N/A",{"$nulls":10},"","","",null,"","","",null,"","","",null,"","","",{"$nulls":5},"","","","","","","","",null,0,{"$nulls":3},"","","",null,"","","",null,"","","",null,"","","",{"$nulls":8},"",{"$nulls":4},"",{"$nulls":4},"",{"$nulls":15},"",{"$nulls":4},"",{"$nulls":4},"",{"$nulls":15},"",{"$nulls":4},"",{"$nulls":4},"",{"$nulls":15},"",{"$nulls":4},"",{"$nulls":4},"",{"$nulls":6},0,{"$f":"SUM($FL$36:$FL83)","v":0},0]
[49,{"$nulls":4},"N/A",{"$nulls":10},"","","",null,"","","",null,"","","",null,"","","",{"$nulls":5},"","","","","","","","",null,0,{"$nulls":3},"","","",null,"","","",null,"","","",null,"","","",{"$nulls":8},"",{"$nulls":4},"",{"$nulls":4},"",{"$nulls":15},"",{"$nulls":4},"",{"$nulls":4},"",{"$nulls":15},"",{"$nulls":4},"",{"$nulls":4},"",{"$nulls":15},"",{"$nulls":4},"",{"$nulls":4},"",{"$nulls":6},0,{"$f":"SUM($FL$36:$FL84)","v":0},0]
[50,{"$nulls":4},"N/A",{"$nulls":10},"","","",null,"","","",null,"","","",null,"","","",{"$nulls":5},"","","","","","","","",null,0,{"$nulls":3},"","","",null,"","","",null,"","","",null,"",{"$f":"IF($B85=\"Y\",IF(AND($AC85<>\"\",$AQ84<>\"\",$AR84<>\"\"),($AC85+$AQ84)/($AR84+1),\"\"),\"\")","v":""},"",{"$nulls":8},"",{"$nulls":4},"",{"$nulls":4},"",{"$nulls":15},"",{"$nulls":4},"",{"$nulls":4},"",{"$nulls":15},"",{"$nulls":4},"",{"$nulls":4},"",{"$nulls":15},"",{"$nulls":4},"",{"$nulls":4},"",{"$nulls":6},0,{"$f":"SUM($FL$36:$FL85)","v":0},0]
[null,null,{"$f":"SUM(C36:C85)","v":0}]
["g/bhp-hr"]
["g/kW-hr"]

{"sheet":"Engine Family #24","index":26,"n_rows":88,"n_cols":176,"rows_kept":88,"merged":[[1,0,1,35],[2,0,2,35],[3,0,3,35],[4,0,4,35],[5,0,5,35],[6,0,6,35],[8,0,8,16],[10,4,10,6],[10,12,10,13],[11,4,11,6],[11,15,11,16],[11,19,11,20],[11,23,11,24],[11,27,11,28],[12,4,12,6],[13,4,13,6],[14,4,15,6],[17,14,22,14],[27,4,30,13],[27,15,28,16],[32,0,32,16],[32,17,32,33],[32,34,32,35],[33,45,34,45]]}
[]
["United States"]
["US Environmental Protection Agency"]
["Office of Air and Radiation, Office of Transportation and Air Quality"]
[{"$nulls":37},"Tier 2","Y",94]
["Manufacturer Production Line Testing Report for Marine Compression Ignition Engines",{"$nulls":36},"Tier 3","N",1042]
[{"$f":"Summary!B7","v":"Version Number: 1.4 DRAFT  Last Revision: September 2023"},{"$nulls":36},"Tier 4",null,"N/A"]
[]
["Basic Information: Engine Family #24"]
[{"$nulls":167},{"$f":"IF(AND($G$24=94,Summary!$L$13=\"Category 1\"),0,1)","v":1}]
[null,null,"Manufacturer:",null,{"$f":"IF(Summary!D12<>\"\",Summary!D12,\"\")","v":""},{"$nulls":3},"Engine Family:",{"$nulls":31},{"$f":"IF($G$19=\"Diesel\",\"'HC' refers to 'THC' \",IF($G$19=\"Natural Gas\",\"'HC' refers to 'NMHC' \",IF($G$19=\"Alcohol\",\"'HC' refers to 'THCE' \",\"\")))","v":""}]
[null,null,"PLT Test Contact:",null,{"$f":"IF(Summary!D13<>\"\",Summary!D13,\"\")","v":""},{"$nulls":3},"Production (Category 3 only):",{"$nulls":6},{"$f":"IF(N16<>\"Y\", \"Current CO Result\", \"Final CO Result\")","v":"Current CO Result"},null,{"$f":"$CJ$36","v":""},null,{"$f":"IF(N16<>\"Y\", \"Current PM Result\", \"Final PM Result\")","v":"Current PM Result"},null,{"$f":"$DJ$36","v":""},null,{"$f":"IF($AF$12=\"Y\",IF(N16<>\"Y\", \"Current NOx+HC Result\", \"Final NOx+HC Result\"),IF(N16<>\"Y\", \"Current HC Result\", \"Final HC Result\"))","v":"Current HC Result"},null,{"$f":"IF($AF$12=\"Y\",IF($FP$36>0,ROUND($EJ$36+$FJ$36,2),\"\"),$EJ$36)","v":""},null,{"$f":"IF(N16<>\"Y\", \"Current NOx Result\",\"Final NOx Result\")","v":"Current NOx Result"},null,{"$f":"$FJ$36","v":""},null,{"$f":"IF($L$13<>\"Category 3\",IF($G$23=\"\",\"N\",$G$23),\"N\")","v":"N"},{"$f":"IF(Summary!$L$13=\"Category 3\",\"CAT3\",\"\")","v":""}]
[null,null,"Email Address:",null,{"$f":"IF(Summary!D14<>\"\",Summary!D14,\"\")","v":""},{"$nulls":3},"Date of Start of Model Year Production:"]
[null,null,"Phone #:",null,{"$f":"IF(Summary!D15<>\"\",Summary!D15,\"\")","v":""},{"$nulls":3},"Date of End of Model Year Production:",{"$nulls":14},{"$f":"IF($G$19=\"Diesel\",\"'HC' refers to 'THC' \",IF($G$19=\"Natural Gas\",\"'HC' refers to 'NMHC' \",IF($G$19=\"Alcohol\",\"'HC' refers to 'THCE' \",\"\")))","v":""},{"$nulls":13},"Diesel",1,{"$nulls":6},1]
[null,null,"Test Location & Description:",{"$nulls":5},"Deterioration Factor Type:",{"$nulls":28},"Natural Gas",2,{"$nulls":6},2]
[{"$nulls":8},"Include Results from this Engine Family on Summary Sheet?",{"$nulls":6},"CO Standard ",{"$nulls":3},"PM Standard or FEL",{"$nulls":3},{"$f":"IF($AF$12=\"Y\",\"NOx+HC Standard or FEL\",\"HC Standard\")","v":"HC Standard"},{"$nulls":3},"NOx Standard or FEL",{"$nulls":9},"Alcohol",3,{"$nulls":6},3]
[null,null,"Carryover?:",{"$nulls":5},"Required Tests (including failure follow-ups)",{"$nulls":4},{"$f":"$FO36","v":0},null,"Units",null,"g/kW-hr",null,"Units",null,"g/kW-hr",null,"Units",null,"g/kW-hr",null,"Units",null,"g/kW-hr",{"$nulls":4},"Test Cycle Options",{"$nulls":10},4]
[null,null,{"$f":"IF($G$17=\"Y\",\"Please submit supporting documentation indicating that this is a carry-over engine family\",\"\")","v":""},{"$nulls":5},"Instead of testing, are PLT requirements for this Engine Family",{"$nulls":6},"CO  Det Factor",{"$nulls":3},"PM  Det Factor",{"$nulls":3},"HC Det Factor",{"$nulls":3},"NOx  Det Factor",{"$nulls":6},"1 = 4-Mode General Cycle (E3)",null,null,"Recreational"]
[null,null,"Fuel Type:",{"$nulls":5}," fulfilled under the following (Category 1 only)?",{"$nulls":6},"Det Factor Type",null,{"$f":"IF($N$15<>\"\",$N$15,\"\")","v":""},null,"Det Factor Type",null,{"$f":"IF($N$15<>\"\",$N$15,\"\")","v":""},null,"Det Factor Type",null,{"$f":"IF($N$15<>\"\",$N$15,\"\")","v":""},null,"Det Factor Type",null,{"$f":"IF($N$15<>\"\",$N$15,\"\")","v":""},{"$nulls":4},"2 = 5-Mode Recreational Cycle (E5)",null,null,"Commercial"]
[null,null,"Recreational/Commercial:",{"$nulls":5},"Please elaborate in the comments section.",{"$nulls":6},"CO Green Engine Factor",{"$nulls":3},"PM Green Engine Factor",{"$nulls":3},"HC Green Engine Factor",{"$nulls":3},"NOx Green Engine Factor",{"$nulls":6},"3 = 4-Mode Constant Speed Propulsion Cycle (E2)"]
[null,null,"Model Year:",{"$nulls":5},"    -1042.310(a) - EPA approved combining it, for PLT purposes only.",{"$nulls":25},"4 = 5-Mode Constant Speed Auxiliary Cycle (D2)"]
[null,null,"Tier:",{"$nulls":31},"5 = 6-Mode Variable Speed Auxiliary Cycle (G2)",null,null,"1 (E3)"]
[null,null,"Combined NOx+HC?",{"$nulls":31},"6 = 8-Mode Variable Speed Ausiliary Cycle (C1)",null,null,"2 (E5)"]
[null,null,"40 CFR Part:",{"$nulls":3},{"$f":"AN6","v":1042},null,"Additional testing required by EPA [40 CFR 1042.301(e)]? ",{"$nulls":25},"O = Other",null,null,"3 (E2)"]
[{"$nulls":37},"4 (D2)"]
[{"$nulls":37},"5 (G2)",{"$nulls":132},"deleted and redirected"]
[{"$nulls":22}," ",{"$nulls":14},"6 (C1)",4,{"$nulls":6},4]
[null,null,"Comments:",{"$nulls":34},"O (other)"]
[{"$nulls":22}," ",{"$nulls":22},"additive"]
[{"$nulls":45},"multiplicative",{"$nulls":22},"CO Rounding",{"$nulls":4},"CO Rounding",{"$nulls":4},"CO Rounding",{"$nulls":4},"CO Rounding",{"$nulls":10},"PM Rounding",{"$nulls":4},"PM Rounding",{"$nulls":4},"PM Rounding",{"$nulls":4},"PM Rounding",{"$nulls":10},"HC Rounding",{"$nulls":4},"HC Rounding",{"$nulls":4},"HC Rounding",{"$nulls":4},"HC Rounding",{"$nulls":10},"NOx Rounding",{"$nulls":4},"NOx Rounding",{"$nulls":4},"NOx Rounding",{"$nulls":4},"NOx Rounding"]
[{"$nulls":22}," ",{"$nulls":45},"initial",{"$nulls":4},"final",{"$nulls":4}," det final",{"$nulls":4},"ave of all final",{"$nulls":10},"initial",{"$nulls":4},"final",{"$nulls":4}," det final",{"$nulls":4},"ave of all final",{"$nulls":10},"initial",{"$nulls":4},"final",{"$nulls":4}," det final",{"$nulls":4},"ave of all final",{"$nulls":10},"initial",{"$nulls":4},"final",{"$nulls":4}," det final",{"$nulls":4},"ave of all final"]
[{"$nulls":38},"Y",{"$nulls":6},"Y"]
["PLT Engine Test Results: Engine Family #24",{"$nulls":37},"N",{"$nulls":6},"N",{"$nulls":124},"This is N17"]
[{"$nulls":36},"CO",null,"PM",null,null,"HC or HC+NOX",null,"Nox",null,"Engine Data Complete?",{"$nulls":11},"HC","HC","HC","HC","Nox","Nox","Nox","Nox",{"$nulls":107},"1% of production or pre-approved reduced sample size - whichever is Lower # "]
[null,"Calc Final Result?","Test Number","Test Date","Test Time","Test Qtr","Engine ID","Engine Make","Engine Configuration","Build Date","Green Engine Factor Applied?","Green Engine Factor Determination Method","Service Hours (or miles) Accumulation","Service Hours Location","Service Acc. Procedure","CO Initial Result ","Rounded CO Initial Result ","CO Final Result ","Det. CO Final Result ","PM Initial Result ","Rounded PM Initial Result ","PM Final Result ","Det. PM Final Result ","HC Initial Result ","Rounded HC Initial Result ","HC Final Result ","Det. HC Final Result ","NOx Initial Result ","Rounded NOx Initial Result ","NOx Final Result ","Det. NOx Final Result ","Reason for Failed Test (if applicable)","Remedy","Repairs","Test Cycle","Comments",0,0,0,0,0,0,0,0,{"$nulls":5},"Unrounded initial CO","Unrounded final CO","Det CO","Final CO","Unrounded initial PM","Unrounded final PM","Det PM","Final PM","Unrounded initial HCNOx","Unrounded final HCNOx","Det HCNOx","Final HCNOX","Unrounded initial NOx","Unrounded final NOx","Det NOx","Final HCNOX",{"$nulls":7},"rounded",{"$nulls":4},"rounded",{"$nulls":4},"rounded",{"$nulls":4},"rounded",{"$nulls":10},"rounded",{"$nulls":4},"rounded",{"$nulls":4},"rounded",{"$nulls":4},"rounded",{"$nulls":10},"rounded",{"$nulls":4},"rounded",{"$nulls":4},"rounded",{"$nulls":4},"rounded","ROUNDED AND ACCOUNT FOR BLANK",{"$nulls":9},"rounded",{"$nulls":4},"rounded",{"$nulls":4},"rounded",{"$nulls":4},"rounded","ROUNDED AND ACCOUNT FOR BLANK","Test complete Flag","Total complete","Fail Flag","req","val","baseline req","req due to fails","sum fails","baseline req"]
[1,{"$nulls":4},"N/A",{"$nulls":10},{"$f":"$BU36","v":""},{"$f":"$BZ36","v":""},{"$f":"$CE36","v":""},null,{"$f":"$CU36","v":""},{"$f":"$CZ36","v":""},{"$f":"$DE36","v":""},null,{"$f":"$DU36","v":""},{"$f":"$DZ36","v":""},{"$f":"$EE36","v":""},null,{"$f":"$EU36","v":""},{"$f":"$EZ36","v":""},{"$f":"$FE36","v":""},{"$nulls":5},{"$f":"IF($B36=\"N\",IF(AND($AK35<>\"\",$Q36<>\"\"),$AK35+$Q36,\"\"),IF($B36=\"Y\",0,\"\"))","v":""},{"$f":"IF($B36=\"N\",AL35+1,IF($B36=\"Y\",0,\"\"))","v":""},{"$f":"IF($B36=\"N\",IF(AND($AM35<>\"\",$U36<>\"\"),$AM35+$U36,\"\"),IF($B36=\"Y\",0,\"\"))","v":""},{"$f":"IF($B36=\"N\",AN35+1,IF($B36=\"Y\",0,\"\"))","v":""},{"$f":"IF($B36=\"N\",IF(AND($AO35<>\"\",$Y36<>\"\"),$AO35+$Y36,\"\"),IF($B36=\"Y\",0,\"\"))","v":""},{"$f":"IF($B36=\"N\",AP35+1,IF($B36=\"Y\",0,\"\"))","v":""},{"$f":"IF($B36=\"N\",IF(AND($AQ35<>\"\",$AC36<>\"\"),$AQ35+$AC36,\"\"),IF($B36=\"Y\",0,\"\"))","v":""},{"$f":"IF($B36=\"N\",AR35+1,IF($B36=\"Y\",0,\"\"))","v":""},null,{"$f":"IF(AND(B36<>\"\",C36<>\"\",D36<>\"\",E36<>\"\",G36<>\"\",H36<>\"\",I36<>\"\",J36<>\"\",K36<>\"\",M36<>\"\",N36<>\"\",O36<>\"\"),1,0)","v":0},{"$nulls":3},{"$f":"IF(AND($P36<>\"\",$AT36=1),$P36,\"\")","v":""},{"$f":"IF($B36=\"Y\",IF(AND($Q36<>\"\",$AK35<>\"\",$AL35<>\"\"),($Q36+$AK35)/($AL35+1),\"\"),\"\")","v":""},{"$f":"IF(AND($B36=\"Y\",$R36<>\"\",$R$18<>\"\"),IF($R$19=\"additive\",$R36+$R$18,IF($R$19=\"multiplicative\",$R36*$R$18,\"\")),\"\")","v":""},{"$f":"IF(COUNT($S$36:$S$85)>0,AVERAGE($S$36:$S$85),\"\")","v":""},{"$f":"IF(AND($T36<>\"\",$AT36=1),$T36,\"\")","v":""},{"$f":"IF($B36=\"Y\",IF(AND($U36<>\"\",$AM35<>\"\",$AN35<>\"\"),($U36+$AM35)/($AN35+1),\"\"),\"\")","v":""},{"$f":"IF(AND($B36=\"Y\",$V36<>\"\",$V$18<>\"\"),IF($V$19=\"additive\",$V36+$V$18,IF($V$19=\"multiplicative\",$V36*$V$18,\"\")),\"\")","v":""},{"$f":"IF(COUNT($W$36:$W$85)>0,AVERAGE($W$36:$W$85),\"\")","v":""},{"$f":"IF(AND($X36<>\"\",$AT36=1),$X36,\"\")","v":""},{"$f":"IF($B36=\"Y\",IF(AND($Y36<>\"\",$AO35<>\"\",$AP35<>\"\"),($Y36+$AO35)/($AP35+1),\"\"),\"\")","v":""},{"$f":"IF(AND($B36=\"Y\",$Z36<>\"\",$Z$18<>\"\"),IF($Z$19=\"additive\",$Z36+$Z$18,IF($Z$19=\"multiplicative\",$Z36*$Z$18,\"\")),\"\")","v":""},{"$f":"IF(COUNT($AA$36:$AA$85)>0,AVERAGE($AA$36:$AA$85),\"\")","v":""},{"$f":"IF(AND($AB36<>\"\",$AT36=1),$AB36,\"\")","v":""},{"$f":"IF($B36=\"Y\",IF(AND($AC36<>\"\",$AQ35<>\"\",$AR35<>\"\"),($AC36+$AQ35)/($AR35+1),\"\"),\"\")","v":""},{"$f":"IF(AND($B36=\"Y\",$AD36<>\"\",$AD$18<>\"\"),IF($AD$19=\"additive\",$AD36+$AD$18,IF($AD$19=\"multiplicative\",$AD36*$AD$18,\"\")),\"\")","v":""},{"$f":"IF(COUNT($AE$36:$AE$85)>0,AVERAGE($AE$36:$AE$85),\"\")","v":""},{"$nulls":7},{"$f":"IF($AX36<>\"\",ROUND($AX36,2),\"\")","v":""},{"$nulls":4},{"$f":"IF($AY36<>\"\",ROUND($AY36,2),\"\")","v":""},{"$nulls":4},{"$f":"IF($AZ36<>\"\",ROUND($AZ36,2),\"\")","v":""},{"$nulls":4},{"$f":"IF($BA36<>\"\",ROUND($BA36,2),\"\")","v":""},{"$nulls":10},{"$f":"IF($BB36<>\"\",ROUND($BB36,3),\"\")","v":""},{"$nulls":4},{"$f":"IF($BC36<>\"\",ROUND($BC36,3),\"\")","v":""},{"$nulls":4},{"$f":"IF($BD36<>\"\",ROUND($BD36,3),\"\")","v":""},{"$nulls":4},{"$f":"IF($BE36<>\"\",ROUND($BE36,3),\"\")","v":""},{"$nulls":10},{"$f":"IF($BF36<>\"\",ROUND($BF36,3),\"\")","v":""},{"$nulls":4},{"$f":"IF($BG36<>\"\",ROUND($BG36,3),\"\")","v":""},{"$nulls":4},{"$f":"IF($BH36<>\"\",ROUND($BH36,3),\"\")","v":""},{"$nulls":4},{"$f":"IF($BI36<>\"\",ROUND($BI36,3),\"\")","v":""},{"$f":"IF(EJ36=\"\",0,EJ36)","v":0},{"$nulls":9},{"$f":"IF($BJ36<>\"\",ROUND($BJ36,2),\"\")","v":""},{"$nulls":4},{"$f":"IF($BK36<>\"\",ROUND($BK36,2),\"\")","v":""},{"$nulls":4},{"$f":"IF($BL36<>\"\",ROUND($BL36,2),\"\")","v":""},{"$nulls":4},{"$f":"IF($BM36<>\"\",ROUND($BM36,2),\"\")","v":""},{"$f":"IF(FJ36=\"\",0,FJ36)","v":0},{"$f":"IF($AG$12<>\"CAT3\",IF(AND($B36=\"Y\",$S36<>\"\",$W36<>\"\",$AA36<>\"\",$AE36<>\"\"),1,0),IF($AE36<>\"\",1,0))","v":0},{"$f":"SUM($FL$36:$FL36)","v":0},{"$f":"IF($AG$12<>\"CAT3\",IF($FL36=1,IF(OR($S36>$R$16,$W36>$V$16,$AA36>$Z$16,IF($AF$12<>\"Y\",OR($AA36>$Z$16,$AE36>$AD$16),ROUND(($AA36+$AE36),2)>$Z$16)),1,0),0),IF($FL36=1,IF(AND($AE36>$AD$16,$AF$12=\"N\"),1,0),0))","v":0},{"$f":"IF(OR($M$11=\"\",$N$18=\"Y\"),0,IF($AG$12=\"CAT3\",$N$12,($FR$36+1)))","v":0},{"$f":"SUM(FL36:FL85)","v":0},{"$f":"IF(AND($G$17=\"Y\",$N$24<>\"\"),MIN($N$24,$FT$36),$FT$36)","v":0},{"$f":"$FS$36*2","v":0},{"$f":"SUM(FN36:FN85)","v":0},{"$f":"IF($N$12<>\"\",$N$12*0.01,0)","v":0}]
[{"$f":"A36+1","v":2},{"$nulls":4},"N/A",{"$nulls":10},"","","",null,"","","",null,"","","",null,"","","",{"$nulls":5},"",{"$f":"IF($B37=\"N\",AL36+1,IF($B37=\"Y\",0,\"\"))","v":""},"",{"$f":"IF($B37=\"N\",AN36+1,IF($B37=\"Y\",0,\"\"))","v":""},{"$f":"IF($B37=\"N\",IF(AND($AO36<>\"\",$Y37<>\"\"),$AO36+$Y37,\"\"),IF($B37=\"Y\",0,\"\"))","v":""},{"$f":"IF($B37=\"N\",AP36+1,IF($B37=\"Y\",0,\"\"))","v":""},{"$f":"IF($B37=\"N\",IF(AND($AQ36<>\"\",$AC37<>\"\"),$AQ36+$AC37,\"\"),IF($B37=\"Y\",0,\"\"))","v":""},{"$f":"IF($B37=\"N\",AR36+1,IF($B37=\"Y\",0,\"\"))","v":""},null,{"$f":"IF(AND(B37<>\"\",C37<>\"\",D37<>\"\",E37<>\"\",G37<>\"\",H37<>\"\",I37<>\"\",J37<>\"\",K37<>\"\",M37<>\"\",N37<>\"\",O37<>\"\"),1,0)","v":0},{"$nulls":3},"","",{"$f":"IF(AND($B37=\"Y\",$R37<>\"\",$R$18<>\"\"),IF($R$19=\"additive\",$R37+$R$18,IF($R$19=\"multiplicative\",$R37*$R$18,\"\")),\"\")","v":""},null,"","",{"$f":"IF(AND($B37=\"Y\",$V37<>\"\",$V$18<>\"\"),IF($V$19=\"additive\",$V37+$V$18,IF($V$19=\"multiplicative\",$V37*$V$18,\"\")),\"\")","v":""},null,{"$f":"IF(AND($X37<>\"\",$AT37=1),$X37,\"\")","v":""},{"$f":"IF($B37=\"Y\",IF(AND($Y37<>\"\",$AO36<>\"\",$AP36<>\"\"),($Y37+$AO36)/($AP36+1),\"\"),\"\")","v":""},{"$f":"IF(AND($B37=\"Y\",$Z37<>\"\",$Z$18<>\"\"),IF($Z$19=\"additive\",$Z37+$Z$18,IF($Z$19=\"multiplicative\",$Z37*$Z$18,\"\")),\"\")","v":""},null,{"$f":"IF(AND($AB37<>\"\",$AT37=1),$AB37,\"\")","v":""},{"$f":"IF($B37=\"Y\",IF(AND($AC37<>\"\",$AQ36<>\"\",$AR36<>\"\"),($AC37+$AQ36)/($AR36+1),\"\"),\"\")","v":""},{"$f":"IF(AND($B37=\"Y\",$AD37<>\"\",$AD$18<>\"\"),IF($AD$19=\"additive\",$AD37+$AD$18,IF($AD$19=\"multiplicative\",$AD37*$AD$18,\"\")),\"\")","v":""},{"$nulls":8},{"$f":"IF($AX37<>\"\",ROUND($AX37,2),\"\")","v":""},{"$nulls":4},{"$f":"IF($AY37<>\"\",ROUND($AY37,2),\"\")","v":""},{"$nulls":4},{"$f":"IF($AZ37<>\"\",ROUND($AZ37,2),\"\")","v":""},{"$nulls":15},{"$f":"IF($BB37<>\"\",ROUND($BB37,3),\"\")","v":""},{"$nulls":4},{"$f":"IF($BC37<>\"\",ROUND($BC37,3),\"\")","v":""},{"$nulls":4},{"$f":"IF($BD37<>\"\",ROUND($BD37,3),\"\")","v":""},{"$nulls":15},{"$f":"IF($BF37<>\"\",ROUND($BF37,3),\"\")","v":""},{"$nulls":4},{"$f":"IF($BG37<>\"\",ROUND($BG37,3),\"\")","v":""},{"$nulls":4},{"$f":"IF($BH37<>\"\",ROUND($BH37,3),\"\")","v":""},{"$nulls":15},{"$f":"IF($BJ37<>\"\",ROUND($BJ37,2),\"\")","v":""},{"$nulls":4},{"$f":"IF($BK37<>\"\",ROUND($BK37,2),\"\")","v":""},{"$nulls":4},{"$f":"IF($BL37<>\"\",ROUND($BL37,2),\"\")","v":""},{"$nulls":6},{"$f":"IF($AG$12<>\"CAT3\",IF(AND($B37=\"Y\",$S37<>\"\",$W37<>\"\",$AA37<>\"\",$AE37<>\"\"),1,0),IF($AE37<>\"\",1,0))","v":0},{"$f":"SUM($FL$36:$FL37)","v":0},{"$f":"IF($AG$12<>\"CAT3\",IF($FL37=1,IF(OR($S37>$R$16,$W37>$V$16,$AA37>$Z$16,IF($AF$12<>\"Y\",OR($AA37>$Z$16,$AE37>$AD$16),ROUND(($AA37+$AE37),2)>$Z$16)),1,0),0),IF($FL37=1,IF(AND($AE37>$AD$16,$AF$12=\"N\"),1,0),0))","v":0},null,null,{"$f":"MAX($FQ$36,$FL$10)","v":1}]
[{"$f":"A37+1","v":3},{"$nulls":4},"N/A",{"$nulls":10},"","","",null,"","","",null,"","","",null,"","","",{"$nulls":5},"","","","","","","","",null,0,{"$nulls":3},"","","",null,"","","",null,"","","",null,"","","",{"$nulls":8},"",{"$nulls":4},"",{"$nulls":4},"",{"$nulls":15},"",{"$nulls":4},"",{"$nulls":4},"",{"$nulls":15},"",{"$nulls":4},"",{"$nulls":4},"",{"$nulls":15},"",{"$nulls":4},"",{"$nulls":4},"",{"$nulls":6},0,{"$f":"SUM($FL$36:$FL38)","v":0},0]
[4,{"$nulls":4},"N/A",{"$nulls":10},"","","",null,"","","",null,"","","",null,"","","",{"$nulls":5},"","","","","","","","",null,0,{"$nulls":3},"","","",null,"","","",null,"","","",null,"","","",{"$nulls":8},"",{"$nulls":4},"",{"$nulls":4},"",{"$nulls":15},"",{"$nulls":4},"",{"$nulls":4},"",{"$nulls":15},"",{"$nulls":4},"",{"$nulls":4},"",{"$nulls":15},"",{"$nulls":4},"",{"$nulls":4},"",{"$nulls":6},0,{"$f":"SUM($FL$36:$FL39)","v":0},0,null,null,"then, the larger of that sample size or 1  (or if Part 94 and cat1,  can be 0)"]
[5,{"$nulls":4},"N/A",{"$nulls":10},"","","",null,"","","",null,"","","",null,"","","",{"$nulls":5},"","","","","","","","",null,0,{"$nulls":3},"","","",null,"","","",null,"","","",null,"","","",{"$nulls":8},"",{"$nulls":4},"",{"$nulls":4},"",{"$nulls":15},"",{"$nulls":4},"",{"$nulls":4},"",{"$nulls":15},"",{"$nulls":4},"",{"$nulls":4},"",{"$nulls":15},"",{"$nulls":4},"",{"$nulls":4},"",{"$nulls":6},0,{"$f":"SUM($FL$36:$FL40)","v":0},0]
[6,{"$nulls":4},"N/A",{"$nulls":10},"","","",null,"","","",null,"","","",null,"","","",{"$nulls":5},"","","","","","","","",null,0,{"$nulls":3},"","","",null,"","","",null,"","","",null,"","","",{"$nulls":8},"",{"$nulls":4},"",{"$nulls":4},"",{"$nulls":15},"",{"$nulls":4},"",{"$nulls":4},"",{"$nulls":15},"",{"$nulls":4},"",{"$nulls":4},"",{"$nulls":15},"",{"$nulls":4},"",{"$nulls":4},"",{"$nulls":6},0,{"$f":"SUM($FL$36:$FL41)","v":0},0]
[7,{"$nulls":4},"N/A",{"$nulls":10},"","","",null,"","","",null,"","","",null,"","","",{"$nulls":5},"","","","","","","","",null,0,{"$nulls":3},"","","",null,"","","",null,"","","",null,"","","",{"$nulls":8},"",{"$nulls":4},"",{"$nulls":4},"",{"$nulls":15},"",{"$nulls":4},"",{"$nulls":4},"",{"$nulls":15},"",{"$nulls":4},"",{"$nulls":4},"",{"$nulls":15},"",{"$nulls":4},"",{"$nulls":4},"",{"$nulls":6},0,{"$f":"SUM($FL$36:$FL42)","v":0},0]
[8,{"$nulls":4},"N/A",{"$nulls":10},"","","",null,"","","",null,"","","",null,"","","",{"$nulls":5},"","","","","","","","",null,0,{"$nulls":3},"","","",null,"","","",null,"","","",null,"","","",{"$nulls":8},"",{"$nulls":4},"",{"$nulls":4},"",{"$nulls":15},"",{"$nulls":4},"",{"$nulls":4},"",{"$nulls":15},"",{"$nulls":4},"",{"$nulls":4},"",{"$nulls":15},"",{"$nulls":4},"",{"$nulls":4},"",{"$nulls":6},0,{"$f":"SUM($FL$36:$FL43)","v":0},0]
[9,{"$nulls":4},"N/A",{"$nulls":10},"","","",null,"","","",null,"","","",null,"","","",{"$nulls":5},"","","","","","","","",null,0,{"$nulls":3},"","","",null,"","","",null,"","","",null,"","","",{"$nulls":8},"",{"$nulls":4},"",{"$nulls":4},"",{"$nulls":15},"",{"$nulls":4},"",{"$nulls":4},"",{"$nulls":15},"",{"$nulls":4},"",{"$nulls":4},"",{"$nulls":15},"",{"$nulls":4},"",{"$nulls":4},"",{"$nulls":6},0,{"$f":"SUM($FL$36:$FL44)","v":0},0]
[10,{"$nulls":4},"N/A",{"$nulls":10},"","","",null,"","","",null,"","","",null,"","","",{"$nulls":5},"","","","","","","","",null,0,{"$nulls":3},"","","",null,"","","",null,"","","",null,"","","",{"$nulls":8},"",{"$nulls":4},"",{"$nulls":4},"",{"$nulls":15},"",{"$nulls":4},"",{"$nulls":4},"",{"$nulls":15},"",{"$nulls":4},"",{"$nulls":4},"",{"$nulls":15},"",{"$nulls":4},"",{"$nulls":4},"",{"$nulls":6},0,{"$f":"SUM($FL$36:$FL45)","v":0},0]
[11,{"$nulls":4},"N/A",{"$nulls":10},"","","",null,"","","",null,"","","",null,"","","",{"$nulls":5},"","","","","","","","",null,0,{"$nulls":3},"","","",null,"","","",null,"","","",null,"","","",{"$nulls":8},"",{"$nulls":4},"",{"$nulls":4},"",{"$nulls":15},"",{"$nulls":4},"",{"$nulls":4},"",{"$nulls":15},"",{"$nulls":4},"",{"$nulls":4},"",{"$nulls":15},"",{"$nulls":4},"",{"$nulls":4},"",{"$nulls":6},0,{"$f":"SUM($FL$36:$FL46)","v":0},0]
[12,{"$nulls":4},"N/A",{"$nulls":10},"","","",null,"","","",null,"","","",null,"","","",{"$nulls":5},"","","","","","","","",null,0,{"$nulls":3},"","","",null,"","","",null,"","","",null,"","","",{"$nulls":8},"",{"$nulls":4},"",{"$nulls":4},"",{"$nulls":15},"",{"$nulls":4},"",{"$nulls":4},"",{"$nulls":15},"",{"$nulls":4},"",{"$nulls":4},"",{"$nulls":15},"",{"$nulls":4},"",{"$nulls":4},"",{"$nulls":6},0,{"$f":"SUM($FL$36:$FL47)","v":0},0]
[13,{"$nulls":4},"N/A",{"$nulls":10},"","","",null,"","","",null,"","","",null,"","","",{"$nulls":5},"","","","","","","","",null,0,{"$nulls":3},"","","",null,"","","",null,"","","",null,"","","",{"$nulls":8},"",{"$nulls":4},"",{"$nulls":4},"",{"$nulls":15},"",{"$nulls":4},"",{"$nulls":4},"",{"$nulls":15},"",{"$nulls":4},"",{"$nulls":4},"",{"$nulls":15},"",{"$nulls":4},"",{"$nulls":4},"",{"$nulls":6},0,{"$f":"SUM($FL$36:$FL48)","v":0},0]
[14,{"$nulls":4},"N/A",{"$nulls":10},"","","",null,"","","",null,"","","",null,"","","",{"$nulls":5},"","","","","","","","",null,0,{"$nulls":3},"","","",null,"","","",null,"","","",null,"","","",{"$nulls":8},"",{"$nulls":4},"",{"$nulls":4},"",{"$nulls":15},"",{"$nulls":4},"",{"$nulls":4},"",{"$nulls":15},"",{"$nulls":4},"",{"$nulls":4},"",{"$nulls":15},"",{"$nulls":4},"",{"$nulls":4},"",{"$nulls":6},0,{"$f":"SUM($FL$36:$FL49)","v":0},0]
[15,{"$nulls":4},"N/A",{"$nulls":10},"","","",null,"","","",null,"","","",null,"","","",{"$nulls":5},"","","","","","","","",null,0,{"$nulls":3},"","","",null,"","","",null,"","","",null,"","","",{"$nulls":8},"",{"$nulls":4},"",{"$nulls":4},"",{"$nulls":15},"",{"$nulls":4},"",{"$nulls":4},"",{"$nulls":15},"",{"$nulls":4},"",{"$nulls":4},"",{"$nulls":15},"",{"$nulls":4},"",{"$nulls":4},"",{"$nulls":6},0,{"$f":"SUM($FL$36:$FL50)","v":0},0]
[16,{"$nulls":4},"N/A",{"$nulls":10},"","","",null,"","","",null,"","","",null,"","","",{"$nulls":5},"","","","","","","","",null,0,{"$nulls":3},"","","",null,"","","",null,"","","",null,"","","",{"$nulls":8},"",{"$nulls":4},"",{"$nulls":4},"",{"$nulls":15},"",{"$nulls":4},"",{"$nulls":4},"",{"$nulls":15},"",{"$nulls":4},"",{"$nulls":4},"",{"$nulls":15},"",{"$nulls":4},"",{"$nulls":4},"",{"$nulls":6},0,{"$f":"SUM($FL$36:$FL51)","v":0},0]
[17,{"$nulls":4},"N/A",{"$nulls":10},"","","",null,"","","",null,"","","",null,"","","",{"$nulls":5},"","","","","","","","",null,0,{"$nulls":3},"","","",null,"","","",null,"","","",null,"","","",{"$nulls":8},"",{"$nulls":4},"",{"$nulls":4},"",{"$nulls":15},"",{"$nulls":4},"",{"$nulls":4},"",{"$nulls":15},"",{"$nulls":4},"",{"$nulls":4},"",{"$nulls":15},"",{"$nulls":4},"",{"$nulls":4},"",{"$nulls":6},0,{"$f":"SUM($FL$36:$FL52)","v":0},0]
[18,{"$nulls":4},"N/A",{"$nulls":10},"","","",null,"","","",null,"","","",null,"","","",{"$nulls":5},"","","","","","","","",null,0,{"$nulls":3},"","","",null,"","","",null,"","","",null,"","","",{"$nulls":8},"",{"$nulls":4},"",{"$nulls":4},"",{"$nulls":15},"",{"$nulls":4},"",{"$nulls":4},"",{"$nulls":15},"",{"$nulls":4},"",{"$nulls":4},"",{"$nulls":15},"",{"$nulls":4},"",{"$nulls":4},"",{"$nulls":6},0,{"$f":"SUM($FL$36:$FL53)","v":0},0]
[19,{"$nulls":4},"N/A",{"$nulls":10},"","","",null,"","","",null,"","","",null,"","","",{"$nulls":5},"","","","","","","","",null,0,{"$nulls":3},"","","",null,"","","",null,"","","",null,"","","",{"$nulls":8},"",{"$nulls":4},"",{"$nulls":4},"",{"$nulls":15},"",{"$nulls":4},"",{"$nulls":4},"",{"$nulls":15},"",{"$nulls":4},"",{"$nulls":4},"",{"$nulls":15},"",{"$nulls":4},"",{"$nulls":4},"",{"$nulls":6},0,{"$f":"SUM($FL$36:$FL54)","v":0},0]
[20,{"$nulls":4},"N/A",{"$nulls":10},"","","",null,"","","",null,"","","",null,"","","",{"$nulls":5},"","","","","","","","",null,0,{"$nulls":3},"","","",null,"","","",null,"","","",null,"","","",{"$nulls":8},"",{"$nulls":4},"",{"$nulls":4},"",{"$nulls":15},"",{"$nulls":4},"",{"$nulls":4},"",{"$nulls":15},"",{"$nulls":4},"",{"$nulls":4},"",{"$nulls":15},"",{"$nulls":4},"",{"$nulls":4},"",{"$nulls":6},0,{"$f":"SUM($FL$36:$FL55)","v":0},0]
[21,{"$nulls":4},"N/A",{"$nulls":10},"","","",null,"","","",null,"","","",null,"","","",{"$nulls":5},"","","","","","","","",null,0,{"$nulls":3},"","","",null,"","","",null,"","","",null,"","","",{"$nulls":8},"",{"$nulls":4},"",{"$nulls":4},"",{"$nulls":15},"",{"$nulls":4},"",{"$nulls":4},"",{"$nulls":15},"",{"$nulls":4},"",{"$nulls":4},"",{"$nulls":15},"",{"$nulls":4},"",{"$nulls":4},"",{"$nulls":6},0,{"$f":"SUM($FL$36:$FL56)","v":0},0]
[22,{"$nulls":4},"N/A",{"$nulls":10},"","","",null,"","","",null,"","","",null,"","","",{"$nulls":5},"","","","","","","","",null,0,{"$nulls":3},"","","",null,"","","",null,"","","",null,"","","",{"$nulls":8},"",{"$nulls":4},"",{"$nulls":4},"",{"$nulls":15},"",{"$nulls":4},"",{"$nulls":4},"",{"$nulls":15},"",{"$nulls":4},"",{"$nulls":4},"",{"$nulls":15},"",{"$nulls":4},"",{"$nulls":4},"",{"$nulls":6},0,{"$f":"SUM($FL$36:$FL57)","v":0},0]
[23,{"$nulls":4},"N/A",{"$nulls":10},"","","",null,"","","",null,"","","",null,"","","",{"$nulls":5},"","","","","","","","",null,0,{"$nulls":3},"","","",null,"","","",null,"","","",null,"","","",{"$nulls":8},"",{"$nulls":4},"",{"$nulls":4},"",{"$nulls":15},"",{"$nulls":4},"",{"$nulls":4},"",{"$nulls":15},"",{"$nulls":4},"",{"$nulls":4},"",{"$nulls":15},"",{"$nulls":4},"",{"$nulls":4},"",{"$nulls":6},0,{"$f":"SUM($FL$36:$FL58)","v":0},0]
[24,{"$nulls":4},"N/A",{"$nulls":10},"","","",null,"","","",null,"","","",null,"","","",{"$nulls":5},"","","","","","","","",null,0,{"$nulls":3},"","","",null,"","","",null,"","","",null,"","","",{"$nulls":8},"",{"$nulls":4},"",{"$nulls":4},"",{"$nulls":15},"",{"$nulls":4},"",{"$nulls":4},"",{"$nulls":15},"",{"$nulls":4},"",{"$nulls":4},"",{"$nulls":15},"",{"$nulls":4},"",{"$nulls":4},"",{"$nulls":6},0,{"$f":"SUM($FL$36:$FL59)","v":0},0]
[25,{"$nulls":4},"N/A",{"$nulls":10},"","","",null,"","","",null,"","","",null,"","","",{"$nulls":5},"","","","","","","","",null,0,{"$nulls":3},"","","",null,"","","",null,"","","",null,"","","",{"$nulls":8},"",{"$nulls":4},"",{"$nulls":4},"",{"$nulls":15},"",{"$nulls":4},"",{"$nulls":4},"",{"$nulls":15},"",{"$nulls":4},"",{"$nulls":4},"",{"$nulls":15},"",{"$nulls":4},"",{"$nulls":4},"",{"$nulls":6},0,{"$f":"SUM($FL$36:$FL60)","v":0},0]
[26,{"$nulls":4},"N/A",{"$nulls":10},"","","",null,"","","",null,"","","",null,"","","",{"$nulls":5},"","","","","","","","",null,0,{"$nulls":3},"","","",null,"","","",null,"","","",null,"","","",{"$nulls":8},"",{"$nulls":4},"",{"$nulls":4},"",{"$nulls":15},"",{"$nulls":4},"",{"$nulls":4},"",{"$nulls":15},"",{"$nulls":4},"",{"$nulls":4},"",{"$nulls":15},"",{"$nulls":4},"",{"$nulls":4},"",{"$nulls":6},0,{"$f":"SUM($FL$36:$FL61)","v":0},0]
[27,{"$nulls":4},"N/A",{"$nulls":10},"","","",null,"","","",null,"","","",null,"","","",{"$nulls":5},"","","","","","","","",null,0,{"$nulls":3},"","","",null,"","","",null,"","","",null,"","","",{"$nulls":8},"",{"$nulls":4},"",{"$nulls":4},"",{"$nulls":15},"",{"$nulls":4},"",{"$nulls":4},"",{"$nulls":15},"",{"$nulls":4},"",{"$nulls":4},"",{"$nulls":15},"",{"$nulls":4},"",{"$nulls":4},"",{"$nulls":6},0,{"$f":"SUM($FL$36:$FL62)","v":0},0]
[28,{"$nulls":4},"N/A",{"$nulls":10},"","","",null,"","","",null,"","","",null,"","","",{"$nulls":5},"","","","","","","","",null,0,{"$nulls":3},"","","",null,"","","",null,"","","",null,"","","",{"$nulls":8},"",{"$nulls":4},"",{"$nulls":4},"",{"$nulls":15},"",{"$nulls":4},"",{"$nulls":4},"",{"$nulls":15},"",{"$nulls":4},"",{"$nulls":4},"",{"$nulls":15},"",{"$nulls":4},"",{"$nulls":4},"",{"$nulls":6},0,{"$f":"SUM($FL$36:$FL63)","v":0},0]
[29,{"$nulls":4},"N/A",{"$nulls":10},"","","",null,"","","",null,"","","",null,"","","",{"$nulls":5},"","","","","","","","",null,0,{"$nulls":3},"","","",null,"","","",null,"","","",null,"","","",{"$nulls":8},"",{"$nulls":4},"",{"$nulls":4},"",{"$nulls":15},"",{"$nulls":4},"",{"$nulls":4},"",{"$nulls":15},"",{"$nulls":4},"",{"$nulls":4},"",{"$nulls":15},"",{"$nulls":4},"",{"$nulls":4},"",{"$nulls":6},0,{"$f":"SUM($FL$36:$FL64)","v":0},0]
[30,{"$nulls":4},"N/A",{"$nulls":10},"","","",null,"","","",null,"","","",null,"","","",{"$nulls":5},"","","","","","","","",null,0,{"$nulls":3},"","","",null,"","","",null,"","","",null,"","","",{"$nulls":8},"",{"$nulls":4},"",{"$nulls":4},"",{"$nulls":15},"",{"$nulls":4},"",{"$nulls":4},"",{"$nulls":15},"",{"$nulls":4},"",{"$nulls":4},"",{"$nulls":15},"",{"$nulls":4},"",{"$nulls":4},"",{"$nulls":6},0,{"$f":"SUM($FL$36:$FL65)","v":0},0]
[31,{"$nulls":4},"N/A",{"$nulls":10},"","","",null,"","","",null,"","","",null,"","","",{"$nulls":5},"","","","","","","","",null,0,{"$nulls":3},"","","",null,"","","",null,"","","",null,"","","",{"$nulls":8},"",{"$nulls":4},"",{"$nulls":4},"",{"$nulls":15},"",{"$nulls":4},"",{"$nulls":4},"",{"$nulls":15},"",{"$nulls":4},"",{"$nulls":4},"",{"$nulls":15},"",{"$nulls":4},"",{"$nulls":4},"",{"$nulls":6},0,{"$f":"SUM($FL$36:$FL66)","v":0},0]
[32,{"$nulls":4},"N/A",{"$nulls":10},"","","",null,"","","",null,"","","",null,"","","",{"$nulls":5},"","","","","","","","",null,0,{"$nulls":3},"","","",null,"","","",null,"","","",null,"","","",{"$nulls":8},"",{"$nulls":4},"",{"$nulls":4},"",{"$nulls":15},"",{"$nulls":4},"",{"$nulls":4},"",{"$nulls":15},"",{"$nulls":4},"",{"$nulls":4},"",{"$nulls":15},"",{"$nulls":4},"",{"$nulls":4},"",{"$nulls":6},0,{"$f":"SUM($FL$36:$FL67)","v":0},0]
[33,{"$nulls":4},"N/A",{"$nulls":10},"","","",null,"","","",null,"","","",null,"","","",{"$nulls":5},"","","","","","","","",null,0,{"$nulls":3},"","","",null,"","","",null,"","","",null,"","","",{"$nulls":8},"",{"$nulls":4},"",{"$nulls":4},"",{"$nulls":15},"",{"$nulls":4},"",{"$nulls":4},"",{"$nulls":15},"",{"$nulls":4},"",{"$nulls":4},"",{"$nulls":15},"",{"$nulls":4},"",{"$nulls":4},"",{"$nulls":6},0,{"$f":"SUM($FL$36:$FL68)","v":0},0]
[34,{"$nulls":4},"N/A",{"$nulls":10},"","","",null,"","","",null,"","","",null,"","","",{"$nulls":5},"","","","","","","","",null,0,{"$nulls":3},"","","",null,"","","",null,"","","",null,"","","",{"$nulls":8},"",{"$nulls":4},"",{"$nulls":4},"",{"$nulls":15},"",{"$nulls":4},"",{"$nulls":4},"",{"$nulls":15},"",{"$nulls":4},"",{"$nulls":4},"",{"$nulls":15},"",{"$nulls":4},"",{"$nulls":4},"",{"$nulls":6},0,{"$f":"SUM($FL$36:$FL69)","v":0},0]
[35,{"$nulls":4},"N/A",{"$nulls":10},"","","",null,"","","",null,"","","",null,"","","",{"$nulls":5},"","","","","","","","",null,0,{"$nulls":3},"","","",null,"","","",null,"","","",null,"","","",{"$nulls":8},"",{"$nulls":4},"",{"$nulls":4},"",{"$nulls":15},"",{"$nulls":4},"",{"$nulls":4},"",{"$nulls":15},"",{"$nulls":4},"",{"$nulls":4},"",{"$nulls":15},"",{"$nulls":4},"",{"$nulls":4},"",{"$nulls":6},0,{"$f":"SUM($FL$36:$FL70)","v":0},0]
[36,{"$nulls":4},"N/A",{"$nulls":10},"","","",null,"","","",null,"","","",null,"","","",{"$nulls":5},"","","","","","","","",null,0,{"$nulls":3},"","","",null,"","","",null,"","","",null,"","","",{"$nulls":8},"",{"$nulls":4},"",{"$nulls":4},"",{"$nulls":15},"",{"$nulls":4},"",{"$nulls":4},"",{"$nulls":15},"",{"$nulls":4},"",{"$nulls":4},"",{"$nulls":15},"",{"$nulls":4},"",{"$nulls":4},"",{"$nulls":6},0,{"$f":"SUM($FL$36:$FL71)","v":0},0]
[37,{"$nulls":4},"N/A",{"$nulls":10},"","","",null,"","","",null,"","","",null,"","","",{"$nulls":5},"","","","","","","","",null,0,{"$nulls":3},"","","",null,"","","",null,"","","",null,"","","",{"$nulls":8},"",{"$nulls":4},"",{"$nulls":4},"",{"$nulls":15},"",{"$nulls":4},"",{"$nulls":4},"",{"$nulls":15},"",{"$nulls":4},"",{"$nulls":4},"",{"$nulls":15},"",{"$nulls":4},"",{"$nulls":4},"",{"$nulls":6},0,{"$f":"SUM($FL$36:$FL72)","v":0},0]
[38,{"$nulls":4},"N/A",{"$nulls":10},"","","",null,"","","",null,"","","",null,"","","",{"$nulls":5},"","","","","","","","",null,0,{"$nulls":3},"","","",null,"","","",null,"","","",null,"","","",{"$nulls":8},"",{"$nulls":4},"",{"$nulls":4},"",{"$nulls":15},"",{"$nulls":4},"",{"$nulls":4},"",{"$nulls":15},"",{"$nulls":4},"",{"$nulls":4},"",{"$nulls":15},"",{"$nulls":4},"",{"$nulls":4},"",{"$nulls":6},0,{"$f":"SUM($FL$36:$FL73)","v":0},0]
[39,{"$nulls":4},"N/A",{"$nulls":10},"","","",null,"","","",null,"","","",null,"","","",{"$nulls":5},"","","","","","","","",null,0,{"$nulls":3},"","","",null,"","","",null,"","","",null,"","","",{"$nulls":8},"",{"$nulls":4},"",{"$nulls":4},"",{"$nulls":15},"",{"$nulls":4},"",{"$nulls":4},"",{"$nulls":15},"",{"$nulls":4},"",{"$nulls":4},"",{"$nulls":15},"",{"$nulls":4},"",{"$nulls":4},"",{"$nulls":6},0,{"$f":"SUM($FL$36:$FL74)","v":0},0]
[40,{"$nulls":4},"N/A",{"$nulls":10},"","","",null,"","","",null,"","","",null,"","","",{"$nulls":5},"","","","","","","","",null,0,{"$nulls":3},"","","",null,"","","",null,"","","",null,"","","",{"$nulls":8},"",{"$nulls":4},"",{"$nulls":4},"",{"$nulls":15},"",{"$nulls":4},"",{"$nulls":4},"",{"$nulls":15},"",{"$nulls":4},"",{"$nulls":4},"",{"$nulls":15},"",{"$nulls":4},"",{"$nulls":4},"",{"$nulls":6},0,{"$f":"SUM($FL$36:$FL75)","v":0},0]
[41,{"$nulls":4},"N/A",{"$nulls":10},"","","",null,"","","",null,"","","",null,"","","",{"$nulls":5},"","","","","","","","",null,0,{"$nulls":3},"","","",null,"","","",null,"","","",null,"","","",{"$nulls":8},"",{"$nulls":4},"",{"$nulls":4},"",{"$nulls":15},"",{"$nulls":4},"",{"$nulls":4},"",{"$nulls":15},"",{"$nulls":4},"",{"$nulls":4},"",{"$nulls":15},"",{"$nulls":4},"",{"$nulls":4},"",{"$nulls":6},0,{"$f":"SUM($FL$36:$FL76)","v":0},0]
[42,{"$nulls":4},"N/A",{"$nulls":10},"","","",null,"","","",null,"","","",null,"","","",{"$nulls":5},"","","","","","","","",null,0,{"$nulls":3},"","","",null,"","","",null,"","","",null,"","","",{"$nulls":8},"",{"$nulls":4},"",{"$nulls":4},"",{"$nulls":15},"",{"$nulls":4},"",{"$nulls":4},"",{"$nulls":15},"",{"$nulls":4},"",{"$nulls":4},"",{"$nulls":15},"",{"$nulls":4},"",{"$nulls":4},"",{"$nulls":6},0,{"$f":"SUM($FL$36:$FL77)","v":0},0]
[43,{"$nulls":4},"N/A",{"$nulls":10},"","","",null,"","","",null,"","","",null,"","","",{"$nulls":5},"","","","","","","","",null,0,{"$nulls":3},"","","",null,"","","",null,"","","",null,"","","",{"$nulls":8},"",{"$nulls":4},"",{"$nulls":4},"",{"$nulls":15},"",{"$nulls":4},"",{"$nulls":4},"",{"$nulls":15},"",{"$nulls":4},"",{"$nulls":4},"",{"$nulls":15},"",{"$nulls":4},"",{"$nulls":4},"",{"$nulls":6},0,{"$f":"SUM($FL$36:$FL78)","v":0},0]
[44,{"$nulls":4},"N/A",{"$nulls":10},"","","",null,"","","",null,"","","",null,"","","",{"$nulls":5},"","","","","","","","",null,0,{"$nulls":3},"","","",null,"","","",null,"","","",null,"","","",{"$nulls":8},"",{"$nulls":4},"",{"$nulls":4},"",{"$nulls":15},"",{"$nulls":4},"",{"$nulls":4},"",{"$nulls":15},"",{"$nulls":4},"",{"$nulls":4},"",{"$nulls":15},"",{"$nulls":4},"",{"$nulls":4},"",{"$nulls":6},0,{"$f":"SUM($FL$36:$FL79)","v":0},0]
[45,{"$nulls":4},"N/A",{"$nulls":10},"","","",null,"","","",null,"","","",null,"","","",{"$nulls":5},"","","","","","","","",null,0,{"$nulls":3},"","","",null,"","","",null,"","","",null,"","","",{"$nulls":8},"",{"$nulls":4},"",{"$nulls":4},"",{"$nulls":15},"",{"$nulls":4},"",{"$nulls":4},"",{"$nulls":15},"",{"$nulls":4},"",{"$nulls":4},"",{"$nulls":15},"",{"$nulls":4},"",{"$nulls":4},"",{"$nulls":6},0,{"$f":"SUM($FL$36:$FL80)","v":0},0]
[46,{"$nulls":4},"N/A",{"$nulls":10},"","","",null,"","","",null,"","","",null,"","","",{"$nulls":5},"","","","","","","","",null,0,{"$nulls":3},"","","",null,"","","",null,"","","",null,"","","",{"$nulls":8},"",{"$nulls":4},"",{"$nulls":4},"",{"$nulls":15},"",{"$nulls":4},"",{"$nulls":4},"",{"$nulls":15},"",{"$nulls":4},"",{"$nulls":4},"",{"$nulls":15},"",{"$nulls":4},"",{"$nulls":4},"",{"$nulls":6},0,{"$f":"SUM($FL$36:$FL81)","v":0},0]
[47,{"$nulls":4},"N/A",{"$nulls":10},"","","",null,"","","",null,"","","",null,"","","",{"$nulls":5},"","","","","","","","",null,0,{"$nulls":3},"","","",null,"","","",null,"","","",null,"","","",{"$nulls":8},"",{"$nulls":4},"",{"$nulls":4},"",{"$nulls":15},"",{"$nulls":4},"",{"$nulls":4},"",{"$nulls":15},"",{"$nulls":4},"",{"$nulls":4},"",{"$nulls":15},"",{"$nulls":4},"",{"$nulls":4},"",{"$nulls":6},0,{"$f":"SUM($FL$36:$FL82)","v":0},0]
[48,{"$nulls":4},"N/A",{"$nulls":10},"","","",null,"","","",null,"","","",null,"","","",{"$nulls":5},"","","","","","","","",null,0,{"$nulls":3},"","","",null,"","","",null,"","","",null,"","","",{"$nulls":8},"",{"$nulls":4},"",{"$nulls":4},"",{"$nulls":15},"",{"$nulls":4},"",{"$nulls":4},"",{"$nulls":15},"",{"$nulls":4},"",{"$nulls":4},"",{"$nulls":15},"",{"$nulls":4},"",{"$nulls":4},"",{"$nulls":6},0,{"$f":"SUM($FL$36:$FL83)","v":0},0]
[49,{"$nulls":4},"N/A",{"$nulls":10},"","","",null,"","","",null,"","","",null,"","","",{"$nulls":5},"","","","","","","","",null,0,{"$nulls":3},"","","",null,"","","",null,"","","",null,"","","",{"$nulls":8},"",{"$nulls":4},"",{"$nulls":4},"",{"$nulls":15},"",{"$nulls":4},"",{"$nulls":4},"",{"$nulls":15},"",{"$nulls":4},"",{"$nulls":4},"",{"$nulls":15},"",{"$nulls":4},"",{"$nulls":4},"",{"$nulls":6},0,{"$f":"SUM($FL$36:$FL84)","v":0},0]
[50,{"$nulls":4},"N/A",{"$nulls":10},"","","",null,"","","",null,"","","",null,"","","",{"$nulls":5},"","","","","","","","",null,0,{"$nulls":3},"","","",null,"","","",null,"","","",null,"",{"$f":"IF($B85=\"Y\",IF(AND($AC85<>\"\",$AQ84<>\"\",$AR84<>\"\"),($AC85+$AQ84)/($AR84+1),\"\"),\"\")","v":""},"",{"$nulls":8},"",{"$nulls":4},"",{"$nulls":4},"",{"$nulls":15},"",{"$nulls":4},"",{"$nulls":4},"",{"$nulls":15},"",{"$nulls":4},"",{"$nulls":4},"",{"$nulls":15},"",{"$nulls":4},"",{"$nulls":4},"",{"$nulls":6},0,{"$f":"SUM($FL$36:$FL85)","v":0},0]
[null,null,{"$f":"SUM(C36:C85)","v":0}]
["g/bhp-hr"]
["g/kW-hr"]

{"sheet":"Engine Family #25","index":27,"n_rows":88,"n_cols":176,"rows_kept":88,"merged":[[1,0,1,35],[2,0,2,35],[3,0,3,35],[4,0,4,35],[5,0,5,35],[6,0,6,35],[8,0,8,16],[10,4,10,6],[10,12,10,13],[11,4,11,6],[11,15,11,16],[11,19,11,20],[11,23,11,24],[11,27,11,28],[12,4,12,6],[13,4,13,6],[14,4,15,6],[17,14,22,14],[27,4,30,13],[27,15,28,16],[32,0,32,16],[32,17,32,33],[32,34,32,35],[33,45,34,45]]}
[]
["United States"]
["US Environmental Protection Agency"]
["Office of Air and Radiation, Office of Transportation and Air Quality"]
[{"$nulls":37},"Tier 2","Y",94]
["Manufacturer Production Line Testing Report for Marine Compression Ignition Engines",{"$nulls":36},"Tier 3","N",1042]
[{"$f":"Summary!B7","v":"Version Number: 1.4 DRAFT  Last Revision: September 2023"},{"$nulls":36},"Tier 4",null,"N/A"]
[]
["Basic Information: Engine Family #25"]
[{"$nulls":167},{"$f":"IF(AND($G$24=94,Summary!$L$13=\"Category 1\"),0,1)","v":1}]
[null,null,"Manufacturer:",null,{"$f":"IF(Summary!D12<>\"\",Summary!D12,\"\")","v":""},{"$nulls":3},"Engine Family:",{"$nulls":31},{"$f":"IF($G$19=\"Diesel\",\"'HC' refers to 'THC' \",IF($G$19=\"Natural Gas\",\"'HC' refers to 'NMHC' \",IF($G$19=\"Alcohol\",\"'HC' refers to 'THCE' \",\"\")))","v":""}]
[null,null,"PLT Test Contact:",null,{"$f":"IF(Summary!D13<>\"\",Summary!D13,\"\")","v":""},{"$nulls":3},"Production (Category 3 only):",{"$nulls":6},{"$f":"IF(N16<>\"Y\", \"Current CO Result\", \"Final CO Result\")","v":"Current CO Result"},null,{"$f":"$CJ$36","v":""},null,{"$f":"IF(N16<>\"Y\", \"Current PM Result\", \"Final PM Result\")","v":"Current PM Result"},null,{"$f":"$DJ$36","v":""},null,{"$f":"IF($AF$12=\"Y\",IF(N16<>\"Y\", \"Current NOx+HC Result\", \"Final NOx+HC Result\"),IF(N16<>\"Y\", \"Current HC Result\", \"Final HC Result\"))","v":"Current HC Result"},null,{"$f":"IF($AF$12=\"Y\",IF($FP$36>0,ROUND($EJ$36+$FJ$36,2),\"\"),$EJ$36)","v":""},null,{"$f":"IF(N16<>\"Y\", \"Current NOx Result\",\"Final NOx Result\")","v":"Current NOx Result"},null,{"$f":"$FJ$36","v":""},null,{"$f":"IF($L$13<>\"Category 3\",IF($G$23=\"\",\"N\",$G$23),\"N\")","v":"N"},{"$f":"IF(Summary!$L$13=\"Category 3\",\"CAT3\",\"\")","v":""}]
[null,null,"Email Address:",null,{"$f":"IF(Summary!D14<>\"\",Summary!D14,\"\")","v":""},{"$nulls":3},"Date of Start of Model Year Production:"]
[null,null,"Phone #:",null,{"$f":"IF(Summary!D15<>\"\",Summary!D15,\"\")","v":""},{"$nulls":3},"Date of End of Model Year Production:",{"$nulls":14},{"$f":"IF($G$19=\"Diesel\",\"'HC' refers to 'THC' \",IF($G$19=\"Natural Gas\",\"'HC' refers to 'NMHC' \",IF($G$19=\"Alcohol\",\"'HC' refers to 'THCE' \",\"\")))","v":""},{"$nulls":13},"Diesel",1,{"$nulls":6},1]
[null,null,"Test Location & Description:",{"$nulls":5},"Deterioration Factor Type:",{"$nulls":28},"Natural Gas",2,{"$nulls":6},2]
[{"$nulls":8},"Include Results from this Engine Family on Summary Sheet?",{"$nulls":6},"CO Standard ",{"$nulls":3},"PM Standard or FEL",{"$nulls":3},{"$f":"IF($AF$12=\"Y\",\"NOx+HC Standard or FEL\",\"HC Standard\")","v":"HC Standard"},{"$nulls":3},"NOx Standard or FEL",{"$nulls":9},"Alcohol",3,{"$nulls":6},3]
[null,null,"Carryover?:",{"$nulls":5},"Required Tests (including failure follow-ups)",{"$nulls":4},{"$f":"$FO36","v":0},null,"Units",null,"g/kW-hr",null,"Units",null,"g/kW-hr",null,"Units",null,"g/kW-hr",null,"Units",null,"g/kW-hr",{"$nulls":4},"Test Cycle Options",{"$nulls":10},4]
[null,null,{"$f":"IF($G$17=\"Y\",\"Please submit supporting documentation indicating that this is a carry-over engine family\",\"\")","v":""},{"$nulls":5},"Instead of testing, are PLT requirements for this Engine Family",{"$nulls":6},"CO  Det Factor",{"$nulls":3},"PM  Det Factor",{"$nulls":3},"HC Det Factor",{"$nulls":3},"NOx  Det Factor",{"$nulls":6},"1 = 4-Mode General Cycle (E3)",null,null,"Recreational"]
[null,null,"Fuel Type:",{"$nulls":5}," fulfilled under the following (Category 1 only)?",{"$nulls":6},"Det Factor Type",null,{"$f":"IF($N$15<>\"\",$N$15,\"\")","v":""},null,"Det Factor Type",null,{"$f":"IF($N$15<>\"\",$N$15,\"\")","v":""},null,"Det Factor Type",null,{"$f":"IF($N$15<>\"\",$N$15,\"\")","v":""},null,"Det Factor Type",null,{"$f":"IF($N$15<>\"\",$N$15,\"\")","v":""},{"$nulls":4},"2 = 5-Mode Recreational Cycle (E5)",null,null,"Commercial"]
[null,null,"Recreational/Commercial:",{"$nulls":5},"Please elaborate in the comments section.",{"$nulls":6},"CO Green Engine Factor",{"$nulls":3},"PM Green Engine Factor",{"$nulls":3},"HC Green Engine Factor",{"$nulls":3},"NOx Green Engine Factor",{"$nulls":6},"3 = 4-Mode Constant Speed Propulsion Cycle (E2)"]
[null,null,"Model Year:",{"$nulls":5},"    -1042.310(a) - EPA approved combining it, for PLT purposes only.",{"$nulls":25},"4 = 5-Mode Constant Speed Auxiliary Cycle (D2)"]
[null,null,"Tier:",{"$nulls":31},"5 = 6-Mode Variable Speed Auxiliary Cycle (G2)",null,null,"1 (E3)"]
[null,null,"Combined NOx+HC?",{"$nulls":31},"6 = 8-Mode Variable Speed Ausiliary Cycle (C1)",null,null,"2 (E5)"]
[null,null,"40 CFR Part:",{"$nulls":3},{"$f":"AN6","v":1042},null,"Additional testing required by EPA [40 CFR 1042.301(e)]? ",{"$nulls":25},"O = Other",null,null,"3 (E2)"]
[{"$nulls":37},"4 (D2)"]
[{"$nulls":37},"5 (G2)",{"$nulls":132},"deleted and redirected"]
[{"$nulls":22}," ",{"$nulls":14},"6 (C1)",4,{"$nulls":6},4]
[null,null,"Comments:",{"$nulls":34},"O (other)"]
[{"$nulls":22}," ",{"$nulls":22},"additive"]
[{"$nulls":45},"multiplicative",{"$nulls":22},"CO Rounding",{"$nulls":4},"CO Rounding",{"$nulls":4},"CO Rounding",{"$nulls":4},"CO Rounding",{"$nulls":10},"PM Rounding",{"$nulls":4},"PM Rounding",{"$nulls":4},"PM Rounding",{"$nulls":4},"PM Rounding",{"$nulls":10},"HC Rounding",{"$nulls":4},"HC Rounding",{"$nulls":4},"HC Rounding",{"$nulls":4},"HC Rounding",{"$nulls":10},"NOx Rounding",{"$nulls":4},"NOx Rounding",{"$nulls":4},"NOx Rounding",{"$nulls":4},"NOx Rounding"]
[{"$nulls":22}," ",{"$nulls":45},"initial",{"$nulls":4},"final",{"$nulls":4}," det final",{"$nulls":4},"ave of all final",{"$nulls":10},"initial",{"$nulls":4},"final",{"$nulls":4}," det final",{"$nulls":4},"ave of all final",{"$nulls":10},"initial",{"$nulls":4},"final",{"$nulls":4}," det final",{"$nulls":4},"ave of all final",{"$nulls":10},"initial",{"$nulls":4},"final",{"$nulls":4}," det final",{"$nulls":4},"ave of all final"]
[{"$nulls":38},"Y",{"$nulls":6},"Y"]
["PLT Engine Test Results: Engine Family #25",{"$nulls":37},"N",{"$nulls":6},"N",{"$nulls":124},"This is N17"]
[{"$nulls":36},"CO",null,"PM",null,null,"HC or HC+NOX",null,"Nox",null,"Engine Data Complete?",{"$nulls":11},"HC","HC","HC","HC","Nox","Nox","Nox","Nox",{"$nulls":107},"1% of production or pre-approved reduced sample size - whichever is Lower # "]
[null,"Calc Final Result?","Test Number","Test Date","Test Time","Test Qtr","Engine ID","Engine Make","Engine Configuration","Build Date","Green Engine Factor Applied?","Green Engine Factor Determination Method","Service Hours (or miles) Accumulation","Service Hours Location","Service Acc. Procedure","CO Initial Result ","Rounded CO Initial Result ","CO Final Result ","Det. CO Final Result ","PM Initial Result ","Rounded PM Initial Result ","PM Final Result ","Det. PM Final Result ","HC Initial Result ","Rounded HC Initial Result ","HC Final Result ","Det. HC Final Result ","NOx Initial Result ","Rounded NOx Initial Result ","NOx Final Result ","Det. NOx Final Result ","Reason for Failed Test (if applicable)","Remedy","Repairs","Test Cycle","Comments",0,0,0,0,0,0,0,0,{"$nulls":5},"Unrounded initial CO","Unrounded final CO","Det CO","Final CO","Unrounded initial PM","Unrounded final PM","Det PM","Final PM","Unrounded initial HCNOx","Unrounded final HCNOx","Det HCNOx","Final HCNOX","Unrounded initial NOx","Unrounded final NOx","Det NOx","Final HCNOX",{"$nulls":7},"rounded",{"$nulls":4},"rounded",{"$nulls":4},"rounded",{"$nulls":4},"rounded",{"$nulls":10},"rounded",{"$nulls":4},"rounded",{"$nulls":4},"rounded",{"$nulls":4},"rounded",{"$nulls":10},"rounded",{"$nulls":4},"rounded",{"$nulls":4},"rounded",{"$nulls":4},"rounded","ROUNDED AND ACCOUNT FOR BLANK",{"$nulls":9},"rounded",{"$nulls":4},"rounded",{"$nulls":4},"rounded",{"$nulls":4},"rounded","ROUNDED AND ACCOUNT FOR BLANK","Test complete Flag","Total complete","Fail Flag","req","val","baseline req","req due to fails","sum fails","baseline req"]
[1,{"$nulls":4},"N/A",{"$nulls":10},{"$f":"$BU36","v":""},{"$f":"$BZ36","v":""},{"$f":"$CE36","v":""},null,{"$f":"$CU36","v":""},{"$f":"$CZ36","v":""},{"$f":"$DE36","v":""},null,{"$f":"$DU36","v":""},{"$f":"$DZ36","v":""},{"$f":"$EE36","v":""},null,{"$f":"$EU36","v":""},{"$f":"$EZ36","v":""},{"$f":"$FE36","v":""},{"$nulls":5},{"$f":"IF($B36=\"N\",IF(AND($AK35<>\"\",$Q36<>\"\"),$AK35+$Q36,\"\"),IF($B36=\"Y\",0,\"\"))","v":""},{"$f":"IF($B36=\"N\",AL35+1,IF($B36=\"Y\",0,\"\"))","v":""},{"$f":"IF($B36=\"N\",IF(AND($AM35<>\"\",$U36<>\"\"),$AM35+$U36,\"\"),IF($B36=\"Y\",0,\"\"))","v":""},{"$f":"IF($B36=\"N\",AN35+1,IF($B36=\"Y\",0,\"\"))","v":""},{"$f":"IF($B36=\"N\",IF(AND($AO35<>\"\",$Y36<>\"\"),$AO35+$Y36,\"\"),IF($B36=\"Y\",0,\"\"))","v":""},{"$f":"IF($B36=\"N\",AP35+1,IF($B36=\"Y\",0,\"\"))","v":""},{"$f":"IF($B36=\"N\",IF(AND($AQ35<>\"\",$AC36<>\"\"),$AQ35+$AC36,\"\"),IF($B36=\"Y\",0,\"\"))","v":""},{"$f":"IF($B36=\"N\",AR35+1,IF($B36=\"Y\",0,\"\"))","v":""},null,{"$f":"IF(AND(B36<>\"\",C36<>\"\",D36<>\"\",E36<>\"\",G36<>\"\",H36<>\"\",I36<>\"\",J36<>\"\",K36<>\"\",M36<>\"\",N36<>\"\",O36<>\"\"),1,0)","v":0},{"$nulls":3},{"$f":"IF(AND($P36<>\"\",$AT36=1),$P36,\"\")","v":""},{"$f":"IF($B36=\"Y\",IF(AND($Q36<>\"\",$AK35<>\"\",$AL35<>\"\"),($Q36+$AK35)/($AL35+1),\"\"),\"\")","v":""},{"$f":"IF(AND($B36=\"Y\",$R36<>\"\",$R$18<>\"\"),IF($R$19=\"additive\",$R36+$R$18,IF($R$19=\"multiplicative\",$R36*$R$18,\"\")),\"\")","v":""},{"$f":"IF(COUNT($S$36:$S$85)>0,AVERAGE($S$36:$S$85),\"\")","v":""},{"$f":"IF(AND($T36<>\"\",$AT36=1),$T36,\"\")","v":""},{"$f":"IF($B36=\"Y\",IF(AND($U36<>\"\",$AM35<>\"\",$AN35<>\"\"),($U36+$AM35)/($AN35+1),\"\"),\"\")","v":""},{"$f":"IF(AND($B36=\"Y\",$V36<>\"\",$V$18<>\"\"),IF($V$19=\"additive\",$V36+$V$18,IF($V$19=\"multiplicative\",$V36*$V$18,\"\")),\"\")","v":""},{"$f":"IF(COUNT($W$36:$W$85)>0,AVERAGE($W$36:$W$85),\"\")","v":""},{"$f":"IF(AND($X36<>\"\",$AT36=1),$X36,\"\")","v":""},{"$f":"IF($B36=\"Y\",IF(AND($Y36<>\"\",$AO35<>\"\",$AP35<>\"\"),($Y36+$AO35)/($AP35+1),\"\"),\"\")","v":""},{"$f":"IF(AND($B36=\"Y\",$Z36<>\"\",$Z$18<>\"\"),IF($Z$19=\"additive\",$Z36+$Z$18,IF($Z$19=\"multiplicative\",$Z36*$Z$18,\"\")),\"\")","v":""},{"$f":"IF(COUNT($AA$36:$AA$85)>0,AVERAGE($AA$36:$AA$85),\"\")","v":""},{"$f":"IF(AND($AB36<>\"\",$AT36=1),$AB36,\"\")","v":""},{"$f":"IF($B36=\"Y\",IF(AND($AC36<>\"\",$AQ35<>\"\",$AR35<>\"\"),($AC36+$AQ35)/($AR35+1),\"\"),\"\")","v":""},{"$f":"IF(AND($B36=\"Y\",$AD36<>\"\",$AD$18<>\"\"),IF($AD$19=\"additive\",$AD36+$AD$18,IF($AD$19=\"multiplicative\",$AD36*$AD$18,\"\")),\"\")","v":""},{"$f":"IF(COUNT($AE$36:$AE$85)>0,AVERAGE($AE$36:$AE$85),\"\")","v":""},{"$nulls":7},{"$f":"IF($AX36<>\"\",ROUND($AX36,2),\"\")","v":""},{"$nulls":4},{"$f":"IF($AY36<>\"\",ROUND($AY36,2),\"\")","v":""},{"$nulls":4},{"$f":"IF($AZ36<>\"\",ROUND($AZ36,2),\"\")","v":""},{"$nulls":4},{"$f":"IF($BA36<>\"\",ROUND($BA36,2),\"\")","v":""},{"$nulls":10},{"$f":"IF($BB36<>\"\",ROUND($BB36,3),\"\")","v":""},{"$nulls":4},{"$f":"IF($BC36<>\"\",ROUND($BC36,3),\"\")","v":""},{"$nulls":4},{"$f":"IF($BD36<>\"\",ROUND($BD36,3),\"\")","v":""},{"$nulls":4},{"$f":"IF($BE36<>\"\",ROUND($BE36,3),\"\")","v":""},{"$nulls":10},{"$f":"IF($BF36<>\"\",ROUND($BF36,3),\"\")","v":""},{"$nulls":4},{"$f":"IF($BG36<>\"\",ROUND($BG36,3),\"\")","v":""},{"$nulls":4},{"$f":"IF($BH36<>\"\",ROUND($BH36,3),\"\")","v":""},{"$nulls":4},{"$f":"IF($BI36<>\"\",ROUND($BI36,3),\"\")","v":""},{"$f":"IF(EJ36=\"\",0,EJ36)","v":0},{"$nulls":9},{"$f":"IF($BJ36<>\"\",ROUND($BJ36,2),\"\")","v":""},{"$nulls":4},{"$f":"IF($BK36<>\"\",ROUND($BK36,2),\"\")","v":""},{"$nulls":4},{"$f":"IF($BL36<>\"\",ROUND($BL36,2),\"\")","v":""},{"$nulls":4},{"$f":"IF($BM36<>\"\",ROUND($BM36,2),\"\")","v":""},{"$f":"IF(FJ36=\"\",0,FJ36)","v":0},{"$f":"IF($AG$12<>\"CAT3\",IF(AND($B36=\"Y\",$S36<>\"\",$W36<>\"\",$AA36<>\"\",$AE36<>\"\"),1,0),IF($AE36<>\"\",1,0))","v":0},{"$f":"SUM($FL$36:$FL36)","v":0},{"$f":"IF($AG$12<>\"CAT3\",IF($FL36=1,IF(OR($S36>$R$16,$W36>$V$16,$AA36>$Z$16,IF($AF$12<>\"Y\",OR($AA36>$Z$16,$AE36>$AD$16),ROUND(($AA36+$AE36),2)>$Z$16)),1,0),0),IF($FL36=1,IF(AND($AE36>$AD$16,$AF$12=\"N\"),1,0),0))","v":0},{"$f":"IF(OR($M$11=\"\",$N$18=\"Y\"),0,IF($AG$12=\"CAT3\",$N$12,($FR$36+1)))","v":0},{"$f":"SUM(FL36:FL85)","v":0},{"$f":"IF(AND($G$17=\"Y\",$N$24<>\"\"),MIN($N$24,$FT$36),$FT$36)","v":0},{"$f":"$FS$36*2","v":0},{"$f":"SUM(FN36:FN85)","v":0},{"$f":"IF($N$12<>\"\",$N$12*0.01,0)","v":0}]
[{"$f":"A36+1","v":2},{"$nulls":4},"N/A",{"$nulls":10},"","","",null,"","","",null,"","","",null,"","","",{"$nulls":5},"",{"$f":"IF($B37=\"N\",AL36+1,IF($B37=\"Y\",0,\"\"))","v":""},"",{"$f":"IF($B37=\"N\",AN36+1,IF($B37=\"Y\",0,\"\"))","v":""},{"$f":"IF($B37=\"N\",IF(AND($AO36<>\"\",$Y37<>\"\"),$AO36+$Y37,\"\"),IF($B37=\"Y\",0,\"\"))","v":""},{"$f":"IF($B37=\"N\",AP36+1,IF($B37=\"Y\",0,\"\"))","v":""},{"$f":"IF($B37=\"N\",IF(AND($AQ36<>\"\",$AC37<>\"\"),$AQ36+$AC37,\"\"),IF($B37=\"Y\",0,\"\"))","v":""},{"$f":"IF($B37=\"N\",AR36+1,IF($B37=\"Y\",0,\"\"))","v":""},null,{"$f":"IF(AND(B37<>\"\",C37<>\"\",D37<>\"\",E37<>\"\",G37<>\"\",H37<>\"\",I37<>\"\",J37<>\"\",K37<>\"\",M37<>\"\",N37<>\"\",O37<>\"\"),1,0)","v":0},{"$nulls":3},"","",{"$f":"IF(AND($B37=\"Y\",$R37<>\"\",$R$18<>\"\"),IF($R$19=\"additive\",$R37+$R$18,IF($R$19=\"multiplicative\",$R37*$R$18,\"\")),\"\")","v":""},null,"","",{"$f":"IF(AND($B37=\"Y\",$V37<>\"\",$V$18<>\"\"),IF($V$19=\"additive\",$V37+$V$18,IF($V$19=\"multiplicative\",$V37*$V$18,\"\")),\"\")","v":""},null,{"$f":"IF(AND($X37<>\"\",$AT37=1),$X37,\"\")","v":""},{"$f":"IF($B37=\"Y\",IF(AND($Y37<>\"\",$AO36<>\"\",$AP36<>\"\"),($Y37+$AO36)/($AP36+1),\"\"),\"\")","v":""},{"$f":"IF(AND($B37=\"Y\",$Z37<>\"\",$Z$18<>\"\"),IF($Z$19=\"additive\",$Z37+$Z$18,IF($Z$19=\"multiplicative\",$Z37*$Z$18,\"\")),\"\")","v":""},null,{"$f":"IF(AND($AB37<>\"\",$AT37=1),$AB37,\"\")","v":""},{"$f":"IF($B37=\"Y\",IF(AND($AC37<>\"\",$AQ36<>\"\",$AR36<>\"\"),($AC37+$AQ36)/($AR36+1),\"\"),\"\")","v":""},{"$f":"IF(AND($B37=\"Y\",$AD37<>\"\",$AD$18<>\"\"),IF($AD$19=\"additive\",$AD37+$AD$18,IF($AD$19=\"multiplicative\",$AD37*$AD$18,\"\")),\"\")","v":""},{"$nulls":8},{"$f":"IF($AX37<>\"\",ROUND($AX37,2),\"\")","v":""},{"$nulls":4},{"$f":"IF($AY37<>\"\",ROUND($AY37,2),\"\")","v":""},{"$nulls":4},{"$f":"IF($AZ37<>\"\",ROUND($AZ37,2),\"\")","v":""},{"$nulls":15},{"$f":"IF($BB37<>\"\",ROUND($BB37,3),\"\")","v":""},{"$nulls":4},{"$f":"IF($BC37<>\"\",ROUND($BC37,3),\"\")","v":""},{"$nulls":4},{"$f":"IF($BD37<>\"\",ROUND($BD37,3),\"\")","v":""},{"$nulls":15},{"$f":"IF($BF37<>\"\",ROUND($BF37,3),\"\")","v":""},{"$nulls":4},{"$f":"IF($BG37<>\"\",ROUND($BG37,3),\"\")","v":""},{"$nulls":4},{"$f":"IF($BH37<>\"\",ROUND($BH37,3),\"\")","v":""},{"$nulls":15},{"$f":"IF($BJ37<>\"\",ROUND($BJ37,2),\"\")","v":""},{"$nulls":4},{"$f":"IF($BK37<>\"\",ROUND($BK37,2),\"\")","v":""},{"$nulls":4},{"$f":"IF($BL37<>\"\",ROUND($BL37,2),\"\")","v":""},{"$nulls":6},{"$f":"IF($AG$12<>\"CAT3\",IF(AND($B37=\"Y\",$S37<>\"\",$W37<>\"\",$AA37<>\"\",$AE37<>\"\"),1,0),IF($AE37<>\"\",1,0))","v":0},{"$f":"SUM($FL$36:$FL37)","v":0},{"$f":"IF($AG$12<>\"CAT3\",IF($FL37=1,IF(OR($S37>$R$16,$W37>$V$16,$AA37>$Z$16,IF($AF$12<>\"Y\",OR($AA37>$Z$16,$AE37>$AD$16),ROUND(($AA37+$AE37),2)>$Z$16)),1,0),0),IF($FL37=1,IF(AND($AE37>$AD$16,$AF$12=\"N\"),1,0),0))","v":0},null,null,{"$f":"MAX($FQ$36,$FL$10)","v":1}]
[{"$f":"A37+1","v":3},{"$nulls":4},"N/A",{"$nulls":10},"","","",null,"","","",null,"","","",null,"","","",{"$nulls":5},"","","","","","","","",null,0,{"$nulls":3},"","","",null,"","","",null,"","","",null,"","","",{"$nulls":8},"",{"$nulls":4},"",{"$nulls":4},"",{"$nulls":15},"",{"$nulls":4},"",{"$nulls":4},"",{"$nulls":15},"",{"$nulls":4},"",{"$nulls":4},"",{"$nulls":15},"",{"$nulls":4},"",{"$nulls":4},"",{"$nulls":6},0,{"$f":"SUM($FL$36:$FL38)","v":0},0]
[4,{"$nulls":4},"N/A",{"$nulls":10},"","","",null,"","","",null,"","","",null,"","","",{"$nulls":5},"","","","","","","","",null,0,{"$nulls":3},"","","",null,"","","",null,"","","",null,"","","",{"$nulls":8},"",{"$nulls":4},"",{"$nulls":4},"",{"$nulls":15},"",{"$nulls":4},"",{"$nulls":4},"",{"$nulls":15},"",{"$nulls":4},"",{"$nulls":4},"",{"$nulls":15},"",{"$nulls":4},"",{"$nulls":4},"",{"$nulls":6},0,{"$f":"SUM($FL$36:$FL39)","v":0},0,null,null,"then, the larger of that sample size or 1  (or if Part 94 and cat1,  can be 0)"]
[5,{"$nulls":4},"N/A",{"$nulls":10},"","","",null,"","","",null,"","","",null,"","","",{"$nulls":5},"","","","","","","","",null,0,{"$nulls":3},"","","",null,"","","",null,"","","",null,"","","",{"$nulls":8},"",{"$nulls":4},"",{"$nulls":4},"",{"$nulls":15},"",{"$nulls":4},"",{"$nulls":4},"",{"$nulls":15},"",{"$nulls":4},"",{"$nulls":4},"",{"$nulls":15},"",{"$nulls":4},"",{"$nulls":4},"",{"$nulls":6},0,{"$f":"SUM($FL$36:$FL40)","v":0},0]
[6,{"$nulls":4},"N/A",{"$nulls":10},"","","",null,"","","",null,"","","",null,"","","",{"$nulls":5},"","","","","","","","",null,0,{"$nulls":3},"","","",null,"","","",null,"","","",null,"","","",{"$nulls":8},"",{"$nulls":4},"",{"$nulls":4},"",{"$nulls":15},"",{"$nulls":4},"",{"$nulls":4},"",{"$nulls":15},"",{"$nulls":4},"",{"$nulls":4},"",{"$nulls":15},"",{"$nulls":4},"",{"$nulls":4},"",{"$nulls":6},0,{"$f":"SUM($FL$36:$FL41)","v":0},0]
[7,{"$nulls":4},"N/A",{"$nulls":10},"","","",null,"","","",null,"","","",null,"","","",{"$nulls":5},"","","","","","","","",null,0,{"$nulls":3},"","","",null,"","","",null,"","","",null,"","","",{"$nulls":8},"",{"$nulls":4},"",{"$nulls":4},"",{"$nulls":15},"",{"$nulls":4},"",{"$nulls":4},"",{"$nulls":15},"",{"$nulls":4},"",{"$nulls":4},"",{"$nulls":15},"",{"$nulls":4},"",{"$nulls":4},"",{"$nulls":6},0,{"$f":"SUM($FL$36:$FL42)","v":0},0]
[8,{"$nulls":4},"N/A",{"$nulls":10},"","","",null,"","","",null,"","","",null,"","","",{"$nulls":5},"","","","","","","","",null,0,{"$nulls":3},"","","",null,"","","",null,"","","",null,"","","",{"$nulls":8},"",{"$nulls":4},"",{"$nulls":4},"",{"$nulls":15},"",{"$nulls":4},"",{"$nulls":4},"",{"$nulls":15},"",{"$nulls":4},"",{"$nulls":4},"",{"$nulls":15},"",{"$nulls":4},"",{"$nulls":4},"",{"$nulls":6},0,{"$f":"SUM($FL$36:$FL43)","v":0},0]
[9,{"$nulls":4},"N/A",{"$nulls":10},"","","",null,"","","",null,"","","",null,"","","",{"$nulls":5},"","","","","","","","",null,0,{"$nulls":3},"","","",null,"","","",null,"","","",null,"","","",{"$nulls":8},"",{"$nulls":4},"",{"$nulls":4},"",{"$nulls":15},"",{"$nulls":4},"",{"$nulls":4},"",{"$nulls":15},"",{"$nulls":4},"",{"$nulls":4},"",{"$nulls":15},"",{"$nulls":4},"",{"$nulls":4},"",{"$nulls":6},0,{"$f":"SUM($FL$36:$FL44)","v":0},0]
[10,{"$nulls":4},"N/A",{"$nulls":10},"","","",null,"","","",null,"","","",null,"","","",{"$nulls":5},"","","","","","","","",null,0,{"$nulls":3},"","","",null,"","","",null,"","","",null,"","","",{"$nulls":8},"",{"$nulls":4},"",{"$nulls":4},"",{"$nulls":15},"",{"$nulls":4},"",{"$nulls":4},"",{"$nulls":15},"",{"$nulls":4},"",{"$nulls":4},"",{"$nulls":15},"",{"$nulls":4},"",{"$nulls":4},"",{"$nulls":6},0,{"$f":"SUM($FL$36:$FL45)","v":0},0]
[11,{"$nulls":4},"N/A",{"$nulls":10},"","","",null,"","","",null,"","","",null,"","","",{"$nulls":5},"","","","","","","","",null,0,{"$nulls":3},"","","",null,"","","",null,"","","",null,"","","",{"$nulls":8},"",{"$nulls":4},"",{"$nulls":4},"",{"$nulls":15},"",{"$nulls":4},"",{"$nulls":4},"",{"$nulls":15},"",{"$nulls":4},"",{"$nulls":4},"",{"$nulls":15},"",{"$nulls":4},"",{"$nulls":4},"",{"$nulls":6},0,{"$f":"SUM($FL$36:$FL46)","v":0},0]
[12,{"$nulls":4},"N/A",{"$nulls":10},"","","",null,"","","",null,"","","",null,"","","",{"$nulls":5},"","","","","","","","",null,0,{"$nulls":3},"","","",null,"","","",null,"","","",null,"","","",{"$nulls":8},"",{"$nulls":4},"",{"$nulls":4},"",{"$nulls":15},"",{"$nulls":4},"",{"$nulls":4},"",{"$nulls":15},"",{"$nulls":4},"",{"$nulls":4},"",{"$nulls":15},"",{"$nulls":4},"",{"$nulls":4},"",{"$nulls":6},0,{"$f":"SUM($FL$36:$FL47)","v":0},0]
[13,{"$nulls":4},"N/A",{"$nulls":10},"","","",null,"","","",null,"","","",null,"","","",{"$nulls":5},"","","","","","","","",null,0,{"$nulls":3},"","","",null,"","","",null,"","","",null,"","","",{"$nulls":8},"",{"$nulls":4},"",{"$nulls":4},"",{"$nulls":15},"",{"$nulls":4},"",{"$nulls":4},"",{"$nulls":15},"",{"$nulls":4},"",{"$nulls":4},"",{"$nulls":15},"",{"$nulls":4},"",{"$nulls":4},"",{"$nulls":6},0,{"$f":"SUM($FL$36:$FL48)","v":0},0]
[14,{"$nulls":4},"N/A",{"$nulls":10},"","","",null,"","","",null,"","","",null,"","","",{"$nulls":5},"","","","","","","","",null,0,{"$nulls":3},"","","",null,"","","",null,"","","",null,"","","",{"$nulls":8},"",{"$nulls":4},"",{"$nulls":4},"",{"$nulls":15},"",{"$nulls":4},"",{"$nulls":4},"",{"$nulls":15},"",{"$nulls":4},"",{"$nulls":4},"",{"$nulls":15},"",{"$nulls":4},"",{"$nulls":4},"",{"$nulls":6},0,{"$f":"SUM($FL$36:$FL49)","v":0},0]
[15,{"$nulls":4},"N/A",{"$nulls":10},"","","",null,"","","",null,"","","",null,"","","",{"$nulls":5},"","","","","","","","",null,0,{"$nulls":3},"","","",null,"","","",null,"","","",null,"","","",{"$nulls":8},"",{"$nulls":4},"",{"$nulls":4},"",{"$nulls":15},"",{"$nulls":4},"",{"$nulls":4},"",{"$nulls":15},"",{"$nulls":4},"",{"$nulls":4},"",{"$nulls":15},"",{"$nulls":4},"",{"$nulls":4},"",{"$nulls":6},0,{"$f":"SUM($FL$36:$FL50)","v":0},0]
[16,{"$nulls":4},"N/A",{"$nulls":10},"","","",null,"","","",null,"","","",null,"","","",{"$nulls":5},"","","","","","","","",null,0,{"$nulls":3},"","","",null,"","","",null,"","","",null,"","","",{"$nulls":8},"",{"$nulls":4},"",{"$nulls":4},"",{"$nulls":15},"",{"$nulls":4},"",{"$nulls":4},"",{"$nulls":15},"",{"$nulls":4},"",{"$nulls":4},"",{"$nulls":15},"",{"$nulls":4},"",{"$nulls":4},"",{"$nulls":6},0,{"$f":"SUM($FL$36:$FL51)","v":0},0]
[17,{"$nulls":4},"N/A",{"$nulls":10},"","","",null,"","","",null,"","","",null,"","","",{"$nulls":5},"","","","","","","","",null,0,{"$nulls":3},"","","",null,"","","",null,"","","",null,"","","",{"$nulls":8},"",{"$nulls":4},"",{"$nulls":4},"",{"$nulls":15},"",{"$nulls":4},"",{"$nulls":4},"",{"$nulls":15},"",{"$nulls":4},"",{"$nulls":4},"",{"$nulls":15},"",{"$nulls":4},"",{"$nulls":4},"",{"$nulls":6},0,{"$f":"SUM($FL$36:$FL52)","v":0},0]
[18,{"$nulls":4},"N/A",{"$nulls":10},"","","",null,"","","",null,"","","",null,"","","",{"$nulls":5},"","","","","","","","",null,0,{"$nulls":3},"","","",null,"","","",null,"","","",null,"","","",{"$nulls":8},"",{"$nulls":4},"",{"$nulls":4},"",{"$nulls":15},"",{"$nulls":4},"",{"$nulls":4},"",{"$nulls":15},"",{"$nulls":4},"",{"$nulls":4},"",{"$nulls":15},"",{"$nulls":4},"",{"$nulls":4},"",{"$nulls":6},0,{"$f":"SUM($FL$36:$FL53)","v":0},0]
[19,{"$nulls":4},"N/A",{"$nulls":10},"","","",null,"","","",null,"","","",null,"","","",{"$nulls":5},"","","","","","","","",null,0,{"$nulls":3},"","","",null,"","","",null,"","","",null,"","","",{"$nulls":8},"",{"$nulls":4},"",{"$nulls":4},"",{"$nulls":15},"",{"$nulls":4},"",{"$nulls":4},"",{"$nulls":15},"",{"$nulls":4},"",{"$nulls":4},"",{"$nulls":15},"",{"$nulls":4},"",{"$nulls":4},"",{"$nulls":6},0,{"$f":"SUM($FL$36:$FL54)","v":0},0]
[20,{"$nulls":4},"N/A",{"$nulls":10},"","","",null,"","","",null,"","","",null,"","","",{"$nulls":5},"","","","","","","","",null,0,{"$nulls":3},"","","",null,"","","",null,"","","",null,"","","",{"$nulls":8},"",{"$nulls":4},"",{"$nulls":4},"",{"$nulls":15},"",{"$nulls":4},"",{"$nulls":4},"",{"$nulls":15},"",{"$nulls":4},"",{"$nulls":4},"",{"$nulls":15},"",{"$nulls":4},"",{"$nulls":4},"",{"$nulls":6},0,{"$f":"SUM($FL$36:$FL55)","v":0},0]
[21,{"$nulls":4},"N/A",{"$nulls":10},"","","",null,"","","",null,"","","",null,"","","",{"$nulls":5},"","","","","","","","",null,0,{"$nulls":3},"","","",null,"","","",null,"","","",null,"","","",{"$nulls":8},"",{"$nulls":4},"",{"$nulls":4},"",{"$nulls":15},"",{"$nulls":4},"",{"$nulls":4},"",{"$nulls":15},"",{"$nulls":4},"",{"$nulls":4},"",{"$nulls":15},"",{"$nulls":4},"",{"$nulls":4},"",{"$nulls":6},0,{"$f":"SUM($FL$36:$FL56)","v":0},0]
[22,{"$nulls":4},"N/A",{"$nulls":10},"","","",null,"","","",null,"","","",null,"","","",{"$nulls":5},"","","","","","","","",null,0,{"$nulls":3},"","","",null,"","","",null,"","","",null,"","","",{"$nulls":8},"",{"$nulls":4},"",{"$nulls":4},"",{"$nulls":15},"",{"$nulls":4},"",{"$nulls":4},"",{"$nulls":15},"",{"$nulls":4},"",{"$nulls":4},"",{"$nulls":15},"",{"$nulls":4},"",{"$nulls":4},"",{"$nulls":6},0,{"$f":"SUM($FL$36:$FL57)","v":0},0]
[23,{"$nulls":4},"N/A",{"$nulls":10},"","","",null,"","","",null,"","","",null,"","","",{"$nulls":5},"","","","","","","","",null,0,{"$nulls":3},"","","",null,"","","",null,"","","",null,"","","",{"$nulls":8},"",{"$nulls":4},"",{"$nulls":4},"",{"$nulls":15},"",{"$nulls":4},"",{"$nulls":4},"",{"$nulls":15},"",{"$nulls":4},"",{"$nulls":4},"",{"$nulls":15},"",{"$nulls":4},"",{"$nulls":4},"",{"$nulls":6},0,{"$f":"SUM($FL$36:$FL58)","v":0},0]
[24,{"$nulls":4},"N/A",{"$nulls":10},"","","",null,"","","",null,"","","",null,"","","",{"$nulls":5},"","","","","","","","",null,0,{"$nulls":3},"","","",null,"","","",null,"","","",null,"","","",{"$nulls":8},"",{"$nulls":4},"",{"$nulls":4},"",{"$nulls":15},"",{"$nulls":4},"",{"$nulls":4},"",{"$nulls":15},"",{"$nulls":4},"",{"$nulls":4},"",{"$nulls":15},"",{"$nulls":4},"",{"$nulls":4},"",{"$nulls":6},0,{"$f":"SUM($FL$36:$FL59)","v":0},0]
[25,{"$nulls":4},"N/A",{"$nulls":10},"","","",null,"","","",null,"","","",null,"","","",{"$nulls":5},"","","","","","","","",null,0,{"$nulls":3},"","","",null,"","","",null,"","","",null,"","","",{"$nulls":8},"",{"$nulls":4},"",{"$nulls":4},"",{"$nulls":15},"",{"$nulls":4},"",{"$nulls":4},"",{"$nulls":15},"",{"$nulls":4},"",{"$nulls":4},"",{"$nulls":15},"",{"$nulls":4},"",{"$nulls":4},"",{"$nulls":6},0,{"$f":"SUM($FL$36:$FL60)","v":0},0]
[26,{"$nulls":4},"N/A",{"$nulls":10},"","","",null,"","","",null,"","","",null,"","","",{"$nulls":5},"","","","","","","","",null,0,{"$nulls":3},"","","",null,"","","",null,"","","",null,"","","",{"$nulls":8},"",{"$nulls":4},"",{"$nulls":4},"",{"$nulls":15},"",{"$nulls":4},"",{"$nulls":4},"",{"$nulls":15},"",{"$nulls":4},"",{"$nulls":4},"",{"$nulls":15},"",{"$nulls":4},"",{"$nulls":4},"",{"$nulls":6},0,{"$f":"SUM($FL$36:$FL61)","v":0},0]
[27,{"$nulls":4},"N/A",{"$nulls":10},"","","",null,"","","",null,"","","",null,"","","",{"$nulls":5},"","","","","","","","",null,0,{"$nulls":3},"","","",null,"","","",null,"","","",null,"","","",{"$nulls":8},"",{"$nulls":4},"",{"$nulls":4},"",{"$nulls":15},"",{"$nulls":4},"",{"$nulls":4},"",{"$nulls":15},"",{"$nulls":4},"",{"$nulls":4},"",{"$nulls":15},"",{"$nulls":4},"",{"$nulls":4},"",{"$nulls":6},0,{"$f":"SUM($FL$36:$FL62)","v":0},0]
[28,{"$nulls":4},"N/A",{"$nulls":10},"","","",null,"","","",null,"","","",null,"","","",{"$nulls":5},"","","","","","","","",null,0,{"$nulls":3},"","","",null,"","","",null,"","","",null,"","","",{"$nulls":8},"",{"$nulls":4},"",{"$nulls":4},"",{"$nulls":15},"",{"$nulls":4},"",{"$nulls":4},"",{"$nulls":15},"",{"$nulls":4},"",{"$nulls":4},"",{"$nulls":15},"",{"$nulls":4},"",{"$nulls":4},"",{"$nulls":6},0,{"$f":"SUM($FL$36:$FL63)","v":0},0]
[29,{"$nulls":4},"N/A",{"$nulls":10},"","","",null,"","","",null,"","","",null,"","","",{"$nulls":5},"","","","","","","","",null,0,{"$nulls":3},"","","",null,"","","",null,"","","",null,"","","",{"$nulls":8},"",{"$nulls":4},"",{"$nulls":4},"",{"$nulls":15},"",{"$nulls":4},"",{"$nulls":4},"",{"$nulls":15},"",{"$nulls":4},"",{"$nulls":4},"",{"$nulls":15},"",{"$nulls":4},"",{"$nulls":4},"",{"$nulls":6},0,{"$f":"SUM($FL$36:$FL64)","v":0},0]
[30,{"$nulls":4},"N/A",{"$nulls":10},"","","",null,"","","",null,"","","",null,"","","",{"$nulls":5},"","","","","","","","",null,0,{"$nulls":3},"","","",null,"","","",null,"","","",null,"","","",{"$nulls":8},"",{"$nulls":4},"",{"$nulls":4},"",{"$nulls":15},"",{"$nulls":4},"",{"$nulls":4},"",{"$nulls":15},"",{"$nulls":4},"",{"$nulls":4},"",{"$nulls":15},"",{"$nulls":4},"",{"$nulls":4},"",{"$nulls":6},0,{"$f":"SUM($FL$36:$FL65)","v":0},0]
[31,{"$nulls":4},"N/A",{"$nulls":10},"","","",null,"","","",null,"","","",null,"","","",{"$nulls":5},"","","","","","","","",null,0,{"$nulls":3},"","","",null,"","","",null,"","","",null,"","","",{"$nulls":8},"",{"$nulls":4},"",{"$nulls":4},"",{"$nulls":15},"",{"$nulls":4},"",{"$nulls":4},"",{"$nulls":15},"",{"$nulls":4},"",{"$nulls":4},"",{"$nulls":15},"",{"$nulls":4},"",{"$nulls":4},"",{"$nulls":6},0,{"$f":"SUM($FL$36:$FL66)","v":0},0]
[32,{"$nulls":4},"N/A",{"$nulls":10},"","","",null,"","","",null,"","","",null,"","","",{"$nulls":5},"","","","","","","","",null,0,{"$nulls":3},"","","",null,"","","",null,"","","",null,"","","",{"$nulls":8},"",{"$nulls":4},"",{"$nulls":4},"",{"$nulls":15},"",{"$nulls":4},"",{"$nulls":4},"",{"$nulls":15},"",{"$nulls":4},"",{"$nulls":4},"",{"$nulls":15},"",{"$nulls":4},"",{"$nulls":4},"",{"$nulls":6},0,{"$f":"SUM($FL$36:$FL67)","v":0},0]
[33,{"$nulls":4},"N/A",{"$nulls":10},"","","",null,"","","",null,"","","",null,"","","",{"$nulls":5},"","","","","","","","",null,0,{"$nulls":3},"","","",null,"","","",null,"","","",null,"","","",{"$nulls":8},"",{"$nulls":4},"",{"$nulls":4},"",{"$nulls":15},"",{"$nulls":4},"",{"$nulls":4},"",{"$nulls":15},"",{"$nulls":4},"",{"$nulls":4},"",{"$nulls":15},"",{"$nulls":4},"",{"$nulls":4},"",{"$nulls":6},0,{"$f":"SUM($FL$36:$FL68)","v":0},0]
[34,{"$nulls":4},"N/A",{"$nulls":10},"","","",null,"","","",null,"","","",null,"","","",{"$nulls":5},"","","","","","","","",null,0,{"$nulls":3},"","","",null,"","","",null,"","","",null,"","","",{"$nulls":8},"",{"$nulls":4},"",{"$nulls":4},"",{"$nulls":15},"",{"$nulls":4},"",{"$nulls":4},"",{"$nulls":15},"",{"$nulls":4},"",{"$nulls":4},"",{"$nulls":15},"",{"$nulls":4},"",{"$nulls":4},"",{"$nulls":6},0,{"$f":"SUM($FL$36:$FL69)","v":0},0]
[35,{"$nulls":4},"N/A",{"$nulls":10},"","","",null,"","","",null,"","","",null,"","","",{"$nulls":5},"","","","","","","","",null,0,{"$nulls":3},"","","",null,"","","",null,"","","",null,"","","",{"$nulls":8},"",{"$nulls":4},"",{"$nulls":4},"",{"$nulls":15},"",{"$nulls":4},"",{"$nulls":4},"",{"$nulls":15},"",{"$nulls":4},"",{"$nulls":4},"",{"$nulls":15},"",{"$nulls":4},"",{"$nulls":4},"",{"$nulls":6},0,{"$f":"SUM($FL$36:$FL70)","v":0},0]
[36,{"$nulls":4},"N/A",{"$nulls":10},"","","",null,"","","",null,"","","",null,"","","",{"$nulls":5},"","","","","","","","",null,0,{"$nulls":3},"","","",null,"","","",null,"","","",null,"","","",{"$nulls":8},"",{"$nulls":4},"",{"$nulls":4},"",{"$nulls":15},"",{"$nulls":4},"",{"$nulls":4},"",{"$nulls":15},"",{"$nulls":4},"",{"$nulls":4},"",{"$nulls":15},"",{"$nulls":4},"",{"$nulls":4},"",{"$nulls":6},0,{"$f":"SUM($FL$36:$FL71)","v":0},0]
[37,{"$nulls":4},"N/A",{"$nulls":10},"","","",null,"","","",null,"","","",null,"","","",{"$nulls":5},"","","","","","","","",null,0,{"$nulls":3},"","","",null,"","","",null,"","","",null,"","","",{"$nulls":8},"",{"$nulls":4},"",{"$nulls":4},"",{"$nulls":15},"",{"$nulls":4},"",{"$nulls":4},"",{"$nulls":15},"",{"$nulls":4},"",{"$nulls":4},"",{"$nulls":15},"",{"$nulls":4},"",{"$nulls":4},"",{"$nulls":6},0,{"$f":"SUM($FL$36:$FL72)","v":0},0]
[38,{"$nulls":4},"N/A",{"$nulls":10},"","","",null,"","","",null,"","","",null,"","","",{"$nulls":5},"","","","","","","","",null,0,{"$nulls":3},"","","",null,"","","",null,"","","",null,"","","",{"$nulls":8},"",{"$nulls":4},"",{"$nulls":4},"",{"$nulls":15},"",{"$nulls":4},"",{"$nulls":4},"",{"$nulls":15},"",{"$nulls":4},"",{"$nulls":4},"",{"$nulls":15},"",{"$nulls":4},"",{"$nulls":4},"",{"$nulls":6},0,{"$f":"SUM($FL$36:$FL73)","v":0},0]
[39,{"$nulls":4},"N/A",{"$nulls":10},"","","",null,"","","",null,"","","",null,"","","",{"$nulls":5},"","","","","","","","",null,0,{"$nulls":3},"","","",null,"","","",null,"","","",null,"","","",{"$nulls":8},"",{"$nulls":4},"",{"$nulls":4},"",{"$nulls":15},"",{"$nulls":4},"",{"$nulls":4},"",{"$nulls":15},"",{"$nulls":4},"",{"$nulls":4},"",{"$nulls":15},"",{"$nulls":4},"",{"$nulls":4},"",{"$nulls":6},0,{"$f":"SUM($FL$36:$FL74)","v":0},0]
[40,{"$nulls":4},"N/A",{"$nulls":10},"","","",null,"","","",null,"","","",null,"","","",{"$nulls":5},"","","","","","","","",null,0,{"$nulls":3},"","","",null,"","","",null,"","","",null,"","","",{"$nulls":8},"",{"$nulls":4},"",{"$nulls":4},"",{"$nulls":15},"",{"$nulls":4},"",{"$nulls":4},"",{"$nulls":15},"",{"$nulls":4},"",{"$nulls":4},"",{"$nulls":15},"",{"$nulls":4},"",{"$nulls":4},"",{"$nulls":6},0,{"$f":"SUM($FL$36:$FL75)","v":0},0]
[41,{"$nulls":4},"N/A",{"$nulls":10},"","","",null,"","","",null,"","","",null,"","","",{"$nulls":5},"","","","","","","","",null,0,{"$nulls":3},"","","",null,"","","",null,"","","",null,"","","",{"$nulls":8},"",{"$nulls":4},"",{"$nulls":4},"",{"$nulls":15},"",{"$nulls":4},"",{"$nulls":4},"",{"$nulls":15},"",{"$nulls":4},"",{"$nulls":4},"",{"$nulls":15},"",{"$nulls":4},"",{"$nulls":4},"",{"$nulls":6},0,{"$f":"SUM($FL$36:$FL76)","v":0},0]
[42,{"$nulls":4},"N/A",{"$nulls":10},"","","",null,"","","",null,"","","",null,"","","",{"$nulls":5},"","","","","","","","",null,0,{"$nulls":3},"","","",null,"","","",null,"","","",null,"","","",{"$nulls":8},"",{"$nulls":4},"",{"$nulls":4},"",{"$nulls":15},"",{"$nulls":4},"",{"$nulls":4},"",{"$nulls":15},"",{"$nulls":4},"",{"$nulls":4},"",{"$nulls":15},"",{"$nulls":4},"",{"$nulls":4},"",{"$nulls":6},0,{"$f":"SUM($FL$36:$FL77)","v":0},0]
[43,{"$nulls":4},"N/A",{"$nulls":10},"","","",null,"","","",null,"","","",null,"","","",{"$nulls":5},"","","","","","","","",null,0,{"$nulls":3},"","","",null,"","","",null,"","","",null,"","","",{"$nulls":8},"",{"$nulls":4},"",{"$nulls":4},"",{"$nulls":15},"",{"$nulls":4},"",{"$nulls":4},"",{"$nulls":15},"",{"$nulls":4},"",{"$nulls":4},"",{"$nulls":15},"",{"$nulls":4},"",{"$nulls":4},"",{"$nulls":6},0,{"$f":"SUM($FL$36:$FL78)","v":0},0]
[44,{"$nulls":4},"N/A",{"$nulls":10},"","","",null,"","","",null,"","","",null,"","","",{"$nulls":5},"","","","","","","","",null,0,{"$nulls":3},"","","",null,"","","",null,"","","",null,"","","",{"$nulls":8},"",{"$nulls":4},"",{"$nulls":4},"",{"$nulls":15},"",{"$nulls":4},"",{"$nulls":4},"",{"$nulls":15},"",{"$nulls":4},"",{"$nulls":4},"",{"$nulls":15},"",{"$nulls":4},"",{"$nulls":4},"",{"$nulls":6},0,{"$f":"SUM($FL$36:$FL79)","v":0},0]
[45,{"$nulls":4},"N/A",{"$nulls":10},"","","",null,"","","",null,"","","",null,"","","",{"$nulls":5},"","","","","","","","",null,0,{"$nulls":3},"","","",null,"","","",null,"","","",null,"","","",{"$nulls":8},"",{"$nulls":4},"",{"$nulls":4},"",{"$nulls":15},"",{"$nulls":4},"",{"$nulls":4},"",{"$nulls":15},"",{"$nulls":4},"",{"$nulls":4},"",{"$nulls":15},"",{"$nulls":4},"",{"$nulls":4},"",{"$nulls":6},0,{"$f":"SUM($FL$36:$FL80)","v":0},0]
[46,{"$nulls":4},"N/A",{"$nulls":10},"","","",null,"","","",null,"","","",null,"","","",{"$nulls":5},"","","","","","","","",null,0,{"$nulls":3},"","","",null,"","","",null,"","","",null,"","","",{"$nulls":8},"",{"$nulls":4},"",{"$nulls":4},"",{"$nulls":15},"",{"$nulls":4},"",{"$nulls":4},"",{"$nulls":15},"",{"$nulls":4},"",{"$nulls":4},"",{"$nulls":15},"",{"$nulls":4},"",{"$nulls":4},"",{"$nulls":6},0,{"$f":"SUM($FL$36:$FL81)","v":0},0]
[47,{"$nulls":4},"N/A",{"$nulls":10},"","","",null,"","","",null,"","","",null,"","","",{"$nulls":5},"","","","","","","","",null,0,{"$nulls":3},"","","",null,"","","",null,"","","",null,"","","",{"$nulls":8},"",{"$nulls":4},"",{"$nulls":4},"",{"$nulls":15},"",{"$nulls":4},"",{"$nulls":4},"",{"$nulls":15},"",{"$nulls":4},"",{"$nulls":4},"",{"$nulls":15},"",{"$nulls":4},"",{"$nulls":4},"",{"$nulls":6},0,{"$f":"SUM($FL$36:$FL82)","v":0},0]
[48,{"$nulls":4},"N/A",{"$nulls":10},"","","",null,"","","",null,"","","",null,"","","",{"$nulls":5},"","","","","","","","",null,0,{"$nulls":3},"","","",null,"","","",null,"","","",null,"","","",{"$nulls":8},"",{"$nulls":4},"",{"$nulls":4},"",{"$nulls":15},"",{"$nulls":4},"",{"$nulls":4},"",{"$nulls":15},"",{"$nulls":4},"",{"$nulls":4},"",{"$nulls":15},"",{"$nulls":4},"",{"$nulls":4},"",{"$nulls":6},0,{"$f":"SUM($FL$36:$FL83)","v":0},0]
[49,{"$nulls":4},"N/A",{"$nulls":10},"","","",null,"","","",null,"","","",null,"","","",{"$nulls":5},"","","","","","","","",null,0,{"$nulls":3},"","","",null,"","","",null,"","","",null,"","","",{"$nulls":8},"",{"$nulls":4},"",{"$nulls":4},"",{"$nulls":15},"",{"$nulls":4},"",{"$nulls":4},"",{"$nulls":15},"",{"$nulls":4},"",{"$nulls":4},"",{"$nulls":15},"",{"$nulls":4},"",{"$nulls":4},"",{"$nulls":6},0,{"$f":"SUM($FL$36:$FL84)","v":0},0]
[50,{"$nulls":4},"N/A",{"$nulls":10},"","","",null,"","","",null,"","","",null,"","","",{"$nulls":5},"","","","","","","","",null,0,{"$nulls":3},"","","",null,"","","",null,"","","",null,"",{"$f":"IF($B85=\"Y\",IF(AND($AC85<>\"\",$AQ84<>\"\",$AR84<>\"\"),($AC85+$AQ84)/($AR84+1),\"\"),\"\")","v":""},"",{"$nulls":8},"",{"$nulls":4},"",{"$nulls":4},"",{"$nulls":15},"",{"$nulls":4},"",{"$nulls":4},"",{"$nulls":15},"",{"$nulls":4},"",{"$nulls":4},"",{"$nulls":15},"",{"$nulls":4},"",{"$nulls":4},"",{"$nulls":6},0,{"$f":"SUM($FL$36:$FL85)","v":0},0]
[null,null,{"$f":"SUM(C36:C85)","v":0}]
["g/bhp-hr"]
["g/kW-hr"]

{"sheet":"Engine Family #26","index":28,"n_rows":88,"n_cols":176,"rows_kept":88,"merged":[[1,0,1,35],[2,0,2,35],[3,0,3,35],[4,0,4,35],[5,0,5,35],[6,0,6,35],[8,0,8,16],[10,4,10,6],[10,12,10,13],[11,4,11,6],[11,15,11,16],[11,19,11,20],[11,23,11,24],[11,27,11,28],[12,4,12,6],[13,4,13,6],[14,4,15,6],[17,14,22,14],[27,4,30,13],[27,15,28,16],[32,0,32,16],[32,17,32,33],[32,34,32,35],[33,45,34,45]]}
[]
["United States"]
["US Environmental Protection Agency"]
["Office of Air and Radiation, Office of Transportation and Air Quality"]
[{"$nulls":37},"Tier 2","Y",94]
["Manufacturer Production Line Testing Report for Marine Compression Ignition Engines",{"$nulls":36},"Tier 3","N",1042]
[{"$f":"Summary!B7","v":"Version Number: 1.4 DRAFT  Last Revision: September 2023"},{"$nulls":36},"Tier 4",null,"N/A"]
[]
["Basic Information: Engine Family #26"]
[{"$nulls":167},{"$f":"IF(AND($G$24=94,Summary!$L$13=\"Category 1\"),0,1)","v":1}]
[null,null,"Manufacturer:",null,{"$f":"IF(Summary!D12<>\"\",Summary!D12,\"\")","v":""},{"$nulls":3},"Engine Family:",{"$nulls":31},{"$f":"IF($G$19=\"Diesel\",\"'HC' refers to 'THC' \",IF($G$19=\"Natural Gas\",\"'HC' refers to 'NMHC' \",IF($G$19=\"Alcohol\",\"'HC' refers to 'THCE' \",\"\")))","v":""}]
[null,null,"PLT Test Contact:",null,{"$f":"IF(Summary!D13<>\"\",Summary!D13,\"\")","v":""},{"$nulls":3},"Production (Category 3 only):",{"$nulls":6},{"$f":"IF(N16<>\"Y\", \"Current CO Result\", \"Final CO Result\")","v":"Current CO Result"},null,{"$f":"$CJ$36","v":""},null,{"$f":"IF(N16<>\"Y\", \"Current PM Result\", \"Final PM Result\")","v":"Current PM Result"},null,{"$f":"$DJ$36","v":""},null,{"$f":"IF($AF$12=\"Y\",IF(N16<>\"Y\", \"Current NOx+HC Result\", \"Final NOx+HC Result\"),IF(N16<>\"Y\", \"Current HC Result\", \"Final HC Result\"))","v":"Current HC Result"},null,{"$f":"IF($AF$12=\"Y\",IF($FP$36>0,ROUND($EJ$36+$FJ$36,2),\"\"),$EJ$36)","v":""},null,{"$f":"IF(N16<>\"Y\", \"Current NOx Result\",\"Final NOx Result\")","v":"Current NOx Result"},null,{"$f":"$FJ$36","v":""},null,{"$f":"IF($L$13<>\"Category 3\",IF($G$23=\"\",\"N\",$G$23),\"N\")","v":"N"},{"$f":"IF(Summary!$L$13=\"Category 3\",\"CAT3\",\"\")","v":""}]
[null,null,"Email Address:",null,{"$f":"IF(Summary!D14<>\"\",Summary!D14,\"\")","v":""},{"$nulls":3},"Date of Start of Model Year Production:"]
[null,null,"Phone #:",null,{"$f":"IF(Summary!D15<>\"\",Summary!D15,\"\")","v":""},{"$nulls":3},"Date of End of Model Year Production:",{"$nulls":14},{"$f":"IF($G$19=\"Diesel\",\"'HC' refers to 'THC' \",IF($G$19=\"Natural Gas\",\"'HC' refers to 'NMHC' \",IF($G$19=\"Alcohol\",\"'HC' refers to 'THCE' \",\"\")))","v":""},{"$nulls":13},"Diesel",1,{"$nulls":6},1]
[null,null,"Test Location & Description:",{"$nulls":5},"Deterioration Factor Type:",{"$nulls":28},"Natural Gas",2,{"$nulls":6},2]
[{"$nulls":8},"Include Results from this Engine Family on Summary Sheet?",{"$nulls":6},"CO Standard ",{"$nulls":3},"PM Standard or FEL",{"$nulls":3},{"$f":"IF($AF$12=\"Y\",\"NOx+HC Standard or FEL\",\"HC Standard\")","v":"HC Standard"},{"$nulls":3},"NOx Standard or FEL",{"$nulls":9},"Alcohol",3,{"$nulls":6},3]
[null,null,"Carryover?:",{"$nulls":5},"Required Tests (including failure follow-ups)",{"$nulls":4},{"$f":"$FO36","v":0},null,"Units",null,"g/kW-hr",null,"Units",null,"g/kW-hr",null,"Units",null,"g/kW-hr",null,"Units",null,"g/kW-hr",{"$nulls":4},"Test Cycle Options",{"$nulls":10},4]
[null,null,{"$f":"IF($G$17=\"Y\",\"Please submit supporting documentation indicating that this is a carry-over engine family\",\"\")","v":""},{"$nulls":5},"Instead of testing, are PLT requirements for this Engine Family",{"$nulls":6},"CO  Det Factor",{"$nulls":3},"PM  Det Factor",{"$nulls":3},"HC Det Factor",{"$nulls":3},"NOx  Det Factor",{"$nulls":6},"1 = 4-Mode General Cycle (E3)",null,null,"Recreational"]
[null,null,"Fuel Type:",{"$nulls":5}," fulfilled under the following (Category 1 only)?",{"$nulls":6},"Det Factor Type",null,{"$f":"IF($N$15<>\"\",$N$15,\"\")","v":""},null,"Det Factor Type",null,{"$f":"IF($N$15<>\"\",$N$15,\"\")","v":""},null,"Det Factor Type",null,{"$f":"IF($N$15<>\"\",$N$15,\"\")","v":""},null,"Det Factor Type",null,{"$f":"IF($N$15<>\"\",$N$15,\"\")","v":""},{"$nulls":4},"2 = 5-Mode Recreational Cycle (E5)",null,null,"Commercial"]
[null,null,"Recreational/Commercial:",{"$nulls":5},"Please elaborate in the comments section.",{"$nulls":6},"CO Green Engine Factor",{"$nulls":3},"PM Green Engine Factor",{"$nulls":3},"HC Green Engine Factor",{"$nulls":3},"NOx Green Engine Factor",{"$nulls":6},"3 = 4-Mode Constant Speed Propulsion Cycle (E2)"]
[null,null,"Model Year:",{"$nulls":5},"    -1042.310(a) - EPA approved combining it, for PLT purposes only.",{"$nulls":25},"4 = 5-Mode Constant Speed Auxiliary Cycle (D2)"]
[null,null,"Tier:",{"$nulls":31},"5 = 6-Mode Variable Speed Auxiliary Cycle (G2)",null,null,"1 (E3)"]
[null,null,"Combined NOx+HC?",{"$nulls":31},"6 = 8-Mode Variable Speed Ausiliary Cycle (C1)",null,null,"2 (E5)"]
[null,null,"40 CFR Part:",{"$nulls":3},{"$f":"AN6","v":1042},null,"Additional testing required by EPA [40 CFR 1042.301(e)]? ",{"$nulls":25},"O = Other",null,null,"3 (E2)"]
[{"$nulls":37},"4 (D2)"]
[{"$nulls":37},"5 (G2)",{"$nulls":132},"deleted and redirected"]
[{"$nulls":22}," ",{"$nulls":14},"6 (C1)",4,{"$nulls":6},4]
[null,null,"Comments:",{"$nulls":34},"O (other)"]
[{"$nulls":22}," ",{"$nulls":22},"additive"]
[{"$nulls":45},"multiplicative",{"$nulls":22},"CO Rounding",{"$nulls":4},"CO Rounding",{"$nulls":4},"CO Rounding",{"$nulls":4},"CO Rounding",{"$nulls":10},"PM Rounding",{"$nulls":4},"PM Rounding",{"$nulls":4},"PM Rounding",{"$nulls":4},"PM Rounding",{"$nulls":10},"HC Rounding",{"$nulls":4},"HC Rounding",{"$nulls":4},"HC Rounding",{"$nulls":4},"HC Rounding",{"$nulls":10},"NOx Rounding",{"$nulls":4},"NOx Rounding",{"$nulls":4},"NOx Rounding",{"$nulls":4},"NOx Rounding"]
[{"$nulls":22}," ",{"$nulls":45},"initial",{"$nulls":4},"final",{"$nulls":4}," det final",{"$nulls":4},"ave of all final",{"$nulls":10},"initial",{"$nulls":4},"final",{"$nulls":4}," det final",{"$nulls":4},"ave of all final",{"$nulls":10},"initial",{"$nulls":4},"final",{"$nulls":4}," det final",{"$nulls":4},"ave of all final",{"$nulls":10},"initial",{"$nulls":4},"final",{"$nulls":4}," det final",{"$nulls":4},"ave of all final"]
[{"$nulls":38},"Y",{"$nulls":6},"Y"]
["PLT Engine Test Results: Engine Family #26",{"$nulls":37},"N",{"$nulls":6},"N",{"$nulls":124},"This is N17"]
[{"$nulls":36},"CO",null,"PM",null,null,"HC or HC+NOX",null,"Nox",null,"Engine Data Complete?",{"$nulls":11},"HC","HC","HC","HC","Nox","Nox","Nox","Nox",{"$nulls":107},"1% of production or pre-approved reduced sample size - whichever is Lower # "]
[null,"Calc Final Result?","Test Number","Test Date","Test Time","Test Qtr","Engine ID","Engine Make","Engine Configuration","Build Date","Green Engine Factor Applied?","Green Engine Factor Determination Method","Service Hours (or miles) Accumulation","Service Hours Location","Service Acc. Procedure","CO Initial Result ","Rounded CO Initial Result ","CO Final Result ","Det. CO Final Result ","PM Initial Result ","Rounded PM Initial Result ","PM Final Result ","Det. PM Final Result ","HC Initial Result ","Rounded HC Initial Result ","HC Final Result ","Det. HC Final Result ","NOx Initial Result ","Rounded NOx Initial Result ","NOx Final Result ","Det. NOx Final Result ","Reason for Failed Test (if applicable)","Remedy","Repairs","Test Cycle","Comments",0,0,0,0,0,0,0,0,{"$nulls":5},"Unrounded initial CO","Unrounded final CO","Det CO","Final CO","Unrounded initial PM","Unrounded final PM","Det PM","Final PM","Unrounded initial HCNOx","Unrounded final HCNOx","Det HCNOx","Final HCNOX","Unrounded initial NOx","Unrounded final NOx","Det NOx","Final HCNOX",{"$nulls":7},"rounded",{"$nulls":4},"rounded",{"$nulls":4},"rounded",{"$nulls":4},"rounded",{"$nulls":10},"rounded",{"$nulls":4},"rounded",{"$nulls":4},"rounded",{"$nulls":4},"rounded",{"$nulls":10},"rounded",{"$nulls":4},"rounded",{"$nulls":4},"rounded",{"$nulls":4},"rounded","ROUNDED AND ACCOUNT FOR BLANK",{"$nulls":9},"rounded",{"$nulls":4},"rounded",{"$nulls":4},"rounded",{"$nulls":4},"rounded","ROUNDED AND ACCOUNT FOR BLANK","Test complete Flag","Total complete","Fail Flag","req","val","baseline req","req due to fails","sum fails","baseline req"]
[1,{"$nulls":4},"N/A",{"$nulls":10},{"$f":"$BU36","v":""},{"$f":"$BZ36","v":""},{"$f":"$CE36","v":""},null,{"$f":"$CU36","v":""},{"$f":"$CZ36","v":""},{"$f":"$DE36","v":""},null,{"$f":"$DU36","v":""},{"$f":"$DZ36","v":""},{"$f":"$EE36","v":""},null,{"$f":"$EU36","v":""},{"$f":"$EZ36","v":""},{"$f":"$FE36","v":""},{"$nulls":5},{"$f":"IF($B36=\"N\",IF(AND($AK35<>\"\",$Q36<>\"\"),$AK35+$Q36,\"\"),IF($B36=\"Y\",0,\"\"))","v":""},{"$f":"IF($B36=\"N\",AL35+1,IF($B36=\"Y\",0,\"\"))","v":""},{"$f":"IF($B36=\"N\",IF(AND($AM35<>\"\",$U36<>\"\"),$AM35+$U36,\"\"),IF($B36=\"Y\",0,\"\"))","v":""},{"$f":"IF($B36=\"N\",AN35+1,IF($B36=\"Y\",0,\"\"))","v":""},{"$f":"IF($B36=\"N\",IF(AND($AO35<>\"\",$Y36<>\"\"),$AO35+$Y36,\"\"),IF($B36=\"Y\",0,\"\"))","v":""},{"$f":"IF($B36=\"N\",AP35+1,IF($B36=\"Y\",0,\"\"))","v":""},{"$f":"IF($B36=\"N\",IF(AND($AQ35<>\"\",$AC36<>\"\"),$AQ35+$AC36,\"\"),IF($B36=\"Y\",0,\"\"))","v":""},{"$f":"IF($B36=\"N\",AR35+1,IF($B36=\"Y\",0,\"\"))","v":""},null,{"$f":"IF(AND(B36<>\"\",C36<>\"\",D36<>\"\",E36<>\"\",G36<>\"\",H36<>\"\",I36<>\"\",J36<>\"\",K36<>\"\",M36<>\"\",N36<>\"\",O36<>\"\"),1,0)","v":0},{"$nulls":3},{"$f":"IF(AND($P36<>\"\",$AT36=1),$P36,\"\")","v":""},{"$f":"IF($B36=\"Y\",IF(AND($Q36<>\"\",$AK35<>\"\",$AL35<>\"\"),($Q36+$AK35)/($AL35+1),\"\"),\"\")","v":""},{"$f":"IF(AND($B36=\"Y\",$R36<>\"\",$R$18<>\"\"),IF($R$19=\"additive\",$R36+$R$18,IF($R$19=\"multiplicative\",$R36*$R$18,\"\")),\"\")","v":""},{"$f":"IF(COUNT($S$36:$S$85)>0,AVERAGE($S$36:$S$85),\"\")","v":""},{"$f":"IF(AND($T36<>\"\",$AT36=1),$T36,\"\")","v":""},{"$f":"IF($B36=\"Y\",IF(AND($U36<>\"\",$AM35<>\"\",$AN35<>\"\"),($U36+$AM35)/($AN35+1),\"\"),\"\")","v":""},{"$f":"IF(AND($B36=\"Y\",$V36<>\"\",$V$18<>\"\"),IF($V$19=\"additive\",$V36+$V$18,IF($V$19=\"multiplicative\",$V36*$V$18,\"\")),\"\")","v":""},{"$f":"IF(COUNT($W$36:$W$85)>0,AVERAGE($W$36:$W$85),\"\")","v":""},{"$f":"IF(AND($X36<>\"\",$AT36=1),$X36,\"\")","v":""},{"$f":"IF($B36=\"Y\",IF(AND($Y36<>\"\",$AO35<>\"\",$AP35<>\"\"),($Y36+$AO35)/($AP35+1),\"\"),\"\")","v":""},{"$f":"IF(AND($B36=\"Y\",$Z36<>\"\",$Z$18<>\"\"),IF($Z$19=\"additive\",$Z36+$Z$18,IF($Z$19=\"multiplicative\",$Z36*$Z$18,\"\")),\"\")","v":""},{"$f":"IF(COUNT($AA$36:$AA$85)>0,AVERAGE($AA$36:$AA$85),\"\")","v":""},{"$f":"IF(AND($AB36<>\"\",$AT36=1),$AB36,\"\")","v":""},{"$f":"IF($B36=\"Y\",IF(AND($AC36<>\"\",$AQ35<>\"\",$AR35<>\"\"),($AC36+$AQ35)/($AR35+1),\"\"),\"\")","v":""},{"$f":"IF(AND($B36=\"Y\",$AD36<>\"\",$AD$18<>\"\"),IF($AD$19=\"additive\",$AD36+$AD$18,IF($AD$19=\"multiplicative\",$AD36*$AD$18,\"\")),\"\")","v":""},{"$f":"IF(COUNT($AE$36:$AE$85)>0,AVERAGE($AE$36:$AE$85),\"\")","v":""},{"$nulls":7},{"$f":"IF($AX36<>\"\",ROUND($AX36,2),\"\")","v":""},{"$nulls":4},{"$f":"IF($AY36<>\"\",ROUND($AY36,2),\"\")","v":""},{"$nulls":4},{"$f":"IF($AZ36<>\"\",ROUND($AZ36,2),\"\")","v":""},{"$nulls":4},{"$f":"IF($BA36<>\"\",ROUND($BA36,2),\"\")","v":""},{"$nulls":10},{"$f":"IF($BB36<>\"\",ROUND($BB36,3),\"\")","v":""},{"$nulls":4},{"$f":"IF($BC36<>\"\",ROUND($BC36,3),\"\")","v":""},{"$nulls":4},{"$f":"IF($BD36<>\"\",ROUND($BD36,3),\"\")","v":""},{"$nulls":4},{"$f":"IF($BE36<>\"\",ROUND($BE36,3),\"\")","v":""},{"$nulls":10},{"$f":"IF($BF36<>\"\",ROUND($BF36,3),\"\")","v":""},{"$nulls":4},{"$f":"IF($BG36<>\"\",ROUND($BG36,3),\"\")","v":""},{"$nulls":4},{"$f":"IF($BH36<>\"\",ROUND($BH36,3),\"\")","v":""},{"$nulls":4},{"$f":"IF($BI36<>\"\",ROUND($BI36,3),\"\")","v":""},{"$f":"IF(EJ36=\"\",0,EJ36)","v":0},{"$nulls":9},{"$f":"IF($BJ36<>\"\",ROUND($BJ36,2),\"\")","v":""},{"$nulls":4},{"$f":"IF($BK36<>\"\",ROUND($BK36,2),\"\")","v":""},{"$nulls":4},{"$f":"IF($BL36<>\"\",ROUND($BL36,2),\"\")","v":""},{"$nulls":4},{"$f":"IF($BM36<>\"\",ROUND($BM36,2),\"\")","v":""},{"$f":"IF(FJ36=\"\",0,FJ36)","v":0},{"$f":"IF($AG$12<>\"CAT3\",IF(AND($B36=\"Y\",$S36<>\"\",$W36<>\"\",$AA36<>\"\",$AE36<>\"\"),1,0),IF($AE36<>\"\",1,0))","v":0},{"$f":"SUM($FL$36:$FL36)","v":0},{"$f":"IF($AG$12<>\"CAT3\",IF($FL36=1,IF(OR($S36>$R$16,$W36>$V$16,$AA36>$Z$16,IF($AF$12<>\"Y\",OR($AA36>$Z$16,$AE36>$AD$16),ROUND(($AA36+$AE36),2)>$Z$16)),1,0),0),IF($FL36=1,IF(AND($AE36>$AD$16,$AF$12=\"N\"),1,0),0))","v":0},{"$f":"IF(OR($M$11=\"\",$N$18=\"Y\"),0,IF($AG$12=\"CAT3\",$N$12,($FR$36+1)))","v":0},{"$f":"SUM(FL36:FL85)","v":0},{"$f":"IF(AND($G$17=\"Y\",$N$24<>\"\"),MIN($N$24,$FT$36),$FT$36)","v":0},{"$f":"$FS$36*2","v":0},{"$f":"SUM(FN36:FN85)","v":0},{"$f":"IF($N$12<>\"\",$N$12*0.01,0)","v":0}]
[{"$f":"A36+1","v":2},{"$nulls":4},"N/A",{"$nulls":10},"","","",null,"","","",null,"","","",null,"","","",{"$nulls":5},"",{"$f":"IF($B37=\"N\",AL36+1,IF($B37=\"Y\",0,\"\"))","v":""},"",{"$f":"IF($B37=\"N\",AN36+1,IF($B37=\"Y\",0,\"\"))","v":""},{"$f":"IF($B37=\"N\",IF(AND($AO36<>\"\",$Y37<>\"\"),$AO36+$Y37,\"\"),IF($B37=\"Y\",0,\"\"))","v":""},{"$f":"IF($B37=\"N\",AP36+1,IF($B37=\"Y\",0,\"\"))","v":""},{"$f":"IF($B37=\"N\",IF(AND($AQ36<>\"\",$AC37<>\"\"),$AQ36+$AC37,\"\"),IF($B37=\"Y\",0,\"\"))","v":""},{"$f":"IF($B37=\"N\",AR36+1,IF($B37=\"Y\",0,\"\"))","v":""},null,{"$f":"IF(AND(B37<>\"\",C37<>\"\",D37<>\"\",E37<>\"\",G37<>\"\",H37<>\"\",I37<>\"\",J37<>\"\",K37<>\"\",M37<>\"\",N37<>\"\",O37<>\"\"),1,0)","v":0},{"$nulls":3},"","",{"$f":"IF(AND($B37=\"Y\",$R37<>\"\",$R$18<>\"\"),IF($R$19=\"additive\",$R37+$R$18,IF($R$19=\"multiplicative\",$R37*$R$18,\"\")),\"\")","v":""},null,"","",{"$f":"IF(AND($B37=\"Y\",$V37<>\"\",$V$18<>\"\"),IF($V$19=\"additive\",$V37+$V$18,IF($V$19=\"multiplicative\",$V37*$V$18,\"\")),\"\")","v":""},null,{"$f":"IF(AND($X37<>\"\",$AT37=1),$X37,\"\")","v":""},{"$f":"IF($B37=\"Y\",IF(AND($Y37<>\"\",$AO36<>\"\",$AP36<>\"\"),($Y37+$AO36)/($AP36+1),\"\"),\"\")","v":""},{"$f":"IF(AND($B37=\"Y\",$Z37<>\"\",$Z$18<>\"\"),IF($Z$19=\"additive\",$Z37+$Z$18,IF($Z$19=\"multiplicative\",$Z37*$Z$18,\"\")),\"\")","v":""},null,{"$f":"IF(AND($AB37<>\"\",$AT37=1),$AB37,\"\")","v":""},{"$f":"IF($B37=\"Y\",IF(AND($AC37<>\"\",$AQ36<>\"\",$AR36<>\"\"),($AC37+$AQ36)/($AR36+1),\"\"),\"\")","v":""},{"$f":"IF(AND($B37=\"Y\",$AD37<>\"\",$AD$18<>\"\"),IF($AD$19=\"additive\",$AD37+$AD$18,IF($AD$19=\"multiplicative\",$AD37*$AD$18,\"\")),\"\")","v":""},{"$nulls":8},{"$f":"IF($AX37<>\"\",ROUND($AX37,2),\"\")","v":""},{"$nulls":4},{"$f":"IF($AY37<>\"\",ROUND($AY37,2),\"\")","v":""},{"$nulls":4},{"$f":"IF($AZ37<>\"\",ROUND($AZ37,2),\"\")","v":""},{"$nulls":15},{"$f":"IF($BB37<>\"\",ROUND($BB37,3),\"\")","v":""},{"$nulls":4},{"$f":"IF($BC37<>\"\",ROUND($BC37,3),\"\")","v":""},{"$nulls":4},{"$f":"IF($BD37<>\"\",ROUND($BD37,3),\"\")","v":""},{"$nulls":15},{"$f":"IF($BF37<>\"\",ROUND($BF37,3),\"\")","v":""},{"$nulls":4},{"$f":"IF($BG37<>\"\",ROUND($BG37,3),\"\")","v":""},{"$nulls":4},{"$f":"IF($BH37<>\"\",ROUND($BH37,3),\"\")","v":""},{"$nulls":15},{"$f":"IF($BJ37<>\"\",ROUND($BJ37,2),\"\")","v":""},{"$nulls":4},{"$f":"IF($BK37<>\"\",ROUND($BK37,2),\"\")","v":""},{"$nulls":4},{"$f":"IF($BL37<>\"\",ROUND($BL37,2),\"\")","v":""},{"$nulls":6},{"$f":"IF($AG$12<>\"CAT3\",IF(AND($B37=\"Y\",$S37<>\"\",$W37<>\"\",$AA37<>\"\",$AE37<>\"\"),1,0),IF($AE37<>\"\",1,0))","v":0},{"$f":"SUM($FL$36:$FL37)","v":0},{"$f":"IF($AG$12<>\"CAT3\",IF($FL37=1,IF(OR($S37>$R$16,$W37>$V$16,$AA37>$Z$16,IF($AF$12<>\"Y\",OR($AA37>$Z$16,$AE37>$AD$16),ROUND(($AA37+$AE37),2)>$Z$16)),1,0),0),IF($FL37=1,IF(AND($AE37>$AD$16,$AF$12=\"N\"),1,0),0))","v":0},null,null,{"$f":"MAX($FQ$36,$FL$10)","v":1}]
[{"$f":"A37+1","v":3},{"$nulls":4},"N/A",{"$nulls":10},"","","",null,"","","",null,"","","",null,"","","",{"$nulls":5},"","","","","","","","",null,0,{"$nulls":3},"","","",null,"","","",null,"","","",null,"","","",{"$nulls":8},"",{"$nulls":4},"",{"$nulls":4},"",{"$nulls":15},"",{"$nulls":4},"",{"$nulls":4},"",{"$nulls":15},"",{"$nulls":4},"",{"$nulls":4},"",{"$nulls":15},"",{"$nulls":4},"",{"$nulls":4},"",{"$nulls":6},0,{"$f":"SUM($FL$36:$FL38)","v":0},0]
[4,{"$nulls":4},"N/A",{"$nulls":10},"","","",null,"","","",null,"","","",null,"","","",{"$nulls":5},"","","","","","","","",null,0,{"$nulls":3},"","","",null,"","","",null,"","","",null,"","","",{"$nulls":8},"",{"$nulls":4},"",{"$nulls":4},"",{"$nulls":15},"",{"$nulls":4},"",{"$nulls":4},"",{"$nulls":15},"",{"$nulls":4},"",{"$nulls":4},"",{"$nulls":15},"",{"$nulls":4},"",{"$nulls":4},"",{"$nulls":6},0,{"$f":"SUM($FL$36:$FL39)","v":0},0,null,null,"then, the larger of that sample size or 1  (or if Part 94 and cat1,  can be 0)"]
[5,{"$nulls":4},"N/A",{"$nulls":10},"","","",null,"","","",null,"","","",null,"","","",{"$nulls":5},"","","","","","","","",null,0,{"$nulls":3},"","","",null,"","","",null,"","","",null,"","","",{"$nulls":8},"",{"$nulls":4},"",{"$nulls":4},"",{"$nulls":15},"",{"$nulls":4},"",{"$nulls":4},"",{"$nulls":15},"",{"$nulls":4},"",{"$nulls":4},"",{"$nulls":15},"",{"$nulls":4},"",{"$nulls":4},"",{"$nulls":6},0,{"$f":"SUM($FL$36:$FL40)","v":0},0]
[6,{"$nulls":4},"N/A",{"$nulls":10},"","","",null,"","","",null,"","","",null,"","","",{"$nulls":5},"","","","","","","","",null,0,{"$nulls":3},"","","",null,"","","",null,"","","",null,"","","",{"$nulls":8},"",{"$nulls":4},"",{"$nulls":4},"",{"$nulls":15},"",{"$nulls":4},"",{"$nulls":4},"",{"$nulls":15},"",{"$nulls":4},"",{"$nulls":4},"",{"$nulls":15},"",{"$nulls":4},"",{"$nulls":4},"",{"$nulls":6},0,{"$f":"SUM($FL$36:$FL41)","v":0},0]
[7,{"$nulls":4},"N/A",{"$nulls":10},"","","",null,"","","",null,"","","",null,"","","",{"$nulls":5},"","","","","","","","",null,0,{"$nulls":3},"","","",null,"","","",null,"","","",null,"","","",{"$nulls":8},"",{"$nulls":4},"",{"$nulls":4},"",{"$nulls":15},"",{"$nulls":4},"",{"$nulls":4},"",{"$nulls":15},"",{"$nulls":4},"",{"$nulls":4},"",{"$nulls":15},"",{"$nulls":4},"",{"$nulls":4},"",{"$nulls":6},0,{"$f":"SUM($FL$36:$FL42)","v":0},0]
[8,{"$nulls":4},"N/A",{"$nulls":10},"","","",null,"","","",null,"","","",null,"","","",{"$nulls":5},"","","","","","","","",null,0,{"$nulls":3},"","","",null,"","","",null,"","","",null,"","","",{"$nulls":8},"",{"$nulls":4},"",{"$nulls":4},"",{"$nulls":15},"",{"$nulls":4},"",{"$nulls":4},"",{"$nulls":15},"",{"$nulls":4},"",{"$nulls":4},"",{"$nulls":15},"",{"$nulls":4},"",{"$nulls":4},"",{"$nulls":6},0,{"$f":"SUM($FL$36:$FL43)","v":0},0]
[9,{"$nulls":4},"N/A",{"$nulls":10},"","","",null,"","","",null,"","","",null,"","","",{"$nulls":5},"","","","","","","","",null,0,{"$nulls":3},"","","",null,"","","",null,"","","",null,"","","",{"$nulls":8},"",{"$nulls":4},"",{"$nulls":4},"",{"$nulls":15},"",{"$nulls":4},"",{"$nulls":4},"",{"$nulls":15},"",{"$nulls":4},"",{"$nulls":4},"",{"$nulls":15},"",{"$nulls":4},"",{"$nulls":4},"",{"$nulls":6},0,{"$f":"SUM($FL$36:$FL44)","v":0},0]
[10,{"$nulls":4},"N/A",{"$nulls":10},"","","",null,"","","",null,"","","",null,"","","",{"$nulls":5},"","","","","","","","",null,0,{"$nulls":3},"","","",null,"","","",null,"","","",null,"","","",{"$nulls":8},"",{"$nulls":4},"",{"$nulls":4},"",{"$nulls":15},"",{"$nulls":4},"",{"$nulls":4},"",{"$nulls":15},"",{"$nulls":4},"",{"$nulls":4},"",{"$nulls":15},"",{"$nulls":4},"",{"$nulls":4},"",{"$nulls":6},0,{"$f":"SUM($FL$36:$FL45)","v":0},0]
[11,{"$nulls":4},"N/A",{"$nulls":10},"","","",null,"","","",null,"","","",null,"","","",{"$nulls":5},"","","","","","","","",null,0,{"$nulls":3},"","","",null,"","","",null,"","","",null,"","","",{"$nulls":8},"",{"$nulls":4},"",{"$nulls":4},"",{"$nulls":15},"",{"$nulls":4},"",{"$nulls":4},"",{"$nulls":15},"",{"$nulls":4},"",{"$nulls":4},"",{"$nulls":15},"",{"$nulls":4},"",{"$nulls":4},"",{"$nulls":6},0,{"$f":"SUM($FL$36:$FL46)","v":0},0]
[12,{"$nulls":4},"N/A",{"$nulls":10},"","","",null,"","","",null,"","","",null,"","","",{"$nulls":5},"","","","","","","","",null,0,{"$nulls":3},"","","",null,"","","",null,"","","",null,"","","",{"$nulls":8},"",{"$nulls":4},"",{"$nulls":4},"",{"$nulls":15},"",{"$nulls":4},"",{"$nulls":4},"",{"$nulls":15},"",{"$nulls":4},"",{"$nulls":4},"",{"$nulls":15},"",{"$nulls":4},"",{"$nulls":4},"",{"$nulls":6},0,{"$f":"SUM($FL$36:$FL47)","v":0},0]
[13,{"$nulls":4},"N/A",{"$nulls":10},"","","",null,"","","",null,"","","",null,"","","",{"$nulls":5},"","","","","","","","",null,0,{"$nulls":3},"","","",null,"","","",null,"","","",null,"","","",{"$nulls":8},"",{"$nulls":4},"",{"$nulls":4},"",{"$nulls":15},"",{"$nulls":4},"",{"$nulls":4},"",{"$nulls":15},"",{"$nulls":4},"",{"$nulls":4},"",{"$nulls":15},"",{"$nulls":4},"",{"$nulls":4},"",{"$nulls":6},0,{"$f":"SUM($FL$36:$FL48)","v":0},0]
[14,{"$nulls":4},"N/A",{"$nulls":10},"","","",null,"","","",null,"","","",null,"","","",{"$nulls":5},"","","","","","","","",null,0,{"$nulls":3},"","","",null,"","","",null,"","","",null,"","","",{"$nulls":8},"",{"$nulls":4},"",{"$nulls":4},"",{"$nulls":15},"",{"$nulls":4},"",{"$nulls":4},"",{"$nulls":15},"",{"$nulls":4},"",{"$nulls":4},"",{"$nulls":15},"",{"$nulls":4},"",{"$nulls":4},"",{"$nulls":6},0,{"$f":"SUM($FL$36:$FL49)","v":0},0]
[15,{"$nulls":4},"N/A",{"$nulls":10},"","","",null,"","","",null,"","","",null,"","","",{"$nulls":5},"","","","","","","","",null,0,{"$nulls":3},"","","",null,"","","",null,"","","",null,"","","",{"$nulls":8},"",{"$nulls":4},"",{"$nulls":4},"",{"$nulls":15},"",{"$nulls":4},"",{"$nulls":4},"",{"$nulls":15},"",{"$nulls":4},"",{"$nulls":4},"",{"$nulls":15},"",{"$nulls":4},"",{"$nulls":4},"",{"$nulls":6},0,{"$f":"SUM($FL$36:$FL50)","v":0},0]
[16,{"$nulls":4},"N/A",{"$nulls":10},"","","",null,"","","",null,"","","",null,"","","",{"$nulls":5},"","","","","","","","",null,0,{"$nulls":3},"","","",null,"","","",null,"","","",null,"","","",{"$nulls":8},"",{"$nulls":4},"",{"$nulls":4},"",{"$nulls":15},"",{"$nulls":4},"",{"$nulls":4},"",{"$nulls":15},"",{"$nulls":4},"",{"$nulls":4},"",{"$nulls":15},"",{"$nulls":4},"",{"$nulls":4},"",{"$nulls":6},0,{"$f":"SUM($FL$36:$FL51)","v":0},0]
[17,{"$nulls":4},"N/A",{"$nulls":10},"","","",null,"","","",null,"","","",null,"","","",{"$nulls":5},"","","","","","","","",null,0,{"$nulls":3},"","","",null,"","","",null,"","","",null,"","","",{"$nulls":8},"",{"$nulls":4},"",{"$nulls":4},"",{"$nulls":15},"",{"$nulls":4},"",{"$nulls":4},"",{"$nulls":15},"",{"$nulls":4},"",{"$nulls":4},"",{"$nulls":15},"",{"$nulls":4},"",{"$nulls":4},"",{"$nulls":6},0,{"$f":"SUM($FL$36:$FL52)","v":0},0]
[18,{"$nulls":4},"N/A",{"$nulls":10},"","","",null,"","","",null,"","","",null,"","","",{"$nulls":5},"","","","","","","","",null,0,{"$nulls":3},"","","",null,"","","",null,"","","",null,"","","",{"$nulls":8},"",{"$nulls":4},"",{"$nulls":4},"",{"$nulls":15},"",{"$nulls":4},"",{"$nulls":4},"",{"$nulls":15},"",{"$nulls":4},"",{"$nulls":4},"",{"$nulls":15},"",{"$nulls":4},"",{"$nulls":4},"",{"$nulls":6},0,{"$f":"SUM($FL$36:$FL53)","v":0},0]
[19,{"$nulls":4},"N/A",{"$nulls":10},"","","",null,"","","",null,"","","",null,"","","",{"$nulls":5},"","","","","","","","",null,0,{"$nulls":3},"","","",null,"","","",null,"","","",null,"","","",{"$nulls":8},"",{"$nulls":4},"",{"$nulls":4},"",{"$nulls":15},"",{"$nulls":4},"",{"$nulls":4},"",{"$nulls":15},"",{"$nulls":4},"",{"$nulls":4},"",{"$nulls":15},"",{"$nulls":4},"",{"$nulls":4},"",{"$nulls":6},0,{"$f":"SUM($FL$36:$FL54)","v":0},0]
[20,{"$nulls":4},"N/A",{"$nulls":10},"","","",null,"","","",null,"","","",null,"","","",{"$nulls":5},"","","","","","","","",null,0,{"$nulls":3},"","","",null,"","","",null,"","","",null,"","","",{"$nulls":8},"",{"$nulls":4},"",{"$nulls":4},"",{"$nulls":15},"",{"$nulls":4},"",{"$nulls":4},"",{"$nulls":15},"",{"$nulls":4},"",{"$nulls":4},"",{"$nulls":15},"",{"$nulls":4},"",{"$nulls":4},"",{"$nulls":6},0,{"$f":"SUM($FL$36:$FL55)","v":0},0]
[21,{"$nulls":4},"N/A",{"$nulls":10},"","","",null,"","","",null,"","","",null,"","","",{"$nulls":5},"","","","","","","","",null,0,{"$nulls":3},"","","",null,"","","",null,"","","",null,"","","",{"$nulls":8},"",{"$nulls":4},"",{"$nulls":4},"",{"$nulls":15},"",{"$nulls":4},"",{"$nulls":4},"",{"$nulls":15},"",{"$nulls":4},"",{"$nulls":4},"",{"$nulls":15},"",{"$nulls":4},"",{"$nulls":4},"",{"$nulls":6},0,{"$f":"SUM($FL$36:$FL56)","v":0},0]
[22,{"$nulls":4},"N/A",{"$nulls":10},"","","",null,"","","",null,"","","",null,"","","",{"$nulls":5},"","","","","","","","",null,0,{"$nulls":3},"","","",null,"","","",null,"","","",null,"","","",{"$nulls":8},"",{"$nulls":4},"",{"$nulls":4},"",{"$nulls":15},"",{"$nulls":4},"",{"$nulls":4},"",{"$nulls":15},"",{"$nulls":4},"",{"$nulls":4},"",{"$nulls":15},"",{"$nulls":4},"",{"$nulls":4},"",{"$nulls":6},0,{"$f":"SUM($FL$36:$FL57)","v":0},0]
[23,{"$nulls":4},"N/A",{"$nulls":10},"","","",null,"","","",null,"","","",null,"","","",{"$nulls":5},"","","","","","","","",null,0,{"$nulls":3},"","","",null,"","","",null,"","","",null,"","","",{"$nulls":8},"",{"$nulls":4},"",{"$nulls":4},"",{"$nulls":15},"",{"$nulls":4},"",{"$nulls":4},"",{"$nulls":15},"",{"$nulls":4},"",{"$nulls":4},"",{"$nulls":15},"",{"$nulls":4},"",{"$nulls":4},"",{"$nulls":6},0,{"$f":"SUM($FL$36:$FL58)","v":0},0]
[24,{"$nulls":4},"N/A",{"$nulls":10},"","","",null,"","","",null,"","","",null,"","","",{"$nulls":5},"","","","","","","","",null,0,{"$nulls":3},"","","",null,"","","",null,"","","",null,"","","",{"$nulls":8},"",{"$nulls":4},"",{"$nulls":4},"",{"$nulls":15},"",{"$nulls":4},"",{"$nulls":4},"",{"$nulls":15},"",{"$nulls":4},"",{"$nulls":4},"",{"$nulls":15},"",{"$nulls":4},"",{"$nulls":4},"",{"$nulls":6},0,{"$f":"SUM($FL$36:$FL59)","v":0},0]
[25,{"$nulls":4},"N/A",{"$nulls":10},"","","",null,"","","",null,"","","",null,"","","",{"$nulls":5},"","","","","","","","",null,0,{"$nulls":3},"","","",null,"","","",null,"","","",null,"","","",{"$nulls":8},"",{"$nulls":4},"",{"$nulls":4},"",{"$nulls":15},"",{"$nulls":4},"",{"$nulls":4},"",{"$nulls":15},"",{"$nulls":4},"",{"$nulls":4},"",{"$nulls":15},"",{"$nulls":4},"",{"$nulls":4},"",{"$nulls":6},0,{"$f":"SUM($FL$36:$FL60)","v":0},0]
[26,{"$nulls":4},"N/A",{"$nulls":10},"","","",null,"","","",null,"","","",null,"","","",{"$nulls":5},"","","","","","","","",null,0,{"$nulls":3},"","","",null,"","","",null,"","","",null,"","","",{"$nulls":8},"",{"$nulls":4},"",{"$nulls":4},"",{"$nulls":15},"",{"$nulls":4},"",{"$nulls":4},"",{"$nulls":15},"",{"$nulls":4},"",{"$nulls":4},"",{"$nulls":15},"",{"$nulls":4},"",{"$nulls":4},"",{"$nulls":6},0,{"$f":"SUM($FL$36:$FL61)","v":0},0]
[27,{"$nulls":4},"N/A",{"$nulls":10},"","","",null,"","","",null,"","","",null,"","","",{"$nulls":5},"","","","","","","","",null,0,{"$nulls":3},"","","",null,"","","",null,"","","",null,"","","",{"$nulls":8},"",{"$nulls":4},"",{"$nulls":4},"",{"$nulls":15},"",{"$nulls":4},"",{"$nulls":4},"",{"$nulls":15},"",{"$nulls":4},"",{"$nulls":4},"",{"$nulls":15},"",{"$nulls":4},"",{"$nulls":4},"",{"$nulls":6},0,{"$f":"SUM($FL$36:$FL62)","v":0},0]
[28,{"$nulls":4},"N/A",{"$nulls":10},"","","",null,"","","",null,"","","",null,"","","",{"$nulls":5},"","","","","","","","",null,0,{"$nulls":3},"","","",null,"","","",null,"","","",null,"","","",{"$nulls":8},"",{"$nulls":4},"",{"$nulls":4},"",{"$nulls":15},"",{"$nulls":4},"",{"$nulls":4},"",{"$nulls":15},"",{"$nulls":4},"",{"$nulls":4},"",{"$nulls":15},"",{"$nulls":4},"",{"$nulls":4},"",{"$nulls":6},0,{"$f":"SUM($FL$36:$FL63)","v":0},0]
[29,{"$nulls":4},"N/A",{"$nulls":10},"","","",null,"","","",null,"","","",null,"","","",{"$nulls":5},"","","","","","","","",null,0,{"$nulls":3},"","","",null,"","","",null,"","","",null,"","","",{"$nulls":8},"",{"$nulls":4},"",{"$nulls":4},"",{"$nulls":15},"",{"$nulls":4},"",{"$nulls":4},"",{"$nulls":15},"",{"$nulls":4},"",{"$nulls":4},"",{"$nulls":15},"",{"$nulls":4},"",{"$nulls":4},"",{"$nulls":6},0,{"$f":"SUM($FL$36:$FL64)","v":0},0]
[30,{"$nulls":4},"N/A",{"$nulls":10},"","","",null,"","","",null,"","","",null,"","","",{"$nulls":5},"","","","","","","","",null,0,{"$nulls":3},"","","",null,"","","",null,"","","",null,"","","",{"$nulls":8},"",{"$nulls":4},"",{"$nulls":4},"",{"$nulls":15},"",{"$nulls":4},"",{"$nulls":4},"",{"$nulls":15},"",{"$nulls":4},"",{"$nulls":4},"",{"$nulls":15},"",{"$nulls":4},"",{"$nulls":4},"",{"$nulls":6},0,{"$f":"SUM($FL$36:$FL65)","v":0},0]
[31,{"$nulls":4},"N/A",{"$nulls":10},"","","",null,"","","",null,"","","",null,"","","",{"$nulls":5},"","","","","","","","",null,0,{"$nulls":3},"","","",null,"","","",null,"","","",null,"","","",{"$nulls":8},"",{"$nulls":4},"",{"$nulls":4},"",{"$nulls":15},"",{"$nulls":4},"",{"$nulls":4},"",{"$nulls":15},"",{"$nulls":4},"",{"$nulls":4},"",{"$nulls":15},"",{"$nulls":4},"",{"$nulls":4},"",{"$nulls":6},0,{"$f":"SUM($FL$36:$FL66)","v":0},0]
[32,{"$nulls":4},"N/A",{"$nulls":10},"","","",null,"","","",null,"","","",null,"","","",{"$nulls":5},"","","","","","","","",null,0,{"$nulls":3},"","","",null,"","","",null,"","","",null,"","","",{"$nulls":8},"",{"$nulls":4},"",{"$nulls":4},"",{"$nulls":15},"",{"$nulls":4},"",{"$nulls":4},"",{"$nulls":15},"",{"$nulls":4},"",{"$nulls":4},"",{"$nulls":15},"",{"$nulls":4},"",{"$nulls":4},"",{"$nulls":6},0,{"$f":"SUM($FL$36:$FL67)","v":0},0]
[33,{"$nulls":4},"N/A",{"$nulls":10},"","","",null,"","","",null,"","","",null,"","","",{"$nulls":5},"","","","","","","","",null,0,{"$nulls":3},"","","",null,"","","",null,"","","",null,"","","",{"$nulls":8},"",{"$nulls":4},"",{"$nulls":4},"",{"$nulls":15},"",{"$nulls":4},"",{"$nulls":4},"",{"$nulls":15},"",{"$nulls":4},"",{"$nulls":4},"",{"$nulls":15},"",{"$nulls":4},"",{"$nulls":4},"",{"$nulls":6},0,{"$f":"SUM($FL$36:$FL68)","v":0},0]
[34,{"$nulls":4},"N/A",{"$nulls":10},"","","",null,"","","",null,"","","",null,"","","",{"$nulls":5},"","","","","","","","",null,0,{"$nulls":3},"","","",null,"","","",null,"","","",null,"","","",{"$nulls":8},"",{"$nulls":4},"",{"$nulls":4},"",{"$nulls":15},"",{"$nulls":4},"",{"$nulls":4},"",{"$nulls":15},"",{"$nulls":4},"",{"$nulls":4},"",{"$nulls":15},"",{"$nulls":4},"",{"$nulls":4},"",{"$nulls":6},0,{"$f":"SUM($FL$36:$FL69)","v":0},0]
[35,{"$nulls":4},"N/A",{"$nulls":10},"","","",null,"","","",null,"","","",null,"","","",{"$nulls":5},"","","","","","","","",null,0,{"$nulls":3},"","","",null,"","","",null,"","","",null,"","","",{"$nulls":8},"",{"$nulls":4},"",{"$nulls":4},"",{"$nulls":15},"",{"$nulls":4},"",{"$nulls":4},"",{"$nulls":15},"",{"$nulls":4},"",{"$nulls":4},"",{"$nulls":15},"",{"$nulls":4},"",{"$nulls":4},"",{"$nulls":6},0,{"$f":"SUM($FL$36:$FL70)","v":0},0]
[36,{"$nulls":4},"N/A",{"$nulls":10},"","","",null,"","","",null,"","","",null,"","","",{"$nulls":5},"","","","","","","","",null,0,{"$nulls":3},"","","",null,"","","",null,"","","",null,"","","",{"$nulls":8},"",{"$nulls":4},"",{"$nulls":4},"",{"$nulls":15},"",{"$nulls":4},"",{"$nulls":4},"",{"$nulls":15},"",{"$nulls":4},"",{"$nulls":4},"",{"$nulls":15},"",{"$nulls":4},"",{"$nulls":4},"",{"$nulls":6},0,{"$f":"SUM($FL$36:$FL71)","v":0},0]
[37,{"$nulls":4},"N/A",{"$nulls":10},"","","",null,"","","",null,"","","",null,"","","",{"$nulls":5},"","","","","","","","",null,0,{"$nulls":3},"","","",null,"","","",null,"","","",null,"","","",{"$nulls":8},"",{"$nulls":4},"",{"$nulls":4},"",{"$nulls":15},"",{"$nulls":4},"",{"$nulls":4},"",{"$nulls":15},"",{"$nulls":4},"",{"$nulls":4},"",{"$nulls":15},"",{"$nulls":4},"",{"$nulls":4},"",{"$nulls":6},0,{"$f":"SUM($FL$36:$FL72)","v":0},0]
[38,{"$nulls":4},"N/A",{"$nulls":10},"","","",null,"","","",null,"","","",null,"","","",{"$nulls":5},"","","","","","","","",null,0,{"$nulls":3},"","","",null,"","","",null,"","","",null,"","","",{"$nulls":8},"",{"$nulls":4},"",{"$nulls":4},"",{"$nulls":15},"",{"$nulls":4},"",{"$nulls":4},"",{"$nulls":15},"",{"$nulls":4},"",{"$nulls":4},"",{"$nulls":15},"",{"$nulls":4},"",{"$nulls":4},"",{"$nulls":6},0,{"$f":"SUM($FL$36:$FL73)","v":0},0]
[39,{"$nulls":4},"N/A",{"$nulls":10},"","","",null,"","","",null,"","","",null,"","","",{"$nulls":5},"","","","","","","","",null,0,{"$nulls":3},"","","",null,"","","",null,"","","",null,"","","",{"$nulls":8},"",{"$nulls":4},"",{"$nulls":4},"",{"$nulls":15},"",{"$nulls":4},"",{"$nulls":4},"",{"$nulls":15},"",{"$nulls":4},"",{"$nulls":4},"",{"$nulls":15},"",{"$nulls":4},"",{"$nulls":4},"",{"$nulls":6},0,{"$f":"SUM($FL$36:$FL74)","v":0},0]
[40,{"$nulls":4},"N/A",{"$nulls":10},"","","",null,"","","",null,"","","",null,"","","",{"$nulls":5},"","","","","","","","",null,0,{"$nulls":3},"","","",null,"","","",null,"","","",null,"","","",{"$nulls":8},"",{"$nulls":4},"",{"$nulls":4},"",{"$nulls":15},"",{"$nulls":4},"",{"$nulls":4},"",{"$nulls":15},"",{"$nulls":4},"",{"$nulls":4},"",{"$nulls":15},"",{"$nulls":4},"",{"$nulls":4},"",{"$nulls":6},0,{"$f":"SUM($FL$36:$FL75)","v":0},0]
[41,{"$nulls":4},"N/A",{"$nulls":10},"","","",null,"","","",null,"","","",null,"","","",{"$nulls":5},"","","","","","","","",null,0,{"$nulls":3},"","","",null,"","","",null,"","","",null,"","","",{"$nulls":8},"",{"$nulls":4},"",{"$nulls":4},"",{"$nulls":15},"",{"$nulls":4},"",{"$nulls":4},"",{"$nulls":15},"",{"$nulls":4},"",{"$nulls":4},"",{"$nulls":15},"",{"$nulls":4},"",{"$nulls":4},"",{"$nulls":6},0,{"$f":"SUM($FL$36:$FL76)","v":0},0]
[42,{"$nulls":4},"N/A",{"$nulls":10},"","","",null,"","","",null,"","","",null,"","","",{"$nulls":5},"","","","","","","","",null,0,{"$nulls":3},"","","",null,"","","",null,"","","",null,"","","",{"$nulls":8},"",{"$nulls":4},"",{"$nulls":4},"",{"$nulls":15},"",{"$nulls":4},"",{"$nulls":4},"",{"$nulls":15},"",{"$nulls":4},"",{"$nulls":4},"",{"$nulls":15},"",{"$nulls":4},"",{"$nulls":4},"",{"$nulls":6},0,{"$f":"SUM($FL$36:$FL77)","v":0},0]
[43,{"$nulls":4},"N/A",{"$nulls":10},"","","",null,"","","",null,"","","",null,"","","",{"$nulls":5},"","","","","","","","",null,0,{"$nulls":3},"","","",null,"","","",null,"","","",null,"","","",{"$nulls":8},"",{"$nulls":4},"",{"$nulls":4},"",{"$nulls":15},"",{"$nulls":4},"",{"$nulls":4},"",{"$nulls":15},"",{"$nulls":4},"",{"$nulls":4},"",{"$nulls":15},"",{"$nulls":4},"",{"$nulls":4},"",{"$nulls":6},0,{"$f":"SUM($FL$36:$FL78)","v":0},0]
[44,{"$nulls":4},"N/A",{"$nulls":10},"","","",null,"","","",null,"","","",null,"","","",{"$nulls":5},"","","","","","","","",null,0,{"$nulls":3},"","","",null,"","","",null,"","","",null,"","","",{"$nulls":8},"",{"$nulls":4},"",{"$nulls":4},"",{"$nulls":15},"",{"$nulls":4},"",{"$nulls":4},"",{"$nulls":15},"",{"$nulls":4},"",{"$nulls":4},"",{"$nulls":15},"",{"$nulls":4},"",{"$nulls":4},"",{"$nulls":6},0,{"$f":"SUM($FL$36:$FL79)","v":0},0]
[45,{"$nulls":4},"N/A",{"$nulls":10},"","","",null,"","","",null,"","","",null,"","","",{"$nulls":5},"","","","","","","","",null,0,{"$nulls":3},"","","",null,"","","",null,"","","",null,"","","",{"$nulls":8},"",{"$nulls":4},"",{"$nulls":4},"",{"$nulls":15},"",{"$nulls":4},"",{"$nulls":4},"",{"$nulls":15},"",{"$nulls":4},"",{"$nulls":4},"",{"$nulls":15},"",{"$nulls":4},"",{"$nulls":4},"",{"$nulls":6},0,{"$f":"SUM($FL$36:$FL80)","v":0},0]
[46,{"$nulls":4},"N/A",{"$nulls":10},"","","",null,"","","",null,"","","",null,"","","",{"$nulls":5},"","","","","","","","",null,0,{"$nulls":3},"","","",null,"","","",null,"","","",null,"","","",{"$nulls":8},"",{"$nulls":4},"",{"$nulls":4},"",{"$nulls":15},"",{"$nulls":4},"",{"$nulls":4},"",{"$nulls":15},"",{"$nulls":4},"",{"$nulls":4},"",{"$nulls":15},"",{"$nulls":4},"",{"$nulls":4},"",{"$nulls":6},0,{"$f":"SUM($FL$36:$FL81)","v":0},0]
[47,{"$nulls":4},"N/A",{"$nulls":10},"","","",null,"","","",null,"","","",null,"","","",{"$nulls":5},"","","","","","","","",null,0,{"$nulls":3},"","","",null,"","","",null,"","","",null,"","","",{"$nulls":8},"",{"$nulls":4},"",{"$nulls":4},"",{"$nulls":15},"",{"$nulls":4},"",{"$nulls":4},"",{"$nulls":15},"",{"$nulls":4},"",{"$nulls":4},"",{"$nulls":15},"",{"$nulls":4},"",{"$nulls":4},"",{"$nulls":6},0,{"$f":"SUM($FL$36:$FL82)","v":0},0]
[48,{"$nulls":4},"N/A",{"$nulls":10},"","","",null,"","","",null,"","","",null,"","","",{"$nulls":5},"","","","","","","","",null,0,{"$nulls":3},"","","",null,"","","",null,"","","",null,"","","",{"$nulls":8},"",{"$nulls":4},"",{"$nulls":4},"",{"$nulls":15},"",{"$nulls":4},"",{"$nulls":4},"",{"$nulls":15},"",{"$nulls":4},"",{"$nulls":4},"",{"$nulls":15},"",{"$nulls":4},"",{"$nulls":4},"",{"$nulls":6},0,{"$f":"SUM($FL$36:$FL83)","v":0},0]
[49,{"$nulls":4},"N/A",{"$nulls":10},"","","",null,"","","",null,"","","",null,"","","",{"$nulls":5},"","","","","","","","",null,0,{"$nulls":3},"","","",null,"","","",null,"","","",null,"","","",{"$nulls":8},"",{"$nulls":4},"",{"$nulls":4},"",{"$nulls":15},"",{"$nulls":4},"",{"$nulls":4},"",{"$nulls":15},"",{"$nulls":4},"",{"$nulls":4},"",{"$nulls":15},"",{"$nulls":4},"",{"$nulls":4},"",{"$nulls":6},0,{"$f":"SUM($FL$36:$FL84)","v":0},0]
[50,{"$nulls":4},"N/A",{"$nulls":10},"","","",null,"","","",null,"","","",null,"","","",{"$nulls":5},"","","","","","","","",null,0,{"$nulls":3},"","","",null,"","","",null,"","","",null,"",{"$f":"IF($B85=\"Y\",IF(AND($AC85<>\"\",$AQ84<>\"\",$AR84<>\"\"),($AC85+$AQ84)/($AR84+1),\"\"),\"\")","v":""},"",{"$nulls":8},"",{"$nulls":4},"",{"$nulls":4},"",{"$nulls":15},"",{"$nulls":4},"",{"$nulls":4},"",{"$nulls":15},"",{"$nulls":4},"",{"$nulls":4},"",{"$nulls":15},"",{"$nulls":4},"",{"$nulls":4},"",{"$nulls":6},0,{"$f":"SUM($FL$36:$FL85)","v":0},0]
[null,null,{"$f":"SUM(C36:C85)","v":0}]
["g/bhp-hr"]
["g/kW-hr"]

{"sheet":"Engine Family #27","index":29,"n_rows":88,"n_cols":176,"rows_kept":88,"merged":[[1,0,1,35],[2,0,2,35],[3,0,3,35],[4,0,4,35],[5,0,5,35],[6,0,6,35],[8,0,8,16],[10,4,10,6],[10,12,10,13],[11,4,11,6],[11,15,11,16],[11,19,11,20],[11,23,11,24],[11,27,11,28],[12,4,12,6],[13,4,13,6],[14,4,15,6],[17,14,22,14],[27,4,30,13],[27,15,28,16],[32,0,32,16],[32,17,32,33],[32,34,32,35],[33,45,34,45]]}
[]
["United States"]
["US Environmental Protection Agency"]
["Office of Air and Radiation, Office of Transportation and Air Quality"]
[{"$nulls":37},"Tier 2","Y",94]
["Manufacturer Production Line Testing Report for Marine Compression Ignition Engines",{"$nulls":36},"Tier 3","N",1042]
[{"$f":"Summary!B7","v":"Version Number: 1.4 DRAFT  Last Revision: September 2023"},{"$nulls":36},"Tier 4",null,"N/A"]
[]
["Basic Information: Engine Family #27"]
[{"$nulls":167},{"$f":"IF(AND($G$24=94,Summary!$L$13=\"Category 1\"),0,1)","v":1}]
[null,null,"Manufacturer:",null,{"$f":"IF(Summary!D12<>\"\",Summary!D12,\"\")","v":""},{"$nulls":3},"Engine Family:",{"$nulls":31},{"$f":"IF($G$19=\"Diesel\",\"'HC' refers to 'THC' \",IF($G$19=\"Natural Gas\",\"'HC' refers to 'NMHC' \",IF($G$19=\"Alcohol\",\"'HC' refers to 'THCE' \",\"\")))","v":""}]
[null,null,"PLT Test Contact:",null,{"$f":"IF(Summary!D13<>\"\",Summary!D13,\"\")","v":""},{"$nulls":3},"Production (Category 3 only):",{"$nulls":6},{"$f":"IF(N16<>\"Y\", \"Current CO Result\", \"Final CO Result\")","v":"Current CO Result"},null,{"$f":"$CJ$36","v":""},null,{"$f":"IF(N16<>\"Y\", \"Current PM Result\", \"Final PM Result\")","v":"Current PM Result"},null,{"$f":"$DJ$36","v":""},null,{"$f":"IF($AF$12=\"Y\",IF(N16<>\"Y\", \"Current NOx+HC Result\", \"Final NOx+HC Result\"),IF(N16<>\"Y\", \"Current HC Result\", \"Final HC Result\"))","v":"Current HC Result"},null,{"$f":"IF($AF$12=\"Y\",IF($FP$36>0,ROUND($EJ$36+$FJ$36,2),\"\"),$EJ$36)","v":""},null,{"$f":"IF(N16<>\"Y\", \"Current NOx Result\",\"Final NOx Result\")","v":"Current NOx Result"},null,{"$f":"$FJ$36","v":""},null,{"$f":"IF($L$13<>\"Category 3\",IF($G$23=\"\",\"N\",$G$23),\"N\")","v":"N"},{"$f":"IF(Summary!$L$13=\"Category 3\",\"CAT3\",\"\")","v":""}]
[null,null,"Email Address:",null,{"$f":"IF(Summary!D14<>\"\",Summary!D14,\"\")","v":""},{"$nulls":3},"Date of Start of Model Year Production:"]
[null,null,"Phone #:",null,{"$f":"IF(Summary!D15<>\"\",Summary!D15,\"\")","v":""},{"$nulls":3},"Date of End of Model Year Production:",{"$nulls":14},{"$f":"IF($G$19=\"Diesel\",\"'HC' refers to 'THC' \",IF($G$19=\"Natural Gas\",\"'HC' refers to 'NMHC' \",IF($G$19=\"Alcohol\",\"'HC' refers to 'THCE' \",\"\")))","v":""},{"$nulls":13},"Diesel",1,{"$nulls":6},1]
[null,null,"Test Location & Description:",{"$nulls":5},"Deterioration Factor Type:",{"$nulls":28},"Natural Gas",2,{"$nulls":6},2]
[{"$nulls":8},"Include Results from this Engine Family on Summary Sheet?",{"$nulls":6},"CO Standard ",{"$nulls":3},"PM Standard or FEL",{"$nulls":3},{"$f":"IF($AF$12=\"Y\",\"NOx+HC Standard or FEL\",\"HC Standard\")","v":"HC Standard"},{"$nulls":3},"NOx Standard or FEL",{"$nulls":9},"Alcohol",3,{"$nulls":6},3]
[null,null,"Carryover?:",{"$nulls":5},"Required Tests (including failure follow-ups)",{"$nulls":4},{"$f":"$FO36","v":0},null,"Units",null,"g/kW-hr",null,"Units",null,"g/kW-hr",null,"Units",null,"g/kW-hr",null,"Units",null,"g/kW-hr",{"$nulls":4},"Test Cycle Options",{"$nulls":10},4]
[null,null,{"$f":"IF($G$17=\"Y\",\"Please submit supporting documentation indicating that this is a carry-over engine family\",\"\")","v":""},{"$nulls":5},"Instead of testing, are PLT requirements for this Engine Family",{"$nulls":6},"CO  Det Factor",{"$nulls":3},"PM  Det Factor",{"$nulls":3},"HC Det Factor",{"$nulls":3},"NOx  Det Factor",{"$nulls":6},"1 = 4-Mode General Cycle (E3)",null,null,"Recreational"]
[null,null,"Fuel Type:",{"$nulls":5}," fulfilled under the following (Category 1 only)?",{"$nulls":6},"Det Factor Type",null,{"$f":"IF($N$15<>\"\",$N$15,\"\")","v":""},null,"Det Factor Type",null,{"$f":"IF($N$15<>\"\",$N$15,\"\")","v":""},null,"Det Factor Type",null,{"$f":"IF($N$15<>\"\",$N$15,\"\")","v":""},null,"Det Factor Type",null,{"$f":"IF($N$15<>\"\",$N$15,\"\")","v":""},{"$nulls":4},"2 = 5-Mode Recreational Cycle (E5)",null,null,"Commercial"]
[null,null,"Recreational/Commercial:",{"$nulls":5},"Please elaborate in the comments section.",{"$nulls":6},"CO Green Engine Factor",{"$nulls":3},"PM Green Engine Factor",{"$nulls":3},"HC Green Engine Factor",{"$nulls":3},"NOx Green Engine Factor",{"$nulls":6},"3 = 4-Mode Constant Speed Propulsion Cycle (E2)"]
[null,null,"Model Year:",{"$nulls":5},"    -1042.310(a) - EPA approved combining it, for PLT purposes only.",{"$nulls":25},"4 = 5-Mode Constant Speed Auxiliary Cycle (D2)"]
[null,null,"Tier:",{"$nulls":31},"5 = 6-Mode Variable Speed Auxiliary Cycle (G2)",null,null,"1 (E3)"]
[null,null,"Combined NOx+HC?",{"$nulls":31},"6 = 8-Mode Variable Speed Ausiliary Cycle (C1)",null,null,"2 (E5)"]
[null,null,"40 CFR Part:",{"$nulls":3},{"$f":"AN6","v":1042},null,"Additional testing required by EPA [40 CFR 1042.301(e)]? ",{"$nulls":25},"O = Other",null,null,"3 (E2)"]
[{"$nulls":37},"4 (D2)"]
[{"$nulls":37},"5 (G2)",{"$nulls":132},"deleted and redirected"]
[{"$nulls":22}," ",{"$nulls":14},"6 (C1)",4,{"$nulls":6},4]
[null,null,"Comments:",{"$nulls":34},"O (other)"]
[{"$nulls":22}," ",{"$nulls":22},"additive"]
[{"$nulls":45},"multiplicative",{"$nulls":22},"CO Rounding",{"$nulls":4},"CO Rounding",{"$nulls":4},"CO Rounding",{"$nulls":4},"CO Rounding",{"$nulls":10},"PM Rounding",{"$nulls":4},"PM Rounding",{"$nulls":4},"PM Rounding",{"$nulls":4},"PM Rounding",{"$nulls":10},"HC Rounding",{"$nulls":4},"HC Rounding",{"$nulls":4},"HC Rounding",{"$nulls":4},"HC Rounding",{"$nulls":10},"NOx Rounding",{"$nulls":4},"NOx Rounding",{"$nulls":4},"NOx Rounding",{"$nulls":4},"NOx Rounding"]
[{"$nulls":22}," ",{"$nulls":45},"initial",{"$nulls":4},"final",{"$nulls":4}," det final",{"$nulls":4},"ave of all final",{"$nulls":10},"initial",{"$nulls":4},"final",{"$nulls":4}," det final",{"$nulls":4},"ave of all final",{"$nulls":10},"initial",{"$nulls":4},"final",{"$nulls":4}," det final",{"$nulls":4},"ave of all final",{"$nulls":10},"initial",{"$nulls":4},"final",{"$nulls":4}," det final",{"$nulls":4},"ave of all final"]
[{"$nulls":38},"Y",{"$nulls":6},"Y"]
["PLT Engine Test Results: Engine Family #27",{"$nulls":37},"N",{"$nulls":6},"N",{"$nulls":124},"This is N17"]
[{"$nulls":36},"CO",null,"PM",null,null,"HC or HC+NOX",null,"Nox",null,"Engine Data Complete?",{"$nulls":11},"HC","HC","HC","HC","Nox","Nox","Nox","Nox",{"$nulls":107},"1% of production or pre-approved reduced sample size - whichever is Lower # "]
[null,"Calc Final Result?","Test Number","Test Date","Test Time","Test Qtr","Engine ID","Engine Make","Engine Configuration","Build Date","Green Engine Factor Applied?","Green Engine Factor Determination Method","Service Hours (or miles) Accumulation","Service Hours Location","Service Acc. Procedure","CO Initial Result ","Rounded CO Initial Result ","CO Final Result ","Det. CO Final Result ","PM Initial Result ","Rounded PM Initial Result ","PM Final Result ","Det. PM Final Result ","HC Initial Result ","Rounded HC Initial Result ","HC Final Result ","Det. HC Final Result ","NOx Initial Result ","Rounded NOx Initial Result ","NOx Final Result ","Det. NOx Final Result ","Reason for Failed Test (if applicable)","Remedy","Repairs","Test Cycle","Comments",0,0,0,0,0,0,0,0,{"$nulls":5},"Unrounded initial CO","Unrounded final CO","Det CO","Final CO","Unrounded initial PM","Unrounded final PM","Det PM","Final PM","Unrounded initial HCNOx","Unrounded final HCNOx","Det HCNOx","Final HCNOX","Unrounded initial NOx","Unrounded final NOx","Det NOx","Final HCNOX",{"$nulls":7},"rounded",{"$nulls":4},"rounded",{"$nulls":4},"rounded",{"$nulls":4},"rounded",{"$nulls":10},"rounded",{"$nulls":4},"rounded",{"$nulls":4},"rounded",{"$nulls":4},"rounded",{"$nulls":10},"rounded",{"$nulls":4},"rounded",{"$nulls":4},"rounded",{"$nulls":4},"rounded","ROUNDED AND ACCOUNT FOR BLANK",{"$nulls":9},"rounded",{"$nulls":4},"rounded",{"$nulls":4},"rounded",{"$nulls":4},"rounded","ROUNDED AND ACCOUNT FOR BLANK","Test complete Flag","Total complete","Fail Flag","req","val","baseline req","req due to fails","sum fails","baseline req"]
[1,{"$nulls":4},"N/A",{"$nulls":10},{"$f":"$BU36","v":""},{"$f":"$BZ36","v":""},{"$f":"$CE36","v":""},null,{"$f":"$CU36","v":""},{"$f":"$CZ36","v":""},{"$f":"$DE36","v":""},null,{"$f":"$DU36","v":""},{"$f":"$DZ36","v":""},{"$f":"$EE36","v":""},null,{"$f":"$EU36","v":""},{"$f":"$EZ36","v":""},{"$f":"$FE36","v":""},{"$nulls":5},{"$f":"IF($B36=\"N\",IF(AND($AK35<>\"\",$Q36<>\"\"),$AK35+$Q36,\"\"),IF($B36=\"Y\",0,\"\"))","v":""},{"$f":"IF($B36=\"N\",AL35+1,IF($B36=\"Y\",0,\"\"))","v":""},{"$f":"IF($B36=\"N\",IF(AND($AM35<>\"\",$U36<>\"\"),$AM35+$U36,\"\"),IF($B36=\"Y\",0,\"\"))","v":""},{"$f":"IF($B36=\"N\",AN35+1,IF($B36=\"Y\",0,\"\"))","v":""},{"$f":"IF($B36=\"N\",IF(AND($AO35<>\"\",$Y36<>\"\"),$AO35+$Y36,\"\"),IF($B36=\"Y\",0,\"\"))","v":""},{"$f":"IF($B36=\"N\",AP35+1,IF($B36=\"Y\",0,\"\"))","v":""},{"$f":"IF($B36=\"N\",IF(AND($AQ35<>\"\",$AC36<>\"\"),$AQ35+$AC36,\"\"),IF($B36=\"Y\",0,\"\"))","v":""},{"$f":"IF($B36=\"N\",AR35+1,IF($B36=\"Y\",0,\"\"))","v":""},null,{"$f":"IF(AND(B36<>\"\",C36<>\"\",D36<>\"\",E36<>\"\",G36<>\"\",H36<>\"\",I36<>\"\",J36<>\"\",K36<>\"\",M36<>\"\",N36<>\"\",O36<>\"\"),1,0)","v":0},{"$nulls":3},{"$f":"IF(AND($P36<>\"\",$AT36=1),$P36,\"\")","v":""},{"$f":"IF($B36=\"Y\",IF(AND($Q36<>\"\",$AK35<>\"\",$AL35<>\"\"),($Q36+$AK35)/($AL35+1),\"\"),\"\")","v":""},{"$f":"IF(AND($B36=\"Y\",$R36<>\"\",$R$18<>\"\"),IF($R$19=\"additive\",$R36+$R$18,IF($R$19=\"multiplicative\",$R36*$R$18,\"\")),\"\")","v":""},{"$f":"IF(COUNT($S$36:$S$85)>0,AVERAGE($S$36:$S$85),\"\")","v":""},{"$f":"IF(AND($T36<>\"\",$AT36=1),$T36,\"\")","v":""},{"$f":"IF($B36=\"Y\",IF(AND($U36<>\"\",$AM35<>\"\",$AN35<>\"\"),($U36+$AM35)/($AN35+1),\"\"),\"\")","v":""},{"$f":"IF(AND($B36=\"Y\",$V36<>\"\",$V$18<>\"\"),IF($V$19=\"additive\",$V36+$V$18,IF($V$19=\"multiplicative\",$V36*$V$18,\"\")),\"\")","v":""},{"$f":"IF(COUNT($W$36:$W$85)>0,AVERAGE($W$36:$W$85),\"\")","v":""},{"$f":"IF(AND($X36<>\"\",$AT36=1),$X36,\"\")","v":""},{"$f":"IF($B36=\"Y\",IF(AND($Y36<>\"\",$AO35<>\"\",$AP35<>\"\"),($Y36+$AO35)/($AP35+1),\"\"),\"\")","v":""},{"$f":"IF(AND($B36=\"Y\",$Z36<>\"\",$Z$18<>\"\"),IF($Z$19=\"additive\",$Z36+$Z$18,IF($Z$19=\"multiplicative\",$Z36*$Z$18,\"\")),\"\")","v":""},{"$f":"IF(COUNT($AA$36:$AA$85)>0,AVERAGE($AA$36:$AA$85),\"\")","v":""},{"$f":"IF(AND($AB36<>\"\",$AT36=1),$AB36,\"\")","v":""},{"$f":"IF($B36=\"Y\",IF(AND($AC36<>\"\",$AQ35<>\"\",$AR35<>\"\"),($AC36+$AQ35)/($AR35+1),\"\"),\"\")","v":""},{"$f":"IF(AND($B36=\"Y\",$AD36<>\"\",$AD$18<>\"\"),IF($AD$19=\"additive\",$AD36+$AD$18,IF($AD$19=\"multiplicative\",$AD36*$AD$18,\"\")),\"\")","v":""},{"$f":"IF(COUNT($AE$36:$AE$85)>0,AVERAGE($AE$36:$AE$85),\"\")","v":""},{"$nulls":7},{"$f":"IF($AX36<>\"\",ROUND($AX36,2),\"\")","v":""},{"$nulls":4},{"$f":"IF($AY36<>\"\",ROUND($AY36,2),\"\")","v":""},{"$nulls":4},{"$f":"IF($AZ36<>\"\",ROUND($AZ36,2),\"\")","v":""},{"$nulls":4},{"$f":"IF($BA36<>\"\",ROUND($BA36,2),\"\")","v":""},{"$nulls":10},{"$f":"IF($BB36<>\"\",ROUND($BB36,3),\"\")","v":""},{"$nulls":4},{"$f":"IF($BC36<>\"\",ROUND($BC36,3),\"\")","v":""},{"$nulls":4},{"$f":"IF($BD36<>\"\",ROUND($BD36,3),\"\")","v":""},{"$nulls":4},{"$f":"IF($BE36<>\"\",ROUND($BE36,3),\"\")","v":""},{"$nulls":10},{"$f":"IF($BF36<>\"\",ROUND($BF36,3),\"\")","v":""},{"$nulls":4},{"$f":"IF($BG36<>\"\",ROUND($BG36,3),\"\")","v":""},{"$nulls":4},{"$f":"IF($BH36<>\"\",ROUND($BH36,3),\"\")","v":""},{"$nulls":4},{"$f":"IF($BI36<>\"\",ROUND($BI36,3),\"\")","v":""},{"$f":"IF(EJ36=\"\",0,EJ36)","v":0},{"$nulls":9},{"$f":"IF($BJ36<>\"\",ROUND($BJ36,2),\"\")","v":""},{"$nulls":4},{"$f":"IF($BK36<>\"\",ROUND($BK36,2),\"\")","v":""},{"$nulls":4},{"$f":"IF($BL36<>\"\",ROUND($BL36,2),\"\")","v":""},{"$nulls":4},{"$f":"IF($BM36<>\"\",ROUND($BM36,2),\"\")","v":""},{"$f":"IF(FJ36=\"\",0,FJ36)","v":0},{"$f":"IF($AG$12<>\"CAT3\",IF(AND($B36=\"Y\",$S36<>\"\",$W36<>\"\",$AA36<>\"\",$AE36<>\"\"),1,0),IF($AE36<>\"\",1,0))","v":0},{"$f":"SUM($FL$36:$FL36)","v":0},{"$f":"IF($AG$12<>\"CAT3\",IF($FL36=1,IF(OR($S36>$R$16,$W36>$V$16,$AA36>$Z$16,IF($AF$12<>\"Y\",OR($AA36>$Z$16,$AE36>$AD$16),ROUND(($AA36+$AE36),2)>$Z$16)),1,0),0),IF($FL36=1,IF(AND($AE36>$AD$16,$AF$12=\"N\"),1,0),0))","v":0},{"$f":"IF(OR($M$11=\"\",$N$18=\"Y\"),0,IF($AG$12=\"CAT3\",$N$12,($FR$36+1)))","v":0},{"$f":"SUM(FL36:FL85)","v":0},{"$f":"IF(AND($G$17=\"Y\",$N$24<>\"\"),MIN($N$24,$FT$36),$FT$36)","v":0},{"$f":"$FS$36*2","v":0},{"$f":"SUM(FN36:FN85)","v":0},{"$f":"IF($N$12<>\"\",$N$12*0.01,0)","v":0}]
[{"$f":"A36+1","v":2},{"$nulls":4},"N/A",{"$nulls":10},"","","",null,"","","",null,"","","",null,"","","",{"$nulls":5},"",{"$f":"IF($B37=\"N\",AL36+1,IF($B37=\"Y\",0,\"\"))","v":""},"",{"$f":"IF($B37=\"N\",AN36+1,IF($B37=\"Y\",0,\"\"))","v":""},{"$f":"IF($B37=\"N\",IF(AND($AO36<>\"\",$Y37<>\"\"),$AO36+$Y37,\"\"),IF($B37=\"Y\",0,\"\"))","v":""},{"$f":"IF($B37=\"N\",AP36+1,IF($B37=\"Y\",0,\"\"))","v":""},{"$f":"IF($B37=\"N\",IF(AND($AQ36<>\"\",$AC37<>\"\"),$AQ36+$AC37,\"\"),IF($B37=\"Y\",0,\"\"))","v":""},{"$f":"IF($B37=\"N\",AR36+1,IF($B37=\"Y\",0,\"\"))","v":""},null,{"$f":"IF(AND(B37<>\"\",C37<>\"\",D37<>\"\",E37<>\"\",G37<>\"\",H37<>\"\",I37<>\"\",J37<>\"\",K37<>\"\",M37<>\"\",N37<>\"\",O37<>\"\"),1,0)","v":0},{"$nulls":3},"","",{"$f":"IF(AND($B37=\"Y\",$R37<>\"\",$R$18<>\"\"),IF($R$19=\"additive\",$R37+$R$18,IF($R$19=\"multiplicative\",$R37*$R$18,\"\")),\"\")","v":""},null,"","",{"$f":"IF(AND($B37=\"Y\",$V37<>\"\",$V$18<>\"\"),IF($V$19=\"additive\",$V37+$V$18,IF($V$19=\"multiplicative\",$V37*$V$18,\"\")),\"\")","v":""},null,{"$f":"IF(AND($X37<>\"\",$AT37=1),$X37,\"\")","v":""},{"$f":"IF($B37=\"Y\",IF(AND($Y37<>\"\",$AO36<>\"\",$AP36<>\"\"),($Y37+$AO36)/($AP36+1),\"\"),\"\")","v":""},{"$f":"IF(AND($B37=\"Y\",$Z37<>\"\",$Z$18<>\"\"),IF($Z$19=\"additive\",$Z37+$Z$18,IF($Z$19=\"multiplicative\",$Z37*$Z$18,\"\")),\"\")","v":""},null,{"$f":"IF(AND($AB37<>\"\",$AT37=1),$AB37,\"\")","v":""},{"$f":"IF($B37=\"Y\",IF(AND($AC37<>\"\",$AQ36<>\"\",$AR36<>\"\"),($AC37+$AQ36)/($AR36+1),\"\"),\"\")","v":""},{"$f":"IF(AND($B37=\"Y\",$AD37<>\"\",$AD$18<>\"\"),IF($AD$19=\"additive\",$AD37+$AD$18,IF($AD$19=\"multiplicative\",$AD37*$AD$18,\"\")),\"\")","v":""},{"$nulls":8},{"$f":"IF($AX37<>\"\",ROUND($AX37,2),\"\")","v":""},{"$nulls":4},{"$f":"IF($AY37<>\"\",ROUND($AY37,2),\"\")","v":""},{"$nulls":4},{"$f":"IF($AZ37<>\"\",ROUND($AZ37,2),\"\")","v":""},{"$nulls":15},{"$f":"IF($BB37<>\"\",ROUND($BB37,3),\"\")","v":""},{"$nulls":4},{"$f":"IF($BC37<>\"\",ROUND($BC37,3),\"\")","v":""},{"$nulls":4},{"$f":"IF($BD37<>\"\",ROUND($BD37,3),\"\")","v":""},{"$nulls":15},{"$f":"IF($BF37<>\"\",ROUND($BF37,3),\"\")","v":""},{"$nulls":4},{"$f":"IF($BG37<>\"\",ROUND($BG37,3),\"\")","v":""},{"$nulls":4},{"$f":"IF($BH37<>\"\",ROUND($BH37,3),\"\")","v":""},{"$nulls":15},{"$f":"IF($BJ37<>\"\",ROUND($BJ37,2),\"\")","v":""},{"$nulls":4},{"$f":"IF($BK37<>\"\",ROUND($BK37,2),\"\")","v":""},{"$nulls":4},{"$f":"IF($BL37<>\"\",ROUND($BL37,2),\"\")","v":""},{"$nulls":6},{"$f":"IF($AG$12<>\"CAT3\",IF(AND($B37=\"Y\",$S37<>\"\",$W37<>\"\",$AA37<>\"\",$AE37<>\"\"),1,0),IF($AE37<>\"\",1,0))","v":0},{"$f":"SUM($FL$36:$FL37)","v":0},{"$f":"IF($AG$12<>\"CAT3\",IF($FL37=1,IF(OR($S37>$R$16,$W37>$V$16,$AA37>$Z$16,IF($AF$12<>\"Y\",OR($AA37>$Z$16,$AE37>$AD$16),ROUND(($AA37+$AE37),2)>$Z$16)),1,0),0),IF($FL37=1,IF(AND($AE37>$AD$16,$AF$12=\"N\"),1,0),0))","v":0},null,null,{"$f":"MAX($FQ$36,$FL$10)","v":1}]
[{"$f":"A37+1","v":3},{"$nulls":4},"N/A",{"$nulls":10},"","","",null,"","","",null,"","","",null,"","","",{"$nulls":5},"","","","","","","","",null,0,{"$nulls":3},"","","",null,"","","",null,"","","",null,"","","",{"$nulls":8},"",{"$nulls":4},"",{"$nulls":4},"",{"$nulls":15},"",{"$nulls":4},"",{"$nulls":4},"",{"$nulls":15},"",{"$nulls":4},"",{"$nulls":4},"",{"$nulls":15},"",{"$nulls":4},"",{"$nulls":4},"",{"$nulls":6},0,{"$f":"SUM($FL$36:$FL38)","v":0},0]
[4,{"$nulls":4},"N/A",{"$nulls":10},"","","",null,"","","",null,"","","",null,"","","",{"$nulls":5},"","","","","","","","",null,0,{"$nulls":3},"","","",null,"","","",null,"","","",null,"","","",{"$nulls":8},"",{"$nulls":4},"",{"$nulls":4},"",{"$nulls":15},"",{"$nulls":4},"",{"$nulls":4},"",{"$nulls":15},"",{"$nulls":4},"",{"$nulls":4},"",{"$nulls":15},"",{"$nulls":4},"",{"$nulls":4},"",{"$nulls":6},0,{"$f":"SUM($FL$36:$FL39)","v":0},0,null,null,"then, the larger of that sample size or 1  (or if Part 94 and cat1,  can be 0)"]
[5,{"$nulls":4},"N/A",{"$nulls":10},"","","",null,"","","",null,"","","",null,"","","",{"$nulls":5},"","","","","","","","",null,0,{"$nulls":3},"","","",null,"","","",null,"","","",null,"","","",{"$nulls":8},"",{"$nulls":4},"",{"$nulls":4},"",{"$nulls":15},"",{"$nulls":4},"",{"$nulls":4},"",{"$nulls":15},"",{"$nulls":4},"",{"$nulls":4},"",{"$nulls":15},"",{"$nulls":4},"",{"$nulls":4},"",{"$nulls":6},0,{"$f":"SUM($FL$36:$FL40)","v":0},0]
[6,{"$nulls":4},"N/A",{"$nulls":10},"","","",null,"","","",null,"","","",null,"","","",{"$nulls":5},"","","","","","","","",null,0,{"$nulls":3},"","","",null,"","","",null,"","","",null,"","","",{"$nulls":8},"",{"$nulls":4},"",{"$nulls":4},"",{"$nulls":15},"",{"$nulls":4},"",{"$nulls":4},"",{"$nulls":15},"",{"$nulls":4},"",{"$nulls":4},"",{"$nulls":15},"",{"$nulls":4},"",{"$nulls":4},"",{"$nulls":6},0,{"$f":"SUM($FL$36:$FL41)","v":0},0]
[7,{"$nulls":4},"N/A",{"$nulls":10},"","","",null,"","","",null,"","","",null,"","","",{"$nulls":5},"","","","","","","","",null,0,{"$nulls":3},"","","",null,"","","",null,"","","",null,"","","",{"$nulls":8},"",{"$nulls":4},"",{"$nulls":4},"",{"$nulls":15},"",{"$nulls":4},"",{"$nulls":4},"",{"$nulls":15},"",{"$nulls":4},"",{"$nulls":4},"",{"$nulls":15},"",{"$nulls":4},"",{"$nulls":4},"",{"$nulls":6},0,{"$f":"SUM($FL$36:$FL42)","v":0},0]
[8,{"$nulls":4},"N/A",{"$nulls":10},"","","",null,"","","",null,"","","",null,"","","",{"$nulls":5},"","","","","","","","",null,0,{"$nulls":3},"","","",null,"","","",null,"","","",null,"","","",{"$nulls":8},"",{"$nulls":4},"",{"$nulls":4},"",{"$nulls":15},"",{"$nulls":4},"",{"$nulls":4},"",{"$nulls":15},"",{"$nulls":4},"",{"$nulls":4},"",{"$nulls":15},"",{"$nulls":4},"",{"$nulls":4},"",{"$nulls":6},0,{"$f":"SUM($FL$36:$FL43)","v":0},0]
[9,{"$nulls":4},"N/A",{"$nulls":10},"","","",null,"","","",null,"","","",null,"","","",{"$nulls":5},"","","","","","","","",null,0,{"$nulls":3},"","","",null,"","","",null,"","","",null,"","","",{"$nulls":8},"",{"$nulls":4},"",{"$nulls":4},"",{"$nulls":15},"",{"$nulls":4},"",{"$nulls":4},"",{"$nulls":15},"",{"$nulls":4},"",{"$nulls":4},"",{"$nulls":15},"",{"$nulls":4},"",{"$nulls":4},"",{"$nulls":6},0,{"$f":"SUM($FL$36:$FL44)","v":0},0]
[10,{"$nulls":4},"N/A",{"$nulls":10},"","","",null,"","","",null,"","","",null,"","","",{"$nulls":5},"","","","","","","","",null,0,{"$nulls":3},"","","",null,"","","",null,"","","",null,"","","",{"$nulls":8},"",{"$nulls":4},"",{"$nulls":4},"",{"$nulls":15},"",{"$nulls":4},"",{"$nulls":4},"",{"$nulls":15},"",{"$nulls":4},"",{"$nulls":4},"",{"$nulls":15},"",{"$nulls":4},"",{"$nulls":4},"",{"$nulls":6},0,{"$f":"SUM($FL$36:$FL45)","v":0},0]
[11,{"$nulls":4},"N/A",{"$nulls":10},"","","",null,"","","",null,"","","",null,"","","",{"$nulls":5},"","","","","","","","",null,0,{"$nulls":3},"","","",null,"","","",null,"","","",null,"","","",{"$nulls":8},"",{"$nulls":4},"",{"$nulls":4},"",{"$nulls":15},"",{"$nulls":4},"",{"$nulls":4},"",{"$nulls":15},"",{"$nulls":4},"",{"$nulls":4},"",{"$nulls":15},"",{"$nulls":4},"",{"$nulls":4},"",{"$nulls":6},0,{"$f":"SUM($FL$36:$FL46)","v":0},0]
[12,{"$nulls":4},"N/A",{"$nulls":10},"","","",null,"","","",null,"","","",null,"","","",{"$nulls":5},"","","","","","","","",null,0,{"$nulls":3},"","","",null,"","","",null,"","","",null,"","","",{"$nulls":8},"",{"$nulls":4},"",{"$nulls":4},"",{"$nulls":15},"",{"$nulls":4},"",{"$nulls":4},"",{"$nulls":15},"",{"$nulls":4},"",{"$nulls":4},"",{"$nulls":15},"",{"$nulls":4},"",{"$nulls":4},"",{"$nulls":6},0,{"$f":"SUM($FL$36:$FL47)","v":0},0]
[13,{"$nulls":4},"N/A",{"$nulls":10},"","","",null,"","","",null,"","","",null,"","","",{"$nulls":5},"","","","","","","","",null,0,{"$nulls":3},"","","",null,"","","",null,"","","",null,"","","",{"$nulls":8},"",{"$nulls":4},"",{"$nulls":4},"",{"$nulls":15},"",{"$nulls":4},"",{"$nulls":4},"",{"$nulls":15},"",{"$nulls":4},"",{"$nulls":4},"",{"$nulls":15},"",{"$nulls":4},"",{"$nulls":4},"",{"$nulls":6},0,{"$f":"SUM($FL$36:$FL48)","v":0},0]
[14,{"$nulls":4},"N/A",{"$nulls":10},"","","",null,"","","",null,"","","",null,"","","",{"$nulls":5},"","","","","","","","",null,0,{"$nulls":3},"","","",null,"","","",null,"","","",null,"","","",{"$nulls":8},"",{"$nulls":4},"",{"$nulls":4},"",{"$nulls":15},"",{"$nulls":4},"",{"$nulls":4},"",{"$nulls":15},"",{"$nulls":4},"",{"$nulls":4},"",{"$nulls":15},"",{"$nulls":4},"",{"$nulls":4},"",{"$nulls":6},0,{"$f":"SUM($FL$36:$FL49)","v":0},0]
[15,{"$nulls":4},"N/A",{"$nulls":10},"","","",null,"","","",null,"","","",null,"","","",{"$nulls":5},"","","","","","","","",null,0,{"$nulls":3},"","","",null,"","","",null,"","","",null,"","","",{"$nulls":8},"",{"$nulls":4},"",{"$nulls":4},"",{"$nulls":15},"",{"$nulls":4},"",{"$nulls":4},"",{"$nulls":15},"",{"$nulls":4},"",{"$nulls":4},"",{"$nulls":15},"",{"$nulls":4},"",{"$nulls":4},"",{"$nulls":6},0,{"$f":"SUM($FL$36:$FL50)","v":0},0]
[16,{"$nulls":4},"N/A",{"$nulls":10},"","","",null,"","","",null,"","","",null,"","","",{"$nulls":5},"","","","","","","","",null,0,{"$nulls":3},"","","",null,"","","",null,"","","",null,"","","",{"$nulls":8},"",{"$nulls":4},"",{"$nulls":4},"",{"$nulls":15},"",{"$nulls":4},"",{"$nulls":4},"",{"$nulls":15},"",{"$nulls":4},"",{"$nulls":4},"",{"$nulls":15},"",{"$nulls":4},"",{"$nulls":4},"",{"$nulls":6},0,{"$f":"SUM($FL$36:$FL51)","v":0},0]
[17,{"$nulls":4},"N/A",{"$nulls":10},"","","",null,"","","",null,"","","",null,"","","",{"$nulls":5},"","","","","","","","",null,0,{"$nulls":3},"","","",null,"","","",null,"","","",null,"","","",{"$nulls":8},"",{"$nulls":4},"",{"$nulls":4},"",{"$nulls":15},"",{"$nulls":4},"",{"$nulls":4},"",{"$nulls":15},"",{"$nulls":4},"",{"$nulls":4},"",{"$nulls":15},"",{"$nulls":4},"",{"$nulls":4},"",{"$nulls":6},0,{"$f":"SUM($FL$36:$FL52)","v":0},0]
[18,{"$nulls":4},"N/A",{"$nulls":10},"","","",null,"","","",null,"","","",null,"","","",{"$nulls":5},"","","","","","","","",null,0,{"$nulls":3},"","","",null,"","","",null,"","","",null,"","","",{"$nulls":8},"",{"$nulls":4},"",{"$nulls":4},"",{"$nulls":15},"",{"$nulls":4},"",{"$nulls":4},"",{"$nulls":15},"",{"$nulls":4},"",{"$nulls":4},"",{"$nulls":15},"",{"$nulls":4},"",{"$nulls":4},"",{"$nulls":6},0,{"$f":"SUM($FL$36:$FL53)","v":0},0]
[19,{"$nulls":4},"N/A",{"$nulls":10},"","","",null,"","","",null,"","","",null,"","","",{"$nulls":5},"","","","","","","","",null,0,{"$nulls":3},"","","",null,"","","",null,"","","",null,"","","",{"$nulls":8},"",{"$nulls":4},"",{"$nulls":4},"",{"$nulls":15},"",{"$nulls":4},"",{"$nulls":4},"",{"$nulls":15},"",{"$nulls":4},"",{"$nulls":4},"",{"$nulls":15},"",{"$nulls":4},"",{"$nulls":4},"",{"$nulls":6},0,{"$f":"SUM($FL$36:$FL54)","v":0},0]
[20,{"$nulls":4},"N/A",{"$nulls":10},"","","",null,"","","",null,"","","",null,"","","",{"$nulls":5},"","","","","","","","",null,0,{"$nulls":3},"","","",null,"","","",null,"","","",null,"","","",{"$nulls":8},"",{"$nulls":4},"",{"$nulls":4},"",{"$nulls":15},"",{"$nulls":4},"",{"$nulls":4},"",{"$nulls":15},"",{"$nulls":4},"",{"$nulls":4},"",{"$nulls":15},"",{"$nulls":4},"",{"$nulls":4},"",{"$nulls":6},0,{"$f":"SUM($FL$36:$FL55)","v":0},0]
[21,{"$nulls":4},"N/A",{"$nulls":10},"","","",null,"","","",null,"","","",null,"","","",{"$nulls":5},"","","","","","","","",null,0,{"$nulls":3},"","","",null,"","","",null,"","","",null,"","","",{"$nulls":8},"",{"$nulls":4},"",{"$nulls":4},"",{"$nulls":15},"",{"$nulls":4},"",{"$nulls":4},"",{"$nulls":15},"",{"$nulls":4},"",{"$nulls":4},"",{"$nulls":15},"",{"$nulls":4},"",{"$nulls":4},"",{"$nulls":6},0,{"$f":"SUM($FL$36:$FL56)","v":0},0]
[22,{"$nulls":4},"N/A",{"$nulls":10},"","","",null,"","","",null,"","","",null,"","","",{"$nulls":5},"","","","","","","","",null,0,{"$nulls":3},"","","",null,"","","",null,"","","",null,"","","",{"$nulls":8},"",{"$nulls":4},"",{"$nulls":4},"",{"$nulls":15},"",{"$nulls":4},"",{"$nulls":4},"",{"$nulls":15},"",{"$nulls":4},"",{"$nulls":4},"",{"$nulls":15},"",{"$nulls":4},"",{"$nulls":4},"",{"$nulls":6},0,{"$f":"SUM($FL$36:$FL57)","v":0},0]
[23,{"$nulls":4},"N/A",{"$nulls":10},"","","",null,"","","",null,"","","",null,"","","",{"$nulls":5},"","","","","","","","",null,0,{"$nulls":3},"","","",null,"","","",null,"","","",null,"","","",{"$nulls":8},"",{"$nulls":4},"",{"$nulls":4},"",{"$nulls":15},"",{"$nulls":4},"",{"$nulls":4},"",{"$nulls":15},"",{"$nulls":4},"",{"$nulls":4},"",{"$nulls":15},"",{"$nulls":4},"",{"$nulls":4},"",{"$nulls":6},0,{"$f":"SUM($FL$36:$FL58)","v":0},0]
[24,{"$nulls":4},"N/A",{"$nulls":10},"","","",null,"","","",null,"","","",null,"","","",{"$nulls":5},"","","","","","","","",null,0,{"$nulls":3},"","","",null,"","","",null,"","","",null,"","","",{"$nulls":8},"",{"$nulls":4},"",{"$nulls":4},"",{"$nulls":15},"",{"$nulls":4},"",{"$nulls":4},"",{"$nulls":15},"",{"$nulls":4},"",{"$nulls":4},"",{"$nulls":15},"",{"$nulls":4},"",{"$nulls":4},"",{"$nulls":6},0,{"$f":"SUM($FL$36:$FL59)","v":0},0]
[25,{"$nulls":4},"N/A",{"$nulls":10},"","","",null,"","","",null,"","","",null,"","","",{"$nulls":5},"","","","","","","","",null,0,{"$nulls":3},"","","",null,"","","",null,"","","",null,"","","",{"$nulls":8},"",{"$nulls":4},"",{"$nulls":4},"",{"$nulls":15},"",{"$nulls":4},"",{"$nulls":4},"",{"$nulls":15},"",{"$nulls":4},"",{"$nulls":4},"",{"$nulls":15},"",{"$nulls":4},"",{"$nulls":4},"",{"$nulls":6},0,{"$f":"SUM($FL$36:$FL60)","v":0},0]
[26,{"$nulls":4},"N/A",{"$nulls":10},"","","",null,"","","",null,"","","",null,"","","",{"$nulls":5},"","","","","","","","",null,0,{"$nulls":3},"","","",null,"","","",null,"","","",null,"","","",{"$nulls":8},"",{"$nulls":4},"",{"$nulls":4},"",{"$nulls":15},"",{"$nulls":4},"",{"$nulls":4},"",{"$nulls":15},"",{"$nulls":4},"",{"$nulls":4},"",{"$nulls":15},"",{"$nulls":4},"",{"$nulls":4},"",{"$nulls":6},0,{"$f":"SUM($FL$36:$FL61)","v":0},0]
[27,{"$nulls":4},"N/A",{"$nulls":10},"","","",null,"","","",null,"","","",null,"","","",{"$nulls":5},"","","","","","","","",null,0,{"$nulls":3},"","","",null,"","","",null,"","","",null,"","","",{"$nulls":8},"",{"$nulls":4},"",{"$nulls":4},"",{"$nulls":15},"",{"$nulls":4},"",{"$nulls":4},"",{"$nulls":15},"",{"$nulls":4},"",{"$nulls":4},"",{"$nulls":15},"",{"$nulls":4},"",{"$nulls":4},"",{"$nulls":6},0,{"$f":"SUM($FL$36:$FL62)","v":0},0]
[28,{"$nulls":4},"N/A",{"$nulls":10},"","","",null,"","","",null,"","","",null,"","","",{"$nulls":5},"","","","","","","","",null,0,{"$nulls":3},"","","",null,"","","",null,"","","",null,"","","",{"$nulls":8},"",{"$nulls":4},"",{"$nulls":4},"",{"$nulls":15},"",{"$nulls":4},"",{"$nulls":4},"",{"$nulls":15},"",{"$nulls":4},"",{"$nulls":4},"",{"$nulls":15},"",{"$nulls":4},"",{"$nulls":4},"",{"$nulls":6},0,{"$f":"SUM($FL$36:$FL63)","v":0},0]
[29,{"$nulls":4},"N/A",{"$nulls":10},"","","",null,"","","",null,"","","",null,"","","",{"$nulls":5},"","","","","","","","",null,0,{"$nulls":3},"","","",null,"","","",null,"","","",null,"","","",{"$nulls":8},"",{"$nulls":4},"",{"$nulls":4},"",{"$nulls":15},"",{"$nulls":4},"",{"$nulls":4},"",{"$nulls":15},"",{"$nulls":4},"",{"$nulls":4},"",{"$nulls":15},"",{"$nulls":4},"",{"$nulls":4},"",{"$nulls":6},0,{"$f":"SUM($FL$36:$FL64)","v":0},0]
[30,{"$nulls":4},"N/A",{"$nulls":10},"","","",null,"","","",null,"","","",null,"","","",{"$nulls":5},"","","","","","","","",null,0,{"$nulls":3},"","","",null,"","","",null,"","","",null,"","","",{"$nulls":8},"",{"$nulls":4},"",{"$nulls":4},"",{"$nulls":15},"",{"$nulls":4},"",{"$nulls":4},"",{"$nulls":15},"",{"$nulls":4},"",{"$nulls":4},"",{"$nulls":15},"",{"$nulls":4},"",{"$nulls":4},"",{"$nulls":6},0,{"$f":"SUM($FL$36:$FL65)","v":0},0]
[31,{"$nulls":4},"N/A",{"$nulls":10},"","","",null,"","","",null,"","","",null,"","","",{"$nulls":5},"","","","","","","","",null,0,{"$nulls":3},"","","",null,"","","",null,"","","",null,"","","",{"$nulls":8},"",{"$nulls":4},"",{"$nulls":4},"",{"$nulls":15},"",{"$nulls":4},"",{"$nulls":4},"",{"$nulls":15},"",{"$nulls":4},"",{"$nulls":4},"",{"$nulls":15},"",{"$nulls":4},"",{"$nulls":4},"",{"$nulls":6},0,{"$f":"SUM($FL$36:$FL66)","v":0},0]
[32,{"$nulls":4},"N/A",{"$nulls":10},"","","",null,"","","",null,"","","",null,"","","",{"$nulls":5},"","","","","","","","",null,0,{"$nulls":3},"","","",null,"","","",null,"","","",null,"","","",{"$nulls":8},"",{"$nulls":4},"",{"$nulls":4},"",{"$nulls":15},"",{"$nulls":4},"",{"$nulls":4},"",{"$nulls":15},"",{"$nulls":4},"",{"$nulls":4},"",{"$nulls":15},"",{"$nulls":4},"",{"$nulls":4},"",{"$nulls":6},0,{"$f":"SUM($FL$36:$FL67)","v":0},0]
[33,{"$nulls":4},"N/A",{"$nulls":10},"","","",null,"","","",null,"","","",null,"","","",{"$nulls":5},"","","","","","","","",null,0,{"$nulls":3},"","","",null,"","","",null,"","","",null,"","","",{"$nulls":8},"",{"$nulls":4},"",{"$nulls":4},"",{"$nulls":15},"",{"$nulls":4},"",{"$nulls":4},"",{"$nulls":15},"",{"$nulls":4},"",{"$nulls":4},"",{"$nulls":15},"",{"$nulls":4},"",{"$nulls":4},"",{"$nulls":6},0,{"$f":"SUM($FL$36:$FL68)","v":0},0]
[34,{"$nulls":4},"N/A",{"$nulls":10},"","","",null,"","","",null,"","","",null,"","","",{"$nulls":5},"","","","","","","","",null,0,{"$nulls":3},"","","",null,"","","",null,"","","",null,"","","",{"$nulls":8},"",{"$nulls":4},"",{"$nulls":4},"",{"$nulls":15},"",{"$nulls":4},"",{"$nulls":4},"",{"$nulls":15},"",{"$nulls":4},"",{"$nulls":4},"",{"$nulls":15},"",{"$nulls":4},"",{"$nulls":4},"",{"$nulls":6},0,{"$f":"SUM($FL$36:$FL69)","v":0},0]
[35,{"$nulls":4},"N/A",{"$nulls":10},"","","",null,"","","",null,"","","",null,"","","",{"$nulls":5},"","","","","","","","",null,0,{"$nulls":3},"","","",null,"","","",null,"","","",null,"","","",{"$nulls":8},"",{"$nulls":4},"",{"$nulls":4},"",{"$nulls":15},"",{"$nulls":4},"",{"$nulls":4},"",{"$nulls":15},"",{"$nulls":4},"",{"$nulls":4},"",{"$nulls":15},"",{"$nulls":4},"",{"$nulls":4},"",{"$nulls":6},0,{"$f":"SUM($FL$36:$FL70)","v":0},0]
[36,{"$nulls":4},"N/A",{"$nulls":10},"","","",null,"","","",null,"","","",null,"","","",{"$nulls":5},"","","","","","","","",null,0,{"$nulls":3},"","","",null,"","","",null,"","","",null,"","","",{"$nulls":8},"",{"$nulls":4},"",{"$nulls":4},"",{"$nulls":15},"",{"$nulls":4},"",{"$nulls":4},"",{"$nulls":15},"",{"$nulls":4},"",{"$nulls":4},"",{"$nulls":15},"",{"$nulls":4},"",{"$nulls":4},"",{"$nulls":6},0,{"$f":"SUM($FL$36:$FL71)","v":0},0]
[37,{"$nulls":4},"N/A",{"$nulls":10},"","","",null,"","","",null,"","","",null,"","","",{"$nulls":5},"","","","","","","","",null,0,{"$nulls":3},"","","",null,"","","",null,"","","",null,"","","",{"$nulls":8},"",{"$nulls":4},"",{"$nulls":4},"",{"$nulls":15},"",{"$nulls":4},"",{"$nulls":4},"",{"$nulls":15},"",{"$nulls":4},"",{"$nulls":4},"",{"$nulls":15},"",{"$nulls":4},"",{"$nulls":4},"",{"$nulls":6},0,{"$f":"SUM($FL$36:$FL72)","v":0},0]
[38,{"$nulls":4},"N/A",{"$nulls":10},"","","",null,"","","",null,"","","",null,"","","",{"$nulls":5},"","","","","","","","",null,0,{"$nulls":3},"","","",null,"","","",null,"","","",null,"","","",{"$nulls":8},"",{"$nulls":4},"",{"$nulls":4},"",{"$nulls":15},"",{"$nulls":4},"",{"$nulls":4},"",{"$nulls":15},"",{"$nulls":4},"",{"$nulls":4},"",{"$nulls":15},"",{"$nulls":4},"",{"$nulls":4},"",{"$nulls":6},0,{"$f":"SUM($FL$36:$FL73)","v":0},0]
[39,{"$nulls":4},"N/A",{"$nulls":10},"","","",null,"","","",null,"","","",null,"","","",{"$nulls":5},"","","","","","","","",null,0,{"$nulls":3},"","","",null,"","","",null,"","","",null,"","","",{"$nulls":8},"",{"$nulls":4},"",{"$nulls":4},"",{"$nulls":15},"",{"$nulls":4},"",{"$nulls":4},"",{"$nulls":15},"",{"$nulls":4},"",{"$nulls":4},"",{"$nulls":15},"",{"$nulls":4},"",{"$nulls":4},"",{"$nulls":6},0,{"$f":"SUM($FL$36:$FL74)","v":0},0]
[40,{"$nulls":4},"N/A",{"$nulls":10},"","","",null,"","","",null,"","","",null,"","","",{"$nulls":5},"","","","","","","","",null,0,{"$nulls":3},"","","",null,"","","",null,"","","",null,"","","",{"$nulls":8},"",{"$nulls":4},"",{"$nulls":4},"",{"$nulls":15},"",{"$nulls":4},"",{"$nulls":4},"",{"$nulls":15},"",{"$nulls":4},"",{"$nulls":4},"",{"$nulls":15},"",{"$nulls":4},"",{"$nulls":4},"",{"$nulls":6},0,{"$f":"SUM($FL$36:$FL75)","v":0},0]
[41,{"$nulls":4},"N/A",{"$nulls":10},"","","",null,"","","",null,"","","",null,"","","",{"$nulls":5},"","","","","","","","",null,0,{"$nulls":3},"","","",null,"","","",null,"","","",null,"","","",{"$nulls":8},"",{"$nulls":4},"",{"$nulls":4},"",{"$nulls":15},"",{"$nulls":4},"",{"$nulls":4},"",{"$nulls":15},"",{"$nulls":4},"",{"$nulls":4},"",{"$nulls":15},"",{"$nulls":4},"",{"$nulls":4},"",{"$nulls":6},0,{"$f":"SUM($FL$36:$FL76)","v":0},0]
[42,{"$nulls":4},"N/A",{"$nulls":10},"","","",null,"","","",null,"","","",null,"","","",{"$nulls":5},"","","","","","","","",null,0,{"$nulls":3},"","","",null,"","","",null,"","","",null,"","","",{"$nulls":8},"",{"$nulls":4},"",{"$nulls":4},"",{"$nulls":15},"",{"$nulls":4},"",{"$nulls":4},"",{"$nulls":15},"",{"$nulls":4},"",{"$nulls":4},"",{"$nulls":15},"",{"$nulls":4},"",{"$nulls":4},"",{"$nulls":6},0,{"$f":"SUM($FL$36:$FL77)","v":0},0]
[43,{"$nulls":4},"N/A",{"$nulls":10},"","","",null,"","","",null,"","","",null,"","","",{"$nulls":5},"","","","","","","","",null,0,{"$nulls":3},"","","",null,"","","",null,"","","",null,"","","",{"$nulls":8},"",{"$nulls":4},"",{"$nulls":4},"",{"$nulls":15},"",{"$nulls":4},"",{"$nulls":4},"",{"$nulls":15},"",{"$nulls":4},"",{"$nulls":4},"",{"$nulls":15},"",{"$nulls":4},"",{"$nulls":4},"",{"$nulls":6},0,{"$f":"SUM($FL$36:$FL78)","v":0},0]
[44,{"$nulls":4},"N/A",{"$nulls":10},"","","",null,"","","",null,"","","",null,"","","",{"$nulls":5},"","","","","","","","",null,0,{"$nulls":3},"","","",null,"","","",null,"","","",null,"","","",{"$nulls":8},"",{"$nulls":4},"",{"$nulls":4},"",{"$nulls":15},"",{"$nulls":4},"",{"$nulls":4},"",{"$nulls":15},"",{"$nulls":4},"",{"$nulls":4},"",{"$nulls":15},"",{"$nulls":4},"",{"$nulls":4},"",{"$nulls":6},0,{"$f":"SUM($FL$36:$FL79)","v":0},0]
[45,{"$nulls":4},"N/A",{"$nulls":10},"","","",null,"","","",null,"","","",null,"","","",{"$nulls":5},"","","","","","","","",null,0,{"$nulls":3},"","","",null,"","","",null,"","","",null,"","","",{"$nulls":8},"",{"$nulls":4},"",{"$nulls":4},"",{"$nulls":15},"",{"$nulls":4},"",{"$nulls":4},"",{"$nulls":15},"",{"$nulls":4},"",{"$nulls":4},"",{"$nulls":15},"",{"$nulls":4},"",{"$nulls":4},"",{"$nulls":6},0,{"$f":"SUM($FL$36:$FL80)","v":0},0]
[46,{"$nulls":4},"N/A",{"$nulls":10},"","","",null,"","","",null,"","","",null,"","","",{"$nulls":5},"","","","","","","","",null,0,{"$nulls":3},"","","",null,"","","",null,"","","",null,"","","",{"$nulls":8},"",{"$nulls":4},"",{"$nulls":4},"",{"$nulls":15},"",{"$nulls":4},"",{"$nulls":4},"",{"$nulls":15},"",{"$nulls":4},"",{"$nulls":4},"",{"$nulls":15},"",{"$nulls":4},"",{"$nulls":4},"",{"$nulls":6},0,{"$f":"SUM($FL$36:$FL81)","v":0},0]
[47,{"$nulls":4},"N/A",{"$nulls":10},"","","",null,"","","",null,"","","",null,"","","",{"$nulls":5},"","","","","","","","",null,0,{"$nulls":3},"","","",null,"","","",null,"","","",null,"","","",{"$nulls":8},"",{"$nulls":4},"",{"$nulls":4},"",{"$nulls":15},"",{"$nulls":4},"",{"$nulls":4},"",{"$nulls":15},"",{"$nulls":4},"",{"$nulls":4},"",{"$nulls":15},"",{"$nulls":4},"",{"$nulls":4},"",{"$nulls":6},0,{"$f":"SUM($FL$36:$FL82)","v":0},0]
[48,{"$nulls":4},"N/A",{"$nulls":10},"","","",null,"","","",null,"","","",null,"","","",{"$nulls":5},"","","","","","","","",null,0,{"$nulls":3},"","","",null,"","","",null,"","","",null,"","","",{"$nulls":8},"",{"$nulls":4},"",{"$nulls":4},"",{"$nulls":15},"",{"$nulls":4},"",{"$nulls":4},"",{"$nulls":15},"",{"$nulls":4},"",{"$nulls":4},"",{"$nulls":15},"",{"$nulls":4},"",{"$nulls":4},"",{"$nulls":6},0,{"$f":"SUM($FL$36:$FL83)","v":0},0]
[49,{"$nulls":4},"N/A",{"$nulls":10},"","","",null,"","","",null,"","","",null,"","","",{"$nulls":5},"","","","","","","","",null,0,{"$nulls":3},"","","",null,"","","",null,"","","",null,"","","",{"$nulls":8},"",{"$nulls":4},"",{"$nulls":4},"",{"$nulls":15},"",{"$nulls":4},"",{"$nulls":4},"",{"$nulls":15},"",{"$nulls":4},"",{"$nulls":4},"",{"$nulls":15},"",{"$nulls":4},"",{"$nulls":4},"",{"$nulls":6},0,{"$f":"SUM($FL$36:$FL84)","v":0},0]
[50,{"$nulls":4},"N/A",{"$nulls":10},"","","",null,"","","",null,"","","",null,"","","",{"$nulls":5},"","","","","","","","",null,0,{"$nulls":3},"","","",null,"","","",null,"","","",null,"",{"$f":"IF($B85=\"Y\",IF(AND($AC85<>\"\",$AQ84<>\"\",$AR84<>\"\"),($AC85+$AQ84)/($AR84+1),\"\"),\"\")","v":""},"",{"$nulls":8},"",{"$nulls":4},"",{"$nulls":4},"",{"$nulls":15},"",{"$nulls":4},"",{"$nulls":4},"",{"$nulls":15},"",{"$nulls":4},"",{"$nulls":4},"",{"$nulls":15},"",{"$nulls":4},"",{"$nulls":4},"",{"$nulls":6},0,{"$f":"SUM($FL$36:$FL85)","v":0},0]
[null,null,{"$f":"SUM(C36:C85)","v":0}]
["g/bhp-hr"]
["g/kW-hr"]

{"sheet":"Engine Family #28","index":30,"n_rows":88,"n_cols":176,"rows_kept":88,"merged":[[1,0,1,35],[2,0,2,35],[3,0,3,35],[4,0,4,35],[5,0,5,35],[6,0,6,35],[8,0,8,16],[10,4,10,6],[10,12,10,13],[11,4,11,6],[11,15,11,16],[11,19,11,20],[11,23,11,24],[11,27,11,28],[12,4,12,6],[13,4,13,6],[14,4,15,6],[17,14,22,14],[27,4,30,13],[27,15,28,16],[32,0,32,16],[32,17,32,33],[32,34,32,35],[33,45,34,45]]}
[]
["United States"]
["US Environmental Protection Agency"]
["Office of Air and Radiation, Office of Transportation and Air Quality"]
[{"$nulls":37},"Tier 2","Y",94]
["Manufacturer Production Line Testing Report for Marine Compression Ignition Engines",{"$nulls":36},"Tier 3","N",1042]
[{"$f":"Summary!B7","v":"Version Number: 1.4 DRAFT  Last Revision: September 2023"},{"$nulls":36},"Tier 4",null,"N/A"]
[]
["Basic Information: Engine Family #28"]
[{"$nulls":167},{"$f":"IF(AND($G$24=94,Summary!$L$13=\"Category 1\"),0,1)","v":1}]
[null,null,"Manufacturer:",null,{"$f":"IF(Summary!D12<>\"\",Summary!D12,\"\")","v":""},{"$nulls":3},"Engine Family:",{"$nulls":31},{"$f":"IF($G$19=\"Diesel\",\"'HC' refers to 'THC' \",IF($G$19=\"Natural Gas\",\"'HC' refers to 'NMHC' \",IF($G$19=\"Alcohol\",\"'HC' refers to 'THCE' \",\"\")))","v":""}]
[null,null,"PLT Test Contact:",null,{"$f":"IF(Summary!D13<>\"\",Summary!D13,\"\")","v":""},{"$nulls":3},"Production (Category 3 only):",{"$nulls":6},{"$f":"IF(N16<>\"Y\", \"Current CO Result\", \"Final CO Result\")","v":"Current CO Result"},null,{"$f":"$CJ$36","v":""},null,{"$f":"IF(N16<>\"Y\", \"Current PM Result\", \"Final PM Result\")","v":"Current PM Result"},null,{"$f":"$DJ$36","v":""},null,{"$f":"IF($AF$12=\"Y\",IF(N16<>\"Y\", \"Current NOx+HC Result\", \"Final NOx+HC Result\"),IF(N16<>\"Y\", \"Current HC Result\", \"Final HC Result\"))","v":"Current HC Result"},null,{"$f":"IF($AF$12=\"Y\",IF($FP$36>0,ROUND($EJ$36+$FJ$36,2),\"\"),$EJ$36)","v":""},null,{"$f":"IF(N16<>\"Y\", \"Current NOx Result\",\"Final NOx Result\")","v":"Current NOx Result"},null,{"$f":"$FJ$36","v":""},null,{"$f":"IF($L$13<>\"Category 3\",IF($G$23=\"\",\"N\",$G$23),\"N\")","v":"N"},{"$f":"IF(Summary!$L$13=\"Category 3\",\"CAT3\",\"\")","v":""}]
[null,null,"Email Address:",null,{"$f":"IF(Summary!D14<>\"\",Summary!D14,\"\")","v":""},{"$nulls":3},"Date of Start of Model Year Production:"]
[null,null,"Phone #:",null,{"$f":"IF(Summary!D15<>\"\",Summary!D15,\"\")","v":""},{"$nulls":3},"Date of End of Model Year Production:",{"$nulls":14},{"$f":"IF($G$19=\"Diesel\",\"'HC' refers to 'THC' \",IF($G$19=\"Natural Gas\",\"'HC' refers to 'NMHC' \",IF($G$19=\"Alcohol\",\"'HC' refers to 'THCE' \",\"\")))","v":""},{"$nulls":13},"Diesel",1,{"$nulls":6},1]
[null,null,"Test Location & Description:",{"$nulls":5},"Deterioration Factor Type:",{"$nulls":28},"Natural Gas",2,{"$nulls":6},2]
[{"$nulls":8},"Include Results from this Engine Family on Summary Sheet?",{"$nulls":6},"CO Standard ",{"$nulls":3},"PM Standard or FEL",{"$nulls":3},{"$f":"IF($AF$12=\"Y\",\"NOx+HC Standard or FEL\",\"HC Standard\")","v":"HC Standard"},{"$nulls":3},"NOx Standard or FEL",{"$nulls":9},"Alcohol",3,{"$nulls":6},3]
[null,null,"Carryover?:",{"$nulls":5},"Required Tests (including failure follow-ups)",{"$nulls":4},{"$f":"$FO36","v":0},null,"Units",null,"g/kW-hr",null,"Units",null,"g/kW-hr",null,"Units",null,"g/kW-hr",null,"Units",null,"g/kW-hr",{"$nulls":4},"Test Cycle Options",{"$nulls":10},4]
[null,null,{"$f":"IF($G$17=\"Y\",\"Please submit supporting documentation indicating that this is a carry-over engine family\",\"\")","v":""},{"$nulls":5},"Instead of testing, are PLT requirements for this Engine Family",{"$nulls":6},"CO  Det Factor",{"$nulls":3},"PM  Det Factor",{"$nulls":3},"HC Det Factor",{"$nulls":3},"NOx  Det Factor",{"$nulls":6},"1 = 4-Mode General Cycle (E3)",null,null,"Recreational"]
[null,null,"Fuel Type:",{"$nulls":5}," fulfilled under the following (Category 1 only)?",{"$nulls":6},"Det Factor Type",null,{"$f":"IF($N$15<>\"\",$N$15,\"\")","v":""},null,"Det Factor Type",null,{"$f":"IF($N$15<>\"\",$N$15,\"\")","v":""},null,"Det Factor Type",null,{"$f":"IF($N$15<>\"\",$N$15,\"\")","v":""},null,"Det Factor Type",null,{"$f":"IF($N$15<>\"\",$N$15,\"\")","v":""},{"$nulls":4},"2 = 5-Mode Recreational Cycle (E5)",null,null,"Commercial"]
[null,null,"Recreational/Commercial:",{"$nulls":5},"Please elaborate in the comments section.",{"$nulls":6},"CO Green Engine Factor",{"$nulls":3},"PM Green Engine Factor",{"$nulls":3},"HC Green Engine Factor",{"$nulls":3},"NOx Green Engine Factor",{"$nulls":6},"3 = 4-Mode Constant Speed Propulsion Cycle (E2)"]
[null,null,"Model Year:",{"$nulls":5},"    -1042.310(a) - EPA approved combining it, for PLT purposes only.",{"$nulls":25},"4 = 5-Mode Constant Speed Auxiliary Cycle (D2)"]
[null,null,"Tier:",{"$nulls":31},"5 = 6-Mode Variable Speed Auxiliary Cycle (G2)",null,null,"1 (E3)"]
[null,null,"Combined NOx+HC?",{"$nulls":31},"6 = 8-Mode Variable Speed Ausiliary Cycle (C1)",null,null,"2 (E5)"]
[null,null,"40 CFR Part:",{"$nulls":3},{"$f":"AN6","v":1042},null,"Additional testing required by EPA [40 CFR 1042.301(e)]? ",{"$nulls":25},"O = Other",null,null,"3 (E2)"]
[{"$nulls":37},"4 (D2)"]
[{"$nulls":37},"5 (G2)",{"$nulls":132},"deleted and redirected"]
[{"$nulls":22}," ",{"$nulls":14},"6 (C1)",4,{"$nulls":6},4]
[null,null,"Comments:",{"$nulls":34},"O (other)"]
[{"$nulls":22}," ",{"$nulls":22},"additive"]
[{"$nulls":45},"multiplicative",{"$nulls":22},"CO Rounding",{"$nulls":4},"CO Rounding",{"$nulls":4},"CO Rounding",{"$nulls":4},"CO Rounding",{"$nulls":10},"PM Rounding",{"$nulls":4},"PM Rounding",{"$nulls":4},"PM Rounding",{"$nulls":4},"PM Rounding",{"$nulls":10},"HC Rounding",{"$nulls":4},"HC Rounding",{"$nulls":4},"HC Rounding",{"$nulls":4},"HC Rounding",{"$nulls":10},"NOx Rounding",{"$nulls":4},"NOx Rounding",{"$nulls":4},"NOx Rounding",{"$nulls":4},"NOx Rounding"]
[{"$nulls":22}," ",{"$nulls":45},"initial",{"$nulls":4},"final",{"$nulls":4}," det final",{"$nulls":4},"ave of all final",{"$nulls":10},"initial",{"$nulls":4},"final",{"$nulls":4}," det final",{"$nulls":4},"ave of all final",{"$nulls":10},"initial",{"$nulls":4},"final",{"$nulls":4}," det final",{"$nulls":4},"ave of all final",{"$nulls":10},"initial",{"$nulls":4},"final",{"$nulls":4}," det final",{"$nulls":4},"ave of all final"]
[{"$nulls":38},"Y",{"$nulls":6},"Y"]
["PLT Engine Test Results: Engine Family #28",{"$nulls":37},"N",{"$nulls":6},"N",{"$nulls":124},"This is N17"]
[{"$nulls":36},"CO",null,"PM",null,null,"HC or HC+NOX",null,"Nox",null,"Engine Data Complete?",{"$nulls":11},"HC","HC","HC","HC","Nox","Nox","Nox","Nox",{"$nulls":107},"1% of production or pre-approved reduced sample size - whichever is Lower # "]
[null,"Calc Final Result?","Test Number","Test Date","Test Time","Test Qtr","Engine ID","Engine Make","Engine Configuration","Build Date","Green Engine Factor Applied?","Green Engine Factor Determination Method","Service Hours (or miles) Accumulation","Service Hours Location","Service Acc. Procedure","CO Initial Result ","Rounded CO Initial Result ","CO Final Result ","Det. CO Final Result ","PM Initial Result ","Rounded PM Initial Result ","PM Final Result ","Det. PM Final Result ","HC Initial Result ","Rounded HC Initial Result ","HC Final Result ","Det. HC Final Result ","NOx Initial Result ","Rounded NOx Initial Result ","NOx Final Result ","Det. NOx Final Result ","Reason for Failed Test (if applicable)","Remedy","Repairs","Test Cycle","Comments",0,0,0,0,0,0,0,0,{"$nulls":5},"Unrounded initial CO","Unrounded final CO","Det CO","Final CO","Unrounded initial PM","Unrounded final PM","Det PM","Final PM","Unrounded initial HCNOx","Unrounded final HCNOx","Det HCNOx","Final HCNOX","Unrounded initial NOx","Unrounded final NOx","Det NOx","Final HCNOX",{"$nulls":7},"rounded",{"$nulls":4},"rounded",{"$nulls":4},"rounded",{"$nulls":4},"rounded",{"$nulls":10},"rounded",{"$nulls":4},"rounded",{"$nulls":4},"rounded",{"$nulls":4},"rounded",{"$nulls":10},"rounded",{"$nulls":4},"rounded",{"$nulls":4},"rounded",{"$nulls":4},"rounded","ROUNDED AND ACCOUNT FOR BLANK",{"$nulls":9},"rounded",{"$nulls":4},"rounded",{"$nulls":4},"rounded",{"$nulls":4},"rounded","ROUNDED AND ACCOUNT FOR BLANK","Test complete Flag","Total complete","Fail Flag","req","val","baseline req","req due to fails","sum fails","baseline req"]
[1,{"$nulls":4},"N/A",{"$nulls":10},{"$f":"$BU36","v":""},{"$f":"$BZ36","v":""},{"$f":"$CE36","v":""},null,{"$f":"$CU36","v":""},{"$f":"$CZ36","v":""},{"$f":"$DE36","v":""},null,{"$f":"$DU36","v":""},{"$f":"$DZ36","v":""},{"$f":"$EE36","v":""},null,{"$f":"$EU36","v":""},{"$f":"$EZ36","v":""},{"$f":"$FE36","v":""},{"$nulls":5},{"$f":"IF($B36=\"N\",IF(AND($AK35<>\"\",$Q36<>\"\"),$AK35+$Q36,\"\"),IF($B36=\"Y\",0,\"\"))","v":""},{"$f":"IF($B36=\"N\",AL35+1,IF($B36=\"Y\",0,\"\"))","v":""},{"$f":"IF($B36=\"N\",IF(AND($AM35<>\"\",$U36<>\"\"),$AM35+$U36,\"\"),IF($B36=\"Y\",0,\"\"))","v":""},{"$f":"IF($B36=\"N\",AN35+1,IF($B36=\"Y\",0,\"\"))","v":""},{"$f":"IF($B36=\"N\",IF(AND($AO35<>\"\",$Y36<>\"\"),$AO35+$Y36,\"\"),IF($B36=\"Y\",0,\"\"))","v":""},{"$f":"IF($B36=\"N\",AP35+1,IF($B36=\"Y\",0,\"\"))","v":""},{"$f":"IF($B36=\"N\",IF(AND($AQ35<>\"\",$AC36<>\"\"),$AQ35+$AC36,\"\"),IF($B36=\"Y\",0,\"\"))","v":""},{"$f":"IF($B36=\"N\",AR35+1,IF($B36=\"Y\",0,\"\"))","v":""},null,{"$f":"IF(AND(B36<>\"\",C36<>\"\",D36<>\"\",E36<>\"\",G36<>\"\",H36<>\"\",I36<>\"\",J36<>\"\",K36<>\"\",M36<>\"\",N36<>\"\",O36<>\"\"),1,0)","v":0},{"$nulls":3},{"$f":"IF(AND($P36<>\"\",$AT36=1),$P36,\"\")","v":""},{"$f":"IF($B36=\"Y\",IF(AND($Q36<>\"\",$AK35<>\"\",$AL35<>\"\"),($Q36+$AK35)/($AL35+1),\"\"),\"\")","v":""},{"$f":"IF(AND($B36=\"Y\",$R36<>\"\",$R$18<>\"\"),IF($R$19=\"additive\",$R36+$R$18,IF($R$19=\"multiplicative\",$R36*$R$18,\"\")),\"\")","v":""},{"$f":"IF(COUNT($S$36:$S$85)>0,AVERAGE($S$36:$S$85),\"\")","v":""},{"$f":"IF(AND($T36<>\"\",$AT36=1),$T36,\"\")","v":""},{"$f":"IF($B36=\"Y\",IF(AND($U36<>\"\",$AM35<>\"\",$AN35<>\"\"),($U36+$AM35)/($AN35+1),\"\"),\"\")","v":""},{"$f":"IF(AND($B36=\"Y\",$V36<>\"\",$V$18<>\"\"),IF($V$19=\"additive\",$V36+$V$18,IF($V$19=\"multiplicative\",$V36*$V$18,\"\")),\"\")","v":""},{"$f":"IF(COUNT($W$36:$W$85)>0,AVERAGE($W$36:$W$85),\"\")","v":""},{"$f":"IF(AND($X36<>\"\",$AT36=1),$X36,\"\")","v":""},{"$f":"IF($B36=\"Y\",IF(AND($Y36<>\"\",$AO35<>\"\",$AP35<>\"\"),($Y36+$AO35)/($AP35+1),\"\"),\"\")","v":""},{"$f":"IF(AND($B36=\"Y\",$Z36<>\"\",$Z$18<>\"\"),IF($Z$19=\"additive\",$Z36+$Z$18,IF($Z$19=\"multiplicative\",$Z36*$Z$18,\"\")),\"\")","v":""},{"$f":"IF(COUNT($AA$36:$AA$85)>0,AVERAGE($AA$36:$AA$85),\"\")","v":""},{"$f":"IF(AND($AB36<>\"\",$AT36=1),$AB36,\"\")","v":""},{"$f":"IF($B36=\"Y\",IF(AND($AC36<>\"\",$AQ35<>\"\",$AR35<>\"\"),($AC36+$AQ35)/($AR35+1),\"\"),\"\")","v":""},{"$f":"IF(AND($B36=\"Y\",$AD36<>\"\",$AD$18<>\"\"),IF($AD$19=\"additive\",$AD36+$AD$18,IF($AD$19=\"multiplicative\",$AD36*$AD$18,\"\")),\"\")","v":""},{"$f":"IF(COUNT($AE$36:$AE$85)>0,AVERAGE($AE$36:$AE$85),\"\")","v":""},{"$nulls":7},{"$f":"IF($AX36<>\"\",ROUND($AX36,2),\"\")","v":""},{"$nulls":4},{"$f":"IF($AY36<>\"\",ROUND($AY36,2),\"\")","v":""},{"$nulls":4},{"$f":"IF($AZ36<>\"\",ROUND($AZ36,2),\"\")","v":""},{"$nulls":4},{"$f":"IF($BA36<>\"\",ROUND($BA36,2),\"\")","v":""},{"$nulls":10},{"$f":"IF($BB36<>\"\",ROUND($BB36,3),\"\")","v":""},{"$nulls":4},{"$f":"IF($BC36<>\"\",ROUND($BC36,3),\"\")","v":""},{"$nulls":4},{"$f":"IF($BD36<>\"\",ROUND($BD36,3),\"\")","v":""},{"$nulls":4},{"$f":"IF($BE36<>\"\",ROUND($BE36,3),\"\")","v":""},{"$nulls":10},{"$f":"IF($BF36<>\"\",ROUND($BF36,3),\"\")","v":""},{"$nulls":4},{"$f":"IF($BG36<>\"\",ROUND($BG36,3),\"\")","v":""},{"$nulls":4},{"$f":"IF($BH36<>\"\",ROUND($BH36,3),\"\")","v":""},{"$nulls":4},{"$f":"IF($BI36<>\"\",ROUND($BI36,3),\"\")","v":""},{"$f":"IF(EJ36=\"\",0,EJ36)","v":0},{"$nulls":9},{"$f":"IF($BJ36<>\"\",ROUND($BJ36,2),\"\")","v":""},{"$nulls":4},{"$f":"IF($BK36<>\"\",ROUND($BK36,2),\"\")","v":""},{"$nulls":4},{"$f":"IF($BL36<>\"\",ROUND($BL36,2),\"\")","v":""},{"$nulls":4},{"$f":"IF($BM36<>\"\",ROUND($BM36,2),\"\")","v":""},{"$f":"IF(FJ36=\"\",0,FJ36)","v":0},{"$f":"IF($AG$12<>\"CAT3\",IF(AND($B36=\"Y\",$S36<>\"\",$W36<>\"\",$AA36<>\"\",$AE36<>\"\"),1,0),IF($AE36<>\"\",1,0))","v":0},{"$f":"SUM($FL$36:$FL36)","v":0},{"$f":"IF($AG$12<>\"CAT3\",IF($FL36=1,IF(OR($S36>$R$16,$W36>$V$16,$AA36>$Z$16,IF($AF$12<>\"Y\",OR($AA36>$Z$16,$AE36>$AD$16),ROUND(($AA36+$AE36),2)>$Z$16)),1,0),0),IF($FL36=1,IF(AND($AE36>$AD$16,$AF$12=\"N\"),1,0),0))","v":0},{"$f":"IF(OR($M$11=\"\",$N$18=\"Y\"),0,IF($AG$12=\"CAT3\",$N$12,($FR$36+1)))","v":0},{"$f":"SUM(FL36:FL85)","v":0},{"$f":"IF(AND($G$17=\"Y\",$N$24<>\"\"),MIN($N$24,$FT$36),$FT$36)","v":0},{"$f":"$FS$36*2","v":0},{"$f":"SUM(FN36:FN85)","v":0},{"$f":"IF($N$12<>\"\",$N$12*0.01,0)","v":0}]
[{"$f":"A36+1","v":2},{"$nulls":4},"N/A",{"$nulls":10},"","","",null,"","","",null,"","","",null,"","","",{"$nulls":5},"",{"$f":"IF($B37=\"N\",AL36+1,IF($B37=\"Y\",0,\"\"))","v":""},"",{"$f":"IF($B37=\"N\",AN36+1,IF($B37=\"Y\",0,\"\"))","v":""},{"$f":"IF($B37=\"N\",IF(AND($AO36<>\"\",$Y37<>\"\"),$AO36+$Y37,\"\"),IF($B37=\"Y\",0,\"\"))","v":""},{"$f":"IF($B37=\"N\",AP36+1,IF($B37=\"Y\",0,\"\"))","v":""},{"$f":"IF($B37=\"N\",IF(AND($AQ36<>\"\",$AC37<>\"\"),$AQ36+$AC37,\"\"),IF($B37=\"Y\",0,\"\"))","v":""},{"$f":"IF($B37=\"N\",AR36+1,IF($B37=\"Y\",0,\"\"))","v":""},null,{"$f":"IF(AND(B37<>\"\",C37<>\"\",D37<>\"\",E37<>\"\",G37<>\"\",H37<>\"\",I37<>\"\",J37<>\"\",K37<>\"\",M37<>\"\",N37<>\"\",O37<>\"\"),1,0)","v":0},{"$nulls":3},"","",{"$f":"IF(AND($B37=\"Y\",$R37<>\"\",$R$18<>\"\"),IF($R$19=\"additive\",$R37+$R$18,IF($R$19=\"multiplicative\",$R37*$R$18,\"\")),\"\")","v":""},null,"","",{"$f":"IF(AND($B37=\"Y\",$V37<>\"\",$V$18<>\"\"),IF($V$19=\"additive\",$V37+$V$18,IF($V$19=\"multiplicative\",$V37*$V$18,\"\")),\"\")","v":""},null,{"$f":"IF(AND($X37<>\"\",$AT37=1),$X37,\"\")","v":""},{"$f":"IF($B37=\"Y\",IF(AND($Y37<>\"\",$AO36<>\"\",$AP36<>\"\"),($Y37+$AO36)/($AP36+1),\"\"),\"\")","v":""},{"$f":"IF(AND($B37=\"Y\",$Z37<>\"\",$Z$18<>\"\"),IF($Z$19=\"additive\",$Z37+$Z$18,IF($Z$19=\"multiplicative\",$Z37*$Z$18,\"\")),\"\")","v":""},null,{"$f":"IF(AND($AB37<>\"\",$AT37=1),$AB37,\"\")","v":""},{"$f":"IF($B37=\"Y\",IF(AND($AC37<>\"\",$AQ36<>\"\",$AR36<>\"\"),($AC37+$AQ36)/($AR36+1),\"\"),\"\")","v":""},{"$f":"IF(AND($B37=\"Y\",$AD37<>\"\",$AD$18<>\"\"),IF($AD$19=\"additive\",$AD37+$AD$18,IF($AD$19=\"multiplicative\",$AD37*$AD$18,\"\")),\"\")","v":""},{"$nulls":8},{"$f":"IF($AX37<>\"\",ROUND($AX37,2),\"\")","v":""},{"$nulls":4},{"$f":"IF($AY37<>\"\",ROUND($AY37,2),\"\")","v":""},{"$nulls":4},{"$f":"IF($AZ37<>\"\",ROUND($AZ37,2),\"\")","v":""},{"$nulls":15},{"$f":"IF($BB37<>\"\",ROUND($BB37,3),\"\")","v":""},{"$nulls":4},{"$f":"IF($BC37<>\"\",ROUND($BC37,3),\"\")","v":""},{"$nulls":4},{"$f":"IF($BD37<>\"\",ROUND($BD37,3),\"\")","v":""},{"$nulls":15},{"$f":"IF($BF37<>\"\",ROUND($BF37,3),\"\")","v":""},{"$nulls":4},{"$f":"IF($BG37<>\"\",ROUND($BG37,3),\"\")","v":""},{"$nulls":4},{"$f":"IF($BH37<>\"\",ROUND($BH37,3),\"\")","v":""},{"$nulls":15},{"$f":"IF($BJ37<>\"\",ROUND($BJ37,2),\"\")","v":""},{"$nulls":4},{"$f":"IF($BK37<>\"\",ROUND($BK37,2),\"\")","v":""},{"$nulls":4},{"$f":"IF($BL37<>\"\",ROUND($BL37,2),\"\")","v":""},{"$nulls":6},{"$f":"IF($AG$12<>\"CAT3\",IF(AND($B37=\"Y\",$S37<>\"\",$W37<>\"\",$AA37<>\"\",$AE37<>\"\"),1,0),IF($AE37<>\"\",1,0))","v":0},{"$f":"SUM($FL$36:$FL37)","v":0},{"$f":"IF($AG$12<>\"CAT3\",IF($FL37=1,IF(OR($S37>$R$16,$W37>$V$16,$AA37>$Z$16,IF($AF$12<>\"Y\",OR($AA37>$Z$16,$AE37>$AD$16),ROUND(($AA37+$AE37),2)>$Z$16)),1,0),0),IF($FL37=1,IF(AND($AE37>$AD$16,$AF$12=\"N\"),1,0),0))","v":0},null,null,{"$f":"MAX($FQ$36,$FL$10)","v":1}]
[{"$f":"A37+1","v":3},{"$nulls":4},"N/A",{"$nulls":10},"","","",null,"","","",null,"","","",null,"","","",{"$nulls":5},"","","","","","","","",null,0,{"$nulls":3},"","","",null,"","","",null,"","","",null,"","","",{"$nulls":8},"",{"$nulls":4},"",{"$nulls":4},"",{"$nulls":15},"",{"$nulls":4},"",{"$nulls":4},"",{"$nulls":15},"",{"$nulls":4},"",{"$nulls":4},"",{"$nulls":15},"",{"$nulls":4},"",{"$nulls":4},"",{"$nulls":6},0,{"$f":"SUM($FL$36:$FL38)","v":0},0]
[4,{"$nulls":4},"N/A",{"$nulls":10},"","","",null,"","","",null,"","","",null,"","","",{"$nulls":5},"","","","","","","","",null,0,{"$nulls":3},"","","",null,"","","",null,"","","",null,"","","",{"$nulls":8},"",{"$nulls":4},"",{"$nulls":4},"",{"$nulls":15},"",{"$nulls":4},"",{"$nulls":4},"",{"$nulls":15},"",{"$nulls":4},"",{"$nulls":4},"",{"$nulls":15},"",{"$nulls":4},"",{"$nulls":4},"",{"$nulls":6},0,{"$f":"SUM($FL$36:$FL39)","v":0},0,null,null,"then, the larger of that sample size or 1  (or if Part 94 and cat1,  can be 0)"]
[5,{"$nulls":4},"N/A",{"$nulls":10},"","","",null,"","","",null,"","","",null,"","","",{"$nulls":5},"","","","","","","","",null,0,{"$nulls":3},"","","",null,"","","",null,"","","",null,"","","",{"$nulls":8},"",{"$nulls":4},"",{"$nulls":4},"",{"$nulls":15},"",{"$nulls":4},"",{"$nulls":4},"",{"$nulls":15},"",{"$nulls":4},"",{"$nulls":4},"",{"$nulls":15},"",{"$nulls":4},"",{"$nulls":4},"",{"$nulls":6},0,{"$f":"SUM($FL$36:$FL40)","v":0},0]
[6,{"$nulls":4},"N/A",{"$nulls":10},"","","",null,"","","",null,"","","",null,"","","",{"$nulls":5},"","","","","","","","",null,0,{"$nulls":3},"","","",null,"","","",null,"","","",null,"","","",{"$nulls":8},"",{"$nulls":4},"",{"$nulls":4},"",{"$nulls":15},"",{"$nulls":4},"",{"$nulls":4},"",{"$nulls":15},"",{"$nulls":4},"",{"$nulls":4},"",{"$nulls":15},"",{"$nulls":4},"",{"$nulls":4},"",{"$nulls":6},0,{"$f":"SUM($FL$36:$FL41)","v":0},0]
[7,{"$nulls":4},"N/A",{"$nulls":10},"","","",null,"","","",null,"","","",null,"","","",{"$nulls":5},"","","","","","","","",null,0,{"$nulls":3},"","","",null,"","","",null,"","","",null,"","","",{"$nulls":8},"",{"$nulls":4},"",{"$nulls":4},"",{"$nulls":15},"",{"$nulls":4},"",{"$nulls":4},"",{"$nulls":15},"",{"$nulls":4},"",{"$nulls":4},"",{"$nulls":15},"",{"$nulls":4},"",{"$nulls":4},"",{"$nulls":6},0,{"$f":"SUM($FL$36:$FL42)","v":0},0]
[8,{"$nulls":4},"N/A",{"$nulls":10},"","","",null,"","","",null,"","","",null,"","","",{"$nulls":5},"","","","","","","","",null,0,{"$nulls":3},"","","",null,"","","",null,"","","",null,"","","",{"$nulls":8},"",{"$nulls":4},"",{"$nulls":4},"",{"$nulls":15},"",{"$nulls":4},"",{"$nulls":4},"",{"$nulls":15},"",{"$nulls":4},"",{"$nulls":4},"",{"$nulls":15},"",{"$nulls":4},"",{"$nulls":4},"",{"$nulls":6},0,{"$f":"SUM($FL$36:$FL43)","v":0},0]
[9,{"$nulls":4},"N/A",{"$nulls":10},"","","",null,"","","",null,"","","",null,"","","",{"$nulls":5},"","","","","","","","",null,0,{"$nulls":3},"","","",null,"","","",null,"","","",null,"","","",{"$nulls":8},"",{"$nulls":4},"",{"$nulls":4},"",{"$nulls":15},"",{"$nulls":4},"",{"$nulls":4},"",{"$nulls":15},"",{"$nulls":4},"",{"$nulls":4},"",{"$nulls":15},"",{"$nulls":4},"",{"$nulls":4},"",{"$nulls":6},0,{"$f":"SUM($FL$36:$FL44)","v":0},0]
[10,{"$nulls":4},"N/A",{"$nulls":10},"","","",null,"","","",null,"","","",null,"","","",{"$nulls":5},"","","","","","","","",null,0,{"$nulls":3},"","","",null,"","","",null,"","","",null,"","","",{"$nulls":8},"",{"$nulls":4},"",{"$nulls":4},"",{"$nulls":15},"",{"$nulls":4},"",{"$nulls":4},"",{"$nulls":15},"",{"$nulls":4},"",{"$nulls":4},"",{"$nulls":15},"",{"$nulls":4},"",{"$nulls":4},"",{"$nulls":6},0,{"$f":"SUM($FL$36:$FL45)","v":0},0]
[11,{"$nulls":4},"N/A",{"$nulls":10},"","","",null,"","","",null,"","","",null,"","","",{"$nulls":5},"","","","","","","","",null,0,{"$nulls":3},"","","",null,"","","",null,"","","",null,"","","",{"$nulls":8},"",{"$nulls":4},"",{"$nulls":4},"",{"$nulls":15},"",{"$nulls":4},"",{"$nulls":4},"",{"$nulls":15},"",{"$nulls":4},"",{"$nulls":4},"",{"$nulls":15},"",{"$nulls":4},"",{"$nulls":4},"",{"$nulls":6},0,{"$f":"SUM($FL$36:$FL46)","v":0},0]
[12,{"$nulls":4},"N/A",{"$nulls":10},"","","",null,"","","",null,"","","",null,"","","",{"$nulls":5},"","","","","","","","",null,0,{"$nulls":3},"","","",null,"","","",null,"","","",null,"","","",{"$nulls":8},"",{"$nulls":4},"",{"$nulls":4},"",{"$nulls":15},"",{"$nulls":4},"",{"$nulls":4},"",{"$nulls":15},"",{"$nulls":4},"",{"$nulls":4},"",{"$nulls":15},"",{"$nulls":4},"",{"$nulls":4},"",{"$nulls":6},0,{"$f":"SUM($FL$36:$FL47)","v":0},0]
[13,{"$nulls":4},"N/A",{"$nulls":10},"","","",null,"","","",null,"","","",null,"","","",{"$nulls":5},"","","","","","","","",null,0,{"$nulls":3},"","","",null,"","","",null,"","","",null,"","","",{"$nulls":8},"",{"$nulls":4},"",{"$nulls":4},"",{"$nulls":15},"",{"$nulls":4},"",{"$nulls":4},"",{"$nulls":15},"",{"$nulls":4},"",{"$nulls":4},"",{"$nulls":15},"",{"$nulls":4},"",{"$nulls":4},"",{"$nulls":6},0,{"$f":"SUM($FL$36:$FL48)","v":0},0]
[14,{"$nulls":4},"N/A",{"$nulls":10},"","","",null,"","","",null,"","","",null,"","","",{"$nulls":5},"","","","","","","","",null,0,{"$nulls":3},"","","",null,"","","",null,"","","",null,"","","",{"$nulls":8},"",{"$nulls":4},"",{"$nulls":4},"",{"$nulls":15},"",{"$nulls":4},"",{"$nulls":4},"",{"$nulls":15},"",{"$nulls":4},"",{"$nulls":4},"",{"$nulls":15},"",{"$nulls":4},"",{"$nulls":4},"",{"$nulls":6},0,{"$f":"SUM($FL$36:$FL49)","v":0},0]
[15,{"$nulls":4},"N/A",{"$nulls":10},"","","",null,"","","",null,"","","",null,"","","",{"$nulls":5},"","","","","","","","",null,0,{"$nulls":3},"","","",null,"","","",null,"","","",null,"","","",{"$nulls":8},"",{"$nulls":4},"",{"$nulls":4},"",{"$nulls":15},"",{"$nulls":4},"",{"$nulls":4},"",{"$nulls":15},"",{"$nulls":4},"",{"$nulls":4},"",{"$nulls":15},"",{"$nulls":4},"",{"$nulls":4},"",{"$nulls":6},0,{"$f":"SUM($FL$36:$FL50)","v":0},0]
[16,{"$nulls":4},"N/A",{"$nulls":10},"","","",null,"","","",null,"","","",null,"","","",{"$nulls":5},"","","","","","","","",null,0,{"$nulls":3},"","","",null,"","","",null,"","","",null,"","","",{"$nulls":8},"",{"$nulls":4},"",{"$nulls":4},"",{"$nulls":15},"",{"$nulls":4},"",{"$nulls":4},"",{"$nulls":15},"",{"$nulls":4},"",{"$nulls":4},"",{"$nulls":15},"",{"$nulls":4},"",{"$nulls":4},"",{"$nulls":6},0,{"$f":"SUM($FL$36:$FL51)","v":0},0]
[17,{"$nulls":4},"N/A",{"$nulls":10},"","","",null,"","","",null,"","","",null,"","","",{"$nulls":5},"","","","","","","","",null,0,{"$nulls":3},"","","",null,"","","",null,"","","",null,"","","",{"$nulls":8},"",{"$nulls":4},"",{"$nulls":4},"",{"$nulls":15},"",{"$nulls":4},"",{"$nulls":4},"",{"$nulls":15},"",{"$nulls":4},"",{"$nulls":4},"",{"$nulls":15},"",{"$nulls":4},"",{"$nulls":4},"",{"$nulls":6},0,{"$f":"SUM($FL$36:$FL52)","v":0},0]
[18,{"$nulls":4},"N/A",{"$nulls":10},"","","",null,"","","",null,"","","",null,"","","",{"$nulls":5},"","","","","","","","",null,0,{"$nulls":3},"","","",null,"","","",null,"","","",null,"","","",{"$nulls":8},"",{"$nulls":4},"",{"$nulls":4},"",{"$nulls":15},"",{"$nulls":4},"",{"$nulls":4},"",{"$nulls":15},"",{"$nulls":4},"",{"$nulls":4},"",{"$nulls":15},"",{"$nulls":4},"",{"$nulls":4},"",{"$nulls":6},0,{"$f":"SUM($FL$36:$FL53)","v":0},0]
[19,{"$nulls":4},"N/A",{"$nulls":10},"","","",null,"","","",null,"","","",null,"","","",{"$nulls":5},"","","","","","","","",null,0,{"$nulls":3},"","","",null,"","","",null,"","","",null,"","","",{"$nulls":8},"",{"$nulls":4},"",{"$nulls":4},"",{"$nulls":15},"",{"$nulls":4},"",{"$nulls":4},"",{"$nulls":15},"",{"$nulls":4},"",{"$nulls":4},"",{"$nulls":15},"",{"$nulls":4},"",{"$nulls":4},"",{"$nulls":6},0,{"$f":"SUM($FL$36:$FL54)","v":0},0]
[20,{"$nulls":4},"N/A",{"$nulls":10},"","","",null,"","","",null,"","","",null,"","","",{"$nulls":5},"","","","","","","","",null,0,{"$nulls":3},"","","",null,"","","",null,"","","",null,"","","",{"$nulls":8},"",{"$nulls":4},"",{"$nulls":4},"",{"$nulls":15},"",{"$nulls":4},"",{"$nulls":4},"",{"$nulls":15},"",{"$nulls":4},"",{"$nulls":4},"",{"$nulls":15},"",{"$nulls":4},"",{"$nulls":4},"",{"$nulls":6},0,{"$f":"SUM($FL$36:$FL55)","v":0},0]
[21,{"$nulls":4},"N/A",{"$nulls":10},"","","",null,"","","",null,"","","",null,"","","",{"$nulls":5},"","","","","","","","",null,0,{"$nulls":3},"","","",null,"","","",null,"","","",null,"","","",{"$nulls":8},"",{"$nulls":4},"",{"$nulls":4},"",{"$nulls":15},"",{"$nulls":4},"",{"$nulls":4},"",{"$nulls":15},"",{"$nulls":4},"",{"$nulls":4},"",{"$nulls":15},"",{"$nulls":4},"",{"$nulls":4},"",{"$nulls":6},0,{"$f":"SUM($FL$36:$FL56)","v":0},0]
[22,{"$nulls":4},"N/A",{"$nulls":10},"","","",null,"","","",null,"","","",null,"","","",{"$nulls":5},"","","","","","","","",null,0,{"$nulls":3},"","","",null,"","","",null,"","","",null,"","","",{"$nulls":8},"",{"$nulls":4},"",{"$nulls":4},"",{"$nulls":15},"",{"$nulls":4},"",{"$nulls":4},"",{"$nulls":15},"",{"$nulls":4},"",{"$nulls":4},"",{"$nulls":15},"",{"$nulls":4},"",{"$nulls":4},"",{"$nulls":6},0,{"$f":"SUM($FL$36:$FL57)","v":0},0]
[23,{"$nulls":4},"N/A",{"$nulls":10},"","","",null,"","","",null,"","","",null,"","","",{"$nulls":5},"","","","","","","","",null,0,{"$nulls":3},"","","",null,"","","",null,"","","",null,"","","",{"$nulls":8},"",{"$nulls":4},"",{"$nulls":4},"",{"$nulls":15},"",{"$nulls":4},"",{"$nulls":4},"",{"$nulls":15},"",{"$nulls":4},"",{"$nulls":4},"",{"$nulls":15},"",{"$nulls":4},"",{"$nulls":4},"",{"$nulls":6},0,{"$f":"SUM($FL$36:$FL58)","v":0},0]
[24,{"$nulls":4},"N/A",{"$nulls":10},"","","",null,"","","",null,"","","",null,"","","",{"$nulls":5},"","","","","","","","",null,0,{"$nulls":3},"","","",null,"","","",null,"","","",null,"","","",{"$nulls":8},"",{"$nulls":4},"",{"$nulls":4},"",{"$nulls":15},"",{"$nulls":4},"",{"$nulls":4},"",{"$nulls":15},"",{"$nulls":4},"",{"$nulls":4},"",{"$nulls":15},"",{"$nulls":4},"",{"$nulls":4},"",{"$nulls":6},0,{"$f":"SUM($FL$36:$FL59)","v":0},0]
[25,{"$nulls":4},"N/A",{"$nulls":10},"","","",null,"","","",null,"","","",null,"","","",{"$nulls":5},"","","","","","","","",null,0,{"$nulls":3},"","","",null,"","","",null,"","","",null,"","","",{"$nulls":8},"",{"$nulls":4},"",{"$nulls":4},"",{"$nulls":15},"",{"$nulls":4},"",{"$nulls":4},"",{"$nulls":15},"",{"$nulls":4},"",{"$nulls":4},"",{"$nulls":15},"",{"$nulls":4},"",{"$nulls":4},"",{"$nulls":6},0,{"$f":"SUM($FL$36:$FL60)","v":0},0]
[26,{"$nulls":4},"N/A",{"$nulls":10},"","","",null,"","","",null,"","","",null,"","","",{"$nulls":5},"","","","","","","","",null,0,{"$nulls":3},"","","",null,"","","",null,"","","",null,"","","",{"$nulls":8},"",{"$nulls":4},"",{"$nulls":4},"",{"$nulls":15},"",{"$nulls":4},"",{"$nulls":4},"",{"$nulls":15},"",{"$nulls":4},"",{"$nulls":4},"",{"$nulls":15},"",{"$nulls":4},"",{"$nulls":4},"",{"$nulls":6},0,{"$f":"SUM($FL$36:$FL61)","v":0},0]
[27,{"$nulls":4},"N/A",{"$nulls":10},"","","",null,"","","",null,"","","",null,"","","",{"$nulls":5},"","","","","","","","",null,0,{"$nulls":3},"","","",null,"","","",null,"","","",null,"","","",{"$nulls":8},"",{"$nulls":4},"",{"$nulls":4},"",{"$nulls":15},"",{"$nulls":4},"",{"$nulls":4},"",{"$nulls":15},"",{"$nulls":4},"",{"$nulls":4},"",{"$nulls":15},"",{"$nulls":4},"",{"$nulls":4},"",{"$nulls":6},0,{"$f":"SUM($FL$36:$FL62)","v":0},0]
[28,{"$nulls":4},"N/A",{"$nulls":10},"","","",null,"","","",null,"","","",null,"","","",{"$nulls":5},"","","","","","","","",null,0,{"$nulls":3},"","","",null,"","","",null,"","","",null,"","","",{"$nulls":8},"",{"$nulls":4},"",{"$nulls":4},"",{"$nulls":15},"",{"$nulls":4},"",{"$nulls":4},"",{"$nulls":15},"",{"$nulls":4},"",{"$nulls":4},"",{"$nulls":15},"",{"$nulls":4},"",{"$nulls":4},"",{"$nulls":6},0,{"$f":"SUM($FL$36:$FL63)","v":0},0]
[29,{"$nulls":4},"N/A",{"$nulls":10},"","","",null,"","","",null,"","","",null,"","","",{"$nulls":5},"","","","","","","","",null,0,{"$nulls":3},"","","",null,"","","",null,"","","",null,"","","",{"$nulls":8},"",{"$nulls":4},"",{"$nulls":4},"",{"$nulls":15},"",{"$nulls":4},"",{"$nulls":4},"",{"$nulls":15},"",{"$nulls":4},"",{"$nulls":4},"",{"$nulls":15},"",{"$nulls":4},"",{"$nulls":4},"",{"$nulls":6},0,{"$f":"SUM($FL$36:$FL64)","v":0},0]
[30,{"$nulls":4},"N/A",{"$nulls":10},"","","",null,"","","",null,"","","",null,"","","",{"$nulls":5},"","","","","","","","",null,0,{"$nulls":3},"","","",null,"","","",null,"","","",null,"","","",{"$nulls":8},"",{"$nulls":4},"",{"$nulls":4},"",{"$nulls":15},"",{"$nulls":4},"",{"$nulls":4},"",{"$nulls":15},"",{"$nulls":4},"",{"$nulls":4},"",{"$nulls":15},"",{"$nulls":4},"",{"$nulls":4},"",{"$nulls":6},0,{"$f":"SUM($FL$36:$FL65)","v":0},0]
[31,{"$nulls":4},"N/A",{"$nulls":10},"","","",null,"","","",null,"","","",null,"","","",{"$nulls":5},"","","","","","","","",null,0,{"$nulls":3},"","","",null,"","","",null,"","","",null,"","","",{"$nulls":8},"",{"$nulls":4},"",{"$nulls":4},"",{"$nulls":15},"",{"$nulls":4},"",{"$nulls":4},"",{"$nulls":15},"",{"$nulls":4},"",{"$nulls":4},"",{"$nulls":15},"",{"$nulls":4},"",{"$nulls":4},"",{"$nulls":6},0,{"$f":"SUM($FL$36:$FL66)","v":0},0]
[32,{"$nulls":4},"N/A",{"$nulls":10},"","","",null,"","","",null,"","","",null,"","","",{"$nulls":5},"","","","","","","","",null,0,{"$nulls":3},"","","",null,"","","",null,"","","",null,"","","",{"$nulls":8},"",{"$nulls":4},"",{"$nulls":4},"",{"$nulls":15},"",{"$nulls":4},"",{"$nulls":4},"",{"$nulls":15},"",{"$nulls":4},"",{"$nulls":4},"",{"$nulls":15},"",{"$nulls":4},"",{"$nulls":4},"",{"$nulls":6},0,{"$f":"SUM($FL$36:$FL67)","v":0},0]
[33,{"$nulls":4},"N/A",{"$nulls":10},"","","",null,"","","",null,"","","",null,"","","",{"$nulls":5},"","","","","","","","",null,0,{"$nulls":3},"","","",null,"","","",null,"","","",null,"","","",{"$nulls":8},"",{"$nulls":4},"",{"$nulls":4},"",{"$nulls":15},"",{"$nulls":4},"",{"$nulls":4},"",{"$nulls":15},"",{"$nulls":4},"",{"$nulls":4},"",{"$nulls":15},"",{"$nulls":4},"",{"$nulls":4},"",{"$nulls":6},0,{"$f":"SUM($FL$36:$FL68)","v":0},0]
[34,{"$nulls":4},"N/A",{"$nulls":10},"","","",null,"","","",null,"","","",null,"","","",{"$nulls":5},"","","","","","","","",null,0,{"$nulls":3},"","","",null,"","","",null,"","","",null,"","","",{"$nulls":8},"",{"$nulls":4},"",{"$nulls":4},"",{"$nulls":15},"",{"$nulls":4},"",{"$nulls":4},"",{"$nulls":15},"",{"$nulls":4},"",{"$nulls":4},"",{"$nulls":15},"",{"$nulls":4},"",{"$nulls":4},"",{"$nulls":6},0,{"$f":"SUM($FL$36:$FL69)","v":0},0]
[35,{"$nulls":4},"N/A",{"$nulls":10},"","","",null,"","","",null,"","","",null,"","","",{"$nulls":5},"","","","","","","","",null,0,{"$nulls":3},"","","",null,"","","",null,"","","",null,"","","",{"$nulls":8},"",{"$nulls":4},"",{"$nulls":4},"",{"$nulls":15},"",{"$nulls":4},"",{"$nulls":4},"",{"$nulls":15},"",{"$nulls":4},"",{"$nulls":4},"",{"$nulls":15},"",{"$nulls":4},"",{"$nulls":4},"",{"$nulls":6},0,{"$f":"SUM($FL$36:$FL70)","v":0},0]
[36,{"$nulls":4},"N/A",{"$nulls":10},"","","",null,"","","",null,"","","",null,"","","",{"$nulls":5},"","","","","","","","",null,0,{"$nulls":3},"","","",null,"","","",null,"","","",null,"","","",{"$nulls":8},"",{"$nulls":4},"",{"$nulls":4},"",{"$nulls":15},"",{"$nulls":4},"",{"$nulls":4},"",{"$nulls":15},"",{"$nulls":4},"",{"$nulls":4},"",{"$nulls":15},"",{"$nulls":4},"",{"$nulls":4},"",{"$nulls":6},0,{"$f":"SUM($FL$36:$FL71)","v":0},0]
[37,{"$nulls":4},"N/A",{"$nulls":10},"","","",null,"","","",null,"","","",null,"","","",{"$nulls":5},"","","","","","","","",null,0,{"$nulls":3},"","","",null,"","","",null,"","","",null,"","","",{"$nulls":8},"",{"$nulls":4},"",{"$nulls":4},"",{"$nulls":15},"",{"$nulls":4},"",{"$nulls":4},"",{"$nulls":15},"",{"$nulls":4},"",{"$nulls":4},"",{"$nulls":15},"",{"$nulls":4},"",{"$nulls":4},"",{"$nulls":6},0,{"$f":"SUM($FL$36:$FL72)","v":0},0]
[38,{"$nulls":4},"N/A",{"$nulls":10},"","","",null,"","","",null,"","","",null,"","","",{"$nulls":5},"","","","","","","","",null,0,{"$nulls":3},"","","",null,"","","",null,"","","",null,"","","",{"$nulls":8},"",{"$nulls":4},"",{"$nulls":4},"",{"$nulls":15},"",{"$nulls":4},"",{"$nulls":4},"",{"$nulls":15},"",{"$nulls":4},"",{"$nulls":4},"",{"$nulls":15},"",{"$nulls":4},"",{"$nulls":4},"",{"$nulls":6},0,{"$f":"SUM($FL$36:$FL73)","v":0},0]
[39,{"$nulls":4},"N/A",{"$nulls":10},"","","",null,"","","",null,"","","",null,"","","",{"$nulls":5},"","","","","","","","",null,0,{"$nulls":3},"","","",null,"","","",null,"","","",null,"","","",{"$nulls":8},"",{"$nulls":4},"",{"$nulls":4},"",{"$nulls":15},"",{"$nulls":4},"",{"$nulls":4},"",{"$nulls":15},"",{"$nulls":4},"",{"$nulls":4},"",{"$nulls":15},"",{"$nulls":4},"",{"$nulls":4},"",{"$nulls":6},0,{"$f":"SUM($FL$36:$FL74)","v":0},0]
[40,{"$nulls":4},"N/A",{"$nulls":10},"","","",null,"","","",null,"","","",null,"","","",{"$nulls":5},"","","","","","","","",null,0,{"$nulls":3},"","","",null,"","","",null,"","","",null,"","","",{"$nulls":8},"",{"$nulls":4},"",{"$nulls":4},"",{"$nulls":15},"",{"$nulls":4},"",{"$nulls":4},"",{"$nulls":15},"",{"$nulls":4},"",{"$nulls":4},"",{"$nulls":15},"",{"$nulls":4},"",{"$nulls":4},"",{"$nulls":6},0,{"$f":"SUM($FL$36:$FL75)","v":0},0]
[41,{"$nulls":4},"N/A",{"$nulls":10},"","","",null,"","","",null,"","","",null,"","","",{"$nulls":5},"","","","","","","","",null,0,{"$nulls":3},"","","",null,"","","",null,"","","",null,"","","",{"$nulls":8},"",{"$nulls":4},"",{"$nulls":4},"",{"$nulls":15},"",{"$nulls":4},"",{"$nulls":4},"",{"$nulls":15},"",{"$nulls":4},"",{"$nulls":4},"",{"$nulls":15},"",{"$nulls":4},"",{"$nulls":4},"",{"$nulls":6},0,{"$f":"SUM($FL$36:$FL76)","v":0},0]
[42,{"$nulls":4},"N/A",{"$nulls":10},"","","",null,"","","",null,"","","",null,"","","",{"$nulls":5},"","","","","","","","",null,0,{"$nulls":3},"","","",null,"","","",null,"","","",null,"","","",{"$nulls":8},"",{"$nulls":4},"",{"$nulls":4},"",{"$nulls":15},"",{"$nulls":4},"",{"$nulls":4},"",{"$nulls":15},"",{"$nulls":4},"",{"$nulls":4},"",{"$nulls":15},"",{"$nulls":4},"",{"$nulls":4},"",{"$nulls":6},0,{"$f":"SUM($FL$36:$FL77)","v":0},0]
[43,{"$nulls":4},"N/A",{"$nulls":10},"","","",null,"","","",null,"","","",null,"","","",{"$nulls":5},"","","","","","","","",null,0,{"$nulls":3},"","","",null,"","","",null,"","","",null,"","","",{"$nulls":8},"",{"$nulls":4},"",{"$nulls":4},"",{"$nulls":15},"",{"$nulls":4},"",{"$nulls":4},"",{"$nulls":15},"",{"$nulls":4},"",{"$nulls":4},"",{"$nulls":15},"",{"$nulls":4},"",{"$nulls":4},"",{"$nulls":6},0,{"$f":"SUM($FL$36:$FL78)","v":0},0]
[44,{"$nulls":4},"N/A",{"$nulls":10},"","","",null,"","","",null,"","","",null,"","","",{"$nulls":5},"","","","","","","","",null,0,{"$nulls":3},"","","",null,"","","",null,"","","",null,"","","",{"$nulls":8},"",{"$nulls":4},"",{"$nulls":4},"",{"$nulls":15},"",{"$nulls":4},"",{"$nulls":4},"",{"$nulls":15},"",{"$nulls":4},"",{"$nulls":4},"",{"$nulls":15},"",{"$nulls":4},"",{"$nulls":4},"",{"$nulls":6},0,{"$f":"SUM($FL$36:$FL79)","v":0},0]
[45,{"$nulls":4},"N/A",{"$nulls":10},"","","",null,"","","",null,"","","",null,"","","",{"$nulls":5},"","","","","","","","",null,0,{"$nulls":3},"","","",null,"","","",null,"","","",null,"","","",{"$nulls":8},"",{"$nulls":4},"",{"$nulls":4},"",{"$nulls":15},"",{"$nulls":4},"",{"$nulls":4},"",{"$nulls":15},"",{"$nulls":4},"",{"$nulls":4},"",{"$nulls":15},"",{"$nulls":4},"",{"$nulls":4},"",{"$nulls":6},0,{"$f":"SUM($FL$36:$FL80)","v":0},0]
[46,{"$nulls":4},"N/A",{"$nulls":10},"","","",null,"","","",null,"","","",null,"","","",{"$nulls":5},"","","","","","","","",null,0,{"$nulls":3},"","","",null,"","","",null,"","","",null,"","","",{"$nulls":8},"",{"$nulls":4},"",{"$nulls":4},"",{"$nulls":15},"",{"$nulls":4},"",{"$nulls":4},"",{"$nulls":15},"",{"$nulls":4},"",{"$nulls":4},"",{"$nulls":15},"",{"$nulls":4},"",{"$nulls":4},"",{"$nulls":6},0,{"$f":"SUM($FL$36:$FL81)","v":0},0]
[47,{"$nulls":4},"N/A",{"$nulls":10},"","","",null,"","","",null,"","","",null,"","","",{"$nulls":5},"","","","","","","","",null,0,{"$nulls":3},"","","",null,"","","",null,"","","",null,"","","",{"$nulls":8},"",{"$nulls":4},"",{"$nulls":4},"",{"$nulls":15},"",{"$nulls":4},"",{"$nulls":4},"",{"$nulls":15},"",{"$nulls":4},"",{"$nulls":4},"",{"$nulls":15},"",{"$nulls":4},"",{"$nulls":4},"",{"$nulls":6},0,{"$f":"SUM($FL$36:$FL82)","v":0},0]
[48,{"$nulls":4},"N/A",{"$nulls":10},"","","",null,"","","",null,"","","",null,"","","",{"$nulls":5},"","","","","","","","",null,0,{"$nulls":3},"","","",null,"","","",null,"","","",null,"","","",{"$nulls":8},"",{"$nulls":4},"",{"$nulls":4},"",{"$nulls":15},"",{"$nulls":4},"",{"$nulls":4},"",{"$nulls":15},"",{"$nulls":4},"",{"$nulls":4},"",{"$nulls":15},"",{"$nulls":4},"",{"$nulls":4},"",{"$nulls":6},0,{"$f":"SUM($FL$36:$FL83)","v":0},0]
[49,{"$nulls":4},"N/A",{"$nulls":10},"","","",null,"","","",null,"","","",null,"","","",{"$nulls":5},"","","","","","","","",null,0,{"$nulls":3},"","","",null,"","","",null,"","","",null,"","","",{"$nulls":8},"",{"$nulls":4},"",{"$nulls":4},"",{"$nulls":15},"",{"$nulls":4},"",{"$nulls":4},"",{"$nulls":15},"",{"$nulls":4},"",{"$nulls":4},"",{"$nulls":15},"",{"$nulls":4},"",{"$nulls":4},"",{"$nulls":6},0,{"$f":"SUM($FL$36:$FL84)","v":0},0]
[50,{"$nulls":4},"N/A",{"$nulls":10},"","","",null,"","","",null,"","","",null,"","","",{"$nulls":5},"","","","","","","","",null,0,{"$nulls":3},"","","",null,"","","",null,"","","",null,"",{"$f":"IF($B85=\"Y\",IF(AND($AC85<>\"\",$AQ84<>\"\",$AR84<>\"\"),($AC85+$AQ84)/($AR84+1),\"\"),\"\")","v":""},"",{"$nulls":8},"",{"$nulls":4},"",{"$nulls":4},"",{"$nulls":15},"",{"$nulls":4},"",{"$nulls":4},"",{"$nulls":15},"",{"$nulls":4},"",{"$nulls":4},"",{"$nulls":15},"",{"$nulls":4},"",{"$nulls":4},"",{"$nulls":6},0,{"$f":"SUM($FL$36:$FL85)","v":0},0]
[null,null,{"$f":"SUM(C36:C85)","v":0}]
["g/bhp-hr"]
["g/kW-hr"]

{"sheet":"Engine Family #29","index":31,"n_rows":88,"n_cols":176,"rows_kept":88,"merged":[[1,0,1,35],[2,0,2,35],[3,0,3,35],[4,0,4,35],[5,0,5,35],[6,0,6,35],[8,0,8,16],[10,4,10,6],[10,12,10,13],[11,4,11,6],[11,15,11,16],[11,19,11,20],[11,23,11,24],[11,27,11,28],[12,4,12,6],[13,4,13,6],[14,4,15,6],[17,14,22,14],[27,4,30,13],[27,15,28,16],[32,0,32,16],[32,17,32,33],[32,34,32,35],[33,45,34,45]]}
[]
["United States"]
["US Environmental Protection Agency"]
["Office of Air and Radiation, Office of Transportation and Air Quality"]
[{"$nulls":37},"Tier 2","Y",94]
["Manufacturer Production Line Testing Report for Marine Compression Ignition Engines",{"$nulls":36},"Tier 3","N",1042]
[{"$f":"Summary!B7","v":"Version Number: 1.4 DRAFT  Last Revision: September 2023"},{"$nulls":36},"Tier 4",null,"N/A"]
[]
["Basic Information: Engine Family #29"]
[{"$nulls":167},{"$f":"IF(AND($G$24=94,Summary!$L$13=\"Category 1\"),0,1)","v":1}]
[null,null,"Manufacturer:",null,{"$f":"IF(Summary!D12<>\"\",Summary!D12,\"\")","v":""},{"$nulls":3},"Engine Family:",{"$nulls":31},{"$f":"IF($G$19=\"Diesel\",\"'HC' refers to 'THC' \",IF($G$19=\"Natural Gas\",\"'HC' refers to 'NMHC' \",IF($G$19=\"Alcohol\",\"'HC' refers to 'THCE' \",\"\")))","v":""}]
[null,null,"PLT Test Contact:",null,{"$f":"IF(Summary!D13<>\"\",Summary!D13,\"\")","v":""},{"$nulls":3},"Production (Category 3 only):",{"$nulls":6},{"$f":"IF(N16<>\"Y\", \"Current CO Result\", \"Final CO Result\")","v":"Current CO Result"},null,{"$f":"$CJ$36","v":""},null,{"$f":"IF(N16<>\"Y\", \"Current PM Result\", \"Final PM Result\")","v":"Current PM Result"},null,{"$f":"$DJ$36","v":""},null,{"$f":"IF($AF$12=\"Y\",IF(N16<>\"Y\", \"Current NOx+HC Result\", \"Final NOx+HC Result\"),IF(N16<>\"Y\", \"Current HC Result\", \"Final HC Result\"))","v":"Current HC Result"},null,{"$f":"IF($AF$12=\"Y\",IF($FP$36>0,ROUND($EJ$36+$FJ$36,2),\"\"),$EJ$36)","v":""},null,{"$f":"IF(N16<>\"Y\", \"Current NOx Result\",\"Final NOx Result\")","v":"Current NOx Result"},null,{"$f":"$FJ$36","v":""},null,{"$f":"IF($L$13<>\"Category 3\",IF($G$23=\"\",\"N\",$G$23),\"N\")","v":"N"},{"$f":"IF(Summary!$L$13=\"Category 3\",\"CAT3\",\"\")","v":""}]
[null,null,"Email Address:",null,{"$f":"IF(Summary!D14<>\"\",Summary!D14,\"\")","v":""},{"$nulls":3},"Date of Start of Model Year Production:"]
[null,null,"Phone #:",null,{"$f":"IF(Summary!D15<>\"\",Summary!D15,\"\")","v":""},{"$nulls":3},"Date of End of Model Year Production:",{"$nulls":14},{"$f":"IF($G$19=\"Diesel\",\"'HC' refers to 'THC' \",IF($G$19=\"Natural Gas\",\"'HC' refers to 'NMHC' \",IF($G$19=\"Alcohol\",\"'HC' refers to 'THCE' \",\"\")))","v":""},{"$nulls":13},"Diesel",1,{"$nulls":6},1]
[null,null,"Test Location & Description:",{"$nulls":5},"Deterioration Factor Type:",{"$nulls":28},"Natural Gas",2,{"$nulls":6},2]
[{"$nulls":8},"Include Results from this Engine Family on Summary Sheet?",{"$nulls":6},"CO Standard ",{"$nulls":3},"PM Standard or FEL",{"$nulls":3},{"$f":"IF($AF$12=\"Y\",\"NOx+HC Standard or FEL\",\"HC Standard\")","v":"HC Standard"},{"$nulls":3},"NOx Standard or FEL",{"$nulls":9},"Alcohol",3,{"$nulls":6},3]
[null,null,"Carryover?:",{"$nulls":5},"Required Tests (including failure follow-ups)",{"$nulls":4},{"$f":"$FO36","v":0},null,"Units",null,"g/kW-hr",null,"Units",null,"g/kW-hr",null,"Units",null,"g/kW-hr",null,"Units",null,"g/kW-hr",{"$nulls":4},"Test Cycle Options",{"$nulls":10},4]
[null,null,{"$f":"IF($G$17=\"Y\",\"Please submit supporting documentation indicating that this is a carry-over engine family\",\"\")","v":""},{"$nulls":5},"Instead of testing, are PLT requirements for this Engine Family",{"$nulls":6},"CO  Det Factor",{"$nulls":3},"PM  Det Factor",{"$nulls":3},"HC Det Factor",{"$nulls":3},"NOx  Det Factor",{"$nulls":6},"1 = 4-Mode General Cycle (E3)",null,null,"Recreational"]
[null,null,"Fuel Type:",{"$nulls":5}," fulfilled under the following (Category 1 only)?",{"$nulls":6},"Det Factor Type",null,{"$f":"IF($N$15<>\"\",$N$15,\"\")","v":""},null,"Det Factor Type",null,{"$f":"IF($N$15<>\"\",$N$15,\"\")","v":""},null,"Det Factor Type",null,{"$f":"IF($N$15<>\"\",$N$15,\"\")","v":""},null,"Det Factor Type",null,{"$f":"IF($N$15<>\"\",$N$15,\"\")","v":""},{"$nulls":4},"2 = 5-Mode Recreational Cycle (E5)",null,null,"Commercial"]
[null,null,"Recreational/Commercial:",{"$nulls":5},"Please elaborate in the comments section.",{"$nulls":6},"CO Green Engine Factor",{"$nulls":3},"PM Green Engine Factor",{"$nulls":3},"HC Green Engine Factor",{"$nulls":3},"NOx Green Engine Factor",{"$nulls":6},"3 = 4-Mode Constant Speed Propulsion Cycle (E2)"]
[null,null,"Model Year:",{"$nulls":5},"    -1042.310(a) - EPA approved combining it, for PLT purposes only.",{"$nulls":25},"4 = 5-Mode Constant Speed Auxiliary Cycle (D2)"]
[null,null,"Tier:",{"$nulls":31},"5 = 6-Mode Variable Speed Auxiliary Cycle (G2)",null,null,"1 (E3)"]
[null,null,"Combined NOx+HC?",{"$nulls":31},"6 = 8-Mode Variable Speed Ausiliary Cycle (C1)",null,null,"2 (E5)"]
[null,null,"40 CFR Part:",{"$nulls":3},{"$f":"AN6","v":1042},null,"Additional testing required by EPA [40 CFR 1042.301(e)]? ",{"$nulls":25},"O = Other",null,null,"3 (E2)"]
[{"$nulls":37},"4 (D2)"]
[{"$nulls":37},"5 (G2)",{"$nulls":132},"deleted and redirected"]
[{"$nulls":22}," ",{"$nulls":14},"6 (C1)",4,{"$nulls":6},4]
[null,null,"Comments:",{"$nulls":34},"O (other)"]
[{"$nulls":22}," ",{"$nulls":22},"additive"]
[{"$nulls":45},"multiplicative",{"$nulls":22},"CO Rounding",{"$nulls":4},"CO Rounding",{"$nulls":4},"CO Rounding",{"$nulls":4},"CO Rounding",{"$nulls":10},"PM Rounding",{"$nulls":4},"PM Rounding",{"$nulls":4},"PM Rounding",{"$nulls":4},"PM Rounding",{"$nulls":10},"HC Rounding",{"$nulls":4},"HC Rounding",{"$nulls":4},"HC Rounding",{"$nulls":4},"HC Rounding",{"$nulls":10},"NOx Rounding",{"$nulls":4},"NOx Rounding",{"$nulls":4},"NOx Rounding",{"$nulls":4},"NOx Rounding"]
[{"$nulls":22}," ",{"$nulls":45},"initial",{"$nulls":4},"final",{"$nulls":4}," det final",{"$nulls":4},"ave of all final",{"$nulls":10},"initial",{"$nulls":4},"final",{"$nulls":4}," det final",{"$nulls":4},"ave of all final",{"$nulls":10},"initial",{"$nulls":4},"final",{"$nulls":4}," det final",{"$nulls":4},"ave of all final",{"$nulls":10},"initial",{"$nulls":4},"final",{"$nulls":4}," det final",{"$nulls":4},"ave of all final"]
[{"$nulls":38},"Y",{"$nulls":6},"Y"]
["PLT Engine Test Results: Engine Family #29",{"$nulls":37},"N",{"$nulls":6},"N",{"$nulls":124},"This is N17"]
[{"$nulls":36},"CO",null,"PM",null,null,"HC or HC+NOX",null,"Nox",null,"Engine Data Complete?",{"$nulls":11},"HC","HC","HC","HC","Nox","Nox","Nox","Nox",{"$nulls":107},"1% of production or pre-approved reduced sample size - whichever is Lower # "]
[null,"Calc Final Result?","Test Number","Test Date","Test Time","Test Qtr","Engine ID","Engine Make","Engine Configuration","Build Date","Green Engine Factor Applied?","Green Engine Factor Determination Method","Service Hours (or miles) Accumulation","Service Hours Location","Service Acc. Procedure","CO Initial Result ","Rounded CO Initial Result ","CO Final Result ","Det. CO Final Result ","PM Initial Result ","Rounded PM Initial Result ","PM Final Result ","Det. PM Final Result ","HC Initial Result ","Rounded HC Initial Result ","HC Final Result ","Det. HC Final Result ","NOx Initial Result ","Rounded NOx Initial Result ","NOx Final Result ","Det. NOx Final Result ","Reason for Failed Test (if applicable)","Remedy","Repairs","Test Cycle","Comments",0,0,0,0,0,0,0,0,{"$nulls":5},"Unrounded initial CO","Unrounded final CO","Det CO","Final CO","Unrounded initial PM","Unrounded final PM","Det PM","Final PM","Unrounded initial HCNOx","Unrounded final HCNOx","Det HCNOx","Final HCNOX","Unrounded initial NOx","Unrounded final NOx","Det NOx","Final HCNOX",{"$nulls":7},"rounded",{"$nulls":4},"rounded",{"$nulls":4},"rounded",{"$nulls":4},"rounded",{"$nulls":10},"rounded",{"$nulls":4},"rounded",{"$nulls":4},"rounded",{"$nulls":4},"rounded",{"$nulls":10},"rounded",{"$nulls":4},"rounded",{"$nulls":4},"rounded",{"$nulls":4},"rounded","ROUNDED AND ACCOUNT FOR BLANK",{"$nulls":9},"rounded",{"$nulls":4},"rounded",{"$nulls":4},"rounded",{"$nulls":4},"rounded","ROUNDED AND ACCOUNT FOR BLANK","Test complete Flag","Total complete","Fail Flag","req","val","baseline req","req due to fails","sum fails","baseline req"]
[1,{"$nulls":4},"N/A",{"$nulls":10},{"$f":"$BU36","v":""},{"$f":"$BZ36","v":""},{"$f":"$CE36","v":""},null,{"$f":"$CU36","v":""},{"$f":"$CZ36","v":""},{"$f":"$DE36","v":""},null,{"$f":"$DU36","v":""},{"$f":"$DZ36","v":""},{"$f":"$EE36","v":""},null,{"$f":"$EU36","v":""},{"$f":"$EZ36","v":""},{"$f":"$FE36","v":""},{"$nulls":5},{"$f":"IF($B36=\"N\",IF(AND($AK35<>\"\",$Q36<>\"\"),$AK35+$Q36,\"\"),IF($B36=\"Y\",0,\"\"))","v":""},{"$f":"IF($B36=\"N\",AL35+1,IF($B36=\"Y\",0,\"\"))","v":""},{"$f":"IF($B36=\"N\",IF(AND($AM35<>\"\",$U36<>\"\"),$AM35+$U36,\"\"),IF($B36=\"Y\",0,\"\"))","v":""},{"$f":"IF($B36=\"N\",AN35+1,IF($B36=\"Y\",0,\"\"))","v":""},{"$f":"IF($B36=\"N\",IF(AND($AO35<>\"\",$Y36<>\"\"),$AO35+$Y36,\"\"),IF($B36=\"Y\",0,\"\"))","v":""},{"$f":"IF($B36=\"N\",AP35+1,IF($B36=\"Y\",0,\"\"))","v":""},{"$f":"IF($B36=\"N\",IF(AND($AQ35<>\"\",$AC36<>\"\"),$AQ35+$AC36,\"\"),IF($B36=\"Y\",0,\"\"))","v":""},{"$f":"IF($B36=\"N\",AR35+1,IF($B36=\"Y\",0,\"\"))","v":""},null,{"$f":"IF(AND(B36<>\"\",C36<>\"\",D36<>\"\",E36<>\"\",G36<>\"\",H36<>\"\",I36<>\"\",J36<>\"\",K36<>\"\",M36<>\"\",N36<>\"\",O36<>\"\"),1,0)","v":0},{"$nulls":3},{"$f":"IF(AND($P36<>\"\",$AT36=1),$P36,\"\")","v":""},{"$f":"IF($B36=\"Y\",IF(AND($Q36<>\"\",$AK35<>\"\",$AL35<>\"\"),($Q36+$AK35)/($AL35+1),\"\"),\"\")","v":""},{"$f":"IF(AND($B36=\"Y\",$R36<>\"\",$R$18<>\"\"),IF($R$19=\"additive\",$R36+$R$18,IF($R$19=\"multiplicative\",$R36*$R$18,\"\")),\"\")","v":""},{"$f":"IF(COUNT($S$36:$S$85)>0,AVERAGE($S$36:$S$85),\"\")","v":""},{"$f":"IF(AND($T36<>\"\",$AT36=1),$T36,\"\")","v":""},{"$f":"IF($B36=\"Y\",IF(AND($U36<>\"\",$AM35<>\"\",$AN35<>\"\"),($U36+$AM35)/($AN35+1),\"\"),\"\")","v":""},{"$f":"IF(AND($B36=\"Y\",$V36<>\"\",$V$18<>\"\"),IF($V$19=\"additive\",$V36+$V$18,IF($V$19=\"multiplicative\",$V36*$V$18,\"\")),\"\")","v":""},{"$f":"IF(COUNT($W$36:$W$85)>0,AVERAGE($W$36:$W$85),\"\")","v":""},{"$f":"IF(AND($X36<>\"\",$AT36=1),$X36,\"\")","v":""},{"$f":"IF($B36=\"Y\",IF(AND($Y36<>\"\",$AO35<>\"\",$AP35<>\"\"),($Y36+$AO35)/($AP35+1),\"\"),\"\")","v":""},{"$f":"IF(AND($B36=\"Y\",$Z36<>\"\",$Z$18<>\"\"),IF($Z$19=\"additive\",$Z36+$Z$18,IF($Z$19=\"multiplicative\",$Z36*$Z$18,\"\")),\"\")","v":""},{"$f":"IF(COUNT($AA$36:$AA$85)>0,AVERAGE($AA$36:$AA$85),\"\")","v":""},{"$f":"IF(AND($AB36<>\"\",$AT36=1),$AB36,\"\")","v":""},{"$f":"IF($B36=\"Y\",IF(AND($AC36<>\"\",$AQ35<>\"\",$AR35<>\"\"),($AC36+$AQ35)/($AR35+1),\"\"),\"\")","v":""},{"$f":"IF(AND($B36=\"Y\",$AD36<>\"\",$AD$18<>\"\"),IF($AD$19=\"additive\",$AD36+$AD$18,IF($AD$19=\"multiplicative\",$AD36*$AD$18,\"\")),\"\")","v":""},{"$f":"IF(COUNT($AE$36:$AE$85)>0,AVERAGE($AE$36:$AE$85),\"\")","v":""},{"$nulls":7},{"$f":"IF($AX36<>\"\",ROUND($AX36,2),\"\")","v":""},{"$nulls":4},{"$f":"IF($AY36<>\"\",ROUND($AY36,2),\"\")","v":""},{"$nulls":4},{"$f":"IF($AZ36<>\"\",ROUND($AZ36,2),\"\")","v":""},{"$nulls":4},{"$f":"IF($BA36<>\"\",ROUND($BA36,2),\"\")","v":""},{"$nulls":10},{"$f":"IF($BB36<>\"\",ROUND($BB36,3),\"\")","v":""},{"$nulls":4},{"$f":"IF($BC36<>\"\",ROUND($BC36,3),\"\")","v":""},{"$nulls":4},{"$f":"IF($BD36<>\"\",ROUND($BD36,3),\"\")","v":""},{"$nulls":4},{"$f":"IF($BE36<>\"\",ROUND($BE36,3),\"\")","v":""},{"$nulls":10},{"$f":"IF($BF36<>\"\",ROUND($BF36,3),\"\")","v":""},{"$nulls":4},{"$f":"IF($BG36<>\"\",ROUND($BG36,3),\"\")","v":""},{"$nulls":4},{"$f":"IF($BH36<>\"\",ROUND($BH36,3),\"\")","v":""},{"$nulls":4},{"$f":"IF($BI36<>\"\",ROUND($BI36,3),\"\")","v":""},{"$f":"IF(EJ36=\"\",0,EJ36)","v":0},{"$nulls":9},{"$f":"IF($BJ36<>\"\",ROUND($BJ36,2),\"\")","v":""},{"$nulls":4},{"$f":"IF($BK36<>\"\",ROUND($BK36,2),\"\")","v":""},{"$nulls":4},{"$f":"IF($BL36<>\"\",ROUND($BL36,2),\"\")","v":""},{"$nulls":4},{"$f":"IF($BM36<>\"\",ROUND($BM36,2),\"\")","v":""},{"$f":"IF(FJ36=\"\",0,FJ36)","v":0},{"$f":"IF($AG$12<>\"CAT3\",IF(AND($B36=\"Y\",$S36<>\"\",$W36<>\"\",$AA36<>\"\",$AE36<>\"\"),1,0),IF($AE36<>\"\",1,0))","v":0},{"$f":"SUM($FL$36:$FL36)","v":0},{"$f":"IF($AG$12<>\"CAT3\",IF($FL36=1,IF(OR($S36>$R$16,$W36>$V$16,$AA36>$Z$16,IF($AF$12<>\"Y\",OR($AA36>$Z$16,$AE36>$AD$16),ROUND(($AA36+$AE36),2)>$Z$16)),1,0),0),IF($FL36=1,IF(AND($AE36>$AD$16,$AF$12=\"N\"),1,0),0))","v":0},{"$f":"IF(OR($M$11=\"\",$N$18=\"Y\"),0,IF($AG$12=\"CAT3\",$N$12,($FR$36+1)))","v":0},{"$f":"SUM(FL36:FL85)","v":0},{"$f":"IF(AND($G$17=\"Y\",$N$24<>\"\"),MIN($N$24,$FT$36),$FT$36)","v":0},{"$f":"$FS$36*2","v":0},{"$f":"SUM(FN36:FN85)","v":0},{"$f":"IF($N$12<>\"\",$N$12*0.01,0)","v":0}]
[{"$f":"A36+1","v":2},{"$nulls":4},"N/A",{"$nulls":10},"","","",null,"","","",null,"","","",null,"","","",{"$nulls":5},"",{"$f":"IF($B37=\"N\",AL36+1,IF($B37=\"Y\",0,\"\"))","v":""},"",{"$f":"IF($B37=\"N\",AN36+1,IF($B37=\"Y\",0,\"\"))","v":""},{"$f":"IF($B37=\"N\",IF(AND($AO36<>\"\",$Y37<>\"\"),$AO36+$Y37,\"\"),IF($B37=\"Y\",0,\"\"))","v":""},{"$f":"IF($B37=\"N\",AP36+1,IF($B37=\"Y\",0,\"\"))","v":""},{"$f":"IF($B37=\"N\",IF(AND($AQ36<>\"\",$AC37<>\"\"),$AQ36+$AC37,\"\"),IF($B37=\"Y\",0,\"\"))","v":""},{"$f":"IF($B37=\"N\",AR36+1,IF($B37=\"Y\",0,\"\"))","v":""},null,{"$f":"IF(AND(B37<>\"\",C37<>\"\",D37<>\"\",E37<>\"\",G37<>\"\",H37<>\"\",I37<>\"\",J37<>\"\",K37<>\"\",M37<>\"\",N37<>\"\",O37<>\"\"),1,0)","v":0},{"$nulls":3},"","",{"$f":"IF(AND($B37=\"Y\",$R37<>\"\",$R$18<>\"\"),IF($R$19=\"additive\",$R37+$R$18,IF($R$19=\"multiplicative\",$R37*$R$18,\"\")),\"\")","v":""},null,"","",{"$f":"IF(AND($B37=\"Y\",$V37<>\"\",$V$18<>\"\"),IF($V$19=\"additive\",$V37+$V$18,IF($V$19=\"multiplicative\",$V37*$V$18,\"\")),\"\")","v":""},null,{"$f":"IF(AND($X37<>\"\",$AT37=1),$X37,\"\")","v":""},{"$f":"IF($B37=\"Y\",IF(AND($Y37<>\"\",$AO36<>\"\",$AP36<>\"\"),($Y37+$AO36)/($AP36+1),\"\"),\"\")","v":""},{"$f":"IF(AND($B37=\"Y\",$Z37<>\"\",$Z$18<>\"\"),IF($Z$19=\"additive\",$Z37+$Z$18,IF($Z$19=\"multiplicative\",$Z37*$Z$18,\"\")),\"\")","v":""},null,{"$f":"IF(AND($AB37<>\"\",$AT37=1),$AB37,\"\")","v":""},{"$f":"IF($B37=\"Y\",IF(AND($AC37<>\"\",$AQ36<>\"\",$AR36<>\"\"),($AC37+$AQ36)/($AR36+1),\"\"),\"\")","v":""},{"$f":"IF(AND($B37=\"Y\",$AD37<>\"\",$AD$18<>\"\"),IF($AD$19=\"additive\",$AD37+$AD$18,IF($AD$19=\"multiplicative\",$AD37*$AD$18,\"\")),\"\")","v":""},{"$nulls":8},{"$f":"IF($AX37<>\"\",ROUND($AX37,2),\"\")","v":""},{"$nulls":4},{"$f":"IF($AY37<>\"\",ROUND($AY37,2),\"\")","v":""},{"$nulls":4},{"$f":"IF($AZ37<>\"\",ROUND($AZ37,2),\"\")","v":""},{"$nulls":15},{"$f":"IF($BB37<>\"\",ROUND($BB37,3),\"\")","v":""},{"$nulls":4},{"$f":"IF($BC37<>\"\",ROUND($BC37,3),\"\")","v":""},{"$nulls":4},{"$f":"IF($BD37<>\"\",ROUND($BD37,3),\"\")","v":""},{"$nulls":15},{"$f":"IF($BF37<>\"\",ROUND($BF37,3),\"\")","v":""},{"$nulls":4},{"$f":"IF($BG37<>\"\",ROUND($BG37,3),\"\")","v":""},{"$nulls":4},{"$f":"IF($BH37<>\"\",ROUND($BH37,3),\"\")","v":""},{"$nulls":15},{"$f":"IF($BJ37<>\"\",ROUND($BJ37,2),\"\")","v":""},{"$nulls":4},{"$f":"IF($BK37<>\"\",ROUND($BK37,2),\"\")","v":""},{"$nulls":4},{"$f":"IF($BL37<>\"\",ROUND($BL37,2),\"\")","v":""},{"$nulls":6},{"$f":"IF($AG$12<>\"CAT3\",IF(AND($B37=\"Y\",$S37<>\"\",$W37<>\"\",$AA37<>\"\",$AE37<>\"\"),1,0),IF($AE37<>\"\",1,0))","v":0},{"$f":"SUM($FL$36:$FL37)","v":0},{"$f":"IF($AG$12<>\"CAT3\",IF($FL37=1,IF(OR($S37>$R$16,$W37>$V$16,$AA37>$Z$16,IF($AF$12<>\"Y\",OR($AA37>$Z$16,$AE37>$AD$16),ROUND(($AA37+$AE37),2)>$Z$16)),1,0),0),IF($FL37=1,IF(AND($AE37>$AD$16,$AF$12=\"N\"),1,0),0))","v":0},null,null,{"$f":"MAX($FQ$36,$FL$10)","v":1}]
[{"$f":"A37+1","v":3},{"$nulls":4},"N/A",{"$nulls":10},"","","",null,"","","",null,"","","",null,"","","",{"$nulls":5},"","","","","","","","",null,0,{"$nulls":3},"","","",null,"","","",null,"","","",null,"","","",{"$nulls":8},"",{"$nulls":4},"",{"$nulls":4},"",{"$nulls":15},"",{"$nulls":4},"",{"$nulls":4},"",{"$nulls":15},"",{"$nulls":4},"",{"$nulls":4},"",{"$nulls":15},"",{"$nulls":4},"",{"$nulls":4},"",{"$nulls":6},0,{"$f":"SUM($FL$36:$FL38)","v":0},0]
[4,{"$nulls":4},"N/A",{"$nulls":10},"","","",null,"","","",null,"","","",null,"","","",{"$nulls":5},"","","","","","","","",null,0,{"$nulls":3},"","","",null,"","","",null,"","","",null,"","","",{"$nulls":8},"",{"$nulls":4},"",{"$nulls":4},"",{"$nulls":15},"",{"$nulls":4},"",{"$nulls":4},"",{"$nulls":15},"",{"$nulls":4},"",{"$nulls":4},"",{"$nulls":15},"",{"$nulls":4},"",{"$nulls":4},"",{"$nulls":6},0,{"$f":"SUM($FL$36:$FL39)","v":0},0,null,null,"then, the larger of that sample size or 1  (or if Part 94 and cat1,  can be 0)"]
[5,{"$nulls":4},"N/A",{"$nulls":10},"","","",null,"","","",null,"","","",null,"","","",{"$nulls":5},"","","","","","","","",null,0,{"$nulls":3},"","","",null,"","","",null,"","","",null,"","","",{"$nulls":8},"",{"$nulls":4},"",{"$nulls":4},"",{"$nulls":15},"",{"$nulls":4},"",{"$nulls":4},"",{"$nulls":15},"",{"$nulls":4},"",{"$nulls":4},"",{"$nulls":15},"",{"$nulls":4},"",{"$nulls":4},"",{"$nulls":6},0,{"$f":"SUM($FL$36:$FL40)","v":0},0]
[6,{"$nulls":4},"N/A",{"$nulls":10},"","","",null,"","","",null,"","","",null,"","","",{"$nulls":5},"","","","","","","","",null,0,{"$nulls":3},"","","",null,"","","",null,"","","",null,"","","",{"$nulls":8},"",{"$nulls":4},"",{"$nulls":4},"",{"$nulls":15},"",{"$nulls":4},"",{"$nulls":4},"",{"$nulls":15},"",{"$nulls":4},"",{"$nulls":4},"",{"$nulls":15},"",{"$nulls":4},"",{"$nulls":4},"",{"$nulls":6},0,{"$f":"SUM($FL$36:$FL41)","v":0},0]
[7,{"$nulls":4},"N/A",{"$nulls":10},"","","",null,"","","",null,"","","",null,"","","",{"$nulls":5},"","","","","","","","",null,0,{"$nulls":3},"","","",null,"","","",null,"","","",null,"","","",{"$nulls":8},"",{"$nulls":4},"",{"$nulls":4},"",{"$nulls":15},"",{"$nulls":4},"",{"$nulls":4},"",{"$nulls":15},"",{"$nulls":4},"",{"$nulls":4},"",{"$nulls":15},"",{"$nulls":4},"",{"$nulls":4},"",{"$nulls":6},0,{"$f":"SUM($FL$36:$FL42)","v":0},0]
[8,{"$nulls":4},"N/A",{"$nulls":10},"","","",null,"","","",null,"","","",null,"","","",{"$nulls":5},"","","","","","","","",null,0,{"$nulls":3},"","","",null,"","","",null,"","","",null,"","","",{"$nulls":8},"",{"$nulls":4},"",{"$nulls":4},"",{"$nulls":15},"",{"$nulls":4},"",{"$nulls":4},"",{"$nulls":15},"",{"$nulls":4},"",{"$nulls":4},"",{"$nulls":15},"",{"$nulls":4},"",{"$nulls":4},"",{"$nulls":6},0,{"$f":"SUM($FL$36:$FL43)","v":0},0]
[9,{"$nulls":4},"N/A",{"$nulls":10},"","","",null,"","","",null,"","","",null,"","","",{"$nulls":5},"","","","","","","","",null,0,{"$nulls":3},"","","",null,"","","",null,"","","",null,"","","",{"$nulls":8},"",{"$nulls":4},"",{"$nulls":4},"",{"$nulls":15},"",{"$nulls":4},"",{"$nulls":4},"",{"$nulls":15},"",{"$nulls":4},"",{"$nulls":4},"",{"$nulls":15},"",{"$nulls":4},"",{"$nulls":4},"",{"$nulls":6},0,{"$f":"SUM($FL$36:$FL44)","v":0},0]
[10,{"$nulls":4},"N/A",{"$nulls":10},"","","",null,"","","",null,"","","",null,"","","",{"$nulls":5},"","","","","","","","",null,0,{"$nulls":3},"","","",null,"","","",null,"","","",null,"","","",{"$nulls":8},"",{"$nulls":4},"",{"$nulls":4},"",{"$nulls":15},"",{"$nulls":4},"",{"$nulls":4},"",{"$nulls":15},"",{"$nulls":4},"",{"$nulls":4},"",{"$nulls":15},"",{"$nulls":4},"",{"$nulls":4},"",{"$nulls":6},0,{"$f":"SUM($FL$36:$FL45)","v":0},0]
[11,{"$nulls":4},"N/A",{"$nulls":10},"","","",null,"","","",null,"","","",null,"","","",{"$nulls":5},"","","","","","","","",null,0,{"$nulls":3},"","","",null,"","","",null,"","","",null,"","","",{"$nulls":8},"",{"$nulls":4},"",{"$nulls":4},"",{"$nulls":15},"",{"$nulls":4},"",{"$nulls":4},"",{"$nulls":15},"",{"$nulls":4},"",{"$nulls":4},"",{"$nulls":15},"",{"$nulls":4},"",{"$nulls":4},"",{"$nulls":6},0,{"$f":"SUM($FL$36:$FL46)","v":0},0]
[12,{"$nulls":4},"N/A",{"$nulls":10},"","","",null,"","","",null,"","","",null,"","","",{"$nulls":5},"","","","","","","","",null,0,{"$nulls":3},"","","",null,"","","",null,"","","",null,"","","",{"$nulls":8},"",{"$nulls":4},"",{"$nulls":4},"",{"$nulls":15},"",{"$nulls":4},"",{"$nulls":4},"",{"$nulls":15},"",{"$nulls":4},"",{"$nulls":4},"",{"$nulls":15},"",{"$nulls":4},"",{"$nulls":4},"",{"$nulls":6},0,{"$f":"SUM($FL$36:$FL47)","v":0},0]
[13,{"$nulls":4},"N/A",{"$nulls":10},"","","",null,"","","",null,"","","",null,"","","",{"$nulls":5},"","","","","","","","",null,0,{"$nulls":3},"","","",null,"","","",null,"","","",null,"","","",{"$nulls":8},"",{"$nulls":4},"",{"$nulls":4},"",{"$nulls":15},"",{"$nulls":4},"",{"$nulls":4},"",{"$nulls":15},"",{"$nulls":4},"",{"$nulls":4},"",{"$nulls":15},"",{"$nulls":4},"",{"$nulls":4},"",{"$nulls":6},0,{"$f":"SUM($FL$36:$FL48)","v":0},0]
[14,{"$nulls":4},"N/A",{"$nulls":10},"","","",null,"","","",null,"","","",null,"","","",{"$nulls":5},"","","","","","","","",null,0,{"$nulls":3},"","","",null,"","","",null,"","","",null,"","","",{"$nulls":8},"",{"$nulls":4},"",{"$nulls":4},"",{"$nulls":15},"",{"$nulls":4},"",{"$nulls":4},"",{"$nulls":15},"",{"$nulls":4},"",{"$nulls":4},"",{"$nulls":15},"",{"$nulls":4},"",{"$nulls":4},"",{"$nulls":6},0,{"$f":"SUM($FL$36:$FL49)","v":0},0]
[15,{"$nulls":4},"N/A",{"$nulls":10},"","","",null,"","","",null,"","","",null,"","","",{"$nulls":5},"","","","","","","","",null,0,{"$nulls":3},"","","",null,"","","",null,"","","",null,"","","",{"$nulls":8},"",{"$nulls":4},"",{"$nulls":4},"",{"$nulls":15},"",{"$nulls":4},"",{"$nulls":4},"",{"$nulls":15},"",{"$nulls":4},"",{"$nulls":4},"",{"$nulls":15},"",{"$nulls":4},"",{"$nulls":4},"",{"$nulls":6},0,{"$f":"SUM($FL$36:$FL50)","v":0},0]
[16,{"$nulls":4},"N/A",{"$nulls":10},"","","",null,"","","",null,"","","",null,"","","",{"$nulls":5},"","","","","","","","",null,0,{"$nulls":3},"","","",null,"","","",null,"","","",null,"","","",{"$nulls":8},"",{"$nulls":4},"",{"$nulls":4},"",{"$nulls":15},"",{"$nulls":4},"",{"$nulls":4},"",{"$nulls":15},"",{"$nulls":4},"",{"$nulls":4},"",{"$nulls":15},"",{"$nulls":4},"",{"$nulls":4},"",{"$nulls":6},0,{"$f":"SUM($FL$36:$FL51)","v":0},0]
[17,{"$nulls":4},"N/A",{"$nulls":10},"","","",null,"","","",null,"","","",null,"","","",{"$nulls":5},"","","","","","","","",null,0,{"$nulls":3},"","","",null,"","","",null,"","","",null,"","","",{"$nulls":8},"",{"$nulls":4},"",{"$nulls":4},"",{"$nulls":15},"",{"$nulls":4},"",{"$nulls":4},"",{"$nulls":15},"",{"$nulls":4},"",{"$nulls":4},"",{"$nulls":15},"",{"$nulls":4},"",{"$nulls":4},"",{"$nulls":6},0,{"$f":"SUM($FL$36:$FL52)","v":0},0]
[18,{"$nulls":4},"N/A",{"$nulls":10},"","","",null,"","","",null,"","","",null,"","","",{"$nulls":5},"","","","","","","","",null,0,{"$nulls":3},"","","",null,"","","",null,"","","",null,"","","",{"$nulls":8},"",{"$nulls":4},"",{"$nulls":4},"",{"$nulls":15},"",{"$nulls":4},"",{"$nulls":4},"",{"$nulls":15},"",{"$nulls":4},"",{"$nulls":4},"",{"$nulls":15},"",{"$nulls":4},"",{"$nulls":4},"",{"$nulls":6},0,{"$f":"SUM($FL$36:$FL53)","v":0},0]
[19,{"$nulls":4},"N/A",{"$nulls":10},"","","",null,"","","",null,"","","",null,"","","",{"$nulls":5},"","","","","","","","",null,0,{"$nulls":3},"","","",null,"","","",null,"","","",null,"","","",{"$nulls":8},"",{"$nulls":4},"",{"$nulls":4},"",{"$nulls":15},"",{"$nulls":4},"",{"$nulls":4},"",{"$nulls":15},"",{"$nulls":4},"",{"$nulls":4},"",{"$nulls":15},"",{"$nulls":4},"",{"$nulls":4},"",{"$nulls":6},0,{"$f":"SUM($FL$36:$FL54)","v":0},0]
[20,{"$nulls":4},"N/A",{"$nulls":10},"","","",null,"","","",null,"","","",null,"","","",{"$nulls":5},"","","","","","","","",null,0,{"$nulls":3},"","","",null,"","","",null,"","","",null,"","","",{"$nulls":8},"",{"$nulls":4},"",{"$nulls":4},"",{"$nulls":15},"",{"$nulls":4},"",{"$nulls":4},"",{"$nulls":15},"",{"$nulls":4},"",{"$nulls":4},"",{"$nulls":15},"",{"$nulls":4},"",{"$nulls":4},"",{"$nulls":6},0,{"$f":"SUM($FL$36:$FL55)","v":0},0]
[21,{"$nulls":4},"N/A",{"$nulls":10},"","","",null,"","","",null,"","","",null,"","","",{"$nulls":5},"","","","","","","","",null,0,{"$nulls":3},"","","",null,"","","",null,"","","",null,"","","",{"$nulls":8},"",{"$nulls":4},"",{"$nulls":4},"",{"$nulls":15},"",{"$nulls":4},"",{"$nulls":4},"",{"$nulls":15},"",{"$nulls":4},"",{"$nulls":4},"",{"$nulls":15},"",{"$nulls":4},"",{"$nulls":4},"",{"$nulls":6},0,{"$f":"SUM($FL$36:$FL56)","v":0},0]
[22,{"$nulls":4},"N/A",{"$nulls":10},"","","",null,"","","",null,"","","",null,"","","",{"$nulls":5},"","","","","","","","",null,0,{"$nulls":3},"","","",null,"","","",null,"","","",null,"","","",{"$nulls":8},"",{"$nulls":4},"",{"$nulls":4},"",{"$nulls":15},"",{"$nulls":4},"",{"$nulls":4},"",{"$nulls":15},"",{"$nulls":4},"",{"$nulls":4},"",{"$nulls":15},"",{"$nulls":4},"",{"$nulls":4},"",{"$nulls":6},0,{"$f":"SUM($FL$36:$FL57)","v":0},0]
[23,{"$nulls":4},"N/A",{"$nulls":10},"","","",null,"","","",null,"","","",null,"","","",{"$nulls":5},"","","","","","","","",null,0,{"$nulls":3},"","","",null,"","","",null,"","","",null,"","","",{"$nulls":8},"",{"$nulls":4},"",{"$nulls":4},"",{"$nulls":15},"",{"$nulls":4},"",{"$nulls":4},"",{"$nulls":15},"",{"$nulls":4},"",{"$nulls":4},"",{"$nulls":15},"",{"$nulls":4},"",{"$nulls":4},"",{"$nulls":6},0,{"$f":"SUM($FL$36:$FL58)","v":0},0]
[24,{"$nulls":4},"N/A",{"$nulls":10},"","","",null,"","","",null,"","","",null,"","","",{"$nulls":5},"","","","","","","","",null,0,{"$nulls":3},"","","",null,"","","",null,"","","",null,"","","",{"$nulls":8},"",{"$nulls":4},"",{"$nulls":4},"",{"$nulls":15},"",{"$nulls":4},"",{"$nulls":4},"",{"$nulls":15},"",{"$nulls":4},"",{"$nulls":4},"",{"$nulls":15},"",{"$nulls":4},"",{"$nulls":4},"",{"$nulls":6},0,{"$f":"SUM($FL$36:$FL59)","v":0},0]
[25,{"$nulls":4},"N/A",{"$nulls":10},"","","",null,"","","",null,"","","",null,"","","",{"$nulls":5},"","","","","","","","",null,0,{"$nulls":3},"","","",null,"","","",null,"","","",null,"","","",{"$nulls":8},"",{"$nulls":4},"",{"$nulls":4},"",{"$nulls":15},"",{"$nulls":4},"",{"$nulls":4},"",{"$nulls":15},"",{"$nulls":4},"",{"$nulls":4},"",{"$nulls":15},"",{"$nulls":4},"",{"$nulls":4},"",{"$nulls":6},0,{"$f":"SUM($FL$36:$FL60)","v":0},0]
[26,{"$nulls":4},"N/A",{"$nulls":10},"","","",null,"","","",null,"","","",null,"","","",{"$nulls":5},"","","","","","","","",null,0,{"$nulls":3},"","","",null,"","","",null,"","","",null,"","","",{"$nulls":8},"",{"$nulls":4},"",{"$nulls":4},"",{"$nulls":15},"",{"$nulls":4},"",{"$nulls":4},"",{"$nulls":15},"",{"$nulls":4},"",{"$nulls":4},"",{"$nulls":15},"",{"$nulls":4},"",{"$nulls":4},"",{"$nulls":6},0,{"$f":"SUM($FL$36:$FL61)","v":0},0]
[27,{"$nulls":4},"N/A",{"$nulls":10},"","","",null,"","","",null,"","","",null,"","","",{"$nulls":5},"","","","","","","","",null,0,{"$nulls":3},"","","",null,"","","",null,"","","",null,"","","",{"$nulls":8},"",{"$nulls":4},"",{"$nulls":4},"",{"$nulls":15},"",{"$nulls":4},"",{"$nulls":4},"",{"$nulls":15},"",{"$nulls":4},"",{"$nulls":4},"",{"$nulls":15},"",{"$nulls":4},"",{"$nulls":4},"",{"$nulls":6},0,{"$f":"SUM($FL$36:$FL62)","v":0},0]
[28,{"$nulls":4},"N/A",{"$nulls":10},"","","",null,"","","",null,"","","",null,"","","",{"$nulls":5},"","","","","","","","",null,0,{"$nulls":3},"","","",null,"","","",null,"","","",null,"","","",{"$nulls":8},"",{"$nulls":4},"",{"$nulls":4},"",{"$nulls":15},"",{"$nulls":4},"",{"$nulls":4},"",{"$nulls":15},"",{"$nulls":4},"",{"$nulls":4},"",{"$nulls":15},"",{"$nulls":4},"",{"$nulls":4},"",{"$nulls":6},0,{"$f":"SUM($FL$36:$FL63)","v":0},0]
[29,{"$nulls":4},"N/A",{"$nulls":10},"","","",null,"","","",null,"","","",null,"","","",{"$nulls":5},"","","","","","","","",null,0,{"$nulls":3},"","","",null,"","","",null,"","","",null,"","","",{"$nulls":8},"",{"$nulls":4},"",{"$nulls":4},"",{"$nulls":15},"",{"$nulls":4},"",{"$nulls":4},"",{"$nulls":15},"",{"$nulls":4},"",{"$nulls":4},"",{"$nulls":15},"",{"$nulls":4},"",{"$nulls":4},"",{"$nulls":6},0,{"$f":"SUM($FL$36:$FL64)","v":0},0]
[30,{"$nulls":4},"N/A",{"$nulls":10},"","","",null,"","","",null,"","","",null,"","","",{"$nulls":5},"","","","","","","","",null,0,{"$nulls":3},"","","",null,"","","",null,"","","",null,"","","",{"$nulls":8},"",{"$nulls":4},"",{"$nulls":4},"",{"$nulls":15},"",{"$nulls":4},"",{"$nulls":4},"",{"$nulls":15},"",{"$nulls":4},"",{"$nulls":4},"",{"$nulls":15},"",{"$nulls":4},"",{"$nulls":4},"",{"$nulls":6},0,{"$f":"SUM($FL$36:$FL65)","v":0},0]
[31,{"$nulls":4},"N/A",{"$nulls":10},"","","",null,"","","",null,"","","",null,"","","",{"$nulls":5},"","","","","","","","",null,0,{"$nulls":3},"","","",null,"","","",null,"","","",null,"","","",{"$nulls":8},"",{"$nulls":4},"",{"$nulls":4},"",{"$nulls":15},"",{"$nulls":4},"",{"$nulls":4},"",{"$nulls":15},"",{"$nulls":4},"",{"$nulls":4},"",{"$nulls":15},"",{"$nulls":4},"",{"$nulls":4},"",{"$nulls":6},0,{"$f":"SUM($FL$36:$FL66)","v":0},0]
[32,{"$nulls":4},"N/A",{"$nulls":10},"","","",null,"","","",null,"","","",null,"","","",{"$nulls":5},"","","","","","","","",null,0,{"$nulls":3},"","","",null,"","","",null,"","","",null,"","","",{"$nulls":8},"",{"$nulls":4},"",{"$nulls":4},"",{"$nulls":15},"",{"$nulls":4},"",{"$nulls":4},"",{"$nulls":15},"",{"$nulls":4},"",{"$nulls":4},"",{"$nulls":15},"",{"$nulls":4},"",{"$nulls":4},"",{"$nulls":6},0,{"$f":"SUM($FL$36:$FL67)","v":0},0]
[33,{"$nulls":4},"N/A",{"$nulls":10},"","","",null,"","","",null,"","","",null,"","","",{"$nulls":5},"","","","","","","","",null,0,{"$nulls":3},"","","",null,"","","",null,"","","",null,"","","",{"$nulls":8},"",{"$nulls":4},"",{"$nulls":4},"",{"$nulls":15},"",{"$nulls":4},"",{"$nulls":4},"",{"$nulls":15},"",{"$nulls":4},"",{"$nulls":4},"",{"$nulls":15},"",{"$nulls":4},"",{"$nulls":4},"",{"$nulls":6},0,{"$f":"SUM($FL$36:$FL68)","v":0},0]
[34,{"$nulls":4},"N/A",{"$nulls":10},"","","",null,"","","",null,"","","",null,"","","",{"$nulls":5},"","","","","","","","",null,0,{"$nulls":3},"","","",null,"","","",null,"","","",null,"","","",{"$nulls":8},"",{"$nulls":4},"",{"$nulls":4},"",{"$nulls":15},"",{"$nulls":4},"",{"$nulls":4},"",{"$nulls":15},"",{"$nulls":4},"",{"$nulls":4},"",{"$nulls":15},"",{"$nulls":4},"",{"$nulls":4},"",{"$nulls":6},0,{"$f":"SUM($FL$36:$FL69)","v":0},0]
[35,{"$nulls":4},"N/A",{"$nulls":10},"","","",null,"","","",null,"","","",null,"","","",{"$nulls":5},"","","","","","","","",null,0,{"$nulls":3},"","","",null,"","","",null,"","","",null,"","","",{"$nulls":8},"",{"$nulls":4},"",{"$nulls":4},"",{"$nulls":15},"",{"$nulls":4},"",{"$nulls":4},"",{"$nulls":15},"",{"$nulls":4},"",{"$nulls":4},"",{"$nulls":15},"",{"$nulls":4},"",{"$nulls":4},"",{"$nulls":6},0,{"$f":"SUM($FL$36:$FL70)","v":0},0]
[36,{"$nulls":4},"N/A",{"$nulls":10},"","","",null,"","","",null,"","","",null,"","","",{"$nulls":5},"","","","","","","","",null,0,{"$nulls":3},"","","",null,"","","",null,"","","",null,"","","",{"$nulls":8},"",{"$nulls":4},"",{"$nulls":4},"",{"$nulls":15},"",{"$nulls":4},"",{"$nulls":4},"",{"$nulls":15},"",{"$nulls":4},"",{"$nulls":4},"",{"$nulls":15},"",{"$nulls":4},"",{"$nulls":4},"",{"$nulls":6},0,{"$f":"SUM($FL$36:$FL71)","v":0},0]
[37,{"$nulls":4},"N/A",{"$nulls":10},"","","",null,"","","",null,"","","",null,"","","",{"$nulls":5},"","","","","","","","",null,0,{"$nulls":3},"","","",null,"","","",null,"","","",null,"","","",{"$nulls":8},"",{"$nulls":4},"",{"$nulls":4},"",{"$nulls":15},"",{"$nulls":4},"",{"$nulls":4},"",{"$nulls":15},"",{"$nulls":4},"",{"$nulls":4},"",{"$nulls":15},"",{"$nulls":4},"",{"$nulls":4},"",{"$nulls":6},0,{"$f":"SUM($FL$36:$FL72)","v":0},0]
[38,{"$nulls":4},"N/A",{"$nulls":10},"","","",null,"","","",null,"","","",null,"","","",{"$nulls":5},"","","","","","","","",null,0,{"$nulls":3},"","","",null,"","","",null,"","","",null,"","","",{"$nulls":8},"",{"$nulls":4},"",{"$nulls":4},"",{"$nulls":15},"",{"$nulls":4},"",{"$nulls":4},"",{"$nulls":15},"",{"$nulls":4},"",{"$nulls":4},"",{"$nulls":15},"",{"$nulls":4},"",{"$nulls":4},"",{"$nulls":6},0,{"$f":"SUM($FL$36:$FL73)","v":0},0]
[39,{"$nulls":4},"N/A",{"$nulls":10},"","","",null,"","","",null,"","","",null,"","","",{"$nulls":5},"","","","","","","","",null,0,{"$nulls":3},"","","",null,"","","",null,"","","",null,"","","",{"$nulls":8},"",{"$nulls":4},"",{"$nulls":4},"",{"$nulls":15},"",{"$nulls":4},"",{"$nulls":4},"",{"$nulls":15},"",{"$nulls":4},"",{"$nulls":4},"",{"$nulls":15},"",{"$nulls":4},"",{"$nulls":4},"",{"$nulls":6},0,{"$f":"SUM($FL$36:$FL74)","v":0},0]
[40,{"$nulls":4},"N/A",{"$nulls":10},"","","",null,"","","",null,"","","",null,"","","",{"$nulls":5},"","","","","","","","",null,0,{"$nulls":3},"","","",null,"","","",null,"","","",null,"","","",{"$nulls":8},"",{"$nulls":4},"",{"$nulls":4},"",{"$nulls":15},"",{"$nulls":4},"",{"$nulls":4},"",{"$nulls":15},"",{"$nulls":4},"",{"$nulls":4},"",{"$nulls":15},"",{"$nulls":4},"",{"$nulls":4},"",{"$nulls":6},0,{"$f":"SUM($FL$36:$FL75)","v":0},0]
[41,{"$nulls":4},"N/A",{"$nulls":10},"","","",null,"","","",null,"","","",null,"","","",{"$nulls":5},"","","","","","","","",null,0,{"$nulls":3},"","","",null,"","","",null,"","","",null,"","","",{"$nulls":8},"",{"$nulls":4},"",{"$nulls":4},"",{"$nulls":15},"",{"$nulls":4},"",{"$nulls":4},"",{"$nulls":15},"",{"$nulls":4},"",{"$nulls":4},"",{"$nulls":15},"",{"$nulls":4},"",{"$nulls":4},"",{"$nulls":6},0,{"$f":"SUM($FL$36:$FL76)","v":0},0]
[42,{"$nulls":4},"N/A",{"$nulls":10},"","","",null,"","","",null,"","","",null,"","","",{"$nulls":5},"","","","","","","","",null,0,{"$nulls":3},"","","",null,"","","",null,"","","",null,"","","",{"$nulls":8},"",{"$nulls":4},"",{"$nulls":4},"",{"$nulls":15},"",{"$nulls":4},"",{"$nulls":4},"",{"$nulls":15},"",{"$nulls":4},"",{"$nulls":4},"",{"$nulls":15},"",{"$nulls":4},"",{"$nulls":4},"",{"$nulls":6},0,{"$f":"SUM($FL$36:$FL77)","v":0},0]
[43,{"$nulls":4},"N/A",{"$nulls":10},"","","",null,"","","",null,"","","",null,"","","",{"$nulls":5},"","","","","","","","",null,0,{"$nulls":3},"","","",null,"","","",null,"","","",null,"","","",{"$nulls":8},"",{"$nulls":4},"",{"$nulls":4},"",{"$nulls":15},"",{"$nulls":4},"",{"$nulls":4},"",{"$nulls":15},"",{"$nulls":4},"",{"$nulls":4},"",{"$nulls":15},"",{"$nulls":4},"",{"$nulls":4},"",{"$nulls":6},0,{"$f":"SUM($FL$36:$FL78)","v":0},0]
[44,{"$nulls":4},"N/A",{"$nulls":10},"","","",null,"","","",null,"","","",null,"","","",{"$nulls":5},"","","","","","","","",null,0,{"$nulls":3},"","","",null,"","","",null,"","","",null,"","","",{"$nulls":8},"",{"$nulls":4},"",{"$nulls":4},"",{"$nulls":15},"",{"$nulls":4},"",{"$nulls":4},"",{"$nulls":15},"",{"$nulls":4},"",{"$nulls":4},"",{"$nulls":15},"",{"$nulls":4},"",{"$nulls":4},"",{"$nulls":6},0,{"$f":"SUM($FL$36:$FL79)","v":0},0]
[45,{"$nulls":4},"N/A",{"$nulls":10},"","","",null,"","","",null,"","","",null,"","","",{"$nulls":5},"","","","","","","","",null,0,{"$nulls":3},"","","",null,"","","",null,"","","",null,"","","",{"$nulls":8},"",{"$nulls":4},"",{"$nulls":4},"",{"$nulls":15},"",{"$nulls":4},"",{"$nulls":4},"",{"$nulls":15},"",{"$nulls":4},"",{"$nulls":4},"",{"$nulls":15},"",{"$nulls":4},"",{"$nulls":4},"",{"$nulls":6},0,{"$f":"SUM($FL$36:$FL80)","v":0},0]
[46,{"$nulls":4},"N/A",{"$nulls":10},"","","",null,"","","",null,"","","",null,"","","",{"$nulls":5},"","","","","","","","",null,0,{"$nulls":3},"","","",null,"","","",null,"","","",null,"","","",{"$nulls":8},"",{"$nulls":4},"",{"$nulls":4},"",{"$nulls":15},"",{"$nulls":4},"",{"$nulls":4},"",{"$nulls":15},"",{"$nulls":4},"",{"$nulls":4},"",{"$nulls":15},"",{"$nulls":4},"",{"$nulls":4},"",{"$nulls":6},0,{"$f":"SUM($FL$36:$FL81)","v":0},0]
[47,{"$nulls":4},"N/A",{"$nulls":10},"","","",null,"","","",null,"","","",null,"","","",{"$nulls":5},"","","","","","","","",null,0,{"$nulls":3},"","","",null,"","","",null,"","","",null,"","","",{"$nulls":8},"",{"$nulls":4},"",{"$nulls":4},"",{"$nulls":15},"",{"$nulls":4},"",{"$nulls":4},"",{"$nulls":15},"",{"$nulls":4},"",{"$nulls":4},"",{"$nulls":15},"",{"$nulls":4},"",{"$nulls":4},"",{"$nulls":6},0,{"$f":"SUM($FL$36:$FL82)","v":0},0]
[48,{"$nulls":4},"N/A",{"$nulls":10},"","","",null,"","","",null,"","","",null,"","","",{"$nulls":5},"","","","","","","","",null,0,{"$nulls":3},"","","",null,"","","",null,"","","",null,"","","",{"$nulls":8},"",{"$nulls":4},"",{"$nulls":4},"",{"$nulls":15},"",{"$nulls":4},"",{"$nulls":4},"",{"$nulls":15},"",{"$nulls":4},"",{"$nulls":4},"",{"$nulls":15},"",{"$nulls":4},"",{"$nulls":4},"",{"$nulls":6},0,{"$f":"SUM($FL$36:$FL83)","v":0},0]
[49,{"$nulls":4},"N/A",{"$nulls":10},"","","",null,"","","",null,"","","",null,"","","",{"$nulls":5},"","","","","","","","",null,0,{"$nulls":3},"","","",null,"","","",null,"","","",null,"","","",{"$nulls":8},"",{"$nulls":4},"",{"$nulls":4},"",{"$nulls":15},"",{"$nulls":4},"",{"$nulls":4},"",{"$nulls":15},"",{"$nulls":4},"",{"$nulls":4},"",{"$nulls":15},"",{"$nulls":4},"",{"$nulls":4},"",{"$nulls":6},0,{"$f":"SUM($FL$36:$FL84)","v":0},0]
[50,{"$nulls":4},"N/A",{"$nulls":10},"","","",null,"","","",null,"","","",null,"","","",{"$nulls":5},"","","","","","","","",null,0,{"$nulls":3},"","","",null,"","","",null,"","","",null,"",{"$f":"IF($B85=\"Y\",IF(AND($AC85<>\"\",$AQ84<>\"\",$AR84<>\"\"),($AC85+$AQ84)/($AR84+1),\"\"),\"\")","v":""},"",{"$nulls":8},"",{"$nulls":4},"",{"$nulls":4},"",{"$nulls":15},"",{"$nulls":4},"",{"$nulls":4},"",{"$nulls":15},"",{"$nulls":4},"",{"$nulls":4},"",{"$nulls":15},"",{"$nulls":4},"",{"$nulls":4},"",{"$nulls":6},0,{"$f":"SUM($FL$36:$FL85)","v":0},0]
[null,null,{"$f":"SUM(C36:C85)","v":0}]
["g/bhp-hr"]
["g/kW-hr"]

{"sheet":"Engine Family #30","index":32,"n_rows":88,"n_cols":176,"rows_kept":88,"merged":[[1,0,1,35],[2,0,2,35],[3,0,3,35],[4,0,4,35],[5,0,5,35],[6,0,6,35],[8,0,8,16],[10,4,10,6],[10,12,10,13],[11,4,11,6],[11,15,11,16],[11,19,11,20],[11,23,11,24],[11,27,11,28],[12,4,12,6],[13,4,13,6],[14,4,15,6],[17,14,22,14],[27,4,30,13],[27,15,28,16],[32,0,32,16],[32,17,32,33],[32,34,32,35],[33,45,34,45]]}
[]
["United States"]
["US Environmental Protection Agency"]
["Office of Air and Radiation, Office of Transportation and Air Quality"]
[{"$nulls":37},"Tier 2","Y",94]
["Manufacturer Production Line Testing Report for Marine Compression Ignition Engines",{"$nulls":36},"Tier 3","N",1042]
[{"$f":"Summary!B7","v":"Version Number: 1.4 DRAFT  Last Revision: September 2023"},{"$nulls":36},"Tier 4",null,"N/A"]
[]
["Basic Information: Engine Family #30"]
[{"$nulls":167},{"$f":"IF(AND($G$24=94,Summary!$L$13=\"Category 1\"),0,1)","v":1}]
[null,null,"Manufacturer:",null,{"$f":"IF(Summary!D12<>\"\",Summary!D12,\"\")","v":""},{"$nulls":3},"Engine Family:",{"$nulls":31},{"$f":"IF($G$19=\"Diesel\",\"'HC' refers to 'THC' \",IF($G$19=\"Natural Gas\",\"'HC' refers to 'NMHC' \",IF($G$19=\"Alcohol\",\"'HC' refers to 'THCE' \",\"\")))","v":""}]
[null,null,"PLT Test Contact:",null,{"$f":"IF(Summary!D13<>\"\",Summary!D13,\"\")","v":""},{"$nulls":3},"Production (Category 3 only):",{"$nulls":6},{"$f":"IF(N16<>\"Y\", \"Current CO Result\", \"Final CO Result\")","v":"Current CO Result"},null,{"$f":"$CJ$36","v":""},null,{"$f":"IF(N16<>\"Y\", \"Current PM Result\", \"Final PM Result\")","v":"Current PM Result"},null,{"$f":"$DJ$36","v":""},null,{"$f":"IF($AF$12=\"Y\",IF(N16<>\"Y\", \"Current NOx+HC Result\", \"Final NOx+HC Result\"),IF(N16<>\"Y\", \"Current HC Result\", \"Final HC Result\"))","v":"Current HC Result"},null,{"$f":"IF($AF$12=\"Y\",IF($FP$36>0,ROUND($EJ$36+$FJ$36,2),\"\"),$EJ$36)","v":""},null,{"$f":"IF(N16<>\"Y\", \"Current NOx Result\",\"Final NOx Result\")","v":"Current NOx Result"},null,{"$f":"$FJ$36","v":""},null,{"$f":"IF($L$13<>\"Category 3\",IF($G$23=\"\",\"N\",$G$23),\"N\")","v":"N"},{"$f":"IF(Summary!$L$13=\"Category 3\",\"CAT3\",\"\")","v":""}]
[null,null,"Email Address:",null,{"$f":"IF(Summary!D14<>\"\",Summary!D14,\"\")","v":""},{"$nulls":3},"Date of Start of Model Year Production:"]
[null,null,"Phone #:",null,{"$f":"IF(Summary!D15<>\"\",Summary!D15,\"\")","v":""},{"$nulls":3},"Date of End of Model Year Production:",{"$nulls":14},{"$f":"IF($G$19=\"Diesel\",\"'HC' refers to 'THC' \",IF($G$19=\"Natural Gas\",\"'HC' refers to 'NMHC' \",IF($G$19=\"Alcohol\",\"'HC' refers to 'THCE' \",\"\")))","v":""},{"$nulls":13},"Diesel",1,{"$nulls":6},1]
[null,null,"Test Location & Description:",{"$nulls":5},"Deterioration Factor Type:",{"$nulls":28},"Natural Gas",2,{"$nulls":6},2]
[{"$nulls":8},"Include Results from this Engine Family on Summary Sheet?",{"$nulls":6},"CO Standard ",{"$nulls":3},"PM Standard or FEL",{"$nulls":3},{"$f":"IF($AF$12=\"Y\",\"NOx+HC Standard or FEL\",\"HC Standard\")","v":"HC Standard"},{"$nulls":3},"NOx Standard or FEL",{"$nulls":9},"Alcohol",3,{"$nulls":6},3]
[null,null,"Carryover?:",{"$nulls":5},"Required Tests (including failure follow-ups)",{"$nulls":4},{"$f":"$FO36","v":0},null,"Units",null,"g/kW-hr",null,"Units",null,"g/kW-hr",null,"Units",null,"g/kW-hr",null,"Units",null,"g/kW-hr",{"$nulls":4},"Test Cycle Options",{"$nulls":10},4]
[null,null,{"$f":"IF($G$17=\"Y\",\"Please submit supporting documentation indicating that this is a carry-over engine family\",\"\")","v":""},{"$nulls":5},"Instead of testing, are PLT requirements for this Engine Family",{"$nulls":6},"CO  Det Factor",{"$nulls":3},"PM  Det Factor",{"$nulls":3},"HC Det Factor",{"$nulls":3},"NOx  Det Factor",{"$nulls":6},"1 = 4-Mode General Cycle (E3)",null,null,"Recreational"]
[null,null,"Fuel Type:",{"$nulls":5}," fulfilled under the following (Category 1 only)?",{"$nulls":6},"Det Factor Type",null,{"$f":"IF($N$15<>\"\",$N$15,\"\")","v":""},null,"Det Factor Type",null,{"$f":"IF($N$15<>\"\",$N$15,\"\")","v":""},null,"Det Factor Type",null,{"$f":"IF($N$15<>\"\",$N$15,\"\")","v":""},null,"Det Factor Type",null,{"$f":"IF($N$15<>\"\",$N$15,\"\")","v":""},{"$nulls":4},"2 = 5-Mode Recreational Cycle (E5)",null,null,"Commercial"]
[null,null,"Recreational/Commercial:",{"$nulls":5},"Please elaborate in the comments section.",{"$nulls":6},"CO Green Engine Factor",{"$nulls":3},"PM Green Engine Factor",{"$nulls":3},"HC Green Engine Factor",{"$nulls":3},"NOx Green Engine Factor",{"$nulls":6},"3 = 4-Mode Constant Speed Propulsion Cycle (E2)"]
[null,null,"Model Year:",{"$nulls":5},"    -1042.310(a) - EPA approved combining it, for PLT purposes only.",{"$nulls":25},"4 = 5-Mode Constant Speed Auxiliary Cycle (D2)"]
[null,null,"Tier:",{"$nulls":31},"5 = 6-Mode Variable Speed Auxiliary Cycle (G2)",null,null,"1 (E3)"]
[null,null,"Combined NOx+HC?",{"$nulls":31},"6 = 8-Mode Variable Speed Ausiliary Cycle (C1)",null,null,"2 (E5)"]
[null,null,"40 CFR Part:",{"$nulls":3},{"$f":"AN6","v":1042},null,"Additional testing required by EPA [40 CFR 1042.301(e)]? ",{"$nulls":25},"O = Other",null,null,"3 (E2)"]
[{"$nulls":37},"4 (D2)"]
[{"$nulls":37},"5 (G2)",{"$nulls":132},"deleted and redirected"]
[{"$nulls":22}," ",{"$nulls":14},"6 (C1)",4,{"$nulls":6},4]
[null,null,"Comments:",{"$nulls":34},"O (other)"]
[{"$nulls":22}," ",{"$nulls":22},"additive"]
[{"$nulls":45},"multiplicative",{"$nulls":22},"CO Rounding",{"$nulls":4},"CO Rounding",{"$nulls":4},"CO Rounding",{"$nulls":4},"CO Rounding",{"$nulls":10},"PM Rounding",{"$nulls":4},"PM Rounding",{"$nulls":4},"PM Rounding",{"$nulls":4},"PM Rounding",{"$nulls":10},"HC Rounding",{"$nulls":4},"HC Rounding",{"$nulls":4},"HC Rounding",{"$nulls":4},"HC Rounding",{"$nulls":10},"NOx Rounding",{"$nulls":4},"NOx Rounding",{"$nulls":4},"NOx Rounding",{"$nulls":4},"NOx Rounding"]
[{"$nulls":22}," ",{"$nulls":45},"initial",{"$nulls":4},"final",{"$nulls":4}," det final",{"$nulls":4},"ave of all final",{"$nulls":10},"initial",{"$nulls":4},"final",{"$nulls":4}," det final",{"$nulls":4},"ave of all final",{"$nulls":10},"initial",{"$nulls":4},"final",{"$nulls":4}," det final",{"$nulls":4},"ave of all final",{"$nulls":10},"initial",{"$nulls":4},"final",{"$nulls":4}," det final",{"$nulls":4},"ave of all final"]
[{"$nulls":38},"Y",{"$nulls":6},"Y"]
["PLT Engine Test Results: Engine Family #30",{"$nulls":37},"N",{"$nulls":6},"N",{"$nulls":124},"This is N17"]
[{"$nulls":36},"CO",null,"PM",null,null,"HC or HC+NOX",null,"Nox",null,"Engine Data Complete?",{"$nulls":11},"HC","HC","HC","HC","Nox","Nox","Nox","Nox",{"$nulls":107},"1% of production or pre-approved reduced sample size - whichever is Lower # "]
[null,"Calc Final Result?","Test Number","Test Date","Test Time","Test Qtr","Engine ID","Engine Make","Engine Configuration","Build Date","Green Engine Factor Applied?","Green Engine Factor Determination Method","Service Hours (or miles) Accumulation","Service Hours Location","Service Acc. Procedure","CO Initial Result ","Rounded CO Initial Result ","CO Final Result ","Det. CO Final Result ","PM Initial Result ","Rounded PM Initial Result ","PM Final Result ","Det. PM Final Result ","HC Initial Result ","Rounded HC Initial Result ","HC Final Result ","Det. HC Final Result ","NOx Initial Result ","Rounded NOx Initial Result ","NOx Final Result ","Det. NOx Final Result ","Reason for Failed Test (if applicable)","Remedy","Repairs","Test Cycle","Comments",0,0,0,0,0,0,0,0,{"$nulls":5},"Unrounded initial CO","Unrounded final CO","Det CO","Final CO","Unrounded initial PM","Unrounded final PM","Det PM","Final PM","Unrounded initial HCNOx","Unrounded final HCNOx","Det HCNOx","Final HCNOX","Unrounded initial NOx","Unrounded final NOx","Det NOx","Final HCNOX",{"$nulls":7},"rounded",{"$nulls":4},"rounded",{"$nulls":4},"rounded",{"$nulls":4},"rounded",{"$nulls":10},"rounded",{"$nulls":4},"rounded",{"$nulls":4},"rounded",{"$nulls":4},"rounded",{"$nulls":10},"rounded",{"$nulls":4},"rounded",{"$nulls":4},"rounded",{"$nulls":4},"rounded","ROUNDED AND ACCOUNT FOR BLANK",{"$nulls":9},"rounded",{"$nulls":4},"rounded",{"$nulls":4},"rounded",{"$nulls":4},"rounded","ROUNDED AND ACCOUNT FOR BLANK","Test complete Flag","Total complete","Fail Flag","req","val","baseline req","req due to fails","sum fails","baseline req"]
[1,{"$nulls":4},"N/A",{"$nulls":10},{"$f":"$BU36","v":""},{"$f":"$BZ36","v":""},{"$f":"$CE36","v":""},null,{"$f":"$CU36","v":""},{"$f":"$CZ36","v":""},{"$f":"$DE36","v":""},null,{"$f":"$DU36","v":""},{"$f":"$DZ36","v":""},{"$f":"$EE36","v":""},null,{"$f":"$EU36","v":""},{"$f":"$EZ36","v":""},{"$f":"$FE36","v":""},{"$nulls":5},{"$f":"IF($B36=\"N\",IF(AND($AK35<>\"\",$Q36<>\"\"),$AK35+$Q36,\"\"),IF($B36=\"Y\",0,\"\"))","v":""},{"$f":"IF($B36=\"N\",AL35+1,IF($B36=\"Y\",0,\"\"))","v":""},{"$f":"IF($B36=\"N\",IF(AND($AM35<>\"\",$U36<>\"\"),$AM35+$U36,\"\"),IF($B36=\"Y\",0,\"\"))","v":""},{"$f":"IF($B36=\"N\",AN35+1,IF($B36=\"Y\",0,\"\"))","v":""},{"$f":"IF($B36=\"N\",IF(AND($AO35<>\"\",$Y36<>\"\"),$AO35+$Y36,\"\"),IF($B36=\"Y\",0,\"\"))","v":""},{"$f":"IF($B36=\"N\",AP35+1,IF($B36=\"Y\",0,\"\"))","v":""},{"$f":"IF($B36=\"N\",IF(AND($AQ35<>\"\",$AC36<>\"\"),$AQ35+$AC36,\"\"),IF($B36=\"Y\",0,\"\"))","v":""},{"$f":"IF($B36=\"N\",AR35+1,IF($B36=\"Y\",0,\"\"))","v":""},null,{"$f":"IF(AND(B36<>\"\",C36<>\"\",D36<>\"\",E36<>\"\",G36<>\"\",H36<>\"\",I36<>\"\",J36<>\"\",K36<>\"\",M36<>\"\",N36<>\"\",O36<>\"\"),1,0)","v":0},{"$nulls":3},{"$f":"IF(AND($P36<>\"\",$AT36=1),$P36,\"\")","v":""},{"$f":"IF($B36=\"Y\",IF(AND($Q36<>\"\",$AK35<>\"\",$AL35<>\"\"),($Q36+$AK35)/($AL35+1),\"\"),\"\")","v":""},{"$f":"IF(AND($B36=\"Y\",$R36<>\"\",$R$18<>\"\"),IF($R$19=\"additive\",$R36+$R$18,IF($R$19=\"multiplicative\",$R36*$R$18,\"\")),\"\")","v":""},{"$f":"IF(COUNT($S$36:$S$85)>0,AVERAGE($S$36:$S$85),\"\")","v":""},{"$f":"IF(AND($T36<>\"\",$AT36=1),$T36,\"\")","v":""},{"$f":"IF($B36=\"Y\",IF(AND($U36<>\"\",$AM35<>\"\",$AN35<>\"\"),($U36+$AM35)/($AN35+1),\"\"),\"\")","v":""},{"$f":"IF(AND($B36=\"Y\",$V36<>\"\",$V$18<>\"\"),IF($V$19=\"additive\",$V36+$V$18,IF($V$19=\"multiplicative\",$V36*$V$18,\"\")),\"\")","v":""},{"$f":"IF(COUNT($W$36:$W$85)>0,AVERAGE($W$36:$W$85),\"\")","v":""},{"$f":"IF(AND($X36<>\"\",$AT36=1),$X36,\"\")","v":""},{"$f":"IF($B36=\"Y\",IF(AND($Y36<>\"\",$AO35<>\"\",$AP35<>\"\"),($Y36+$AO35)/($AP35+1),\"\"),\"\")","v":""},{"$f":"IF(AND($B36=\"Y\",$Z36<>\"\",$Z$18<>\"\"),IF($Z$19=\"additive\",$Z36+$Z$18,IF($Z$19=\"multiplicative\",$Z36*$Z$18,\"\")),\"\")","v":""},{"$f":"IF(COUNT($AA$36:$AA$85)>0,AVERAGE($AA$36:$AA$85),\"\")","v":""},{"$f":"IF(AND($AB36<>\"\",$AT36=1),$AB36,\"\")","v":""},{"$f":"IF($B36=\"Y\",IF(AND($AC36<>\"\",$AQ35<>\"\",$AR35<>\"\"),($AC36+$AQ35)/($AR35+1),\"\"),\"\")","v":""},{"$f":"IF(AND($B36=\"Y\",$AD36<>\"\",$AD$18<>\"\"),IF($AD$19=\"additive\",$AD36+$AD$18,IF($AD$19=\"multiplicative\",$AD36*$AD$18,\"\")),\"\")","v":""},{"$f":"IF(COUNT($AE$36:$AE$85)>0,AVERAGE($AE$36:$AE$85),\"\")","v":""},{"$nulls":7},{"$f":"IF($AX36<>\"\",ROUND($AX36,2),\"\")","v":""},{"$nulls":4},{"$f":"IF($AY36<>\"\",ROUND($AY36,2),\"\")","v":""},{"$nulls":4},{"$f":"IF($AZ36<>\"\",ROUND($AZ36,2),\"\")","v":""},{"$nulls":4},{"$f":"IF($BA36<>\"\",ROUND($BA36,2),\"\")","v":""},{"$nulls":10},{"$f":"IF($BB36<>\"\",ROUND($BB36,3),\"\")","v":""},{"$nulls":4},{"$f":"IF($BC36<>\"\",ROUND($BC36,3),\"\")","v":""},{"$nulls":4},{"$f":"IF($BD36<>\"\",ROUND($BD36,3),\"\")","v":""},{"$nulls":4},{"$f":"IF($BE36<>\"\",ROUND($BE36,3),\"\")","v":""},{"$nulls":10},{"$f":"IF($BF36<>\"\",ROUND($BF36,3),\"\")","v":""},{"$nulls":4},{"$f":"IF($BG36<>\"\",ROUND($BG36,3),\"\")","v":""},{"$nulls":4},{"$f":"IF($BH36<>\"\",ROUND($BH36,3),\"\")","v":""},{"$nulls":4},{"$f":"IF($BI36<>\"\",ROUND($BI36,3),\"\")","v":""},{"$f":"IF(EJ36=\"\",0,EJ36)","v":0},{"$nulls":9},{"$f":"IF($BJ36<>\"\",ROUND($BJ36,2),\"\")","v":""},{"$nulls":4},{"$f":"IF($BK36<>\"\",ROUND($BK36,2),\"\")","v":""},{"$nulls":4},{"$f":"IF($BL36<>\"\",ROUND($BL36,2),\"\")","v":""},{"$nulls":4},{"$f":"IF($BM36<>\"\",ROUND($BM36,2),\"\")","v":""},{"$f":"IF(FJ36=\"\",0,FJ36)","v":0},{"$f":"IF($AG$12<>\"CAT3\",IF(AND($B36=\"Y\",$S36<>\"\",$W36<>\"\",$AA36<>\"\",$AE36<>\"\"),1,0),IF($AE36<>\"\",1,0))","v":0},{"$f":"SUM($FL$36:$FL36)","v":0},{"$f":"IF($AG$12<>\"CAT3\",IF($FL36=1,IF(OR($S36>$R$16,$W36>$V$16,$AA36>$Z$16,IF($AF$12<>\"Y\",OR($AA36>$Z$16,$AE36>$AD$16),ROUND(($AA36+$AE36),2)>$Z$16)),1,0),0),IF($FL36=1,IF(AND($AE36>$AD$16,$AF$12=\"N\"),1,0),0))","v":0},{"$f":"IF(OR($M$11=\"\",$N$18=\"Y\"),0,IF($AG$12=\"CAT3\",$N$12,($FR$36+1)))","v":0},{"$f":"SUM(FL36:FL85)","v":0},{"$f":"IF(AND($G$17=\"Y\",$N$24<>\"\"),MIN($N$24,$FT$36),$FT$36)","v":0},{"$f":"$FS$36*2","v":0},{"$f":"SUM(FN36:FN85)","v":0},{"$f":"IF($N$12<>\"\",$N$12*0.01,0)","v":0}]
[{"$f":"A36+1","v":2},{"$nulls":4},"N/A",{"$nulls":10},"","","",null,"","","",null,"","","",null,"","","",{"$nulls":5},"",{"$f":"IF($B37=\"N\",AL36+1,IF($B37=\"Y\",0,\"\"))","v":""},"",{"$f":"IF($B37=\"N\",AN36+1,IF($B37=\"Y\",0,\"\"))","v":""},{"$f":"IF($B37=\"N\",IF(AND($AO36<>\"\",$Y37<>\"\"),$AO36+$Y37,\"\"),IF($B37=\"Y\",0,\"\"))","v":""},{"$f":"IF($B37=\"N\",AP36+1,IF($B37=\"Y\",0,\"\"))","v":""},{"$f":"IF($B37=\"N\",IF(AND($AQ36<>\"\",$AC37<>\"\"),$AQ36+$AC37,\"\"),IF($B37=\"Y\",0,\"\"))","v":""},{"$f":"IF($B37=\"N\",AR36+1,IF($B37=\"Y\",0,\"\"))","v":""},null,{"$f":"IF(AND(B37<>\"\",C37<>\"\",D37<>\"\",E37<>\"\",G37<>\"\",H37<>\"\",I37<>\"\",J37<>\"\",K37<>\"\",M37<>\"\",N37<>\"\",O37<>\"\"),1,0)","v":0},{"$nulls":3},"","",{"$f":"IF(AND($B37=\"Y\",$R37<>\"\",$R$18<>\"\"),IF($R$19=\"additive\",$R37+$R$18,IF($R$19=\"multiplicative\",$R37*$R$18,\"\")),\"\")","v":""},null,"","",{"$f":"IF(AND($B37=\"Y\",$V37<>\"\",$V$18<>\"\"),IF($V$19=\"additive\",$V37+$V$18,IF($V$19=\"multiplicative\",$V37*$V$18,\"\")),\"\")","v":""},null,{"$f":"IF(AND($X37<>\"\",$AT37=1),$X37,\"\")","v":""},{"$f":"IF($B37=\"Y\",IF(AND($Y37<>\"\",$AO36<>\"\",$AP36<>\"\"),($Y37+$AO36)/($AP36+1),\"\"),\"\")","v":""},{"$f":"IF(AND($B37=\"Y\",$Z37<>\"\",$Z$18<>\"\"),IF($Z$19=\"additive\",$Z37+$Z$18,IF($Z$19=\"multiplicative\",$Z37*$Z$18,\"\")),\"\")","v":""},null,{"$f":"IF(AND($AB37<>\"\",$AT37=1),$AB37,\"\")","v":""},{"$f":"IF($B37=\"Y\",IF(AND($AC37<>\"\",$AQ36<>\"\",$AR36<>\"\"),($AC37+$AQ36)/($AR36+1),\"\"),\"\")","v":""},{"$f":"IF(AND($B37=\"Y\",$AD37<>\"\",$AD$18<>\"\"),IF($AD$19=\"additive\",$AD37+$AD$18,IF($AD$19=\"multiplicative\",$AD37*$AD$18,\"\")),\"\")","v":""},{"$nulls":8},{"$f":"IF($AX37<>\"\",ROUND($AX37,2),\"\")","v":""},{"$nulls":4},{"$f":"IF($AY37<>\"\",ROUND($AY37,2),\"\")","v":""},{"$nulls":4},{"$f":"IF($AZ37<>\"\",ROUND($AZ37,2),\"\")","v":""},{"$nulls":15},{"$f":"IF($BB37<>\"\",ROUND($BB37,3),\"\")","v":""},{"$nulls":4},{"$f":"IF($BC37<>\"\",ROUND($BC37,3),\"\")","v":""},{"$nulls":4},{"$f":"IF($BD37<>\"\",ROUND($BD37,3),\"\")","v":""},{"$nulls":15},{"$f":"IF($BF37<>\"\",ROUND($BF37,3),\"\")","v":""},{"$nulls":4},{"$f":"IF($BG37<>\"\",ROUND($BG37,3),\"\")","v":""},{"$nulls":4},{"$f":"IF($BH37<>\"\",ROUND($BH37,3),\"\")","v":""},{"$nulls":15},{"$f":"IF($BJ37<>\"\",ROUND($BJ37,2),\"\")","v":""},{"$nulls":4},{"$f":"IF($BK37<>\"\",ROUND($BK37,2),\"\")","v":""},{"$nulls":4},{"$f":"IF($BL37<>\"\",ROUND($BL37,2),\"\")","v":""},{"$nulls":6},{"$f":"IF($AG$12<>\"CAT3\",IF(AND($B37=\"Y\",$S37<>\"\",$W37<>\"\",$AA37<>\"\",$AE37<>\"\"),1,0),IF($AE37<>\"\",1,0))","v":0},{"$f":"SUM($FL$36:$FL37)","v":0},{"$f":"IF($AG$12<>\"CAT3\",IF($FL37=1,IF(OR($S37>$R$16,$W37>$V$16,$AA37>$Z$16,IF($AF$12<>\"Y\",OR($AA37>$Z$16,$AE37>$AD$16),ROUND(($AA37+$AE37),2)>$Z$16)),1,0),0),IF($FL37=1,IF(AND($AE37>$AD$16,$AF$12=\"N\"),1,0),0))","v":0},null,null,{"$f":"MAX($FQ$36,$FL$10)","v":1}]
[{"$f":"A37+1","v":3},{"$nulls":4},"N/A",{"$nulls":10},"","","",null,"","","",null,"","","",null,"","","",{"$nulls":5},"","","","","","","","",null,0,{"$nulls":3},"","","",null,"","","",null,"","","",null,"","","",{"$nulls":8},"",{"$nulls":4},"",{"$nulls":4},"",{"$nulls":15},"",{"$nulls":4},"",{"$nulls":4},"",{"$nulls":15},"",{"$nulls":4},"",{"$nulls":4},"",{"$nulls":15},"",{"$nulls":4},"",{"$nulls":4},"",{"$nulls":6},0,{"$f":"SUM($FL$36:$FL38)","v":0},0]
[4,{"$nulls":4},"N/A",{"$nulls":10},"","","",null,"","","",null,"","","",null,"","","",{"$nulls":5},"","","","","","","","",null,0,{"$nulls":3},"","","",null,"","","",null,"","","",null,"","","",{"$nulls":8},"",{"$nulls":4},"",{"$nulls":4},"",{"$nulls":15},"",{"$nulls":4},"",{"$nulls":4},"",{"$nulls":15},"",{"$nulls":4},"",{"$nulls":4},"",{"$nulls":15},"",{"$nulls":4},"",{"$nulls":4},"",{"$nulls":6},0,{"$f":"SUM($FL$36:$FL39)","v":0},0,null,null,"then, the larger of that sample size or 1  (or if Part 94 and cat1,  can be 0)"]
[5,{"$nulls":4},"N/A",{"$nulls":10},"","","",null,"","","",null,"","","",null,"","","",{"$nulls":5},"","","","","","","","",null,0,{"$nulls":3},"","","",null,"","","",null,"","","",null,"","","",{"$nulls":8},"",{"$nulls":4},"",{"$nulls":4},"",{"$nulls":15},"",{"$nulls":4},"",{"$nulls":4},"",{"$nulls":15},"",{"$nulls":4},"",{"$nulls":4},"",{"$nulls":15},"",{"$nulls":4},"",{"$nulls":4},"",{"$nulls":6},0,{"$f":"SUM($FL$36:$FL40)","v":0},0]
[6,{"$nulls":4},"N/A",{"$nulls":10},"","","",null,"","","",null,"","","",null,"","","",{"$nulls":5},"","","","","","","","",null,0,{"$nulls":3},"","","",null,"","","",null,"","","",null,"","","",{"$nulls":8},"",{"$nulls":4},"",{"$nulls":4},"",{"$nulls":15},"",{"$nulls":4},"",{"$nulls":4},"",{"$nulls":15},"",{"$nulls":4},"",{"$nulls":4},"",{"$nulls":15},"",{"$nulls":4},"",{"$nulls":4},"",{"$nulls":6},0,{"$f":"SUM($FL$36:$FL41)","v":0},0]
[7,{"$nulls":4},"N/A",{"$nulls":10},"","","",null,"","","",null,"","","",null,"","","",{"$nulls":5},"","","","","","","","",null,0,{"$nulls":3},"","","",null,"","","",null,"","","",null,"","","",{"$nulls":8},"",{"$nulls":4},"",{"$nulls":4},"",{"$nulls":15},"",{"$nulls":4},"",{"$nulls":4},"",{"$nulls":15},"",{"$nulls":4},"",{"$nulls":4},"",{"$nulls":15},"",{"$nulls":4},"",{"$nulls":4},"",{"$nulls":6},0,{"$f":"SUM($FL$36:$FL42)","v":0},0]
[8,{"$nulls":4},"N/A",{"$nulls":10},"","","",null,"","","",null,"","","",null,"","","",{"$nulls":5},"","","","","","","","",null,0,{"$nulls":3},"","","",null,"","","",null,"","","",null,"","","",{"$nulls":8},"",{"$nulls":4},"",{"$nulls":4},"",{"$nulls":15},"",{"$nulls":4},"",{"$nulls":4},"",{"$nulls":15},"",{"$nulls":4},"",{"$nulls":4},"",{"$nulls":15},"",{"$nulls":4},"",{"$nulls":4},"",{"$nulls":6},0,{"$f":"SUM($FL$36:$FL43)","v":0},0]
[9,{"$nulls":4},"N/A",{"$nulls":10},"","","",null,"","","",null,"","","",null,"","","",{"$nulls":5},"","","","","","","","",null,0,{"$nulls":3},"","","",null,"","","",null,"","","",null,"","","",{"$nulls":8},"",{"$nulls":4},"",{"$nulls":4},"",{"$nulls":15},"",{"$nulls":4},"",{"$nulls":4},"",{"$nulls":15},"",{"$nulls":4},"",{"$nulls":4},"",{"$nulls":15},"",{"$nulls":4},"",{"$nulls":4},"",{"$nulls":6},0,{"$f":"SUM($FL$36:$FL44)","v":0},0]
[10,{"$nulls":4},"N/A",{"$nulls":10},"","","",null,"","","",null,"","","",null,"","","",{"$nulls":5},"","","","","","","","",null,0,{"$nulls":3},"","","",null,"","","",null,"","","",null,"","","",{"$nulls":8},"",{"$nulls":4},"",{"$nulls":4},"",{"$nulls":15},"",{"$nulls":4},"",{"$nulls":4},"",{"$nulls":15},"",{"$nulls":4},"",{"$nulls":4},"",{"$nulls":15},"",{"$nulls":4},"",{"$nulls":4},"",{"$nulls":6},0,{"$f":"SUM($FL$36:$FL45)","v":0},0]
[11,{"$nulls":4},"N/A",{"$nulls":10},"","","",null,"","","",null,"","","",null,"","","",{"$nulls":5},"","","","","","","","",null,0,{"$nulls":3},"","","",null,"","","",null,"","","",null,"","","",{"$nulls":8},"",{"$nulls":4},"",{"$nulls":4},"",{"$nulls":15},"",{"$nulls":4},"",{"$nulls":4},"",{"$nulls":15},"",{"$nulls":4},"",{"$nulls":4},"",{"$nulls":15},"",{"$nulls":4},"",{"$nulls":4},"",{"$nulls":6},0,{"$f":"SUM($FL$36:$FL46)","v":0},0]
[12,{"$nulls":4},"N/A",{"$nulls":10},"","","",null,"","","",null,"","","",null,"","","",{"$nulls":5},"","","","","","","","",null,0,{"$nulls":3},"","","",null,"","","",null,"","","",null,"","","",{"$nulls":8},"",{"$nulls":4},"",{"$nulls":4},"",{"$nulls":15},"",{"$nulls":4},"",{"$nulls":4},"",{"$nulls":15},"",{"$nulls":4},"",{"$nulls":4},"",{"$nulls":15},"",{"$nulls":4},"",{"$nulls":4},"",{"$nulls":6},0,{"$f":"SUM($FL$36:$FL47)","v":0},0]
[13,{"$nulls":4},"N/A",{"$nulls":10},"","","",null,"","","",null,"","","",null,"","","",{"$nulls":5},"","","","","","","","",null,0,{"$nulls":3},"","","",null,"","","",null,"","","",null,"","","",{"$nulls":8},"",{"$nulls":4},"",{"$nulls":4},"",{"$nulls":15},"",{"$nulls":4},"",{"$nulls":4},"",{"$nulls":15},"",{"$nulls":4},"",{"$nulls":4},"",{"$nulls":15},"",{"$nulls":4},"",{"$nulls":4},"",{"$nulls":6},0,{"$f":"SUM($FL$36:$FL48)","v":0},0]
[14,{"$nulls":4},"N/A",{"$nulls":10},"","","",null,"","","",null,"","","",null,"","","",{"$nulls":5},"","","","","","","","",null,0,{"$nulls":3},"","","",null,"","","",null,"","","",null,"","","",{"$nulls":8},"",{"$nulls":4},"",{"$nulls":4},"",{"$nulls":15},"",{"$nulls":4},"",{"$nulls":4},"",{"$nulls":15},"",{"$nulls":4},"",{"$nulls":4},"",{"$nulls":15},"",{"$nulls":4},"",{"$nulls":4},"",{"$nulls":6},0,{"$f":"SUM($FL$36:$FL49)","v":0},0]
[15,{"$nulls":4},"N/A",{"$nulls":10},"","","",null,"","","",null,"","","",null,"","","",{"$nulls":5},"","","","","","","","",null,0,{"$nulls":3},"","","",null,"","","",null,"","","",null,"","","",{"$nulls":8},"",{"$nulls":4},"",{"$nulls":4},"",{"$nulls":15},"",{"$nulls":4},"",{"$nulls":4},"",{"$nulls":15},"",{"$nulls":4},"",{"$nulls":4},"",{"$nulls":15},"",{"$nulls":4},"",{"$nulls":4},"",{"$nulls":6},0,{"$f":"SUM($FL$36:$FL50)","v":0},0]
[16,{"$nulls":4},"N/A",{"$nulls":10},"","","",null,"","","",null,"","","",null,"","","",{"$nulls":5},"","","","","","","","",null,0,{"$nulls":3},"","","",null,"","","",null,"","","",null,"","","",{"$nulls":8},"",{"$nulls":4},"",{"$nulls":4},"",{"$nulls":15},"",{"$nulls":4},"",{"$nulls":4},"",{"$nulls":15},"",{"$nulls":4},"",{"$nulls":4},"",{"$nulls":15},"",{"$nulls":4},"",{"$nulls":4},"",{"$nulls":6},0,{"$f":"SUM($FL$36:$FL51)","v":0},0]
[17,{"$nulls":4},"N/A",{"$nulls":10},"","","",null,"","","",null,"","","",null,"","","",{"$nulls":5},"","","","","","","","",null,0,{"$nulls":3},"","","",null,"","","",null,"","","",null,"","","",{"$nulls":8},"",{"$nulls":4},"",{"$nulls":4},"",{"$nulls":15},"",{"$nulls":4},"",{"$nulls":4},"",{"$nulls":15},"",{"$nulls":4},"",{"$nulls":4},"",{"$nulls":15},"",{"$nulls":4},"",{"$nulls":4},"",{"$nulls":6},0,{"$f":"SUM($FL$36:$FL52)","v":0},0]
[18,{"$nulls":4},"N/A",{"$nulls":10},"","","",null,"","","",null,"","","",null,"","","",{"$nulls":5},"","","","","","","","",null,0,{"$nulls":3},"","","",null,"","","",null,"","","",null,"","","",{"$nulls":8},"",{"$nulls":4},"",{"$nulls":4},"",{"$nulls":15},"",{"$nulls":4},"",{"$nulls":4},"",{"$nulls":15},"",{"$nulls":4},"",{"$nulls":4},"",{"$nulls":15},"",{"$nulls":4},"",{"$nulls":4},"",{"$nulls":6},0,{"$f":"SUM($FL$36:$FL53)","v":0},0]
[19,{"$nulls":4},"N/A",{"$nulls":10},"","","",null,"","","",null,"","","",null,"","","",{"$nulls":5},"","","","","","","","",null,0,{"$nulls":3},"","","",null,"","","",null,"","","",null,"","","",{"$nulls":8},"",{"$nulls":4},"",{"$nulls":4},"",{"$nulls":15},"",{"$nulls":4},"",{"$nulls":4},"",{"$nulls":15},"",{"$nulls":4},"",{"$nulls":4},"",{"$nulls":15},"",{"$nulls":4},"",{"$nulls":4},"",{"$nulls":6},0,{"$f":"SUM($FL$36:$FL54)","v":0},0]
[20,{"$nulls":4},"N/A",{"$nulls":10},"","","",null,"","","",null,"","","",null,"","","",{"$nulls":5},"","","","","","","","",null,0,{"$nulls":3},"","","",null,"","","",null,"","","",null,"","","",{"$nulls":8},"",{"$nulls":4},"",{"$nulls":4},"",{"$nulls":15},"",{"$nulls":4},"",{"$nulls":4},"",{"$nulls":15},"",{"$nulls":4},"",{"$nulls":4},"",{"$nulls":15},"",{"$nulls":4},"",{"$nulls":4},"",{"$nulls":6},0,{"$f":"SUM($FL$36:$FL55)","v":0},0]
[21,{"$nulls":4},"N/A",{"$nulls":10},"","","",null,"","","",null,"","","",null,"","","",{"$nulls":5},"","","","","","","","",null,0,{"$nulls":3},"","","",null,"","","",null,"","","",null,"","","",{"$nulls":8},"",{"$nulls":4},"",{"$nulls":4},"",{"$nulls":15},"",{"$nulls":4},"",{"$nulls":4},"",{"$nulls":15},"",{"$nulls":4},"",{"$nulls":4},"",{"$nulls":15},"",{"$nulls":4},"",{"$nulls":4},"",{"$nulls":6},0,{"$f":"SUM($FL$36:$FL56)","v":0},0]
[22,{"$nulls":4},"N/A",{"$nulls":10},"","","",null,"","","",null,"","","",null,"","","",{"$nulls":5},"","","","","","","","",null,0,{"$nulls":3},"","","",null,"","","",null,"","","",null,"","","",{"$nulls":8},"",{"$nulls":4},"",{"$nulls":4},"",{"$nulls":15},"",{"$nulls":4},"",{"$nulls":4},"",{"$nulls":15},"",{"$nulls":4},"",{"$nulls":4},"",{"$nulls":15},"",{"$nulls":4},"",{"$nulls":4},"",{"$nulls":6},0,{"$f":"SUM($FL$36:$FL57)","v":0},0]
[23,{"$nulls":4},"N/A",{"$nulls":10},"","","",null,"","","",null,"","","",null,"","","",{"$nulls":5},"","","","","","","","",null,0,{"$nulls":3},"","","",null,"","","",null,"","","",null,"","","",{"$nulls":8},"",{"$nulls":4},"",{"$nulls":4},"",{"$nulls":15},"",{"$nulls":4},"",{"$nulls":4},"",{"$nulls":15},"",{"$nulls":4},"",{"$nulls":4},"",{"$nulls":15},"",{"$nulls":4},"",{"$nulls":4},"",{"$nulls":6},0,{"$f":"SUM($FL$36:$FL58)","v":0},0]
[24,{"$nulls":4},"N/A",{"$nulls":10},"","","",null,"","","",null,"","","",null,"","","",{"$nulls":5},"","","","","","","","",null,0,{"$nulls":3},"","","",null,"","","",null,"","","",null,"","","",{"$nulls":8},"",{"$nulls":4},"",{"$nulls":4},"",{"$nulls":15},"",{"$nulls":4},"",{"$nulls":4},"",{"$nulls":15},"",{"$nulls":4},"",{"$nulls":4},"",{"$nulls":15},"",{"$nulls":4},"",{"$nulls":4},"",{"$nulls":6},0,{"$f":"SUM($FL$36:$FL59)","v":0},0]
[25,{"$nulls":4},"N/A",{"$nulls":10},"","","",null,"","","",null,"","","",null,"","","",{"$nulls":5},"","","","","","","","",null,0,{"$nulls":3},"","","",null,"","","",null,"","","",null,"","","",{"$nulls":8},"",{"$nulls":4},"",{"$nulls":4},"",{"$nulls":15},"",{"$nulls":4},"",{"$nulls":4},"",{"$nulls":15},"",{"$nulls":4},"",{"$nulls":4},"",{"$nulls":15},"",{"$nulls":4},"",{"$nulls":4},"",{"$nulls":6},0,{"$f":"SUM($FL$36:$FL60)","v":0},0]
[26,{"$nulls":4},"N/A",{"$nulls":10},"","","",null,"","","",null,"","","",null,"","","",{"$nulls":5},"","","","","","","","",null,0,{"$nulls":3},"","","",null,"","","",null,"","","",null,"","","",{"$nulls":8},"",{"$nulls":4},"",{"$nulls":4},"",{"$nulls":15},"",{"$nulls":4},"",{"$nulls":4},"",{"$nulls":15},"",{"$nulls":4},"",{"$nulls":4},"",{"$nulls":15},"",{"$nulls":4},"",{"$nulls":4},"",{"$nulls":6},0,{"$f":"SUM($FL$36:$FL61)","v":0},0]
[27,{"$nulls":4},"N/A",{"$nulls":10},"","","",null,"","","",null,"","","",null,"","","",{"$nulls":5},"","","","","","","","",null,0,{"$nulls":3},"","","",null,"","","",null,"","","",null,"","","",{"$nulls":8},"",{"$nulls":4},"",{"$nulls":4},"",{"$nulls":15},"",{"$nulls":4},"",{"$nulls":4},"",{"$nulls":15},"",{"$nulls":4},"",{"$nulls":4},"",{"$nulls":15},"",{"$nulls":4},"",{"$nulls":4},"",{"$nulls":6},0,{"$f":"SUM($FL$36:$FL62)","v":0},0]
[28,{"$nulls":4},"N/A",{"$nulls":10},"","","",null,"","","",null,"","","",null,"","","",{"$nulls":5},"","","","","","","","",null,0,{"$nulls":3},"","","",null,"","","",null,"","","",null,"","","",{"$nulls":8},"",{"$nulls":4},"",{"$nulls":4},"",{"$nulls":15},"",{"$nulls":4},"",{"$nulls":4},"",{"$nulls":15},"",{"$nulls":4},"",{"$nulls":4},"",{"$nulls":15},"",{"$nulls":4},"",{"$nulls":4},"",{"$nulls":6},0,{"$f":"SUM($FL$36:$FL63)","v":0},0]
[29,{"$nulls":4},"N/A",{"$nulls":10},"","","",null,"","","",null,"","","",null,"","","",{"$nulls":5},"","","","","","","","",null,0,{"$nulls":3},"","","",null,"","","",null,"","","",null,"","","",{"$nulls":8},"",{"$nulls":4},"",{"$nulls":4},"",{"$nulls":15},"",{"$nulls":4},"",{"$nulls":4},"",{"$nulls":15},"",{"$nulls":4},"",{"$nulls":4},"",{"$nulls":15},"",{"$nulls":4},"",{"$nulls":4},"",{"$nulls":6},0,{"$f":"SUM($FL$36:$FL64)","v":0},0]
[30,{"$nulls":4},"N/A",{"$nulls":10},"","","",null,"","","",null,"","","",null,"","","",{"$nulls":5},"","","","","","","","",null,0,{"$nulls":3},"","","",null,"","","",null,"","","",null,"","","",{"$nulls":8},"",{"$nulls":4},"",{"$nulls":4},"",{"$nulls":15},"",{"$nulls":4},"",{"$nulls":4},"",{"$nulls":15},"",{"$nulls":4},"",{"$nulls":4},"",{"$nulls":15},"",{"$nulls":4},"",{"$nulls":4},"",{"$nulls":6},0,{"$f":"SUM($FL$36:$FL65)","v":0},0]
[31,{"$nulls":4},"N/A",{"$nulls":10},"","","",null,"","","",null,"","","",null,"","","",{"$nulls":5},"","","","","","","","",null,0,{"$nulls":3},"","","",null,"","","",null,"","","",null,"","","",{"$nulls":8},"",{"$nulls":4},"",{"$nulls":4},"",{"$nulls":15},"",{"$nulls":4},"",{"$nulls":4},"",{"$nulls":15},"",{"$nulls":4},"",{"$nulls":4},"",{"$nulls":15},"",{"$nulls":4},"",{"$nulls":4},"",{"$nulls":6},0,{"$f":"SUM($FL$36:$FL66)","v":0},0]
[32,{"$nulls":4},"N/A",{"$nulls":10},"","","",null,"","","",null,"","","",null,"","","",{"$nulls":5},"","","","","","","","",null,0,{"$nulls":3},"","","",null,"","","",null,"","","",null,"","","",{"$nulls":8},"",{"$nulls":4},"",{"$nulls":4},"",{"$nulls":15},"",{"$nulls":4},"",{"$nulls":4},"",{"$nulls":15},"",{"$nulls":4},"",{"$nulls":4},"",{"$nulls":15},"",{"$nulls":4},"",{"$nulls":4},"",{"$nulls":6},0,{"$f":"SUM($FL$36:$FL67)","v":0},0]
[33,{"$nulls":4},"N/A",{"$nulls":10},"","","",null,"","","",null,"","","",null,"","","",{"$nulls":5},"","","","","","","","",null,0,{"$nulls":3},"","","",null,"","","",null,"","","",null,"","","",{"$nulls":8},"",{"$nulls":4},"",{"$nulls":4},"",{"$nulls":15},"",{"$nulls":4},"",{"$nulls":4},"",{"$nulls":15},"",{"$nulls":4},"",{"$nulls":4},"",{"$nulls":15},"",{"$nulls":4},"",{"$nulls":4},"",{"$nulls":6},0,{"$f":"SUM($FL$36:$FL68)","v":0},0]
[34,{"$nulls":4},"N/A",{"$nulls":10},"","","",null,"","","",null,"","","",null,"","","",{"$nulls":5},"","","","","","","","",null,0,{"$nulls":3},"","","",null,"","","",null,"","","",null,"","","",{"$nulls":8},"",{"$nulls":4},"",{"$nulls":4},"",{"$nulls":15},"",{"$nulls":4},"",{"$nulls":4},"",{"$nulls":15},"",{"$nulls":4},"",{"$nulls":4},"",{"$nulls":15},"",{"$nulls":4},"",{"$nulls":4},"",{"$nulls":6},0,{"$f":"SUM($FL$36:$FL69)","v":0},0]
[35,{"$nulls":4},"N/A",{"$nulls":10},"","","",null,"","","",null,"","","",null,"","","",{"$nulls":5},"","","","","","","","",null,0,{"$nulls":3},"","","",null,"","","",null,"","","",null,"","","",{"$nulls":8},"",{"$nulls":4},"",{"$nulls":4},"",{"$nulls":15},"",{"$nulls":4},"",{"$nulls":4},"",{"$nulls":15},"",{"$nulls":4},"",{"$nulls":4},"",{"$nulls":15},"",{"$nulls":4},"",{"$nulls":4},"",{"$nulls":6},0,{"$f":"SUM($FL$36:$FL70)","v":0},0]
[36,{"$nulls":4},"N/A",{"$nulls":10},"","","",null,"","","",null,"","","",null,"","","",{"$nulls":5},"","","","","","","","",null,0,{"$nulls":3},"","","",null,"","","",null,"","","",null,"","","",{"$nulls":8},"",{"$nulls":4},"",{"$nulls":4},"",{"$nulls":15},"",{"$nulls":4},"",{"$nulls":4},"",{"$nulls":15},"",{"$nulls":4},"",{"$nulls":4},"",{"$nulls":15},"",{"$nulls":4},"",{"$nulls":4},"",{"$nulls":6},0,{"$f":"SUM($FL$36:$FL71)","v":0},0]
[37,{"$nulls":4},"N/A",{"$nulls":10},"","","",null,"","","",null,"","","",null,"","","",{"$nulls":5},"","","","","","","","",null,0,{"$nulls":3},"","","",null,"","","",null,"","","",null,"","","",{"$nulls":8},"",{"$nulls":4},"",{"$nulls":4},"",{"$nulls":15},"",{"$nulls":4},"",{"$nulls":4},"",{"$nulls":15},"",{"$nulls":4},"",{"$nulls":4},"",{"$nulls":15},"",{"$nulls":4},"",{"$nulls":4},"",{"$nulls":6},0,{"$f":"SUM($FL$36:$FL72)","v":0},0]
[38,{"$nulls":4},"N/A",{"$nulls":10},"","","",null,"","","",null,"","","",null,"","","",{"$nulls":5},"","","","","","","","",null,0,{"$nulls":3},"","","",null,"","","",null,"","","",null,"","","",{"$nulls":8},"",{"$nulls":4},"",{"$nulls":4},"",{"$nulls":15},"",{"$nulls":4},"",{"$nulls":4},"",{"$nulls":15},"",{"$nulls":4},"",{"$nulls":4},"",{"$nulls":15},"",{"$nulls":4},"",{"$nulls":4},"",{"$nulls":6},0,{"$f":"SUM($FL$36:$FL73)","v":0},0]
[39,{"$nulls":4},"N/A",{"$nulls":10},"","","",null,"","","",null,"","","",null,"","","",{"$nulls":5},"","","","","","","","",null,0,{"$nulls":3},"","","",null,"","","",null,"","","",null,"","","",{"$nulls":8},"",{"$nulls":4},"",{"$nulls":4},"",{"$nulls":15},"",{"$nulls":4},"",{"$nulls":4},"",{"$nulls":15},"",{"$nulls":4},"",{"$nulls":4},"",{"$nulls":15},"",{"$nulls":4},"",{"$nulls":4},"",{"$nulls":6},0,{"$f":"SUM($FL$36:$FL74)","v":0},0]
[40,{"$nulls":4},"N/A",{"$nulls":10},"","","",null,"","","",null,"","","",null,"","","",{"$nulls":5},"","","","","","","","",null,0,{"$nulls":3},"","","",null,"","","",null,"","","",null,"","","",{"$nulls":8},"",{"$nulls":4},"",{"$nulls":4},"",{"$nulls":15},"",{"$nulls":4},"",{"$nulls":4},"",{"$nulls":15},"",{"$nulls":4},"",{"$nulls":4},"",{"$nulls":15},"",{"$nulls":4},"",{"$nulls":4},"",{"$nulls":6},0,{"$f":"SUM($FL$36:$FL75)","v":0},0]
[41,{"$nulls":4},"N/A",{"$nulls":10},"","","",null,"","","",null,"","","",null,"","","",{"$nulls":5},"","","","","","","","",null,0,{"$nulls":3},"","","",null,"","","",null,"","","",null,"","","",{"$nulls":8},"",{"$nulls":4},"",{"$nulls":4},"",{"$nulls":15},"",{"$nulls":4},"",{"$nulls":4},"",{"$nulls":15},"",{"$nulls":4},"",{"$nulls":4},"",{"$nulls":15},"",{"$nulls":4},"",{"$nulls":4},"",{"$nulls":6},0,{"$f":"SUM($FL$36:$FL76)","v":0},0]
[42,{"$nulls":4},"N/A",{"$nulls":10},"","","",null,"","","",null,"","","",null,"","","",{"$nulls":5},"","","","","","","","",null,0,{"$nulls":3},"","","",null,"","","",null,"","","",null,"","","",{"$nulls":8},"",{"$nulls":4},"",{"$nulls":4},"",{"$nulls":15},"",{"$nulls":4},"",{"$nulls":4},"",{"$nulls":15},"",{"$nulls":4},"",{"$nulls":4},"",{"$nulls":15},"",{"$nulls":4},"",{"$nulls":4},"",{"$nulls":6},0,{"$f":"SUM($FL$36:$FL77)","v":0},0]
[43,{"$nulls":4},"N/A",{"$nulls":10},"","","",null,"","","",null,"","","",null,"","","",{"$nulls":5},"","","","","","","","",null,0,{"$nulls":3},"","","",null,"","","",null,"","","",null,"","","",{"$nulls":8},"",{"$nulls":4},"",{"$nulls":4},"",{"$nulls":15},"",{"$nulls":4},"",{"$nulls":4},"",{"$nulls":15},"",{"$nulls":4},"",{"$nulls":4},"",{"$nulls":15},"",{"$nulls":4},"",{"$nulls":4},"",{"$nulls":6},0,{"$f":"SUM($FL$36:$FL78)","v":0},0]
[44,{"$nulls":4},"N/A",{"$nulls":10},"","","",null,"","","",null,"","","",null,"","","",{"$nulls":5},"","","","","","","","",null,0,{"$nulls":3},"","","",null,"","","",null,"","","",null,"","","",{"$nulls":8},"",{"$nulls":4},"",{"$nulls":4},"",{"$nulls":15},"",{"$nulls":4},"",{"$nulls":4},"",{"$nulls":15},"",{"$nulls":4},"",{"$nulls":4},"",{"$nulls":15},"",{"$nulls":4},"",{"$nulls":4},"",{"$nulls":6},0,{"$f":"SUM($FL$36:$FL79)","v":0},0]
[45,{"$nulls":4},"N/A",{"$nulls":10},"","","",null,"","","",null,"","","",null,"","","",{"$nulls":5},"","","","","","","","",null,0,{"$nulls":3},"","","",null,"","","",null,"","","",null,"","","",{"$nulls":8},"",{"$nulls":4},"",{"$nulls":4},"",{"$nulls":15},"",{"$nulls":4},"",{"$nulls":4},"",{"$nulls":15},"",{"$nulls":4},"",{"$nulls":4},"",{"$nulls":15},"",{"$nulls":4},"",{"$nulls":4},"",{"$nulls":6},0,{"$f":"SUM($FL$36:$FL80)","v":0},0]
[46,{"$nulls":4},"N/A",{"$nulls":10},"","","",null,"","","",null,"","","",null,"","","",{"$nulls":5},"","","","","","","","",null,0,{"$nulls":3},"","","",null,"","","",null,"","","",null,"","","",{"$nulls":8},"",{"$nulls":4},"",{"$nulls":4},"",{"$nulls":15},"",{"$nulls":4},"",{"$nulls":4},"",{"$nulls":15},"",{"$nulls":4},"",{"$nulls":4},"",{"$nulls":15},"",{"$nulls":4},"",{"$nulls":4},"",{"$nulls":6},0,{"$f":"SUM($FL$36:$FL81)","v":0},0]
[47,{"$nulls":4},"N/A",{"$nulls":10},"","","",null,"","","",null,"","","",null,"","","",{"$nulls":5},"","","","","","","","",null,0,{"$nulls":3},"","","",null,"","","",null,"","","",null,"","","",{"$nulls":8},"",{"$nulls":4},"",{"$nulls":4},"",{"$nulls":15},"",{"$nulls":4},"",{"$nulls":4},"",{"$nulls":15},"",{"$nulls":4},"",{"$nulls":4},"",{"$nulls":15},"",{"$nulls":4},"",{"$nulls":4},"",{"$nulls":6},0,{"$f":"SUM($FL$36:$FL82)","v":0},0]
[48,{"$nulls":4},"N/A",{"$nulls":10},"","","",null,"","","",null,"","","",null,"","","",{"$nulls":5},"","","","","","","","",null,0,{"$nulls":3},"","","",null,"","","",null,"","","",null,"","","",{"$nulls":8},"",{"$nulls":4},"",{"$nulls":4},"",{"$nulls":15},"",{"$nulls":4},"",{"$nulls":4},"",{"$nulls":15},"",{"$nulls":4},"",{"$nulls":4},"",{"$nulls":15},"",{"$nulls":4},"",{"$nulls":4},"",{"$nulls":6},0,{"$f":"SUM($FL$36:$FL83)","v":0},0]
[49,{"$nulls":4},"N/A",{"$nulls":10},"","","",null,"","","",null,"","","",null,"","","",{"$nulls":5},"","","","","","","","",null,0,{"$nulls":3},"","","",null,"","","",null,"","","",null,"","","",{"$nulls":8},"",{"$nulls":4},"",{"$nulls":4},"",{"$nulls":15},"",{"$nulls":4},"",{"$nulls":4},"",{"$nulls":15},"",{"$nulls":4},"",{"$nulls":4},"",{"$nulls":15},"",{"$nulls":4},"",{"$nulls":4},"",{"$nulls":6},0,{"$f":"SUM($FL$36:$FL84)","v":0},0]
[50,{"$nulls":4},"N/A",{"$nulls":10},"","","",null,"","","",null,"","","",null,"","","",{"$nulls":5},"","","","","","","","",null,0,{"$nulls":3},"","","",null,"","","",null,"","","",null,"",{"$f":"IF($B85=\"Y\",IF(AND($AC85<>\"\",$AQ84<>\"\",$AR84<>\"\"),($AC85+$AQ84)/($AR84+1),\"\"),\"\")","v":""},"",{"$nulls":8},"",{"$nulls":4},"",{"$nulls":4},"",{"$nulls":15},"",{"$nulls":4},"",{"$nulls":4},"",{"$nulls":15},"",{"$nulls":4},"",{"$nulls":4},"",{"$nulls":15},"",{"$nulls":4},"",{"$nulls":4},"",{"$nulls":6},0,{"$f":"SUM($FL$36:$FL85)","v":0},0]
[null,null,{"$f":"SUM(C36:C85)","v":0}]
["g/bhp-hr"]
["g/kW-hr"]

{"sheet":"Invalid Tests","index":33,"n_rows":75,"n_cols":24,"rows_kept":75,"merged":[[1,0,1,21],[2,0,2,21],[3,0,3,21],[4,0,4,21],[5,0,5,21],[6,0,6,21],[7,0,7,21],[8,0,8,21],[10,3,10,5],[10,11,10,12],[11,3,11,5],[12,3,12,5],[13,3,13,5],[14,3,15,5],[17,3,20,12],[22,0,22,21]]}
[]
["United States"]
["US Environmental Protection Agency"]
["Office of Air and Radiation, Office of Transportation and Air Quality"]
[]
["Manufacturer Production Line Testing Report for Marine Compression-Ignition Engines"]
[{"$f":"Instructions!B7","v":"Version Number: 1.4 DRAFT  Last Revision: September 2023"}]
[]
["Basic Information: Invalid Tests"]
[]
[null,"Manufacturer:",null,{"$f":"IF(Summary!D12<>\"\",Summary!D12,\"\")","v":""},{"$nulls":18},1,"Y"]
[null,"PLT Test Contact:",null,{"$f":"IF(Summary!D13<>\"\",Summary!D13,\"\")","v":""},{"$nulls":3},"Total Production (Category 3 only):",{"$nulls":4},{"$f":"IF(Summary!$L$14<>\"\",Summary!$L$14,\"\")","v":""},{"$nulls":9},2,"N"]
[null,"Email Address:",null,{"$f":"IF(Summary!D14<>\"\",Summary!D14,\"\")","v":""},{"$nulls":3},"Date of Start of Model Year Production:",{"$nulls":4},{"$f":"IF(Summary!J15<>\"\",Summary!J15,\"\")","v":""},{"$nulls":9},3]
[null,"Phone #:",null,{"$f":"IF(Summary!D15<>\"\",Summary!D15,\"\")","v":""},{"$nulls":3},"Date of End of Model Year Production:",{"$nulls":4},{"$f":"IF(Summary!O15<>\"\",Summary!O15,\"\")","v":""},{"$nulls":9},4]
[null,"Test Location & Description:",null,{"$f":"IF(Summary!P59<>\"\",Summary!P59,\"\")","v":""}]
[]
[]
[null,"Comments:",{"$nulls":21},{"$f":"IF(Summary!$L$13<>\"Category 3\",Summary!$F$20,\"N\")","v":0}]
[]
[]
[]
[]
["Invalid PLT Engine Test Results"]
[]
[null,"Engine Family","Test Number","Test Date","Test Time","Test Qtr","Engine ID","Engine Make","Engine Configuration","Build Date","Green Engine Factor Applied?","Green Engine Factor Determination Method","Service Hours (or miles) Accumulation","Service Hours Location","Service Acc. Procedure","CO Final Result (g/kW-hr)","PM Final Result (g/kW-hr)","HC+NOx Final Result (g/kW-hr)","NOx Final Result (g/kW-hr)","HC Final Result (g/kW-hr)","Reason for Invalid Test","Additional Comments"]
[1,{"$nulls":21},{"$f":"IF($C26<>\"\",1,0)","v":0},{"$f":"SUM(W26:W75)","v":0}]
[{"$f":"A26+1","v":2},{"$nulls":21},{"$f":"IF($C27<>\"\",1,0)","v":0}]
[3,{"$nulls":21},0]
[4,{"$nulls":21},0]
[5,{"$nulls":21},0]
[6,{"$nulls":21},0]
[7,{"$nulls":21},0]
[8,{"$nulls":21},0]
[9,{"$nulls":21},0]
[10,{"$nulls":21},0]
[11,{"$nulls":21},0]
[12,{"$nulls":21},0]
[13,{"$nulls":21},0]
[14,{"$nulls":21},0]
[15,{"$nulls":21},0]
[16,{"$nulls":21},0]
[17,{"$nulls":21},0]
[18,{"$nulls":21},0]
[19,{"$nulls":21},0]
[20,{"$nulls":21},0]
[21,{"$nulls":21},0]
[22,{"$nulls":21},0]
[23,{"$nulls":21},0]
[24,{"$nulls":21},0]
[25,{"$nulls":21},0]
[26,{"$nulls":21},0]
[27,{"$nulls":21},0]
[28,{"$nulls":21},0]
[29,{"$nulls":21},0]
[30,{"$nulls":21},0]
[31,{"$nulls":21},0]
[32,{"$nulls":21},0]
[33,{"$nulls":21},0]
[{"$f":"A58+1","v":34},{"$nulls":21},0]
[35,{"$nulls":21},0]
[36,{"$nulls":21},0]
[37,{"$nulls":21},0]
[38,{"$nulls":21},0]
[39,{"$nulls":21},0]
[40,{"$nulls":21},0]
[41,{"$nulls":21},0]
[42,{"$nulls":21},0]
[43,{"$nulls":21},0]
[44,{"$nulls":21},0]
[45,{"$nulls":21},0]
[46,{"$nulls":21},0]
[47,{"$nulls":21},0]
[48,{"$nulls":21},0]
[49,{"$nulls":21},0]
[50,{"$nulls":21},0]