Workbook

Sheet State Summary
A1: GNP Budgets and Manual Rounding Correction
A3: (A) State | B3: (B) GNP 2025 Emission Budget | C3: GNP NUSA (%) for 2025 | D3: 2025 Emission Budget for Existing Units (tons) | E3: 2025 NOx OS Allocation Before Rounding Correction (tons) | F3: 2025 Manual Rounding Correction (tons) | G3: 2025 NOx OS Allocation with Rounding Correction (tons)
A4: Arizona | B4: 8195 | C4: 0.11 | D4: =ROUND((B4*(1-C4)),0) -> 7294 | E4: =SUMIF('GNP Allocations'!B:B,A4,'GNP Allocations'!E:E) -> 7296 | F4: =D4-E4 -> -2 | G4: =SUMIF('GNP Allocations'!B:B,A4,'GNP Allocations'!G:G) -> 7294
A5: Iowa | B5: 9752 | C5: 0.05 | D5: =ROUND((B5*(1-C5)),0) -> 9264 | E5: =SUMIF('GNP Allocations'!B:B,A5,'GNP Allocations'!E:E) -> 9263 | F5: =D5-E5 -> 1 | G5: =SUMIF('GNP Allocations'!B:B,A5,'GNP Allocations'!G:G) -> 9264
A6: Kansas | B6: 4763 | C6: 0.05 | D6: =ROUND((B6*(1-C6)),0) -> 4525 | E6: =SUMIF('GNP Allocations'!B:B,A6,'GNP Allocations'!E:E) -> 4523 | F6: =D6-E6 -> 2 | G6: =SUMIF('GNP Allocations'!B:B,A6,'GNP Allocations'!G:G) -> 4525
A7: New Mexico | B7: 2211 | C7: 0.05 | D7: =ROUND((B7*(1-C7)),0) -> 2100 | E7: =SUMIF('GNP Allocations'!B:B,A7,'GNP Allocations'!E:E) -> 2100 | F7: =D7-E7 -> 0 | G7: =SUMIF('GNP Allocations'!B:B,A7,'GNP Allocations'!G:G) -> 2100
A8: Tennessee | B8: 3983 | C8: 0.05 | D8: =ROUND((B8*(1-C8)),0) -> 3784 | E8: =SUMIF('GNP Allocations'!B:B,A8,'GNP Allocations'!E:E) -> 3787 | F8: =D8-E8 -> -3 | G8: =SUMIF('GNP Allocations'!B:B,A8,'GNP Allocations'!G:G) -> 3784
A10: Sources and computations:
A11: (B) GNP 2025 state budgets are from Preamble Table I.B-1. Note that these amounts include the portions of the budgets set aside for new units.

Sheet GNP Allocations
E1: Before Rounding Correction | F1: Manual Rounding Correction | G1: After Rounding Correction
A2: Plant Name | B2: State | C2: ORIS ID | D2: Boiler ID | E2: 2025 NOx OS Allocation (tons) | F2: 2025 NOx OS Allocation (tons) | G2: 2025 NOx OS Allocation (tons)
A3: APS Saguaro Power Plant | B3: Arizona | C3: 118 | D3: CT3 | E3: 8 | F3: 0 | G3: =E3+F3 -> 8
A4: APS West Phoenix Power Plant | B4: Arizona | C4: 117 | D4: CC4 | E4: 28 | F4: 0 | G4: =E4+F4 -> 28
A5: APS West Phoenix Power Plant | B5: Arizona | C5: 117 | D5: CC5A | E5: 30 | F5: 0 | G5: =E5+F5 -> 30
A6: APS West Phoenix Power Plant | B6: Arizona | C6: 117 | D6: CC5B | E6: 34 | F6: 0 | G6: =E6+F6 -> 34
A7: Agua Fria Generating Station | B7: Arizona | C7: 141 | D7: 1 | E7: 49 | F7: 0 | G7: =E7+F7 -> 49
A8: Agua Fria Generating Station | B8: Arizona | C8: 141 | D8: 2 | E8: 45 | F8: 0 | G8: =E8+F8 -> 45
A9: Agua Fria Generating Station | B9: Arizona | C9: 141 | D9: 3 | E9: 83 | F9: 0 | G9: =E9+F9 -> 83
A10: Agua Fria Generating Station | B10: Arizona | C10: 141 | D10: 7 | F10: 0 | G10: =E10+F10 -> 0
A11: Agua Fria Generating Station | B11: Arizona | C11: 141 | D11: 8 | F11: 0 | G11: =E11+F11 -> 0
A12: Apache Station | B12: Arizona | C12: 160 | D12: 1 | E12: 48 | F12: 0 | G12: =E12+F12 -> 48
A13: Apache Station | B13: Arizona | C13: 160 | D13: 2 | E13: 404 | F13: 0 | G13: =E13+F13 -> 404
A14: Apache Station | B14: Arizona | C14: 160 | D14: 3 | E14: 432 | F14: 0 | G14: =E14+F14 -> 432
A15: Apache Station | B15: Arizona | C15: 160 | D15: 4 | E15: 6 | F15: 0 | G15: =E15+F15 -> 6
A16: Arlington Valley Energy Facility | B16: Arizona | C16: 55282 | D16: CTG1 | E16: 22 | F16: 0 | G16: =E16+F16 -> 22
A17: Arlington Valley Energy Facility | B17: Arizona | C17: 55282 | D17: CTG2 | E17: 21 | F17: 0 | G17: =E17+F17 -> 21
A18: Black Mountain Generating Station | B18: Arizona | C18: 56482 | D18: 1 | E18: 24 | F18: 0 | G18: =E18+F18 -> 24
A19: Black Mountain Generating Station | B19: Arizona | C19: 56482 | D19: 2 | E19: 20 | F19: 0 | G19: =E19+F19 -> 20
A20: Cholla | B20: Arizona | C20: 113 | D20: 1 | E20: 280 | F20: 0 | G20: =E20+F20 -> 280
A21: Cholla | B21: Arizona | C21: 113 | D21: 3 | E21: 616 | F21: 0 | G21: =E21+F21 -> 616
A22: Coolidge Generating Station | B22: Arizona | C22: 56948 | D22: CT01 | E22: 1 | F22: 0 | G22: =E22+F22 -> 1
A23: Coolidge Generating Station | B23: Arizona | C23: 56948 | D23: CT02 | E23: 1 | F23: 0 | G23: =E23+F23 -> 1
... A38: Desert Basin Generating Station | B38: Arizona | C38: 55129 | D38: DBG2 | E38: 29 | F38: 0 | G38: =E38+F38 -> 29
A39: Desert Basin Generating Station | B39: Arizona | C39: 55129 | D39: DBG4 | F39: 0 | G39: =E39+F39 -> 0
A40: Desert Basin Generating Station | B40: Arizona | C40: 55129 | D40: DBG5 | F40: 0 | G40: =E40+F40 -> 0
A41: Gila River Power Station | B41: Arizona | C41: 55306 | D41: 1CTGA | E41: 23 | F41: 0 | G41: =E41+F41 -> 23
A42: Gila River Power Station | B42: Arizona | C42: 55306 | D42: 1CTGB | E42: 30 | F42: 0 | G42: =E42+F42 -> 30
A43: Gila River Power Station | B43: Arizona | C43: 55306 | D43: 2CTGA | E43: 21 | F43: 0 | G43: =E43+F43 -> 21
A44: Gila River Power Station | B44: Arizona | C44: 55306 | D44: 2CTGB | E44: 21 | F44: 0 | G44: =E44+F44 -> 21
A45: Gila River Power Station | B45: Arizona | C45: 55306 | D45: 3CTGA | E45: 20 | F45: 0 | G45: =E45+F45 -> 20
A46: Gila River Power Station | B46: Arizona | C46: 55306 | D46: 3CTGB | E46: 19 | F46: 0 | G46: =E46+F46 -> 19
A47: Gila River Power Station | B47: Arizona | C47: 55306 | D47: 4CTGA | E47: 22 | F47: 0 | G47: =E47+F47 -> 22
A48: Gila River Power Station | B48: Arizona | C48: 55306 | D48: 4CTGB | E48: 22 | F48: 0 | G48: =E48+F48 -> 22
A49: Griffith Energy Project | B49: Arizona | C49: 55124 | D49: P1 | E49: 27 | F49: 0 | G49: =E49+F49 -> 27
A50: Griffith Energy Project | B50: Arizona | C50: 55124 | D50: P2 | E50: 26 | F50: 0 | G50: =E50+F50 -> 26
A51: Irvington Generating Station | B51: Arizona | C51: 126 | D51: 3 | E51: 162 | F51: 0 | G51: =E51+F51 -> 162
A52: Irvington Generating Station | B52: Arizona | C52: 126 | D52: 4 | E52: 240 | F52: 0 | G52: =E52+F52 -> 240
... A276: Lagoon Creek | B276: Tennessee | C276: 7845 | D276: LCT9 | E276: 4 | F276: 0 | G276: =E276+F276 -> 4

Sheet Underlying Data for FIP
F1: Step 1 | K1: Steps 2 & 3 | L1: Step 4 | M1: Step 5 | N1: Step 6 | P1: Step 7 | U1: Step 8 | X1: Steps 9 & 10 | Y1: Data Flags
A2: Plant Name | B2: State | C2: ORIS ID | D2: Boiler ID | E2: CAMD Unit ID | F2: 2017 Ozone Season Heat Input (mmBtu) | G2: 2018 Ozone Season Heat Input (mmBtu) | H2: 2019 Ozone Season Heat Input (mmBtu) | I2: 2020 Ozone Season Heat Input (mmBtu) | J2: 2021 Ozone Season Heat Input (mmBtu) | K2: Unit Level Average of 3 Highest Non-Zero Ozone Season Heat Inputs from 2017 to 2021 (mmBtu) for 2025 | L2: State Level Summation of Unit Level Three Year Average Ozone Season Heat Input (mmBtu) for 2025 | M2: Unit 's Percentage Share of State's Ozone Season Heat Input for 2025 | N2: Ozone Season NOX 2025 State Budget for Existing Units (tons) | O2: Tentative Heat Input Based 2025 Ozone Season NOX Allocation (tons) | P2: 2017 Ozone Season NOX Emissions (tons) | Q2: 2018 Ozone Season NOX Emissions (tons) | R2: 2019 Ozone Season NOX Emissions (tons) | S2: 2020 Ozone Season NOX Emissions (tons) | T2: 2021 Ozone Season NOX Emissions (tons) | U2: Ozone Season Historical Maximum Total NOX Emissions (tons) | V2: 2025 Ozone Season Maximum Controlled Baseline (tons) | W2: 2025 Ozone Season Cap | X2: Unit Level NOX Ozone Season Allocation 2025 (tons) | Y2: Existing Unit or Retired in 2025 | Z2: Additional (Not ARP or CSAPR) Unit | AA2: Unit Not Subject to State's SIP Authority
A3: Calculation | K3: Average of three highest non-zero values in columns F - J for Operating units | L3: Sum column K values to get State level totals | M3: Column K divided by column L | O3: Column M x column N | U3: Highest value of columns P - T | W3: Lowest value of columns U and V | X3: (Lesser of columns W and O + reapportionment if O < W
A4: APS Saguaro Power Plant | B4: Arizona | C4: 118 | D4: CT3 | E4: 8250 | F4: 216322.8 | G4: 450690.67 | H4: 171834.7 | I4: 337969.36 | J4: 378022.38 | K4: 388894.13 | L4: 2.7613895e+08 | M4: 0.0014083277 | N4: 7293.55 | O4: 10.271709 | P4: 4.492 | Q4: 8.492 | R4: 5.023 | S4: 4.864 | T4: 6.458 | U4: 8.492 | W4: 8.492 | X4: 8 | Y4: Existing Unit
A5: APS West Phoenix Power Plant | B5: Arizona | C5: 117 | D5: CC4 | E5: 70 | F5: 1418658.1 | G5: 1395618.5 | H5: 1415595.3 | I5: 1793822.7 | J5: 1495040.9 | K5: 1569173.9 | L5: 2.7613895e+08 | M5: 0.0056825519 | N5: 7293.55 | O5: 41.445977 | P5: 21.242 | Q5: 18.045 | R5: 18.001 | S5: 27.604 | T5: 21.892 | U5: 27.604 | W5: 27.604 | X5: 28 | Y5: Existing Unit
A6: APS West Phoenix Power Plant | B6: Arizona | C6: 117 | D6: CC5A | E6: 71 | F6: 3355935.3 | G6: 3913650.8 | H6: 2858604.5 | I6: 4319909.9 | J6: 3369384 | K6: 3867648.2 | L6: 2.7613895e+08 | M6: 0.014006167 | N6: 7293.55 | O6: 102.15468 | P6: 29.992 | Q6: 27.812 | R6: 20.354 | S6: 27.826 | T6: 25.511 | U6: 29.992 | W6: 29.992 | X6: 30 | Y6: Existing Unit
A7: APS West Phoenix Power Plant | B7: Arizona | C7: 117 | D7: CC5B | E7: 88097 | F7: 4139333.4 | G7: 3783677.9 | H7: 3224869.2 | I7: 4301415.5 | J7: 4320051.8 | K7: 4253600.2 | L7: 2.7613895e+08 | M7: 0.01540384 | N7: 7293.55 | O7: 112.34868 | P7: 34.306 | Q7: 26.615 | R7: 24.326 | S7: 28.2 | T7: 30.566 | U7: 34.306 | W7: 34.306 | X7: 34 | Y7: Existing Unit
A8: Agua Fria Generating Station | B8: Arizona | C8: 141 | D8: 1 | E8: 86 | F8: 556149.6 | G8: 442789.87 | H8: 550752.23 | I8: 823758.88 | J8: 295880.09 | K8: 643553.57 | L8: 2.7613895e+08 | M8: 0.0023305426 | N8: 7293.55 | O8: 16.997929 | P8: 71.701 | Q8: 54.71 | R8: 70.592 | S8: 135.997 | T8: 33.164 | U8: 135.997 | W8: 135.997 | X8: 49 | Y8: Existing Unit
A9: Agua Fria Generating Station | B9: Arizona | C9: 141 | D9: 2 | E9: 87 | F9: 462205.13 | G9: 380585.63 | H9: 540793.1 | I9: 785378.42 | J9: 278807.19 | K9: 596125.55 | L9: 2.7613895e+08 | M9: 0.0021587884 | N9: 7293.55 | O9: 15.745231 | P9: 54.717 | Q9: 46.799 | R9: 66.385 | S9: 103.606 | T9: 29.795 | U9: 103.606 | W9: 103.606 | X9: 45 | Y9: Existing Unit
A10: Agua Fria Generating Station | B10: Arizona | C10: 141 | D10: 3 | E10: 88 | F10: 911117.8 | G10: 765282.41 | H10: 1050718.3 | I10: 1343957.7 | J10: 520440.42 | K10: 1101931.3 | L10: 2.7613895e+08 | M10: 0.0039904956 | N10: 7293.55 | O10: 29.104879 | P10: 239.975 | Q10: 196.336 | R10: 229.396 | S10: 360.501 | T10: 87.824 | U10: 360.501 | W10: 360.501 | X10: 83 | Y10: Existing Unit
A11: Agua Fria Generating Station | B11: Arizona | C11: 141 | D11: 7 | E11: 91419 | L11: 2.7613895e+08 | N11: 7293.55 | U11: 0 | W11: 0 | Y11: Existing Unit
A12: Agua Fria Generating Station | B12: Arizona | C12: 141 | D12: 8 | E12: 91420 | L12: 2.7613895e+08 | N12: 7293.55 | U12: 0 | W12: 0 | Y12: Existing Unit
A13: Apache Station | B13: Arizona | C13: 160 | D13: 1 | E13: 92 | F13: 746195.46 | G13: 1042603.6 | H13: 1117705.7 | I13: 1169915.8 | J13: 828334.84 | K13: 1110075.1 | L13: 2.7613895e+08 | M13: 0.0040199873 | N13: 7293.55 | O13: 29.319979 | P13: 47.543 | Q13: 37.043 | R13: 22.951 | S13: 26.261 | T13: 16.282 | U13: 47.543 | W13: 47.543 | X13: 48 | Y13: Existing Unit
A14: Apache Station | B14: Arizona | C14: 160 | D14: 2 | E14: 93 | F14: 4064672.1 | G14: 4665672.9 | H14: 5274733.1 | I14: 6087761.6 | J14: 4503917.5 | K14: 5342722.5 | L14: 2.7613895e+08 | M14: 0.01934795 | N14: 7293.55 | O14: 141.11524 | P14: 697.461 | Q14: 156.409 | R14: 178.119 | S14: 215.844 | T14: 139.225 | U14: 697.461 | W14: 697.461 | X14: 404 | Y14: Existing Unit
A15: Apache Station | B15: Arizona | C15: 160 | D15: 3 | E15: 94 | F15: 5338165.5 | G15: 4894029.1 | H15: 4401235 | I15: 5090696.3 | J15: 6681655.8 | K15: 5703505.9 | L15: 2.7613895e+08 | M15: 0.020654478 | N15: 7293.55 | O15: 150.64447 | P15: 741.181 | Q15: 488.933 | R15: 373.566 | S15: 421.468 | T15: 749.477 | U15: 749.477 | W15: 749.477 | X15: 432 | Y15: Existing Unit
A16: Apache Station | B16: Arizona | C16: 160 | D16: 4 | E16: 88320 | F16: 374872.38 | G16: 372845.57 | H16: 372291.72 | I16: 412664.8 | J16: 304800.25 | K16: 386794.25 | L16: 2.7613895e+08 | M16: 0.0014007233 | N16: 7293.55 | O16: 10.216245 | P16: 6.015 | Q16: 5.948 | R16: 3.731 | S16: 4.492 | T16: 3.294 | U16: 6.015 | W16: 6.015 | X16: 6 | Y16: Existing Unit
A17: Arlington Valley Energy Facility | B17: Arizona | C17: 55282 | D17: CTG1 | E17: 4420 | F17: 5818460.7 | G17: 5948823.9 | H17: 5355285.3 | I17: 3344644.1 | J17: 4288359.9 | K17: 5707523.3 | L17: 2.7613895e+08 | M17: 0.020669027 | N17: 7293.55 | O17: 150.75058 | P17: 21.433 | Q17: 22.122 | R17: 19.937 | S17: 15.775 | T17: 18.328 | U17: 22.122 | W17: 22.122 | X17: 22 | Y17: Existing Unit
A18: Arlington Valley Energy Facility | B18: Arizona | C18: 55282 | D18: CTG2 | E18: 4421 | F18: 5796542.9 | G18: 5811834.7 | H18: 4960800.5 | I18: 4338381.7 | J18: 4384775.4 | K18: 5523059.4 | L18: 2.7613895e+08 | M18: 0.020001016 | N18: 7293.55 | O18: 145.87841 | P18: 21.022 | Q18: 21.135 | R18: 19.036 | S18: 15.785 | T18: 19.22 | U18: 21.135 | W18: 21.135 | X18: 21 | Y18: Existing Unit
A19: Black Mountain Generating Station | B19: Arizona | C19: 56482 | D19: 1 | E19: 89755 | F19: 225047.32 | G19: 305704.11 | H19: 21163.069 | I19: 499534.99 | J19: 457265.46 | K19: 420834.85 | L19: 2.7613895e+08 | M19: 0.0015239967 | N19: 7293.55 | O19: 11.115346 | P19: 10.199 | Q19: 12.947 | R19: 0.961 | S19: 22.234 | T19: 24.318 | U19: 24.318 | W19: 24.318 | X19: 24 | Y19: Existing Unit
A20: Black Mountain Generating Station | B20: Arizona | C20: 56482 | D20: 2 | E20: 89756 | F20: 222703.92 | G20: 312526.77 | H20: 398366.98 | I20: 502877.28 | J20: 374569.97 | K20: 425271.41 | L20: 2.7613895e+08 | M20: 0.0015400631 | N20: 7293.55 | O20: 11.232527 | P20: 9.986 | Q20: 13.356 | R20: 16.712 | S20: 19.642 | T20: 16.592 | U20: 19.642 | W20: 19.642 | X20: 20 | Y20: Existing Unit
A21: Cholla | B21: Arizona | C21: 113 | D21: 1 | E21: 62 | F21: 3420320.2 | G21: 3212417.4 | H21: 2106934.8 | I21: 3333621.5 | J21: 4361811.7 | K21: 3705251.2 | L21: 2.7613895e+08 | M21: 0.013418068 | N21: 7293.55 | O21: 97.865349 | P21: 271.066 | Q21: 279.584 | R21: 181.538 | S21: 262.305 | T21: 388.953 | U21: 388.953 | W21: 388.953 | X21: 280 | Y21: Existing Unit
A22: Cholla | B22: Arizona | C22: 113 | D22: 3 | E22: 64 | F22: 7963584 | G22: 6917253.6 | H22: 5359784.6 | I22: 7887488.6 | J22: 8564103.8 | K22: 8138392.1 | L22: 2.7613895e+08 | M22: 0.029472091 | N22: 7293.55 | O22: 214.95617 | P22: 726.371 | Q22: 638.735 | R22: 503.531 | S22: 728.553 | T22: 815.886 | U22: 815.886 | W22: 815.886 | X22: 616 | Y22: Existing Unit
A23: Coolidge Generating Station | B23: Arizona | C23: 56948 | D23: CT01 | E23: 90464 | F23: 62186.987 | G23: 32220.643 | H23: 79512.192 | I23: 181026.96 | J23: 59490.73 | K23: 107575.38 | L23: 2.7613895e+08 | M23: 0.00038956975 | N23: 7293.55 | O23: 2.8413464 | P23: 0.326 | Q23: 0.16 | R23: 0.289 | S23: 0.541 | T23: 0.203 | U23: 0.541 | W23: 0.541 | X23: 1 | Y23: Existing Unit
A24: Coolidge Generating Station | B24: Arizona | C24: 56948 | D24: CT02 | E24: 90465 | F24: 67692.332 | G24: 36217.53 | H24: 75582.548 | I24: 190847.51 | J24: 62592.875 | K24: 111374.13 | L24: 2.7613895e+08 | M24: 0.00040332641 | N24: 7293.55 | O24: 2.9416813 | P24: 0.366 | Q24: 0.15 | R24: 0.282 | S24: 0.624 | T24: 0.236 | U24: 0.624 | W24: 0.624 | X24: 1 | Y24: Existing Unit
... A35: Coronado Generating Station | B35: Arizona | C35: 6177 | D35: U1B | E35: 2823 | F35: 11320917 | G35: 11346158 | H35: 7183661.9 | I35: 8783812.3 | J35: 10458154 | K35: 11041743 | L35: 2.7613895e+08 | M35: 0.039986185 | N35: 7293.55 | O35: 291.64124 | P35: 1675.94 | Q35: 1682.622 | R35: 866.03 | S35: 1219.202 | T35: 1542.467 | U35: 1682.622 | W35: 1682.622 | X35: 836 | Y35: Existing Unit
A36: Coronado Generating Station | B36: Arizona | C36: 6177 | D36: U2B | E36: 2824 | F36: 10369030 | G36: 11091180 | H36: 7297772.9 | I36: 10799718 | J36: 12360919 | K36: 11417272 | L36: 2.7613895e+08 | M36: 0.041346113 | N36: 7293.55 | O36: 301.55994 | P36: 298.289 | Q36: 309.105 | R36: 202.734 | S36: 306.728 | T36: 376.526 | U36: 376.526 | V36: 494.43675 | W36: 376.526 | X36: 377 | Y36: Existing Unit
A37: De Moss Petrie Generating Station | B37: Arizona | C37: 124 | D37: GT1 | E37: 76 | F37: 82711.133 | G37: 53550.519 | H37: 187186.09 | I37: 10500.704 | J37: 10331.926 | K37: 107815.92 | L37: 2.7613895e+08 | M37: 0.00039044081 | N37: 7293.55 | O37: 2.8476996 | P37: 1.392 | Q37: 0.786 | R37: 3.009 | S37: 0.179 | T37: 0.391 | U37: 3.009 | W37: 3.009 | X37: 3 | Y37: Existing Unit
A38: Desert Basin Generating Station | B38: Arizona | C38: 55129 | D38: DBG1 | E38: 3964 | F38: 3636782.5 | G38: 5555030.8 | H38: 3625797.4 | I38: 5210620.2 | J38: 4322770.4 | K38: 5029473.8 | L38: 2.7613895e+08 | M38: 0.018213562 | N38: 7293.55 | O38: 132.84152 | P38: 20.877 | Q38: 29.872 | R38: 20.498 | S38: 27.75 | T38: 24.234 | U38: 29.872 | W38: 29.872 | X38: 30 | Y38: Existing Unit
A39: Desert Basin Generating Station | B39: Arizona | C39: 55129 | D39: DBG2 | E39: 3965 | F39: 3343079.9 | G39: 5379115.6 | H39: 5236083.9 | I39: 5030527.3 | J39: 4531191.2 | K39: 5215242.2 | L39: 2.7613895e+08 | M39: 0.018886297 | N39: 7293.55 | O39: 137.74815 | P39: 17.491 | Q39: 28.076 | R39: 27.401 | S39: 28.651 | T39: 25.638 | U39: 28.651 | W39: 28.651 | X39: 29 | Y39: Existing Unit
A40: Desert Basin Generating Station | B40: Arizona | C40: 55129 | D40: DBG4 | E40: 91421 | L40: 2.7613895e+08 | N40: 7293.55 | U40: 0 | W40: 0 | Y40: Existing Unit
A41: Desert Basin Generating Station | B41: Arizona | C41: 55129 | D41: DBG5 | E41: 91422 | L41: 2.7613895e+08 | N41: 7293.55 | U41: 0 | W41: 0 | Y41: Existing Unit
A42: Gila River Power Station | B42: Arizona | C42: 55306 | D42: 1CTGA | E42: 8508 | F42: 23027.537 | G42: 4136766.8 | H42: 3419714.7 | I42: 4860201.3 | J42: 4392962.6 | K42: 4463310.2 | L42: 2.7613895e+08 | M42: 0.016163277 | N42: 7293.55 | O42: 117.88767 | P42: 0.555 | Q42: 20.083 | R42: 17.988 | S42: 22.755 | T42: 17.914 | U42: 22.755 | W42: 22.755 | X42: 23 | Y42: Existing Unit
A43: Gila River Power Station | B43: Arizona | C43: 55306 | D43: 1CTGB | E43: 8510 | F43: 363.369 | G43: 3727573 | H43: 4321171.4 | I43: 4888662.3 | J43: 4311080.9 | K43: 4506971.5 | L43: 2.7613895e+08 | M43: 0.01632139 | N43: 7293.55 | O43: 119.04088 | P43: 0.035 | Q43: 29.69 | R43: 18.797 | S43: 21.513 | T43: 18.611 | U43: 29.69 | W43: 29.69 | X43: 30 | Y43: Existing Unit
A44: Gila River Power Station | B44: Arizona | C44: 55306 | D44: 2CTGA | E44: 8512 | F44: 89044.56 | G44: 5578403.8 | H44: 5974285.3 | I44: 5335142.5 | J44: 5538281.7 | K44: 5696990.3 | L44: 2.7613895e+08 | M44: 0.020630883 | N44: 7293.55 | O44: 150.47238 | P44: 0.694 | Q44: 20.245 | R44: 21.091 | S44: 19.176 | T44: 19.514 | U44: 21.091 | W44: 21.091 | X44: 21 | Y44: Existing Unit
A45: Gila River Power Station | B45: Arizona | C45: 55306 | D45: 2CTGB | E45: 8514 | F45: 100717.21 | G45: 5659583.6 | H45: 5929910 | I45: 5310974.7 | J45: 5628830.3 | K45: 5739441.3 | L45: 2.7613895e+08 | M45: 0.020784613 | N45: 7293.55 | O45: 151.59362 | P45: 0.913 | Q45: 21.182 | R45: 20.947 | S45: 18.83 | T45: 19.828 | U45: 21.182 | W45: 21.182 | X45: 21 | Y45: Existing Unit
A46: Gila River Power Station | B46: Arizona | C46: 55306 | D46: 3CTGA | E46: 8516 | F46: 4595496.8 | G46: 4386405 | H46: 4766220.4 | I46: 5447748.4 | J46: 5133843.6 | K46: 5115937.5 | L46: 2.7613895e+08 | M46: 0.018526678 | N46: 7293.55 | O46: 135.12525 | P46: 16.788 | Q46: 15.571 | R46: 16.987 | S46: 19.436 | T46: 19.745 | U46: 19.745 | W46: 19.745 | X46: 20 | Y46: Existing Unit
A47: Gila River Power Station | B47: Arizona | C47: 55306 | D47: 3CTGB | E47: 8518 | F47: 3922919.6 | G47: 4084624.3 | H47: 4859588.9 | I47: 5434941 | J47: 5129974.4 | K47: 5141501.4 | L47: 2.7613895e+08 | M47: 0.018619255 | N47: 7293.55 | O47: 135.80047 | P47: 16.065 | Q47: 14.86 | R47: 17.548 | S47: 19.496 | T47: 18.112 | U47: 19.496 | W47: 19.496 | X47: 19 | Y47: Existing Unit
A48: Gila River Power Station | B48: Arizona | C48: 55306 | D48: 4CTGA | E48: 8520 | F48: 2108092.2 | G48: 5090623.6 | H48: 1155339.6 | I48: 4941929.2 | J48: 5075262.3 | K48: 5035938.4 | L48: 2.7613895e+08 | M48: 0.018236972 | N48: 7293.55 | O48: 133.01227 | P48: 10.964 | Q48: 21.576 | R48: 6.756 | S48: 20.347 | T48: 20.118 | U48: 21.576 | W48: 21.576 | X48: 22 | Y48: Existing Unit
A49: Gila River Power Station | B49: Arizona | C49: 55306 | D49: 4CTGB | E49: 8522 | F49: 1654365.2 | G49: 5821314.4 | H49: 1238110.1 | I49: 4586375.9 | J49: 4833465.2 | K49: 5080385.2 | L49: 2.7613895e+08 | M49: 0.018397931 | N49: 7293.55 | O49: 134.18623 | P49: 8.843 | Q49: 22.254 | R49: 7.214 | S49: 22.058 | T49: 21.517 | U49: 22.254 | W49: 22.254 | X49: 22 | Y49: Existing Unit
A50: Griffith Energy Project | B50: Arizona | C50: 55124 | D50: P1 | E50: 3953 | F50: 5365216 | G50: 4325101.9 | H50: 5062528.7 | I50: 3597962 | J50: 4810670.6 | K50: 5079471.8 | L50: 2.7613895e+08 | M50: 0.018394623 | N50: 7293.55 | O50: 134.1621 | P50: 27.189 | Q50: 23.31 | R50: 23.791 | S50: 23.541 | T50: 25.876 | U50: 27.189 | W50: 27.189 | X50: 27 | Y50: Existing Unit
A51: Griffith Energy Project | B51: Arizona | C51: 55124 | D51: P2 | E51: 3954 | F51: 5417209.1 | G51: 4009958.1 | H51: 5879331.6 | I51: 4258060.4 | J51: 5330786.7 | K51: 5542442.5 | L51: 2.7613895e+08 | M51: 0.020071209 | N51: 7293.55 | O51: 146.39037 | P51: 26.127 | Q51: 20.973 | R51: 26.112 | S51: 16.91 | T51: 23.787 | U51: 26.127 | W51: 26.127 | X51: 26 | Y51: Existing Unit
A52: Irvington Generating Station | B52: Arizona | C52: 126 | D52: 3 | E52: 79 | F52: 857046.24 | G52: 2281300.6 | H52: 2233783 | I52: 1917823.1 | J52: 1521462 | K52: 2144302.2 | L52: 2.7613895e+08 | M52: 0.0077653017 | N52: 7293.55 | O52: 56.636616 | P52: 78.397 | Q52: 238.222 | R52: 245.564 | S52: 181.862 | T52: 124.357 | U52: 245.564 | W52: 245.564 | X52: 162 | Y52: Existing Unit
A53: Irvington Generating Station | B53: Arizona | C53: 126 | D53: 4 | E53: 80 | F53: 2877390 | G53: 3421120.9 | H53: 3090146.6 | I53: 3007959.7 | J53: 2119035.4 | K53: 3173075.8 | L53: 2.7613895e+08 | M53: 0.011490866 | N53: 7293.55 | O53: 83.809209 | P53: 275.124 | Q53: 270.167 | R53: 239.118 | S53: 222.867 | T53: 147.101 | U53: 275.124 | W53: 275.124 | X53: 240 | Y53: Existing Unit
... A58: Mesquite Generating Station | B58: Arizona | C58: 55481 | D58: 6 | E58: 4862 | F58: 6185705.6 | G58: 6323171.8 | H58: 5578677.6 | I58: 6299194.4 | J58: 6422119.5 | K58: 6348161.9 | L58: 2.7613895e+08 | M58: 0.022989013 | N58: 7293.55 | O58: 167.67152 | P58: 24.747 | Q58: 27.928 | R58: 23.39 | S58: 25.332 | T58: 25.941 | U58: 27.928 | W58: 27.928 | X58: 28 | Y58: Existing Unit
A59: New Harquahala Generating Company | B59: Arizona | C59: 55372 | D59: CTG1 | E59: 8536 | F59: 3758949.9 | G59: 11421.221 | J59: 4798477.5 | K59: 2856282.9 | L59: 2.7613895e+08 | M59: 0.010343644 | N59: 7293.55 | O59: 75.441882 | P59: 14.602 | Q59: 0.206 | T59: 24.01 | U59: 24.01 | W59: 24.01 | X59: 24 | Y59: Existing Unit
A60: New Harquahala Generating Company | B60: Arizona | C60: 55372 | D60: CTG2 | E60: 8538 | F60: 4895447.6 | G60: 10971.293 | J60: 4673714.6 | K60: 3193377.8 | L60: 2.7613895e+08 | M60: 0.011564388 | N60: 7293.55 | O60: 84.34544 | P60: 21.09 | Q60: 0.216 | T60: 23.553 | U60: 23.553 | W60: 23.553 | X60: 24 | Y60: Existing Unit
A61: New Harquahala Generating Company | B61: Arizona | C61: 55372 | D61: CTG3 | E61: 8540 | F61: 3254371 | G61: 14357.752 | J61: 5532401 | K61: 2933709.9 | L61: 2.7613895e+08 | M61: 0.010624035 | N61: 7293.55 | O61: 77.486932 | P61: 15.324 | Q61: 0.605 | T61: 22.583 | U61: 22.583 | W61: 22.583 | X61: 23 | Y61: Existing Unit
A62: Ocotillo Power Plant | B62: Arizona | C62: 116 | D62: GT3 | E62: 91277 | H62: 737967.87 | I62: 574792.73 | J62: 698575.83 | K62: 670445.48 | L62: 2.7613895e+08 | M62: 0.002427928 | N62: 7293.55 | O62: 17.708214 | R62: 3.183 | S62: 2.318 | T62: 3.085 | U62: 3.183 | W62: 3.183 | X62: 3 | Y62: Existing Unit
A63: Ocotillo Power Plant | B63: Arizona | C63: 116 | D63: GT4 | E63: 91278 | H63: 714541.77 | I63: 624787.09 | J63: 791080.13 | K63: 710136.33 | L63: 2.7613895e+08 | M63: 0.0025716631 | N63: 7293.55 | O63: 18.756553 | R63: 3.03 | S63: 2.525 | T63: 3.213 | U63: 3.213 | W63: 3.213 | X63: 3 | Y63: Existing Unit
A64: Ocotillo Power Plant | B64: Arizona | C64: 116 | D64: GT5 | E64: 91279 | H64: 618389.71 | I64: 615022.59 | J64: 639583.97 | K64: 624332.09 | L64: 2.7613895e+08 | M64: 0.0022609346 | N64: 7293.55 | O64: 16.490239 | R64: 2.657 | S64: 2.47 | T64: 2.64 | U64: 2.657 | W64: 2.657 | X64: 3 | Y64: Existing Unit
A65: Ocotillo Power Plant | B65: Arizona | C65: 116 | D65: GT6 | E65: 91280 | H65: 628185.82 | I65: 799459.2 | J65: 754507.71 | K65: 727384.25 | L65: 2.7613895e+08 | M65: 0.0026341241 | N65: 7293.55 | O65: 19.212116 | R65: 2.713 | S65: 3.193 | T65: 3.089 | U65: 3.193 | W65: 3.193 | X65: 3 | Y65: Existing Unit
A66: Ocotillo Power Plant | B66: Arizona | C66: 116 | D66: GT7 | E66: 91281 | H66: 451957.62 | I66: 748345.02 | J66: 568243.68 | K66: 589515.44 | L66: 2.7613895e+08 | M66: 0.0021348508 | N66: 7293.55 | O66: 15.570641 | R66: 1.923 | S66: 3.038 | T66: 2.332 | U66: 3.038 | W66: 3.038 | X66: 3 | Y66: Existing Unit
A67: Redhawk Generating Facility | B67: Arizona | C67: 55455 | D67: CC1A | E67: 4796 | F67: 3874152.5 | G67: 3260143.2 | H67: 3876065.2 | I67: 4427248 | J67: 4436221.2 | K67: 4246511.5 | L67: 2.7613895e+08 | M67: 0.015378169 | N67: 7293.55 | O67: 112.16145 | P67: 19.471 | Q67: 17.609 | R67: 18.88 | S67: 19.3 | T67: 19.141 | U67: 19.471 | W67: 19.471 | X67: 19 | Y67: Existing Unit
A68: Redhawk Generating Facility | B68: Arizona | C68: 55455 | D68: CC1B | E68: 4797 | F68: 3834397.4 | G68: 3886256.8 | H68: 4015806.3 | I68: 4349918.9 | J68: 4281731.4 | K68: 4215818.9 | L68: 2.7613895e+08 | M68: 0.01526702 | N68: 7293.55 | O68: 111.35078 | P68: 19.54 | Q68: 17.826 | R68: 19.686 | S68: 19.761 | T68: 18.795 | U68: 19.761 | W68: 19.761 | X68: 20 | Y68: Existing Unit
A69: Redhawk Generating Facility | B69: Arizona | C69: 55455 | D69: CC2A | E69: 4799 | F69: 4290495.5 | G69: 3340022 | H69: 3946028.3 | I69: 4755146.4 | J69: 4524868.6 | K69: 4523503.5 | L69: 2.7613895e+08 | M69: 0.016381259 | N69: 7293.55 | O69: 119.47753 | P69: 21.39 | Q69: 16.521 | R69: 18.584 | S69: 20.27 | T69: 19.559 | U69: 21.39 | W69: 21.39 | X69: 21 | Y69: Existing Unit
A70: Redhawk Generating Facility | B70: Arizona | C70: 55455 | D70: CC2B | E70: 4800 | F70: 4408978.6 | G70: 3897970.8 | H70: 3604827.7 | I70: 4693392.8 | J70: 4752822.1 | K70: 4618397.9 | L70: 2.7613895e+08 | M70: 0.016724906 | N70: 7293.55 | O70: 121.98394 | P70: 22.656 | Q70: 18.303 | R70: 17.389 | S70: 19.759 | T70: 20.464 | U70: 22.656 | W70: 22.656 | X70: 23 | Y70: Existing Unit
A71: Santan | B71: Arizona | C71: 8068 | D71: 5A | E71: 10065 | F71: 4694683.1 | G71: 4596765.9 | H71: 5249519.4 | I71: 5671930.9 | J71: 5679643.5 | K71: 5533697.9 | L71: 2.7613895e+08 | M71: 0.020039542 | N71: 7293.55 | O71: 146.1594 | P71: 17.072 | Q71: 16.539 | R71: 16.986 | S71: 20.501 | T71: 16.439 | U71: 20.501 | W71: 20.501 | X71: 21 | Y71: Existing Unit
A72: Santan | B72: Arizona | C72: 8068 | D72: 5B | E72: 10066 | F72: 5185500.7 | G72: 4120775.3 | H72: 5705585.2 | I72: 6107769.2 | J72: 5800315.4 | K72: 5871223.3 | L72: 2.7613895e+08 | M72: 0.021261844 | N72: 7293.55 | O72: 155.07432 | P72: 15.133 | Q72: 12.899 | R72: 16.245 | S72: 17.415 | T72: 18.027 | U72: 18.027 | W72: 18.027 | X72: 18 | Y72: Existing Unit
A73: Santan | B73: Arizona | C73: 8068 | D73: 6A | E73: 10067 | F73: 4388168.5 | G73: 5068222.4 | H73: 5664646.7 | I73: 6659079.1 | J73: 5785540.5 | K73: 6036422.1 | L73: 2.7613895e+08 | M73: 0.02186009 | N73: 7293.55 | O73: 159.43766 | P73: 17.339 | Q73: 13.821 | R73: 18.94 | S73: 16.973 | T73: 16.947 | U73: 18.94 | W73: 18.94 | X73: 19 | Y73: Existing Unit
A74: South Point Energy Center, LLC | B74: Arizona | C74: 55177 | D74: A | E74: 4067 | G74: 1613277 | H74: 4095689.2 | I74: 5636424.4 | J74: 4955388.4 | K74: 4895834 | L74: 2.7613895e+08 | M74: 0.017729603 | N74: 7293.55 | O74: 129.31175 | Q74: 7.433 | R74: 19.411 | S74: 25.902 | T74: 17.763 | U74: 25.902 | W74: 25.902 | X74: 26 | Y74: Existing Unit | AA74: Yes
A75: South Point Energy Center, LLC | B75: Arizona | C75: 55177 | D75: B | E75: 4068 | H75: 4224029 | I75: 5610745.2 | J75: 4378532.1 | K75: 4737768.8 | L75: 2.7613895e+08 | M75: 0.017157191 | N75: 7293.55 | O75: 125.13683 | R75: 33.744 | S75: 25.756 | T75: 14.067 | U75: 33.744 | W75: 33.744 | X75: 34 | Y75: Existing Unit | AA75: Yes
A76: Springerville Generating Station | B76: Arizona | C76: 8223 | D76: 1 | E76: 3470 | F76: 5764265.9 | G76: 11567054 | H76: 10325678 | I76: 9092109.9 | J76: 2532622.4 | K76: 10328281 | L76: 2.7613895e+08 | M76: 0.037402477 | N76: 7293.55 | O76: 272.79684 | P76: 524.451 | Q76: 979.563 | R76: 899.656 | S76: 826.978 | T76: 224.391 | U76: 979.563 | W76: 979.563 | X76: 782 | Y76: Existing Unit
A77: Springerville Generating Station | B77: Arizona | C77: 8223 | D77: 2 | E77: 3471 | F77: 11114928 | G77: 10723114 | H77: 9822068.9 | I77: 8721532.8 | J77: 11005641 | K77: 10947894 | L77: 2.7613895e+08 | M77: 0.039646325 | N77: 7293.55 | O77: 289.16245 | P77: 881.139 | Q77: 989.391 | R77: 913.635 | S77: 763.257 | T77: 1164.218 | U77: 1164.218 | W77: 1164.218 | X77: 828 | Y77: Existing Unit
A78: Springerville Generating Station | B78: Arizona | C78: 8223 | D78: 4 | E78: 90132 | F78: 10516302 | G78: 11724395 | H78: 7694783.5 | I78: 6851560.9 | J78: 10754500 | K78: 10998399 | L78: 2.7613895e+08 | M78: 0.039829221 | N78: 7293.55 | O78: 290.49642 | P78: 435.432 | Q78: 520.089 | R78: 244.096 | S78: 198.352 | T78: 380.986 | U78: 520.089 | V78: 468.97581 | W78: 468.97581 | X78: 469 | Y78: Existing Unit
A79: Springerville Generating Station | B79: Arizona | C79: 8223 | D79: TS3 | E79: 89514 | F79: 11206454 | G79: 10221692 | H79: 9788353.2 | I79: 10975146 | J79: 13775152 | K79: 11985584 | L79: 2.7613895e+08 | M79: 0.043404177 | N79: 7293.55 | O79: 316.57053 | P79: 515.58 | Q79: 413.28 | R79: 428.789 | S79: 365.707 | T79: 625.406 | U79: 625.406 | V79: 551.00606 | W79: 551.00606 | X79: 551 | Y79: Existing Unit
A80: Sundance Power Plant | B80: Arizona | C80: 55522 | D80: CT01 | E80: 9951 | F80: 323838.19 | G80: 237741.67 | H80: 126583.55 | I80: 215201.01 | J80: 181435.41 | K80: 258926.96 | L80: 2.7613895e+08 | M80: 0.0009376691 | N80: 7293.55 | O80: 6.8389365 | P80: 1.884 | Q80: 1.644 | R80: 1.032 | S80: 1.796 | T80: 1.437 | U80: 1.884 | W80: 1.884 | X80: 2 | Y80: Existing Unit
A81: Sundance Power Plant | B81: Arizona | C81: 55522 | D81: CT02 | E81: 9952 | F81: 138451.87 | G81: 167948.77 | H81: 103861.77 | I81: 229964.61 | J81: 204491.5 | K81: 200801.63 | L81: 2.7613895e+08 | M81: 0.00072717604 | N81: 7293.55 | O81: 5.3036948 | P81: 1.009 | Q81: 1.303 | R81: 0.84 | S81: 1.852 | T81: 1.572 | U81: 1.852 | W81: 1.852 | X81: 2 | Y81: Existing Unit
A82: Sundance Power Plant | B82: Arizona | C82: 55522 | D82: CT03 | E82: 9953 | F82: 289388.97 | G82: 239679.16 | H82: 200854.4 | I82: 222059.23 | J82: 199870.81 | K82: 250375.79 | L82: 2.7613895e+08 | M82: 0.00090670218 | N82: 7293.55 | O82: 6.6130777 | P82: 2.284 | Q82: 1.988 | R82: 1.603 | S82: 1.859 | T82: 1.459 | U82: 2.284 | W82: 2.284 | X82: 2 | Y82: Existing Unit
A83: Sundance Power Plant | B83: Arizona | C83: 55522 | D83: CT04 | E83: 9954 | F83: 146011.27 | G83: 190108.15 | H83: 161107.37 | I83: 215968.89 | J83: 265806.08 | K83: 223961.04 | L83: 2.7613895e+08 | M83: 0.00081104473 | N83: 7293.55 | O83: 5.9153953 | P83: 1.22 | Q83: 1.557 | R83: 1.38 | S83: 1.927 | T83: 2.104 | U83: 2.104 | W83: 2.104 | X83: 2 | Y83: Existing Unit
A84: Sundance Power Plant | B84: Arizona | C84: 55522 | D84: CT05 | E84: 9955 | F84: 281376.77 | G84: 192381.15 | H84: 228328.45 | I84: 257083.48 | J84: 190508.79 | K84: 255596.23 | L84: 2.7613895e+08 | M84: 0.00092560732 | N84: 7293.55 | O84: 6.7509633 | P84: 1.769 | Q84: 1.375 | R84: 1.828 | S84: 2.133 | T84: 1.409 | U84: 2.133 | W84: 2.133 | X84: 2 | Y84: Existing Unit
A85: Sundance Power Plant | B85: Arizona | C85: 55522 | D85: CT06 | E85: 9956 | F85: 183981.18 | G85: 240871.25 | H85: 139417.8 | I85: 219524.8 | J85: 256660.38 | K85: 239018.81 | L85: 2.7613895e+08 | M85: 0.00086557442 | N85: 7293.55 | O85: 6.3131103 | P85: 4.984 | Q85: 2.047 | R85: 1.268 | S85: 1.877 | T85: 1.989 | U85: 4.984 | W85: 4.984 | X85: 5 | Y85: Existing Unit
A86: Sundance Power Plant | B86: Arizona | C86: 55522 | D86: CT07 | E86: 9957 | F86: 198598.13 | G86: 187363.92 | H86: 181867.44 | I86: 230956.04 | J86: 171782.53 | K86: 205639.36 | L86: 2.7613895e+08 | M86: 0.00074469524 | N86: 7293.55 | O86: 5.431472 | P86: 1.66 | Q86: 1.549 | R86: 1.673 | S86: 1.986 | T86: 1.311 | U86: 1.986 | W86: 1.986 | X86: 2 | Y86: Existing Unit
A87: Sundance Power Plant | B87: Arizona | C87: 55522 | D87: CT08 | E87: 9958 | F87: 145535.89 | G87: 241389.8 | H87: 151188.77 | I87: 159865.72 | J87: 197239.05 | K87: 199498.19 | L87: 2.7613895e+08 | M87: 0.00072245582 | N87: 7293.55 | O87: 5.2692677 | P87: 1.316 | Q87: 1.97 | R87: 1.338 | S87: 1.435 | T87: 1.585 | U87: 1.97 | W87: 1.97 | X87: 2 | Y87: Existing Unit
A88: Sundance Power Plant | B88: Arizona | C88: 55522 | D88: CT09 | E88: 9959 | F88: 295338.22 | G88: 282915.33 | H88: 130671.88 | I88: 241390.51 | J88: 185290.17 | K88: 273214.69 | L88: 2.7613895e+08 | M88: 0.00098941018 | N88: 7293.55 | O88: 7.2163126 | P88: 2.03 | Q88: 2.089 | R88: 1.141 | S88: 1.947 | T88: 1.372 | U88: 2.089 | W88: 2.089 | X88: 2 | Y88: Existing Unit
A89: Sundance Power Plant | B89: Arizona | C89: 55522 | D89: CT10 | E89: 9960 | F89: 259075.19 | G89: 214028.95 | H89: 115972.71 | I89: 228711.8 | J89: 185735.38 | K89: 233938.64 | L89: 2.7613895e+08 | M89: 0.00084717729 | N89: 7293.55 | O89: 6.1789299 | P89: 2.111 | Q89: 1.777 | R89: 0.926 | S89: 1.804 | T89: 1.396 | U89: 2.111 | W89: 2.111 | X89: 2 | Y89: Existing Unit
A90: Yucca Power Plant | B90: Arizona | C90: 120 | D90: 1 | E90: 74 | F90: 1349269.8 | G90: 2024368 | H90: 1421873.7 | I90: 1583305.1 | J90: 1133121 | K90: 1676515.6 | L90: 2.7613895e+08 | M90: 0.0060712754 | N90: 7293.55 | O90: 44.281151 | P90: 66.544 | Q90: 158.6 | R90: 67.628 | S90: 79.526 | T90: 46.811 | U90: 158.6 | W90: 158.6 | X90: 127 | Y90: Existing Unit
A91: Yucca Power Plant | B91: Arizona | C91: 120 | D91: CT5 | E91: 89724 | F91: 359456.05 | G91: 380608.97 | H91: 368104.33 | I91: 456666.61 | J91: 412937.15 | K91: 416737.58 | L91: 2.7613895e+08 | M91: 0.001509159 | N91: 7293.55 | O91: 11.007127 | P91: 1.724 | Q91: 1.726 | R91: 1.775 | S91: 1.991 | T91: 1.723 | U91: 1.991 | W91: 1.991 | X91: 2 | Y91: Existing Unit
... A93: Yuma Cogeneration Associates | B93: Arizona | C93: 54694 | D93: 4101 | E93: 91085 | F93: 92210.303 | G93: 241921.1 | H93: 189703.83 | I93: 571166.96 | J93: 433541.83 | K93: 415543.3 | L93: 2.7613895e+08 | M93: 0.0015048341 | N93: 7293.55 | O93: 10.975583 | P93: 4.443 | Q93: 10.583 | R93: 8.424 | S93: 24.13 | T93: 14.811 | U93: 24.13 | W93: 24.13 | X93: 24 | Y93: Existing Unit
A94: Ames | B94: Iowa | C94: 1122 | D94: 7 | E94: 767 | F94: 412043.72 | I94: 1475629.1 | J94: 1102101.4 | K94: 996591.41 | L94: 1.5674107e+08 | M94: 0.0063582023 | N94: 9264.4 | O94: 58.904929 | P94: 25.272 | S94: 86.839 | T94: 59.644 | U94: 86.839 | W94: 86.839 | X94: 87 | Y94: Existing Unit
A95: Ames | B95: Iowa | C95: 1122 | D95: 8 | E95: 768 | F95: 1433440.4 | G95: 1074425.1 | H95: 877588.31 | J95: 505757.86 | K95: 1128484.6 | L95: 1.5674107e+08 | M95: 0.0071996741 | N95: 9264.4 | O95: 66.700661 | P95: 83.415 | Q95: 65.151 | R95: 55.665 | T95: 30.003 | U95: 83.415 | W95: 83.415 | X95: 83 | Y95: Existing Unit
A96: Burlington (IA) | B96: Iowa | C96: 1104 | D96: 1 | E96: 764 | F96: 6457305.5 | G96: 5849011.1 | H96: 5431739.4 | I96: 5616668.2 | J96: 4708421.2 | K96: 5974328.3 | L96: 1.5674107e+08 | M96: 0.038115909 | N96: 9264.4 | O96: 353.12103 | P96: 477.889 | Q96: 417.498 | R96: 390.209 | S96: 382.91 | T96: 318.674 | U96: 477.889 | W96: 477.889 | X96: 478 | Y96: Existing Unit
A97: Dayton Avenue Substation | B97: Iowa | C97: 6463 | D97: GT2 | E97: 89535 | F97: 12111.1 | G97: 4964 | H97: 3633.9 | I97: 3787.9 | J97: 4003.9 | K97: 7026.3333 | L97: 1.5674107e+08 | M97: 4.4827648e-05 | N97: 9264.4 | O97: 0.41530126 | P97: 1.31 | Q97: 0.567 | R97: 0.235 | S97: 0.479 | T97: 0.306 | U97: 1.31 | W97: 1.31 | X97: 1 | Y97: Existing Unit
A98: Earl F Wisdom | B98: Iowa | C98: 1217 | D98: 1 | E98: 806 | F98: 23097.829 | G98: 45223.951 | H98: 76915.501 | I98: 33686.061 | J98: 12027.767 | K98: 51941.838 | L98: 1.5674107e+08 | M98: 0.00033138627 | N98: 9264.4 | O98: 3.070095 | P98: 1.102 | Q98: 2.02 | R98: 3.067 | S98: 1.433 | T98: 0.599 | U98: 3.067 | W98: 3.067 | X98: 3 | Y98: Existing Unit
A99: Earl F Wisdom | B99: Iowa | C99: 1217 | D99: 2 | E99: 89384 | F99: 95944.184 | G99: 162498.68 | H99: 190687.87 | I99: 199240.51 | J99: 8376.617 | K99: 184142.36 | L99: 1.5674107e+08 | M99: 0.0011748188 | N99: 9264.4 | O99: 10.883992 | P99: 1.512 | Q99: 2.616 | R99: 3.19 | S99: 3.256 | T99: 0.177 | U99: 3.256 | W99: 3.256 | X99: 3 | Y99: Existing Unit
A100: Electrifarm | B100: Iowa | C100: 6063 | D100: 1 | E100: 90086 | F100: 29979.4 | G100: 25453 | H100: 5614.9 | I100: 10222.2 | J100: 22541.5 | K100: 25991.3 | L100: 1.5674107e+08 | M100: 0.00016582317 | N100: 9264.4 | O100: 1.5362521 | P100: 6.163 | Q100: 4.912 | R100: 1.084 | S100: 1.973 | T100: 4.351 | U100: 6.163 | W100: 6.163 | X100: 2 | Y100: Existing Unit
A101: Electrifarm | B101: Iowa | C101: 6063 | D101: 2 | E101: 90087 | F101: 23119.3 | G101: 29825.7 | H101: 8060.1 | I101: 11307.7 | J101: 25690 | K101: 26211.667 | L101: 1.5674107e+08 | M101: 0.00016722909 | N101: 9264.4 | O101: 1.5492772 | P101: 4.002 | Q101: 3.803 | R101: 1.028 | S101: 1.442 | T101: 3.275 | U101: 4.002 | W101: 4.002 | X101: 2 | Y101: Existing Unit
A102: Electrifarm | B102: Iowa | C102: 6063 | D102: 3 | E102: 90088 | F102: 39608.2 | G102: 34395.6 | H102: 6722 | I102: 16390 | J102: 49787.2 | K102: 41263.667 | L102: 1.5674107e+08 | M102: 0.00026326009 | N102: 9264.4 | O102: 2.4389467 | P102: 5.55 | Q102: 4.644 | R102: 0.907 | S102: 2.213 | T102: 6.721 | U102: 6.721 | W102: 6.721 | X102: 4 | Y102: Existing Unit
A103: Emery Station | B103: Iowa | C103: 8031 | D103: 11 | E103: 88332 | F103: 3622850.1 | G103: 5970363 | H103: 3285320.7 | I103: 4295997.8 | J103: 3546941.2 | K103: 4629736.9 | L103: 1.5674107e+08 | M103: 0.029537485 | N103: 9264.4 | O103: 273.64708 | P103: 16.054 | Q103: 18.514 | R103: 10.22 | S103: 15.643 | T103: 15.438 | U103: 18.514 | W103: 18.514 | X103: 19 | Y103: Existing Unit
A104: Emery Station | B104: Iowa | C104: 8031 | D104: 12 | E104: 88333 | F104: 3567832.9 | G104: 5846138.6 | H104: 5195429.7 | I104: 4434819.8 | J104: 3592682.2 | K104: 5158796 | L104: 1.5674107e+08 | M104: 0.032912855 | N104: 9264.4 | O104: 304.91786 | P104: 18.924 | Q104: 18.598 | R104: 16.886 | S104: 17.764 | T104: 19.902 | U104: 19.902 | W104: 19.902 | X104: 20 | Y104: Existing Unit
A105: Exira Station | B105: Iowa | C105: 56013 | D105: U-1 | E105: 89307 | F105: 138752.94 | G105: 231981.72 | H105: 279789.61 | I105: 195402.74 | J105: 231152.68 | K105: 247641.34 | L105: 1.5674107e+08 | M105: 0.0015799391 | N105: 9264.4 | O105: 14.637188 | P105: 6.439 | Q105: 10.68 | R105: 13.293 | S105: 9.3 | T105: 10.993 | U105: 13.293 | W105: 13.293 | X105: 13 | Y105: Existing Unit
A106: Exira Station | B106: Iowa | C106: 56013 | D106: U-2 | E106: 89308 | F106: 136430.28 | G106: 220804.38 | H106: 286005.94 | I106: 188521.95 | J106: 220768.83 | K106: 242526.38 | L106: 1.5674107e+08 | M106: 0.0015473059 | N106: 9264.4 | O106: 14.334861 | P106: 6.276 | Q106: 10.167 | R106: 13.898 | S106: 9.147 | T106: 10.985 | U106: 13.898 | W106: 13.898 | X106: 14 | Y106: Existing Unit
A107: Exira Station | B107: Iowa | C107: 56013 | D107: U-3 | E107: 89719 | F107: 141907.19 | G107: 237382.84 | H107: 291744.11 | I107: 189733.62 | J107: 227500.01 | K107: 252208.98 | L107: 1.5674107e+08 | M107: 0.0016090804 | N107: 9264.4 | O107: 14.907165 | P107: 6.554 | Q107: 10.897 | R107: 13.855 | S107: 9.034 | T107: 10.905 | U107: 13.855 | W107: 13.855 | X107: 14 | Y107: Existing Unit
... A111: Greater Des Moines Energy Center | B111: Iowa | C111: 7985 | D111: 2 | E111: 9887 | F111: 985463.86 | G111: 1478014.7 | H111: 1282148.3 | I111: 1511578 | J111: 2667450.8 | K111: 1885681.2 | L111: 1.5674107e+08 | M111: 0.01203055 | N111: 9264.4 | O111: 111.45582 | P111: 3.619 | Q111: 5.461 | R111: 5.65 | S111: 6.435 | T111: 12.507 | U111: 12.507 | W111: 12.507 | X111: 13 | Y111: Existing Unit
A112: Lansing | B112: Iowa | C112: 1047 | D112: 4 | E112: 739 | F112: 5069953 | G112: 6318467.2 | H112: 2488537.3 | I112: 3215730 | J112: 5059156 | L112: 1.5674107e+08 | N112: 9264.4 | P112: 106.501 | Q112: 139.991 | R112: 48.83 | S112: 66.026 | T112: 102.689 | U112: 139.991 | V112: 252.73869 | W112: 139.991 | Y112: Retired
A113: Lime Creek | B113: Iowa | C113: 7155 | D113: **1 | E113: 2969 | F113: 10112.845 | G113: 9118.577 | H113: 1595.805 | I113: 3368.86 | J113: 9918.776 | K113: 9716.7327 | L113: 1.5674107e+08 | M113: 6.1992258e-05 | N113: 9264.4 | O113: 0.57432108 | P113: 1.338 | Q113: 1.379 | R113: 0.218 | S113: 0.462 | T113: 1.111 | U113: 1.379 | W113: 1.379 | X113: 1 | Y113: Existing Unit
A114: Lime Creek | B114: Iowa | C114: 7155 | D114: **2 | E114: 2970 | F114: 8382.908 | G114: 5791.234 | H114: 1309.723 | I114: 2852.406 | J114: 7425.485 | K114: 7199.8757 | L114: 1.5674107e+08 | M114: 4.5934839e-05 | N114: 9264.4 | O114: 0.42555872 | P114: 1.114 | Q114: 0.823 | R114: 0.167 | S114: 0.361 | T114: 0.826 | U114: 1.114 | W114: 1.114 | X114: 1 | Y114: Existing Unit
A115: Louisa | B115: Iowa | C115: 6664 | D115: 101 | E115: 2901 | F115: 18967257 | G115: 21679995 | H115: 16765444 | I115: 9538012.4 | J115: 23659843 | K115: 21435698 | L115: 1.5674107e+08 | M115: 0.13675866 | N115: 9264.4 | O115: 1266.9869 | P115: 1816.959 | Q115: 2024.639 | R115: 1427.57 | S115: 822.465 | T115: 2020.558 | U115: 2024.639 | W115: 2024.639 | X115: 1917 | Y115: Existing Unit
A116: Marshalltown CTs | B116: Iowa | C116: 1068 | D116: 1A | E116: 89836 | F116: 25833.796 | G116: 55266.421 | H116: 27991.246 | I116: 64971.661 | J116: 75094.37 | K116: 65110.817 | L116: 1.5674107e+08 | M116: 0.00041540369 | N116: 9264.4 | O116: 3.8484659 | P116: 2.984 | Q116: 6.055 | R116: 3.082 | S116: 7.375 | T116: 8.452 | U116: 8.452 | W116: 8.452 | X116: 6 | Y116: Existing Unit
A117: Marshalltown CTs | B117: Iowa | C117: 1068 | D117: 1B | E117: 89841 | F117: 27579.881 | G117: 60369.611 | H117: 30716.812 | I117: 71976.046 | J117: 82601.767 | K117: 71649.141 | L117: 1.5674107e+08 | M117: 0.00045711786 | N117: 9264.4 | O117: 4.2349227 | P117: 3.582 | Q117: 7.707 | R117: 3.945 | S117: 9.393 | T117: 10.689 | U117: 10.689 | W117: 10.689 | X117: 6 | Y117: Existing Unit
A118: Marshalltown CTs | B118: Iowa | C118: 1068 | D118: 2A | E118: 89842 | F118: 41730.062 | G118: 42755.905 | H118: 47402.635 | I118: 87861.069 | J118: 113806.53 | K118: 83023.413 | L118: 1.5674107e+08 | M118: 0.00052968513 | N118: 9264.4 | O118: 4.907215 | P118: 5.379 | Q118: 5.431 | R118: 5.947 | S118: 11.068 | T118: 14.24 | U118: 14.24 | W118: 14.24 | X118: 7 | Y118: Existing Unit
...

Sheet Retired Units
A1: Based on data available at the time of the proposed rule, these units are considered retired units for a given budget year (e.g., prior to May 1, 2025 for 2025 budgets) and EPA did not determine allocations for them as existing units. If they resume operation, they would have to comply with the program (and would qualify for NUSA allocations).
A2: Plant Name | B2: State | C2: ORIS ID | D2: Boiler ID | E2: CAMD Unit ID | F2: Retired for 2025
A3: Lansing | B3: Iowa | C3: 1047 | D3: 4 | E3: 739 | F3: Retired
A4: Lawrence Energy Center | B4: Kansas | C4: 1250 | D4: 4 | E4: 834 | F4: Retired
A5: Lawrence Energy Center | B5: Kansas | C5: 1250 | D5: 5 | E5: 835 | F5: Retired
A6: Cunningham | B6: New Mexico | C6: 2454 | D6: 121B | E6: 1600 | F6: Retired
A7: Rio Grande | B7: New Mexico | C7: 2444 | D7: 6 | E7: 1586 | F7: Retired
A8: Rio Grande | B8: New Mexico | C8: 2444 | D8: 7 | E8: 1587 | F8: Retired
A9: San Juan | B9: New Mexico | C9: 2451 | D9: 1 | E9: 1596 | F9: Retired
A10: San Juan | B10: New Mexico | C10: 2451 | D10: 4 | E10: 1599 | F10: Retired
A11: Bull Run | B11: Tennessee | C11: 3396 | D11: 1 | E11: 2251 | F11: Retired

Sheet New Units
A1: Because these units reported a date for commencement of commercial operation on or after November 2, 2020, EPA did not determine allocations for them as existing units; they are eligible to receive NUSA allocations.
A2: Plant Name | B2: State | C2: ORIS ID | D2: Boiler ID | E2: CAMD Unit ID
A3: No applicable units
