Workbook

Sheet State Summary
A1: GNP Budgets and Manual Rounding Correction
A3: (A) State | B3: (B) GNP 2025 Emission Budget | C3: GNP NUSA (%) for 2025 | D3: 2025 Emission Budget for Existing Units (tons) | E3: 2025 NOx OS Allocation Before Rounding Correction (tons) | F3: 2025 Manual Rounding Correction (tons) | G3: 2025 NOx OS Allocation with Rounding Correction (tons)
A4: Arizona | B4: 8195 | C4: 0.11 | D4: =ROUND((B4*(1-C4)),0) -> 7294 | E4: =SUMIF('GNP Allocations'!B:B,A4,'GNP Allocations'!E:E) -> 7296 | F4: =D4-E4 -> -2 | G4: =SUMIF('GNP Allocations'!B:B,A4,'GNP Allocations'!G:G) -> 7294
A5: Iowa | B5: 9752 | C5: 0.05 | D5: =ROUND((B5*(1-C5)),0) -> 9264 | E5: =SUMIF('GNP Allocations'!B:B,A5,'GNP Allocations'!E:E) -> 9263 | F5: =D5-E5 -> 1 | G5: =SUMIF('GNP Allocations'!B:B,A5,'GNP Allocations'!G:G) -> 9264
A6: Kansas | B6: 4763 | C6: 0.05 | D6: =ROUND((B6*(1-C6)),0) -> 4525 | E6: =SUMIF('GNP Allocations'!B:B,A6,'GNP Allocations'!E:E) -> 4523 | F6: =D6-E6 -> 2 | G6: =SUMIF('GNP Allocations'!B:B,A6,'GNP Allocations'!G:G) -> 4525
A7: New Mexico | B7: 2211 | C7: 0.05 | D7: =ROUND((B7*(1-C7)),0) -> 2100 | E7: =SUMIF('GNP Allocations'!B:B,A7,'GNP Allocations'!E:E) -> 2100 | F7: =D7-E7 -> 0 | G7: =SUMIF('GNP Allocations'!B:B,A7,'GNP Allocations'!G:G) -> 2100
A8: Tennessee | B8: 3983 | C8: 0.05 | D8: =ROUND((B8*(1-C8)),0) -> 3784 | E8: =SUMIF('GNP Allocations'!B:B,A8,'GNP Allocations'!E:E) -> 3787 | F8: =D8-E8 -> -3 | G8: =SUMIF('GNP Allocations'!B:B,A8,'GNP Allocations'!G:G) -> 3784
A10: Sources and computations:
A11: (B) GNP 2025 state budgets are from Preamble Table I.B-1. Note that these amounts include the portions of the budgets set aside for new units.

Sheet GNP Allocations
E1: Before Rounding Correction | F1: Manual Rounding Correction | G1: After Rounding Correction
A2: Plant Name | B2: State | C2: ORIS ID | D2: Boiler ID | E2: 2025 NOx OS Allocation (tons) | F2: 2025 NOx OS Allocation (tons) | G2: 2025 NOx OS Allocation (tons)
A3: APS Saguaro Power Plant | B3: Arizona | C3: 118 | D3: CT3 | E3: 8 | F3: 0 | G3: =E3+F3 -> 8
A4: APS West Phoenix Power Plant | B4: Arizona | C4: 117 | D4: CC4 | E4: 28 | F4: 0 | G4: =E4+F4 -> 28
A5: APS West Phoenix Power Plant | B5: Arizona | C5: 117 | D5: CC5A | E5: 30 | F5: 0 | G5: =E5+F5 -> 30
A6: APS West Phoenix Power Plant | B6: Arizona | C6: 117 | D6: CC5B | E6: 34 | F6: 0 | G6: =E6+F6 -> 34
A7: Agua Fria Generating Station | B7: Arizona | C7: 141 | D7: 1 | E7: 49 | F7: 0 | G7: =E7+F7 -> 49
A8: Agua Fria Generating Station | B8: Arizona | C8: 141 | D8: 2 | E8: 45 | F8: 0 | G8: =E8+F8 -> 45
A9: Agua Fria Generating Station | B9: Arizona | C9: 141 | D9: 3 | E9: 83 | F9: 0 | G9: =E9+F9 -> 83
A10: Agua Fria Generating Station | B10: Arizona | C10: 141 | D10: 7 | F10: 0 | G10: =E10+F10 -> 0
A11: Agua Fria Generating Station | B11: Arizona | C11: 141 | D11: 8 | F11: 0 | G11: =E11+F11 -> 0
A12: Apache Station | B12: Arizona | C12: 160 | D12: 1 | E12: 48 | F12: 0 | G12: =E12+F12 -> 48
A13: Apache Station | B13: Arizona | C13: 160 | D13: 2 | E13: 404 | F13: 0 | G13: =E13+F13 -> 404
A14: Apache Station | B14: Arizona | C14: 160 | D14: 3 | E14: 432 | F14: 0 | G14: =E14+F14 -> 432
A15: Apache Station | B15: Arizona | C15: 160 | D15: 4 | E15: 6 | F15: 0 | G15: =E15+F15 -> 6
A16: Arlington Valley Energy Facility | B16: Arizona | C16: 55282 | D16: CTG1 | E16: 22 | F16: 0 | G16: =E16+F16 -> 22
A17: Arlington Valley Energy Facility | B17: Arizona | C17: 55282 | D17: CTG2 | E17: 21 | F17: 0 | G17: =E17+F17 -> 21
A18: Black Mountain Generating Station | B18: Arizona | C18: 56482 | D18: 1 | E18: 24 | F18: 0 | G18: =E18+F18 -> 24
A19: Black Mountain Generating Station | B19: Arizona | C19: 56482 | D19: 2 | E19: 20 | F19: 0 | G19: =E19+F19 -> 20
A20: Cholla | B20: Arizona | C20: 113 | D20: 1 | E20: 280 | F20: 0 | G20: =E20+F20 -> 280
A21: Cholla | B21: Arizona | C21: 113 | D21: 3 | E21: 616 | F21: 0 | G21: =E21+F21 -> 616
A22: Coolidge Generating Station | B22: Arizona | C22: 56948 | D22: CT01 | E22: 1 | F22: 0 | G22: =E22+F22 -> 1
A23: Coolidge Generating Station | B23: Arizona | C23: 56948 | D23: CT02 | E23: 1 | F23: 0 | G23: =E23+F23 -> 1
... A38: Desert Basin Generating Station | B38: Arizona | C38: 55129 | D38: DBG2 | E38: 29 | F38: 0 | G38: =E38+F38 -> 29
A39: Desert Basin Generating Station | B39: Arizona | C39: 55129 | D39: DBG4 | F39: 0 | G39: =E39+F39 -> 0
A40: Desert Basin Generating Station | B40: Arizona | C40: 55129 | D40: DBG5 | F40: 0 | G40: =E40+F40 -> 0
A41: Gila River Power Station | B41: Arizona | C41: 55306 | D41: 1CTGA | E41: 23 | F41: 0 | G41: =E41+F41 -> 23
A42: Gila River Power Station | B42: Arizona | C42: 55306 | D42: 1CTGB | E42: 30 | F42: 0 | G42: =E42+F42 -> 30
A43: Gila River Power Station | B43: Arizona | C43: 55306 | D43: 2CTGA | E43: 21 | F43: 0 | G43: =E43+F43 -> 21
A44: Gila River Power Station | B44: Arizona | C44: 55306 | D44: 2CTGB | E44: 21 | F44: 0 | G44: =E44+F44 -> 21
A45: Gila River Power Station | B45: Arizona | C45: 55306 | D45: 3CTGA | E45: 20 | F45: 0 | G45: =E45+F45 -> 20
A46: Gila River Power Station | B46: Arizona | C46: 55306 | D46: 3CTGB | E46: 19 | F46: 0 | G46: =E46+F46 -> 19
A47: Gila River Power Station | B47: Arizona | C47: 55306 | D47: 4CTGA | E47: 22 | F47: 0 | G47: =E47+F47 -> 22
A48: Gila River Power Station | B48: Arizona | C48: 55306 | D48: 4CTGB | E48: 22 | F48: 0 | G48: =E48+F48 -> 22
A49: Griffith Energy Project | B49: Arizona | C49: 55124 | D49: P1 | E49: 27 | F49: 0 | G49: =E49+F49 -> 27
A50: Griffith Energy Project | B50: Arizona | C50: 55124 | D50: P2 | E50: 26 | F50: 0 | G50: =E50+F50 -> 26
A51: Irvington Generating Station | B51: Arizona | C51: 126 | D51: 3 | E51: 162 | F51: 0 | G51: =E51+F51 -> 162
A52: Irvington Generating Station | B52: Arizona | C52: 126 | D52: 4 | E52: 240 | F52: 0 | G52: =E52+F52 -> 240
... A276: Lagoon Creek | B276: Tennessee | C276: 7845 | D276: LCT9 | E276: 4 | F276: 0 | G276: =E276+F276 -> 4

Sheet Underlying Data for FIP
F1: Step 1 | K1: Steps 2 & 3 | L1: Step 4 | M1: Step 5 | N1: Step 6 | P1: Step 7 | U1: Step 8 | X1: Steps 9 & 10 | Y1: Data Flags
A2: Plant Name | B2: State | C2: ORIS ID | D2: Boiler ID | E2: CAMD Unit ID | F2: 2017 Ozone Season Heat Input (mmBtu) | G2: 2018 Ozone Season Heat Input (mmBtu) | H2: 2019 Ozone Season Heat Input (mmBtu) | I2: 2020 Ozone Season Heat Input (mmBtu) | J2: 2021 Ozone Season Heat Input (mmBtu) | K2: Unit Level Average of 3 Highest Non-Zero Ozone Season Heat Inputs from 2017 to 2021 (mmBtu) for 2025 | L2: State Level Summation of Unit Level Three Year Average Ozone Season Heat Input (mmBtu) for 2025 | M2: Unit 's Percentage Share of State's Ozone Season Heat Input for 2025 | N2: Ozone Season NOX 2025 State Budget for Existing Units (tons) | O2: Tentative Heat Input Based 2025 Ozone Season NOX Allocation (tons) | P2: 2017 Ozone Season NOX Emissions (tons) | Q2: 2018 Ozone Season NOX Emissions (tons) | R2: 2019 Ozone Season NOX Emissions (tons) | S2: 2020 Ozone Season NOX Emissions (tons) | T2: 2021 Ozone Season NOX Emissions (tons) | U2: Ozone Season Historical Maximum Total NOX Emissions (tons) | V2: 2025 Ozone Season Maximum Controlled Baseline (tons) | W2: 2025 Ozone Season Cap | X2: Unit Level NOX Ozone Season Allocation 2025 (tons) | Y2: Existing Unit or Retired in 2025 | Z2: Additional (Not ARP or CSAPR) Unit | AA2: Unit Not Subject to State's SIP Authority
A3: Calculation | K3: Average of three highest non-zero values in columns F - J for Operating units | L3: Sum column K values to get State level totals | M3: Column K divided by column L | O3: Column M x column N | U3: Highest value of columns P - T | W3: Lowest value of columns U and V | X3: (Lesser of columns W and O + reapportionment if O < W
A4: APS Saguaro Power Plant | B4: Arizona | C4: 118 | D4: CT3 | E4: 8250 | F4: 216322.8 | G4: 450690.67 | H4: 171834.7 | I4: 337969.36 | J4: 378022.38 | K4: 388894.13 | L4: 2.7613895e+08 | M4: 0.0014083277 | N4: 7293.55 | O4: 10.271709 | P4: 4.492 | Q4: 8.492 | R4: 5.023 | S4: 4.864 | T4: 6.458 | U4: 8.492 | W4: 8.492 | X4: 8 | Y4: Existing Unit
A5: APS West Phoenix Power Plant | B5: Arizona | C5: 117 | D5: CC4 | E5: 70 | F5: 1418658.1 | G5: 1395618.5 | H5: 1415595.3 | I5: 1793822.7 | J5: 1495040.9 | K5: 1569173.9 | L5: 2.7613895e+08 | M5: 0.0056825519 | N5: 7293.55 | O5: 41.445977 | P5: 21.242 | Q5: 18.045 | R5: 18.001 | S5: 27.604 | T5: 21.892 | U5: 27.604 | W5: 27.604 | X5: 28 | Y5: Existing Unit
A6: APS West Phoenix Power Plant | B6: Arizona | C6: 117 | D6: CC5A | E6: 71 | F6: 3355935.3 | G6: 3913650.8 | H6: 2858604.5 | I6: 4319909.9 | J6: 3369384 | K6: 3867648.2 | L6: 2.7613895e+08 | M6: 0.014006167 | N6: 7293.55 | O6: 102.15468 | P6: 29.992 | Q6: 27.812 | R6: 20.354 | S6: 27.826 | T6: 25.511 | U6: 29.992 | W6: 29.992 | X6: 30 | Y6: Existing Unit
A7: APS West Phoenix Power Plant | B7: Arizona | C7: 117 | D7: CC5B | E7: 88097 | F7: 4139333.4 | G7: 3783677.9 | H7: 3224869.2 | I7: 4301415.5 | J7: 4320051.8 | K7: 4253600.2 | L7: 2.7613895e+08 | M7: 0.01540384 | N7: 7293.55 | O7: 112.34868 | P7: 34.306 | Q7: 26.615 | R7: 24.326 | S7: 28.2 | T7: 30.566 | U7: 34.306 | W7: 34.306 | X7: 34 | Y7: Existing Unit
A8: Agua Fria Generating Station | B8: Arizona | C8: 141 | D8: 1 | E8: 86 | F8: 556149.6 | G8: 442789.87 | H8: 550752.23 | I8: 823758.88 | J8: 295880.09 | K8: 643553.57 | L8: 2.7613895e+08 | M8: 0.0023305426 | N8: 7293.55 | O8: 16.997929 | P8: 71.701 | Q8: 54.71 | R8: 70.592 | S8: 135.997 | T8: 33.164 | U8: 135.997 | W8: 135.997 | X8: 49 | Y8: Existing Unit
A9: Agua Fria Generating Station | B9: Arizona | C9: 141 | D9: 2 | E9: 87 | F9: 462205.13 | G9: 380585.63 | H9: 540793.1 | I9: 785378.42 | J9: 278807.19 | K9: 596125.55 | L9: 2.7613895e+08 | M9: 0.0021587884 | N9: 7293.55 | O9: 15.745231 | P9: 54.717 | Q9: 46.799 | R9: 66.385 | S9: 103.606 | T9: 29.795 | U9: 103.606 | W9: 103.606 | X9: 45 | Y9: Existing Unit
A10: Agua Fria Generating Station | B10: Arizona | C10: 141 | D10: 3 | E10: 88 | F10: 911117.8 | G10: 765282.41 | H10: 1050718.3 | I10: 1343957.7 | J10: 520440.42 | K10: 1101931.3 | L10: 2.7613895e+08 | M10: 0.0039904956 | N10: 7293.55 | O10: 29.104879 | P10: 239.975 | Q10: 196.336 | R10: 229.396 | S10: 360.501 | T10: 87.824 | U10: 360.501 | W10: 360.501 | X10: 83 | Y10: Existing Unit
A11: Agua Fria Generating Station | B11: Arizona | C11: 141 | D11: 7 | E11: 91419 | L11: 2.7613895e+08 | N11: 7293.55 | U11: 0 | W11: 0 | Y11: Existing Unit
A12: Agua Fria Generating Station | B12: Arizona | C12: 141 | D12: 8 | E12: 91420 | L12: 2.7613895e+08 | N12: 7293.55 | U12: 0 | W12: 0 | Y12: Existing Unit
A13: Apache Station | B13: Arizona | C13: 160 | D13: 1 | E13: 92 | F13: 746195.46 | G13: 1042603.6 | H13: 1117705.7 | I13: 1169915.8 | J13: 828334.84 | K13: 1110075.1 | L13: 2.7613895e+08 | M13: 0.0040199873 | N13: 7293.55 | O13: 29.319979 | P13: 47.543 | Q13: 37.043 | R13: 22.951 | S13: 26.261 | T13: 16.282 | U13: 47.543 | W13: 47.543 | X13: 48 | Y13: Existing Unit
A14: Apache Station | B14: Arizona | C14: 160 | D14: 2 | E14: 93 | F14: 4064672.1 | G14: 4665672.9 | H14: 5274733.1 | I14: 6087761.6 | J14: 4503917.5 | K14: 5342722.5 | L14: 2.7613895e+08 | M14: 0.01934795 | N14: 7293.55 | O14: 141.11524 | P14: 697.461 | Q14: 156.409 | R14: 178.119 | S14: 215.844 | T14: 139.225 | U14: 697.461 | W14: 697.461 | X14: 404 | Y14: Existing Unit
A15: Apache Station | B15: Arizona | C15: 160 | D15: 3 | E15: 94 | F15: 5338165.5 | G15: 4894029.1 | H15: 4401235 | I15: 5090696.3 | J15: 6681655.8 | K15: 5703505.9 | L15: 2.7613895e+08 | M15: 0.020654478 | N15: 7293.55 | O15: 150.64447 | P15: 741.181 | Q15: 488.933 | R15: 373.566 | S15: 421.468 | T15: 749.477 | U15: 749.477 | W15: 749.477 | X15: 432 | Y15: Existing Unit
A16: Apache Station | B16: Arizona | C16: 160 | D16: 4 | E16: 88320 | F16: 374872.38 | G16: 372845.57 | H16: 372291.72 | I16: 412664.8 | J16: 304800.25 | K16: 386794.25 | L16: 2.7613895e+08 | M16: 0.0014007233 | N16: 7293.55 | O16: 10.216245 | P16: 6.015 | Q16: 5.948 | R16: 3.731 | S16: 4.492 | T16: 3.294 | U16: 6.015 | W16: 6.015 | X16: 6 | Y16: Existing Unit
A17: Arlington Valley Energy Facility | B17: Arizona | C17: 55282 | D17: CTG1 | E17: 4420 | F17: 5818460.7 | G17: 5948823.9 | H17: 5355285.3 | I17: 3344644.1 | J17: 4288359.9 | K17: 5707523.3 | L17: 2.7613895e+08 | M17: 0.020669027 | N17: 7293.55 | O17: 150.75058 | P17: 21.433 | Q17: 22.122 | R17: 19.937 | S17: 15.775 | T17: 18.328 | U17: 22.122 | W17: 22.122 | X17: 22 | Y17: Existing Unit
A18: Arlington Valley Energy Facility | B18: Arizona | C18: 55282 | D18: CTG2 | E18: 4421 | F18: 5796542.9 | G18: 5811834.7 | H18: 4960800.5 | I18: 4338381.7 | J18: 4384775.4 | K18: 5523059.4 | L18: 2.7613895e+08 | M18: 0.020001016 | N18: 7293.55 | O18: 145.87841 | P18: 21.022 | Q18: 21.135 | R18: 19.036 | S18: 15.785 | T18: 19.22 | U18: 21.135 | W18: 21.135 | X18: 21 | Y18: Existing Unit
A19: Black Mountain Generating Station | B19: Arizona | C19: 56482 | D19: 1 | E19: 89755 | F19: 225047.32 | G19: 305704.11 | H19: 21163.069 | I19: 499534.99 | J19: 457265.46 | K19: 420834.85 | L19: 2.7613895e+08 | M19: 0.0015239967 | N19: 7293.55 | O19: 11.115346 | P19: 10.199 | Q19: 12.947 | R19: 0.961 | S19: 22.234 | T19: 24.318 | U19: 24.318 | W19: 24.318 | X19: 24 | Y19: Existing Unit
A20: Black Mountain Generating Station | B20: Arizona | C20: 56482 | D20: 2 | E20: 89756 | F20: 222703.92 | G20: 312526.77 | H20: 398366.98 | I20: 502877.28 | J20: 374569.97 | K20: 425271.41 | L20: 2.7613895e+08 | M20: 0.0015400631 | N20: 7293.55 | O20: 11.232527 | P20: 9.986 | Q20: 13.356 | R20: 16.712 | S20: 19.642 | T20: 16.592 | U20: 19.642 | W20: 19.642 | X20: 20 | Y20: Existing Unit
A21: Cholla | B21: Arizona | C21: 113 | D21: 1 | E21: 62 | F21: 3420320.2 | G21: 3212417.4 | H21: 2106934.8 | I21: 3333621.5 | J21: 4361811.7 | K21: 3705251.2 | L21: 2.7613895e+08 | M21: 0.013418068 | N21: 7293.55 | O21: 97.865349 | P21: 271.066 | Q21: 279.584 | R21: 181.538 | S21: 262.305 | T21: 388.953 | U21: 388.953 | W21: 388.953 | X21: 280 | Y21: Existing Unit
A22: Cholla | B22: Arizona | C22: 113 | D22: 3 | E22: 64 | F22: 7963584 | G22: 6917253.6 | H22: 5359784.6 | I22: 7887488.6 | J22: 8564103.8 | K22: 8138392.1 | L22: 2.7613895e+08 | M22: 0.029472091 | N22: 7293.55 | O22: 214.95617 | P22: 726.371 | Q22: 638.735 | R22: 503.531 | S22: 728.553 | T22: 815.886 | U22: 815.886 | W22: 815.886 | X22: 616 | Y22: Existing Unit
A23: Coolidge Generating Station | B23: Arizona | C23: 56948 | D23: CT01 | E23: 90464 | F23: 62186.987 | G23: 32220.643 | H23: 79512.192 | I23: 181026.96 | J23: 59490.73 | K23: 107575.38 | L23: 2.7613895e+08 | M23: 0.00038956975 | N23: 7293.55 | O23: 2.8413464 | P23: 0.326 | Q23: 0.16 | R23: 0.289 | S23: 0.541 | T23: 0.203 | U23: 0.541 | W23: 0.541 | X23: 1 | Y23: Existing Unit
A24: Coolidge Generating Station | B24: Arizona | C24: 56948 | D24: CT02 | E24: 90465 | F24: 67692.332 | G24: 36217.53 | H24: 75582.548 | I24: 190847.51 | J24: 62592.875 | K24: 111374.13 | L24: 2.7613895e+08 | M24: 0.00040332641 | N24: 7293.55 | O24: 2.9416813 | P24: 0.366 | Q24: 0.15 | R24: 0.282 | S24: 0.624 | T24: 0.236 | U24: 0.624 | W24: 0.624 | X24: 1 | Y24: Existing Unit
... A35: Coronado Generating Station | B35: Arizona | C35: 6177 | D35: U1B | E35: 2823 | F35: 11320917 | G35: 11346158 | H35: 7183661.9 | I35: 8783812.3 | J35: 10458154 | K35: 11041743 | L35: 2.7613895e+08 | M35: 0.039986185 | N35: 7293.55 | O35: 291.64124 | P35: 1675.94 | Q35: 1682.622 | R35: 866.03 | S35: 1219.202 | T35: 1542.467 | U35: 1682.622 | W35: 1682.622 | X35: 836 | Y35: Existing Unit
A36: Coronado Generating Station | B36: Arizona | C36: 6177 | D36: U2B | E36: 2824 | F36: 10369030 | G36: 11091180 | H36: 7297772.9 | I36: 10799718 | J36: 12360919 | K36: 11417272 | L36: 2.7613895e+08 | M36: 0.041346113 | N36: 7293.55 | O36: 301.55994 | P36: 298.289 | Q36: 309.105 | R36: 202.734 | S36: 306.728 | T36: 376.526 | U36: 376.526 | V36: 494.43675 | W36: 376.526 | X36: 377 | Y36: Existing Unit
A37: De Moss Petrie Generating Station | B37: Arizona | C37: 124 | D37: GT1 | E37: 76 | F37: 82711.133 | G37: 53550.519 | H37: 187186.09 | I37: 10500.704 | J37: 10331.926 | K37: 107815.92 | L37: 2.7613895e+08 | M37: 0.00039044081 | N37: 7293.55 | O37: 2.8476996 | P37: 1.392 | Q37: 0.786 | R37: 3.009 | S37: 0.179 | T37: 0.391 | U37: 3.009 | W37: 3.009 | X37: 3 | Y37: Existing Unit
A38: Desert Basin Generating Station | B38: Arizona | C38: 55129 | D38: DBG1 | E38: 3964 | F38: 3636782.5 | G38: 5555030.8 | H38: 3625797.4 | I38: 5210620.2 | J38: 4322770.4 | K38: 5029473.8 | L38: 2.7613895e+08 | M38: 0.018213562 | N38: 7293.55 | O38: 132.84152 | P38: 20.877 | Q38: 29.872 | R38: 20.498 | S38: 27.75 | T38: 24.234 | U38: 29.872 | W38: 29.872 | X38: 30 | Y38: Existing Unit
A39: Desert Basin Generating Station | B39: Arizona | C39: 55129 | D39: DBG2 | E39: 3965 | F39: 3343079.9 | G39: 5379115.6 | H39: 5236083.9 | I39: 5030527.3 | J39: 4531191.2 | K39: 5215242.2 | L39: 2.7613895e+08 | M39: 0.018886297 | N39: 7293.55 | O39: 137.74815 | P39: 17.491 | Q39: 28.076 | R39: 27.401 | S39: 28.651 | T39: 25.638 | U39: 28.651 | W39: 28.651 | X39: 29 | Y39: Existing Unit
A40: Desert Basin Generating Station | B40: Arizona | C40: 55129 | D40: DBG4 | E40: 91421 | L40: 2.7613895e+08 | N40: 7293.55 | U40: 0 | W40: 0 | Y40: Existing Unit
A41: Desert Basin Generating Station | B41: Arizona | C41: 55129 | D41: DBG5 | E41: 91422 | L41: 2.7613895e+08 | N41: 7293.55 | U41: 0 | W41: 0 | Y41: Existing Unit
A42: Gila River Power Station | B42: Arizona | C42: 55306 | D42: 1CTGA | E42: 8508 | F42: 23027.537 | G42: 4136766.8 | H42: 3419714.7 | I42: 4860201.3 | J42: 4392962.6 | K42: 4463310.2 | L42: 2.7613895e+08 | M42: 0.016163277 | N42: 7293.55 | O42: 117.88767 | P42: 0.555 | Q42: 20.083 | R42: 17.988 | S42: 22.755 | T42: 17.914 | U42: 22.755 | W42: 22.755 | X42: 23 | Y42: Existing Unit
A43: Gila River Power Station | B43: Arizona | C43: 55306 | D43: 1CTGB | E43: 8510 | F43: 363.369 | G43: 3727573 | H43: 4321171.4 | I43: 4888662.3 | J43: 4311080.9 | K43: 4506971.5 | L43: 2.7613895e+08 | M43: 0.01632139 | N43: 7293.55 | O43: 119.04088 | P43: 0.035 | Q43: 29.69 | R43: 18.797 | S43: 21.513 | T43: 18.611 | U43: 29.69 | W43: 29.69 | X43: 30 | Y43: Existing Unit
A44: Gila River Power Station | B44: Arizona | C44: 55306 | D44: 2CTGA | E44: 8512 | F44: 89044.56 | G44: 5578403.8 | H44: 5974285.3 | I44: 5335142.5 | J44: 5538281.7 | K44: 5696990.3 | L44: 2.7613895e+08 | M44: 0.020630883 | N44: 7293.55 | O44: 150.47238 | P44: 0.694 | Q44: 20.245 | R44: 21.091 | S44: 19.176 | T44: 19.514 | U44: 21.091 | W44: 21.091 | X44: 21 | Y44: Existing Unit
A45: Gila River Power Station | B45: Arizona | C45: 55306 | D45: 2CTGB | E45: 8514 | F45: 100717.21 | G45: 5659583.6 | H45: 5929910 | I45: 5310974.7 | J45: 5628830.3 | K45: 5739441.3 | L45: 2.7613895e+08 | M45: 0.020784613 | N45: 7293.55 | O45: 151.59362 | P45: 0.913 | Q45: 21.182 | R45: 20.947 | S45: 18.83 | T45: 19.828 | U45: 21.182 | W45: 21.182 | X45: 21 | Y45: Existing Unit
A46: Gila River Power Station | B46: Arizona | C46: 55306 | D46: 3CTGA | E46: 8516 | F46: 4595496.8 | G46: 4386405 | H46: 4766220.4 | I46: 5447748.4 | J46: 5133843.6 | K46: 5115937.5 | L46: 2.7613895e+08 | M46: 0.018526678 | N46: 7293.55 | O46: 135.12525 | P46: 16.788 | Q46: 15.571 | R46: 16.987 | S46: 19.436 | T46: 19.745 | U46: 19.745 | W46: 19.745 | X46: 20 | Y46: Existing Unit
A47: Gila River Power Station | B47: Arizona | C47: 55306 | D47: 3CTGB | E47: 8518 | F47: 3922919.6 | G47: 4084624.3 | H47: 4859588.9 | I47: 5434941 | J47: 5129974.4 | K47: 5141501.4 | L47: 2.7613895e+08 | M47: 0.018619255 | N47: 7293.55 | O47: 135.80047 | P47: 16.065 | Q47: 14.86 | R47: 17.548 | S47: 19.496 | T47: 18.112 | U47: 19.496 | W47: 19.496 | X47: 19 | Y47: Existing Unit
A48: Gila River Power Station | B48: Arizona | C48: 55306 | D48: 4CTGA | E48: 8520 | F48: 2108092.2 | G48: 5090623.6 | H48: 1155339.6 | I48: 4941929.2 | J48: 5075262.3 | K48: 5035938.4 | L48: 2.7613895e+08 | M48: 0.018236972 | N48: 7293.55 | O48: 133.01227 | P48: 10.964 | Q48: 21.576 | R48: 6.756 | S48: 20.347 | T48: 20.118 | U48: 21.576 | W48: 21.576 | X48: 22 | Y48: Existing Unit
A49: Gila River Power Station | B49: Arizona | C49: 55306 | D49: 4CTGB | E49: 8522 | F49: 1654365.2 | G49: 5821314.4 | H49: 1238110.1 | I49: 4586375.9 | J49: 4833465.2 | K49: 5080385.2 | L49: 2.7613895e+08 | M49: 0.018397931 | N49: 7293.55 | O49: 134.18623 | P49: 8.843 | Q49: 22.254 | R49: 7.214 | S49: 22.058 | T49: 21.517 | U49: 22.254 | W49: 22.254 | X49: 22 | Y49: Existing Unit
A50: Griffith Energy Project | B50: Arizona | C50: 55124 | D50: P1 | E50: 3953 | F50: 5365216 | G50: 4325101.9 | H50: 5062528.7 | I50: 3597962 | J50: 4810670.6 | K50: 5079471.8 | L50: 2.7613895e+08 | M50: 0.018394623 | N50: 7293.55 | O50: 134.1621 | P50: 27.189 | Q50: 23.31 | R50: 23.791 | S50: 23.541 | T50: 25.876 | U50: 27.189 | W50: 27.189 | X50: 27 | Y50: Existing Unit
...

Sheet Retired Units
A1: Based on data available at the time of the proposed rule, these units are considered retired units for a given budget year (e.g., prior to May 1, 2025 for 2025 budgets) and EPA did not determine allocations for them as existing units. If they resume operation, they would have to comply with the program (and would qualify for NUSA allocations).
A2: Plant Name | B2: State | C2: ORIS ID | D2: Boiler ID | E2: CAMD Unit ID | F2: Retired for 2025
A3: Lansing | B3: Iowa | C3: 1047 | D3: 4 | E3: 739 | F3: Retired
A4: Lawrence Energy Center | B4: Kansas | C4: 1250 | D4: 4 | E4: 834 | F4: Retired
A5: Lawrence Energy Center | B5: Kansas | C5: 1250 | D5: 5 | E5: 835 | F5: Retired
A6: Cunningham | B6: New Mexico | C6: 2454 | D6: 121B | E6: 1600 | F6: Retired
A7: Rio Grande | B7: New Mexico | C7: 2444 | D7: 6 | E7: 1586 | F7: Retired
A8: Rio Grande | B8: New Mexico | C8: 2444 | D8: 7 | E8: 1587 | F8: Retired
A9: San Juan | B9: New Mexico | C9: 2451 | D9: 1 | E9: 1596 | F9: Retired
A10: San Juan | B10: New Mexico | C10: 2451 | D10: 4 | E10: 1599 | F10: Retired
A11: Bull Run | B11: Tennessee | C11: 3396 | D11: 1 | E11: 2251 | F11: Retired

Sheet New Units
A1: Because these units reported a date for commencement of commercial operation on or after November 2, 2020, EPA did not determine allocations for them as existing units; they are eligible to receive NUSA allocations.
A2: Plant Name | B2: State | C2: ORIS ID | D2: Boiler ID | E2: CAMD Unit ID
A3: No applicable units
