Workbook
Name Al_Ingot_UEV: '[1]UEV Library'!$D$244
Name Al_Liguid_UEV: '[1]UEV Library'!$D$243
Name Al_sheet_UEV: '[1]UEV Library'!$D$245
Name alumina_UEV: '[1]UEV Library'!$D$242
Name Ammonia_UEV: '[1]UEV Library'!$D$239
Name Anode_UEV: '[1]UEV Library'!$D$248
Name aq_element_ex: '[2]Element exergy'!$A$3:$E$25
Name aq_element_ex: '[3]Element exergy'!$A$3:$E$25
Name ave_crust_element_molar_weight: 'Crust Element Composition'!$H$4
Name ave_crust_specific_emergy: '[1]Renewable Earth emergy flows'!$B$87
Name ave_crust_specific_emergy: 'Renewable Earth Flows'!$B$93
Name ave_crustal_molar_mass: 'Renewable Earth Flows'!$B$5
Name ave_crustal_molar_weight: '[1]Renewable Earth emergy flows'!$B$4
Name ave_global_areal_empower: 1.52E+25/510000000000000
Name bauxiteprod_uev: '[1]UEV Library'!$D$218
Name Betz_number: 0.592
Name Calcite_UEV_kg: '[1]UEV Library'!$F$112
Name Cement_UEV_kg: '[1]UEV Library'!$D$249
Name Charcoal_UEV_kg: '[1]UEV Library'!$D$269
Name ClayBentonite_UEV_kg: '[1]UEV Library'!$F$113
Name CoalHard_FF_UEV_kg: '[1]UEV Library'!$D$200
Name CoalHard_UEV_J: '[1]UEV Library'!$F$261
Name CoalHard_UEV_kg: '[1]UEV Library'!$D$261
Name CoalSoft_FF_UEV_kg: '[1]UEV Library'!$D$202
Name Coke_UEV: '[1]UEV Library'!$D$268
Name Coke_UEV_J: '[1]UEV Library'!$F$268
Name Concrete_UEV_kg: '[1]UEV Library'!$D$250
Name Copper_Refined_UEV: '[1]UEV Library'!$D$252
Name crust_age: '[1]Renewable Earth emergy flows'!$B$85
Name crust_age: 'Renewable Earth Flows'!$B$91
Name crust_mass: [1]WORLD!$M$6
Name crust_mass: 'Renewable Earth Flows'!$B$90
Name crustal_elements: 'Crust Element Composition'!$B$5:$F$81
Name CuConc_uev: '[1]UEV Library'!$D$219
Name currents_tr: '[1]Renewable Earth emergy flows'!$B$78
Name currents_tr: 'Renewable Earth Flows'!$B$81
Name deepheat_tr: '[1]Renewable Earth emergy flows'!$B$7
Name deepheat_tr: 'Renewable Earth Flows'!$B$8
Name diesel_uev_J: '[1]UEV Library'!$F$264
Name diesel_uev_kg: '[1]UEV Library'!$D$264
Name Dolomite_UEV_kg: '[1]UEV Library'!$F$115
Name Elec_PV_UEV_J: '[1]UEV Library'!$F$273
Name Elec_Thermal_UEV_J: '[1]UEV Library'!$F$274
Name Elec_Thermal_UEV_kWh: '[1]UEV Library'!$D$274
Name ElecGen_UEV_J: '[1]UEV Library'!$F$272
Name ElecGen_UEV_kWh: '[1]UEV Library'!$D$272
Name Explosive_uev: '[1]UEV Library'!$D$238
Name explosive_UEV_J: [1]Products!$F$22
Name gas_constant: 8.314
Name gasoline_uev_J: '[1]UEV Library'!$F$262
Name gdwater_uev: '[1]UEV Library'!$D$17
Name GEB: '[1]Renewable Earth emergy flows'!$B$5
Name GEB: 'Renewable Earth Flows'!$B$6
Name Geo_exergy: 'Renewable Earth Flows'!$B$11
Name geopot_tr_specific_emergy: '[1]Renewable Earth emergy flows'!$B$71
Name geopot_tr_specific_emergy: 'Renewable Earth Flows'!$B$70
Name gibbs_rain: '[1]Renewable Earth emergy flows'!$B$48
Name gibbs_rain: 'Renewable Earth Flows'!#REF!
Name Gold_Refined_UEV: '[1]UEV Library'!$D$251
Name Gravel_UEV_kg: '[1]UEV Library'!$F$117

Sheet Readme and Changinglog
A1: Electronic Supplemental Material
B2: Filename: | D2: EmCF database for LCA
B3: Description: | D3: Data, sources, and calculation
B4: Table of Contents
A7: Changelog
A9: 12/24/15, XM
A10: *Link "Emergy driving Land precipitation (cell B53) and Ocean precipitation (cell B54)" in Renewable Earth emergy flows to GEB and Land and Ocean surface area. Cells B55 and B56 are updated.
A12: 12/29/2015, WI
A13: *Removed labor rows from EmCF library and labor sheet
A14: *Corrected equation in cell L160
A15: *Link new geothermal energy from synthesis GEB paper in Coal sheet to Renewable Earth Emergy Flow worksheet
A17: 1/22/16, XM
A18: *Removed uranium from Multiple mineral deposits
A19: *Add Biomass, unspecified flow
A20: *Link "Occupation, temperate/forest" to Land, biomass & soil tab; Link "Occupation, temperate/grassland" to Land, biomass & soil tab
A21: *Link "wind transformity" to GEB
... A39: * Wave energy on the shore was added (B46-48) in Renewable earth emergy flows.
A42: 42725 | B42: Campbell: code for changes; red,there are problems with the number or method, yellow Brown's original code for an unchanged baseline, green numbers that I think are the best choices.
A44: 12/3/2019, SA
A45: * Renewable Earth emergy flows: Average crustal molecular weight corrected from 157.7 to 155.2
A46: * Renewable Earth emergy flows: Tidal exergy absorbed (cell B11) changed to whole earth rather than ocean only or average of the two. Ocean-specific calculations can be adjusted where necessary.
A47: * Renewable Earth emergy flows: Precipitation over ocean corrected from 4.13 to 3.75E20 g/yr
A48: * Renewable Earth emergy flows: Global streamflow updated from 3.99 to 3.73 km3/yr, reflecting global estimate from Dai et al., 2009 that excludes Antarctica and Greenland as these flows are largely glacier-derived
A49: * Renewable Earth emergy flows: Made Gibbs free energy calculations dynamic, based on solute concentrations of respective flows
A50: * Renewable Earth emergy flows: found updated reference for tidal energy dissipated in shallow ocean
A51: * Renewable Earth emergy flows: updated value/reference for wind energy input to ocean currents, added Wang and Huang, 2004a and b to References.
A52: * Renewable Earth emergy flows: Updated calculation of average crust specific emergy to only account for the upper 1000 m, or the region considered to be economically active
A53: * Land, biomass & soil: changed input exgergy cells to link to Renewable Earth emergy flows tab
A54: * Land, biomass & soil: changed transformity of rain input to open ocean to rain_ocean_tr
A55: * Land, biomass & soil: changed transformity of waves input to ice/rock to waves_shore_tr
... A100: Provide 508 compliance

Sheet Table of Contents
A1: Electronic Supplemental Material
B2: Filename: | D2: EmCF database for LCA
B3: Description: | D3: Data, sources, and calculation
B4: Worksheets:
C5: Worksheet # | D5: Worksheet Name
C6: 1 | D6: Readme and Changinglog
C7: 2 | D7: Table of Contents
C8: 3 | D8: EmCF library
C9: 4 | D9: Renewable Earth flows
C10: 5 | D10: Crust element composition
C11: 6 | D11: Land, biomass & soil
C12: 7 | D12: Water
C13: 8 | D13: Singular minerals
C14: 9 | D14: Multiple minerals
C15: 10 | D15: Aggregate minerals
C16: =C15+1 -> 11 | D16: Limestone
C17: =C16+1 -> 12 | D17: Ocean ions
C18: =C17+1 -> 13 | D18: Atmospheric gases
C19: =C18+1 -> 14 | D19: Wood
C20: =C19+1 -> 15 | D20: Coal
C21: =C20+1 -> 16 | D21: Oil & NG
C22: =C21+1 -> 17 | D22: References
B24: Note
B25: * | C25: For the detailed calculations and background information, the companion report (The Unit Emergy Value (UEV) Library for Characterizing Environmental Support in Life Cycle Assessment) should be referenced.
B26: * | C26: In this library, since the EmCF provides characterization factors for elementary flows in a life cycle inventory (LCI), it is equivalent to UEVs. EmCF = UEV. They are used interchangably.

Sheet EmCF Library
B1: Flow | C1: Type | D1: compartment | E1: Stock or flow | F1: Ecosystem service | G1: Effect | H1: UEV Source | I1: Units | J1: Chemical formula | L1: sej/unit | M1: Timescale (yrs) | N1: Alternative units | O1: Renewable | P1: Non-renewable | Q1: Air | R1: Biological | S1: Fossil fuels | T1: Labor | U1: Land | V1: Minerals and Metals | W1: Raw renewables | X1: Water | Y1: Notes | Z1: Concentration
B2: Renewable Earth Emergy Flows
B3: Solar energy | C3: Raw renewables | D3: Raw renewables | E3: flow | F3: All | G3: direct capture of primary energy | H3: By definition | I3: MJ | L3: 1000000 | M3: 1 | O3: =IF(M3<=renewable_cutoff,L3,"") -> 1000000 | P3: =IF(M3>renewable_cutoff,L3,"") | W3: =L3 -> 1000000 | Y3: 1 seJ/J sunlight by definition, therefore 1e6 seJ/MJ sunlight.
B4: Geothermal energy (deep heat) | C4: Raw renewables | D4: Raw renewables | E4: flow | F4: All | G4: direct capture of primary energy | H4: Brown et al. 2016a | I4: MJ | L4: =deepheat_tr*1000000 -> 4900000000 | M4: 1 | O4: =IF(M4<=renewable_cutoff,L4,"") -> 4900000000 | P4: =IF(M4>renewable_cutoff,L4,"") | W4: =L4 -> 4900000000
B5: Tide | C5: Raw renewables | D5: Raw renewables | E5: flow | F5: All | G5: direct capture of primary energy | I5: MJ | L5: =tide_tr*1000000 -> 30900000000 | M5: 1 | O5: =IF(M5<=renewable_cutoff,L5,"") -> 30900000000 | P5: =IF(M5>renewable_cutoff,L5,"") | W5: =L5 -> 30900000000
B6: Wind energy | C6: Raw renewables | D6: Raw renewables | E6: flow | F6: All | G6: direct capture of primary energy | I6: MJ | L6: =wind_tr*1000000 -> 5.2e+08 | M6: 1 | O6: =IF(M6<=renewable_cutoff,L6,"") -> 5.2e+08 | P6: =IF(M6>renewable_cutoff,L6,"") | W6: =L6 -> 5.2e+08
B7: Wave energy in the oceans as a whole | C7: Raw renewables | D7: Raw renewables | E7: flow | F7: All | G7: direct capture of primary energy | I7: MJ | L7: =waves_ocean_tr*1000000 -> 5.2e+08 | M7: 1 | O7: =IF(M7<=renewable_cutoff,L7,"") -> 5.2e+08 | P7: =IF(M7>renewable_cutoff,L7,"") | W7: =L7 -> 5.2e+08
B8: Wave energy on the shore | C8: Raw renewables | I8: MJ | L8: =waves_shore_tr*1000000 -> 72400000000 | M8: 1 | O8: =IF(M8<=renewable_cutoff,L8,"") -> 72400000000 | W8: =L8 -> 72400000000
B9: Rain (chemical potential) | C9: Raw renewables | D9: Raw renewables | E9: flow | F9: All | G9: direct capture of primary energy | I9: MJ | L9: =rain_land_tr*1000000 -> 22500000000 | M9: 1 | O9: =IF(M9<=renewable_cutoff,L9,"") -> 22500000000 | P9: =IF(M9>renewable_cutoff,L9,"") | W9: =L9 -> 22500000000
B10: Runoff geopotential energy | C10: Raw renewables | D10: Raw renewables | E10: flow | F10: All | G10: direct capture of primary energy | I10: MJ | L10: =runoff_geop_tr*1000000 -> 41180000000 | M10: 1 | O10: =IF(M10<=renewable_cutoff,L10,"") -> 41180000000 | P10: =IF(M10>renewable_cutoff,L10,"") | W10: =L10 -> 41180000000
B11: Ocean Currents | C11: Raw renewables | D11: Raw renewables | E11: flow | F11: All | G11: direct capture of primary energy | I11: MJ | L11: =currents_tr*1000000 -> 58000000000 | M11: 1 | O11: =IF(M11<=renewable_cutoff,L11,"") -> 58000000000 | W11: =L11 -> 58000000000
B12: Water
B13: =CONCATENATE("Water, fresh, unspecified; ",Z13," ppmTDS") -> Water, fresh, unspecified; 100 ppmTDS | C13: water | D13: water | E13: unknown | F13: water purification, water regulation | G13: water withdrawal | H13: Water flux data from Shiklomanov and Rodda (2003) | I13: m3 | L13: =L17 -> 1.2842371e+12 | M13: 0.049192929 | N13: kg | O13: =IF(M13<=renewable_cutoff,L13,"") -> 1.2842371e+12 | P13: =IF(M13>renewable_cutoff,L13,"") | X13: =L13 -> 1.2842371e+12 | Y13: Assumed to be the minimum of water resources to avoid overaccounting. | Z13: =Water!H19 -> 100
B14: =CONCATENATE("Water, rivers and streams; ",Z14," ppmTDS") -> Water, rivers and streams; 100 ppmTDS | C14: water | D14: water | E14: unknown | F14: water purification, water regulation | G14: water withdrawal | H14: Water flux data from Shiklomanov and Rodda (2003) | I14: m3 | L14: =1000000*Water!M19 -> 3.2560405e+11 | M14: =Water!G19 -> 0.057494867 | N14: kg | O14: =IF(M14<=renewable_cutoff,L14,"") -> 3.2560405e+11 | P14: =IF(M14>renewable_cutoff,L14,"") | X14: =L14 -> 3.2560405e+11 | Z14: =Water!H19 -> 100
B15: =CONCATENATE("Water, fresh, lake; ",Z15," ppmTDS") -> Water, fresh, lake; 200 ppmTDS | C15: water | D15: water | E15: stock | F15: water purification, water regulation | G15: water withdrawal | H15: Water flux data from Shiklomanov and Rodda (2003) | I15: m3 | L15: =1000000*Water!M16 -> 2.2428701e+12 | M15: =Water!G16 -> 17 | N15: kg | O15: =IF(M15<=renewable_cutoff,L15,"") -> 2.2428701e+12 | P15: =IF(M15>renewable_cutoff,L15,"") | X15: =L15 -> 2.2428701e+12 | Y15: Accounting only freshwater lakes | Z15: =Water!H16 -> 200
B16: =CONCATENATE("Water, fresh, wetland; ",Z16," ppmTDS") -> Water, fresh, wetland; 50 ppmTDS | C16: water | D16: water | E16: stock | F16: water purification, water regulation | G16: water withdrawal | H16: Water flux data from Shiklomanov and Rodda (2003) | I16: m3 | L16: =1000000*Water!M18 -> 5.219979e+12 | M16: =Water!H18 -> 50 | N16: kg | O16: =IF(M16<=renewable_cutoff,L16,"") -> 5.219979e+12 | P16: =IF(M16>renewable_cutoff,L16,"") | X16: =L16 -> 5.219979e+12 | Z16: =Water!H18 -> 50
B17: =CONCATENATE("Water, fresh, surface; ",Z17," ppmTDS") -> Water, fresh, surface; 100 ppmTDS | C17: water | D17: water | E17: stock | F17: water purification, water regulation | G17: water withdrawal | H17: Water flux data from Shiklomanov and Rodda (2003) | I17: m3 | L17: =1000000*AVERAGE(Water!M16,Water!M19) -> 1.2842371e+12 | M17: =SUM(Water!D16*Water!G16,Water!D18*Water!G18,Water!D19*Water!G19)/SUM(Water!D16,Water!D18,Water!D19) -> 15.337621 | N17: kg | O17: =IF(M17<=renewable_cutoff,L17,"") -> 1.2842371e+12 | P17: =IF(M17>renewable_cutoff,L17,"") | X17: =L17 -> 1.2842371e+12 | Y17: Assumed to be the minimum of all surface waters to avoid overaccounting. | Z17: =Water!H19 -> 100
B18: =CONCATENATE("Water, fresh, ground; ",Z18," ppmTDS") -> Water, fresh, ground; 335 ppmTDS | C18: water | D18: water | E18: stock | F18: water purification, water regulation | G18: water withdrawal | H18: Water flux data from Shiklomanov and Rodda (2003) | I18: m3 | L18: =1000000*Water!M7 -> 1.4570685e+12 | M18: =Water!G6 -> 1400 | N18: kg | O18: =IF(M18<=renewable_cutoff,L18,"") | P18: =IF(M18>renewable_cutoff,L18,"") -> 1.4570685e+12 | X18: =L18 -> 1.4570685e+12 | Y18: Neglects capillary GW and accounts only the saturated zone. | Z18: =Water!H7 -> 335
B19: =CONCATENATE("Water, fresh, polar ice; ",Z19," ppmTDS") -> Water, fresh, polar ice; 10 ppmTDS | C19: water | D19: water | E19: stock | F19: water purification, water regulation | G19: water withdrawal | H19: Water flux data from Shiklomanov and Rodda (2003) | I19: m3 | L19: =1000000*Water!M9 -> 4.8303063e+12 | M19: =Water!G9 -> 9686.3743 | N19: kg | O19: =IF(M19<=renewable_cutoff,L19,"") | P19: =IF(M19>renewable_cutoff,L19,"") -> 4.8303063e+12 | X19: =L19 -> 4.8303063e+12 | Z19: =Water!H9 -> 10
B20: =CONCATENATE("Water, terrestrial rain; ",Z20," ppmTDS") -> Water, terrestrial rain; 10 ppmTDS | C20: water | D20: water | E20: stock | F20: water purification, water regulation | G20: water withdrawal | H20: Data from Adler et al. (2003) | I20: m3 | L20: =1000000*Water!M21 -> 1.0619469e+11 | M20: =Water!G21 -> 1 | N20: kg | O20: =IF(M20<=renewable_cutoff,L20,"") -> 1.0619469e+11 | P20: =IF(M20>renewable_cutoff,L20,"") | X20: =L20 -> 1.0619469e+11 | Z20: =Water!H21 -> 10
B21: =CONCATENATE("Water, atmospheric vapor; ",Z21," ppmTDS") -> Water, atmospheric vapor; 10 ppmTDS | C21: water | D21: water | E21: stock | F21: water purification, water regulation | G21: water withdrawal | H21: Water flux data from Shiklomanov and Rodda (2003) | I21: m3 | L21: =Water!M25*1000000 -> 1.9541537e+10 | M21: =Water!G25 -> 0.021902806 | N21: kg | O21: =IF(M21<=renewable_cutoff,L21,"") -> 1.9541537e+10 | P21: =IF(M21>renewable_cutoff,L21,"") | X21: =L21 -> 1.9541537e+10 | Z21: =Water!H25 -> 10
B22: Water, runoff geopotential | C22: water | D22: water | E22: flow | F22: sediment cycle, geomorphology, watersheds, fisheries, etc. | G22: sediment clogging, diminished downstream pulsing | H22: This work; based on terrestrial rainfall (Adler et al., 2003) and average elevation of the continents. | I22: MJ | L22: =1000000*runoff_geop_tr -> 41180000000 | M22: =Water!G23 -> 1 | N22: kgm | O22: =IF(M22<=renewable_cutoff,L22,"") -> 41180000000 | P22: =IF(M22>renewable_cutoff,L22,"") | X22: =L22 -> 41180000000 | Y22: Emergy per megaJoule of runoff geopotential
B23: Minerals | Z23: Mineral Cutoff | AA23: Element Cutoff
A24: 2001 | B24: =CONCATENATE("Aluminum, element mass ratio in Bauxite minerals; {", J24, "}; ", AA24," g/g in ground") -> Aluminum, element mass ratio in Bauxite minerals; {Al(OH)3, AlO(OH), and AlO(OH)}; 0.11 g/g in ground | C24: minerals and metals | D24: subsoil | E24: stock | F24: NA | G24: resource extraction | I24: g | J24: Al(OH)3, AlO(OH), and AlO(OH) | K24: mineral | L24: =IF(K24="mineral",(IFERROR(VLOOKUP($A24,'Singular Minerals'!$B$12:$U$500,19,FALSE),IFERROR(VLOOKUP($A24,'Multiple Minerals'!$B$26:$U$309,19,FALSE),VLOOKUP($A24,'Aggregate Minerals'!$B$19:$N$300,13,FALSE)))),(IFERROR(VLOOKUP($A24,'Singular Minerals'!$B$12:$U$500,20,FALSE),IFERROR(VLOOKUP($A24,'Multiple Minerals'!$B$26:$U$309,20,FALSE),VLOOKUP($A24,'Aggregate Minerals'!$B$19:$N$300,13,FALSE))))) -> 1.1154517e+10 | M24: 2500000000 | O24: =IF(M24<=renewable_cutoff,L24,"") | P24: =IF(M24>renewable_cutoff,L24,"") -> 1.1154517e+10 | V24: =L24 -> 1.1154517e+10 | Y24: Weighted average of {Hydragillite/Gibbsite, Diaspore, Boehmite} | AA24: 0.11
A25: 1015 | B25: =CONCATENATE("Anhydrite; {", J25, "}; ", Z25," g/g in ground") -> Anhydrite; {CaSO4}; 0.7445 g/g in ground | C25: minerals and metals | D25: subsoil | E25: stock | F25: NA | G25: resource extraction | I25: g | J25: CaSO4 | K25: mineral | L25: =IF(K25="mineral",(IFERROR(VLOOKUP($A25,'Singular Minerals'!$B$12:$U$500,19,FALSE),IFERROR(VLOOKUP($A25,'Multiple Minerals'!$B$26:$U$309,19,FALSE),VLOOKUP($A25,'Aggregate Minerals'!$B$19:$N$300,13,FALSE)))),(IFERROR(VLOOKUP($A25,'Singular Minerals'!$B$12:$U$500,20,FALSE),IFERROR(VLOOKUP($A25,'Multiple Minerals'!$B$26:$U$309,20,FALSE),VLOOKUP($A25,'Aggregate Minerals'!$B$19:$N$300,13,FALSE))))) -> 8.106153e+09 | M25: 2500000000 | O25: =IF(M25<=renewable_cutoff,L25,"") | P25: =IF(M25>renewable_cutoff,L25,"") -> 8.106153e+09 | V25: =L25 -> 8.106153e+09 | Y25: Kribek et al. (2002) 66.9 to 82% anhydrite in evaporite deposites. | Z25: =AVERAGE(0.669,0.82) -> 0.7445
A26: 1270 | B26: =CONCATENATE("Antimony; {", J26, "}; ", Z26," g/g in ground") -> Antimony; {Sb2S3}; 0.35 g/g in ground | C26: minerals and metals | D26: subsoil | E26: stock | F26: NA | G26: resource extraction | I26: g | J26: Sb2S3 | K26: element | L26: =IF(K26="mineral",(IFERROR(VLOOKUP($A26,'Singular Minerals'!$B$12:$U$500,19,FALSE),IFERROR(VLOOKUP($A26,'Multiple Minerals'!$B$26:$U$309,19,FALSE),VLOOKUP($A26,'Aggregate Minerals'!$B$19:$N$300,13,FALSE)))),(IFERROR(VLOOKUP($A26,'Singular Minerals'!$B$12:$U$500,20,FALSE),IFERROR(VLOOKUP($A26,'Multiple Minerals'!$B$26:$U$309,20,FALSE),VLOOKUP($A26,'Aggregate Minerals'!$B$19:$N$300,13,FALSE))))) -> 8.089969e+09 | M26: 2500000000 | O26: =IF(M26<=renewable_cutoff,L26,"") | P26: =IF(M26>renewable_cutoff,L26,"") -> 8.089969e+09 | V26: =L26 -> 8.089969e+09 | Y26: 35% Sb in American deposits (http://www.unalmed.edu.co/rrodriguez/MODELOS/columbia/Stibnite%20Veins%20&%20Disseminations.htm) | Z26: 0.35
A27: 1032 | B27: =CONCATENATE("Barite; {", J27, "}; ", Z27," g/g in ground") -> Barite; {BaSO4}; 0.15 g/g in ground | C27: minerals and metals | D27: subsoil | E27: stock | F27: NA | G27: resource extraction | I27: g | J27: BaSO4 | K27: mineral | L27: =IF(K27="mineral",(IFERROR(VLOOKUP($A27,'Singular Minerals'!$B$12:$U$500,19,FALSE),IFERROR(VLOOKUP($A27,'Multiple Minerals'!$B$26:$U$309,19,FALSE),VLOOKUP($A27,'Aggregate Minerals'!$B$19:$N$300,13,FALSE)))),(IFERROR(VLOOKUP($A27,'Singular Minerals'!$B$12:$U$500,20,FALSE),IFERROR(VLOOKUP($A27,'Multiple Minerals'!$B$26:$U$309,20,FALSE),VLOOKUP($A27,'Aggregate Minerals'!$B$19:$N$300,13,FALSE))))) -> 3.1413711e+09 | M27: 2500000000 | O27: =IF(M27<=renewable_cutoff,L27,"") | P27: =IF(M27>renewable_cutoff,L27,"") -> 3.1413711e+09 | V27: =L27 -> 3.1413711e+09 | Z27: 0.15
A28: 2001 | B28: =CONCATENATE("Bauxite; {", J28, "}; ", AA28," g/g in ground") -> Bauxite; {Al(OH)3, AlO(OH), and AlO(OH)}; 0.11 g/g in ground | C28: minerals and metals | D28: subsoil | E28: stock | F28: NA | G28: resource extraction | I28: g | J28: Al(OH)3, AlO(OH), and AlO(OH) | K28: mineral | L28: =IF(K28="mineral",(IFERROR(VLOOKUP($A28,'Singular Minerals'!$B$12:$U$500,19,FALSE),IFERROR(VLOOKUP($A28,'Multiple Minerals'!$B$26:$U$309,19,FALSE),VLOOKUP($A28,'Aggregate Minerals'!$B$19:$N$300,13,FALSE)))),(IFERROR(VLOOKUP($A28,'Singular Minerals'!$B$12:$U$500,20,FALSE),IFERROR(VLOOKUP($A28,'Multiple Minerals'!$B$26:$U$309,20,FALSE),VLOOKUP($A28,'Aggregate Minerals'!$B$19:$N$300,13,FALSE))))) -> 1.1154517e+10 | M28: 2500000000 | O28: =IF(M28<=renewable_cutoff,L28,"") | P28: =IF(M28>renewable_cutoff,L28,"") -> 1.1154517e+10 | V28: =L28 -> 1.1154517e+10 | Y28: Weighted average of {Hydragillite/Gibbsite, Diaspore, Boehmite}. Concentration set to 11% Al in ground. | AA28: 0.11
A29: 1162 | B29: =CONCATENATE("Borax (Kernite); {", J29, "}; ", Z29," g/g in ground") -> Borax (Kernite); {Na2O2B2O34H2O}; 0.25 g/g in ground | C29: minerals and metals | D29: subsoil | E29: stock | F29: NA | G29: resource extraction | I29: g | J29: Na2O2B2O34H2O | K29: mineral | L29: =IF(K29="mineral",(IFERROR(VLOOKUP($A29,'Singular Minerals'!$B$12:$U$500,19,FALSE),IFERROR(VLOOKUP($A29,'Multiple Minerals'!$B$26:$U$309,19,FALSE),VLOOKUP($A29,'Aggregate Minerals'!$B$19:$N$300,13,FALSE)))),(IFERROR(VLOOKUP($A29,'Singular Minerals'!$B$12:$U$500,20,FALSE),IFERROR(VLOOKUP($A29,'Multiple Minerals'!$B$26:$U$309,20,FALSE),VLOOKUP($A29,'Aggregate Minerals'!$B$19:$N$300,13,FALSE))))) -> 6.6071066e+09 | M29: 2500000000 | O29: =IF(M29<=renewable_cutoff,L29,"") | P29: =IF(M29>renewable_cutoff,L29,"") -> 6.6071066e+09 | V29: =L29 -> 6.6071066e+09 | Y29: Approximated by Kernite. Estimating 25% B2O3 content. | Z29: 0.25
A30: 1136 | B30: =CONCATENATE("Cadmium in Greenockite; {", J30, "}; ", Z30," g/g in ground") -> Cadmium in Greenockite; {CdS}; 0.0018 g/g in ground | C30: minerals and metals | D30: subsoil | E30: stock | F30: NA | G30: resource extraction | I30: g | J30: CdS | K30: element | L30: =IF(K30="mineral",(IFERROR(VLOOKUP($A30,'Singular Minerals'!$B$12:$U$500,19,FALSE),IFERROR(VLOOKUP($A30,'Multiple Minerals'!$B$26:$U$309,19,FALSE),VLOOKUP($A30,'Aggregate Minerals'!$B$19:$N$300,13,FALSE)))),(IFERROR(VLOOKUP($A30,'Singular Minerals'!$B$12:$U$500,20,FALSE),IFERROR(VLOOKUP($A30,'Multiple Minerals'!$B$26:$U$309,20,FALSE),VLOOKUP($A30,'Aggregate Minerals'!$B$19:$N$300,13,FALSE))))) -> 1.2064153e+10 | M30: 2500000000 | O30: =IF(M30<=renewable_cutoff,L30,"") | P30: =IF(M30>renewable_cutoff,L30,"") -> 1.2064153e+10 | V30: =L30 -> 1.2064153e+10 | Y30: Mass ratio of the element in the mineral Greenockite | Z30: 0.0018
A31: 2009 | B31: =CONCATENATE("Cerium; {", J31, "}; ", Z31," g/g in ground") -> Cerium; {Ca(Ce0.4Ca0.2Y0.133)(Al2Fe3+)Si3O12(OH), Ce0.5La0.25Nd0.2Th0.05(PO4), La(CO3)F, and Ce0.75La0.25(PO4)H2O}; 0.1 g/g in ground | C31: minerals and metals | D31: subsoil | E31: stock | F31: NA | G31: resource extraction | I31: g | J31: =CONCATENATE('Multiple Minerals'!D126,", ",'Multiple Minerals'!D127, ", ",'Multiple Minerals'!D128,", and ",'Multiple Minerals'!D129) -> Ca(Ce0.4Ca0.2Y0.133)(Al2Fe3+)Si3O12(OH), Ce0.5La0.25Nd0.2Th0.05(PO4), La(CO3)F, and Ce0.75La0.25(PO4)H2O | K31: mineral | L31: =IF(K31="mineral",(IFERROR(VLOOKUP($A31,'Singular Minerals'!$B$12:$U$500,19,FALSE),IFERROR(VLOOKUP($A31,'Multiple Minerals'!$B$26:$U$309,19,FALSE),VLOOKUP($A31,'Aggregate Minerals'!$B$19:$N$300,13,FALSE)))),(IFERROR(VLOOKUP($A31,'Singular Minerals'!$B$12:$U$500,20,FALSE),IFERROR(VLOOKUP($A31,'Multiple Minerals'!$B$26:$U$309,20,FALSE),VLOOKUP($A31,'Aggregate Minerals'!$B$19:$N$300,13,FALSE))))) -> 4.5364884e+09 | M31: 2500000000 | O31: =IF(M31<=renewable_cutoff,L31,"") | P31: =IF(M31>renewable_cutoff,L31,"") -> 4.5364884e+09 | V31: =L31 -> 4.5364884e+09 | Y31: Weighted average of Orthide-Allanite, Monazite (Ce), Bastnaesite, and Rhabdophane. | Z31: 0.1
A32: 1071 | B32: =CONCATENATE("Chromium in Chromite; {", J32, "}; ", AA32," g/g in ground") -> Chromium in Chromite; {Fe2+Cr2O4}; 0.116 g/g in ground | C32: minerals and metals | D32: subsoil | E32: stock | F32: NA | G32: resource extraction | I32: g | J32: Fe2+Cr2O4 | K32: element | L32: =IF(K32="mineral",(IFERROR(VLOOKUP($A32,'Singular Minerals'!$B$12:$U$500,19,FALSE),IFERROR(VLOOKUP($A32,'Multiple Minerals'!$B$26:$U$309,19,FALSE),VLOOKUP($A32,'Aggregate Minerals'!$B$19:$N$300,13,FALSE)))),(IFERROR(VLOOKUP($A32,'Singular Minerals'!$B$12:$U$500,20,FALSE),IFERROR(VLOOKUP($A32,'Multiple Minerals'!$B$26:$U$309,20,FALSE),VLOOKUP($A32,'Aggregate Minerals'!$B$19:$N$300,13,FALSE))))) -> 9.3946215e+09 | M32: 2500000000 | O32: =IF(M32<=renewable_cutoff,L32,"") | P32: =IF(M32>renewable_cutoff,L32,"") -> 9.3946215e+09 | V32: =L32 -> 9.3946215e+09 | Y32: Mass ratio of Chromium within Chromite | AA32: 0.116
A33: 1262 | B33: =CONCATENATE("Sodalite, Chrysotile; {", J33, "}; ", Z33," g/g in ground") -> Sodalite, Chrysotile; {Mg3Si2O5(OH)4}; 0.1 g/g in ground | C33: minerals and metals | D33: subsoil | E33: stock | F33: NA | G33: resource extraction | I33: g | J33: Mg3Si2O5(OH)4 | K33: mineral | L33: =IF(K33="mineral",(IFERROR(VLOOKUP($A33,'Singular Minerals'!$B$12:$U$500,19,FALSE),IFERROR(VLOOKUP($A33,'Multiple Minerals'!$B$26:$U$309,19,FALSE),VLOOKUP($A33,'Aggregate Minerals'!$B$19:$N$300,13,FALSE)))),(IFERROR(VLOOKUP($A33,'Singular Minerals'!$B$12:$U$500,20,FALSE),IFERROR(VLOOKUP($A33,'Multiple Minerals'!$B$26:$U$309,20,FALSE),VLOOKUP($A33,'Aggregate Minerals'!$B$19:$N$300,13,FALSE))))) -> 1.8550238e+09 | M33: 2500000000 | O33: =IF(M33<=renewable_cutoff,L33,"") | P33: =IF(M33>renewable_cutoff,L33,"") -> 1.8550238e+09 | V33: =L33 -> 1.8550238e+09 | Y33: http://www.madehow.com/Volume-4/Asbestos.html (first estimate at mine grade concentration) | Z33: 0.1
A34: 1076 | B34: =CONCATENATE("Cinnabar; {", J34, "}; ", Z34," g/g in ground") -> Cinnabar; {HgS}; 0.01 g/g in ground | C34: minerals and metals | D34: subsoil | E34: stock | F34: NA | G34: resource extraction | I34: g | J34: HgS | K34: element | L34: =IF(K34="mineral",(IFERROR(VLOOKUP($A34,'Singular Minerals'!$B$12:$U$500,19,FALSE),IFERROR(VLOOKUP($A34,'Multiple Minerals'!$B$26:$U$309,19,FALSE),VLOOKUP($A34,'Aggregate Minerals'!$B$19:$N$300,13,FALSE)))),(IFERROR(VLOOKUP($A34,'Singular Minerals'!$B$12:$U$500,20,FALSE),IFERROR(VLOOKUP($A34,'Multiple Minerals'!$B$26:$U$309,20,FALSE),VLOOKUP($A34,'Aggregate Minerals'!$B$19:$N$300,13,FALSE))))) -> 8.241006e+09 | M34: 2500000000 | O34: =IF(M34<=renewable_cutoff,L34,"") | P34: =IF(M34>renewable_cutoff,L34,"") -> 8.241006e+09 | V34: =L34 -> 8.241006e+09 | Y34: 1% typical cinnabar ore grade concentration (Ballester et al., 1988) | Z34: 0.01
A35: 1174 | B35: =CONCATENATE("Cobalt; {", J35, "}; ", Z35," g/g in ground") -> Cobalt; {CoAs2, CoAsS, Co3S4}; 0.002 g/g in ground | C35: minerals and metals | D35: subsoil | E35: stock | F35: NA | G35: resource extraction | I35: g | J35: CoAs2, CoAsS, Co3S4 | K35: element | L35: =IF(K35="mineral",(IFERROR(VLOOKUP($A35,'Singular Minerals'!$B$12:$U$500,19,FALSE),IFERROR(VLOOKUP($A35,'Multiple Minerals'!$B$26:$U$309,19,FALSE),VLOOKUP($A35,'Aggregate Minerals'!$B$19:$N$300,13,FALSE)))),(IFERROR(VLOOKUP($A35,'Singular Minerals'!$B$12:$U$500,20,FALSE),IFERROR(VLOOKUP($A35,'Multiple Minerals'!$B$26:$U$309,20,FALSE),VLOOKUP($A35,'Aggregate Minerals'!$B$19:$N$300,13,FALSE))))) -> 1.0390041e+10 | M35: 2500000000 | O35: =IF(M35<=renewable_cutoff,L35,"") | P35: =IF(M35>renewable_cutoff,L35,"") -> 1.0390041e+10 | V35: =L35 -> 1.0390041e+10 | Y35: Cutoff grade of element Co is 0.20% (http://minerals.usgs.gov/minerals/pubs/commodity/cobalt/210400.pdf). | Z35: 0.002
A36: 1082 | B36: =CONCATENATE("Colemanite; {", J36, "}; ", Z36," g/g in ground") -> Colemanite; {Ca2B6O11(H2O)5}; 0.3076 g/g in ground | C36: minerals and metals | D36: subsoil | E36: stock | F36: NA | G36: resource extraction | I36: g | J36: Ca2B6O11(H2O)5 | K36: mineral | L36: =IF(K36="mineral",(IFERROR(VLOOKUP($A36,'Singular Minerals'!$B$12:$U$500,19,FALSE),IFERROR(VLOOKUP($A36,'Multiple Minerals'!$B$26:$U$309,19,FALSE),VLOOKUP($A36,'Aggregate Minerals'!$B$19:$N$300,13,FALSE)))),(IFERROR(VLOOKUP($A36,'Singular Minerals'!$B$12:$U$500,20,FALSE),IFERROR(VLOOKUP($A36,'Multiple Minerals'!$B$26:$U$309,20,FALSE),VLOOKUP($A36,'Aggregate Minerals'!$B$19:$N$300,13,FALSE))))) -> 3.3203376e+09 | M36: 2500000000 | O36: =IF(M36<=renewable_cutoff,L36,"") | P36: =IF(M36>renewable_cutoff,L36,"") -> 3.3203376e+09 | V36: =L36 -> 3.3203376e+09 | Y36: Alp (2009) average B2O3 content in colemanite ore 30.76% | Z36: =0.3076 -> 0.3076
A37: 1063 | B37: =CONCATENATE("Copper in Chalcopyrite; {", J37, "}; ", AA37," g/g in ground") -> Copper in Chalcopyrite; {CuFeS2}; 0.0099 g/g in ground | C37: minerals and metals | D37: subsoil | E37: stock | F37: NA | G37: resource extraction | I37: g | J37: CuFeS2 | K37: element | L37: =IF(K37="mineral",(IFERROR(VLOOKUP($A37,'Singular Minerals'!$B$12:$U$500,19,FALSE),IFERROR(VLOOKUP($A37,'Multiple Minerals'!$B$26:$U$309,19,FALSE),VLOOKUP($A37,'Aggregate Minerals'!$B$19:$N$300,13,FALSE)))),(IFERROR(VLOOKUP($A37,'Singular Minerals'!$B$12:$U$500,20,FALSE),IFERROR(VLOOKUP($A37,'Multiple Minerals'!$B$26:$U$309,20,FALSE),VLOOKUP($A37,'Aggregate Minerals'!$B$19:$N$300,13,FALSE))))) -> 1.3069355e+10 | M37: 2500000000 | O37: =IF(M37<=renewable_cutoff,L37,"") | P37: =IF(M37>renewable_cutoff,L37,"") -> 1.3069355e+10 | V37: =L37 -> 1.3069355e+10 | AA37: 0.0099
A38: 1064 | B38: =CONCATENATE("Copper in Chalcopyrite; {", J38, "}; ", AA38," g/g in ground") -> Copper in Chalcopyrite; {CuFeS2}; 0.0118 g/g in ground | C38: minerals and metals | D38: subsoil | E38: stock | F38: NA | G38: resource extraction | I38: g | J38: CuFeS2 | K38: element | L38: =IF(K38="mineral",(IFERROR(VLOOKUP($A38,'Singular Minerals'!$B$12:$U$500,19,FALSE),IFERROR(VLOOKUP($A38,'Multiple Minerals'!$B$26:$U$309,19,FALSE),VLOOKUP($A38,'Aggregate Minerals'!$B$19:$N$300,13,FALSE)))),(IFERROR(VLOOKUP($A38,'Singular Minerals'!$B$12:$U$500,20,FALSE),IFERROR(VLOOKUP($A38,'Multiple Minerals'!$B$26:$U$309,20,FALSE),VLOOKUP($A38,'Aggregate Minerals'!$B$19:$N$300,13,FALSE))))) -> 1.3447699e+10 | M38: 2500000000 | O38: =IF(M38<=renewable_cutoff,L38,"") | P38: =IF(M38>renewable_cutoff,L38,"") -> 1.3447699e+10 | V38: =L38 -> 1.3447699e+10 | AA38: 0.0118
A39: 1065 | B39: =CONCATENATE("Copper in Chalcopyrite; {", J39, "}; ", AA39," g/g in ground") -> Copper in Chalcopyrite; {CuFeS2}; 0.0142 g/g in ground | C39: minerals and metals | D39: subsoil | E39: stock | F39: NA | G39: resource extraction | I39: g | J39: CuFeS2 | K39: element | L39: =IF(K39="mineral",(IFERROR(VLOOKUP($A39,'Singular Minerals'!$B$12:$U$500,19,FALSE),IFERROR(VLOOKUP($A39,'Multiple Minerals'!$B$26:$U$309,19,FALSE),VLOOKUP($A39,'Aggregate Minerals'!$B$19:$N$300,13,FALSE)))),(IFERROR(VLOOKUP($A39,'Singular Minerals'!$B$12:$U$500,20,FALSE),IFERROR(VLOOKUP($A39,'Multiple Minerals'!$B$26:$U$309,20,FALSE),VLOOKUP($A39,'Aggregate Minerals'!$B$19:$N$300,13,FALSE))))) -> 1.3846682e+10 | M39: 2500000000 | O39: =IF(M39<=renewable_cutoff,L39,"") | P39: =IF(M39>renewable_cutoff,L39,"") -> 1.3846682e+10 | V39: =L39 -> 1.3846682e+10 | AA39: 0.0142
A40: 1066 | B40: =CONCATENATE("Copper in Chalcopyrite; {", J40, "}; ", AA40," g/g in ground") -> Copper in Chalcopyrite; {CuFeS2}; 0.0219 g/g in ground | C40: minerals and metals | D40: subsoil | E40: stock | F40: NA | G40: resource extraction | I40: g | J40: CuFeS2 | K40: element | L40: =IF(K40="mineral",(IFERROR(VLOOKUP($A40,'Singular Minerals'!$B$12:$U$500,19,FALSE),IFERROR(VLOOKUP($A40,'Multiple Minerals'!$B$26:$U$309,19,FALSE),VLOOKUP($A40,'Aggregate Minerals'!$B$19:$N$300,13,FALSE)))),(IFERROR(VLOOKUP($A40,'Singular Minerals'!$B$12:$U$500,20,FALSE),IFERROR(VLOOKUP($A40,'Multiple Minerals'!$B$26:$U$309,20,FALSE),VLOOKUP($A40,'Aggregate Minerals'!$B$19:$N$300,13,FALSE))))) -> 1.4780329e+10 | M40: 2500000000 | O40: =IF(M40<=renewable_cutoff,L40,"") | P40: =IF(M40>renewable_cutoff,L40,"") -> 1.4780329e+10 | V40: =L40 -> 1.4780329e+10 | AA40: 0.0219
...

Sheet Renewable Earth Flows
B4: Constants | D4: Primary flows
B5: 155.2 | C5: g/mol | D5: Average crustal molecular weight (Valero et al. 2012)
B6: 1.2e+25 | C6: sej/yr | D6: Geobiosphere emergy baseline (Brown et al. 2016)
B7: 1 | C7: sej/J | D7: Solar equivalent Joules of sunlight exergy
B8: 4900 | C8: sej/J | D8: Solar equivalent Joules of geothermal exergy (Brown et al., 2016)
B9: 30900 | C9: sej/J | D9: Solar equivalent Joules of tidal exergy (Brown et al., 2016)
B10: =AVERAGE(3.6E+24,3.85E+24) -> 3.725e+24 | C10: J/y | D10: Solar exergy absorbed (Brown et al. 2016)
B11: 9.515e+20 | C11: J/y | D11: Geothermal exergy Flows (Brown et al. 2016)
B12: 1.17e+20 | C12: J/y | D12: Geobiosphere tidal exergy absorbed (Brown et al. 2016)
B13: =B10*B7 -> 3.725e+24 | C13: seJ/y | D13: Global solar emergy (Brown et al. 2016)
B14: =B11*B8 -> 4.66235e+24 | C14: seJ/y | D14: Global geothermal exergy (Brown et al. 2016)
B15: =B12*B9 -> 3.6153e+24 | C15: seJ/y | D15: Global tidal emergy (Brown et al. 2016)
B16: 100 | C16: yrs | D16: Renewable cutoff threshold
B17: =273.15+14.1 -> 287.25 | C17: K | D17: 20th century average surface temperature of 14.1°C (http://www.ncdc.noaa.gov/sotc/global/2013/10)
B18: 510000000 | C18: km2 | D18: Earth surface area (NOAA;http://ngdc.noaa.gov/mgg/global/etopo1_ocean_volumes.html)
B19: 362000000 | C19: km2 | D19: Ocean surface area (NOAA;http://ngdc.noaa.gov/mgg/global/etopo1_ocean_volumes.html)
B20: =B18-B19 -> 148000000 | C20: km2 | D20: Land surface area including freshwater lakes (NOAA;http://ngdc.noaa.gov/mgg/global/etopo1_ocean_volumes.html)
B21: 9.81 | C21: m/s2 | D21: Gravity acceleration
B22: =60*60*24*365.25 -> 31557600 | C22: sec/yr | D22: T - time
B23: 155.2 | C23: g/mol | D23: Average molar mass of crust
B24: =crust_mass -> 2.17e+25 | C24: g/mol | D24: Crust mass
B25: =ave_crust_specific_emergy -> 1.3824885e+09 | C25: sej/g | D25: Average crust specific emergy
B26: 1.29e+18 | C26: m3 | D26: Ocean volume
B27: =28.97 -> 28.97 | C27: g/mol | D27: Ave atmosphere molar mass
B32: Wind transformity | D32: Secondary flow
B33: =GEB -> 1.2e+25 | C33: sej/yr | D33: Driving Emergy
B34: ='Land, Biomass & Soil'!G33 -> 1.2525898e+22 | C34: J/yr | D34: Surface wind energy dissipated over land (Lee and Brown, 2019)
B35: ='Land, Biomass & Soil'!G35+'Land, Biomass & Soil'!G36 -> 1.0551025e+22 | C35: J/yr | D35: Surface wind energy dissipated over ocean (Lee and Brown, 2019)
B36: =B34+B35 -> 2.3076923e+22 | C36: J/yr | D36: Total surface wind energy dissipation (Lee and Brown, 2019)
B37: =B33/B36 -> 520 | C37: sej/J | D37: Wind Transformity
B39: Waves transformity (and waves on the shore) | E39: Tertiary flow
B40: =B35 -> 1.0551025e+22 | C40: J/yr | D40: Wind energy input to oceans (computed as above)
B41: =B40*wind_tr -> 5.4865331e+24 | C41: sej/yr | D41: Emergy of wind energy input to oceans
B42: =68000000000000 -> 68000000000000 | C42: W/yr | D42: Wind energy transferred to the oceans (Rascale et al. 2008)
B43: =B22*B42 -> 2.1459168e+21 | C43: J/yr | D43: Wave energy
B44: =B43/B40 -> 0.20338467 | C44: % | D44: % of input transferred to waves
B45: =wind_tr -> 520 | C45: sej/J | D45: Wind transformity
B46: =ROUND(B41/B43,-2) -> 2600 | C46: sej/J | D46: Transformity of waves on the ocean surface
B47: 2400000000000 | C47: W/yr | D47: Wave energy transmitted to surf zone turbulence (Rascle et al., 2008)
B48: =B47*B22 -> 7.573824e+19 | C48: J/yr | D48: Wave energy dissipated in the surf zone assuming all transmitted is dissipated
...

Sheet Crust Element Composition
B2: Composition of the Crust
B3: Table 3.4 in Valero 2008 | H3: average molecular mass of an element in the crust
B4: Element | C4: g/g crust | D4: Common name | E4: Molar mass | F4: mole/g crust | H4: =SUMPRODUCT(C5:C81,E5:E81) -> 24.05809
B5: Ag | C5: 5.3e-08 | D5: Silver | E5: 107.8682 | F5: =C5/E5 -> 4.9134036e-10
B6: Al | C6: 0.0815 | D6: Aluminum | E6: 26.9815 | F6: =C6/E6 -> 0.0030205882
B7: As | C7: 4.8e-06 | D7: Arsenic | E7: 74.9216 | F7: =C7/E7 -> 6.4066971e-08
B8: Au | C8: 1.5e-09 | D8: Gold | E8: 196.9665 | F8: =C8/E8 -> 7.6155082e-12
B9: B | C9: 1.7e-05 | D9: Boron | E9: 10.811 | F9: =C9/E9 -> 1.5724725e-06
B10: Ba | C10: 0.000628 | D10: Barium | E10: 137.327 | F10: =C10/E10 -> 4.5730264e-06
B11: Be | C11: 2.1e-06 | D11: Beryllium | E11: 9.0122 | F11: =C11/E11 -> 2.3301747e-07
B12: Bi | C12: 1.6e-07 | D12: Bismuth | E12: 208.9804 | F12: =C12/E12 -> 7.6562204e-10
B13: Br | C13: 1.6e-06 | D13: Bromine | E13: 79.904 | F13: =C13/E13 -> 2.0024029e-08
B14: C | C14: 0.00199 | D14: Carbon | E14: 12.0107 | F14: =C14/E14 -> 0.0001656856
B15: Ca | C15: 0.0257 | D15: Calcium | E15: 40.078 | F15: =C15/E15 -> 0.00064124956
B16: Cd | C16: 9e-08 | D16: Cadmium | E16: 112.411 | F16: =C16/E16 -> 8.0063339e-10
... B81: Zr | C81: 0.000193 | D81: Zirconium | E81: 91.224 | F81: =C81/E81 -> 2.1156713e-06

Sheet Precipitation_Matrix Inversion
T1: 148000000000000 | U1: m2; Land area
B2: Volume (1000 km3) water | T2: 362000000000000 | U2: m2; Ocean area
B3: To | C3: S,T,DH | D3: Land | E3: Ocean | F3: L. Atmos | G3: O. Atmos | H3: Vector | T3: 3.7e+24 | U3: J/y; Solar energy absorbed (Brown et al. 2016)
A4: 1 | B4: S,T, DH | C4: 1 | D4: 0 | E4: 0 | F4: 0 | G4: 0 | H4: 1 | T4: 9.515e+20 | U4: J/y; Geothermal Flows (Brown et al. 2016)
A5: 2 | B5: Land | C5: =D15+D23+D31 -> 3.2877699e+24 | D5: -113 | E5: 0 | F5: 113 | G5: 0 | H5: 0 | T5: 1.17e+20 | U5: J/y; Tidal energy absorbed (Brown et al. 2016)
A6: 3 | B6: Ocean | C6: =D16+D24+D32 -> 7.5386645e+24 | D6: 40 | E6: -452.4 | F6: 0 | G6: 412 | H6: 0 | T6: 1.2e+25 | U6: seJ/y Global Emergy Baseline (Brown et al. 2016)
A7: 4 | B7: L. Atmos | C7: =D13+D21+D29 -> 4.5281746e+23 | D7: 73 | E7: 0 | F7: -113 | G7: 40 | H7: 0 | T7: 4900 | U7: seJ/J: SER of geothermal Exergy
A8: 5 | B8: O. Atmos | C8: =D14+D22+D30 -> 1.7688255e+23 | D8: 0 | E8: 413 | F8: 0 | G8: =-1*(G6+G5) -> -412 | H8: 0 | T8: 30900 | U8: seJ/J: SER of tidal energy absorbed
B9: * T, S and DH refer to Tide, Sun and Deep Heat emergy | T9: ='Renewable Earth Flows'!B13 -> 3.725e+24 | U9: seJ/y; global solar emergy (Brown et al. 2016b)
T10: ='Renewable Earth Flows'!B14 -> 4.66235e+24 | U10: seJ/y; global geothermal exergy (Brown et al. 2016b)
B11: Tidal emergy absorption | T11: ='Renewable Earth Flows'!B15 -> 3.6153e+24 | U11: seJ/y; global tidal emergy (Brown et al. 2016b)
B12: Unit | C12: % Absorbed | D12: Emergy (seJ/y)
B13: L. Atmos. | C13: =(0.02/3.7)*(T1/SUM(T1:T2)) -> 0.0015686275 | D13: =C13*T$11 -> 5.6710588e+21 | E13: 0.054% tide momentum dissipated in atmosphere. (Munk and Wunsch, 1998) | J13: Chemical Potential
B14: O. Atmos | C14: =(0.02/3.7)*(T2/SUM(T1:T2)) -> 0.003836778 | D14: =C14*T$11 -> 1.3871103e+22 | K14: TDS | L14: J/g | M14: J/1000 km3 | T14: This literature should be in the final page References, to avoid duplicate information and risk of errors.
B15: Land | C15: =0.2/3.7 -> 0.054054054 | D15: =C15*T$11 -> 1.9542162e+23 | E15: 5.4% tide momentum dissipated in land. (Munk and Wunsch, 1998) | J15: River | K15: 100 | L15: =(-8.314*287.25*LN((1000000-35000)/(1000000-K15))/18.01) -> 4.7110422 | M15: =(-8.314*287.25*LN((1000000-35000)/(1000000-K15))/18.01)*1000000000000000000 -> 4.7110422e+18 | T15: Literature Cited:
B16: Ocean | C16: =1-C13-C14-C15 -> 0.94054054 | D16: =C16*T$11 -> 3.4003362e+24 | J16: Ocean | K16: 35000 | L16: =(-8.314*287.25*LN((1000000-35000)/(1000000-K16))/18.01) -> 0 | M16: =(-8.314*287.25*LN((1000000-35000)/(1000000-K16))/18.01)*1000000000000000000 -> 0 | T16: Munk, W., and Wunsch, C., 1998. Abyssal recipes II: Energetics of tidal and wind mixing. Deep-Sea Research I, 45: 1977-2010
C17: =C13+C14+C15+C16 -> 1 | D17: =SUM(D13:D16) -> 3.6153e+24 | J17: Precipitation | K17: 10 | L17: =(-8.314*287.25*LN((1000000-35000)/(1000000-K17))/18.01) -> 4.7229772 | M17: =(-8.314*287.25*LN((1000000-35000)/(1000000-K17))/18.01)*1000000000000000000 -> 4.7229772e+18 | T17: Trenberth K E Smith, L., Qian, T., Dai, A., Fasullo, J., 2007. Estimates of the global water budget and its annual cycle using observational and model data J. Hydrometeorology. 8 758–69
J18: ET vs. Precipitation | K18: 0.01 | L18: =(-8.314*287.25*LN((1000000-10)/(1000000-K18))/18.01) -> 0.0013247197 | M18: =(-8.314*287.25*LN((1000000-10)/(1000000-K18))/18.01)*1000000000000000000 -> 1.3247197e+15 | T18: Hofmeister, A.M. & Criss, R.E. (2005) Earth’s heat flux revisited and linked to chemistry. Tectonophysics. 395, 159-177
B19: Geothermal emergy absorption
B20: Unit | C20: % Absorbed | D20: Emergy (seJ/y)
B21: L. Atmos. | C21: =8%*0.3 -> 0.024 | D21: =T$10*C21 -> 1.118964e+23 | E21: 8% geothermal absorbance in Atmosphere (estimate)
B22: O. Atmos | C22: =1%*0.7 -> 0.007 | D22: =T$10*C22 -> 3.263645e+22 | T22: Constants above should be linked to those in page Renewable Earth Flows.
B23: Land | C23: 0.495 | D23: =T$10*C23 -> 2.3078633e+24 | E23: heat loss to land and ocean is about equal (Hoffmeister and Criss, 2005) | T23: If these will change, also this page would change without risf of errors.
B24: Ocean | C24: 0.495 | D24: =T$10*C24 -> 2.3078633e+24 | E24: heat loss to land and ocean is about equal (Hoffmeister and Criss, 2005) | T24: In so doing, this page will be more simple, without the Table of constants.
C25: =C21+C22+C23+C24 -> 1.021 | D25: =SUM(D21:D24) -> 4.7602593e+24
B27: Solar Emergy absorption
B28: Unit | C28: % Absorbed | D28: Emergy (seJ/y)
B29: L. Atmos. | C29: =30%*0.3 -> 0.09 | D29: =T$9*C29 -> 3.3525e+23 | E29: 30% Solar radiation absorbed by atmosphere (Trenberth et al.;2009)
B30: O. Atmos | C30: =5%*0.7 -> 0.035 | D30: =T$9*C30 -> 1.30375e+23
B31: Land | C31: =0.702*0.3 -> 0.2106 | D31: =T$9*C31 -> 7.84485e+23
B32: Ocean | C32: =0.702*0.7 -> 0.4914 | D32: =T$9*C32 -> 1.830465e+24
C33: =C29+C30+C31+C32 -> 0.827 | D33: =SUM(D29:D32) -> 3.080575e+24
B35: Available Energy (J/yr)
B36: To | C36: S,T,DH | D36: Land | E36: Ocean | F36: L. Atmos | G36: O. Atmos | H36: Vector | I36: Transformity (sej/J)
A37: 1 | B37: S,T, DH | C37: 1 | D37: 0 | E37: 0 | F37: 0 | G37: 0 | H37: 1 | I37: {=MMULT(MINVERSE(C37:G41),H37:H41)} -> 1
A38: 2 | B38: Land | C38: =C5 -> 3.2877699e+24 | D38: =D5*M17 -> -5.3369642e+20 | E38: 0 | F38: =F5*M17 -> 5.3369642e+20 | G38: =G5*M17 -> 0 | H38: 1 | I38: 7010.1091
A39: 3 | B39: Ocean | C39: =C6 -> 7.5386645e+24 | D39: =D6*M15 -> 1.8844169e+20 | E39: =E6*M17 -> -2.1366749e+21 | F39: 0 | G39: =G6*M17 -> 1.9458666e+21 | H39: 1 | I39: 4230.3386
A40: 4 | B40: L. Atmos | C40: =C7 -> 4.5281746e+23 | D40: =D7*(M18) -> 9.6704541e+16 | E40: 0 | F40: =F7*M17 -> -5.3369642e+20 | G40: =G7*M18 -> 5.2988789e+16 | H40: 1 | I40: 849.73448
A41: 5 | B41: O. Atmos | C41: =C8 -> 1.7688255e+23 | D41: 0 | E41: =E8*(M18) -> 5.4710925e+17 | F41: 0 | G41: =G8*M17 -> -1.9458666e+21 | H41: 1 | I41: 92.091108

Sheet Water
B2: Table 1: Global average mixing exergy, specific emergy, and transformity of various freshwater storages
J3: Annual Flux
B4: Type | C4: Distribution area 1. (E3km2) | D4: Volume1. (E3km3) | E4: % total | F4: % freshwater | G4: Turnover1. (yrs) | H4: TDS2. (mg/l) | I4: Exergy3. (J/g) | J4: Mass (g/yr) | K4: Chem. Pot. ( J/yr) | L4: Driving Emergy4. (sej/yr) | M4: Specific Emergy5. (sej/g) | N4: Transformity6. (sej/J)
B5: World Ocean | C5: 361300 | D5: 1338000 | E5: =D5/$D$27 -> 0.96354364 | F5: - - | G5: 2500 | H5: 35000 | J5: =D5*1000000000000*1000000/G5 -> 5.352e+20 | K5: =I5*J5 -> 0 | L5: 1.2e+25 | M5: =L5/J5 -> 22421.525
B6: Ground water (gravity and capillary) | C6: 134800 | D6: 25400 | E6: =D6/$D$27 -> 0.018291486 | F6: =D6/$D$28 -> 0.69268716 | G6: 1400 | H6: =335 -> 335 | I6: =gas_constant*Surface_Temperature/18.01*LN((1000000-H6)/965000) -> 4.6798735 | J6: =D6*1000000000000*1000000/G6 -> 1.8142857e+19 | K6: =I6*J6 -> 8.4906276e+19 | L6: =GEB -> 1.2e+25 | M6: =L6/J6 -> 661417.32 | N6: =ROUND((M6/I6),-3) -> 141000
B7: Predominantly fresh ground water | C7: 134800 | D7: 11530 | E7: =D7/$D$27 -> 0.0083031824 | F7: =D7/$D$28 -> 0.31443634 | G7: 1400 | H7: 335 | I7: =gas_constant*Surface_Temperature/18.01*LN((1000000-H7)/965000) -> 4.6798735 | J7: =D7*1000000000000*1000000/G7 -> 8.2357143e+18 | K7: =I7*J7 -> 3.8542101e+19 | L7: =GEB -> 1.2e+25 | M7: =L7/J7 -> 1457068.5 | N7: =ROUND((M7/I7),-3) -> 311000
B8: Soil moisture | C8: 82000 | D8: 16.5 | E8: =D8/$D$27 -> 1.1882265e-05 | F8: =D8/$D$28 -> 0.00044997394 | G8: 1 | H8: 10 | I8: =gas_constant*Surface_Temperature/18.01*LN((1000000-H8)/965000) -> 4.7229772 | J8: =D8*1000000000000*1000000/G8 -> 1.65e+19 | K8: =I8*J8 -> 7.7929123e+19 | L8: =GEB -> 1.2e+25 | M8: =L8/J8 -> 727272.73 | N8: =ROUND((M8/I8),-3) -> 154000
B9: Glaciers and permanent snow cover | C9: 16277.5 | D9: 24064 | E9: =D9/$D$27 -> 0.017329383 | F9: =D9/$D$28 -> 0.65625291 | G9: =SUMPRODUCT(F10:F13,G10:G13)/F9 -> 9686.3743 | H9: 10 | I9: =gas_constant*Surface_Temperature/18.01*LN((1000000-H9)/965000) -> 4.7229772 | J9: =D9*1000000000000*1000000/G9 -> 2.4843145e+18 | K9: =I9*J9 -> 1.1733361e+19 | L9: =GEB -> 1.2e+25 | M9: =L9/J9 -> 4830306.3 | N9: =ROUND((M9/I9),-3) -> 1023000
B10: - Antarctica | C10: 13980 | D10: 21600 | E10: =D10/$D$27 -> 0.015554965 | F10: =D10/$D$28 -> 0.5890568 | G10: 9700 | H10: 10 | I10: =gas_constant*Surface_Temperature/18.01*LN((1000000-H10)/965000) -> 4.7229772 | J10: =D10*1000000000000*1000000/G10 -> 2.2268041e+18 | K10: =I10*J10 -> 1.0517145e+19 | L10: =GEB -> 1.2e+25 | M10: =L10/J10 -> 5388888.9 | N10: =ROUND((M10/I10),-3) -> 1141000
B11: - Greenland | C11: 1802.4 | D11: 2340 | E11: =D11/$D$27 -> 0.0016851212 | F11: =D11/$D$28 -> 0.063814486 | G11: 9700 | H11: 10 | I11: =gas_constant*Surface_Temperature/18.01*LN((1000000-H11)/965000) -> 4.7229772 | J11: =D11*1000000000000*1000000/G11 -> 2.4123711e+17 | K11: =I11*J11 -> 1.1393574e+18 | L11: =GEB -> 1.2e+25 | M11: =L11/J11 -> 49743590 | N11: =ROUND((M11/I11),-3) -> 10532000
B12: - Arctic Islands | C12: 226.1 | D12: 83.5 | E12: =D12/$D$27 -> 6.013146e-05 | F12: =D12/$D$28 -> 0.0022771409 | G12: 9700 | H12: 10 | I12: =gas_constant*Surface_Temperature/18.01*LN((1000000-H12)/965000) -> 4.7229772 | J12: =D12*1000000000000*1000000/G12 -> 8.6082474e+15 | K12: =I12*J12 -> 4.0656556e+16 | L12: =GEB -> 1.2e+25 | M12: =L12/J12 -> 1.394012e+09 | N12: =ROUND((M12/I12),-3) -> 295155000
B13: - Mountainous regions | C13: 224 | D13: 40.6 | E13: =D13/$D$27 -> 2.9237572e-05 | F13: =D13/$D$28 -> 0.0011072086 | G13: 1600 | H13: 10 | I13: =gas_constant*Surface_Temperature/18.01*LN((1000000-H13)/965000) -> 4.7229772 | J13: =D13*1000000000000*1000000/G13 -> 2.5375e+16 | K13: =I13*J13 -> 1.1984555e+17 | L13: 1.2e+25 | M13: =L13/J13 -> 4.729064e+08 | N13: =ROUND((M13/I13),-3) -> 100129000
B14: Ground ice of permafrost zone | C14: 21000 | D14: 300 | E14: =D14/$D$27 -> 0.00021604117 | F14: =D14/$D$28 -> 0.0081813444 | G14: 10000 | H14: 10 | I14: =gas_constant*Surface_Temperature/18.01*LN((1000000-H14)/965000) -> 4.7229772 | J14: =D14*1000000000000*1000000/G14 -> 3e+16 | K14: =I14*J14 -> 1.4168932e+17 | L14: 1.2e+25 | M14: =L14/J14 -> 400000000 | N14: =ROUND((M14/I14),-3) -> 84692000
B15: Lakes | C15: 2058.7 | D15: 176.4 | E15: =D15/$D$27 -> 0.00012703221 | F15: =D15/$D$28 -> 0.0048106305 | G15: 17 | H15: 10000 | I15: =gas_constant*Surface_Temperature/18.01*LN((1000000-H15)/965000) -> 3.3915893 | J15: =D15*1000000000000*1000000/G15 -> 1.0376471e+19 | K15: =I15*J15 -> 3.5192727e+19 | L15: ='Renewable Earth Flows'!$B$64 -> 1.2005952e+25 | M15: =L15/J15 -> 1157036.2 | N15: =ROUND((M15/I15),-3) -> 341000
B16: - Fresh | C16: 1236.4 | D16: 91 | E16: =D16/$D$27 -> 6.5532489e-05 | F16: =D16/$D$28 -> 0.0024816745 | G16: 17 | H16: 200 | I16: =gas_constant*Surface_Temperature/18.01*LN((1000000-H16)/965000) -> 4.6977798 | J16: =D16*1000000000000*1000000/G16 -> 5.3529412e+18 | K16: =I16*J16 -> 2.5146939e+19 | L16: ='Renewable Earth Flows'!$B$64 -> 1.2005952e+25 | M16: =L16/J16 -> 2242870.1 | N16: =ROUND((M16/I16),-3) -> 477000
B17: - Salt | C17: 822.3 | D17: 85.4 | E17: =D17/$D$27 -> 6.1499721e-05 | F17: =D17/$D$28 -> 0.002328956 | G17: 17 | I17: =gas_constant*Surface_Temperature/18.01*LN((1000000-H17)/965000) -> 4.7243032 | J17: =D17*1000000000000*1000000/G17 -> 5.0235294e+18 | K17: =I17*J17 -> 2.3732676e+19 | L17: ='Renewable Earth Flows'!$B$64 -> 1.2005952e+25 | M17: =L17/J17 -> 2389943.5 | N17: =ROUND((M17/I17),-3) -> 506000
B18: Swamp and bogs | C18: 2682.6 | D18: 11.5 | E18: =D18/$D$27 -> 8.2815783e-06 | F18: =D18/$D$28 -> 0.0003136182 | G18: 5 | H18: 50 | I18: =gas_constant*Surface_Temperature/18.01*LN((1000000-H18)/965000) -> 4.7176729 | J18: =D18*1000000000000*1000000/G18 -> 2.3e+18 | K18: =I18*J18 -> 1.0850648e+19 | L18: ='Renewable Earth Flows'!$B$64 -> 1.2005952e+25 | M18: =L18/J18 -> 5219979 | N18: =ROUND((M18/I18),-3) -> 1106000
B19: River/stream | C19: 148800 | D19: 2.12 | E19: =D19/$D$27 -> 1.526691e-06 | F19: =D19/$D$28 -> 5.7814834e-05 | G19: =21/365.25 -> 0.057494867 | H19: 100 | I19: =gas_constant*Surface_Temperature/18.01*LN((1000000-H19)/965000) -> 4.7110422 | J19: =D19*1000000000000*1000000/G19 -> 3.6872857e+19 | K19: =I19*J19 -> 1.7370958e+20 | L19: ='Renewable Earth Flows'!$B$64 -> 1.2005952e+25 | M19: =L19/J19 -> 325604.05 | N19: =ROUND((M19/I19),-3) -> 69000
B20: Biological | C20: 510000 | D20: 1.12 | E20: =D20/$D$27 -> 8.0655372e-07 | F20: =D20/$D$28 -> 3.0543686e-05 | G20: =1/365.25 -> 0.0027378508 | H20: 9000 | I20: =gas_constant*Surface_Temperature/18.01*LN((1000000-H20)/965000) -> 3.5254651 | J20: =D20*1000000000000*1000000/G20 -> 4.0908e+20 | K20: =I20*J20 -> 1.4421973e+21 | L20: ='Renewable Earth Flows'!$B$64 -> 1.2005952e+25 | M20: =L20/J20 -> 29348.664 | N20: =ROUND((M20/I20),-3) -> 8000
B21: Terrestrial Precipitation | C21: 148000 | D21: 113 | G21: 1 | H21: 10 | I21: =gas_constant*Surface_Temperature/18.01*LN((1000000-H21)/965000) -> 4.7229772 | J21: =D21*1000000000000*1000000/G21 -> 1.13e+20 | K21: =I21*J21 -> 5.3369642e+20 | L21: 1.2e+25 | M21: =L21/J21 -> 106194.69 | N21: =ROUND((M21/I21),-2) -> 22500
B22: Ocean Precipitation | C22: 362000 | D22: 413 | G22: 1 | H22: 10 | I22: =gas_constant*Surface_Temperature/18.01*LN((1000000-H22)/965000) -> 4.7229772 | J22: =D22*1000000000000*1000000/G22 -> 4.13e+20 | K22: =I22*J22 -> 1.9505896e+21 | L22: 1.2e+25 | M22: =L22/J22 -> 29055.69 | N22: =ROUND((M22/I22),-3) -> 6000
B23: Runoff to the sea | C23: 148000 | D23: ='Water Notes'!F30 -> 39.9 | G23: 1 | H23: 100 | I23: =gas_constant*Surface_Temperature/18.01*LN((1000000-H23)/965000) -> 4.7110422 | J23: =D23*1000000000000*1000000/G23 -> 3.99e+19 | K23: =I23*J23 -> 1.8797058e+20 | L23: ='Renewable Earth Flows'!$B$64 -> 1.2005952e+25 | M23: =L23/J23 -> 300901.04 | N23: =ROUND((M23/I23),-2) -> 63900
B24: Evapotranspiration on land | C24: 148000 | D24: ='Water Notes'!E30 -> 73.1 | G24: 1 | H24: 10 | I24: =gas_constant*Surface_Temperature/18.01*LN((1000000-H24)/965000) -> 4.7229772 | J24: =D24*1000000000000*1000000/G24 -> 7.31e+19 | K24: =I24*J24 -> 3.4524963e+20 | L24: 1.2e+25 | M24: =L24/J24 -> 164158.69 | N24: =ROUND((M24/I24),-2) -> 34800
B25: Atmosphere | C25: 510000 | D25: 13.45 | E25: =D25/$D$27 -> 9.685846e-06 | F25: =D25/$D$28 -> 0.00036679694 | G25: =8/365.25 -> 0.021902806 | H25: 10 | I25: =gas_constant*Surface_Temperature/18.01*LN((1000000-H25)/965000) -> 4.7229772 | J25: =D25*1000000000000*1000000/G25 -> 6.1407656e+20 | K25: =I25*J25 -> 2.9002696e+21 | L25: 1.2e+25 | M25: =L25/J25 -> 19541.537 | N25: =ROUND((M25/I25),-2) -> 4100
B27: Total | C27: 510000 | D27: =SUM(D5:D25)-D15-D9-D7 -> 1388624.2
B28: Total freshwater | C28: 148800 | D28: =SUM(D6:D25)-D9-D15-D6-D17 -> 36668.79
B30: 1. data from Shiklomanov,I. A. and J. C. Rodda, 2003. World water resources at the beginning of the twenty-first century. Cambridge University Press, 435 p.
B31: 2. Estimates based on interpretation of data from Brezonik and Arnold (2011), Hem (1989), Leisenring et al. (2011), Meybeck et al. (1989) and Milliman and Farnsworth (2011) dan added references to check numbers
B32: 3. Gibbs energy = RT/w ln(ci/965,000); Give value for universal gas constant and temperature defeind somewhere on sheet?
B33: 4. Driving emergy for rain, vapor, glaciers, and ground ice, is the GEB (Em= 1.2E+25 sej/yr). Other terrestrial freshwater storages are driven by terrestrial precipitation (Em= 3.64E+24 sej/yr ).
B34: 5. Specific emergy is the ratio of the driving emergy to the annual mass flux. Values for Precipitation, Runoff and ET calculated using Matrix Method
B35: 6. The global average transformity of a fresh water body is the ratio of its average specific emergy to its Gibb’s free energy . This is the same as the emergy base divided by the Gibbs free energyt of the flow.
B36: 7. Driving emergy determined using matrix method. See Precipitation _Matrix Inversion tab

Sheet Water Notes
B4: Hyrologial Cycle
B5: Terrestrial Precipitation | C5: 148000 | D5: 113 | G5: 1 | H5: 10 | I5: =gas_constant*Surface_Temperature/18.01*LN((1000000-H5)/965000) -> 4.7229772 | J5: =D5*1000000000000*1000000/G5 -> 1.13e+20 | K5: =I5*J5 -> 5.3369642e+20 | L5: 1.2e+25 | M5: =L5/((D5*1000*1000000000*1000000)/G5) -> 106194.69 | N5: =ROUND((M5/I5),-2) -> 22500 | O5: Rain on land
B6: Ocean Precipitation | C6: 362000 | D6: 413 | G6: 1 | H6: 10 | I6: =gas_constant*Surface_Temperature/18.01*LN((1000000-H6)/965000) -> 4.7229772 | J6: =D6*1000000000000*1000000/G6 -> 4.13e+20 | K6: =I6*J6 -> 1.9505896e+21 | L6: ='Renewable Earth Flows'!#REF! -> #REF! | M6: =L6/((D6*1000*1000000000*1000000)/G6) -> #REF! | N6: =ROUND((M6/I6),-2) -> #REF! | O6: Rain on oceans
B7: Runoff to the sea | C7: 148000 | D7: =F30 -> 39.9 | G7: 1 | H7: 100 | I7: =gas_constant*Surface_Temperature/18.01*LN((1000000-H7)/965000) -> 4.7110422 | J7: =D7*1000000000000*1000000/G7 -> 3.99e+19 | K7: =I7*J7 -> 1.8797058e+20 | L7: 1.2e+25 | M7: =L7/((D7*1000*1000000000*1000000)/G7) -> 300751.88 | N7: =ROUND((M7/I7),-2) -> 63800 | O7: runoff to sea
B8: Evapotranspiration | C8: 148000 | D8: =E30 -> 73.1 | G8: 1 | H8: 10 | I8: =gas_constant*Surface_Temperature/18.01*LN((1000000-H8)/965000) -> 4.7229772 | J8: =D8*1000000000000*1000000/G8 -> 7.31e+19 | K8: =I8*J8 -> 3.4524963e+20 | L8: 1.2e+25 | M8: =L8/((D8*1000*1000000000*1000000)/G8) -> 164158.69 | N8: =ROUND((M8/I8),-2) -> 34800 | O8: ET on land
B13: From Marcinek (2007) Hydrological cycle
B14: Author of budget | C14: Time of study | D14: precip. land | E14: evap. land | F14: sea to land | G14: Evap. Sea | H14: precip sea | I14: global balance
B15: M. I. Budyko u. a. (bei Dyck 1968) | C15: 1968 | D15: 107 | E15: 61 | F15: 46 | G15: 449 | H15: 403 | I15: 510
B16: V. I. Korzun u. a. | C16: 1974 | D16: 119 | E16: 72 | F16: 47 | G16: 505 | H16: 458 | I16: 577
B17: M. I. L’voviè | C17: 1974 | D17: 113.5 | E17: 72.5 | F17: 41 | G17: 452.6 | H17: 411.6 | I17: 525.1
B18: A. Baumgartner u. E. Reichel | C18: 1975 | D18: 111.1 | E18: 71.4 | F18: 39.7 | G18: 424.7 | H18: 385 | I18: 496.1
B19: R. K. Klige u. a. (updated) | C19: 1998 | D19: 119.83 | E19: 69.91 | F19: 50.53 | G19: 507.15 | H19: 457.23 | I19: 577.06
B20: M. T. Chahine | C20: 1992 | D20: 107 | E20: 71 | F20: 36 | G20: 434 | H20: 398 | I20: 505
B21: I. A. Shiklomanov | C21: 1998 | D21: 119 | E21: 74 | F21: 45 | G21: 503 | H21: 458 | I21: 577
B22: T. Oki | C22: 1999 | D22: 115 | E22: 75 | F22: 40 | G22: 431 | H22: 391 | I22: 506
B23: K. E. Trenberth et al | C23: 2006 | D23: 113 | E23: 73 | F23: 40 | G23: 413 | H23: 373 | I23: 486
B24: Average | D24: =AVERAGE(D15:D23) -> 113.82556 | E24: =AVERAGE(E15:E23) -> 71.09 | F24: =AVERAGE(F15:F23) -> 42.803333 | G24: =AVERAGE(G15:G23) -> 457.71667 | H24: =AVERAGE(H15:H23) -> 414.98111 | I24: =AVERAGE(I15:I23) -> 528.80667 | J24: =D24+H24 -> 528.80667 | K24: =E24+G24 -> 528.80667 | L24: =D6+D5 -> 526 | M24: =G24+E24 -> 528.80667 | N24: =(L24-M24)/L24 -> -0.0053358682
B25: Standard deviation | D25: =_xlfn.STDEV.P(D15:D23) -> 4.6233108 | E25: =_xlfn.STDEV.P(E15:E23) -> 3.8517702 | F25: =_xlfn.STDEV.P(F15:F23) -> 4.3107463 | G25: =_xlfn.STDEV.P(G15:G23) -> 35.273613 | H25: =_xlfn.STDEV.P(H15:H23) -> 31.912954 | I25: =_xlfn.STDEV.P(I15:I23) -> 35.480898
B26: Maximum | D26: =MAX(D15:D23) -> 119.83 | E26: =MAX(E15:E23) -> 75 | F26: =MAX(F15:F23) -> 50.53 | G26: =MAX(G15:G23) -> 507.15 | H26: =MAX(H15:H23) -> 458 | I26: =MAX(I15:I23) -> 577.06
B27: Minimum | D27: =MIN(D15:D23) -> 107 | E27: =MIN(E15:E23) -> 61 | F27: =MIN(F15:F23) -> 36 | G27: =MIN(G15:G23) -> 413 | H27: =MIN(H15:H23) -> 373 | I27: =MIN(I15:I23) -> 486
B28: % difference between average and Emcf data | D28: =(D5-D24)/D5 -> -0.0073058014 | F28: =(D7-F24)/D7 -> -0.072765246 | H28: =(D6-H24)/D6 -> -0.0047968792
H29: .
B30: This Study assuming hydrological balance | D30: 113 | E30: =D30-F30 -> 73.1 | F30: 39.9 | G30: =H30+F30 -> 452.9 | H30: 413

Sheet Singular Minerals
A2: * See Section 7.1 in the companion report (The Unit Emergy Value (UEV) Library for Characterizing Environmental Support in Life Cycle Assessment) for the background information and underlying methods | K2: Average molar mass of crust: | L2: 155.2 | M2: g/mol | N2: (Valero et al., 2012)
K3: Crust mass: | L3: =crust_mass -> 2.17e+25 | M3: g/mol
K4: Average crust specific emergy: | L4: =ave_crust_specific_emergy -> 1.3824885e+09 | M4: sej/g | R4: Fraction of Crust represented by minable concentrations: | S4: =SUMIF(O12:O327,">0",H12:H327) -> 0.68957504
K5: Total Gibbs free exergy: | L5: =-1000*SUMPRODUCT(F12:F327,I12:I327) -> 11660.3 | M5: J/g | R5: Total crustal concentration exergy: | S5: =SUMPRODUCT(Q12:Q327,G12:G327)/S4 -> 25.024696 | T5: J/g
K6: Average Gibbs crustal transformity: | L6: =L4/L5 -> 118563.71 | M6: sej/J | R6: Average concentration exergy crustal transformity: | S6: =ave_crust_specific_emergy/S5 -> 55244967 | T6: sej/J
C7: *** DO NOT sort this list - the linked ECFs depend on this arragnement. Any sorting must be undone. They are not currently perfectly alphebetized.
C8: Table 1. EmCFs for singular minerals
C9: 1 | D9: =C9+1 -> 2 | E9: =D9+1 -> 3 | F9: =E9+1 -> 4 | G9: =F9+1 -> 5 | H9: =G9+1 -> 6 | I9: =H9+1 -> 7 | J9: =I9+1 -> 8 | K9: =J9+1 -> 9 | ... T9: =S9+1 -> 18
B10: =MAX(B12:B327) -> 1316 | F10: @ ave abundance | O10: @ mine abundance
B11: ID | C11: Mineral | D11: Formula | E11: Molar mass of mineral (gmineral/molmineral) | F11: Molar Conc. (molmineral/gcrust) | G11: Mineral concentration gmineral/gcrust | H11: Molar fraction (molmineral/molcrust) | I11: Gibbs Formation Exergymineral (kJ/molmineral) | J11: Mineral Chemical Exergymineral (bch) (kJ/molmineral) | K11: Gibbs Formation Exergymineral (J/gmineral) | L11: Chemical Specific Emergy (sej/gmineral) | M11: Element | N11: % element | O11: Mine Concentration (gmineral/gcrust) | P11: Molar fraction (molmineral_mine / molcrust) | Q11: Concentration exergy (J/gmineral) | R11: Total Concentration Exergy (J/yr) | S11: Concentration Specific Emergy (sej/gmineral) | T11: Mineral Specific Emergy (sej/gmineral) | U11: Element Specific Emergy (sej/gmineral)
B12: 1001 | C12: Acanthite | D12: Ag2S | E12: 247.8019 | F12: 2.74e-11 | G12: =F12*E12 -> 6.7897721e-09 | H12: =F12*$L$2 -> 4.25248e-09 | I12: -40.3 | J12: 706.05 | K12: =-I12*1000/E12 -> 162.62991 | L12: =IF(ISNUMBER(K12),$L$6*K12,0) -> 19282005 | P12: =IF(ISNUMBER(O12),(O12/E12)/(1/$L$2),"") | Q12: =IF(ISNUMBER(O12),standard_temperature*gas_constant*LN(P12/H12)/E12,"") | R12: =IF(ISNUMBER(Q12),Q12*$G12*crust_mass/crust_age,"") | S12: =IF(ISNUMBER(O12),$S$6*Q12,"") | T12: =MAX(L12,S12) -> 19282005 | U12: =IF(ISNUMBER(N12),T12/N12,"")
B13: 1002 | C13: Actinolite | D13: Ca2Mg3Fe2Si8O22(OH)2 | E13: 875.45 | F13: 2.82e-06 | G13: =F13*E13 -> 0.002468769 | H13: =F13*$L$2 -> 0.000437664 | I13: -10801.5 | J13: 616.52 | K13: =-I13*1000/E13 -> 12338.226 | L13: =IF(ISNUMBER(K13),$L$6*K13,0) -> 1.4628659e+09 | P13: =IF(ISNUMBER(O13),(O13/E13)/(1/$L$2),"") | Q13: =IF(ISNUMBER(O13),standard_temperature*gas_constant*LN(P13/H13)/E13,"") | R13: =IF(ISNUMBER(Q13),Q13*$G13*crust_mass/crust_age,"") | S13: =IF(ISNUMBER(O13),$S$6*Q13,"") | T13: =MAX(L13,S13) -> 1.4628659e+09 | U13: =IF(ISNUMBER(N13),T13/N13,"")
B14: 1003 | C14: Aegirine | D14: NaFe3+Si2O6 | E14: 231 | F14: 1.32e-05 | G14: =F14*E14 -> 0.0030492 | H14: =F14*$L$2 -> 0.00204864 | I14: -2417.2 | J14: 16.61 | K14: =-I14*1000/E14 -> 10464.069 | L14: =IF(ISNUMBER(K14),$L$6*K14,0) -> 1.2406589e+09 | P14: =IF(ISNUMBER(O14),(O14/E14)/(1/$L$2),"") | Q14: =IF(ISNUMBER(O14),standard_temperature*gas_constant*LN(P14/H14)/E14,"") | R14: =IF(ISNUMBER(Q14),Q14*$G14*crust_mass/crust_age,"") | S14: =IF(ISNUMBER(O14),$S$6*Q14,"") | T14: =MAX(L14,S14) -> 1.2406589e+09 | U14: =IF(ISNUMBER(N14),T14/N14,"")
