Workbook
Name Sites: OFFSET(Lists!$C$2,0,0,SUMPRODUCT(--(Lists!$C$2:$C$101<>"")),1)

Sheet Welcome
A1: DO NOT REMOVE OR EDIT INFORMATION IN ROWS 1 THORUGH 5 FOR INTERNAL USE ONLY
A2: Template Name | B2: 63.506(e)(6) Periodic Report (Spreadsheet Template)
A3: CitationID | B3: 63.506(e)(6)
A4: Template Version | B4: v1.00
A5: Last Updated Date | B5: 45441
B6: OMB Control Numbers: 2060-0665 Form 5900-701 For further Paperwork Reduction Act information see: https://www.epa.gov/electronic-reporting-air-emissions/paperwork-reduction-act-pra-cedri-and-ert
B7: For further Paperwork Reduction Act information see: https://www.epa.gov/electronic-reporting-air-emissions/paperwork-reduction-act-pra-cedri-and-ert
A8: blank | B8: 40 CFR Part 63, Subpart U - National Emission Standards for Hazardous Air Pollutant Emissions: Group I Polymers and Resins
B9: §63.506(e)(6) Periodic Report Spreadsheet Template
B10: Instructions for Spreadsheet Template
B11: Purpose: This spreadsheet template was designed by the U.S. EPA to facilitate semiannual reporting for affected facilities subject under 40 CFR Part 63, subpart U, National Emission Standards for Hazardous Air Pollutant Emissions: Group I Polymers and Resins.
B12: Electronic reporting: Electronic submission of semiannual reports through the EPA's Compliance and Emissions Data Reporting (CEDRI) is required under §63.506(e)(6). CEDRI is accessed through the EPA's Central Data Exchange (https://cdx.epa.gov).
B13: Confidential Business Information:
B14: Do not submit confidential business information (CBI) to EPA via CEDRI. EPA will make all the information submitted through this form via CEDRI available to the public without further notice to you. All CBI claims must be asserted at the time of submission. Anything submitted using CEDRI cannot later be claimed to be CBI. Furthermore, under CAA section 114(c) emissions data is not entitled to confidential treatment, and EPA is required to make emissions data available to the public. Thus, emissions data will not be protected as CBI and will be made publicly available.
B15: Although we do not expect persons to assert a claim of CBI, if persons wish to assert a CBI claim for some of the information in this report, you must submit a version of the report with the CBI omitted via CEDRI and submit a complete report, including any information claimed to be CBI, to EPA. The preferred method to receive CBI is for it to be transmitted electronically using email attachments, File Transfer Protocol, or other online file sharing services. Electronic submissions must be transmitted directly to the OAQPS CBI Office at the email address oaqpscbi@epa.gov to the attention of the Polymers and Resins Sector Lead. If assistance is needed with submitting large electronic files that exceed the file size limit for email attachments, and if you do not have your own file sharing service, please email oaqpscbi@epa.gov to request a file transfer link. If you cannot transmit the file electronically, you may send CBI information through the postal service to the following address:
B16: OAQPS Document Control Officer (C404-02) OAQPS, U.S. Environmental Protection Agency Attn: Polymers and Resins Sector Lead 109 T.W. Alexander Drive P.O. Box 12055 Research Triangle Park, North Carolina 27711
A17: blank | B17: The mailed CBI material should be double wrapped and clearly marked. Any CBI markings should not show through the outer envelope. Clearly mark the part or all of the information that you claim to be CBI. Information not marked as CBI may be authorized for public release without prior notice. Information marked as CBI will not be disclosed except in accordance with procedures set forth in 40 CFR part 2.
B18: Using this Template:
B19: The CEDRI spreadsheet template upload feature allows you to submit data in a single report for a single site or multiple sites using this EPA provided Excel workbook. Data for each site must be entered into the worksheet labeled "Company_Information" in this Excel workbook. Each row in the "Company_Information" worksheet includes the data for a single site. The Site Record No. will be used to match the information on each tab to the appropriate site.
B20: IMPORTANT: The final CEDRI upload file must be a single ZIP file, which must include this Excel workbook and any related attachments that were referenced in the workbook (i.e., additional information file found in the "Company_Information" worksheet).
B21: For each site record found in the "Company_Information" worksheet, you may reference a single file attachment that includes additional information. If you are uploading file attachments for your report, the uploaded files may be in any format (e.g., zip, docx, PDF). If you would like to include an Excel file(s) as an attachment, you must first zip the excel file(s) into a separate ZIP file to the master ZIP file that will be uploaded into CEDRI.
B22: For example, the file “2019Report.zip” uploaded into CEDRI may contain 2 files: 1. Completed_annual_reporting_spreadsheet_2019.xlsx 2. Attachments.zip The “Attachments.zip” file could contain as many attachments of any format (xlsx, xls, docx, pdf, zip, etc.) as needed. If you only have one file to attach, you do not need to zip it unless it is an Excel file (.xlsx, .xls).
B23: Template Navigation and Tabs to Complete:
B24: The relevant regulatory citations are listed for each data element. Some data elements provide information that is not required for federal reporting purposes, but may be helpful for report navigation (such as linked to conditional formatting) or may be needed for state or local reporting purposes (e.g., Responsible Agency Facility ID). These data elements do not have a regulatory citation associated with them.
A25: blank | B25: Within each worksheet, example rows are colored light orange (rows 14 through 23), and the XML tag row (row 13) is colored green. These rows are locked; no data entry is made in these rows.

Sheet Company_Information
B1: DO NOT REMOVE OR EDIT INFORMATION IN ROWS 1 THORUGH 5 FOR INTERNAL USE ONLY
B2: =Welcome!A2 -> Template Name | C2: =Welcome!B2 -> 63.506(e)(6) Periodic Report (Spreadsheet Template)
B3: =Welcome!A3 -> CitationID | C3: =Welcome!B3 -> 63.506(e)(6)
B4: =Welcome!A4 -> Template Version | C4: =Welcome!B4 -> v1.00
B5: =Welcome!A5 -> Last Updated Date | C5: =Welcome!B5 -> 45441
B7: 40 CFR Part 63, Subpart U: Group I Polymers and Resins NESHAP; §63.506(e)(6) Periodic Report
B8: The owner or operator of a source subject to this subpart shall submit Periodic Reports. All periodic reports must contain the company name and address (including county), as well as the beginning and ending dates of the reporting period.
B9: A report containing the information in §63.506(e)(6)(ii) or (e)(6)(iii) through (x) and (xiii) shall be submitted semiannually no later than 60 calendar days after the end of each 6-month period. Quarterly reports must be submitted as required in §63.506(e)(xi) and (xii).
B10: Note: The Company Record No. will automatically generate if you do not enter one.
B11: SITE INFORMATION | J11: STATE IDENTIFIER | K11: REPORTING PERIOD | M11: Declaration of No Exceedances, Periods, or Events | N11: ADDITIONAL INFORMATION
B12: Company Record No. (Field value will automatically generate if a value is not entered.) | C12: Company Name (§63.506(e)(6)(i)) | D12: Address (§63.506(e)(6)(i)) | E12: Address 2 | F12: City (§63.506(e)(6)(i)) | G12: County (§63.506(e)(6)(i)) | H12: State Abbreviation (§63.506(e)(6)(i)) (Select from dropdown list) | I12: Zip Code (§63.506(e)(6)(i)) | J12: Responsible Agency Facility ID (State Facility Identifier) | K12: Beginning Date of Reporting Period (§63.506(e)(6)(i)) | L12: Ending Date of Reporting Period (§63.506(e)(6)(i)) | M12: If there are no exceptions in paragraphs §63.506(e)(6)(iii) through (ix) or (xiii) that occurred during the reporting period, indicate that here. (§63.506(e)(6)(ii)) (Select from dropdown list) | N12: Please enter any additional information. | O12: Enter associated file name reference.
B13: RecordId | C13: FacilityName | D13: AddressLine1 | E13: AddressLine2 | F13: CityName | G13: CountyName | H13: StateName | I13: ZipCode | J13: StateFacId | K13: PeriodStartDate | L13: PeriodEndDate | M13: NoEventsFlag | N13: AddInfo | O13: AddFile
B14: e.g.: 1 | C14: e.g.: ABC Company | D14: e.g.: 456 Broad Street | E14: e.g.: Suite 249 | F14: e.g.: Houston | G14: e.g.: Cook | H14: e.g.: TX | I14: e.g.: 77001 | J14: e.g.: | K14: e.g.: 01/01/23 | L14: e.g.: 06/30/23 | M14: e.g.: Information required by §63.506(e)(6)(iii) through (ix) and (xiii) is included in this report. | N14: e.g.: | O14: e.g.: addinfo.zip
B15: e.g.: | C15: e.g.: | D15: e.g.: | E15: e.g.: | F15: e.g.: | G15: e.g.: | H15: e.g.: | I15: e.g.: | J15: e.g.: | K15: e.g.: | L15: e.g.: | N15: e.g.: | O15: e.g.:
B16: e.g.: | C16: e.g.: | D16: e.g.: | E16: e.g.: | F16: e.g.: | G16: e.g.: | H16: e.g.: | I16: e.g.: | J16: e.g.: | K16: e.g.: | L16: e.g.: | N16: e.g.: | O16: e.g.:
B17: e.g.: | C17: e.g.: | D17: e.g.: | E17: e.g.: | F17: e.g.: | G17: e.g.: | H17: e.g.: | I17: e.g.: | J17: e.g.: | K17: e.g.: | L17: e.g.: | N17: e.g.: | O17: e.g.:
B18: e.g.: | C18: e.g.: | D18: e.g.: | E18: e.g.: | F18: e.g.: | G18: e.g.: | H18: e.g.: | I18: e.g.: | J18: e.g.: | K18: e.g.: | L18: e.g.: | N18: e.g.: | O18: e.g.:
B19: e.g.: | C19: e.g.: | D19: e.g.: | E19: e.g.: | F19: e.g.: | G19: e.g.: | H19: e.g.: | I19: e.g.: | J19: e.g.: | K19: e.g.: | L19: e.g.: | N19: e.g.: | O19: e.g.:
B20: e.g.: | C20: e.g.: | D20: e.g.: | E20: e.g.: | F20: e.g.: | G20: e.g.: | H20: e.g.: | I20: e.g.: | J20: e.g.: | K20: e.g.: | L20: e.g.: | N20: e.g.: | O20: e.g.:
B21: e.g.: | C21: e.g.: | D21: e.g.: | E21: e.g.: | F21: e.g.: | G21: e.g.: | H21: e.g.: | I21: e.g.: | J21: e.g.: | K21: e.g.: | L21: e.g.: | N21: e.g.: | O21: e.g.:
B22: e.g.: | C22: e.g.: | D22: e.g.: | E22: e.g.: | F22: e.g.: | G22: e.g.: | H22: e.g.: | I22: e.g.: | J22: e.g.: | K22: e.g.: | L22: e.g.: | N22: e.g.: | O22: e.g.:
B23: e.g.: | C23: e.g.: | D23: e.g.: | E23: e.g.: | F23: e.g.: | G23: e.g.: | H23: e.g.: | I23: e.g.: | J23: e.g.: | K23: e.g.: | L23: e.g.: | N23: e.g.: | O23: e.g.:
B24: =IF(C24="","",ROW(B24)-23)
B25: =IF(C25="","",ROW(B25)-23)
B26: =IF(C26="","",ROW(B26)-23)
B27: =IF(C27="","",ROW(B27)-23)
B28: =IF(C28="","",ROW(B28)-23)
B29: =IF(C29="","",ROW(B29)-23)
B30: =IF(C30="","",ROW(B30)-23)
B31: =IF(C31="","",ROW(B31)-23)
B32: =IF(C32="","",ROW(B32)-23)
B33: =IF(C33="","",ROW(B33)-23)
B34: =IF(C34="","",ROW(B34)-23)
B35: =IF(C35="","",ROW(B35)-23)
... B223: =IF(C223="","",ROW(B223)-23)

Sheet Notifications
B1: DO NOT REMOVE OR EDIT INFORMATION IN ROWS 1 THORUGH 5 FOR INTERNAL USE ONLY
B2: =Welcome!A2 -> Template Name | C2: =Welcome!B2 -> 63.506(e)(6) Periodic Report (Spreadsheet Template)
B3: =Welcome!A3 -> CitationID | C3: =Welcome!B3 -> 63.506(e)(6)
B4: =Welcome!A4 -> Template Version | C4: =Welcome!B4 -> v1.00
B5: =Welcome!A5 -> Last Updated Date | C5: =Welcome!B5 -> 45441
B7: =Company_Information!B7 -> 40 CFR Part 63, Subpart U: Group I Polymers and Resins NESHAP; §63.506(e)(6) Periodic Report
B8: Use this tab to provide general notices required in the Periodic Report, as applicable.
B10: Note: Company Record No. selections will appear once information is entered onto the Company_Information tab.
B12: Company Record No. (Select from dropdown list) | C12: Process Unit Identification | D12: Source or Equipment | E12: If you added a grade, with corresponding stripper parameter levels, using the procedures in §63.505(e)(1) and (e)(2), provide the attachment name that contains the results of the determination. (§63.505(e)(3)) | F12: Provide the attachment name that contains the notification of a Group 2 emission point/continuous front-end/batch front-end process vent becoming a Group 1 process vent. (§63.506(e)(6)(iii)(D)(2), §63.485(l)(1), §63.492(b)) | G12: Provide the attachment name that contains the report of a process change that causes a Group 2 batch front-end process vent to have emissions ≥ §63.488(d) but remains a Group 2 batch front-end process vent or causes a limit redetermination. (§63.492(c)) | H12: Provide file name containing records associated with determination of the organic HAP content of each grade of elastomer produced for a back-end process operation using stripping technology if there was a redetermination/grade addition. (§63.499(b)(2)) | I12: If there was a process change, provide file name containing records associated with the redetermination of the compliance status for the back-end process operations subject to a residual organic HAP limitation in §63.494(a)(1) through (3). (§63.499(d)) | J12: Provide the attachment name that contains any supplements to the Emissions Averaging Plan required under §63.506(e)(4)(iii) or (iv). (§63.506(e)(6)(iii)(D)(1), §63.506(e)(4)(iv)) | K12: Provide the attachment name that contains notification if one or more emission points or one or more EPPU is added to an affected source. (§63.506(e)(6)(iii)(D)(3)) | L12: Provide the attachment name that contains notification if a standard operating procedure is changed and the change has the potential for increasing the concentration of carbon disulfide in the crumb dryer exhaust. (§63.506(e)(6)(iii)(D)(4)) | M12: For process wastewater streams sent for treatment pursuant to §63.132(g), if the transferee has changed, provide the identity of the treatment facility or transferee. (§63.506(e)(6)(iii)(D)(5)) | N12: For each batch front-end process vent with a batch mass input limitation, the mass of HAP or material input to the batch unit operation during the 12-month period covered by the preceding and current Periodic Reports. (§63.506(e)(6)(iv)) | O12: For each batch front-end process vent with a batch mass input limitation, a statement of whether the batch front-end process vent was in or out of compliance with the batch mass input limitation. (§63.506(e)(6)(iv)) (Select from dropdown list) | P12: Provide the attachment name that contains the notification of a change in the primary product of an EPPU, including a change in primary product from one elastomer product to either another elastomer product or to a non-elastomer product. (§63.506(e)(vi)) | Q12: Provide the attachment name that contains the results for each change made to a predominant use determination made under §63.480(g) for a storage vessel that is assigned to an affected source subject to this subpart after the change. (§63.506(e)(vii)) | R12: Provide the attachment name that contains the results for each change made to a predominant use determination made under §63.480(h) for recovery operations equipment assigned to an affected source after the change. (§63.506(e)(viii)) | S12: Have you met the requirements of §63.506(h)(1) and are providing notice that you will retain only the daily average or batch cycle daily average value for a monitored parameter? (§63.506(e)(6)(ix)) (Select from dropdown list) | T12: Have you met the requirements of §63.506(h)(2) and are providing notice that you have elected to not retain the daily average values for a parameter(s)? (§63.506(e)(6)(x)) (Select from dropdown list) | U12: Did you previously elect to not retain the daily average values for a parameter(s) and are now providing notice that you are resuming retaining the daily average values due to an excursion? (§63.506(e)(6)(x)) (Select from dropdown list) | V12: Provide attachment name that contains any other information the affected source is required to report under the operating permit or Emissions Averaging Plan for the affected source. (§63.506(e)(6)(xi)(B)(7)) | W12: Provide attachment name that documents the decision to utilize an extension when a roof is unsafe, including that alternate storage capacity was unavailable and a schedule to empty the tank as soon as practical. (§63.506(e)(6), §63.146(g), §63.133(e)(2)) | X12: Provide attachment name documenting the decision to use an extension when an improper work practice or control equipment failure is identified, including a schedule to empty/repair the vessel as soon as practical. (§63.506(e)(6), §63.146(g),§63.133(h))
B13: RecordId | C13: NoticeProcessId | D13: NoticeSourceId | E13: NoticeGradeRedeterm | F13: NoticeGroupChangeFile | G13: NoticeGroupTwoUpdate | H13: NoticeOrganicRedeterm | I13: NoticeBackEndRedeterm | J13: NoticeEmAvgUpdate | K13: NoticeEppuAdd | L13: NoticeSopDryer | M13: NoticeTransferChange | N13: NoticeAnnualMassInput | O13: NoticeBatchCompliance | P13: NoticeEppuProductChange | Q13: NoticePredomUseStorage | R13: NoticePredomUseRecovery | S13: NoticeDailyOnlyFlag | T13: NoticeNoDailyFlag | U13: NoticeDailyExcursionFlag | V13: NoticeOtherInfo | W13: NoticeStorageUnsafeExtension | X13: NoticeStorageFailureExtension
B14: e.g.: 1 | C14: e.g.: ABC Unit | D14: e.g.: | E14: e.g.: | F14: e.g.: | G14: e.g.: | H14: e.g.: | I14: e.g.: | J14: e.g.: | K14: e.g.: | L14: e.g.: | M14: e.g.: | N14: e.g.: | O14: e.g.: | P14: e.g.: | Q14: e.g.: | R14: e.g.: | S14: e.g.: | T14: e.g.: | U14: e.g.: | V14: e.g.: | W14: e.g.: | X14: e.g.:
B15: e.g.: | C15: e.g.: | D15: e.g.: | E15: e.g.: | F15: e.g.: | G15: e.g.: | H15: e.g.: | I15: e.g.: | J15: e.g.: | K15: e.g.: | L15: e.g.: | M15: e.g.: | N15: e.g.: | O15: e.g.: | P15: e.g.: | Q15: e.g.: | R15: e.g.: | S15: e.g.: | T15: e.g.: | U15: e.g.: | V15: e.g.: | W15: e.g.: | X15: e.g.:
B16: e.g.: | C16: e.g.: | D16: e.g.: | E16: e.g.: | F16: e.g.: | G16: e.g.: | H16: e.g.: | I16: e.g.: | J16: e.g.: | K16: e.g.: | L16: e.g.: | M16: e.g.: | N16: e.g.: | O16: e.g.: | P16: e.g.: | Q16: e.g.: | R16: e.g.: | S16: e.g.: | T16: e.g.: | U16: e.g.: | V16: e.g.: | W16: e.g.: | X16: e.g.:
B17: e.g.: | C17: e.g.: | D17: e.g.: | E17: e.g.: | F17: e.g.: | G17: e.g.: | H17: e.g.: | I17: e.g.: | J17: e.g.: | K17: e.g.: | L17: e.g.: | M17: e.g.: | N17: e.g.: | O17: e.g.: | P17: e.g.: | Q17: e.g.: | R17: e.g.: | S17: e.g.: | T17: e.g.: | U17: e.g.: | V17: e.g.: | W17: e.g.: | X17: e.g.:
B18: e.g.: | C18: e.g.: | D18: e.g.: | E18: e.g.: | F18: e.g.: | G18: e.g.: | H18: e.g.: | I18: e.g.: | J18: e.g.: | K18: e.g.: | L18: e.g.: | M18: e.g.: | N18: e.g.: | O18: e.g.: | P18: e.g.: | Q18: e.g.: | R18: e.g.: | S18: e.g.: | T18: e.g.: | U18: e.g.: | V18: e.g.: | W18: e.g.: | X18: e.g.:
B19: e.g.: | C19: e.g.: | D19: e.g.: | E19: e.g.: | F19: e.g.: | G19: e.g.: | H19: e.g.: | I19: e.g.: | J19: e.g.: | K19: e.g.: | L19: e.g.: | M19: e.g.: | N19: e.g.: | O19: e.g.: | P19: e.g.: | Q19: e.g.: | R19: e.g.: | S19: e.g.: | T19: e.g.: | U19: e.g.: | V19: e.g.: | W19: e.g.: | X19: e.g.:
B20: e.g.: | C20: e.g.: | D20: e.g.: | E20: e.g.: | F20: e.g.: | G20: e.g.: | H20: e.g.: | I20: e.g.: | J20: e.g.: | K20: e.g.: | L20: e.g.: | M20: e.g.: | N20: e.g.: | O20: e.g.: | P20: e.g.: | Q20: e.g.: | R20: e.g.: | S20: e.g.: | T20: e.g.: | U20: e.g.: | V20: e.g.: | W20: e.g.: | X20: e.g.:
B21: e.g.: | C21: e.g.: | D21: e.g.: | E21: e.g.: | F21: e.g.: | G21: e.g.: | H21: e.g.: | I21: e.g.: | J21: e.g.: | K21: e.g.: | L21: e.g.: | M21: e.g.: | N21: e.g.: | O21: e.g.: | P21: e.g.: | Q21: e.g.: | R21: e.g.: | S21: e.g.: | T21: e.g.: | U21: e.g.: | V21: e.g.: | W21: e.g.: | X21: e.g.:
B22: e.g.: | C22: e.g.: | D22: e.g.: | E22: e.g.: | F22: e.g.: | G22: e.g.: | H22: e.g.: | I22: e.g.: | J22: e.g.: | K22: e.g.: | L22: e.g.: | M22: e.g.: | N22: e.g.: | O22: e.g.: | P22: e.g.: | Q22: e.g.: | R22: e.g.: | S22: e.g.: | T22: e.g.: | U22: e.g.: | V22: e.g.: | W22: e.g.: | X22: e.g.:
B23: e.g.: | C23: e.g.: | D23: e.g.: | E23: e.g.: | F23: e.g.: | G23: e.g.: | H23: e.g.: | I23: e.g.: | J23: e.g.: | K23: e.g.: | L23: e.g.: | M23: e.g.: | N23: e.g.: | O23: e.g.: | P23: e.g.: | Q23: e.g.: | R23: e.g.: | S23: e.g.: | T23: e.g.: | U23: e.g.: | V23: e.g.: | W23: e.g.: | X23: e.g.:

Sheet Emissions_Averaging
B1: DO NOT REMOVE OR EDIT INFORMATION IN ROWS 1 THORUGH 5 FOR INTERNAL USE ONLY
B2: =Welcome!A2 -> Template Name | C2: =Welcome!B2 -> 63.506(e)(6) Periodic Report (Spreadsheet Template)
B3: =Welcome!A3 -> CitationID | C3: =Welcome!B3 -> 63.506(e)(6)
B4: =Welcome!A4 -> Template Version | C4: =Welcome!B4 -> v1.00
B5: =Welcome!A5 -> Last Updated Date | C5: =Welcome!B5 -> 45441
B7: =Company_Information!B7 -> 40 CFR Part 63, Subpart U: Group I Polymers and Resins NESHAP; §63.506(e)(6) Periodic Report
B8: You must submit quarterly reports for all emission points included in an emissions average. The quarterly reports shall include information for all emission points included in an emissions average, including the credits and debits calculated each month during the quarter; a demonstration that debits calculated for the quarter are not more than 1.30 times the credits calculated for the quarter; and the values of any inputs to the credit and debit equations in §63.503(g)
B9: and (h) that change from month to month during the quarter or that have changed since the previous quarter. Every fourth quarterly report shall include a demonstration that annual credits are greater than or equal to annual debits as required by §63.503(e)(3) and a certification of compliance with all the emissions averaging provisions in §63.503.
B10: Note: Company Record No. selections will appear once information is entered onto the Company_Information tab. Columns M-O will autopopulate based on information in other columns, but the information in the cells can be overwritten.
Q11: Provide Information in Columns Q-S Every Fourth Quarterly Report
B12: Company Record No. (Select from dropdown list) | C12: Affected Source Identification (§63.506(e)(6)(xi)) | D12: Month 1 of Quarter (§63.506(e)(6)(xi)(B)(1)) (Select from dropdown list) | E12: Month 1 Credits (megagrams/month) (§63.506(e)(6)(xi)(B)(1)) | F12: Month 1 Debits (megagrams/month) (§63.506(e)(6)(xi)(B)(1)) | G12: Month 2 (§63.506(e)(6)(xi)(B)(1)) (Select from dropdown list) | H12: Month 2 Credits (megagrams/month) (§63.506(e)(6)(xi)(B)(1)) | I12: Month 2 Debits (megagrams/month) (§63.506(e)(6)(xi)(B)(1)) | J12: Month 3 (§63.506(e)(6)(xi)(B)(1)) (Select from dropdown list) | K12: Month 3 Credits (megagrams/month) (§63.506(e)(6)(xi)(B)(1)) | L12: Month 3 Debits (megagrams/month) (§63.506(e)(6)(xi)(B)(1)) | M12: Quarterly Credits (megagrams/quarter) (§63.506(e)(6)(xi)(B)(2)) | N12: Quarterly Debits (megagrams/quarter) (§63.506(e)(6)(xi)(B)(2)) | O12: Are the credits calculated for the quarter more than 1.30 times the debits calculated for the quarter? (§63.506(e)(6)(xi)(B)(2)) (Select from dropdown list) | P12: Values of any inputs to the credit and debit equations in §63.503(g) and (h) that change from month to month during the quarter or that have changed since the previous quarter (provide attachment name or list values in column). (§63.506(e)(6)(xi)(B)(3)) | Q12: Annual Credits (megagrams/year) (§63.506(e)(6)(xi)(C)(1)) | R12: Annual Debits (megagrams/year) (§63.506(e)(6)(xi)(C)(1)) | S12: Are you certifying compliance with all the emissions averaging provisions in §63.503? (§63.506(e)(6)(xi)(C)(2)) (Select from dropdown list)
B13: RecordId | C13: EmAvgSourceId | D13: EmAvgMonth1 | E13: EmAvgCredit1 | F13: EmAvgDebit1 | G13: EmAvgMonth2 | H13: EmAvgCredit2 | I13: EmAvgDebit2 | J13: EmAvgMonth3 | K13: EmAvgCredit3 | L13: EmAvgDebit3 | M13: EmAvgQuarterCredit | N13: EmAvgQuarterDebit | O13: EmAvgQuarterCompare | P13: EmAvgInputChange | Q13: EmAvgAnnualCredit | R13: EmAvgAnnualDebit | S13: EmAvgCertifyFlag
B14: e.g.: 1 | C14: e.g.: Unit ABC | D14: e.g.: January | E14: e.g.: 100 | F14: e.g.: 50 | G14: e.g.: February | H14: e.g.: 150 | I14: e.g.: 75 | J14: e.g.: March | K14: e.g.: 200 | L14: e.g.: 150 | M14: e.g.: 450 | N14: e.g.: 275 | O14: e.g.: yes | P14: e.g.: | Q14: e.g.: 1400 | R14: e.g.: 1000 | S14: e.g.: yes
B15: e.g.: | C15: e.g.: | D15: e.g.: | E15: e.g.: | F15: e.g.: | G15: e.g.: | H15: e.g.: | I15: e.g.: | J15: e.g.: | K15: e.g.: | L15: e.g.: | M15: e.g.: | N15: e.g.: | O15: e.g.: | P15: e.g.: | Q15: e.g.: | R15: e.g.: | S15: e.g.:
B16: e.g.: | C16: e.g.: | D16: e.g.: | E16: e.g.: | F16: e.g.: | G16: e.g.: | H16: e.g.: | I16: e.g.: | J16: e.g.: | K16: e.g.: | L16: e.g.: | M16: e.g.: | N16: e.g.: | O16: e.g.: | P16: e.g.: | Q16: e.g.: | R16: e.g.: | S16: e.g.:
B17: e.g.: | C17: e.g.: | D17: e.g.: | E17: e.g.: | F17: e.g.: | G17: e.g.: | H17: e.g.: | I17: e.g.: | J17: e.g.: | K17: e.g.: | L17: e.g.: | M17: e.g.: | N17: e.g.: | O17: e.g.: | P17: e.g.: | Q17: e.g.: | R17: e.g.: | S17: e.g.:
B18: e.g.: | C18: e.g.: | D18: e.g.: | E18: e.g.: | F18: e.g.: | G18: e.g.: | H18: e.g.: | I18: e.g.: | J18: e.g.: | K18: e.g.: | L18: e.g.: | M18: e.g.: | N18: e.g.: | O18: e.g.: | P18: e.g.: | Q18: e.g.: | R18: e.g.: | S18: e.g.:
B19: e.g.: | C19: e.g.: | D19: e.g.: | E19: e.g.: | F19: e.g.: | G19: e.g.: | H19: e.g.: | I19: e.g.: | J19: e.g.: | K19: e.g.: | L19: e.g.: | M19: e.g.: | N19: e.g.: | O19: e.g.: | P19: e.g.: | Q19: e.g.: | R19: e.g.: | S19: e.g.:
B20: e.g.: | C20: e.g.: | D20: e.g.: | E20: e.g.: | F20: e.g.: | G20: e.g.: | H20: e.g.: | I20: e.g.: | J20: e.g.: | K20: e.g.: | L20: e.g.: | M20: e.g.: | N20: e.g.: | O20: e.g.: | P20: e.g.: | Q20: e.g.: | R20: e.g.: | S20: e.g.:
B21: e.g.: | C21: e.g.: | D21: e.g.: | E21: e.g.: | F21: e.g.: | G21: e.g.: | H21: e.g.: | I21: e.g.: | J21: e.g.: | K21: e.g.: | L21: e.g.: | M21: e.g.: | N21: e.g.: | O21: e.g.: | P21: e.g.: | Q21: e.g.: | R21: e.g.: | S21: e.g.:
B22: e.g.: | C22: e.g.: | D22: e.g.: | E22: e.g.: | F22: e.g.: | G22: e.g.: | H22: e.g.: | I22: e.g.: | J22: e.g.: | K22: e.g.: | L22: e.g.: | M22: e.g.: | N22: e.g.: | O22: e.g.: | P22: e.g.: | Q22: e.g.: | R22: e.g.: | S22: e.g.:
B23: e.g.: | C23: e.g.: | D23: e.g.: | E23: e.g.: | F23: e.g.: | G23: e.g.: | H23: e.g.: | I23: e.g.: | J23: e.g.: | K23: e.g.: | L23: e.g.: | M23: e.g.: | N23: e.g.: | O23: e.g.: | P23: e.g.: | Q23: e.g.: | R23: e.g.: | S23: e.g.:
M24: =IF(Table9[[#This Row],[Affected Source Identification (§63.506(e)(6)(xi))]]="","",Table9[[#This Row],[Month 1 Credits (megagrams/month) (§63.506(e)(6)(xi)(B)(1))]]+Table9[[#This Row],[Month 2 Credits (megagrams/month) (§63.506(e)(6)(xi)(B)(1))]]+Table9[[#This Row],[Month 3 Credits (megagrams/month) (§63.506(e)(6)(xi)(B)(1))]]) | N24: =IF(Table9[[#This Row],[Affected Source Identification (§63.506(e)(6)(xi))]]="","",Table9[[#This Row],[Month 1 Debits (megagrams/month) (§63.506(e)(6)(xi)(B)(1))]]+Table9[[#This Row],[Month 2 Debits (megagrams/month) (§63.506(e)(6)(xi)(B)(1))]]+Table9[[#This Row],[Month 3 Debits (megagrams/month) (§63.506(e)(6)(xi)(B)(1))]]) | O24: =IF(Table9[[#This Row],[Affected Source Identification (§63.506(e)(6)(xi))]]="","",IF(Table9[[#This Row],[Quarterly Credits (megagrams/quarter) (§63.506(e)(6)(xi)(B)(2))]]>1.3*Table9[[#This Row],[Quarterly Debits (megagrams/quarter) (§63.506(e)(6)(xi)(B)(2))]],"yes","no"))
M25: =IF(Table9[[#This Row],[Affected Source Identification (§63.506(e)(6)(xi))]]="","",Table9[[#This Row],[Month 1 Credits (megagrams/month) (§63.506(e)(6)(xi)(B)(1))]]+Table9[[#This Row],[Month 2 Credits (megagrams/month) (§63.506(e)(6)(xi)(B)(1))]]+Table9[[#This Row],[Month 3 Credits (megagrams/month) (§63.506(e)(6)(xi)(B)(1))]]) | N25: =IF(Table9[[#This Row],[Affected Source Identification (§63.506(e)(6)(xi))]]="","",Table9[[#This Row],[Month 1 Debits (megagrams/month) (§63.506(e)(6)(xi)(B)(1))]]+Table9[[#This Row],[Month 2 Debits (megagrams/month) (§63.506(e)(6)(xi)(B)(1))]]+Table9[[#This Row],[Month 3 Debits (megagrams/month) (§63.506(e)(6)(xi)(B)(1))]]) | O25: =IF(Table9[[#This Row],[Affected Source Identification (§63.506(e)(6)(xi))]]="","",IF(Table9[[#This Row],[Quarterly Credits (megagrams/quarter) (§63.506(e)(6)(xi)(B)(2))]]>1.3*Table9[[#This Row],[Quarterly Debits (megagrams/quarter) (§63.506(e)(6)(xi)(B)(2))]],"yes","no"))
M26: =IF(Table9[[#This Row],[Affected Source Identification (§63.506(e)(6)(xi))]]="","",Table9[[#This Row],[Month 1 Credits (megagrams/month) (§63.506(e)(6)(xi)(B)(1))]]+Table9[[#This Row],[Month 2 Credits (megagrams/month) (§63.506(e)(6)(xi)(B)(1))]]+Table9[[#This Row],[Month 3 Credits (megagrams/month) (§63.506(e)(6)(xi)(B)(1))]]) | N26: =IF(Table9[[#This Row],[Affected Source Identification (§63.506(e)(6)(xi))]]="","",Table9[[#This Row],[Month 1 Debits (megagrams/month) (§63.506(e)(6)(xi)(B)(1))]]+Table9[[#This Row],[Month 2 Debits (megagrams/month) (§63.506(e)(6)(xi)(B)(1))]]+Table9[[#This Row],[Month 3 Debits (megagrams/month) (§63.506(e)(6)(xi)(B)(1))]]) | O26: =IF(Table9[[#This Row],[Affected Source Identification (§63.506(e)(6)(xi))]]="","",IF(Table9[[#This Row],[Quarterly Credits (megagrams/quarter) (§63.506(e)(6)(xi)(B)(2))]]>1.3*Table9[[#This Row],[Quarterly Debits (megagrams/quarter) (§63.506(e)(6)(xi)(B)(2))]],"yes","no"))
M27: =IF(Table9[[#This Row],[Affected Source Identification (§63.506(e)(6)(xi))]]="","",Table9[[#This Row],[Month 1 Credits (megagrams/month) (§63.506(e)(6)(xi)(B)(1))]]+Table9[[#This Row],[Month 2 Credits (megagrams/month) (§63.506(e)(6)(xi)(B)(1))]]+Table9[[#This Row],[Month 3 Credits (megagrams/month) (§63.506(e)(6)(xi)(B)(1))]]) | N27: =IF(Table9[[#This Row],[Affected Source Identification (§63.506(e)(6)(xi))]]="","",Table9[[#This Row],[Month 1 Debits (megagrams/month) (§63.506(e)(6)(xi)(B)(1))]]+Table9[[#This Row],[Month 2 Debits (megagrams/month) (§63.506(e)(6)(xi)(B)(1))]]+Table9[[#This Row],[Month 3 Debits (megagrams/month) (§63.506(e)(6)(xi)(B)(1))]]) | O27: =IF(Table9[[#This Row],[Affected Source Identification (§63.506(e)(6)(xi))]]="","",IF(Table9[[#This Row],[Quarterly Credits (megagrams/quarter) (§63.506(e)(6)(xi)(B)(2))]]>1.3*Table9[[#This Row],[Quarterly Debits (megagrams/quarter) (§63.506(e)(6)(xi)(B)(2))]],"yes","no"))
M28: =IF(Table9[[#This Row],[Affected Source Identification (§63.506(e)(6)(xi))]]="","",Table9[[#This Row],[Month 1 Credits (megagrams/month) (§63.506(e)(6)(xi)(B)(1))]]+Table9[[#This Row],[Month 2 Credits (megagrams/month) (§63.506(e)(6)(xi)(B)(1))]]+Table9[[#This Row],[Month 3 Credits (megagrams/month) (§63.506(e)(6)(xi)(B)(1))]]) | N28: =IF(Table9[[#This Row],[Affected Source Identification (§63.506(e)(6)(xi))]]="","",Table9[[#This Row],[Month 1 Debits (megagrams/month) (§63.506(e)(6)(xi)(B)(1))]]+Table9[[#This Row],[Month 2 Debits (megagrams/month) (§63.506(e)(6)(xi)(B)(1))]]+Table9[[#This Row],[Month 3 Debits (megagrams/month) (§63.506(e)(6)(xi)(B)(1))]]) | O28: =IF(Table9[[#This Row],[Affected Source Identification (§63.506(e)(6)(xi))]]="","",IF(Table9[[#This Row],[Quarterly Credits (megagrams/quarter) (§63.506(e)(6)(xi)(B)(2))]]>1.3*Table9[[#This Row],[Quarterly Debits (megagrams/quarter) (§63.506(e)(6)(xi)(B)(2))]],"yes","no"))
M29: =IF(Table9[[#This Row],[Affected Source Identification (§63.506(e)(6)(xi))]]="","",Table9[[#This Row],[Month 1 Credits (megagrams/month) (§63.506(e)(6)(xi)(B)(1))]]+Table9[[#This Row],[Month 2 Credits (megagrams/month) (§63.506(e)(6)(xi)(B)(1))]]+Table9[[#This Row],[Month 3 Credits (megagrams/month) (§63.506(e)(6)(xi)(B)(1))]]) | N29: =IF(Table9[[#This Row],[Affected Source Identification (§63.506(e)(6)(xi))]]="","",Table9[[#This Row],[Month 1 Debits (megagrams/month) (§63.506(e)(6)(xi)(B)(1))]]+Table9[[#This Row],[Month 2 Debits (megagrams/month) (§63.506(e)(6)(xi)(B)(1))]]+Table9[[#This Row],[Month 3 Debits (megagrams/month) (§63.506(e)(6)(xi)(B)(1))]]) | O29: =IF(Table9[[#This Row],[Affected Source Identification (§63.506(e)(6)(xi))]]="","",IF(Table9[[#This Row],[Quarterly Credits (megagrams/quarter) (§63.506(e)(6)(xi)(B)(2))]]>1.3*Table9[[#This Row],[Quarterly Debits (megagrams/quarter) (§63.506(e)(6)(xi)(B)(2))]],"yes","no"))
M30: =IF(Table9[[#This Row],[Affected Source Identification (§63.506(e)(6)(xi))]]="","",Table9[[#This Row],[Month 1 Credits (megagrams/month) (§63.506(e)(6)(xi)(B)(1))]]+Table9[[#This Row],[Month 2 Credits (megagrams/month) (§63.506(e)(6)(xi)(B)(1))]]+Table9[[#This Row],[Month 3 Credits (megagrams/month) (§63.506(e)(6)(xi)(B)(1))]]) | N30: =IF(Table9[[#This Row],[Affected Source Identification (§63.506(e)(6)(xi))]]="","",Table9[[#This Row],[Month 1 Debits (megagrams/month) (§63.506(e)(6)(xi)(B)(1))]]+Table9[[#This Row],[Month 2 Debits (megagrams/month) (§63.506(e)(6)(xi)(B)(1))]]+Table9[[#This Row],[Month 3 Debits (megagrams/month) (§63.506(e)(6)(xi)(B)(1))]]) | O30: =IF(Table9[[#This Row],[Affected Source Identification (§63.506(e)(6)(xi))]]="","",IF(Table9[[#This Row],[Quarterly Credits (megagrams/quarter) (§63.506(e)(6)(xi)(B)(2))]]>1.3*Table9[[#This Row],[Quarterly Debits (megagrams/quarter) (§63.506(e)(6)(xi)(B)(2))]],"yes","no"))
M31: =IF(Table9[[#This Row],[Affected Source Identification (§63.506(e)(6)(xi))]]="","",Table9[[#This Row],[Month 1 Credits (megagrams/month) (§63.506(e)(6)(xi)(B)(1))]]+Table9[[#This Row],[Month 2 Credits (megagrams/month) (§63.506(e)(6)(xi)(B)(1))]]+Table9[[#This Row],[Month 3 Credits (megagrams/month) (§63.506(e)(6)(xi)(B)(1))]]) | N31: =IF(Table9[[#This Row],[Affected Source Identification (§63.506(e)(6)(xi))]]="","",Table9[[#This Row],[Month 1 Debits (megagrams/month) (§63.506(e)(6)(xi)(B)(1))]]+Table9[[#This Row],[Month 2 Debits (megagrams/month) (§63.506(e)(6)(xi)(B)(1))]]+Table9[[#This Row],[Month 3 Debits (megagrams/month) (§63.506(e)(6)(xi)(B)(1))]]) | O31: =IF(Table9[[#This Row],[Affected Source Identification (§63.506(e)(6)(xi))]]="","",IF(Table9[[#This Row],[Quarterly Credits (megagrams/quarter) (§63.506(e)(6)(xi)(B)(2))]]>1.3*Table9[[#This Row],[Quarterly Debits (megagrams/quarter) (§63.506(e)(6)(xi)(B)(2))]],"yes","no"))
M32: =IF(Table9[[#This Row],[Affected Source Identification (§63.506(e)(6)(xi))]]="","",Table9[[#This Row],[Month 1 Credits (megagrams/month) (§63.506(e)(6)(xi)(B)(1))]]+Table9[[#This Row],[Month 2 Credits (megagrams/month) (§63.506(e)(6)(xi)(B)(1))]]+Table9[[#This Row],[Month 3 Credits (megagrams/month) (§63.506(e)(6)(xi)(B)(1))]]) | N32: =IF(Table9[[#This Row],[Affected Source Identification (§63.506(e)(6)(xi))]]="","",Table9[[#This Row],[Month 1 Debits (megagrams/month) (§63.506(e)(6)(xi)(B)(1))]]+Table9[[#This Row],[Month 2 Debits (megagrams/month) (§63.506(e)(6)(xi)(B)(1))]]+Table9[[#This Row],[Month 3 Debits (megagrams/month) (§63.506(e)(6)(xi)(B)(1))]]) | O32: =IF(Table9[[#This Row],[Affected Source Identification (§63.506(e)(6)(xi))]]="","",IF(Table9[[#This Row],[Quarterly Credits (megagrams/quarter) (§63.506(e)(6)(xi)(B)(2))]]>1.3*Table9[[#This Row],[Quarterly Debits (megagrams/quarter) (§63.506(e)(6)(xi)(B)(2))]],"yes","no"))
M33: =IF(Table9[[#This Row],[Affected Source Identification (§63.506(e)(6)(xi))]]="","",Table9[[#This Row],[Month 1 Credits (megagrams/month) (§63.506(e)(6)(xi)(B)(1))]]+Table9[[#This Row],[Month 2 Credits (megagrams/month) (§63.506(e)(6)(xi)(B)(1))]]+Table9[[#This Row],[Month 3 Credits (megagrams/month) (§63.506(e)(6)(xi)(B)(1))]]) | N33: =IF(Table9[[#This Row],[Affected Source Identification (§63.506(e)(6)(xi))]]="","",Table9[[#This Row],[Month 1 Debits (megagrams/month) (§63.506(e)(6)(xi)(B)(1))]]+Table9[[#This Row],[Month 2 Debits (megagrams/month) (§63.506(e)(6)(xi)(B)(1))]]+Table9[[#This Row],[Month 3 Debits (megagrams/month) (§63.506(e)(6)(xi)(B)(1))]]) | O33: =IF(Table9[[#This Row],[Affected Source Identification (§63.506(e)(6)(xi))]]="","",IF(Table9[[#This Row],[Quarterly Credits (megagrams/quarter) (§63.506(e)(6)(xi)(B)(2))]]>1.3*Table9[[#This Row],[Quarterly Debits (megagrams/quarter) (§63.506(e)(6)(xi)(B)(2))]],"yes","no"))
M34: =IF(Table9[[#This Row],[Affected Source Identification (§63.506(e)(6)(xi))]]="","",Table9[[#This Row],[Month 1 Credits (megagrams/month) (§63.506(e)(6)(xi)(B)(1))]]+Table9[[#This Row],[Month 2 Credits (megagrams/month) (§63.506(e)(6)(xi)(B)(1))]]+Table9[[#This Row],[Month 3 Credits (megagrams/month) (§63.506(e)(6)(xi)(B)(1))]]) | N34: =IF(Table9[[#This Row],[Affected Source Identification (§63.506(e)(6)(xi))]]="","",Table9[[#This Row],[Month 1 Debits (megagrams/month) (§63.506(e)(6)(xi)(B)(1))]]+Table9[[#This Row],[Month 2 Debits (megagrams/month) (§63.506(e)(6)(xi)(B)(1))]]+Table9[[#This Row],[Month 3 Debits (megagrams/month) (§63.506(e)(6)(xi)(B)(1))]]) | O34: =IF(Table9[[#This Row],[Affected Source Identification (§63.506(e)(6)(xi))]]="","",IF(Table9[[#This Row],[Quarterly Credits (megagrams/quarter) (§63.506(e)(6)(xi)(B)(2))]]>1.3*Table9[[#This Row],[Quarterly Debits (megagrams/quarter) (§63.506(e)(6)(xi)(B)(2))]],"yes","no"))
M35: =IF(Table9[[#This Row],[Affected Source Identification (§63.506(e)(6)(xi))]]="","",Table9[[#This Row],[Month 1 Credits (megagrams/month) (§63.506(e)(6)(xi)(B)(1))]]+Table9[[#This Row],[Month 2 Credits (megagrams/month) (§63.506(e)(6)(xi)(B)(1))]]+Table9[[#This Row],[Month 3 Credits (megagrams/month) (§63.506(e)(6)(xi)(B)(1))]]) | N35: =IF(Table9[[#This Row],[Affected Source Identification (§63.506(e)(6)(xi))]]="","",Table9[[#This Row],[Month 1 Debits (megagrams/month) (§63.506(e)(6)(xi)(B)(1))]]+Table9[[#This Row],[Month 2 Debits (megagrams/month) (§63.506(e)(6)(xi)(B)(1))]]+Table9[[#This Row],[Month 3 Debits (megagrams/month) (§63.506(e)(6)(xi)(B)(1))]]) | O35: =IF(Table9[[#This Row],[Affected Source Identification (§63.506(e)(6)(xi))]]="","",IF(Table9[[#This Row],[Quarterly Credits (megagrams/quarter) (§63.506(e)(6)(xi)(B)(2))]]>1.3*Table9[[#This Row],[Quarterly Debits (megagrams/quarter) (§63.506(e)(6)(xi)(B)(2))]],"yes","no"))
... M1023: =IF(Table9[[#This Row],[Affected Source Identification (§63.506(e)(6)(xi))]]="","",Table9[[#This Row],[Month 1 Credits (megagrams/month) (§63.506(e)(6)(xi)(B)(1))]]+Table9[[#This Row],[Month 2 Credits (megagrams/month) (§63.506(e)(6)(xi)(B)(1))]]+Table9[[#This Row],[Month 3 Credits (megagrams/month) (§63.506(e)(6)(xi)(B)(1))]]) | N1023: =IF(Table9[[#This Row],[Affected Source Identification (§63.506(e)(6)(xi))]]="","",Table9[[#This Row],[Month 1 Debits (megagrams/month) (§63.506(e)(6)(xi)(B)(1))]]+Table9[[#This Row],[Month 2 Debits (megagrams/month) (§63.506(e)(6)(xi)(B)(1))]]+Table9[[#This Row],[Month 3 Debits (megagrams/month) (§63.506(e)(6)(xi)(B)(1))]]) | O1023: =IF(Table9[[#This Row],[Affected Source Identification (§63.506(e)(6)(xi))]]="","",IF(Table9[[#This Row],[Quarterly Credits (megagrams/quarter) (§63.506(e)(6)(xi)(B)(2))]]>1.3*Table9[[#This Row],[Quarterly Debits (megagrams/quarter) (§63.506(e)(6)(xi)(B)(2))]],"yes","no"))

Sheet Monitor_Excursions
B1: DO NOT REMOVE OR EDIT INFORMATION IN ROWS 1 THORUGH 5 FOR INTERNAL USE ONLY
B2: =Welcome!A2 -> Template Name | C2: =Welcome!B2 -> 63.506(e)(6) Periodic Report (Spreadsheet Template)
B3: =Welcome!A3 -> CitationID | C3: =Welcome!B3 -> 63.506(e)(6)
B4: =Welcome!A4 -> Template Version | C4: =Welcome!B4 -> v1.00
B5: =Welcome!A5 -> Last Updated Date | C5: =Welcome!B5 -> 45441
B7: =Company_Information!B7 -> 40 CFR Part 63, Subpart U: Group I Polymers and Resins NESHAP; §63.506(e)(6) Periodic Report
B8: Use this worksheet to report information on excursions (including those caused by a lack of monitoring data).
B9: This worksheet also includes information required by §63.118(f)(1) and (2) for process vents, §63.122(g)(2) for storage vessels, and §63.146(d) and (e) for process wastewater.
B10: Note: Company Record No. selections will appear once information is entered onto the Company_Information tab.
B12: Company Record No. (Select from dropdown list) | C12: Process Unit Identification | D12: Affected Facility or Equipment (e.g., identification of the vent, control device, biological treatment unit, treatment process) (§63.506(e)(6)(iii)(B)-(C), §63.506(e)(6)(xi)(B)(5)-(6), §63.118(f)(1)-(2), §63.122(g)(2), §63.146(d)-(e)) | E12: Monitored Parameter (§63.506(e)(6)(iii)(B)-(C), §63.506(e)(6)(xi)(B)(5)-(6), §63.118(f)(1)-(2), §63.122(g)(2), §63.146(d)-(e)) | F12: Type of Excursion (§63.506(e)(6)(iii)(B)-(C), §63.506(e)(6)(xi)(B)(5)-(6), §63.118(f)(1)-(2), §63.122(g)(2), §63.146(d)-(e)) (Select from dropdown list) | G12: Date/Start Date of Excursion (§63.506(e)(6)(iii)(B)-(C), §63.506(e)(6)(xi)(B)(5)-(6), §63.118(f)(1)-(2), §63.122(g)(2)(i), §63.146(d)-(e)) | H12: Time of Excursion (§63.506(e)(6)(iii)(B), §63.506(e)(6)(xi)(B)(5)) | I12: Duration of Excursion (hours) (§63.506(e)(6)(iii)(B), §63.506(e)(6)(xi)(B)(5), §63.118(f)(2)) | J12: Daily Average Value or Batch Cycle Daily Average Value of Monitored Parameter (§63.506(e)(6)(iii)(B), §63.506(e)(6)(xi)(B)(6), §63.118(f)(1), §63.146(d)-(e)) | K12: Units of Measure for Monitored Parameter (§63.506(e)(6)(iii)(B), §63.506(e)(6)(xi)(B)(6), §63.118(f)(1), §63.146(d)-(e)) | L12: Cause of the Excursion (including unknown cause, if applicable) (§63.506(e)(6)(iii)(C), §63.122(g)(2)(ii)) | M12: Estimate of the Quantity of Regulated Pollutant Emitted Over the Emission Limit (pounds) (§63.506(e)(6)(iii)(C)) | N12: Description of the Method Used to Estimate the Emissions (§63.506(e)(6)(iii)(C)) | O12: Corrective Action Taken (§63.506(e)(6)(iii)(C))
B13: RecordId | C13: ExcursionProcessId | D13: ExcursionEquipId | E13: ExcursionParameter | F13: ExcursionType | G13: ExcursionDate | H13: ExcursionTime | I13: ExcursionDuration | J13: ExcursionParamValue | K13: ExcursionParamUnit | L13: ExcursionCause | M13: ExcursionQuantity | N13: ExcursionEsitmateMethod | O13: ExcursionCorrectiveAction
B14: e.g.: 1 | C14: e.g.: ABC Unit | D14: e.g.: Distillation Vent ABC | E14: e.g.: pH | F14: e.g.: Lack of monitoring data | G14: e.g.: 01/24/24 | H14: e.g.: | I14: e.g.: 2 | J14: e.g.: | K14: e.g.: | L14: e.g.: | M14: e.g.: 100 | N14: e.g.: | O14: e.g.:
B15: e.g.: | C15: e.g.: | D15: e.g.: | E15: e.g.: | L15: e.g.: | M15: e.g.: | N15: e.g.: | O15: e.g.:
B16: e.g.: | C16: e.g.: | D16: e.g.: | E16: e.g.: | L16: e.g.: | M16: e.g.: | N16: e.g.: | O16: e.g.:
B17: e.g.: | C17: e.g.: | D17: e.g.: | E17: e.g.: | L17: e.g.: | M17: e.g.: | N17: e.g.: | O17: e.g.:
B18: e.g.: | C18: e.g.: | D18: e.g.: | E18: e.g.: | L18: e.g.: | M18: e.g.: | N18: e.g.: | O18: e.g.:
B19: e.g.: | C19: e.g.: | D19: e.g.: | E19: e.g.: | L19: e.g.: | M19: e.g.: | N19: e.g.: | O19: e.g.:
B20: e.g.: | C20: e.g.: | D20: e.g.: | E20: e.g.: | L20: e.g.: | M20: e.g.: | N20: e.g.: | O20: e.g.:
B21: e.g.: | C21: e.g.: | D21: e.g.: | E21: e.g.: | L21: e.g.: | M21: e.g.: | N21: e.g.: | O21: e.g.:
B22: e.g.: | C22: e.g.: | D22: e.g.: | E22: e.g.: | L22: e.g.: | M22: e.g.: | N22: e.g.: | O22: e.g.:
B23: e.g.: | C23: e.g.: | D23: e.g.: | E23: e.g.: | L23: e.g.: | M23: e.g.: | N23: e.g.: | O23: e.g.:

Sheet Chloroprene
B1: DO NOT REMOVE OR EDIT INFORMATION IN ROWS 1 THORUGH 5 FOR INTERNAL USE ONLY
B2: =Welcome!A2 -> Template Name | C2: =Welcome!B2 -> 63.506(e)(6) Periodic Report (Spreadsheet Template)
B3: =Welcome!A3 -> CitationID | C3: =Welcome!B3 -> 63.506(e)(6)
B4: =Welcome!A4 -> Template Version | C4: =Welcome!B4 -> v1.00
B5: =Welcome!A5 -> Last Updated Date | C5: =Welcome!B5 -> 45441
B7: =Company_Information!B7 -> 40 CFR Part 63, Subpart U: Group I Polymers and Resins NESHAP; §63.506(e)(6) Periodic Report
B8: For continuous, batch front-end process vents, or back-end process operations in chloroprene service, the Periodic Report must include the records of the periods specified in §63.485(y)(3)(ii), §63.487(j)(3)(ii), and §63.498(f)(2).
B9: Indicate the start date and time and end date and time for each period. The record must specify the operating parameter, the applicable limit, and the highest (for maximum operating limits) or lowest (for minimum operating limits) value recorded during the period.
B11: Note: Company Record No. selections will appear once information is entered onto the Company_Information tab.
B12: Company Record No. (Select from dropdown list) | C12: Process Unit Identification | D12: Identification of the Applicable Source (§63.485(y)(4), §63.485(y)(3)(ii), §63.487(j)(4), §63.487(j)(3)(ii), §63.499(g), §63.498(f)(2)) | E12: Start Date (§63.485(y)(4), §63.487(j)(4), §63.499(g)) | F12: Start Time (§63.485(y)(4), §63.487(j)(4), §63.499(g)) | G12: Duration (hours) (§63.485(y)(4), §63.487(j)(4), §63.499(g)) | H12: Operating Parameter (§63.485(y)(4), §63.485(y)(3)(ii), §63.487(j)(4), §63.487(j)(3)(ii), §63.499(g), §63.498(f)(2)) | I12: Applicable Limit (§63.485(y)(4), §63.485(y)(3)(ii), §63.487(j)(4), §63.487(j)(3)(ii), §63.499(g), §63.498(f)(2)) | J12: Highest (for maximum operating limits) or Lowest (for minimum operating limits) Value Recorded During Period (§63.485(y)(4), §63.485(y)(3)(ii), §63.487(j)(4), §63.487(j)(3)(ii), §63.499(g), §63.498(f)(2)) | K12: Units for Columns I and J (§63.485(y)(4), §63.485(y)(3)(ii), §63.487(j)(4), §63.487(j)(3)(ii), §63.499(g), §63.498(f)(2))
B13: RecordId | C13: CpProcessId | D13: CpSourceId | E13: CpStartDate | F13: CpStartTime | G13: CpDuration | H13: CpParameter | I13: CpLimit | J13: CpParamValue | K13: CpParamUnits
B14: e.g.: 1 | C14: e.g.: ABC Unit | D14: e.g.: Thermal Oxidizer A | E14: e.g.: 01/25/24 | F14: e.g.: 12:00 PM | G14: e.g.: 12:00 PM | H14: e.g.: Combustion chamber temperature | I14: e.g.: 1500 | J14: e.g.: 1450 | K14: e.g.: F
B15: e.g.: | C15: e.g.: | D15: e.g.: | E15: e.g.: | F15: e.g.: | G15: e.g.: | H15: e.g.: | I15: e.g.: | J15: e.g.: | K15: e.g.:
B16: e.g.: | C16: e.g.: | D16: e.g.: | E16: e.g.: | F16: e.g.: | G16: e.g.: | H16: e.g.: | I16: e.g.: | J16: e.g.: | K16: e.g.:
B17: e.g.: | C17: e.g.: | D17: e.g.: | E17: e.g.: | F17: e.g.: | G17: e.g.: | H17: e.g.: | I17: e.g.: | J17: e.g.: | K17: e.g.:
B18: e.g.: | C18: e.g.: | D18: e.g.: | E18: e.g.: | F18: e.g.: | G18: e.g.: | H18: e.g.: | I18: e.g.: | J18: e.g.: | K18: e.g.:
B19: e.g.: | C19: e.g.: | D19: e.g.: | E19: e.g.: | F19: e.g.: | G19: e.g.: | H19: e.g.: | I19: e.g.: | J19: e.g.: | K19: e.g.:
B20: e.g.: | C20: e.g.: | D20: e.g.: | E20: e.g.: | F20: e.g.: | G20: e.g.: | H20: e.g.: | I20: e.g.: | J20: e.g.: | K20: e.g.:
B21: e.g.: | C21: e.g.: | D21: e.g.: | E21: e.g.: | F21: e.g.: | G21: e.g.: | H21: e.g.: | I21: e.g.: | J21: e.g.: | K21: e.g.:
B22: e.g.: | C22: e.g.: | D22: e.g.: | E22: e.g.: | F22: e.g.: | G22: e.g.: | H22: e.g.: | I22: e.g.: | J22: e.g.: | K22: e.g.:
B23: e.g.: | C23: e.g.: | D23: e.g.: | E23: e.g.: | F23: e.g.: | G23: e.g.: | H23: e.g.: | I23: e.g.: | J23: e.g.: | K23: e.g.:

Sheet Malfunctions
B1: DO NOT REMOVE OR EDIT INFORMATION IN ROWS 1 THORUGH 5 FOR INTERNAL USE ONLY
B2: =Welcome!A2 -> Template Name | C2: =Welcome!B2 -> 63.506(e)(6) Periodic Report (Spreadsheet Template)
B3: =Welcome!A3 -> CitationID | C3: =Welcome!B3 -> 63.506(e)(6)
B4: =Welcome!A4 -> Template Version | C4: =Welcome!B4 -> v1.00
B5: =Welcome!A5 -> Last Updated Date | C5: =Welcome!B5 -> 45441
B7: =Company_Information!B7 -> 40 CFR Part 63, Subpart U: Group I Polymers and Resins NESHAP; §63.506(e)(6) Periodic Report
B8: The start date, start time, duration in hours, and a brief description for each type of malfunction which occurred during the reporting period and which caused or may have caused any applicable emission limitation to be exceeded.
B9: The report must also include a description of actions taken by an owner or operator during a malfunction of an affected source to minimize emissions in accordance with §63.483(a), including actions taken to correct a malfunction.
B10: Note: Company Record No. selections will appear once information is entered onto the Company_Information tab.
B12: Company Record No. (Select from dropdown list) | C12: Process Unit Identification | D12: Affected Source (§63.506(e)(6)(iii)(E)) | E12: Start Date (§63.506(e)(6)(iii)(E)) | F12: Start Time (§63.506(e)(6)(iii)(E)) | G12: Duration (hours) (§63.506(e)(6)(iii)(E)) | H12: Brief Description of Malfunction (§63.506(e)(6)(iii)(E)) | I12: Description of Actions Taken During the Malfunction to Minimize Emissions, Including Actions Taken to Correct the Malfunction (§63.506(e)(6)(iii)(E))
B13: RecordId | C13: MalProcessId | D13: MalSourceId | E13: MalStartDate | F13: MalStartTime | G13: MalDuration | H13: MalDescription | I13: MalActions
B14: e.g.: 1 | C14: e.g.: ABC Unit | D14: e.g.: Source Name | E14: e.g.: 03/31/24 | F14: e.g.: 1:30 PM | G14: e.g.: 2 | H14: e.g.: | I14: e.g.:
B15: e.g.: | C15: e.g.: | D15: e.g.: | E15: e.g.: | F15: e.g.: | G15: e.g.: | H15: e.g.: | I15: e.g.:
B16: e.g.: | C16: e.g.: | D16: e.g.: | E16: e.g.: | F16: e.g.: | G16: e.g.: | H16: e.g.: | I16: e.g.:
B17: e.g.: | C17: e.g.: | D17: e.g.: | E17: e.g.: | F17: e.g.: | G17: e.g.: | H17: e.g.: | I17: e.g.:
B18: e.g.: | C18: e.g.: | D18: e.g.: | E18: e.g.: | F18: e.g.: | G18: e.g.: | H18: e.g.: | I18: e.g.:
B19: e.g.: | C19: e.g.: | D19: e.g.: | E19: e.g.: | F19: e.g.: | G19: e.g.: | H19: e.g.: | I19: e.g.:
B20: e.g.: | C20: e.g.: | D20: e.g.: | E20: e.g.: | F20: e.g.: | G20: e.g.: | H20: e.g.: | I20: e.g.:
B21: e.g.: | C21: e.g.: | D21: e.g.: | E21: e.g.: | F21: e.g.: | G21: e.g.: | H21: e.g.: | I21: e.g.:
B22: e.g.: | C22: e.g.: | D22: e.g.: | E22: e.g.: | F22: e.g.: | G22: e.g.: | H22: e.g.: | I22: e.g.:
B23: e.g.: | C23: e.g.: | D23: e.g.: | E23: e.g.: | F23: e.g.: | G23: e.g.: | H23: e.g.: | I23: e.g.:

Sheet Bypass
B1: DO NOT REMOVE OR EDIT INFORMATION IN ROWS 1 THORUGH 5 FOR INTERNAL USE ONLY
B2: =Welcome!A2 -> Template Name | C2: =Welcome!B2 -> 63.506(e)(6) Periodic Report (Spreadsheet Template)
B3: =Welcome!A3 -> CitationID | C3: =Welcome!B3 -> 63.506(e)(6)
B4: =Welcome!A4 -> Template Version | C4: =Welcome!B4 -> v1.00
B5: =Welcome!A5 -> Last Updated Date | C5: =Welcome!B5 -> 45441
B7: =Company_Information!B7 -> 40 CFR Part 63, Subpart U: Group I Polymers and Resins NESHAP; §63.506(e)(6) Periodic Report
B8: Submit the information specified in §63.182(d) under the conditions listed in §63.182(d) as part of the Periodic Report required by §63.506(e)(6).
B9: §63.506(e)(6)(iii) For an owner or operator of an affected source complying with the provisions of §§63.484 through 63.501 for any emission point, Periodic Reports shall include:
B10: (A) All information specified in...§63.118(f)...for continuous front-end process vents...and §63.146(c) through §63.146(g) for process wastewater.
B11: Note: Company Record No. selections will appear once information is entered onto the Company_Information tab. Depending on the answer in Column D, cells in Columns H-J will be blacked out.
B12: Company Record No. (Select from dropdown list) | C12: Process Unit Identification | D12: Identification of Flow indicator, Control Device, Bypass Line, or Closed Vent System (§63.506(e)(6), §63.118(f), §63.146(e), §63.182(d)(2)(xix), §63.492(f)) | E12: Type of Event (§63.506(e)(6), §63.118(f), §63.146(e)(1), §63.182(d)(2)(xix), §63.492(f)) (Select from dropdown list) | F12: Start Date (§63.506(e)(6), §63.118(f), §63.146(e)(1), §63.182(d)(2)(xix), §63.492(f)) | G12: Start Time (§63.506(e)(6), §63.118(f), §63.146(e)(1), §63.182(d)(2)(xix), §63.492(f)) | H12: Duration (hours) (§63.506(e)(6), §63.118(f), §63.146(e)(1), §63.182(d)(2)(xix), §63.492(f)) | I12: Estimate of the Volume of Gas (standard cubic feet) (§63.506(e)(6), §63.118(f)(7), §63.146(e)(1), §63.182(d)(2)(xix)) | J12: Concentration of organic HAP in the Gas (ppmv) (§63.506(e)(6), §63.118(f)(7), §63.146(e)(1), §63.182(d)(2)(xix)) | K12: Resulting Mass Emissions of organic HAP that Bypassed Control Device (pounds) (§63.506(e)(6), §63.118(f)(7), §63.146(e)(1), §63.182(d)(2)(xix))
B13: RecordId | C13: BypassProcessId | D13: BypassFacilityId | E13: BypassType | F13: BypassStartDate | G13: BypassStartTime | H13: BypassDuration | I13: BypassVolumeEstimate | J13: BypassConc | K13: BypassMassEmissions
B14: e.g.: 1 | C14: e.g.: ABC Unit | D14: e.g.: Bypass Line 2 | E14: e.g.: Flow diverted from control device to bypass line | F14: e.g.: 05/17/24 | G14: e.g.: 11:15 AM | H14: e.g.: 1 | I14: e.g.: 50 | J14: e.g.: 1000 | K14: e.g.: 40
B15: e.g.: 1 | C15: e.g.: ABC Unit | D15: e.g.: Bypass Line 1 Flowmeter A | E15: e.g.: Flow indicator not operating | F15: e.g.: 04/28/24 | G15: e.g.: 4:25 AM | H15: e.g.: 2
B16: e.g.: | C16: e.g.: | D16: e.g.: | E16: e.g.: | F16: e.g.: | G16: e.g.: | H16: e.g.: | I16: e.g.: | J16: e.g.: | K16: e.g.:
B17: e.g.: | C17: e.g.: | D17: e.g.: | E17: e.g.: | F17: e.g.: | G17: e.g.: | H17: e.g.: | I17: e.g.: | J17: e.g.: | K17: e.g.:
B18: e.g.: | C18: e.g.: | D18: e.g.: | E18: e.g.: | F18: e.g.: | G18: e.g.: | H18: e.g.: | I18: e.g.: | J18: e.g.: | K18: e.g.:
B19: e.g.: | C19: e.g.: | D19: e.g.: | E19: e.g.: | F19: e.g.: | G19: e.g.: | H19: e.g.: | I19: e.g.: | J19: e.g.: | K19: e.g.:
B20: e.g.: | C20: e.g.: | D20: e.g.: | E20: e.g.: | F20: e.g.: | G20: e.g.: | H20: e.g.: | I20: e.g.: | J20: e.g.: | K20: e.g.:
B21: e.g.: | C21: e.g.: | D21: e.g.: | E21: e.g.: | F21: e.g.: | G21: e.g.: | H21: e.g.: | I21: e.g.: | J21: e.g.: | K21: e.g.:
B22: e.g.: | C22: e.g.: | D22: e.g.: | E22: e.g.: | F22: e.g.: | G22: e.g.: | H22: e.g.: | I22: e.g.: | J22: e.g.: | K22: e.g.:
B23: e.g.: | C23: e.g.: | D23: e.g.: | E23: e.g.: | F23: e.g.: | G23: e.g.: | H23: e.g.: | I23: e.g.: | J23: e.g.: | K23: e.g.:

Sheet Flares
B1: DO NOT REMOVE OR EDIT INFORMATION IN ROWS 1 THORUGH 5 FOR INTERNAL USE ONLY
B2: =Welcome!A2 -> Template Name | C2: =Welcome!B2 -> 63.506(e)(6) Periodic Report (Spreadsheet Template)
B3: =Welcome!A3 -> CitationID | C3: =Welcome!B3 -> 63.506(e)(6)
B4: =Welcome!A4 -> Template Version | C4: =Welcome!B4 -> v1.00
B5: =Welcome!A5 -> Last Updated Date | C5: =Welcome!B5 -> 45441
B7: =Company_Information!B7 -> 40 CFR Part 63, Subpart U: Group I Polymers and Resins NESHAP; §63.506(e)(6) Periodic Report
B8: The information specified in §63.108(l)(2) of part 63 subpart F.
B10: Note: Company Record No. selections will appear once information is entered onto the Company_Information tab. Depending on the answer in Column D, cells in Columns H-R will be blacked out.
I11: Visible Emissions Exceeded or Emergency Flaring | J11: Operating Limits Not Met Only | M11: Emergency Flaring Only
B12: Company Record No. (Select from dropdown) | C12: Process Unit Identification | D12: Flare Identification (§63.506(e)(6)(xiii)) | E12: Type of Event (§63.506(e)(6)(xiii), §63.108(l)(2)) (Select from dropdown) | F12: Date (§63.506(e)(6)(xiii), §63.108(l)(2)) | G12: Start Time (§63.506(e)(6)(xiii), §63.108(l)(2)) | H12: End Time (§63.506(e)(6)(xiii), §63.108(l)(2)) | I12: Estimate of Cumulative Number of Minutes for Which Emissions Were Visible (§63.506(e)(6)(xiii), §63.108(l)(2)(ii), §63.108(l)(2)(iv)(B)) | J12: Which operating limit was not met? (§63.506(e)(6)(xiii), §63.108(l)(2)(iii)) (Select from dropdown) | K12: Value of Operating Parameter (§63.506(e)(6)(xiii), §63.108(l)(2)(iii)) | L12: Units of Measure for Operating Parameter (§63.506(e)(6)(xiii), §63.108(l)(2)(iii)) (Autofills) | M12: Start Date Flare Tip Velocity Exceeded (§63.506(e)(6)(xiii), §63.108(l)(2)(iv)(C)) | N12: Start Time Flare Tip Velocity Exceeded (§63.506(e)(6)(xiii), §63.108(l)(2)(iv)(C)) | O12: Duration Flare Tip Velocity Exceeded (minutes) (§63.506(e)(6)(xiii), §63.108(l)(2)(iv)(C)) | P12: Maximum 15-Minute Block Average Flare Tip Velocity (ft/sec) (§63.506(e)(6)(xiii), §63.108(l)(2)(iv)(C)) | Q12: Results of Root Cause and Corrective Action Analysis Completed During Reporting Period (§63.506(e)(6)(xiii), §63.108(l)(2)(iv)(D)) | R12: Corrective Actions Implemented During Reporting Period (§63.506(e)(6)(xiii), §63.108(l)(2)(iv)(D)) | S12: Implementation Schedule for Planned Corrective Actions Subsequent to Reporting Period (§63.506(e)(6)(xiii), §63.108(l)(2)(iv)(D))
B13: RecordId | C13: FlareProcessId | D13: FlareId | E13: FlareEventType | F13: FlareDate | G13: FlareStartTime | H13: FlareEndTime | I13: FlareVEMinutes | J13: FlareOpLimit | K13: FlareParameterValue | L13: FlareParameterUnits | M13: FlareTipStartDate | N13: FlareTipStartTime | O13: FlareTipDuration | P13: FlareTipVelocity | Q13: FlareTipRootCause | R13: FlareTipCorrectiveAction | S13: FlareTipSchedule
B14: e.g.: 1 | C14: e.g.: ABC Unit | D14: e.g.: Flare 302 | E14: e.g.: No pilot/flare flame present | F14: e.g.: 02/04/24 | G14: e.g.: 3:15 PM | H14: e.g.: 3:30 PM
B15: e.g.: | C15: e.g.: ABC Unit | D15: e.g.: Flare 4-6 | E15: e.g.: Emergency Flaring | F15: e.g.: 03/01/24 | G15: e.g.: 10:05 PM | H15: e.g.: 10:20 PM | I15: e.g.: 10 | M15: e.g.: 03/01/24 | N15: e.g.: 10:10 PM | O15: e.g.: 10:20 PM | P15: e.g.: 500 | Q15: e.g.: | R15: e.g.: | S15: e.g.:
B16: e.g.: | C16: e.g.: ABC Unit | D16: e.g.: Flare 23 | E16: e.g.: Applicable operating limits not met | F16: e.g.: 03/06/24 | G16: e.g.: 1:30 PM | H16: e.g.: 1:45 PM | J16: e.g.: vtip | K16: e.g.: 450 | L16: e.g.: ft/s
B17: e.g.: | C17: e.g.: | D17: e.g.: | E17: e.g.: | F17: e.g.: | G17: e.g.: | H17: e.g.: | I17: e.g.: | J17: e.g.: | K17: e.g.: | L17: e.g.: | M17: e.g.: | N17: e.g.: | O17: e.g.: | P17: e.g.: | Q17: e.g.: | R17: e.g.: | S17: e.g.:
B18: e.g.: | C18: e.g.: | D18: e.g.: | E18: e.g.: | F18: e.g.: | G18: e.g.: | H18: e.g.: | I18: e.g.: | J18: e.g.: | K18: e.g.: | L18: e.g.: | M18: e.g.: | N18: e.g.: | O18: e.g.: | P18: e.g.: | Q18: e.g.: | R18: e.g.: | S18: e.g.:
B19: e.g.: | C19: e.g.: | D19: e.g.: | E19: e.g.: | F19: e.g.: | G19: e.g.: | H19: e.g.: | I19: e.g.: | J19: e.g.: | K19: e.g.: | L19: e.g.: | M19: e.g.: | N19: e.g.: | O19: e.g.: | P19: e.g.: | Q19: e.g.: | R19: e.g.: | S19: e.g.:
B20: e.g.: | C20: e.g.: | D20: e.g.: | E20: e.g.: | F20: e.g.: | G20: e.g.: | H20: e.g.: | I20: e.g.: | J20: e.g.: | K20: e.g.: | L20: e.g.: | M20: e.g.: | N20: e.g.: | O20: e.g.: | P20: e.g.: | Q20: e.g.: | R20: e.g.: | S20: e.g.:
B21: e.g.: | C21: e.g.: | D21: e.g.: | E21: e.g.: | F21: e.g.: | G21: e.g.: | H21: e.g.: | I21: e.g.: | J21: e.g.: | K21: e.g.: | L21: e.g.: | M21: e.g.: | N21: e.g.: | O21: e.g.: | P21: e.g.: | Q21: e.g.: | R21: e.g.: | S21: e.g.:
B22: e.g.: | C22: e.g.: | D22: e.g.: | E22: e.g.: | F22: e.g.: | G22: e.g.: | H22: e.g.: | I22: e.g.: | J22: e.g.: | K22: e.g.: | L22: e.g.: | M22: e.g.: | N22: e.g.: | O22: e.g.: | P22: e.g.: | Q22: e.g.: | R22: e.g.: | S22: e.g.:
B23: e.g.: | C23: e.g.: | D23: e.g.: | E23: e.g.: | F23: e.g.: | G23: e.g.: | H23: e.g.: | I23: e.g.: | J23: e.g.: | K23: e.g.: | L23: e.g.: | M23: e.g.: | N23: e.g.: | O23: e.g.: | P23: e.g.: | Q23: e.g.: | R23: e.g.: | S23: e.g.:
L24: =IF(J24="","",IF(J24="vtip","ft/s",IF(J24="NHVcz","Btu/scf","Btu/sq ft")))
L25: =IF(J25="","",IF(J25="vtip","ft/s",IF(J25="NHVcz","Btu/scf","Btu/sq ft")))
L26: =IF(J26="","",IF(J26="vtip","ft/s",IF(J26="NHVcz","Btu/scf","Btu/sq ft")))
L27: =IF(J27="","",IF(J27="vtip","ft/s",IF(J27="NHVcz","Btu/scf","Btu/sq ft")))
L28: =IF(J28="","",IF(J28="vtip","ft/s",IF(J28="NHVcz","Btu/scf","Btu/sq ft")))
L29: =IF(J29="","",IF(J29="vtip","ft/s",IF(J29="NHVcz","Btu/scf","Btu/sq ft")))
L30: =IF(J30="","",IF(J30="vtip","ft/s",IF(J30="NHVcz","Btu/scf","Btu/sq ft")))
L31: =IF(J31="","",IF(J31="vtip","ft/s",IF(J31="NHVcz","Btu/scf","Btu/sq ft")))
L32: =IF(J32="","",IF(J32="vtip","ft/s",IF(J32="NHVcz","Btu/scf","Btu/sq ft")))
L33: =IF(J33="","",IF(J33="vtip","ft/s",IF(J33="NHVcz","Btu/scf","Btu/sq ft")))
L34: =IF(J34="","",IF(J34="vtip","ft/s",IF(J34="NHVcz","Btu/scf","Btu/sq ft")))
L35: =IF(J35="","",IF(J35="vtip","ft/s",IF(J35="NHVcz","Btu/scf","Btu/sq ft")))
... L10023: =IF(J10023="","",IF(J10023="vtip","ft/s",IF(J10023="NHVcz","Btu/scf","Btu/sq ft")))

Sheet Maintenance_Vents
B1: DO NOT REMOVE OR EDIT INFORMATION IN ROWS 1 THORUGH 5 FOR INTERNAL USE ONLY
B2: =Welcome!A2 -> Template Name | C2: =Welcome!B2 -> 63.506(e)(6) Periodic Report (Spreadsheet Template)
B3: =Welcome!A3 -> CitationID | C3: =Welcome!B3 -> 63.506(e)(6)
B4: =Welcome!A4 -> Template Version | C4: =Welcome!B4 -> v1.00
B5: =Welcome!A5 -> Last Updated Date | C5: =Welcome!B5 -> 45441
B7: =Company_Information!B7 -> 40 CFR Part 63, Subpart U: Group I Polymers and Resins NESHAP; §63.506(e)(6) Periodic Report
B8: For any maintenance vent release exceeding the applicable limits in §63.113(k)(1) or §63.487(i)(1), the compliance report must include the information specified in §63.118(f)(9)(i) through (f)(9)(iv) or §63.492(g)(1) through (g)(4). If an owner or operator complies with §63.113(k)(1)(iv) or §63.487(i)(1)(iv), then the owner or operator must report each venting event conducted under those provisions and
B9: include an explanation for each event as to why utilization of this alternative was required.
