Workbook
Name Sites: OFFSET(Lists!$C$2,0,0,SUMPRODUCT(--(Lists!$C$2:$C$101<>"")),1)

Sheet Welcome
A1: DO NOT REMOVE OR EDIT INFORMATION IN ROWS 1 THORUGH 5 FOR INTERNAL USE ONLY
A2: Template Name | B2: 63.506(e)(6) Periodic Report (Spreadsheet Template)
A3: CitationID | B3: 63.506(e)(6)
A4: Template Version | B4: v1.00
A5: Last Updated Date | B5: 45441
B6: OMB Control Numbers: 2060-0665 Form 5900-701 For further Paperwork Reduction Act information see: https://www.epa.gov/electronic-reporting-air-emissions/paperwork-reduction-act-pra-cedri-and-ert
B7: For further Paperwork Reduction Act information see: https://www.epa.gov/electronic-reporting-air-emissions/paperwork-reduction-act-pra-cedri-and-ert
A8: blank | B8: 40 CFR Part 63, Subpart U - National Emission Standards for Hazardous Air Pollutant Emissions: Group I Polymers and Resins
B9: §63.506(e)(6) Periodic Report Spreadsheet Template
B10: Instructions for Spreadsheet Template
B11: Purpose: This spreadsheet template was designed by the U.S. EPA to facilitate semiannual reporting for affected facilities subject under 40 CFR Part 63, subpart U, National Emission Standards for Hazardous Air Pollutant Emissions: Group I Polymers and Resins.
B12: Electronic reporting: Electronic submission of semiannual reports through the EPA's Compliance and Emissions Data Reporting (CEDRI) is required under §63.506(e)(6). CEDRI is accessed through the EPA's Central Data Exchange (https://cdx.epa.gov).
B13: Confidential Business Information:
B14: Do not submit confidential business information (CBI) to EPA via CEDRI. EPA will make all the information submitted through this form via CEDRI available to the public without further notice to you. All CBI claims must be asserted at the time of submission. Anything submitted using CEDRI cannot later be claimed to be CBI. Furthermore, under CAA section 114(c) emissions data is not entitled to confidential treatment, and EPA is required to make emissions data available to the public. Thus, emissions data will not be protected as CBI and will be made publicly available.
B15: Although we do not expect persons to assert a claim of CBI, if persons wish to assert a CBI claim for some of the information in this report, you must submit a version of the report with the CBI omitted via CEDRI and submit a complete report, including any information claimed to be CBI, to EPA. The preferred method to receive CBI is for it to be transmitted electronically using email attachments, File Transfer Protocol, or other online file sharing services. Electronic submissions must be transmitted directly to the OAQPS CBI Office at the email address oaqpscbi@epa.gov to the attention of the Polymers and Resins Sector Lead. If assistance is needed with submitting large electronic files that exceed the file size limit for email attachments, and if you do not have your own file sharing service, please email oaqpscbi@epa.gov to request a file transfer link. If you cannot transmit the file electronically, you may send CBI information through the postal service to the following address:
B16: OAQPS Document Control Officer (C404-02) OAQPS, U.S. Environmental Protection Agency Attn: Polymers and Resins Sector Lead 109 T.W. Alexander Drive P.O. Box 12055 Research Triangle Park, North Carolina 27711
A17: blank | B17: The mailed CBI material should be double wrapped and clearly marked. Any CBI markings should not show through the outer envelope. Clearly mark the part or all of the information that you claim to be CBI. Information not marked as CBI may be authorized for public release without prior notice. Information marked as CBI will not be disclosed except in accordance with procedures set forth in 40 CFR part 2.
B18: Using this Template:
B19: The CEDRI spreadsheet template upload feature allows you to submit data in a single report for a single site or multiple sites using this EPA provided Excel workbook. Data for each site must be entered into the worksheet labeled "Company_Information" in this Excel workbook. Each row in the "Company_Information" worksheet includes the data for a single site. The Site Record No. will be used to match the information on each tab to the appropriate site.
B20: IMPORTANT: The final CEDRI upload file must be a single ZIP file, which must include this Excel workbook and any related attachments that were referenced in the workbook (i.e., additional information file found in the "Company_Information" worksheet).
B21: For each site record found in the "Company_Information" worksheet, you may reference a single file attachment that includes additional information. If you are uploading file attachments for your report, the uploaded files may be in any format (e.g., zip, docx, PDF). If you would like to include an Excel file(s) as an attachment, you must first zip the excel file(s) into a separate ZIP file to the master ZIP file that will be uploaded into CEDRI.
B22: For example, the file “2019Report.zip” uploaded into CEDRI may contain 2 files: 1. Completed_annual_reporting_spreadsheet_2019.xlsx 2. Attachments.zip The “Attachments.zip” file could contain as many attachments of any format (xlsx, xls, docx, pdf, zip, etc.) as needed. If you only have one file to attach, you do not need to zip it unless it is an Excel file (.xlsx, .xls).
B23: Template Navigation and Tabs to Complete:
B24: The relevant regulatory citations are listed for each data element. Some data elements provide information that is not required for federal reporting purposes, but may be helpful for report navigation (such as linked to conditional formatting) or may be needed for state or local reporting purposes (e.g., Responsible Agency Facility ID). These data elements do not have a regulatory citation associated with them.
A25: blank | B25: Within each worksheet, example rows are colored light orange (rows 14 through 23), and the XML tag row (row 13) is colored green. These rows are locked; no data entry is made in these rows.

Sheet Company_Information
B1: DO NOT REMOVE OR EDIT INFORMATION IN ROWS 1 THORUGH 5 FOR INTERNAL USE ONLY
B2: =Welcome!A2 -> Template Name | C2: =Welcome!B2 -> 63.506(e)(6) Periodic Report (Spreadsheet Template)
B3: =Welcome!A3 -> CitationID | C3: =Welcome!B3 -> 63.506(e)(6)
B4: =Welcome!A4 -> Template Version | C4: =Welcome!B4 -> v1.00
B5: =Welcome!A5 -> Last Updated Date | C5: =Welcome!B5 -> 45441
B7: 40 CFR Part 63, Subpart U: Group I Polymers and Resins NESHAP; §63.506(e)(6) Periodic Report
B8: The owner or operator of a source subject to this subpart shall submit Periodic Reports. All periodic reports must contain the company name and address (including county), as well as the beginning and ending dates of the reporting period.
B9: A report containing the information in §63.506(e)(6)(ii) or (e)(6)(iii) through (x) and (xiii) shall be submitted semiannually no later than 60 calendar days after the end of each 6-month period. Quarterly reports must be submitted as required in §63.506(e)(xi) and (xii).
B10: Note: The Company Record No. will automatically generate if you do not enter one.
B11: SITE INFORMATION | J11: STATE IDENTIFIER | K11: REPORTING PERIOD | M11: Declaration of No Exceedances, Periods, or Events | N11: ADDITIONAL INFORMATION
B12: Company Record No. (Field value will automatically generate if a value is not entered.) | C12: Company Name (§63.506(e)(6)(i)) | D12: Address (§63.506(e)(6)(i)) | E12: Address 2 | F12: City (§63.506(e)(6)(i)) | G12: County (§63.506(e)(6)(i)) | H12: State Abbreviation (§63.506(e)(6)(i)) (Select from dropdown list) | I12: Zip Code (§63.506(e)(6)(i)) | J12: Responsible Agency Facility ID (State Facility Identifier) | K12: Beginning Date of Reporting Period (§63.506(e)(6)(i)) | L12: Ending Date of Reporting Period (§63.506(e)(6)(i)) | M12: If there are no exceptions in paragraphs §63.506(e)(6)(iii) through (ix) or (xiii) that occurred during the reporting period, indicate that here. (§63.506(e)(6)(ii)) (Select from dropdown list) | N12: Please enter any additional information. | O12: Enter associated file name reference.
B13: RecordId | C13: FacilityName | D13: AddressLine1 | E13: AddressLine2 | F13: CityName | G13: CountyName | H13: StateName | I13: ZipCode | J13: StateFacId | K13: PeriodStartDate | L13: PeriodEndDate | M13: NoEventsFlag | N13: AddInfo | O13: AddFile
B14: e.g.: 1 | C14: e.g.: ABC Company | D14: e.g.: 456 Broad Street | E14: e.g.: Suite 249 | F14: e.g.: Houston | G14: e.g.: Cook | H14: e.g.: TX | I14: e.g.: 77001 | J14: e.g.: | K14: e.g.: 01/01/23 | L14: e.g.: 06/30/23 | M14: e.g.: Information required by §63.506(e)(6)(iii) through (ix) and (xiii) is included in this report. | N14: e.g.: | O14: e.g.: addinfo.zip
B15: e.g.: | C15: e.g.: | D15: e.g.: | E15: e.g.: | F15: e.g.: | G15: e.g.: | H15: e.g.: | I15: e.g.: | J15: e.g.: | K15: e.g.: | L15: e.g.: | N15: e.g.: | O15: e.g.:
B16: e.g.: | C16: e.g.: | D16: e.g.: | E16: e.g.: | F16: e.g.: | G16: e.g.: | H16: e.g.: | I16: e.g.: | J16: e.g.: | K16: e.g.: | L16: e.g.: | N16: e.g.: | O16: e.g.:
B17: e.g.: | C17: e.g.: | D17: e.g.: | E17: e.g.: | F17: e.g.: | G17: e.g.: | H17: e.g.: | I17: e.g.: | J17: e.g.: | K17: e.g.: | L17: e.g.: | N17: e.g.: | O17: e.g.:
B18: e.g.: | C18: e.g.: | D18: e.g.: | E18: e.g.: | F18: e.g.: | G18: e.g.: | H18: e.g.: | I18: e.g.: | J18: e.g.: | K18: e.g.: | L18: e.g.: | N18: e.g.: | O18: e.g.:
B19: e.g.: | C19: e.g.: | D19: e.g.: | E19: e.g.: | F19: e.g.: | G19: e.g.: | H19: e.g.: | I19: e.g.: | J19: e.g.: | K19: e.g.: | L19: e.g.: | N19: e.g.: | O19: e.g.:
B20: e.g.: | C20: e.g.: | D20: e.g.: | E20: e.g.: | F20: e.g.: | G20: e.g.: | H20: e.g.: | I20: e.g.: | J20: e.g.: | K20: e.g.: | L20: e.g.: | N20: e.g.: | O20: e.g.:
B21: e.g.: | C21: e.g.: | D21: e.g.: | E21: e.g.: | F21: e.g.: | G21: e.g.: | H21: e.g.: | I21: e.g.: | J21: e.g.: | K21: e.g.: | L21: e.g.: | N21: e.g.: | O21: e.g.:
B22: e.g.: | C22: e.g.: | D22: e.g.: | E22: e.g.: | F22: e.g.: | G22: e.g.: | H22: e.g.: | I22: e.g.: | J22: e.g.: | K22: e.g.: | L22: e.g.: | N22: e.g.: | O22: e.g.:
B23: e.g.: | C23: e.g.: | D23: e.g.: | E23: e.g.: | F23: e.g.: | G23: e.g.: | H23: e.g.: | I23: e.g.: | J23: e.g.: | K23: e.g.: | L23: e.g.: | N23: e.g.: | O23: e.g.:
B24: =IF(C24="","",ROW(B24)-23)
B25: =IF(C25="","",ROW(B25)-23)
B26: =IF(C26="","",ROW(B26)-23)
B27: =IF(C27="","",ROW(B27)-23)
B28: =IF(C28="","",ROW(B28)-23)
B29: =IF(C29="","",ROW(B29)-23)
B30: =IF(C30="","",ROW(B30)-23)
B31: =IF(C31="","",ROW(B31)-23)
B32: =IF(C32="","",ROW(B32)-23)
B33: =IF(C33="","",ROW(B33)-23)
B34: =IF(C34="","",ROW(B34)-23)
B35: =IF(C35="","",ROW(B35)-23)
... B223: =IF(C223="","",ROW(B223)-23)

Sheet Notifications
B1: DO NOT REMOVE OR EDIT INFORMATION IN ROWS 1 THORUGH 5 FOR INTERNAL USE ONLY
B2: =Welcome!A2 -> Template Name | C2: =Welcome!B2 -> 63.506(e)(6) Periodic Report (Spreadsheet Template)
B3: =Welcome!A3 -> CitationID | C3: =Welcome!B3 -> 63.506(e)(6)
B4: =Welcome!A4 -> Template Version | C4: =Welcome!B4 -> v1.00
B5: =Welcome!A5 -> Last Updated Date | C5: =Welcome!B5 -> 45441
B7: =Company_Information!B7 -> 40 CFR Part 63, Subpart U: Group I Polymers and Resins NESHAP; §63.506(e)(6) Periodic Report
B8: Use this tab to provide general notices required in the Periodic Report, as applicable.
B10: Note: Company Record No. selections will appear once information is entered onto the Company_Information tab.
B12: Company Record No. (Select from dropdown list) | C12: Process Unit Identification | D12: Source or Equipment | E12: If you added a grade, with corresponding stripper parameter levels, using the procedures in §63.505(e)(1) and (e)(2), provide the attachment name that contains the results of the determination. (§63.505(e)(3)) | F12: Provide the attachment name that contains the notification of a Group 2 emission point/continuous front-end/batch front-end process vent becoming a Group 1 process vent. (§63.506(e)(6)(iii)(D)(2), §63.485(l)(1), §63.492(b)) | G12: Provide the attachment name that contains the report of a process change that causes a Group 2 batch front-end process vent to have emissions ≥ §63.488(d) but remains a Group 2 batch front-end process vent or causes a limit redetermination. (§63.492(c)) | H12: Provide file name containing records associated with determination of the organic HAP content of each grade of elastomer produced for a back-end process operation using stripping technology if there was a redetermination/grade addition. (§63.499(b)(2)) | I12: If there was a process change, provide file name containing records associated with the redetermination of the compliance status for the back-end process operations subject to a residual organic HAP limitation in §63.494(a)(1) through (3). (§63.499(d)) | J12: Provide the attachment name that contains any supplements to the Emissions Averaging Plan required under §63.506(e)(4)(iii) or (iv). (§63.506(e)(6)(iii)(D)(1), §63.506(e)(4)(iv)) | K12: Provide the attachment name that contains notification if one or more emission points or one or more EPPU is added to an affected source. (§63.506(e)(6)(iii)(D)(3)) | L12: Provide the attachment name that contains notification if a standard operating procedure is changed and the change has the potential for increasing the concentration of carbon disulfide in the crumb dryer exhaust. (§63.506(e)(6)(iii)(D)(4)) | M12: For process wastewater streams sent for treatment pursuant to §63.132(g), if the transferee has changed, provide the identity of the treatment facility or transferee. (§63.506(e)(6)(iii)(D)(5)) | N12: For each batch front-end process vent with a batch mass input limitation, the mass of HAP or material input to the batch unit operation during the 12-month period covered by the preceding and current Periodic Reports. (§63.506(e)(6)(iv)) | O12: For each batch front-end process vent with a batch mass input limitation, a statement of whether the batch front-end process vent was in or out of compliance with the batch mass input limitation. (§63.506(e)(6)(iv)) (Select from dropdown list) | P12: Provide the attachment name that contains the notification of a change in the primary product of an EPPU, including a change in primary product from one elastomer product to either another elastomer product or to a non-elastomer product. (§63.506(e)(vi)) | Q12: Provide the attachment name that contains the results for each change made to a predominant use determination made under §63.480(g) for a storage vessel that is assigned to an affected source subject to this subpart after the change. (§63.506(e)(vii)) | R12: Provide the attachment name that contains the results for each change made to a predominant use determination made under §63.480(h) for recovery operations equipment assigned to an affected source after the change. (§63.506(e)(viii)) | S12: Have you met the requirements of §63.506(h)(1) and are providing notice that you will retain only the daily average or batch cycle daily average value for a monitored parameter? (§63.506(e)(6)(ix)) (Select from dropdown list) | T12: Have you met the requirements of §63.506(h)(2) and are providing notice that you have elected to not retain the daily average values for a parameter(s)? (§63.506(e)(6)(x)) (Select from dropdown list) | U12: Did you previously elect to not retain the daily average values for a parameter(s) and are now providing notice that you are resuming retaining the daily average values due to an excursion? (§63.506(e)(6)(x)) (Select from dropdown list) | V12: Provide attachment name that contains any other information the affected source is required to report under the operating permit or Emissions Averaging Plan for the affected source. (§63.506(e)(6)(xi)(B)(7)) | W12: Provide attachment name that documents the decision to utilize an extension when a roof is unsafe, including that alternate storage capacity was unavailable and a schedule to empty the tank as soon as practical. (§63.506(e)(6), §63.146(g), §63.133(e)(2)) | X12: Provide attachment name documenting the decision to use an extension when an improper work practice or control equipment failure is identified, including a schedule to empty/repair the vessel as soon as practical. (§63.506(e)(6), §63.146(g),§63.133(h))
B13: RecordId | C13: NoticeProcessId | D13: NoticeSourceId | E13: NoticeGradeRedeterm | F13: NoticeGroupChangeFile | G13: NoticeGroupTwoUpdate | H13: NoticeOrganicRedeterm | I13: NoticeBackEndRedeterm | J13: NoticeEmAvgUpdate | K13: NoticeEppuAdd | L13: NoticeSopDryer | M13: NoticeTransferChange | N13: NoticeAnnualMassInput | O13: NoticeBatchCompliance | P13: NoticeEppuProductChange | Q13: NoticePredomUseStorage | R13: NoticePredomUseRecovery | S13: NoticeDailyOnlyFlag | T13: NoticeNoDailyFlag | U13: NoticeDailyExcursionFlag | V13: NoticeOtherInfo | W13: NoticeStorageUnsafeExtension | X13: NoticeStorageFailureExtension
B14: e.g.: 1 | C14: e.g.: ABC Unit | D14: e.g.: | E14: e.g.: | F14: e.g.: | G14: e.g.: | H14: e.g.: | I14: e.g.: | J14: e.g.: | K14: e.g.: | L14: e.g.: | M14: e.g.: | N14: e.g.: | O14: e.g.: | P14: e.g.: | Q14: e.g.: | R14: e.g.: | S14: e.g.: | T14: e.g.: | U14: e.g.: | V14: e.g.: | W14: e.g.: | X14: e.g.:
B15: e.g.: | C15: e.g.: | D15: e.g.: | E15: e.g.: | F15: e.g.: | G15: e.g.: | H15: e.g.: | I15: e.g.: | J15: e.g.: | K15: e.g.: | L15: e.g.: | M15: e.g.: | N15: e.g.: | O15: e.g.: | P15: e.g.: | Q15: e.g.: | R15: e.g.: | S15: e.g.: | T15: e.g.: | U15: e.g.: | V15: e.g.: | W15: e.g.: | X15: e.g.:
B16: e.g.: | C16: e.g.: | D16: e.g.: | E16: e.g.: | F16: e.g.: | G16: e.g.: | H16: e.g.: | I16: e.g.: | J16: e.g.: | K16: e.g.: | L16: e.g.: | M16: e.g.: | N16: e.g.: | O16: e.g.: | P16: e.g.: | Q16: e.g.: | R16: e.g.: | S16: e.g.: | T16: e.g.: | U16: e.g.: | V16: e.g.: | W16: e.g.: | X16: e.g.:
B17: e.g.: | C17: e.g.: | D17: e.g.: | E17: e.g.: | F17: e.g.: | G17: e.g.: | H17: e.g.: | I17: e.g.: | J17: e.g.: | K17: e.g.: | L17: e.g.: | M17: e.g.: | N17: e.g.: | O17: e.g.: | P17: e.g.: | Q17: e.g.: | R17: e.g.: | S17: e.g.: | T17: e.g.: | U17: e.g.: | V17: e.g.: | W17: e.g.: | X17: e.g.:
B18: e.g.: | C18: e.g.: | D18: e.g.: | E18: e.g.: | F18: e.g.: | G18: e.g.: | H18: e.g.: | I18: e.g.: | J18: e.g.: | K18: e.g.: | L18: e.g.: | M18: e.g.: | N18: e.g.: | O18: e.g.: | P18: e.g.: | Q18: e.g.: | R18: e.g.: | S18: e.g.: | T18: e.g.: | U18: e.g.: | V18: e.g.: | W18: e.g.: | X18: e.g.:
B19: e.g.: | C19: e.g.: | D19: e.g.: | E19: e.g.: | F19: e.g.: | G19: e.g.: | H19: e.g.: | I19: e.g.: | J19: e.g.: | K19: e.g.: | L19: e.g.: | M19: e.g.: | N19: e.g.: | O19: e.g.: | P19: e.g.: | Q19: e.g.: | R19: e.g.: | S19: e.g.: | T19: e.g.: | U19: e.g.: | V19: e.g.: | W19: e.g.: | X19: e.g.:
B20: e.g.: | C20: e.g.: | D20: e.g.: | E20: e.g.: | F20: e.g.: | G20: e.g.: | H20: e.g.: | I20: e.g.: | J20: e.g.: | K20: e.g.: | L20: e.g.: | M20: e.g.: | N20: e.g.: | O20: e.g.: | P20: e.g.: | Q20: e.g.: | R20: e.g.: | S20: e.g.: | T20: e.g.: | U20: e.g.: | V20: e.g.: | W20: e.g.: | X20: e.g.:
B21: e.g.: | C21: e.g.: | D21: e.g.: | E21: e.g.: | F21: e.g.: | G21: e.g.: | H21: e.g.: | I21: e.g.: | J21: e.g.: | K21: e.g.: | L21: e.g.: | M21: e.g.: | N21: e.g.: | O21: e.g.: | P21: e.g.: | Q21: e.g.: | R21: e.g.: | S21: e.g.: | T21: e.g.: | U21: e.g.: | V21: e.g.: | W21: e.g.: | X21: e.g.:
B22: e.g.: | C22: e.g.: | D22: e.g.: | E22: e.g.: | F22: e.g.: | G22: e.g.: | H22: e.g.: | I22: e.g.: | J22: e.g.: | K22: e.g.: | L22: e.g.: | M22: e.g.: | N22: e.g.: | O22: e.g.: | P22: e.g.: | Q22: e.g.: | R22: e.g.: | S22: e.g.: | T22: e.g.: | U22: e.g.: | V22: e.g.: | W22: e.g.: | X22: e.g.:
B23: e.g.: | C23: e.g.: | D23: e.g.: | E23: e.g.: | F23: e.g.: | G23: e.g.: | H23: e.g.: | I23: e.g.: | J23: e.g.: | K23: e.g.: | L23: e.g.: | M23: e.g.: | N23: e.g.: | O23: e.g.: | P23: e.g.: | Q23: e.g.: | R23: e.g.: | S23: e.g.: | T23: e.g.: | U23: e.g.: | V23: e.g.: | W23: e.g.: | X23: e.g.:

Sheet Emissions_Averaging
B1: DO NOT REMOVE OR EDIT INFORMATION IN ROWS 1 THORUGH 5 FOR INTERNAL USE ONLY
B2: =Welcome!A2 -> Template Name | C2: =Welcome!B2 -> 63.506(e)(6) Periodic Report (Spreadsheet Template)
B3: =Welcome!A3 -> CitationID | C3: =Welcome!B3 -> 63.506(e)(6)
B4: =Welcome!A4 -> Template Version | C4: =Welcome!B4 -> v1.00
B5: =Welcome!A5 -> Last Updated Date | C5: =Welcome!B5 -> 45441
B7: =Company_Information!B7 -> 40 CFR Part 63, Subpart U: Group I Polymers and Resins NESHAP; §63.506(e)(6) Periodic Report
B8: You must submit quarterly reports for all emission points included in an emissions average. The quarterly reports shall include information for all emission points included in an emissions average, including the credits and debits calculated each month during the quarter; a demonstration that debits calculated for the quarter are not more than 1.30 times the credits calculated for the quarter; and the values of any inputs to the credit and debit equations in §63.503(g)
B9: and (h) that change from month to month during the quarter or that have changed since the previous quarter. Every fourth quarterly report shall include a demonstration that annual credits are greater than or equal to annual debits as required by §63.503(e)(3) and a certification of compliance with all the emissions averaging provisions in §63.503.
B10: Note: Company Record No. selections will appear once information is entered onto the Company_Information tab. Columns M-O will autopopulate based on information in other columns, but the information in the cells can be overwritten.
Q11: Provide Information in Columns Q-S Every Fourth Quarterly Report
B12: Company Record No. (Select from dropdown list) | C12: Affected Source Identification (§63.506(e)(6)(xi)) | D12: Month 1 of Quarter (§63.506(e)(6)(xi)(B)(1)) (Select from dropdown list) | E12: Month 1 Credits (megagrams/month) (§63.506(e)(6)(xi)(B)(1)) | F12: Month 1 Debits (megagrams/month) (§63.506(e)(6)(xi)(B)(1)) | G12: Month 2 (§63.506(e)(6)(xi)(B)(1)) (Select from dropdown list) | H12: Month 2 Credits (megagrams/month) (§63.506(e)(6)(xi)(B)(1)) | I12: Month 2 Debits (megagrams/month) (§63.506(e)(6)(xi)(B)(1)) | J12: Month 3 (§63.506(e)(6)(xi)(B)(1)) (Select from dropdown list) | K12: Month 3 Credits (megagrams/month) (§63.506(e)(6)(xi)(B)(1)) | L12: Month 3 Debits (megagrams/month) (§63.506(e)(6)(xi)(B)(1)) | M12: Quarterly Credits (megagrams/quarter) (§63.506(e)(6)(xi)(B)(2)) | N12: Quarterly Debits (megagrams/quarter) (§63.506(e)(6)(xi)(B)(2)) | O12: Are the credits calculated for the quarter more than 1.30 times the debits calculated for the quarter? (§63.506(e)(6)(xi)(B)(2)) (Select from dropdown list) | P12: Values of any inputs to the credit and debit equations in §63.503(g) and (h) that change from month to month during the quarter or that have changed since the previous quarter (provide attachment name or list values in column). (§63.506(e)(6)(xi)(B)(3)) | Q12: Annual Credits (megagrams/year) (§63.506(e)(6)(xi)(C)(1)) | R12: Annual Debits (megagrams/year) (§63.506(e)(6)(xi)(C)(1)) | S12: Are you certifying compliance with all the emissions averaging provisions in §63.503? (§63.506(e)(6)(xi)(C)(2)) (Select from dropdown list)
B13: RecordId | C13: EmAvgSourceId | D13: EmAvgMonth1 | E13: EmAvgCredit1 | F13: EmAvgDebit1 | G13: EmAvgMonth2 | H13: EmAvgCredit2 | I13: EmAvgDebit2 | J13: EmAvgMonth3 | K13: EmAvgCredit3 | L13: EmAvgDebit3 | M13: EmAvgQuarterCredit | N13: EmAvgQuarterDebit | O13: EmAvgQuarterCompare | P13: EmAvgInputChange | Q13: EmAvgAnnualCredit | R13: EmAvgAnnualDebit | S13: EmAvgCertifyFlag
B14: e.g.: 1 | C14: e.g.: Unit ABC | D14: e.g.: January | E14: e.g.: 100 | F14: e.g.: 50 | G14: e.g.: February | H14: e.g.: 150 | I14: e.g.: 75 | J14: e.g.: March | K14: e.g.: 200 | L14: e.g.: 150 | M14: e.g.: 450 | N14: e.g.: 275 | O14: e.g.: yes | P14: e.g.: | Q14: e.g.: 1400 | R14: e.g.: 1000 | S14: e.g.: yes
B15: e.g.: | C15: e.g.: | D15: e.g.: | E15: e.g.: | F15: e.g.: | G15: e.g.: | H15: e.g.: | I15: e.g.: | J15: e.g.: | K15: e.g.: | L15: e.g.: | M15: e.g.: | N15: e.g.: | O15: e.g.: | P15: e.g.: | Q15: e.g.: | R15: e.g.: | S15: e.g.:
B16: e.g.: | C16: e.g.: | D16: e.g.: | E16: e.g.: | F16: e.g.: | G16: e.g.: | H16: e.g.: | I16: e.g.: | J16: e.g.: | K16: e.g.: | L16: e.g.: | M16: e.g.: | N16: e.g.: | O16: e.g.: | P16: e.g.: | Q16: e.g.: | R16: e.g.: | S16: e.g.:
B17: e.g.: | C17: e.g.: | D17: e.g.: | E17: e.g.: | F17: e.g.: | G17: e.g.: | H17: e.g.: | I17: e.g.: | J17: e.g.: | K17: e.g.: | L17: e.g.: | M17: e.g.: | N17: e.g.: | O17: e.g.: | P17: e.g.: | Q17: e.g.: | R17: e.g.: | S17: e.g.:
B18: e.g.: | C18: e.g.: | D18: e.g.: | E18: e.g.: | F18: e.g.: | G18: e.g.: | H18: e.g.: | I18: e.g.: | J18: e.g.: | K18: e.g.: | L18: e.g.: | M18: e.g.: | N18: e.g.: | O18: e.g.: | P18: e.g.: | Q18: e.g.: | R18: e.g.: | S18: e.g.:
B19: e.g.: | C19: e.g.: | D19: e.g.: | E19: e.g.: | F19: e.g.: | G19: e.g.: | H19: e.g.: | I19: e.g.: | J19: e.g.: | K19: e.g.: | L19: e.g.: | M19: e.g.: | N19: e.g.: | O19: e.g.: | P19: e.g.: | Q19: e.g.: | R19: e.g.: | S19: e.g.:
B20: e.g.: | C20: e.g.: | D20: e.g.: | E20: e.g.: | F20: e.g.: | G20: e.g.: | H20: e.g.: | I20: e.g.: | J20: e.g.: | K20: e.g.: | L20: e.g.: | M20: e.g.: | N20: e.g.: | O20: e.g.: | P20: e.g.: | Q20: e.g.: | R20: e.g.: | S20: e.g.:
B21: e.g.: | C21: e.g.: | D21: e.g.: | E21: e.g.: | F21: e.g.: | G21: e.g.: | H21: e.g.: | I21: e.g.: | J21: e.g.: | K21: e.g.: | L21: e.g.: | M21: e.g.: | N21: e.g.: | O21: e.g.: | P21: e.g.: | Q21: e.g.: | R21: e.g.: | S21: e.g.:
B22: e.g.: | C22: e.g.: | D22: e.g.: | E22: e.g.: | F22: e.g.: | G22: e.g.: | H22: e.g.: | I22: e.g.: | J22: e.g.: | K22: e.g.: | L22: e.g.: | M22: e.g.: | N22: e.g.: | O22: e.g.: | P22: e.g.: | Q22: e.g.: | R22: e.g.: | S22: e.g.:
B23: e.g.: | C23: e.g.: | D23: e.g.: | E23: e.g.: | F23: e.g.: | G23: e.g.: | H23: e.g.: | I23: e.g.: | J23: e.g.: | K23: e.g.: | L23: e.g.: | M23: e.g.: | N23: e.g.: | O23: e.g.: | P23: e.g.: | Q23: e.g.: | R23: e.g.: | S23: e.g.:
M24: =IF(Table9[[#This Row],[Affected Source Identification (§63.506(e)(6)(xi))]]="","",Table9[[#This Row],[Month 1 Credits (megagrams/month) (§63.506(e)(6)(xi)(B)(1))]]+Table9[[#This Row],[Month 2 Credits (megagrams/month) (§63.506(e)(6)(xi)(B)(1))]]+Table9[[#This Row],[Month 3 Credits (megagrams/month) (§63.506(e)(6)(xi)(B)(1))]]) | N24: =IF(Table9[[#This Row],[Affected Source Identification (§63.506(e)(6)(xi))]]="","",Table9[[#This Row],[Month 1 Debits (megagrams/month) (§63.506(e)(6)(xi)(B)(1))]]+Table9[[#This Row],[Month 2 Debits (megagrams/month) (§63.506(e)(6)(xi)(B)(1))]]+Table9[[#This Row],[Month 3 Debits (megagrams/month) (§63.506(e)(6)(xi)(B)(1))]]) | O24: =IF(Table9[[#This Row],[Affected Source Identification (§63.506(e)(6)(xi))]]="","",IF(Table9[[#This Row],[Quarterly Credits (megagrams/quarter) (§63.506(e)(6)(xi)(B)(2))]]>1.3*Table9[[#This Row],[Quarterly Debits (megagrams/quarter) (§63.506(e)(6)(xi)(B)(2))]],"yes","no"))
M25: =IF(Table9[[#This Row],[Affected Source Identification (§63.506(e)(6)(xi))]]="","",Table9[[#This Row],[Month 1 Credits (megagrams/month) (§63.506(e)(6)(xi)(B)(1))]]+Table9[[#This Row],[Month 2 Credits (megagrams/month) (§63.506(e)(6)(xi)(B)(1))]]+Table9[[#This Row],[Month 3 Credits (megagrams/month) (§63.506(e)(6)(xi)(B)(1))]]) | N25: =IF(Table9[[#This Row],[Affected Source Identification (§63.506(e)(6)(xi))]]="","",Table9[[#This Row],[Month 1 Debits (megagrams/month) (§63.506(e)(6)(xi)(B)(1))]]+Table9[[#This Row],[Month 2 Debits (megagrams/month) (§63.506(e)(6)(xi)(B)(1))]]+Table9[[#This Row],[Month 3 Debits (megagrams/month) (§63.506(e)(6)(xi)(B)(1))]]) | O25: =IF(Table9[[#This Row],[Affected Source Identification (§63.506(e)(6)(xi))]]="","",IF(Table9[[#This Row],[Quarterly Credits (megagrams/quarter) (§63.506(e)(6)(xi)(B)(2))]]>1.3*Table9[[#This Row],[Quarterly Debits (megagrams/quarter) (§63.506(e)(6)(xi)(B)(2))]],"yes","no"))
M26: =IF(Table9[[#This Row],[Affected Source Identification (§63.506(e)(6)(xi))]]="","",Table9[[#This Row],[Month 1 Credits (megagrams/month) (§63.506(e)(6)(xi)(B)(1))]]+Table9[[#This Row],[Month 2 Credits (megagrams/month) (§63.506(e)(6)(xi)(B)(1))]]+Table9[[#This Row],[Month 3 Credits (megagrams/month) (§63.506(e)(6)(xi)(B)(1))]]) | N26: =IF(Table9[[#This Row],[Affected Source Identification (§63.506(e)(6)(xi))]]="","",Table9[[#This Row],[Month 1 Debits (megagrams/month) (§63.506(e)(6)(xi)(B)(1))]]+Table9[[#This Row],[Month 2 Debits (megagrams/month) (§63.506(e)(6)(xi)(B)(1))]]+Table9[[#This Row],[Month 3 Debits (megagrams/month) (§63.506(e)(6)(xi)(B)(1))]]) | O26: =IF(Table9[[#This Row],[Affected Source Identification (§63.506(e)(6)(xi))]]="","",IF(Table9[[#This Row],[Quarterly Credits (megagrams/quarter) (§63.506(e)(6)(xi)(B)(2))]]>1.3*Table9[[#This Row],[Quarterly Debits (megagrams/quarter) (§63.506(e)(6)(xi)(B)(2))]],"yes","no"))
M27: =IF(Table9[[#This Row],[Affected Source Identification (§63.506(e)(6)(xi))]]="","",Table9[[#This Row],[Month 1 Credits (megagrams/month) (§63.506(e)(6)(xi)(B)(1))]]+Table9[[#This Row],[Month 2 Credits (megagrams/month) (§63.506(e)(6)(xi)(B)(1))]]+Table9[[#This Row],[Month 3 Credits (megagrams/month) (§63.506(e)(6)(xi)(B)(1))]]) | N27: =IF(Table9[[#This Row],[Affected Source Identification (§63.506(e)(6)(xi))]]="","",Table9[[#This Row],[Month 1 Debits (megagrams/month) (§63.506(e)(6)(xi)(B)(1))]]+Table9[[#This Row],[Month 2 Debits (megagrams/month) (§63.506(e)(6)(xi)(B)(1))]]+Table9[[#This Row],[Month 3 Debits (megagrams/month) (§63.506(e)(6)(xi)(B)(1))]]) | O27: =IF(Table9[[#This Row],[Affected Source Identification (§63.506(e)(6)(xi))]]="","",IF(Table9[[#This Row],[Quarterly Credits (megagrams/quarter) (§63.506(e)(6)(xi)(B)(2))]]>1.3*Table9[[#This Row],[Quarterly Debits (megagrams/quarter) (§63.506(e)(6)(xi)(B)(2))]],"yes","no"))
M28: =IF(Table9[[#This Row],[Affected Source Identification (§63.506(e)(6)(xi))]]="","",Table9[[#This Row],[Month 1 Credits (megagrams/month) (§63.506(e)(6)(xi)(B)(1))]]+Table9[[#This Row],[Month 2 Credits (megagrams/month) (§63.506(e)(6)(xi)(B)(1))]]+Table9[[#This Row],[Month 3 Credits (megagrams/month) (§63.506(e)(6)(xi)(B)(1))]]) | N28: =IF(Table9[[#This Row],[Affected Source Identification (§63.506(e)(6)(xi))]]="","",Table9[[#This Row],[Month 1 Debits (megagrams/month) (§63.506(e)(6)(xi)(B)(1))]]+Table9[[#This Row],[Month 2 Debits (megagrams/month) (§63.506(e)(6)(xi)(B)(1))]]+Table9[[#This Row],[Month 3 Debits (megagrams/month) (§63.506(e)(6)(xi)(B)(1))]]) | O28: =IF(Table9[[#This Row],[Affected Source Identification (§63.506(e)(6)(xi))]]="","",IF(Table9[[#This Row],[Quarterly Credits (megagrams/quarter) (§63.506(e)(6)(xi)(B)(2))]]>1.3*Table9[[#This Row],[Quarterly Debits (megagrams/quarter) (§63.506(e)(6)(xi)(B)(2))]],"yes","no"))
M29: =IF(Table9[[#This Row],[Affected Source Identification (§63.506(e)(6)(xi))]]="","",Table9[[#This Row],[Month 1 Credits (megagrams/month) (§63.506(e)(6)(xi)(B)(1))]]+Table9[[#This Row],[Month 2 Credits (megagrams/month) (§63.506(e)(6)(xi)(B)(1))]]+Table9[[#This Row],[Month 3 Credits (megagrams/month) (§63.506(e)(6)(xi)(B)(1))]]) | N29: =IF(Table9[[#This Row],[Affected Source Identification (§63.506(e)(6)(xi))]]="","",Table9[[#This Row],[Month 1 Debits (megagrams/month) (§63.506(e)(6)(xi)(B)(1))]]+Table9[[#This Row],[Month 2 Debits (megagrams/month) (§63.506(e)(6)(xi)(B)(1))]]+Table9[[#This Row],[Month 3 Debits (megagrams/month) (§63.506(e)(6)(xi)(B)(1))]]) | O29: =IF(Table9[[#This Row],[Affected Source Identification (§63.506(e)(6)(xi))]]="","",IF(Table9[[#This Row],[Quarterly Credits (megagrams/quarter) (§63.506(e)(6)(xi)(B)(2))]]>1.3*Table9[[#This Row],[Quarterly Debits (megagrams/quarter) (§63.506(e)(6)(xi)(B)(2))]],"yes","no"))
M30: =IF(Table9[[#This Row],[Affected Source Identification (§63.506(e)(6)(xi))]]="","",Table9[[#This Row],[Month 1 Credits (megagrams/month) (§63.506(e)(6)(xi)(B)(1))]]+Table9[[#This Row],[Month 2 Credits (megagrams/month) (§63.506(e)(6)(xi)(B)(1))]]+Table9[[#This Row],[Month 3 Credits (megagrams/month) (§63.506(e)(6)(xi)(B)(1))]]) | N30: =IF(Table9[[#This Row],[Affected Source Identification (§63.506(e)(6)(xi))]]="","",Table9[[#This Row],[Month 1 Debits (megagrams/month) (§63.506(e)(6)(xi)(B)(1))]]+Table9[[#This Row],[Month 2 Debits (megagrams/month) (§63.506(e)(6)(xi)(B)(1))]]+Table9[[#This Row],[Month 3 Debits (megagrams/month) (§63.506(e)(6)(xi)(B)(1))]]) | O30: =IF(Table9[[#This Row],[Affected Source Identification (§63.506(e)(6)(xi))]]="","",IF(Table9[[#This Row],[Quarterly Credits (megagrams/quarter) (§63.506(e)(6)(xi)(B)(2))]]>1.3*Table9[[#This Row],[Quarterly Debits (megagrams/quarter) (§63.506(e)(6)(xi)(B)(2))]],"yes","no"))
M31: =IF(Table9[[#This Row],[Affected Source Identification (§63.506(e)(6)(xi))]]="","",Table9[[#This Row],[Month 1 Credits (megagrams/month) (§63.506(e)(6)(xi)(B)(1))]]+Table9[[#This Row],[Month 2 Credits (megagrams/month) (§63.506(e)(6)(xi)(B)(1))]]+Table9[[#This Row],[Month 3 Credits (megagrams/month) (§63.506(e)(6)(xi)(B)(1))]]) | N31: =IF(Table9[[#This Row],[Affected Source Identification (§63.506(e)(6)(xi))]]="","",Table9[[#This Row],[Month 1 Debits (megagrams/month) (§63.506(e)(6)(xi)(B)(1))]]+Table9[[#This Row],[Month 2 Debits (megagrams/month) (§63.506(e)(6)(xi)(B)(1))]]+Table9[[#This Row],[Month 3 Debits (megagrams/month) (§63.506(e)(6)(xi)(B)(1))]]) | O31: =IF(Table9[[#This Row],[Affected Source Identification (§63.506(e)(6)(xi))]]="","",IF(Table9[[#This Row],[Quarterly Credits (megagrams/quarter) (§63.506(e)(6)(xi)(B)(2))]]>1.3*Table9[[#This Row],[Quarterly Debits (megagrams/quarter) (§63.506(e)(6)(xi)(B)(2))]],"yes","no"))
M32: =IF(Table9[[#This Row],[Affected Source Identification (§63.506(e)(6)(xi))]]="","",Table9[[#This Row],[Month 1 Credits (megagrams/month) (§63.506(e)(6)(xi)(B)(1))]]+Table9[[#This Row],[Month 2 Credits (megagrams/month) (§63.506(e)(6)(xi)(B)(1))]]+Table9[[#This Row],[Month 3 Credits (megagrams/month) (§63.506(e)(6)(xi)(B)(1))]]) | N32: =IF(Table9[[#This Row],[Affected Source Identification (§63.506(e)(6)(xi))]]="","",Table9[[#This Row],[Month 1 Debits (megagrams/month) (§63.506(e)(6)(xi)(B)(1))]]+Table9[[#This Row],[Month 2 Debits (megagrams/month) (§63.506(e)(6)(xi)(B)(1))]]+Table9[[#This Row],[Month 3 Debits (megagrams/month) (§63.506(e)(6)(xi)(B)(1))]]) | O32: =IF(Table9[[#This Row],[Affected Source Identification (§63.506(e)(6)(xi))]]="","",IF(Table9[[#This Row],[Quarterly Credits (megagrams/quarter) (§63.506(e)(6)(xi)(B)(2))]]>1.3*Table9[[#This Row],[Quarterly Debits (megagrams/quarter) (§63.506(e)(6)(xi)(B)(2))]],"yes","no"))
M33: =IF(Table9[[#This Row],[Affected Source Identification (§63.506(e)(6)(xi))]]="","",Table9[[#This Row],[Month 1 Credits (megagrams/month) (§63.506(e)(6)(xi)(B)(1))]]+Table9[[#This Row],[Month 2 Credits (megagrams/month) (§63.506(e)(6)(xi)(B)(1))]]+Table9[[#This Row],[Month 3 Credits (megagrams/month) (§63.506(e)(6)(xi)(B)(1))]]) | N33: =IF(Table9[[#This Row],[Affected Source Identification (§63.506(e)(6)(xi))]]="","",Table9[[#This Row],[Month 1 Debits (megagrams/month) (§63.506(e)(6)(xi)(B)(1))]]+Table9[[#This Row],[Month 2 Debits (megagrams/month) (§63.506(e)(6)(xi)(B)(1))]]+Table9[[#This Row],[Month 3 Debits (megagrams/month) (§63.506(e)(6)(xi)(B)(1))]]) | O33: =IF(Table9[[#This Row],[Affected Source Identification (§63.506(e)(6)(xi))]]="","",IF(Table9[[#This Row],[Quarterly Credits (megagrams/quarter) (§63.506(e)(6)(xi)(B)(2))]]>1.3*Table9[[#This Row],[Quarterly Debits (megagrams/quarter) (§63.506(e)(6)(xi)(B)(2))]],"yes","no"))
M34: =IF(Table9[[#This Row],[Affected Source Identification (§63.506(e)(6)(xi))]]="","",Table9[[#This Row],[Month 1 Credits (megagrams/month) (§63.506(e)(6)(xi)(B)(1))]]+Table9[[#This Row],[Month 2 Credits (megagrams/month) (§63.506(e)(6)(xi)(B)(1))]]+Table9[[#This Row],[Month 3 Credits (megagrams/month) (§63.506(e)(6)(xi)(B)(1))]]) | N34: =IF(Table9[[#This Row],[Affected Source Identification (§63.506(e)(6)(xi))]]="","",Table9[[#This Row],[Month 1 Debits (megagrams/month) (§63.506(e)(6)(xi)(B)(1))]]+Table9[[#This Row],[Month 2 Debits (megagrams/month) (§63.506(e)(6)(xi)(B)(1))]]+Table9[[#This Row],[Month 3 Debits (megagrams/month) (§63.506(e)(6)(xi)(B)(1))]]) | O34: =IF(Table9[[#This Row],[Affected Source Identification (§63.506(e)(6)(xi))]]="","",IF(Table9[[#This Row],[Quarterly Credits (megagrams/quarter) (§63.506(e)(6)(xi)(B)(2))]]>1.3*Table9[[#This Row],[Quarterly Debits (megagrams/quarter) (§63.506(e)(6)(xi)(B)(2))]],"yes","no"))
M35: =IF(Table9[[#This Row],[Affected Source Identification (§63.506(e)(6)(xi))]]="","",Table9[[#This Row],[Month 1 Credits (megagrams/month) (§63.506(e)(6)(xi)(B)(1))]]+Table9[[#This Row],[Month 2 Credits (megagrams/month) (§63.506(e)(6)(xi)(B)(1))]]+Table9[[#This Row],[Month 3 Credits (megagrams/month) (§63.506(e)(6)(xi)(B)(1))]]) | N35: =IF(Table9[[#This Row],[Affected Source Identification (§63.506(e)(6)(xi))]]="","",Table9[[#This Row],[Month 1 Debits (megagrams/month) (§63.506(e)(6)(xi)(B)(1))]]+Table9[[#This Row],[Month 2 Debits (megagrams/month) (§63.506(e)(6)(xi)(B)(1))]]+Table9[[#This Row],[Month 3 Debits (megagrams/month) (§63.506(e)(6)(xi)(B)(1))]]) | O35: =IF(Table9[[#This Row],[Affected Source Identification (§63.506(e)(6)(xi))]]="","",IF(Table9[[#This Row],[Quarterly Credits (megagrams/quarter) (§63.506(e)(6)(xi)(B)(2))]]>1.3*Table9[[#This Row],[Quarterly Debits (megagrams/quarter) (§63.506(e)(6)(xi)(B)(2))]],"yes","no"))
... M1023: =IF(Table9[[#This Row],[Affected Source Identification (§63.506(e)(6)(xi))]]="","",Table9[[#This Row],[Month 1 Credits (megagrams/month) (§63.506(e)(6)(xi)(B)(1))]]+Table9[[#This Row],[Month 2 Credits (megagrams/month) (§63.506(e)(6)(xi)(B)(1))]]+Table9[[#This Row],[Month 3 Credits (megagrams/month) (§63.506(e)(6)(xi)(B)(1))]]) | N1023: =IF(Table9[[#This Row],[Affected Source Identification (§63.506(e)(6)(xi))]]="","",Table9[[#This Row],[Month 1 Debits (megagrams/month) (§63.506(e)(6)(xi)(B)(1))]]+Table9[[#This Row],[Month 2 Debits (megagrams/month) (§63.506(e)(6)(xi)(B)(1))]]+Table9[[#This Row],[Month 3 Debits (megagrams/month) (§63.506(e)(6)(xi)(B)(1))]]) | O1023: =IF(Table9[[#This Row],[Affected Source Identification (§63.506(e)(6)(xi))]]="","",IF(Table9[[#This Row],[Quarterly Credits (megagrams/quarter) (§63.506(e)(6)(xi)(B)(2))]]>1.3*Table9[[#This Row],[Quarterly Debits (megagrams/quarter) (§63.506(e)(6)(xi)(B)(2))]],"yes","no"))

Sheet Monitor_Excursions
B1: DO NOT REMOVE OR EDIT INFORMATION IN ROWS 1 THORUGH 5 FOR INTERNAL USE ONLY
B2: =Welcome!A2 -> Template Name | C2: =Welcome!B2 -> 63.506(e)(6) Periodic Report (Spreadsheet Template)
B3: =Welcome!A3 -> CitationID | C3: =Welcome!B3 -> 63.506(e)(6)
B4: =Welcome!A4 -> Template Version | C4: =Welcome!B4 -> v1.00
B5: =Welcome!A5 -> Last Updated Date | C5: =Welcome!B5 -> 45441
B7: =Company_Information!B7 -> 40 CFR Part 63, Subpart U: Group I Polymers and Resins NESHAP; §63.506(e)(6) Periodic Report
B8: Use this worksheet to report information on excursions (including those caused by a lack of monitoring data).
B9: This worksheet also includes information required by §63.118(f)(1) and (2) for process vents, §63.122(g)(2) for storage vessels, and §63.146(d) and (e) for process wastewater.
B10: Note: Company Record No. selections will appear once information is entered onto the Company_Information tab.
B12: Company Record No. (Select from dropdown list) | C12: Process Unit Identification | D12: Affected Facility or Equipment (e.g., identification of the vent, control device, biological treatment unit, treatment process) (§63.506(e)(6)(iii)(B)-(C), §63.506(e)(6)(xi)(B)(5)-(6), §63.118(f)(1)-(2), §63.122(g)(2), §63.146(d)-(e)) | E12: Monitored Parameter (§63.506(e)(6)(iii)(B)-(C), §63.506(e)(6)(xi)(B)(5)-(6), §63.118(f)(1)-(2), §63.122(g)(2), §63.146(d)-(e)) | F12: Type of Excursion (§63.506(e)(6)(iii)(B)-(C), §63.506(e)(6)(xi)(B)(5)-(6), §63.118(f)(1)-(2), §63.122(g)(2), §63.146(d)-(e)) (Select from dropdown list) | G12: Date/Start Date of Excursion (§63.506(e)(6)(iii)(B)-(C), §63.506(e)(6)(xi)(B)(5)-(6), §63.118(f)(1)-(2), §63.122(g)(2)(i), §63.146(d)-(e)) | H12: Time of Excursion (§63.506(e)(6)(iii)(B), §63.506(e)(6)(xi)(B)(5)) | I12: Duration of Excursion (hours) (§63.506(e)(6)(iii)(B), §63.506(e)(6)(xi)(B)(5), §63.118(f)(2)) | J12: Daily Average Value or Batch Cycle Daily Average Value of Monitored Parameter (§63.506(e)(6)(iii)(B), §63.506(e)(6)(xi)(B)(6), §63.118(f)(1), §63.146(d)-(e)) | K12: Units of Measure for Monitored Parameter (§63.506(e)(6)(iii)(B), §63.506(e)(6)(xi)(B)(6), §63.118(f)(1), §63.146(d)-(e)) | L12: Cause of the Excursion (including unknown cause, if applicable) (§63.506(e)(6)(iii)(C), §63.122(g)(2)(ii)) | M12: Estimate of the Quantity of Regulated Pollutant Emitted Over the Emission Limit (pounds) (§63.506(e)(6)(iii)(C)) | N12: Description of the Method Used to Estimate the Emissions (§63.506(e)(6)(iii)(C)) | O12: Corrective Action Taken (§63.506(e)(6)(iii)(C))
B13: RecordId | C13: ExcursionProcessId | D13: ExcursionEquipId | E13: ExcursionParameter | F13: ExcursionType | G13: ExcursionDate | H13: ExcursionTime | I13: ExcursionDuration | J13: ExcursionParamValue | K13: ExcursionParamUnit | L13: ExcursionCause | M13: ExcursionQuantity | N13: ExcursionEsitmateMethod | O13: ExcursionCorrectiveAction
B14: e.g.: 1 | C14: e.g.: ABC Unit | D14: e.g.: Distillation Vent ABC | E14: e.g.: pH | F14: e.g.: Lack of monitoring data | G14: e.g.: 01/24/24 | H14: e.g.: | I14: e.g.: 2 | J14: e.g.: | K14: e.g.: | L14: e.g.: | M14: e.g.: 100 | N14: e.g.: | O14: e.g.:
B15: e.g.: | C15: e.g.: | D15: e.g.: | E15: e.g.: | L15: e.g.: | M15: e.g.: | N15: e.g.: | O15: e.g.:
B16: e.g.: | C16: e.g.: | D16: e.g.: | E16: e.g.: | L16: e.g.: | M16: e.g.: | N16: e.g.: | O16: e.g.:
B17: e.g.: | C17: e.g.: | D17: e.g.: | E17: e.g.: | L17: e.g.: | M17: e.g.: | N17: e.g.: | O17: e.g.:
B18: e.g.: | C18: e.g.: | D18: e.g.: | E18: e.g.: | L18: e.g.: | M18: e.g.: | N18: e.g.: | O18: e.g.:
B19: e.g.: | C19: e.g.: | D19: e.g.: | E19: e.g.: | L19: e.g.: | M19: e.g.: | N19: e.g.: | O19: e.g.:
B20: e.g.: | C20: e.g.: | D20: e.g.: | E20: e.g.: | L20: e.g.: | M20: e.g.: | N20: e.g.: | O20: e.g.:
B21: e.g.: | C21: e.g.: | D21: e.g.: | E21: e.g.: | L21: e.g.: | M21: e.g.: | N21: e.g.: | O21: e.g.:
B22: e.g.: | C22: e.g.: | D22: e.g.: | E22: e.g.: | L22: e.g.: | M22: e.g.: | N22: e.g.: | O22: e.g.:
B23: e.g.: | C23: e.g.: | D23: e.g.: | E23: e.g.: | L23: e.g.: | M23: e.g.: | N23: e.g.: | O23: e.g.:

Sheet Chloroprene
B1: DO NOT REMOVE OR EDIT INFORMATION IN ROWS 1 THORUGH 5 FOR INTERNAL USE ONLY
B2: =Welcome!A2 -> Template Name | C2: =Welcome!B2 -> 63.506(e)(6) Periodic Report (Spreadsheet Template)
B3: =Welcome!A3 -> CitationID | C3: =Welcome!B3 -> 63.506(e)(6)
B4: =Welcome!A4 -> Template Version | C4: =Welcome!B4 -> v1.00
B5: =Welcome!A5 -> Last Updated Date | C5: =Welcome!B5 -> 45441
B7: =Company_Information!B7 -> 40 CFR Part 63, Subpart U: Group I Polymers and Resins NESHAP; §63.506(e)(6) Periodic Report
B8: For continuous, batch front-end process vents, or back-end process operations in chloroprene service, the Periodic Report must include the records of the periods specified in §63.485(y)(3)(ii), §63.487(j)(3)(ii), and §63.498(f)(2).
B9: Indicate the start date and time and end date and time for each period. The record must specify the operating parameter, the applicable limit, and the highest (for maximum operating limits) or lowest (for minimum operating limits) value recorded during the period.
B11: Note: Company Record No. selections will appear once information is entered onto the Company_Information tab.
B12: Company Record No. (Select from dropdown list) | C12: Process Unit Identification | D12: Identification of the Applicable Source (§63.485(y)(4), §63.485(y)(3)(ii), §63.487(j)(4), §63.487(j)(3)(ii), §63.499(g), §63.498(f)(2)) | E12: Start Date (§63.485(y)(4), §63.487(j)(4), §63.499(g)) | F12: Start Time (§63.485(y)(4), §63.487(j)(4), §63.499(g)) | G12: Duration (hours) (§63.485(y)(4), §63.487(j)(4), §63.499(g)) | H12: Operating Parameter (§63.485(y)(4), §63.485(y)(3)(ii), §63.487(j)(4), §63.487(j)(3)(ii), §63.499(g), §63.498(f)(2)) | I12: Applicable Limit (§63.485(y)(4), §63.485(y)(3)(ii), §63.487(j)(4), §63.487(j)(3)(ii), §63.499(g), §63.498(f)(2)) | J12: Highest (for maximum operating limits) or Lowest (for minimum operating limits) Value Recorded During Period (§63.485(y)(4), §63.485(y)(3)(ii), §63.487(j)(4), §63.487(j)(3)(ii), §63.499(g), §63.498(f)(2)) | K12: Units for Columns I and J (§63.485(y)(4), §63.485(y)(3)(ii), §63.487(j)(4), §63.487(j)(3)(ii), §63.499(g), §63.498(f)(2))
B13: RecordId | C13: CpProcessId | D13: CpSourceId | E13: CpStartDate | F13: CpStartTime | G13: CpDuration | H13: CpParameter | I13: CpLimit | J13: CpParamValue | K13: CpParamUnits
B14: e.g.: 1 | C14: e.g.: ABC Unit | D14: e.g.: Thermal Oxidizer A | E14: e.g.: 01/25/24 | F14: e.g.: 12:00 PM | G14: e.g.: 12:00 PM | H14: e.g.: Combustion chamber temperature | I14: e.g.: 1500 | J14: e.g.: 1450 | K14: e.g.: F
B15: e.g.: | C15: e.g.: | D15: e.g.: | E15: e.g.: | F15: e.g.: | G15: e.g.: | H15: e.g.: | I15: e.g.: | J15: e.g.: | K15: e.g.:
B16: e.g.: | C16: e.g.: | D16: e.g.: | E16: e.g.: | F16: e.g.: | G16: e.g.: | H16: e.g.: | I16: e.g.: | J16: e.g.: | K16: e.g.:
B17: e.g.: | C17: e.g.: | D17: e.g.: | E17: e.g.: | F17: e.g.: | G17: e.g.: | H17: e.g.: | I17: e.g.: | J17: e.g.: | K17: e.g.:
B18: e.g.: | C18: e.g.: | D18: e.g.: | E18: e.g.: | F18: e.g.: | G18: e.g.: | H18: e.g.: | I18: e.g.: | J18: e.g.: | K18: e.g.:
B19: e.g.: | C19: e.g.: | D19: e.g.: | E19: e.g.: | F19: e.g.: | G19: e.g.: | H19: e.g.: | I19: e.g.: | J19: e.g.: | K19: e.g.:
B20: e.g.: | C20: e.g.: | D20: e.g.: | E20: e.g.: | F20: e.g.: | G20: e.g.: | H20: e.g.: | I20: e.g.: | J20: e.g.: | K20: e.g.:
B21: e.g.: | C21: e.g.: | D21: e.g.: | E21: e.g.: | F21: e.g.: | G21: e.g.: | H21: e.g.: | I21: e.g.: | J21: e.g.: | K21: e.g.:
B22: e.g.: | C22: e.g.: | D22: e.g.: | E22: e.g.: | F22: e.g.: | G22: e.g.: | H22: e.g.: | I22: e.g.: | J22: e.g.: | K22: e.g.:
B23: e.g.: | C23: e.g.: | D23: e.g.: | E23: e.g.: | F23: e.g.: | G23: e.g.: | H23: e.g.: | I23: e.g.: | J23: e.g.: | K23: e.g.:

Sheet Malfunctions
B1: DO NOT REMOVE OR EDIT INFORMATION IN ROWS 1 THORUGH 5 FOR INTERNAL USE ONLY
B2: =Welcome!A2 -> Template Name | C2: =Welcome!B2 -> 63.506(e)(6) Periodic Report (Spreadsheet Template)
B3: =Welcome!A3 -> CitationID | C3: =Welcome!B3 -> 63.506(e)(6)
B4: =Welcome!A4 -> Template Version | C4: =Welcome!B4 -> v1.00
B5: =Welcome!A5 -> Last Updated Date | C5: =Welcome!B5 -> 45441
B7: =Company_Information!B7 -> 40 CFR Part 63, Subpart U: Group I Polymers and Resins NESHAP; §63.506(e)(6) Periodic Report
B8: The start date, start time, duration in hours, and a brief description for each type of malfunction which occurred during the reporting period and which caused or may have caused any applicable emission limitation to be exceeded.
B9: The report must also include a description of actions taken by an owner or operator during a malfunction of an affected source to minimize emissions in accordance with §63.483(a), including actions taken to correct a malfunction.
B10: Note: Company Record No. selections will appear once information is entered onto the Company_Information tab.
B12: Company Record No. (Select from dropdown list) | C12: Process Unit Identification | D12: Affected Source (§63.506(e)(6)(iii)(E)) | E12: Start Date (§63.506(e)(6)(iii)(E)) | F12: Start Time (§63.506(e)(6)(iii)(E)) | G12: Duration (hours) (§63.506(e)(6)(iii)(E)) | H12: Brief Description of Malfunction (§63.506(e)(6)(iii)(E)) | I12: Description of Actions Taken During the Malfunction to Minimize Emissions, Including Actions Taken to Correct the Malfunction (§63.506(e)(6)(iii)(E))
B13: RecordId | C13: MalProcessId | D13: MalSourceId | E13: MalStartDate | F13: MalStartTime | G13: MalDuration | H13: MalDescription | I13: MalActions
B14: e.g.: 1 | C14: e.g.: ABC Unit | D14: e.g.: Source Name | E14: e.g.: 03/31/24 | F14: e.g.: 1:30 PM | G14: e.g.: 2 | H14: e.g.: | I14: e.g.:
B15: e.g.: | C15: e.g.: | D15: e.g.: | E15: e.g.: | F15: e.g.: | G15: e.g.: | H15: e.g.: | I15: e.g.:
B16: e.g.: | C16: e.g.: | D16: e.g.: | E16: e.g.: | F16: e.g.: | G16: e.g.: | H16: e.g.: | I16: e.g.:
B17: e.g.: | C17: e.g.: | D17: e.g.: | E17: e.g.: | F17: e.g.: | G17: e.g.: | H17: e.g.: | I17: e.g.:
B18: e.g.: | C18: e.g.: | D18: e.g.: | E18: e.g.: | F18: e.g.: | G18: e.g.: | H18: e.g.: | I18: e.g.:
B19: e.g.: | C19: e.g.: | D19: e.g.: | E19: e.g.: | F19: e.g.: | G19: e.g.: | H19: e.g.: | I19: e.g.:
B20: e.g.: | C20: e.g.: | D20: e.g.: | E20: e.g.: | F20: e.g.: | G20: e.g.: | H20: e.g.: | I20: e.g.:
B21: e.g.: | C21: e.g.: | D21: e.g.: | E21: e.g.: | F21: e.g.: | G21: e.g.: | H21: e.g.: | I21: e.g.:
B22: e.g.: | C22: e.g.: | D22: e.g.: | E22: e.g.: | F22: e.g.: | G22: e.g.: | H22: e.g.: | I22: e.g.:
B23: e.g.: | C23: e.g.: | D23: e.g.: | E23: e.g.: | F23: e.g.: | G23: e.g.: | H23: e.g.: | I23: e.g.:

Sheet Bypass
B1: DO NOT REMOVE OR EDIT INFORMATION IN ROWS 1 THORUGH 5 FOR INTERNAL USE ONLY
B2: =Welcome!A2 -> Template Name | C2: =Welcome!B2 -> 63.506(e)(6) Periodic Report (Spreadsheet Template)
B3: =Welcome!A3 -> CitationID | C3: =Welcome!B3 -> 63.506(e)(6)
B4: =Welcome!A4 -> Template Version | C4: =Welcome!B4 -> v1.00
B5: =Welcome!A5 -> Last Updated Date | C5: =Welcome!B5 -> 45441
B7: =Company_Information!B7 -> 40 CFR Part 63, Subpart U: Group I Polymers and Resins NESHAP; §63.506(e)(6) Periodic Report
B8: Submit the information specified in §63.182(d) under the conditions listed in §63.182(d) as part of the Periodic Report required by §63.506(e)(6).
B9: §63.506(e)(6)(iii) For an owner or operator of an affected source complying with the provisions of §§63.484 through 63.501 for any emission point, Periodic Reports shall include:
B10: (A) All information specified in...§63.118(f)...for continuous front-end process vents...and §63.146(c) through §63.146(g) for process wastewater.
B11: Note: Company Record No. selections will appear once information is entered onto the Company_Information tab. Depending on the answer in Column D, cells in Columns H-J will be blacked out.
B12: Company Record No. (Select from dropdown list) | C12: Process Unit Identification | D12: Identification of Flow indicator, Control Device, Bypass Line, or Closed Vent System (§63.506(e)(6), §63.118(f), §63.146(e), §63.182(d)(2)(xix), §63.492(f)) | E12: Type of Event (§63.506(e)(6), §63.118(f), §63.146(e)(1), §63.182(d)(2)(xix), §63.492(f)) (Select from dropdown list) | F12: Start Date (§63.506(e)(6), §63.118(f), §63.146(e)(1), §63.182(d)(2)(xix), §63.492(f)) | G12: Start Time (§63.506(e)(6), §63.118(f), §63.146(e)(1), §63.182(d)(2)(xix), §63.492(f)) | H12: Duration (hours) (§63.506(e)(6), §63.118(f), §63.146(e)(1), §63.182(d)(2)(xix), §63.492(f)) | I12: Estimate of the Volume of Gas (standard cubic feet) (§63.506(e)(6), §63.118(f)(7), §63.146(e)(1), §63.182(d)(2)(xix)) | J12: Concentration of organic HAP in the Gas (ppmv) (§63.506(e)(6), §63.118(f)(7), §63.146(e)(1), §63.182(d)(2)(xix)) | K12: Resulting Mass Emissions of organic HAP that Bypassed Control Device (pounds) (§63.506(e)(6), §63.118(f)(7), §63.146(e)(1), §63.182(d)(2)(xix))
B13: RecordId | C13: BypassProcessId | D13: BypassFacilityId | E13: BypassType | F13: BypassStartDate | G13: BypassStartTime | H13: BypassDuration | I13: BypassVolumeEstimate | J13: BypassConc | K13: BypassMassEmissions
B14: e.g.: 1 | C14: e.g.: ABC Unit | D14: e.g.: Bypass Line 2 | E14: e.g.: Flow diverted from control device to bypass line | F14: e.g.: 05/17/24 | G14: e.g.: 11:15 AM | H14: e.g.: 1 | I14: e.g.: 50 | J14: e.g.: 1000 | K14: e.g.: 40
B15: e.g.: 1 | C15: e.g.: ABC Unit | D15: e.g.: Bypass Line 1 Flowmeter A | E15: e.g.: Flow indicator not operating | F15: e.g.: 04/28/24 | G15: e.g.: 4:25 AM | H15: e.g.: 2
B16: e.g.: | C16: e.g.: | D16: e.g.: | E16: e.g.: | F16: e.g.: | G16: e.g.: | H16: e.g.: | I16: e.g.: | J16: e.g.: | K16: e.g.:
B17: e.g.: | C17: e.g.: | D17: e.g.: | E17: e.g.: | F17: e.g.: | G17: e.g.: | H17: e.g.: | I17: e.g.: | J17: e.g.: | K17: e.g.:
B18: e.g.: | C18: e.g.: | D18: e.g.: | E18: e.g.: | F18: e.g.: | G18: e.g.: | H18: e.g.: | I18: e.g.: | J18: e.g.: | K18: e.g.:
B19: e.g.: | C19: e.g.: | D19: e.g.: | E19: e.g.: | F19: e.g.: | G19: e.g.: | H19: e.g.: | I19: e.g.: | J19: e.g.: | K19: e.g.:
B20: e.g.: | C20: e.g.: | D20: e.g.: | E20: e.g.: | F20: e.g.: | G20: e.g.: | H20: e.g.: | I20: e.g.: | J20: e.g.: | K20: e.g.:
B21: e.g.: | C21: e.g.: | D21: e.g.: | E21: e.g.: | F21: e.g.: | G21: e.g.: | H21: e.g.: | I21: e.g.: | J21: e.g.: | K21: e.g.:
B22: e.g.: | C22: e.g.: | D22: e.g.: | E22: e.g.: | F22: e.g.: | G22: e.g.: | H22: e.g.: | I22: e.g.: | J22: e.g.: | K22: e.g.:
B23: e.g.: | C23: e.g.: | D23: e.g.: | E23: e.g.: | F23: e.g.: | G23: e.g.: | H23: e.g.: | I23: e.g.: | J23: e.g.: | K23: e.g.:

Sheet Flares
B1: DO NOT REMOVE OR EDIT INFORMATION IN ROWS 1 THORUGH 5 FOR INTERNAL USE ONLY
B2: =Welcome!A2 -> Template Name | C2: =Welcome!B2 -> 63.506(e)(6) Periodic Report (Spreadsheet Template)
B3: =Welcome!A3 -> CitationID | C3: =Welcome!B3 -> 63.506(e)(6)
B4: =Welcome!A4 -> Template Version | C4: =Welcome!B4 -> v1.00
B5: =Welcome!A5 -> Last Updated Date | C5: =Welcome!B5 -> 45441
B7: =Company_Information!B7 -> 40 CFR Part 63, Subpart U: Group I Polymers and Resins NESHAP; §63.506(e)(6) Periodic Report
B8: The information specified in §63.108(l)(2) of part 63 subpart F.
B10: Note: Company Record No. selections will appear once information is entered onto the Company_Information tab. Depending on the answer in Column D, cells in Columns H-R will be blacked out.
I11: Visible Emissions Exceeded or Emergency Flaring | J11: Operating Limits Not Met Only | M11: Emergency Flaring Only
B12: Company Record No. (Select from dropdown) | C12: Process Unit Identification | D12: Flare Identification (§63.506(e)(6)(xiii)) | E12: Type of Event (§63.506(e)(6)(xiii), §63.108(l)(2)) (Select from dropdown) | F12: Date (§63.506(e)(6)(xiii), §63.108(l)(2)) | G12: Start Time (§63.506(e)(6)(xiii), §63.108(l)(2)) | H12: End Time (§63.506(e)(6)(xiii), §63.108(l)(2)) | I12: Estimate of Cumulative Number of Minutes for Which Emissions Were Visible (§63.506(e)(6)(xiii), §63.108(l)(2)(ii), §63.108(l)(2)(iv)(B)) | J12: Which operating limit was not met? (§63.506(e)(6)(xiii), §63.108(l)(2)(iii)) (Select from dropdown) | K12: Value of Operating Parameter (§63.506(e)(6)(xiii), §63.108(l)(2)(iii)) | L12: Units of Measure for Operating Parameter (§63.506(e)(6)(xiii), §63.108(l)(2)(iii)) (Autofills) | M12: Start Date Flare Tip Velocity Exceeded (§63.506(e)(6)(xiii), §63.108(l)(2)(iv)(C)) | N12: Start Time Flare Tip Velocity Exceeded (§63.506(e)(6)(xiii), §63.108(l)(2)(iv)(C)) | O12: Duration Flare Tip Velocity Exceeded (minutes) (§63.506(e)(6)(xiii), §63.108(l)(2)(iv)(C)) | P12: Maximum 15-Minute Block Average Flare Tip Velocity (ft/sec) (§63.506(e)(6)(xiii), §63.108(l)(2)(iv)(C)) | Q12: Results of Root Cause and Corrective Action Analysis Completed During Reporting Period (§63.506(e)(6)(xiii), §63.108(l)(2)(iv)(D)) | R12: Corrective Actions Implemented During Reporting Period (§63.506(e)(6)(xiii), §63.108(l)(2)(iv)(D)) | S12: Implementation Schedule for Planned Corrective Actions Subsequent to Reporting Period (§63.506(e)(6)(xiii), §63.108(l)(2)(iv)(D))
B13: RecordId | C13: FlareProcessId | D13: FlareId | E13: FlareEventType | F13: FlareDate | G13: FlareStartTime | H13: FlareEndTime | I13: FlareVEMinutes | J13: FlareOpLimit | K13: FlareParameterValue | L13: FlareParameterUnits | M13: FlareTipStartDate | N13: FlareTipStartTime | O13: FlareTipDuration | P13: FlareTipVelocity | Q13: FlareTipRootCause | R13: FlareTipCorrectiveAction | S13: FlareTipSchedule
B14: e.g.: 1 | C14: e.g.: ABC Unit | D14: e.g.: Flare 302 | E14: e.g.: No pilot/flare flame present | F14: e.g.: 02/04/24 | G14: e.g.: 3:15 PM | H14: e.g.: 3:30 PM
B15: e.g.: | C15: e.g.: ABC Unit | D15: e.g.: Flare 4-6 | E15: e.g.: Emergency Flaring | F15: e.g.: 03/01/24 | G15: e.g.: 10:05 PM | H15: e.g.: 10:20 PM | I15: e.g.: 10 | M15: e.g.: 03/01/24 | N15: e.g.: 10:10 PM | O15: e.g.: 10:20 PM | P15: e.g.: 500 | Q15: e.g.: | R15: e.g.: | S15: e.g.:
B16: e.g.: | C16: e.g.: ABC Unit | D16: e.g.: Flare 23 | E16: e.g.: Applicable operating limits not met | F16: e.g.: 03/06/24 | G16: e.g.: 1:30 PM | H16: e.g.: 1:45 PM | J16: e.g.: vtip | K16: e.g.: 450 | L16: e.g.: ft/s
B17: e.g.: | C17: e.g.: | D17: e.g.: | E17: e.g.: | F17: e.g.: | G17: e.g.: | H17: e.g.: | I17: e.g.: | J17: e.g.: | K17: e.g.: | L17: e.g.: | M17: e.g.: | N17: e.g.: | O17: e.g.: | P17: e.g.: | Q17: e.g.: | R17: e.g.: | S17: e.g.:
B18: e.g.: | C18: e.g.: | D18: e.g.: | E18: e.g.: | F18: e.g.: | G18: e.g.: | H18: e.g.: | I18: e.g.: | J18: e.g.: | K18: e.g.: | L18: e.g.: | M18: e.g.: | N18: e.g.: | O18: e.g.: | P18: e.g.: | Q18: e.g.: | R18: e.g.: | S18: e.g.:
B19: e.g.: | C19: e.g.: | D19: e.g.: | E19: e.g.: | F19: e.g.: | G19: e.g.: | H19: e.g.: | I19: e.g.: | J19: e.g.: | K19: e.g.: | L19: e.g.: | M19: e.g.: | N19: e.g.: | O19: e.g.: | P19: e.g.: | Q19: e.g.: | R19: e.g.: | S19: e.g.:
B20: e.g.: | C20: e.g.: | D20: e.g.: | E20: e.g.: | F20: e.g.: | G20: e.g.: | H20: e.g.: | I20: e.g.: | J20: e.g.: | K20: e.g.: | L20: e.g.: | M20: e.g.: | N20: e.g.: | O20: e.g.: | P20: e.g.: | Q20: e.g.: | R20: e.g.: | S20: e.g.:
B21: e.g.: | C21: e.g.: | D21: e.g.: | E21: e.g.: | F21: e.g.: | G21: e.g.: | H21: e.g.: | I21: e.g.: | J21: e.g.: | K21: e.g.: | L21: e.g.: | M21: e.g.: | N21: e.g.: | O21: e.g.: | P21: e.g.: | Q21: e.g.: | R21: e.g.: | S21: e.g.:
B22: e.g.: | C22: e.g.: | D22: e.g.: | E22: e.g.: | F22: e.g.: | G22: e.g.: | H22: e.g.: | I22: e.g.: | J22: e.g.: | K22: e.g.: | L22: e.g.: | M22: e.g.: | N22: e.g.: | O22: e.g.: | P22: e.g.: | Q22: e.g.: | R22: e.g.: | S22: e.g.:
B23: e.g.: | C23: e.g.: | D23: e.g.: | E23: e.g.: | F23: e.g.: | G23: e.g.: | H23: e.g.: | I23: e.g.: | J23: e.g.: | K23: e.g.: | L23: e.g.: | M23: e.g.: | N23: e.g.: | O23: e.g.: | P23: e.g.: | Q23: e.g.: | R23: e.g.: | S23: e.g.:
L24: =IF(J24="","",IF(J24="vtip","ft/s",IF(J24="NHVcz","Btu/scf","Btu/sq ft")))
L25: =IF(J25="","",IF(J25="vtip","ft/s",IF(J25="NHVcz","Btu/scf","Btu/sq ft")))
L26: =IF(J26="","",IF(J26="vtip","ft/s",IF(J26="NHVcz","Btu/scf","Btu/sq ft")))
L27: =IF(J27="","",IF(J27="vtip","ft/s",IF(J27="NHVcz","Btu/scf","Btu/sq ft")))
L28: =IF(J28="","",IF(J28="vtip","ft/s",IF(J28="NHVcz","Btu/scf","Btu/sq ft")))
L29: =IF(J29="","",IF(J29="vtip","ft/s",IF(J29="NHVcz","Btu/scf","Btu/sq ft")))
L30: =IF(J30="","",IF(J30="vtip","ft/s",IF(J30="NHVcz","Btu/scf","Btu/sq ft")))
L31: =IF(J31="","",IF(J31="vtip","ft/s",IF(J31="NHVcz","Btu/scf","Btu/sq ft")))
L32: =IF(J32="","",IF(J32="vtip","ft/s",IF(J32="NHVcz","Btu/scf","Btu/sq ft")))
L33: =IF(J33="","",IF(J33="vtip","ft/s",IF(J33="NHVcz","Btu/scf","Btu/sq ft")))
L34: =IF(J34="","",IF(J34="vtip","ft/s",IF(J34="NHVcz","Btu/scf","Btu/sq ft")))
L35: =IF(J35="","",IF(J35="vtip","ft/s",IF(J35="NHVcz","Btu/scf","Btu/sq ft")))
... L10023: =IF(J10023="","",IF(J10023="vtip","ft/s",IF(J10023="NHVcz","Btu/scf","Btu/sq ft")))

Sheet Maintenance_Vents
B1: DO NOT REMOVE OR EDIT INFORMATION IN ROWS 1 THORUGH 5 FOR INTERNAL USE ONLY
B2: =Welcome!A2 -> Template Name | C2: =Welcome!B2 -> 63.506(e)(6) Periodic Report (Spreadsheet Template)
B3: =Welcome!A3 -> CitationID | C3: =Welcome!B3 -> 63.506(e)(6)
B4: =Welcome!A4 -> Template Version | C4: =Welcome!B4 -> v1.00
B5: =Welcome!A5 -> Last Updated Date | C5: =Welcome!B5 -> 45441
B7: =Company_Information!B7 -> 40 CFR Part 63, Subpart U: Group I Polymers and Resins NESHAP; §63.506(e)(6) Periodic Report
B8: For any maintenance vent release exceeding the applicable limits in §63.113(k)(1) or §63.487(i)(1), the compliance report must include the information specified in §63.118(f)(9)(i) through (f)(9)(iv) or §63.492(g)(1) through (g)(4). If an owner or operator complies with §63.113(k)(1)(iv) or §63.487(i)(1)(iv), then the owner or operator must report each venting event conducted under those provisions and
B9: include an explanation for each event as to why utilization of this alternative was required.
B10: Note: Company Record No. selections will appear once information is entered onto the Company_Information tab.
B12: Company Record No. (Select from dropdown) | C12: Process Unit Identification | D12: Maintenance Vent Identification (§63.506(e)(6)(iii)(A), §63.118(f)(9)(i), §63.492(g)(1)) | E12: Equipment Served by Maintenance Vent (§63.506(e)(6)(iii)(A), §63.118(f)(9)(i), §63.492(g)(1)) | F12: Date Maintenance Vent Opened to Atmosphere (§63.506(e)(6)(iii)(A), §63.118(f)(9)(ii), §63.492(g)(2)) | G12: Time Maintenance Vent Opened to Atmosphere (§63.506(e)(6)(iii)(A), §63.118(f)(9)(ii), §63.492(g)(2)) | H12: Which condition did you meet? (§63.506(e)(6)(iii)(A), §63.118(f)(9)(iii), §63.492(g)(3)) (Select from dropdown) | I12: Parameter Value at Start of Atmospheric Venting (§63.506(e)(6)(iii)(A), §63.118(f)(9)(iii), §63.492(g)(3)) | J12: Units of Measure for Parameter (§63.506(e)(6)(iii)(A), §63.118(f)(9)(iii), §63.492(g)(3)) (Autofills) | K12: Was the 5 psig vessel pressure option in §63.113(k)(1)(ii) or 63.487(i)(1)(ii) used, with active purging initiated while the concentration of vapor was 10 percent or greater of its LEL? (§63.506(e)(6)(iii)(A), §63.118(f)(9)(iii), §63.492(g)(3)) (Dropdown) | L12: If Column K is "yes", Concentration of Vapors at the Time Active Purging Initiated (§63.506(e)(6)(iii)(A), §63.118(f)(9)(iii), §63.492(g)(3)) | M12: Units of Measure for Concentration in Column L (§63.506(e)(6)(iii)(A), §63.118(f)(9)(iii), §63.492(g)(3)) | N12: Estimate of Organic HAP Released During Entire Atmospheric Venting Event (in pounds) (§63.506(e)(6)(iii)(A), §63.118(f)(9)(iv), §63.492(g)(4)) | O12: Was it not possible to meet the LEL, vessel pressure, or mass of VOC requirements and venting was conducted under §63.113(k)(1)(iv) or §63.487(i)(1)(iv)? (§63.506(e)(6)(iii)(A), §63.118(f)(9), §63.492(g)) | P12: Explanation as to why utilization of this alternative was required. (§63.506(e)(6)(iii)(A), §63.118(f)(9), §63.492(g))
B13: RecordId | C13: VentProcessId | D13: VentId | E13: VentEquipment | F13: VentOpenDate | G13: VentOpenTime | H13: VentConditionMet | I13: VentParamValue | J13: VentParamUnit | K13: VentLelFlag | L13: VentVaporConc | M13: VentConcUnits | N13: VentMassRelease | O13: VentAltFlag | P13: VentAltReason
B14: e.g.: 1 | C14: e.g.: ABC Unit | D14: e.g.: Vent 123d | E14: e.g.: | F14: e.g.: 04/15/24 | G14: e.g.: 1:30 PM | H14: e.g.: LEL | I14: e.g.: | J14: e.g.: % | K14: e.g.: no | L14: e.g.: | M14: e.g.: | N14: e.g.: 20 | O14: e.g.: It was possible. | P14: e.g.:
B15: e.g.: | C15: e.g.: | D15: e.g.: | E15: e.g.: | F15: e.g.: | G15: e.g.: | H15: e.g.: | I15: e.g.: | J15: e.g.: | K15: e.g.: | L15: e.g.: | M15: e.g.: | N15: e.g.: | O15: e.g.: | P15: e.g.:
B16: e.g.: | C16: e.g.: | D16: e.g.: | E16: e.g.: | F16: e.g.: | G16: e.g.: | H16: e.g.: | I16: e.g.: | J16: e.g.: | K16: e.g.: | L16: e.g.: | M16: e.g.: | N16: e.g.: | O16: e.g.: | P16: e.g.:
B17: e.g.: | C17: e.g.: | D17: e.g.: | E17: e.g.: | F17: e.g.: | G17: e.g.: | H17: e.g.: | I17: e.g.: | J17: e.g.: | K17: e.g.: | L17: e.g.: | M17: e.g.: | N17: e.g.: | O17: e.g.: | P17: e.g.:
B18: e.g.: | C18: e.g.: | D18: e.g.: | E18: e.g.: | F18: e.g.: | G18: e.g.: | H18: e.g.: | I18: e.g.: | J18: e.g.: | K18: e.g.: | L18: e.g.: | M18: e.g.: | N18: e.g.: | O18: e.g.: | P18: e.g.:
B19: e.g.: | C19: e.g.: | D19: e.g.: | E19: e.g.: | F19: e.g.: | G19: e.g.: | H19: e.g.: | I19: e.g.: | J19: e.g.: | K19: e.g.: | L19: e.g.: | M19: e.g.: | N19: e.g.: | O19: e.g.: | P19: e.g.:
B20: e.g.: | C20: e.g.: | D20: e.g.: | E20: e.g.: | F20: e.g.: | G20: e.g.: | H20: e.g.: | I20: e.g.: | J20: e.g.: | K20: e.g.: | L20: e.g.: | M20: e.g.: | N20: e.g.: | O20: e.g.: | P20: e.g.:
B21: e.g.: | C21: e.g.: | D21: e.g.: | E21: e.g.: | F21: e.g.: | G21: e.g.: | H21: e.g.: | I21: e.g.: | J21: e.g.: | K21: e.g.: | L21: e.g.: | M21: e.g.: | N21: e.g.: | O21: e.g.: | P21: e.g.:
B22: e.g.: | C22: e.g.: | D22: e.g.: | E22: e.g.: | F22: e.g.: | G22: e.g.: | H22: e.g.: | I22: e.g.: | J22: e.g.: | K22: e.g.: | L22: e.g.: | M22: e.g.: | N22: e.g.: | O22: e.g.: | P22: e.g.:
B23: e.g.: | C23: e.g.: | D23: e.g.: | E23: e.g.: | F23: e.g.: | G23: e.g.: | H23: e.g.: | I23: e.g.: | J23: e.g.: | K23: e.g.: | L23: e.g.: | M23: e.g.: | N23: e.g.: | O23: e.g.: | P23: e.g.:
J24: =IF(Table13[[#This Row],[Which condition did you meet? (§63.506(e)(6)(iii)(A), §63.118(f)(9)(iii), §63.492(g)(3)) (Select from dropdown)]]="","",(IF(Table13[[#This Row],[Which condition did you meet? (§63.506(e)(6)(iii)(A), §63.118(f)(9)(iii), §63.492(g)(3)) (Select from dropdown)]]="LEL","%",(IF(Table13[[#This Row],[Which condition did you meet? (§63.506(e)(6)(iii)(A), §63.118(f)(9)(iii), §63.492(g)(3)) (Select from dropdown)]]="vessel pressure","psig","lb")))))
J25: =IF(Table13[[#This Row],[Which condition did you meet? (§63.506(e)(6)(iii)(A), §63.118(f)(9)(iii), §63.492(g)(3)) (Select from dropdown)]]="","",(IF(Table13[[#This Row],[Which condition did you meet? (§63.506(e)(6)(iii)(A), §63.118(f)(9)(iii), §63.492(g)(3)) (Select from dropdown)]]="LEL","%",(IF(Table13[[#This Row],[Which condition did you meet? (§63.506(e)(6)(iii)(A), §63.118(f)(9)(iii), §63.492(g)(3)) (Select from dropdown)]]="vessel pressure","psig","lb")))))
J26: =IF(Table13[[#This Row],[Which condition did you meet? (§63.506(e)(6)(iii)(A), §63.118(f)(9)(iii), §63.492(g)(3)) (Select from dropdown)]]="","",(IF(Table13[[#This Row],[Which condition did you meet? (§63.506(e)(6)(iii)(A), §63.118(f)(9)(iii), §63.492(g)(3)) (Select from dropdown)]]="LEL","%",(IF(Table13[[#This Row],[Which condition did you meet? (§63.506(e)(6)(iii)(A), §63.118(f)(9)(iii), §63.492(g)(3)) (Select from dropdown)]]="vessel pressure","psig","lb")))))
J27: =IF(Table13[[#This Row],[Which condition did you meet? (§63.506(e)(6)(iii)(A), §63.118(f)(9)(iii), §63.492(g)(3)) (Select from dropdown)]]="","",(IF(Table13[[#This Row],[Which condition did you meet? (§63.506(e)(6)(iii)(A), §63.118(f)(9)(iii), §63.492(g)(3)) (Select from dropdown)]]="LEL","%",(IF(Table13[[#This Row],[Which condition did you meet? (§63.506(e)(6)(iii)(A), §63.118(f)(9)(iii), §63.492(g)(3)) (Select from dropdown)]]="vessel pressure","psig","lb")))))
J28: =IF(Table13[[#This Row],[Which condition did you meet? (§63.506(e)(6)(iii)(A), §63.118(f)(9)(iii), §63.492(g)(3)) (Select from dropdown)]]="","",(IF(Table13[[#This Row],[Which condition did you meet? (§63.506(e)(6)(iii)(A), §63.118(f)(9)(iii), §63.492(g)(3)) (Select from dropdown)]]="LEL","%",(IF(Table13[[#This Row],[Which condition did you meet? (§63.506(e)(6)(iii)(A), §63.118(f)(9)(iii), §63.492(g)(3)) (Select from dropdown)]]="vessel pressure","psig","lb")))))
J29: =IF(Table13[[#This Row],[Which condition did you meet? (§63.506(e)(6)(iii)(A), §63.118(f)(9)(iii), §63.492(g)(3)) (Select from dropdown)]]="","",(IF(Table13[[#This Row],[Which condition did you meet? (§63.506(e)(6)(iii)(A), §63.118(f)(9)(iii), §63.492(g)(3)) (Select from dropdown)]]="LEL","%",(IF(Table13[[#This Row],[Which condition did you meet? (§63.506(e)(6)(iii)(A), §63.118(f)(9)(iii), §63.492(g)(3)) (Select from dropdown)]]="vessel pressure","psig","lb")))))
J30: =IF(Table13[[#This Row],[Which condition did you meet? (§63.506(e)(6)(iii)(A), §63.118(f)(9)(iii), §63.492(g)(3)) (Select from dropdown)]]="","",(IF(Table13[[#This Row],[Which condition did you meet? (§63.506(e)(6)(iii)(A), §63.118(f)(9)(iii), §63.492(g)(3)) (Select from dropdown)]]="LEL","%",(IF(Table13[[#This Row],[Which condition did you meet? (§63.506(e)(6)(iii)(A), §63.118(f)(9)(iii), §63.492(g)(3)) (Select from dropdown)]]="vessel pressure","psig","lb")))))
J31: =IF(Table13[[#This Row],[Which condition did you meet? (§63.506(e)(6)(iii)(A), §63.118(f)(9)(iii), §63.492(g)(3)) (Select from dropdown)]]="","",(IF(Table13[[#This Row],[Which condition did you meet? (§63.506(e)(6)(iii)(A), §63.118(f)(9)(iii), §63.492(g)(3)) (Select from dropdown)]]="LEL","%",(IF(Table13[[#This Row],[Which condition did you meet? (§63.506(e)(6)(iii)(A), §63.118(f)(9)(iii), §63.492(g)(3)) (Select from dropdown)]]="vessel pressure","psig","lb")))))
J32: =IF(Table13[[#This Row],[Which condition did you meet? (§63.506(e)(6)(iii)(A), §63.118(f)(9)(iii), §63.492(g)(3)) (Select from dropdown)]]="","",(IF(Table13[[#This Row],[Which condition did you meet? (§63.506(e)(6)(iii)(A), §63.118(f)(9)(iii), §63.492(g)(3)) (Select from dropdown)]]="LEL","%",(IF(Table13[[#This Row],[Which condition did you meet? (§63.506(e)(6)(iii)(A), §63.118(f)(9)(iii), §63.492(g)(3)) (Select from dropdown)]]="vessel pressure","psig","lb")))))
J33: =IF(Table13[[#This Row],[Which condition did you meet? (§63.506(e)(6)(iii)(A), §63.118(f)(9)(iii), §63.492(g)(3)) (Select from dropdown)]]="","",(IF(Table13[[#This Row],[Which condition did you meet? (§63.506(e)(6)(iii)(A), §63.118(f)(9)(iii), §63.492(g)(3)) (Select from dropdown)]]="LEL","%",(IF(Table13[[#This Row],[Which condition did you meet? (§63.506(e)(6)(iii)(A), §63.118(f)(9)(iii), §63.492(g)(3)) (Select from dropdown)]]="vessel pressure","psig","lb")))))
J34: =IF(Table13[[#This Row],[Which condition did you meet? (§63.506(e)(6)(iii)(A), §63.118(f)(9)(iii), §63.492(g)(3)) (Select from dropdown)]]="","",(IF(Table13[[#This Row],[Which condition did you meet? (§63.506(e)(6)(iii)(A), §63.118(f)(9)(iii), §63.492(g)(3)) (Select from dropdown)]]="LEL","%",(IF(Table13[[#This Row],[Which condition did you meet? (§63.506(e)(6)(iii)(A), §63.118(f)(9)(iii), §63.492(g)(3)) (Select from dropdown)]]="vessel pressure","psig","lb")))))
J35: =IF(Table13[[#This Row],[Which condition did you meet? (§63.506(e)(6)(iii)(A), §63.118(f)(9)(iii), §63.492(g)(3)) (Select from dropdown)]]="","",(IF(Table13[[#This Row],[Which condition did you meet? (§63.506(e)(6)(iii)(A), §63.118(f)(9)(iii), §63.492(g)(3)) (Select from dropdown)]]="LEL","%",(IF(Table13[[#This Row],[Which condition did you meet? (§63.506(e)(6)(iii)(A), §63.118(f)(9)(iii), §63.492(g)(3)) (Select from dropdown)]]="vessel pressure","psig","lb")))))
... J2023: =IF(Table13[[#This Row],[Which condition did you meet? (§63.506(e)(6)(iii)(A), §63.118(f)(9)(iii), §63.492(g)(3)) (Select from dropdown)]]="","",(IF(Table13[[#This Row],[Which condition did you meet? (§63.506(e)(6)(iii)(A), §63.118(f)(9)(iii), §63.492(g)(3)) (Select from dropdown)]]="LEL","%",(IF(Table13[[#This Row],[Which condition did you meet? (§63.506(e)(6)(iii)(A), §63.118(f)(9)(iii), §63.492(g)(3)) (Select from dropdown)]]="vessel pressure","psig","lb")))))

Sheet Tanks
B1: DO NOT REMOVE OR EDIT INFORMATION IN ROWS 1 THORUGH 5 FOR INTERNAL USE ONLY
B2: =Welcome!A2 -> Template Name | C2: =Welcome!B2 -> 63.506(e)(6) Periodic Report (Spreadsheet Template)
B3: =Welcome!A3 -> CitationID | C3: =Welcome!B3 -> 63.506(e)(6)
B4: =Welcome!A4 -> Template Version | C4: =Welcome!B4 -> v1.00
B5: =Welcome!A5 -> Last Updated Date | C5: =Welcome!B5 -> 45441
B7: =Company_Information!B7 -> 40 CFR Part 63, Subpart U: Group I Polymers and Resins NESHAP; §63.506(e)(6) Periodic Report
B8: An owner or operator who elects to comply with §63.119(b) by using a fixed roof and an internal floating roof or with §63.119(d) by using an external floating roof converted to an internal floating roof shall submit, as part of the Periodic Report required under §63.152(c), the results of each inspection conducted in accordance with §63.120(a) in which a failure is detected in the control equipment.
B9: An owner or operator who elects to comply with §63.119(c) by using an external floating roof shall meet the periodic reporting requirements specified in §63.122(e)(1), (e)(2), and (e)(3).
B10: An owner or operator who elects to comply with §63.119(e) of this subpart by installing a closed vent system and control device shall submit, as part of the next Periodic Report required by §63.152(c), the information specified in §63.122(g)(1) through (g)(4).
B11: Note: Company Record No. selections will appear once information is entered onto the Company_Information tab. | M11: Control System Does Not Meet Applicable Specifications of §63.119 (e)(1) or (e)(2) Due to Routine Maintenance | U11: Planned Maintenance for Next Period Where Control System Is Not Expected to Meet Required Control Efficiency
B12: Company Record No. (Select from dropdown) | C12: Process Unit Identification | D12: Storage Vessel Identification (§63.506(e)(6)(iii)(A), §63.122(d)(1)(ii)-(iii) and (2)(ii), §63.122(e)(2) and (3)(ii), §63.122(g)(1)(iii)) | E12: If you use an extension for a floating roof inspection in accordance with §63.120(a)(4), list the attachment name containing the required documentation. (§63.506(e)(6)(iii)(A), §63.122(d)(1)(iii)) | F12: If you use an extension for a seal gap failure in accordance with §63.120(b)(7)(ii) or (b)(8), list the attachment name containing the required documentation. (§63.506(e)(6)(iii)(A), §63.122(e)(ii)) | G12: Date of Inspection or Seal Gap Measurement (§63.506(e)(6)(iii)(A), §63.122(d)(1)(ii), §63.122(d)(2)(ii), §63.122(e)(1)(i), §63.122(e)(3)(ii)) | H12: Description of Inspection Failure, Including Condition Specified in §63.120(b)(5) or (b)(6) Not Met (§63.506(e)(6)(iii)(A), §63.122(d)(1)(ii), §63.122(d)(2)(ii), §63.122(e)(1)(iii), §63.122(e)(3)(ii)) | I12: Description of Nature of Repair (§63.506(e)(6)(iii)(A), §63.122(d)(1)(ii)-(iii), §63.122(d)(2)(ii), §63.122(e)(1)(iv), §63.122(e)(2), §63.122(e)(3)(ii)) | J12: Date of Repair (§63.506(e)(6)(iii)(A), §63.122(d)(1)(ii)-(iii), §63.122(d)(2)(ii), §63.122(e)(1)(iv), §63.122(e)(2), §63.122(e)(3)(ii)) | K12: Date Storage Vessel Emptied (if applicable) (§63.506(e)(6)(iii)(A), §63.122(d)(1)(ii)-(iii), §63.122(e)(1)(iv), §63.122(e)(2)) | L12: For External Floating Roofs, list the name of the attached file with seal gap measurements. (§63.506(e)(6)(iii)(A), §63.122(e)(1)(ii)) | M12: Height of Liquid in Storage Vessel at Time Control Device is Bypassed for Maintenance (§63.506(e)(6)(iii)(A), §63.122(g)(1)(iii)) | N12: Date of Liquid Height Measurement When at Time of Bypass (§63.506(e)(6)(iii)(A), §63.122(g)(1)(iii)) | O12: Time of Liquid Height Measurement at Time of Bypass (§63.506(e)(6)(iii)(A), §63.122(g)(1)(iii)) | P12: Height of Liquid in Storage Vessel at Time Control Device is Placed Back in Service After Bypass for Maintenance (§63.506(e)(6)(iii)(A), §63.122(g)(1)(iii) | Q12: Date of Liquid Height Measurement After Maintenance (§63.506(e)(6)(iii)(A), §63.122(g)(1)(iii)) | R12: Time of Liquid Height Measurement After Maintenance (§63.506(e)(6)(iii)(A), §63.122(g)(1)(iii)) | S12: Description of Type of Maintenance Performed (§63.506(e)(6)(iii)(A), §63.122(g)(1)(ii)) | T12: Total Number of Hours During Reporting Period Control Device Didn't Meet Requirements (§63.506(e)(6)(iii)(A), §63.122(g)(1)(ii)) | U12: Type of Maintenance Necessary (§63.506(e)(6)(iii)(A), §63.122(g)(1)(i)) | V12: Planned Frequency of Maintenance (§63.506(e)(6)(iii)(A), §63.122(g)(1)(i)) | W12: Length of Maintenance Periods (§63.506(e)(6)(iii)(A), §63.122(g)(1)(i))
B13: RecordId | C13: TankProcessId | D13: TankId | E13: TankFrInspExtFile | F13: TankGapExtFile | G13: TankInspDate | H13: TankInspFailDesc | I13: TankRepairDesc | J13: TankRepairDate | K13: TankEmptyDate | L13: TankGapDataFile | M13: TankLiquidHtStart | N13: TankHtDateStart | O13: TankHtTimeStart | P13: TankLiquidHtStop | Q13: TankHtDateStop | R13: TankHtTimeStop | S13: TankMaintenanceType | T13: TankHoursOut | U13: TankMaintenancePlanned | V13: TankMaintenanceFrequency | W13: TankMaintenanceLength
B14: e.g.: 1 | C14: e.g.: ABC Unit | D14: e.g.: Tank ST98 | E14: e.g.: | F14: e.g.: | G14: e.g.: 01/25/24 | H14: e.g.: | I14: e.g.: | J14: e.g.: 01/28/24 | K14: e.g.: | L14: e.g.: sealgap.pdf | M14: e.g.: | N14: e.g.: | O14: e.g.: | P14: e.g.: | Q14: e.g.: | R14: e.g.: | S14: e.g.: | T14: e.g.: | U14: e.g.: | V14: e.g.: | W14: e.g.:
B15: e.g.: | C15: e.g.: | D15: e.g.: | E15: e.g.: | F15: e.g.: | G15: e.g.: | H15: e.g.: | I15: e.g.: | J15: e.g.: | K15: e.g.: | L15: e.g.: | M15: e.g.: | N15: e.g.: | O15: e.g.: | P15: e.g.: | Q15: e.g.: | R15: e.g.: | S15: e.g.: | T15: e.g.: | U15: e.g.: | V15: e.g.: | W15: e.g.:
B16: e.g.: | C16: e.g.: | D16: e.g.: | E16: e.g.: | F16: e.g.: | G16: e.g.: | H16: e.g.: | I16: e.g.: | J16: e.g.: | K16: e.g.: | L16: e.g.: | M16: e.g.: | N16: e.g.: | O16: e.g.: | P16: e.g.: | Q16: e.g.: | R16: e.g.: | S16: e.g.: | T16: e.g.: | U16: e.g.: | V16: e.g.: | W16: e.g.:
B17: e.g.: | C17: e.g.: | D17: e.g.: | E17: e.g.: | F17: e.g.: | G17: e.g.: | H17: e.g.: | I17: e.g.: | J17: e.g.: | K17: e.g.: | L17: e.g.: | M17: e.g.: | N17: e.g.: | O17: e.g.: | P17: e.g.: | Q17: e.g.: | R17: e.g.: | S17: e.g.: | T17: e.g.: | U17: e.g.: | V17: e.g.: | W17: e.g.:
B18: e.g.: | C18: e.g.: | D18: e.g.: | E18: e.g.: | F18: e.g.: | G18: e.g.: | H18: e.g.: | I18: e.g.: | J18: e.g.: | K18: e.g.: | L18: e.g.: | M18: e.g.: | N18: e.g.: | O18: e.g.: | P18: e.g.: | Q18: e.g.: | R18: e.g.: | S18: e.g.: | T18: e.g.: | U18: e.g.: | V18: e.g.: | W18: e.g.:
B19: e.g.: | C19: e.g.: | D19: e.g.: | E19: e.g.: | F19: e.g.: | G19: e.g.: | H19: e.g.: | I19: e.g.: | J19: e.g.: | K19: e.g.: | L19: e.g.: | M19: e.g.: | N19: e.g.: | O19: e.g.: | P19: e.g.: | Q19: e.g.: | R19: e.g.: | S19: e.g.: | T19: e.g.: | U19: e.g.: | V19: e.g.: | W19: e.g.:
B20: e.g.: | C20: e.g.: | D20: e.g.: | E20: e.g.: | F20: e.g.: | G20: e.g.: | H20: e.g.: | I20: e.g.: | J20: e.g.: | K20: e.g.: | L20: e.g.: | M20: e.g.: | N20: e.g.: | O20: e.g.: | P20: e.g.: | Q20: e.g.: | R20: e.g.: | S20: e.g.: | T20: e.g.: | U20: e.g.: | V20: e.g.: | W20: e.g.:
B21: e.g.: | C21: e.g.: | D21: e.g.: | E21: e.g.: | F21: e.g.: | G21: e.g.: | H21: e.g.: | I21: e.g.: | J21: e.g.: | K21: e.g.: | L21: e.g.: | M21: e.g.: | N21: e.g.: | O21: e.g.: | P21: e.g.: | Q21: e.g.: | R21: e.g.: | S21: e.g.: | T21: e.g.: | U21: e.g.: | V21: e.g.: | W21: e.g.:
B22: e.g.: | C22: e.g.: | D22: e.g.: | E22: e.g.: | F22: e.g.: | G22: e.g.: | H22: e.g.: | I22: e.g.: | J22: e.g.: | K22: e.g.: | L22: e.g.: | M22: e.g.: | N22: e.g.: | O22: e.g.: | P22: e.g.: | Q22: e.g.: | R22: e.g.: | S22: e.g.: | T22: e.g.: | U22: e.g.: | V22: e.g.: | W22: e.g.:
B23: e.g.: | C23: e.g.: | D23: e.g.: | E23: e.g.: | F23: e.g.: | G23: e.g.: | H23: e.g.: | I23: e.g.: | J23: e.g.: | K23: e.g.: | L23: e.g.: | M23: e.g.: | N23: e.g.: | O23: e.g.: | P23: e.g.: | Q23: e.g.: | R23: e.g.: | S23: e.g.: | T23: e.g.: | U23: e.g.: | V23: e.g.: | W23: e.g.:

Sheet Pressure_Vessels
B1: DO NOT REMOVE OR EDIT INFORMATION IN ROWS 1 THORUGH 5 FOR INTERNAL USE ONLY
B2: =Welcome!A2 -> Template Name | C2: =Welcome!B2 -> 63.506(e)(6) Periodic Report (Spreadsheet Template)
B3: =Welcome!A3 -> CitationID | C3: =Welcome!B3 -> 63.506(e)(6)
B4: =Welcome!A4 -> Template Version | C4: =Welcome!B4 -> v1.00
B5: =Welcome!A5 -> Last Updated Date | C5: =Welcome!B5 -> 45441
B7: =Company_Information!B7 -> 40 CFR Part 63, Subpart U: Group I Polymers and Resins NESHAP; §63.506(e)(6) Periodic Report
B8: For pressure vessels subject to the requirements of §63.119(a)(7), if you obtain an instrument reading greater than 500 ppmv of a leak when monitoring a pressure vessel in accordance with §63.119(a)(7)(ii), then
B9: the Periodic Report must include an identification of the pressure vessel and a copy of the records specified in §63.123(b)(2).
B10: Note: Company Record No. selections will appear once information is entered onto the Company_Information tab.
B12: Company Record No. (Select from dropdown) | C12: Process Unit Identification | D12: Pressure Vessel Identification (§63.506(e)(6)(iii)(A), §63.122(i)) | E12: Instrument Reading During Performance Test (in ppmv) (§63.506(e)(6)(iii)(A), §63.122(i), §63.123(b)(2)(i)) | F12: Date Defect Detected (§63.506(e)(6)(iii)(A), §63.122(i), §63.123(b)(2)(i)) | G12: Date of Next Performance Test With Instrument Reading Below 500 ppmv (§63.506(e)(6)(iii)(A), §63.122(i), §63.123(b)(2)(ii)) | H12: Instrument Reading During the Next Performance Test (in ppmv) (§63.506(e)(6)(iii)(A), §63.122(i), §63.123(b)(2)(ii)) | I12: Start Date Pressure Vessel is Empty after the date in Column F (§63.506(e)(6)(iii)(A), §63.122(i), §63.123(b)(2)(iii)) | J12: End Date Pressure Vessel is Empty after the date in Column F (§63.506(e)(6)(iii)(A), §63.122(i), §63.123(b)(2)(iii)) | K12: Estimated Emissions From Defect (§63.506(e)(6)(iii)(A), §63.122(i), §63.123(b)(2)(iv))
B13: RecordId | C13: PressureProcessId | D13: PressureVesselId | E13: PressureConcDefect | F13: PressureDateDefect | G13: PressureDatePass | H13: PressureConcPass | I13: PressureEmptyStartDate | J13: PressureEmptyEndDate | K13: PressureDefectEmission
B14: e.g.: 1 | C14: e.g.: ABC Unit | D14: e.g.: Tank SK-123 | E14: e.g.: 2000 | F14: e.g.: 04/04/24 | G14: e.g.: 04/07/24 | H14: e.g.: 100 | I14: e.g.: 04/05/24 | J14: e.g.: 04/06/24 | K14: e.g.: 300 lb benzene
B15: e.g.: | C15: e.g.: | D15: e.g.: | E15: e.g.: | F15: e.g.: | G15: e.g.: | H15: e.g.: | I15: e.g.: | J15: e.g.: | K15: e.g.:
B16: e.g.: | C16: e.g.: | D16: e.g.: | E16: e.g.: | F16: e.g.: | G16: e.g.: | H16: e.g.: | I16: e.g.: | J16: e.g.: | K16: e.g.:
B17: e.g.: | C17: e.g.: | D17: e.g.: | E17: e.g.: | F17: e.g.: | G17: e.g.: | H17: e.g.: | I17: e.g.: | J17: e.g.: | K17: e.g.:
B18: e.g.: | C18: e.g.: | D18: e.g.: | E18: e.g.: | F18: e.g.: | G18: e.g.: | H18: e.g.: | I18: e.g.: | J18: e.g.: | K18: e.g.:
B19: e.g.: | C19: e.g.: | D19: e.g.: | E19: e.g.: | F19: e.g.: | G19: e.g.: | H19: e.g.: | I19: e.g.: | J19: e.g.: | K19: e.g.:
B20: e.g.: | C20: e.g.: | D20: e.g.: | E20: e.g.: | F20: e.g.: | G20: e.g.: | H20: e.g.: | I20: e.g.: | J20: e.g.: | K20: e.g.:
B21: e.g.: | C21: e.g.: | D21: e.g.: | E21: e.g.: | F21: e.g.: | G21: e.g.: | H21: e.g.: | I21: e.g.: | J21: e.g.: | K21: e.g.:
B22: e.g.: | C22: e.g.: | D22: e.g.: | E22: e.g.: | F22: e.g.: | G22: e.g.: | H22: e.g.: | I22: e.g.: | J22: e.g.: | K22: e.g.:
B23: e.g.: | C23: e.g.: | D23: e.g.: | E23: e.g.: | F23: e.g.: | G23: e.g.: | H23: e.g.: | I23: e.g.: | J23: e.g.: | K23: e.g.:

Sheet Heat_Exchanger_System
B1: DO NOT REMOVE OR EDIT INFORMATION IN ROWS 1 THORUGH 5 FOR INTERNAL USE ONLY
B2: =Welcome!A2 -> Template Name | C2: =Welcome!B2 -> 63.506(e)(6) Periodic Report (Spreadsheet Template)
B3: =Welcome!A3 -> CitationID | C3: =Welcome!B3 -> 63.506(e)(6)
B4: =Welcome!A4 -> Template Version | C4: =Welcome!B4 -> v1.00
B5: =Welcome!A5 -> Last Updated Date | C5: =Welcome!B5 -> 45441
B7: =Company_Information!B7 -> 40 CFR Part 63, Subpart U: Group I Polymers and Resins NESHAP; §63.506(e)(6) Periodic Report
B8: For heat exchange systems subject to §63.502(n), the owner or operator shall submit the information specified in §63.104(f)(2) as part of the Periodic
B9: Report. §63.104(f)(2): For each heat exchange system subject to §63.104(g) or (l), the following information must be submitted in each semiannual
B10: periodic report.
B11: Note: Company Record No. selections will appear once information is entered onto the Company_Information tab.
B12: Company Record No. (Select from dropdown list) | C12: Process Unit Identification | D12: Number of heat exchange systems at the plant site subject to the monitoring requirements in §63.104(g) or (l) during the reporting period. (§63.506(e)(6), §63.104(f)(2)(vi)(A)) | E12: Number of heat exchange systems subject to the monitoring requirements in §63.104(g) or (l) at the plant site found to be leaking during the reporting period. (§63.506(e)(6), §63.104(f)(2)(vi)(B))
B13: RecordId | C13: HeatProcessId | D13: HeatSubjectNo | E13: HeatLeakNo
B14: e.g.: 1 | C14: e.g.: Unit ABC | D14: e.g.: 3 | E14: e.g.: 1
B15: e.g.: | C15: e.g.: | D15: e.g.: | E15: e.g.:
B16: e.g.: | C16: e.g.: | D16: e.g.: | E16: e.g.:
B17: e.g.: | C17: e.g.: | D17: e.g.: | E17: e.g.:
B18: e.g.: | C18: e.g.: | D18: e.g.: | E18: e.g.:
B19: e.g.: | C19: e.g.: | D19: e.g.: | E19: e.g.:
B20: e.g.: | C20: e.g.: | D20: e.g.: | E20: e.g.:
B21: e.g.: | C21: e.g.: | D21: e.g.: | E21: e.g.:
B22: e.g.: | C22: e.g.: | D22: e.g.: | E22: e.g.:
B23: e.g.: | C23: e.g.: | D23: e.g.: | E23: e.g.:

Sheet Heat_Exchanger_Leaks
B1: DO NOT REMOVE OR EDIT INFORMATION IN ROWS 1 THORUGH 5 FOR INTERNAL USE ONLY
B2: =Welcome!A2 -> Template Name | C2: =Welcome!B2 -> 63.506(e)(6) Periodic Report (Spreadsheet Template)
B3: =Welcome!A3 -> CitationID | C3: =Welcome!B3 -> 63.506(e)(6)
B4: =Welcome!A4 -> Template Version | C4: =Welcome!B4 -> v1.00
B5: =Welcome!A5 -> Last Updated Date | C5: =Welcome!B5 -> 45441
B7: =Company_Information!B7 -> 40 CFR Part 63, Subpart U: Group I Polymers and Resins NESHAP; §63.506(e)(6) Periodic Report
B8: For heat exchange systems subject to §63.502(n), the owner or operator shall submit the information specified in §63.104(f)(2) as part of the Periodic Report required by §63.506(e)(6).
B9: Reports. If an owner or operator invokes the delay of repair provisions for a heat exchange system, the following information shall be submitted in the next semi-annual periodic report. If the leak remains unrepaired, the information shall also be submitted in each subsequent periodic report, until repair of the leak is reported. In addition, if an owner or operator is complying with paragraph (g) or (l) of this section, then the semi-annual periodic report must include the information specified in §63.104(f)(2)(vi).
B10: Note: Company Record No. selections will appear once information is entered onto the Company_Information tab.
E11: Fill out applicable column | N11: Successful Repair Remonitor - Fill out applicable column | Q11: Delay of Repair Only
B12: Company Record No. (Select from dropdown list) | C12: Process Unit Identification | D12: Monitoring Location/Heat Exchange System Identification (§63.506(e)(6), §63.104(f)(2)(i), §63.104(f)(2)(vi)(C)) | E12: Measured Total Strippable Hydrocarbon Concentration (ppmv as methane) (§63.506(e)(6), §63.104(f)(2)(vi)(C)) | F12: Total Hydrocarbon Mass Emissions Rate (kg/hr as methane) (§63.506(e)(6), §63.104(f)(2)(vi)(C)) | G12: Measured Concentration of Monitored Substance(s) (ppmv) (§63.506(e)(6), §63.104(f)(2)(vi)(C)) | H12: Date Leak Detected (§63.506(e)(6), §63.104(f)(2)(i), §63.104(f)(2)(vi)(C)) | I12: Date the Source of the Leak was Identified (§63.506(e)(6), §63.104(f)(2)(vi)(C)) | J12: Was repair delayed? (§63.506(e)(6), §63.104(f)(2)(i), §63.104(f)(2)(vi)(E)) (Select from dropdown list) | K12: Date Delay of Repair Began (§63.506(e)(6), §63.104(f)(2)(vi)(E)) | L12: Has the leak been repaired? (§63.506(e)(6), §63.104(f)(2)(ii), §63.104(f)(2)(vi)(D), §63.104(f)(2)(vi)(E)) (Select from dropdown list) | M12: Date Leak Successfully Repaired (Remonitoring Date) (§63.506(e)(6), §63.104(f)(2)(v), §63.104(f)(2)(vi)(D), §63.104(f)(2)(vi)(E)) | N12: Measured Total Strippable Hydrocarbon Concentration (ppmv as methane) (§63.506(e)(6), §63.104(f)(2)(vi)(D), §63.104(f)(2)(vi)(E)) | O12: Total Hydrocarbon Mass Emissions Rate (kg/hr as methane) (§63.506(e)(6), §63.104(f)(2)(vi)(D), §63.104(f)(2)(vi)(E)) | P12: Measured Concentration of Monitored Substance(s) (ppmv) (§63.506(e)(6), §63.104(f)(2)(vi)(D), §63.104(f)(2)(vi)(E)) | Q12: If not repaired, what is the expected date of repair? (§63.506(e)(6), §63.104(f)(2)(iv), §63.104(f)(2)(vi)(E)) | R12: Reason(s) for Delay of Repair (§63.506(e)(6), §63.104(f)(2)(iii)) | S12: Estimate of the Potential Total Hydrocarbon Emissions or Monitored Substance(s) Emissions over the Reporting Period Associated with the Delayed Repair (pounds) (§63.506(e)(6), §63.104(f)(2)(vi)(E)) | T12: If delay of repair is invoked due to the reasons described in §63.104(e)(2), provide the attachment name that contains the documentation of emissions estimates. (§63.506(e)(6), §63.104(f)(2)(iii)) | U12: If there were additional monitoring events between the initial leak determination and successful repair remonitoing, provide the attachment name that contains the results and date of each additional monitoring event. (§63.506(e)(6), §63.104(f)(2)(vi)(E))
B13: RecordId | C13: HeatProcessId | D13: HeatExchangerId | E13: HeatHcLeakConc | F13: HeatLeakMass | G13: HeatCompLeakConc | H13: HeatLeakDate | I13: HeatLeakSourceDate | J13: HearRepairDelayFlag | K13: HeatDelayStartDate | L13: HeatLeakRepairFlag | M13: HeatLeakRepairDate | N13: HeatHcRepairConc | O13: HeatRepairMass | P13: HeatCompRepairConc | Q13: HeatDateExpected | R13: HeatDelayReason | S13: HeatHcEstimate | T13: HeatEmissionFile | U13: HeatAddMonitoringFile
B14: e.g.: 1 | C14: e.g.: Unit ABC | D14: e.g.: Exchanger 123 | E14: e.g.: 15 | F14: e.g.: | G14: e.g.: | H14: e.g.: 10/10/24 | I14: e.g.: 10/11/24 | J14: e.g.: no | K14: e.g.: | L14: e.g.: yes | M14: e.g.: 10/12/24 | N14: e.g.: 1 | O14: e.g.: | P14: e.g.: | Q14: e.g.: | R14: e.g.: | S14: e.g.: | T14: e.g.: | U14: e.g.:
B15: e.g.: | C15: e.g.: | D15: e.g.: | E15: e.g.: | F15: e.g.: | G15: e.g.: | H15: e.g.: | I15: e.g.: | J15: e.g.: | K15: e.g.: | L15: e.g.: | M15: e.g.: | N15: e.g.: | O15: e.g.: | P15: e.g.: | Q15: e.g.: | R15: e.g.: | S15: e.g.: | T15: e.g.: | U15: e.g.:
B16: e.g.: | C16: e.g.: | D16: e.g.: | E16: e.g.: | F16: e.g.: | G16: e.g.: | H16: e.g.: | I16: e.g.: | J16: e.g.: | K16: e.g.: | L16: e.g.: | M16: e.g.: | N16: e.g.: | O16: e.g.: | P16: e.g.: | Q16: e.g.: | R16: e.g.: | S16: e.g.: | T16: e.g.: | U16: e.g.:
B17: e.g.: | C17: e.g.: | D17: e.g.: | E17: e.g.: | F17: e.g.: | G17: e.g.: | H17: e.g.: | I17: e.g.: | J17: e.g.: | K17: e.g.: | L17: e.g.: | M17: e.g.: | N17: e.g.: | O17: e.g.: | P17: e.g.: | Q17: e.g.: | R17: e.g.: | S17: e.g.: | T17: e.g.: | U17: e.g.:
B18: e.g.: | C18: e.g.: | D18: e.g.: | E18: e.g.: | F18: e.g.: | G18: e.g.: | H18: e.g.: | I18: e.g.: | J18: e.g.: | K18: e.g.: | L18: e.g.: | M18: e.g.: | N18: e.g.: | O18: e.g.: | P18: e.g.: | Q18: e.g.: | R18: e.g.: | S18: e.g.: | T18: e.g.: | U18: e.g.:
B19: e.g.: | C19: e.g.: | D19: e.g.: | E19: e.g.: | F19: e.g.: | G19: e.g.: | H19: e.g.: | I19: e.g.: | J19: e.g.: | K19: e.g.: | L19: e.g.: | M19: e.g.: | N19: e.g.: | O19: e.g.: | P19: e.g.: | Q19: e.g.: | R19: e.g.: | S19: e.g.: | T19: e.g.: | U19: e.g.:
B20: e.g.: | C20: e.g.: | D20: e.g.: | E20: e.g.: | F20: e.g.: | G20: e.g.: | H20: e.g.: | I20: e.g.: | J20: e.g.: | K20: e.g.: | L20: e.g.: | M20: e.g.: | N20: e.g.: | O20: e.g.: | P20: e.g.: | Q20: e.g.: | R20: e.g.: | S20: e.g.: | T20: e.g.: | U20: e.g.:
B21: e.g.: | C21: e.g.: | D21: e.g.: | E21: e.g.: | F21: e.g.: | G21: e.g.: | H21: e.g.: | I21: e.g.: | J21: e.g.: | K21: e.g.: | L21: e.g.: | M21: e.g.: | N21: e.g.: | O21: e.g.: | P21: e.g.: | Q21: e.g.: | R21: e.g.: | S21: e.g.: | T21: e.g.: | U21: e.g.:
B22: e.g.: | C22: e.g.: | D22: e.g.: | E22: e.g.: | F22: e.g.: | G22: e.g.: | H22: e.g.: | I22: e.g.: | J22: e.g.: | K22: e.g.: | L22: e.g.: | M22: e.g.: | N22: e.g.: | O22: e.g.: | P22: e.g.: | Q22: e.g.: | R22: e.g.: | S22: e.g.: | T22: e.g.: | U22: e.g.:
B23: e.g.: | C23: e.g.: | D23: e.g.: | E23: e.g.: | F23: e.g.: | G23: e.g.: | H23: e.g.: | I23: e.g.: | J23: e.g.: | K23: e.g.: | L23: e.g.: | M23: e.g.: | N23: e.g.: | O23: e.g.: | P23: e.g.: | Q23: e.g.: | R23: e.g.: | S23: e.g.: | T23: e.g.: | U23: e.g.:

Sheet Regen_Carbon_Bed
B1: DO NOT REMOVE OR EDIT INFORMATION IN ROWS 1 THORUGH 5 FOR INTERNAL USE ONLY
B2: =Welcome!A2 -> Template Name | D2: =Welcome!B2 -> 63.506(e)(6) Periodic Report (Spreadsheet Template)
B3: =Welcome!A3 -> CitationID | D3: =Welcome!B3 -> 63.506(e)(6)
B4: =Welcome!A4 -> Template Version | D4: =Welcome!B4 -> v1.00
B5: =Welcome!A5 -> Last Updated Date | D5: =Welcome!B5 -> 45441
B7: =Company_Information!B7 -> 40 CFR Part 63, Subpart U: Group I Polymers and Resins NESHAP; §63.506(e)(6) Periodic Report
B8: Reports of all carbon bed regeneration cycles during which the parameters recorded were outside the ranges established. Include the identification of
B9: the carbon bed, the monitored parameter that was outside the established range start date, start time and duration in hours of the regeneration cycle.
B10: Note: Company Record No. selections will appear once information is entered onto the Company_Information tab.
B12: Company Record No. (Select from dropdown) | C12: Process Unit Identification | D12: Carbon Bed Identification (§63.506(e)(6)(iii)(A), §63.118(f)(6), §63.146(e)(1)) | E12: Cycle Start Date (§63.506(e)(6)(iii)(A), §63.118(f)(6), §63.146(e)(1)) | F12: Cycle Start Time (§63.506(e)(6)(iii)(A), §63.118(f)(6), §63.146(e)(1)) | G12: Duration of the Regeneration Cycle (in hours) (§63.506(e)(6)(iii)(A), §63.118(f)(6), §63.146(e)(1)) | H12: Parameter Outside of Range (§63.506(e)(6)(iii)(A), §63.118(f)(6), §63.146(e)(1)) (Select from dropdown)
B13: RecordId | C13: BedProcessId | D13: BedId | E13: BedCycleStartDate | F13: BedCycleStartTime | G13: BedCycleDuration | H13: BedParameterOut
B14: e.g.: 1 | C14: e.g.: ABC Unit | D14: e.g.: Bed AB12 | E14: e.g.: 05/04/24 | F14: e.g.: 10:00 AM | G14: e.g.: 3.5 | H14: e.g.: Carbon bed temperature
B15: e.g.: | C15: e.g.: | D15: e.g.: | E15: e.g.: | F15: e.g.: | G15: e.g.: | H15: e.g.:
B16: e.g.: | C16: e.g.: | D16: e.g.: | E16: e.g.: | F16: e.g.: | G16: e.g.: | H16: e.g.:
B17: e.g.: | C17: e.g.: | D17: e.g.: | E17: e.g.: | F17: e.g.: | G17: e.g.: | H17: e.g.:
B18: e.g.: | C18: e.g.: | D18: e.g.: | E18: e.g.: | F18: e.g.: | G18: e.g.: | H18: e.g.:
B19: e.g.: | C19: e.g.: | D19: e.g.: | E19: e.g.: | F19: e.g.: | G19: e.g.: | H19: e.g.:
B20: e.g.: | C20: e.g.: | D20: e.g.: | E20: e.g.: | F20: e.g.: | G20: e.g.: | H20: e.g.:
B21: e.g.: | C21: e.g.: | D21: e.g.: | E21: e.g.: | F21: e.g.: | G21: e.g.: | H21: e.g.:
B22: e.g.: | C22: e.g.: | D22: e.g.: | E22: e.g.: | F22: e.g.: | G22: e.g.: | H22: e.g.:
B23: e.g.: | C23: e.g.: | D23: e.g.: | E23: e.g.: | F23: e.g.: | G23: e.g.: | H23: e.g.:

Sheet Adsorbers
B1: DO NOT REMOVE OR EDIT INFORMATION IN ROWS 1 THORUGH 5 FOR INTERNAL USE ONLY
B2: =Welcome!A2 -> Template Name | C2: =Welcome!B2 -> 63.506(e)(6) Periodic Report (Spreadsheet Template)
B3: =Welcome!A3 -> CitationID | C3: =Welcome!B3 -> 63.506(e)(6)
B4: =Welcome!A4 -> Template Version | C4: =Welcome!B4 -> v1.00
B5: =Welcome!A5 -> Last Updated Date | C5: =Welcome!B5 -> 45441
B7: =Company_Information!B7 -> 40 CFR Part 63, Subpart U: Group I Polymers and Resins NESHAP; §63.506(e)(6) Periodic Report
B8: Report the date of each instance when breakthrough, as defined in §63.101, is detected between the first and second adsorber and
B9: the adsorber is not replaced.
B10: Note: Company Record No. selections will appear once information is entered onto the Company_Information tab.
B12: Company Record No. (Select from dropdown) | C12: Process Unit Identification | D12: Adsorber Identification (§63.506(e)(6)(iii)(A), §63.122(g)(4)) | E12: Date Inspection Not Conducted ((§63.506(e)(6)(iii)(A), §63.146(e)(1)) | F12: Date when breakthrough is detected between the first and second adsorber and the adsorber is not replaced (§63.506(e)(6)(iii)(A), §63.117(a)(9)-(10), §63.122(g)(4), §63.146(e)(1), Subpart G Tables 3, 7, 20)
B13: RecordId | C13: AdsorberProcessId | D13: AdsorberId | E13: AdsorberNoInspect | F13: AdsorberBreakthrough
B14: e.g.: 1 | C14: e.g.: ABC Unit | D14: e.g.: XYZ Absorber | E14: e.g.: | F14: e.g.: 03/04/24
B15: e.g.: | C15: e.g.: | D15: e.g.: | F15: e.g.:
B16: e.g.: | C16: e.g.: | D16: e.g.: | F16: e.g.:
B17: e.g.: | C17: e.g.: | D17: e.g.: | F17: e.g.:
B18: e.g.: | C18: e.g.: | D18: e.g.: | F18: e.g.:
B19: e.g.: | C19: e.g.: | D19: e.g.: | F19: e.g.:
B20: e.g.: | C20: e.g.: | D20: e.g.: | F20: e.g.:
B21: e.g.: | C21: e.g.: | D21: e.g.: | F21: e.g.:
B22: e.g.: | C22: e.g.: | D22: e.g.: | F22: e.g.:
B23: e.g.: | C23: e.g.: | D23: e.g.: | F23: e.g.:

Sheet Engines
B1: DO NOT REMOVE OR EDIT INFORMATION IN ROWS 1 THORUGH 5 FOR INTERNAL USE ONLY
B2: =Welcome!A2 -> Template Name | C2: =Welcome!B2 -> 63.506(e)(6) Periodic Report (Spreadsheet Template)
B3: =Welcome!A3 -> CitationID | C3: =Welcome!B3 -> 63.506(e)(6)
B4: =Welcome!A4 -> Template Version | C4: =Welcome!B4 -> v1.00
B5: =Welcome!A5 -> Last Updated Date | C5: =Welcome!B5 -> 45441
B7: =Company_Information!B7 -> 40 CFR Part 63, Subpart U: Group I Polymers and Resins NESHAP; §63.506(e)(6) Periodic Report
B8: For continuous front-end process vents, you must include in the Periodic Report a report of all times that the internal combustion engine was not operating while emissions
B9: were being routed to it. Include the start date and time and end date and time for all such periods.
B10: Note: Company Record No. selections will appear once information is entered onto the Company_Information tab.
B12: Company Record No. (Select from dropdown list) | C12: Process Unit Identification | D12: Internal Combustion Engine Identification (§63.506(e)(6)(iii)(A), §63.485(s)(5)) | E12: Start Date (§63.506(e)(6)(iii)(A), §63.485(s)(5)) | F12: Start Time (§63.506(e)(6)(iii)(A), §63.485(s)(5)) | G12: End Date (§63.506(e)(6)(iii)(A), §63.485(s)(5)) | H12: End Time (§63.506(e)(6)(iii)(A), §63.485(s)(5))
B13: RecordId | C13: EngineProcessId | D13: EngineId | E13: EngineStartDate | F13: EngineStartTime | G13: EngineEndDate | H13: EngineEndTime
B14: e.g.: 1 | C14: e.g.: ABC Unit | D14: e.g.: Engine ABC | E14: e.g.: 03/10/24 | F14: e.g.: 2:25 PM | G14: e.g.: 03/11/24 | H14: e.g.: 6:25 PM
B15: e.g.: | C15: e.g.: | D15: e.g.: | E15: e.g.: | F15: e.g.: | G15: e.g.: | H15: e.g.:
B16: e.g.: | C16: e.g.: | D16: e.g.: | E16: e.g.: | F16: e.g.: | G16: e.g.: | H16: e.g.:
B17: e.g.: | C17: e.g.: | D17: e.g.: | E17: e.g.: | F17: e.g.: | G17: e.g.: | H17: e.g.:
B18: e.g.: | C18: e.g.: | D18: e.g.: | E18: e.g.: | F18: e.g.: | G18: e.g.: | H18: e.g.:
B19: e.g.: | C19: e.g.: | D19: e.g.: | E19: e.g.: | F19: e.g.: | G19: e.g.: | H19: e.g.:
B20: e.g.: | C20: e.g.: | D20: e.g.: | E20: e.g.: | F20: e.g.: | G20: e.g.: | H20: e.g.:
B21: e.g.: | C21: e.g.: | D21: e.g.: | E21: e.g.: | F21: e.g.: | G21: e.g.: | H21: e.g.:
B22: e.g.: | C22: e.g.: | D22: e.g.: | E22: e.g.: | F22: e.g.: | G22: e.g.: | H22: e.g.:
B23: e.g.: | C23: e.g.: | D23: e.g.: | E23: e.g.: | F23: e.g.: | G23: e.g.: | H23: e.g.:

Sheet Wastewater_Inspections
B1: DO NOT REMOVE OR EDIT INFORMATION IN ROWS 1 THORUGH 5 FOR INTERNAL USE ONLY
B2: =Welcome!A2 -> Template Name | C2: =Welcome!B2 -> 63.506(e)(6) Periodic Report (Spreadsheet Template)
B3: =Welcome!A3 -> CitationID | C3: =Welcome!B3 -> 63.506(e)(6)
B4: =Welcome!A4 -> Template Version | C4: =Welcome!B4 -> v1.00
B5: =Welcome!A5 -> Last Updated Date | C5: =Welcome!B5 -> 45441
B7: =Company_Information!B7 -> 40 CFR Part 63, Subpart U: Group I Polymers and Resins NESHAP; §63.506(e)(6) Periodic Report
B8: For each waste management unit that receives, manages, or treats a Group 1 wastewater stream or residual removed from a Group 1 wastewater stream, the owner or operator shall submit as part of the next Periodic
B9: Report the results of each inspection required by §63.143(a) in which a control equipment failure was identified.
B10: Note: Company Record No. selections will appear once information is entered onto the Company_Information tab.
B12: Company Record No. (Select from dropdown) | C12: Process Unit Identification | D12: Waste Management Unit Identification (§63.506(e)(6)(iii)(A), §63.146(c)) | E12: Date of Inspection (§63.506(e)(6)(iii)(A), §63.146(c)) | F12: Description of Failure (§63.506(e)(6)(iii)(A), §63.146(c)) | G12: Description of the Nature of Repair (§63.506(e)(6)(iii)(A), §63.146(c)) | H12: Date Repair Made (§63.506(e)(6)(iii)(A), §63.146(c))
B13: RecordId | C13: WwProcessId | D13: WwUnitId | E13: WwInspDate | F13: WwFailure | G13: WwRepairs | H13: WwRepairDate
B14: e.g.: 1 | C14: e.g.: ABC Unit | D14: e.g.: Unit 123 | E14: e.g.: 01/10/24 | F14: e.g.: | G14: e.g.: | H14: e.g.: 01/11/24
B15: e.g.: | C15: e.g.: | D15: e.g.: | E15: e.g.: | F15: e.g.: | G15: e.g.: | H15: e.g.:
B16: e.g.: | C16: e.g.: | D16: e.g.: | E16: e.g.: | F16: e.g.: | G16: e.g.: | H16: e.g.:
B17: e.g.: | C17: e.g.: | D17: e.g.: | E17: e.g.: | F17: e.g.: | G17: e.g.: | H17: e.g.:
B18: e.g.: | C18: e.g.: | D18: e.g.: | E18: e.g.: | F18: e.g.: | G18: e.g.: | H18: e.g.:
B19: e.g.: | C19: e.g.: | D19: e.g.: | E19: e.g.: | F19: e.g.: | G19: e.g.: | H19: e.g.:
B20: e.g.: | C20: e.g.: | D20: e.g.: | E20: e.g.: | F20: e.g.: | G20: e.g.: | H20: e.g.:
B21: e.g.: | C21: e.g.: | D21: e.g.: | E21: e.g.: | F21: e.g.: | G21: e.g.: | H21: e.g.:
B22: e.g.: | C22: e.g.: | D22: e.g.: | E22: e.g.: | F22: e.g.: | G22: e.g.: | H22: e.g.:
B23: e.g.: | C23: e.g.: | D23: e.g.: | E23: e.g.: | F23: e.g.: | G23: e.g.: | H23: e.g.:

Sheet Rolling_Average_Organic_HAP
B1: DO NOT REMOVE OR EDIT INFORMATION IN ROWS 1 THORUGH 5 FOR INTERNAL USE ONLY
B2: =Welcome!A2 -> Template Name | C2: =Welcome!B2 -> 63.506(e)(6) Periodic Report (Spreadsheet Template)
B3: =Welcome!A3 -> CitationID | C3: =Welcome!B3 -> 63.506(e)(6)
B4: =Welcome!A4 -> Template Version | C4: =Welcome!B4 -> v1.00
B5: =Welcome!A5 -> Last Updated Date | C5: =Welcome!B5 -> 45441
B7: =Company_Information!B7 -> 40 CFR Part 63, Subpart U: Group I Polymers and Resins NESHAP; §63.506(e)(6) Periodic Report
B8: The organic HAP emissions from back-end processes at affected sources producing butyl rubber, epichlorohydrin elastomer, neoprene,
B9: and nitrile butadiene rubber. The total mass of organic HAP emitted for each of the rolling 12-month periods in the reporting period
B10: divided by the total mass of elastomer produced during the corresponding 12-month period, determined in accordance with §63.495(g)(5).
B11: Note: Company Record No. selections will appear once information is entered onto the Company_Information tab.
B12: Company Record No. (Select from dropdown list) | C12: Process Unit Identification | D12: Affected Source (§63.506(e)(6)(iii)(A), §63.499(f)(2)) | E12: Month (§63.506(e)(6)(iii)(A), §63.499(f)(2)) (Select from dropdown list) | F12: Total Mass of Organic HAP Emitted Divided by the Total Mass of Elastomer Produced (12-month Rolling Average) (§63.506(e)(6)(iii)(A), §63.499(f)(2))
B13: RecordId | C13: RollHapProcessId | D13: RollHapSourceId | E13: RollHapMonth | F13: RollHapAvg
B14: e.g.: 1 | C14: e.g.: ABC Unit | D14: e.g.: | E14: e.g.: | F14: e.g.:
B15: e.g.: | C15: e.g.: | D15: e.g.: | E15: e.g.: | F15: e.g.:
B16: e.g.: | C16: e.g.: | D16: e.g.: | E16: e.g.: | F16: e.g.:
B17: e.g.: | C17: e.g.: | D17: e.g.: | E17: e.g.: | F17: e.g.:
B18: e.g.: | C18: e.g.: | D18: e.g.: | E18: e.g.: | F18: e.g.:
B19: e.g.: | C19: e.g.: | D19: e.g.: | E19: e.g.: | F19: e.g.:
B20: e.g.: | C20: e.g.: | D20: e.g.: | E20: e.g.: | F20: e.g.:
B21: e.g.: | C21: e.g.: | D21: e.g.: | E21: e.g.: | F21: e.g.:
B22: e.g.: | C22: e.g.: | D22: e.g.: | E22: e.g.: | F22: e.g.:
B23: e.g.: | C23: e.g.: | D23: e.g.: | E23: e.g.: | F23: e.g.:

Sheet Rolling_Average_HCl
B1: DO NOT REMOVE OR EDIT INFORMATION IN ROWS 1 THORUGH 5 FOR INTERNAL USE ONLY
B2: =Welcome!A2 -> Template Name | C2: =Welcome!B2 -> 63.506(e)(6) Periodic Report (Spreadsheet Template)
B3: =Welcome!A3 -> CitationID | C3: =Welcome!B3 -> 63.506(e)(6)
B4: =Welcome!A4 -> Template Version | C4: =Welcome!B4 -> v1.00
B5: =Welcome!A5 -> Last Updated Date | C5: =Welcome!B5 -> 45441
B7: =Company_Information!B7 -> 40 CFR Part 63, Subpart U: Group I Polymers and Resins NESHAP; §63.506(e)(6) Periodic Report
B8: Group 1 halogenated continuous front-end process vents at existing affected sources producing butyl rubber or ethylene propylene rubber using a solution process shall comply with §63.485(q)(1)(iii)-(vi). If the front-end process operation is subject to a HCl emission
B9: limitation in paragraph (q)(1)(iii) of this section, you must submit the information in paragraphs (q)(1)(iv)(B). The total mass of HCl emitted for each of the rolling 12-month periods in the reporting period divided by the total mass of elastomer produced during the
B10: corresponding 12-month period, determined in accordance with paragraph §63.48(q)(1)(v).
B11: Note: Company Record No. selections will appear once information is entered onto the Company_Information tab.
B12: Company Record No. (Select from dropdown list) | C12: Process Unit Identification | D12: Affected Source (§63.485(q)(1)(iv)(B)) | E12: Month (§63.485(q)(1)(iv)(B)) (Select from dropdown list) | F12: Total Mass of HCl Emitted Divided by the Total Mass of Elastomer Produced (12-month Rolling Average) (§63.485(q)(1)(iv)(B))
B13: RecordId | C13: RollHclProcessId | D13: RollHclSourceId | E13: RollHclMonth | F13: RollHclAvg
B14: e.g.: 1 | C14: e.g.: ABC Unit | D14: e.g.: | E14: e.g.: | F14: e.g.:
B15: e.g.: | C15: e.g.: | D15: e.g.: | E15: e.g.: | F15: e.g.:
B16: e.g.: | C16: e.g.: | D16: e.g.: | E16: e.g.: | F16: e.g.:
B17: e.g.: | C17: e.g.: | D17: e.g.: | E17: e.g.: | F17: e.g.:
B18: e.g.: | C18: e.g.: | D18: e.g.: | E18: e.g.: | F18: e.g.:
B19: e.g.: | C19: e.g.: | D19: e.g.: | E19: e.g.: | F19: e.g.:
B20: e.g.: | C20: e.g.: | D20: e.g.: | E20: e.g.: | F20: e.g.:
B21: e.g.: | C21: e.g.: | D21: e.g.: | E21: e.g.: | F21: e.g.:
B22: e.g.: | C22: e.g.: | D22: e.g.: | E22: e.g.: | F22: e.g.:
B23: e.g.: | C23: e.g.: | D23: e.g.: | E23: e.g.: | F23: e.g.:

Sheet 182_Equipment_Monitored
B1: DO NOT REMOVE OR EDIT INFORMATION IN ROWS 1 THORUGH 5 FOR INTERNAL USE ONLY
B2: =Welcome!A2 -> Template Name | C2: =Welcome!B2 -> 63.506(e)(6) Periodic Report (Spreadsheet Template)
B3: =Welcome!A3 -> CitationID | C3: =Welcome!B3 -> 63.506(e)(6)
B4: =Welcome!A4 -> Template Version | C4: =Welcome!B4 -> v1.00
B5: =Welcome!A5 -> Last Updated Date | C5: =Welcome!B5 -> 45441
B7: =Company_Information!B7 -> 40 CFR Part 63, Subpart U: Group I Polymers and Resins NESHAP; §63.506(e)(6) Periodic Report
B8: (2) For each process unit complying with the provisions of §63.163 through §63.174 of this subpart, the summary information listed in paragraphs (d)(2)(i) through (d)(2)(xix) of this paragraph for each monitoring period during the 6-month period.
B10: Note: Company Record No. selections will appear once information is entered onto the Company _Information tab. Depending on the answer in Column E, cells in Columns H-J will be blacked out.
H11: Valves, Pumps, and Connectors Only | J11: Valves and Connectors Only
B12: Company Record No. (Select from dropdown) | C12: Process Unit Identification (§63.506(e)(6), §63.182(d)(2)) | D12: Monitoring Period Identification (§63.506(e)(6), §63.182(d)(2)) | E12: Equipment Type (§63.506(e)(6), §63.182(d)(2)(i) - (xiii)) (Select from dropdown) | F12: Number of Leaks Detected for Equipment Type (§63.506(e)(6), §63.182(d)(2)(i), (iii), (v), (vii), (ix)) | G12: Number of Leaks Not Repaired as Required for Type (§63.506(e)(6), §63.182(d)(2)(ii), (iv), (vi), (viii), (xi)) | H12: Total Number of Monitored Components for Equipment Type (§63.506(e)(6), §63.182(d)(2)(i), (iii), (ix)) | I12: Percent Leakers for Equipment Type (§63.506(e)(6), §63.182(d)(2)(i), (iii), (ix)) | J12: Number Determined to be Nonrepairable for Equipment Type (§63.506(e)(6), §63.182(d)(2)(ii), (xi)) | K12: Has delay of repair occurred? (§63.506(e)(6), §63.182(d)(2)(xiii)) (Select from dropdown) | L12: Explanation for Any Delay of Repairs (§63.506(e)(6), §63.182(d)(2)(xiii)) | M12: Why Process Unit Shutdown Was Technically Infeasible (if applicable) (§63.506(e)(6), §63.182(d)(2)(xiii))
B13: RecordId | C13: LeakProcessId | D13: LeakPeriodId | E13: LeakEqType | F13: LeakEqCt | G13: LeakEqNRCt | H13: LeakEqMonitorCt | I13: LeakEqPercent | J13: LeakEqNonrepairableCt | K13: LeakDelayFlag | L13: LeakDelayReason | M13: LeakInfeasibleShutdownReason
B14: e.g.: 1 | C14: e.g.: XYZ Unit | D14: e.g.: January | E14: e.g.: valve | F14: e.g.: 5 | G14: e.g.: 2 | H14: e.g.: 300 | I14: e.g.: 2.50% | J14: e.g.: 1 | K14: e.g.: yes | L14: e.g.: Explain delay in repair | M14: e.g.:
B15: e.g.: 1 | C15: e.g.: XYZ Unit | D15: e.g.: January | E15: e.g.: agitator | F15: e.g.: 1 | G15: e.g.: 0 | K15: e.g.: no | L15: e.g.: | M15: e.g.:
B16: e.g.: | C16: e.g.: | D16: e.g.: | E16: e.g.: | F16: e.g.: | G16: e.g.: | H16: e.g.: | I16: e.g.: | J16: e.g.: | K16: e.g.: | L16: e.g.: | M16: e.g.:
B17: e.g.: | C17: e.g.: | D17: e.g.: | E17: e.g.: | F17: e.g.: | G17: e.g.: | H17: e.g.: | I17: e.g.: | J17: e.g.: | K17: e.g.: | L17: e.g.: | M17: e.g.:
B18: e.g.: | C18: e.g.: | D18: e.g.: | E18: e.g.: | F18: e.g.: | G18: e.g.: | H18: e.g.: | I18: e.g.: | J18: e.g.: | K18: e.g.: | L18: e.g.: | M18: e.g.:
B19: e.g.: | C19: e.g.: | D19: e.g.: | E19: e.g.: | F19: e.g.: | G19: e.g.: | H19: e.g.: | I19: e.g.: | J19: e.g.: | K19: e.g.: | L19: e.g.: | M19: e.g.:
B20: e.g.: | C20: e.g.: | D20: e.g.: | E20: e.g.: | F20: e.g.: | G20: e.g.: | H20: e.g.: | I20: e.g.: | J20: e.g.: | K20: e.g.: | L20: e.g.: | M20: e.g.:
B21: e.g.: | C21: e.g.: | D21: e.g.: | E21: e.g.: | F21: e.g.: | G21: e.g.: | H21: e.g.: | I21: e.g.: | J21: e.g.: | K21: e.g.: | L21: e.g.: | M21: e.g.:
B22: e.g.: | C22: e.g.: | D22: e.g.: | E22: e.g.: | F22: e.g.: | G22: e.g.: | H22: e.g.: | I22: e.g.: | J22: e.g.: | K22: e.g.: | L22: e.g.: | M22: e.g.:
B23: e.g.: | C23: e.g.: | D23: e.g.: | E23: e.g.: | F23: e.g.: | G23: e.g.: | H23: e.g.: | I23: e.g.: | J23: e.g.: | K23: e.g.: | L23: e.g.: | M23: e.g.:

Sheet 182_Compliance_Options
B1: DO NOT REMOVE OR EDIT INFORMATION IN ROWS 1 THORUGH 5 FOR INTERNAL USE ONLY
B2: =Welcome!A2 -> Template Name | C2: =Welcome!B2 -> 63.506(e)(6) Periodic Report (Spreadsheet Template)
B3: =Welcome!A3 -> CitationID | C3: =Welcome!B3 -> 63.506(e)(6)
B4: =Welcome!A4 -> Template Version | C4: =Welcome!B4 -> v1.00
B5: =Welcome!A5 -> Last Updated Date | C5: =Welcome!B5 -> 45441
B7: =Company_Information!B7 -> 40 CFR Part 63, Subpart U: Group I Polymers and Resins NESHAP; §63.506(e)(6) Periodic Report
B8: (2) For each process unit complying with the provisions of §63.163 through §63.174 of this subpart, the summary information listed in paragraphs (d)(2)(i) through (d)(2)(xix) of this paragraph for each monitoring period during the 6-month period.
B9: (3) For owners or operators electing to meet the requirements of §63.178(b) of this subpart, the report shall include the information listed in paragraphs (i) through (v) of this paragraph for each process unit.
B10: Note: Company Record No. selections will appear once information is entered onto the Company _Information tab.
I11: Alternative Means of Emissions Limitation for Batch Processes
B12: Company Record No. (Select from dropdown) | C12: Process Unit Identification (§63.506(e)(6), §63.182(d)(2)) | D12: Was a monthly monitoring program for valves initiated? (§63.506(e)(6), §63.182(d)(2)(xv)) (Select from dropdown) | E12: Was a quarterly improvement program for valves or pumps initiated? (§63.506(e)(6), §63.182(d)(2)(xv)) (Select from dropdown) | F12: If applicable, provide the file name containing the results of all monitoring to show compliance with §63.164(i), §63.165(a), and §63.172(f) conducted during the reporting period. (§63.506(e)(6), §63.182(d)(2)(xiv)) | G12: Are you changing connector monitoring compliance alternatives? (§63.506(e)(6), §63.182(d)(2)(xvi)) (Select from dropdown) | H12: If applicable, provide the compliance option that has been selected under §63.172(n). (§63.506(e)(6), §63.182(d)(2)(xvii)) (Select from dropdown) | I12: Batch Product Process Equipment Train ID (§63.506(e)(6), §63.182(d)(3)(i)) | J12: Number of Pressure Tests Conducted (§63.506(e)(6), §63.182(d)(3)(ii)) | K12: Number of Pressure Tests Where the Equipment Train Failed the Pressure Test (§63.506(e)(6), §63.182(d)(3)(iii)) | L12: Explanation on Any Delayed Repairs (§63.506(e)(6), §63.182(d)(3)(iv)) | M12: Please provide the file name containing the monitoring results to determine compliance with §63.172(f). (§63.506(e)(6), §63.182(d)(3)(v))
B13: RecordId | C13: LeakComplianceProcessId | D13: LeakOpMonthlyValve | E13: LeakOpQip | F13: LeakOpComplianceMonitoring | G13: LeakOpConnectorAlt | H13: LeakOpProgram | I13: LeakAmelTrainId | J13: LeakAmelTestCt | K13: LeakAmelTestFailCt | L13: LeakAmelDelayReason | M13: LeakAmelMonitorFile
B14: e.g.: 1 | C14: e.g.: XYZ Unit | D14: e.g.: no | E14: e.g.: valves | F14: e.g.: | G14: e.g.: no | H14: e.g.: | I14: e.g.: | J14: e.g.: | K14: e.g.: | L14: e.g.: | M14: e.g.:
B15: e.g.: | C15: e.g.: | D15: e.g.: | E15: e.g.: | F15: e.g.: | G15: e.g.: | H15: e.g.: | I15: e.g.: | J15: e.g.: | K15: e.g.: | L15: e.g.: | M15: e.g.:
B16: e.g.: | C16: e.g.: | D16: e.g.: | E16: e.g.: | F16: e.g.: | G16: e.g.: | H16: e.g.: | I16: e.g.: | J16: e.g.: | K16: e.g.: | L16: e.g.: | M16: e.g.:
B17: e.g.: | C17: e.g.: | D17: e.g.: | E17: e.g.: | F17: e.g.: | G17: e.g.: | H17: e.g.: | I17: e.g.: | J17: e.g.: | K17: e.g.: | L17: e.g.: | M17: e.g.:
B18: e.g.: | C18: e.g.: | D18: e.g.: | E18: e.g.: | F18: e.g.: | G18: e.g.: | H18: e.g.: | I18: e.g.: | J18: e.g.: | K18: e.g.: | L18: e.g.: | M18: e.g.:
B19: e.g.: | C19: e.g.: | D19: e.g.: | E19: e.g.: | F19: e.g.: | G19: e.g.: | H19: e.g.: | I19: e.g.: | J19: e.g.: | K19: e.g.: | L19: e.g.: | M19: e.g.:
B20: e.g.: | C20: e.g.: | D20: e.g.: | E20: e.g.: | F20: e.g.: | G20: e.g.: | H20: e.g.: | I20: e.g.: | J20: e.g.: | K20: e.g.: | L20: e.g.: | M20: e.g.:
B21: e.g.: | C21: e.g.: | D21: e.g.: | E21: e.g.: | F21: e.g.: | G21: e.g.: | H21: e.g.: | I21: e.g.: | J21: e.g.: | K21: e.g.: | L21: e.g.: | M21: e.g.:
B22: e.g.: | C22: e.g.: | D22: e.g.: | E22: e.g.: | F22: e.g.: | G22: e.g.: | H22: e.g.: | I22: e.g.: | J22: e.g.: | K22: e.g.: | L22: e.g.: | M22: e.g.:
B23: e.g.: | C23: e.g.: | D23: e.g.: | E23: e.g.: | F23: e.g.: | G23: e.g.: | H23: e.g.: | I23: e.g.: | J23: e.g.: | K23: e.g.: | L23: e.g.: | M23: e.g.:

Sheet 182_Pressure_Relief_Monitoring
B1: DO NOT REMOVE OR EDIT INFORMATION IN ROWS 1 THORUGH 5 FOR INTERNAL USE ONLY
B2: =Welcome!A2 -> Template Name | C2: =Welcome!B2 -> 63.506(e)(6) Periodic Report (Spreadsheet Template)
B3: =Welcome!A3 -> CitationID | C3: =Welcome!B3 -> 63.506(e)(6)
B4: =Welcome!A4 -> Template Version | C4: =Welcome!B4 -> v1.00
B5: =Welcome!A5 -> Last Updated Date | C5: =Welcome!B5 -> 45441
B7: =Company_Information!B7 -> 40 CFR Part 63, Subpart U: Group I Polymers and Resins NESHAP; §63.506(e)(6) Periodic Report
B8: (A) For pressure relief devices in organic HAP gas or vapor service, pursuant to §63.165(e)(1), report the instrument readings and dates for all readings of 500 ppm or greater.
B9: (B) For pressure relief devices in organic HAP gas or vapor service subject to §63.165(e)(2), report the instrument readings and dates of instrument monitoring conducted.
B11: Note: Company Record No. selections will appear once information is entered onto the Company _Information tab.
B12: Company Record No. (Select from dropdown) | C12: Process Unit Identification | D12: Pressure Relief Device Identification (§63.506(e)(6), §63.182(d)(2)(xviii)(A), §63.182(d)(2)(xviii)(B)) | E12: Did the instrument reading occur following a pressure relief event? (§63.506(e)(6), §63.182(d)(2)(xviii)(A), §63.182(d)(2)(xviii)(B)) (Select from dropdown) | F12: Date of Instrument Monitoring (§63.506(e)(6), §63.182(d)(2)(xviii)(A), §63.182(d)(2)(xviii)(B)) | G12: Instrument Reading (ppm) (§63.506(e)(6), §63.182(d)(2)(xviii)(A), §63.182(d)(2)(xviii)(B))
B13: RecordId | C13: LeakPrdProcessId | D13: LeakPrdId | E13: LeakPrdEventFlag | F13: LeakPrdMonitorDate | G13: LeakPrdMonitorAmt
B14: e.g.: 1 | C14: e.g.: XYZ Unit | D14: e.g.: ABC PRD 2 | E14: e.g.: No (Reporting under §63.165(e)(1)) | F14: e.g.: 03/18/24 | G14: e.g.: 624
B15: e.g.: | C15: e.g.: | D15: e.g.: | E15: e.g.: | F15: e.g.: | G15: e.g.:
B16: e.g.: | C16: e.g.: | D16: e.g.: | E16: e.g.: | F16: e.g.: | G16: e.g.:
B17: e.g.: | C17: e.g.: | D17: e.g.: | E17: e.g.: | F17: e.g.: | G17: e.g.:
B18: e.g.: | C18: e.g.: | D18: e.g.: | E18: e.g.: | F18: e.g.: | G18: e.g.:
B19: e.g.: | C19: e.g.: | D19: e.g.: | E19: e.g.: | F19: e.g.: | G19: e.g.:
B20: e.g.: | C20: e.g.: | D20: e.g.: | E20: e.g.: | F20: e.g.: | G20: e.g.:
B21: e.g.: | C21: e.g.: | D21: e.g.: | E21: e.g.: | F21: e.g.: | G21: e.g.:
B22: e.g.: | C22: e.g.: | D22: e.g.: | E22: e.g.: | F22: e.g.: | G22: e.g.:
B23: e.g.: | C23: e.g.: | D23: e.g.: | E23: e.g.: | F23: e.g.: | G23: e.g.:

Sheet 182_Pressure_Releases
B1: DO NOT REMOVE OR EDIT INFORMATION IN ROWS 1 THORUGH 5 FOR INTERNAL USE ONLY
B2: =Welcome!A2 -> Template Name | C2: =Welcome!B2 -> 63.506(e)(6) Periodic Report (Spreadsheet Template)
B3: =Welcome!A3 -> CitationID | C3: =Welcome!B3 -> 63.506(e)(6)
B4: =Welcome!A4 -> Template Version | C4: =Welcome!B4 -> v1.00
B5: =Welcome!A5 -> Last Updated Date | C5: =Welcome!B5 -> 45441
B7: =Company_Information!B7 -> 40 CFR Part 63, Subpart U: Group I Polymers and Resins NESHAP; §63.506(e)(6) Periodic Report
B8: Compliance reports for pressure relief devices subject to the requirements §63.165(e) must include the information specified in paragraphs (d)(2)(xviii)(A) through (d)(2)(xviii)(C) of this section.
B9: For pressure relief devices in organic HAP service subject to §63.165(e)(3), report each pressure release to the atmosphere, including pressure relief device identification name or number, the start date, start time, and duration (in minutes) of the pressure release; an estimate of the mass quantity in pounds of each organic HAP released; the results of any root cause analysis and corrective action analysis completed during the
B10: reporting period, including the corrective actions implemented during the reporting period; and, if applicable, the implementation schedule for planned corrective actions to be implemented subsequent to the reporting period.
B11: Note: Company Record No. selections will appear once information is entered onto the Company _Information tab.
B12: Company Record No. (Select from dropdown) | C12: Process Unit Identification | D12: Pressure Relief Device Identification Name or Number (§63.506(e)(6), §63.182(d)(2)(xviii)(C)) | E12: Start Date of the Pressure Release (§63.506(e)(6), §63.182(d)(2)(xviii)(C)) | F12: Start Time of the Pressure Release (§63.506(e)(6), §63.182(d)(2)(xviii)(C)) | G12: Duration of the Pressure Release (in minutes) (§63.506(e)(6), §63.182(d)(2)(xviii)(C)) | H12: Organic HAP Released (§63.506(e)(6), §63.182(d)(2)(xviii)(C)) | I12: Estimate of the Mass Quantity (pounds) (§63.506(e)(6), §63.182(d)(2)(xviii)(C)) | J12: Results of Any Root Cause Analysis and Corrective Action Analysis Completed During the Reporting Period (§63.506(e)(6), §63.182(d)(2)(xviii)(C)) | K12: Corrective Actions Implemented During the Reporting Period (§63.506(e)(6), §63.182(d)(2)(xviii)(C)) | L12: Implementation Schedule for Planned Corrective Actions to be Implemented Subsequent to the Reporting Period (§63.506(e)(6), §63.182(d)(2)(xviii)(C))
B13: RecordId | C13: LeakPrdEventProcessId | D13: LeakPrdEventDeviceId | E13: LeakPrdStartDate | F13: LeakPrdStartTime | G13: LeakPrdDuration | H13: LeakPrdHap | I13: LeakPrdMass | J13: LeakPrdRootCause | K13: LeakPrdCorrectiveAction | L13: LeakPrdImpSchedule
B14: e.g.: 1 | C14: e.g.: XYZ Unit | D14: e.g.: ABC PRD 2 | E14: e.g.: 02/25/24 | F14: e.g.: 4:25 PM | G14: e.g.: 5 | H14: e.g.: benzene | I14: e.g.: 5 | J14: e.g.: | K14: e.g.: | L14: e.g.:
B15: e.g.: | C15: e.g.: | D15: e.g.: | E15: e.g.: | F15: e.g.: | G15: e.g.: | H15: e.g.: | I15: e.g.: | J15: e.g.: | K15: e.g.: | L15: e.g.:
B16: e.g.: | C16: e.g.: | D16: e.g.: | E16: e.g.: | F16: e.g.: | G16: e.g.: | H16: e.g.: | I16: e.g.: | J16: e.g.: | K16: e.g.: | L16: e.g.:
B17: e.g.: | C17: e.g.: | D17: e.g.: | E17: e.g.: | F17: e.g.: | G17: e.g.: | H17: e.g.: | I17: e.g.: | J17: e.g.: | K17: e.g.: | L17: e.g.:
B18: e.g.: | C18: e.g.: | D18: e.g.: | E18: e.g.: | F18: e.g.: | G18: e.g.: | H18: e.g.: | I18: e.g.: | J18: e.g.: | K18: e.g.: | L18: e.g.:
B19: e.g.: | C19: e.g.: | D19: e.g.: | E19: e.g.: | F19: e.g.: | G19: e.g.: | H19: e.g.: | I19: e.g.: | J19: e.g.: | K19: e.g.: | L19: e.g.:
B20: e.g.: | C20: e.g.: | D20: e.g.: | E20: e.g.: | F20: e.g.: | G20: e.g.: | H20: e.g.: | I20: e.g.: | J20: e.g.: | K20: e.g.: | L20: e.g.:
B21: e.g.: | C21: e.g.: | D21: e.g.: | E21: e.g.: | F21: e.g.: | G21: e.g.: | H21: e.g.: | I21: e.g.: | J21: e.g.: | K21: e.g.: | L21: e.g.:
B22: e.g.: | C22: e.g.: | D22: e.g.: | E22: e.g.: | F22: e.g.: | G22: e.g.: | H22: e.g.: | I22: e.g.: | J22: e.g.: | K22: e.g.: | L22: e.g.:
B23: e.g.: | C23: e.g.: | D23: e.g.: | E23: e.g.: | F23: e.g.: | G23: e.g.: | H23: e.g.: | I23: e.g.: | J23: e.g.: | K23: e.g.: | L23: e.g.:

Sheet 182_NOCS_Update
B1: DO NOT REMOVE OR EDIT INFORMATION IN ROWS 1 THORUGH 5 FOR INTERNAL USE ONLY
B2: =Welcome!A2 -> Template Name | C2: =Welcome!B2 -> 63.506(e)(6) Periodic Report (Spreadsheet Template)
B3: =Welcome!A3 -> CitationID | C3: =Welcome!B3 -> 63.506(e)(6)
B4: =Welcome!A4 -> Template Version | C4: =Welcome!B4 -> v1.00
B5: =Welcome!A5 -> Last Updated Date | C5: =Welcome!B5 -> 45441
B7: =Company_Information!B7 -> 40 CFR Part 63, Subpart U: Group I Polymers and Resins NESHAP; §63.506(e)(6) Periodic Report
B8: The information listed in §63.182(c) for the Notification of Compliance Status for process units with later compliance dates. Any revisions to items reported in earlier Notification of Compliance Status, if the method of compliance has changed since the last report.
B10: Note: Company Record No. selections will appear once information is entered onto the Company _Information tab
E11: If electing to use pressure testing of batch product-process equipment to demonstrate compliance | G11: If complying with the AMEL for enclosed-vented process units | I11: For pressure relief devices subject to the pressure release management work practice standards in §63.165(e) | J11: For equipment in chloroprene service
B12: Company Record No. (Select from dropdown) | C12: Process Unit Identification (§63.506(e)(6), §63.182(d)(4), §63.182(c)(1)(i), §63.182(c)(3)(i)) | D12: Planned Schedule for Requirements in §63.163 and §63.168 or Name of Attachment Containing Schedule (§63.506(e)(6), §63.182(d)(4), §63.182(c)(1)(iv)) | E12: Batch Products or Product Codes Subject to This Subpart (§63.506(e)(6), §63.182(d)(4), §63.182(c)(2)(i)) | F12: Planned Schedule for Pressure Testing or Name of Attachment Containing Schedule (§63.506(e)(6), §63.182(d)(4), §63.182(c)(2)(ii)) | G12: Description of System Used to Create Negative Pressure in the Enclosure (§63.506(e)(6), §63.182(d)(4), §63.182(c)(3)(ii)) | H12: Control Device (§63.506(e)(6), §63.182(d)(4), §63.182(c)(3)(ii)) | I12: Attachment containing the description of monitoring system to be implemented, alarms or other methods by which operators will be notified of a pressure release, and a the prevention measures to be implemented. (§63.506(e)(6), §63.182(d)(4), §63.182(c)(5)) | J12: Name of attachment identifying all equipment in chloroprene service, the percent chloroprene content of the process fluid, and the method used to determine it. (§63.506(e)(6), §63.182(d)(4), §63.182(c)(6))
B13: RecordId | C13: LeakNocsProcessId | D13: LeakNocsSchedule | E13: LeakNocsBatchProd | F13: LeakNocsPressureTest | G13: LeakNocsNegPress | H13: LeakNocsControl | I13: LeakNocsPrdMonitor | J13: LeakNocCpService
B14: e.g.: 1 | C14: e.g.: XYZ Unit | D14: e.g.: | E14: e.g.: | F14: e.g.: | G14: e.g.: | H14: e.g.: | I14: e.g.: | J14: e.g.:
B15: e.g.: | C15: e.g.: | D15: e.g.: | E15: e.g.: | F15: e.g.: | G15: e.g.: | H15: e.g.: | I15: e.g.: | J15: e.g.:
B16: e.g.: | C16: e.g.: | D16: e.g.: | E16: e.g.: | F16: e.g.: | G16: e.g.: | H16: e.g.: | I16: e.g.: | J16: e.g.:
B17: e.g.: | C17: e.g.: | D17: e.g.: | E17: e.g.: | F17: e.g.: | G17: e.g.: | H17: e.g.: | I17: e.g.: | J17: e.g.:
B18: e.g.: | C18: e.g.: | D18: e.g.: | E18: e.g.: | F18: e.g.: | G18: e.g.: | H18: e.g.: | I18: e.g.: | J18: e.g.:
B19: e.g.: | C19: e.g.: | D19: e.g.: | E19: e.g.: | F19: e.g.: | G19: e.g.: | H19: e.g.: | I19: e.g.: | J19: e.g.:
B20: e.g.: | C20: e.g.: | D20: e.g.: | E20: e.g.: | F20: e.g.: | G20: e.g.: | H20: e.g.: | I20: e.g.: | J20: e.g.:
B21: e.g.: | C21: e.g.: | D21: e.g.: | E21: e.g.: | F21: e.g.: | G21: e.g.: | H21: e.g.: | I21: e.g.: | J21: e.g.:
B22: e.g.: | C22: e.g.: | D22: e.g.: | E22: e.g.: | F22: e.g.: | G22: e.g.: | H22: e.g.: | I22: e.g.: | J22: e.g.:
B23: e.g.: | C23: e.g.: | D23: e.g.: | E23: e.g.: | F23: e.g.: | G23: e.g.: | H23: e.g.: | I23: e.g.: | J23: e.g.:

Sheet 182_NOCS_Equipment_Update
B1: DO NOT REMOVE OR EDIT INFORMATION IN ROWS 1 THORUGH 5 FOR INTERNAL USE ONLY
B2: =Welcome!A2 -> Template Name | C2: =Welcome!B2 -> 63.506(e)(6) Periodic Report (Spreadsheet Template)
B3: =Welcome!A3 -> CitationID | C3: =Welcome!B3 -> 63.506(e)(6)
B4: =Welcome!A4 -> Template Version | C4: =Welcome!B4 -> v1.00
B5: =Welcome!A5 -> Last Updated Date | C5: =Welcome!B5 -> 45441
B7: =Company_Information!B7 -> 40 CFR Part 63, Subpart U: Group I Polymers and Resins NESHAP; §63.506(e)(6) Periodic Report
B8: The information listed in §63.182(c) for the Notification of Compliance Status for process units with later compliance dates. Any revisions to items
B9: reported in earlier Notification of Compliance Status, if the method of compliance has changed since the last report.
B10: (i) Process unit identification. (ii) Number of each equipment type excluding equipment in vacuum service. (iii) Method of compliance with the standard.
B11: Note: Company Record No. selections will appear once information is entered onto the Company _Information tab
B12: Company Record No. (Select from dropdown) | C12: Process Unit Identification (§63.506(e)(6), §63.182(d)(4), §63.182(c)(1)(i)) | D12: Equipment Type (§63.506(e)(6), §63.182(d)(4), §63.182(c)(1)(ii)) (Select from dropdown) | E12: Number of Equipment Type Not in Vacuum Service (§63.506(e)(6), §63.182(d)(4), §63.182(c)(1)(ii)) | F12: Method of Compliance With the Standard (§63.506(e)(6), §63.182(d)(4), §63.182(c)(1)(iii))
B13: RecordId | C13: LeakNocsEqProcessId | D13: LeakNocsEqType | E13: LeakNocsEqTypeCt | F13: LeakNocsEqCompMethod
B14: e.g.: 1 | C14: e.g.: ABC Unit | D14: e.g.: valve | E14: e.g.: 500 | F14: e.g.:
B15: e.g.: | C15: e.g.: | D15: e.g.: | E15: e.g.: | F15: e.g.:
B16: e.g.: | C16: e.g.: | D16: e.g.: | E16: e.g.: | F16: e.g.:
B17: e.g.: | C17: e.g.: | D17: e.g.: | E17: e.g.: | F17: e.g.:
B18: e.g.: | C18: e.g.: | D18: e.g.: | E18: e.g.: | F18: e.g.:
B19: e.g.: | C19: e.g.: | D19: e.g.: | E19: e.g.: | F19: e.g.:
B20: e.g.: | C20: e.g.: | D20: e.g.: | E20: e.g.: | F20: e.g.:
B21: e.g.: | C21: e.g.: | D21: e.g.: | E21: e.g.: | F21: e.g.:
B22: e.g.: | C22: e.g.: | D22: e.g.: | E22: e.g.: | F22: e.g.:
B23: e.g.: | C23: e.g.: | D23: e.g.: | E23: e.g.: | F23: e.g.:

Sheet Performance_Tests
B1: DO NOT REMOVE OR EDIT INFORMATION IN ROWS 1 THORUGH 5 FOR INTERNAL USE ONLY
B2: =Welcome!A2 -> Template Name | C2: =Welcome!B2 -> 63.506(e)(6) Periodic Report (Spreadsheet Template)
B3: =Welcome!A3 -> CitationID | C3: =Welcome!B3 -> 63.506(e)(6)
B4: =Welcome!A4 -> Template Version | C4: =Welcome!B4 -> v1.00
B5: =Welcome!A5 -> Last Updated Date | C5: =Welcome!B5 -> 45441
B7: =Company_Information!B7 -> 40 CFR Part 63, Subpart U: Group I Polymers and Resins NESHAP; §63.506(e)(6) Periodic Report
B8: If any performance tests are reported in a Periodic Report, the following information shall be included if the performance test report is submitted electronically through the EPA's CEDRI: the process unit(s) tested, the pollutant(s) tested, and the date that such performance test was conducted.
B9: Certain summary information for performance tests are required to be submitted in the Periodic Report in accordance with §63.117(a).
B10: Note: Company Record No. selections will appear once information is entered onto the Company_Information tab.
O11: Averaged over the same time period of the performance testing
B12: Company Record No. (Select from dropdown list) | C12: Process Unit Identification | D12: Process Unit Tested (§63.506(e)(6)(iii)(A), §63.506(e)(6)(xi)(B)(4)) | E12: Pollutant(s) Tested (§63.506(e)(6)(xi)(B)(4)) | F12: Date of Performance Test (§63.506(e)(6)(xi)(B)(4)) | G12: Type of control device (§63.506(e)(6)(iii), §63.117(a)) | H12: Percent reduction of organic HAP or TOC achieved determined as specified in §63.116(c) (§63.506(e)(6)(iii), §63.117(a)(3), §63.117(a)(4)(ii)) | I12: Concentration of Organic HAP or TOC (ppmv dry basis) (corrected to 3% oxygen for combustion) (§63.506(e)(6)(iii), §63.117(a)(3), §63.117(a)(4)(ii)) | J12: Halogen concentration in the vent stream determined according to §63.115(d)(2)(v) (§63.506(e)(6)(iii), §63.117(a)(3), §63.117(a)(8)) | K12: Percent reduction of total hydrogen halides and halogens as specified in §63.116(d) (§63.506(e)(6)(iii), §63.117(a)(3), §63.117(a)(6)(i)) | L12: Scrubber outlet mass emission rate of total hydrogen halides and halogens as specified in §63.116(d) (§63.506(e)(6)(iii), §63.117(a)(3), §63.117(a)(6)(i)) | M12: Dioxins and furans Concentration, TEQ basis (ng/scm, dry basis, 3% oxygen) (§63.506(e)(6)(iii), §63.117(a)(3), §63.117(a)(10)(ii)) | N12: For a boiler or process heater: Description of the location at which the vent stream is introduced into the boiler or process heater (§63.506(e)(6)(iii), §63.117(a)(3), §63.117(a)(4)(iii)) | O12: Firebox/ Combustion Chamber Temperature (§63.506(e)(6)(iii), §63.117(a)(3), §63.117(a)(4)(i)) | P12: Flue Gas Flow Rate (§63.506(e)(6)(iii), §63.117(a)(3), §63.117(a)(4)(i)) | Q12: Temperature Upstream of Catalyst Bed (§63.506(e)(6)(iii), §63.117(a)(3), §63.117(a)(4)(i)) | R12: Temperature Downstream of Catalyst Bed (§63.506(e)(6)(iii), §63.117(a)(3), §63.117(a)(4)(i)) | S12: pH of Scrubber Effluent (§63.506(e)(6)(iii), §63.117(a)(3), §63.117(a)(6)(ii)) | T12: Scrubber Liquid to Gas Ratio (§63.506(e)(6)(iii), §63.117(a)(3), §63.117(a)(6)(iii)) | U12: Exit Temperature of Absorbing Liquid (§63.506(e)(6)(iii), §63.117(a)(3), §63.117(a)(9)) | V12: Exit Specific Gravity (§63.506(e)(6)(iii), §63.117(a)(3), §63.117(a)(9)) | W12: Exit (product side) temperature (§63.506(e)(6)(iii), §63.117(a)(3), §63.117(a)(9)) | X12: Total Regeneration Stream Mass or Volumetric Flow During Carbon Bed Regeneration Cycle(s) (§63.506(e)(6)(iii), §63.117(a)(3), §63.117(a)(9)) | Y12: Temperature of the Carbon Bed After Regeneration [and within 15 minutes of completing any cooling cycle(s)] (§63.506(e)(6)(iii), §63.117(a)(3), §63.117(a)(9))
B13: RecordId | C13: TestProcessId | D13: TestUnitId | E13: TestPollutant | F13: TestDate | G13: TestControl | H13: TestPercentReduction | I13: TestOutletConc | J13: TestHalogenConc | K13: TestReductionHalides | L13: TestMassHalides | M13: TestDioxinConc | N13: TestBoilerLocation | O13: TestCombTemp | P13: TestGasFlow | Q13: TestBedUpTemp | R13: TestBedDownTemp | S13: TestPh | T13: TestLtog | U13: TestAbsorbTemp | V13: TestSpGr | W13: TextCondTemp | X13: TestRegenFlow | Y13: TestRegenTemp
B14: e.g.: 1 | C14: e.g.: ABC Unit | D14: e.g.: Unit A | E14: e.g.: Benzene | F14: e.g.: 01/25/24 | G14: e.g.: condenser | H14: e.g.: | I14: e.g.: 10 | J14: e.g.: | K14: e.g.: | L14: e.g.: | M14: e.g.: | N14: e.g.: | O14: e.g.: | P14: e.g.: | Q14: e.g.: | R14: e.g.: | S14: e.g.: | T14: e.g.: | U14: e.g.: | V14: e.g.: | W14: e.g.: 66 F | X14: e.g.: | Y14: e.g.:
B15: e.g.: | C15: e.g.: | D15: e.g.: | E15: e.g.: | F15: e.g.: | G15: e.g.: | H15: e.g.: | I15: e.g.: | J15: e.g.: | K15: e.g.: | L15: e.g.: | M15: e.g.: | N15: e.g.: | O15: e.g.: | P15: e.g.: | Q15: e.g.: | R15: e.g.: | S15: e.g.: | T15: e.g.: | U15: e.g.: | V15: e.g.: | W15: e.g.: | X15: e.g.: | Y15: e.g.:
B16: e.g.: | C16: e.g.: | D16: e.g.: | E16: e.g.: | F16: e.g.: | G16: e.g.: | H16: e.g.: | I16: e.g.: | J16: e.g.: | K16: e.g.: | L16: e.g.: | M16: e.g.: | N16: e.g.: | O16: e.g.: | P16: e.g.: | Q16: e.g.: | R16: e.g.: | S16: e.g.: | T16: e.g.: | U16: e.g.: | V16: e.g.: | W16: e.g.: | X16: e.g.: | Y16: e.g.:
B17: e.g.: | C17: e.g.: | D17: e.g.: | E17: e.g.: | F17: e.g.: | G17: e.g.: | H17: e.g.: | I17: e.g.: | J17: e.g.: | K17: e.g.: | L17: e.g.: | M17: e.g.: | N17: e.g.: | O17: e.g.: | P17: e.g.: | Q17: e.g.: | R17: e.g.: | S17: e.g.: | T17: e.g.: | U17: e.g.: | V17: e.g.: | W17: e.g.: | X17: e.g.: | Y17: e.g.:
B18: e.g.: | C18: e.g.: | D18: e.g.: | E18: e.g.: | F18: e.g.: | G18: e.g.: | H18: e.g.: | I18: e.g.: | J18: e.g.: | K18: e.g.: | L18: e.g.: | M18: e.g.: | N18: e.g.: | O18: e.g.: | P18: e.g.: | Q18: e.g.: | R18: e.g.: | S18: e.g.: | T18: e.g.: | U18: e.g.: | V18: e.g.: | W18: e.g.: | X18: e.g.: | Y18: e.g.:
B19: e.g.: | C19: e.g.: | D19: e.g.: | E19: e.g.: | F19: e.g.: | G19: e.g.: | H19: e.g.: | I19: e.g.: | J19: e.g.: | K19: e.g.: | L19: e.g.: | M19: e.g.: | N19: e.g.: | O19: e.g.: | P19: e.g.: | Q19: e.g.: | R19: e.g.: | S19: e.g.: | T19: e.g.: | U19: e.g.: | V19: e.g.: | W19: e.g.: | X19: e.g.: | Y19: e.g.:
B20: e.g.: | C20: e.g.: | D20: e.g.: | E20: e.g.: | F20: e.g.: | G20: e.g.: | H20: e.g.: | I20: e.g.: | J20: e.g.: | K20: e.g.: | L20: e.g.: | M20: e.g.: | N20: e.g.: | O20: e.g.: | P20: e.g.: | Q20: e.g.: | R20: e.g.: | S20: e.g.: | T20: e.g.: | U20: e.g.: | V20: e.g.: | W20: e.g.: | X20: e.g.: | Y20: e.g.:
B21: e.g.: | C21: e.g.: | D21: e.g.: | E21: e.g.: | F21: e.g.: | G21: e.g.: | H21: e.g.: | I21: e.g.: | J21: e.g.: | K21: e.g.: | L21: e.g.: | M21: e.g.: | N21: e.g.: | O21: e.g.: | P21: e.g.: | Q21: e.g.: | R21: e.g.: | S21: e.g.: | T21: e.g.: | U21: e.g.: | V21: e.g.: | W21: e.g.: | X21: e.g.: | Y21: e.g.:
B22: e.g.: | C22: e.g.: | D22: e.g.: | E22: e.g.: | F22: e.g.: | G22: e.g.: | H22: e.g.: | I22: e.g.: | J22: e.g.: | K22: e.g.: | L22: e.g.: | M22: e.g.: | N22: e.g.: | O22: e.g.: | P22: e.g.: | Q22: e.g.: | R22: e.g.: | S22: e.g.: | T22: e.g.: | U22: e.g.: | V22: e.g.: | W22: e.g.: | X22: e.g.: | Y22: e.g.:
B23: e.g.: | C23: e.g.: | D23: e.g.: | E23: e.g.: | F23: e.g.: | G23: e.g.: | H23: e.g.: | I23: e.g.: | J23: e.g.: | K23: e.g.: | L23: e.g.: | M23: e.g.: | N23: e.g.: | O23: e.g.: | P23: e.g.: | Q23: e.g.: | R23: e.g.: | S23: e.g.: | T23: e.g.: | U23: e.g.: | V23: e.g.: | W23: e.g.: | X23: e.g.: | Y23: e.g.:

Sheet Lists
A1: Site | B1: Num | C1: SiteList | E1: States | G1: Bypass Event Type
A2: {=IF(SUMPRODUCT(--(LEN(Company_Information!B24:B123)>0))>0,IF(Company_Information!B24="","",Company_Information!B24),"Add a company in the Company Information tab")} -> Add a company in the Company Information tab | B2: =IF(A2="","",MAX(B1:B$1)+1) -> 1 | C2: =+IFERROR(INDEX($A$2:$A$101,MATCH(ROW()-ROW($C$1),$B$2:$B$101,0)),"") -> Add a company in the Company Information tab | E2: AK | G2: Flow indicator not operating
A3: =IF(Company_Information!B25="","",Company_Information!B25) | B3: =IF(A3="","",MAX(B$1:B2)+1) | C3: =+IFERROR(INDEX($A$2:$A$101,MATCH(ROW()-ROW($C$1),$B$2:$B$101,0)),"") | E3: AL | G3: Flow diverted from control device to bypass line
A4: =IF(Company_Information!B26="","",Company_Information!B26) | B4: =IF(A4="","",MAX(B$1:B3)+1) | C4: =+IFERROR(INDEX($A$2:$A$101,MATCH(ROW()-ROW($C$1),$B$2:$B$101,0)),"") | E4: AR | G4: Seal mechanism is broken
A5: =IF(Company_Information!B27="","",Company_Information!B27) | B5: =IF(A5="","",MAX(B$1:B4)+1) | C5: =+IFERROR(INDEX($A$2:$A$101,MATCH(ROW()-ROW($C$1),$B$2:$B$101,0)),"") | E5: AS | G5: Bypass line damper or valve position has changed
A6: =IF(Company_Information!B28="","",Company_Information!B28) | B6: =IF(A6="","",MAX(B$1:B5)+1) | C6: =+IFERROR(INDEX($A$2:$A$101,MATCH(ROW()-ROW($C$1),$B$2:$B$101,0)),"") | E6: AZ | G6: Key to unlock bypass line damper or valve checked out
A7: =IF(Company_Information!B29="","",Company_Information!B29) | B7: =IF(A7="","",MAX(B$1:B6)+1) | C7: =+IFERROR(INDEX($A$2:$A$101,MATCH(ROW()-ROW($C$1),$B$2:$B$101,0)),"") | E7: CA | G7: Maintenance performed on car-sealed valves
A8: =IF(Company_Information!B30="","",Company_Information!B30) | B8: =IF(A8="","",MAX(B$1:B7)+1) | C8: =+IFERROR(INDEX($A$2:$A$101,MATCH(ROW()-ROW($C$1),$B$2:$B$101,0)),"") | E8: CO | G8: Car seal was broken
A9: =IF(Company_Information!B31="","",Company_Information!B31) | B9: =IF(A9="","",MAX(B$1:B8)+1) | C9: =+IFERROR(INDEX($A$2:$A$101,MATCH(ROW()-ROW($C$1),$B$2:$B$101,0)),"") | E9: CT
A10: =IF(Company_Information!B32="","",Company_Information!B32) | B10: =IF(A10="","",MAX(B$1:B9)+1) | C10: =+IFERROR(INDEX($A$2:$A$101,MATCH(ROW()-ROW($C$1),$B$2:$B$101,0)),"") | E10: DC | G10: FlareEvents
A11: =IF(Company_Information!B33="","",Company_Information!B33) | B11: =IF(A11="","",MAX(B$1:B10)+1) | C11: =+IFERROR(INDEX($A$2:$A$101,MATCH(ROW()-ROW($C$1),$B$2:$B$101,0)),"") | E11: DE | G11: No pilot/flare flame present
A12: =IF(Company_Information!B34="","",Company_Information!B34) | B12: =IF(A12="","",MAX(B$1:B11)+1) | C12: =+IFERROR(INDEX($A$2:$A$101,MATCH(ROW()-ROW($C$1),$B$2:$B$101,0)),"") | E12: FL | G12: Visible emissions exceed 5 minutes
A13: =IF(Company_Information!B35="","",Company_Information!B35) | B13: =IF(A13="","",MAX(B$1:B12)+1) | C13: =+IFERROR(INDEX($A$2:$A$101,MATCH(ROW()-ROW($C$1),$B$2:$B$101,0)),"") | E13: GA | G13: Applicable operating limits not met
A14: =IF(Company_Information!B36="","",Company_Information!B36) | B14: =IF(A14="","",MAX(B$1:B13)+1) | C14: =+IFERROR(INDEX($A$2:$A$101,MATCH(ROW()-ROW($C$1),$B$2:$B$101,0)),"") | E14: GU | G14: Emergency Flaring
A15: =IF(Company_Information!B37="","",Company_Information!B37) | B15: =IF(A15="","",MAX(B$1:B14)+1) | C15: =+IFERROR(INDEX($A$2:$A$101,MATCH(ROW()-ROW($C$1),$B$2:$B$101,0)),"") | E15: HI | G15: Pressure-assisted multi-point flare pressure monitor shows burners outside range
A16: =IF(Company_Information!B38="","",Company_Information!B38) | B16: =IF(A16="","",MAX(B$1:B15)+1) | C16: =+IFERROR(INDEX($A$2:$A$101,MATCH(ROW()-ROW($C$1),$B$2:$B$101,0)),"") | E16: IA | G16: Pressure-assisted multi-point flare staging valve indicates stage should not be on but it is
A17: =IF(Company_Information!B39="","",Company_Information!B39) | B17: =IF(A17="","",MAX(B$1:B16)+1) | C17: =+IFERROR(INDEX($A$2:$A$101,MATCH(ROW()-ROW($C$1),$B$2:$B$101,0)),"") | E17: ID | G17: Pressure-assisted multi-point flare staging valve indicates stage should be on but it is not
A18: =IF(Company_Information!B40="","",Company_Information!B40) | B18: =IF(A18="","",MAX(B$1:B17)+1) | C18: =+IFERROR(INDEX($A$2:$A$101,MATCH(ROW()-ROW($C$1),$B$2:$B$101,0)),"") | E18: IL
A19: =IF(Company_Information!B41="","",Company_Information!B41) | B19: =IF(A19="","",MAX(B$1:B18)+1) | C19: =+IFERROR(INDEX($A$2:$A$101,MATCH(ROW()-ROW($C$1),$B$2:$B$101,0)),"") | E19: IN | G19: FlareOpLimits
A20: =IF(Company_Information!B42="","",Company_Information!B42) | B20: =IF(A20="","",MAX(B$1:B19)+1) | C20: =+IFERROR(INDEX($A$2:$A$101,MATCH(ROW()-ROW($C$1),$B$2:$B$101,0)),"") | E20: KS | G20: vtip
A21: =IF(Company_Information!B43="","",Company_Information!B43) | B21: =IF(A21="","",MAX(B$1:B20)+1) | C21: =+IFERROR(INDEX($A$2:$A$101,MATCH(ROW()-ROW($C$1),$B$2:$B$101,0)),"") | E21: KY | G21: NHVcz
A22: =IF(Company_Information!B44="","",Company_Information!B44) | B22: =IF(A22="","",MAX(B$1:B21)+1) | C22: =+IFERROR(INDEX($A$2:$A$101,MATCH(ROW()-ROW($C$1),$B$2:$B$101,0)),"") | E22: LA | G22: NHVdil
A23: =IF(Company_Information!B45="","",Company_Information!B45) | B23: =IF(A23="","",MAX(B$1:B22)+1) | C23: =+IFERROR(INDEX($A$2:$A$101,MATCH(ROW()-ROW($C$1),$B$2:$B$101,0)),"") | E23: MA
A24: =IF(Company_Information!B46="","",Company_Information!B46) | B24: =IF(A24="","",MAX(B$1:B23)+1) | C24: =+IFERROR(INDEX($A$2:$A$101,MATCH(ROW()-ROW($C$1),$B$2:$B$101,0)),"") | E24: MD | G24: Excursions
A25: =IF(Company_Information!B47="","",Company_Information!B47) | B25: =IF(A25="","",MAX(B$1:B24)+1) | C25: =+IFERROR(INDEX($A$2:$A$101,MATCH(ROW()-ROW($C$1),$B$2:$B$101,0)),"") | E25: ME | G25: Parameter out of range
A26: =IF(Company_Information!B48="","",Company_Information!B48) | B26: =IF(A26="","",MAX(B$1:B25)+1) | C26: =+IFERROR(INDEX($A$2:$A$101,MATCH(ROW()-ROW($C$1),$B$2:$B$101,0)),"") | E26: MI | G26: Lack of monitoring data
A27: =IF(Company_Information!B49="","",Company_Information!B49) | B27: =IF(A27="","",MAX(B$1:B26)+1) | C27: =+IFERROR(INDEX($A$2:$A$101,MATCH(ROW()-ROW($C$1),$B$2:$B$101,0)),"") | E27: MN
A28: =IF(Company_Information!B50="","",Company_Information!B50) | B28: =IF(A28="","",MAX(B$1:B27)+1) | C28: =+IFERROR(INDEX($A$2:$A$101,MATCH(ROW()-ROW($C$1),$B$2:$B$101,0)),"") | E28: MO | G28: Months
A29: =IF(Company_Information!B51="","",Company_Information!B51) | B29: =IF(A29="","",MAX(B$1:B28)+1) | C29: =+IFERROR(INDEX($A$2:$A$101,MATCH(ROW()-ROW($C$1),$B$2:$B$101,0)),"") | E29: MP | G29: January
A30: =IF(Company_Information!B52="","",Company_Information!B52) | B30: =IF(A30="","",MAX(B$1:B29)+1) | C30: =+IFERROR(INDEX($A$2:$A$101,MATCH(ROW()-ROW($C$1),$B$2:$B$101,0)),"") | E30: MS | G30: February
A31: =IF(Company_Information!B53="","",Company_Information!B53) | B31: =IF(A31="","",MAX(B$1:B30)+1) | C31: =+IFERROR(INDEX($A$2:$A$101,MATCH(ROW()-ROW($C$1),$B$2:$B$101,0)),"") | E31: MT | G31: March
A32: =IF(Company_Information!B54="","",Company_Information!B54) | B32: =IF(A32="","",MAX(B$1:B31)+1) | C32: =+IFERROR(INDEX($A$2:$A$101,MATCH(ROW()-ROW($C$1),$B$2:$B$101,0)),"") | E32: NC | G32: April
A33: =IF(Company_Information!B55="","",Company_Information!B55) | B33: =IF(A33="","",MAX(B$1:B32)+1) | C33: =+IFERROR(INDEX($A$2:$A$101,MATCH(ROW()-ROW($C$1),$B$2:$B$101,0)),"") | E33: ND | G33: May
A34: =IF(Company_Information!B56="","",Company_Information!B56) | B34: =IF(A34="","",MAX(B$1:B33)+1) | C34: =+IFERROR(INDEX($A$2:$A$101,MATCH(ROW()-ROW($C$1),$B$2:$B$101,0)),"") | E34: NE | G34: June
A35: =IF(Company_Information!B57="","",Company_Information!B57) | B35: =IF(A35="","",MAX(B$1:B34)+1) | C35: =+IFERROR(INDEX($A$2:$A$101,MATCH(ROW()-ROW($C$1),$B$2:$B$101,0)),"") | E35: NH | G35: July
A36: =IF(Company_Information!B58="","",Company_Information!B58) | B36: =IF(A36="","",MAX(B$1:B35)+1) | C36: =+IFERROR(INDEX($A$2:$A$101,MATCH(ROW()-ROW($C$1),$B$2:$B$101,0)),"") | E36: NJ | G36: August
A37: =IF(Company_Information!B59="","",Company_Information!B59) | B37: =IF(A37="","",MAX(B$1:B36)+1) | C37: =+IFERROR(INDEX($A$2:$A$101,MATCH(ROW()-ROW($C$1),$B$2:$B$101,0)),"") | E37: NM | G37: September
A38: =IF(Company_Information!B60="","",Company_Information!B60) | B38: =IF(A38="","",MAX(B$1:B37)+1) | C38: =+IFERROR(INDEX($A$2:$A$101,MATCH(ROW()-ROW($C$1),$B$2:$B$101,0)),"") | E38: NV | G38: October
A39: =IF(Company_Information!B61="","",Company_Information!B61) | B39: =IF(A39="","",MAX(B$1:B38)+1) | C39: =+IFERROR(INDEX($A$2:$A$101,MATCH(ROW()-ROW($C$1),$B$2:$B$101,0)),"") | E39: NY | G39: November
A40: =IF(Company_Information!B62="","",Company_Information!B62) | B40: =IF(A40="","",MAX(B$1:B39)+1) | C40: =+IFERROR(INDEX($A$2:$A$101,MATCH(ROW()-ROW($C$1),$B$2:$B$101,0)),"") | E40: OH | G40: December
A41: =IF(Company_Information!B63="","",Company_Information!B63) | B41: =IF(A41="","",MAX(B$1:B40)+1) | C41: =+IFERROR(INDEX($A$2:$A$101,MATCH(ROW()-ROW($C$1),$B$2:$B$101,0)),"") | E41: OK
A42: =IF(Company_Information!B64="","",Company_Information!B64) | B42: =IF(A42="","",MAX(B$1:B41)+1) | C42: =+IFERROR(INDEX($A$2:$A$101,MATCH(ROW()-ROW($C$1),$B$2:$B$101,0)),"") | E42: OR | G42: Unit Operations
A43: =IF(Company_Information!B65="","",Company_Information!B65) | B43: =IF(A43="","",MAX(B$1:B42)+1) | C43: =+IFERROR(INDEX($A$2:$A$101,MATCH(ROW()-ROW($C$1),$B$2:$B$101,0)),"") | E43: PA | G43: air oxidation reactor
A44: =IF(Company_Information!B66="","",Company_Information!B66) | B44: =IF(A44="","",MAX(B$1:B43)+1) | C44: =+IFERROR(INDEX($A$2:$A$101,MATCH(ROW()-ROW($C$1),$B$2:$B$101,0)),"") | E44: PR | G44: distillation unit
A45: =IF(Company_Information!B67="","",Company_Information!B67) | B45: =IF(A45="","",MAX(B$1:B44)+1) | C45: =+IFERROR(INDEX($A$2:$A$101,MATCH(ROW()-ROW($C$1),$B$2:$B$101,0)),"") | E45: RI | G45: reactor
A46: =IF(Company_Information!B68="","",Company_Information!B68) | B46: =IF(A46="","",MAX(B$1:B45)+1) | C46: =+IFERROR(INDEX($A$2:$A$101,MATCH(ROW()-ROW($C$1),$B$2:$B$101,0)),"") | E46: SC | G46: air oxidation reactor and distillation unit
A47: =IF(Company_Information!B69="","",Company_Information!B69) | B47: =IF(A47="","",MAX(B$1:B46)+1) | C47: =+IFERROR(INDEX($A$2:$A$101,MATCH(ROW()-ROW($C$1),$B$2:$B$101,0)),"") | E47: SD | G47: air oxidation reactor and reactor
A48: =IF(Company_Information!B70="","",Company_Information!B70) | B48: =IF(A48="","",MAX(B$1:B47)+1) | C48: =+IFERROR(INDEX($A$2:$A$101,MATCH(ROW()-ROW($C$1),$B$2:$B$101,0)),"") | E48: TN | G48: distillation unit and reactor
A49: =IF(Company_Information!B71="","",Company_Information!B71) | B49: =IF(A49="","",MAX(B$1:B48)+1) | C49: =+IFERROR(INDEX($A$2:$A$101,MATCH(ROW()-ROW($C$1),$B$2:$B$101,0)),"") | E49: TX | G49: air oxidation reactor; distillation unit; and reactor
A50: =IF(Company_Information!B72="","",Company_Information!B72) | B50: =IF(A50="","",MAX(B$1:B49)+1) | C50: =+IFERROR(INDEX($A$2:$A$101,MATCH(ROW()-ROW($C$1),$B$2:$B$101,0)),"") | E50: UT
A51: =IF(Company_Information!B73="","",Company_Information!B73) | B51: =IF(A51="","",MAX(B$1:B50)+1) | C51: =+IFERROR(INDEX($A$2:$A$101,MATCH(ROW()-ROW($C$1),$B$2:$B$101,0)),"") | E51: VA | G51: Regen Carbon Bed
A52: =IF(Company_Information!B74="","",Company_Information!B74) | B52: =IF(A52="","",MAX(B$1:B51)+1) | C52: =+IFERROR(INDEX($A$2:$A$101,MATCH(ROW()-ROW($C$1),$B$2:$B$101,0)),"") | E52: VI | G52: Total regeneration stream mass flow
A53: =IF(Company_Information!B75="","",Company_Information!B75) | B53: =IF(A53="","",MAX(B$1:B52)+1) | C53: =+IFERROR(INDEX($A$2:$A$101,MATCH(ROW()-ROW($C$1),$B$2:$B$101,0)),"") | E53: VT | G53: Total regeneration stream volume flow
A54: =IF(Company_Information!B76="","",Company_Information!B76) | B54: =IF(A54="","",MAX(B$1:B53)+1) | C54: =+IFERROR(INDEX($A$2:$A$101,MATCH(ROW()-ROW($C$1),$B$2:$B$101,0)),"") | E54: WA | G54: Carbon bed temperature
A55: =IF(Company_Information!B77="","",Company_Information!B77) | B55: =IF(A55="","",MAX(B$1:B54)+1) | C55: =+IFERROR(INDEX($A$2:$A$101,MATCH(ROW()-ROW($C$1),$B$2:$B$101,0)),"") | E55: WI
A56: =IF(Company_Information!B78="","",Company_Information!B78) | B56: =IF(A56="","",MAX(B$1:B55)+1) | C56: =+IFERROR(INDEX($A$2:$A$101,MATCH(ROW()-ROW($C$1),$B$2:$B$101,0)),"") | E56: WV
A57: =IF(Company_Information!B79="","",Company_Information!B79) | B57: =IF(A57="","",MAX(B$1:B56)+1) | C57: =+IFERROR(INDEX($A$2:$A$101,MATCH(ROW()-ROW($C$1),$B$2:$B$101,0)),"") | E57: WY | G57: Compliance
A58: =IF(Company_Information!B80="","",Company_Information!B80) | B58: =IF(A58="","",MAX(B$1:B57)+1) | C58: =+IFERROR(INDEX($A$2:$A$101,MATCH(ROW()-ROW($C$1),$B$2:$B$101,0)),"") | G58: There were no compliance exceptions for the reporting period and none of the activities specified in §63.506(e)(6)(iii) through (ix) or (xiii) occurred during the 6-month period.
A59: =IF(Company_Information!B81="","",Company_Information!B81) | B59: =IF(A59="","",MAX(B$1:B58)+1) | C59: =+IFERROR(INDEX($A$2:$A$101,MATCH(ROW()-ROW($C$1),$B$2:$B$101,0)),"") | G59: Information required by §63.506(e)(6)(iii) through (ix) and (xiii) is included in this report.
A60: =IF(Company_Information!B82="","",Company_Information!B82) | B60: =IF(A60="","",MAX(B$1:B59)+1) | C60: =+IFERROR(INDEX($A$2:$A$101,MATCH(ROW()-ROW($C$1),$B$2:$B$101,0)),"")
A61: =IF(Company_Information!B83="","",Company_Information!B83) | B61: =IF(A61="","",MAX(B$1:B60)+1) | C61: =+IFERROR(INDEX($A$2:$A$101,MATCH(ROW()-ROW($C$1),$B$2:$B$101,0)),"") | G61: Equipment Type
A62: =IF(Company_Information!B84="","",Company_Information!B84) | B62: =IF(A62="","",MAX(B$1:B61)+1) | C62: =+IFERROR(INDEX($A$2:$A$101,MATCH(ROW()-ROW($C$1),$B$2:$B$101,0)),"") | G62: valve
A63: =IF(Company_Information!B85="","",Company_Information!B85) | B63: =IF(A63="","",MAX(B$1:B62)+1) | C63: =+IFERROR(INDEX($A$2:$A$101,MATCH(ROW()-ROW($C$1),$B$2:$B$101,0)),"") | G63: pump
A64: =IF(Company_Information!B86="","",Company_Information!B86) | B64: =IF(A64="","",MAX(B$1:B63)+1) | C64: =+IFERROR(INDEX($A$2:$A$101,MATCH(ROW()-ROW($C$1),$B$2:$B$101,0)),"") | G64: connector
A65: =IF(Company_Information!B87="","",Company_Information!B87) | B65: =IF(A65="","",MAX(B$1:B64)+1) | C65: =+IFERROR(INDEX($A$2:$A$101,MATCH(ROW()-ROW($C$1),$B$2:$B$101,0)),"") | G65: compressor
A66: =IF(Company_Information!B88="","",Company_Information!B88) | B66: =IF(A66="","",MAX(B$1:B65)+1) | C66: =+IFERROR(INDEX($A$2:$A$101,MATCH(ROW()-ROW($C$1),$B$2:$B$101,0)),"") | G66: agitator
A67: =IF(Company_Information!B89="","",Company_Information!B89) | B67: =IF(A67="","",MAX(B$1:B66)+1) | C67: =+IFERROR(INDEX($A$2:$A$101,MATCH(ROW()-ROW($C$1),$B$2:$B$101,0)),"")
A68: =IF(Company_Information!B90="","",Company_Information!B90) | B68: =IF(A68="","",MAX(B$1:B67)+1) | C68: =+IFERROR(INDEX($A$2:$A$101,MATCH(ROW()-ROW($C$1),$B$2:$B$101,0)),"")
A69: =IF(Company_Information!B91="","",Company_Information!B91) | B69: =IF(A69="","",MAX(B$1:B68)+1) | C69: =+IFERROR(INDEX($A$2:$A$101,MATCH(ROW()-ROW($C$1),$B$2:$B$101,0)),"")
A70: =IF(Company_Information!B92="","",Company_Information!B92) | B70: =IF(A70="","",MAX(B$1:B69)+1) | C70: =+IFERROR(INDEX($A$2:$A$101,MATCH(ROW()-ROW($C$1),$B$2:$B$101,0)),"")
A71: =IF(Company_Information!B93="","",Company_Information!B93) | B71: =IF(A71="","",MAX(B$1:B70)+1) | C71: =+IFERROR(INDEX($A$2:$A$101,MATCH(ROW()-ROW($C$1),$B$2:$B$101,0)),"")
A72: =IF(Company_Information!B94="","",Company_Information!B94) | B72: =IF(A72="","",MAX(B$1:B71)+1) | C72: =+IFERROR(INDEX($A$2:$A$101,MATCH(ROW()-ROW($C$1),$B$2:$B$101,0)),"")
A73: =IF(Company_Information!B95="","",Company_Information!B95) | B73: =IF(A73="","",MAX(B$1:B72)+1) | C73: =+IFERROR(INDEX($A$2:$A$101,MATCH(ROW()-ROW($C$1),$B$2:$B$101,0)),"")
A74: =IF(Company_Information!B96="","",Company_Information!B96) | B74: =IF(A74="","",MAX(B$1:B73)+1) | C74: =+IFERROR(INDEX($A$2:$A$101,MATCH(ROW()-ROW($C$1),$B$2:$B$101,0)),"")
A75: =IF(Company_Information!B97="","",Company_Information!B97) | B75: =IF(A75="","",MAX(B$1:B74)+1) | C75: =+IFERROR(INDEX($A$2:$A$101,MATCH(ROW()-ROW($C$1),$B$2:$B$101,0)),"")
A76: =IF(Company_Information!B98="","",Company_Information!B98) | B76: =IF(A76="","",MAX(B$1:B75)+1) | C76: =+IFERROR(INDEX($A$2:$A$101,MATCH(ROW()-ROW($C$1),$B$2:$B$101,0)),"")
A77: =IF(Company_Information!B99="","",Company_Information!B99) | B77: =IF(A77="","",MAX(B$1:B76)+1) | C77: =+IFERROR(INDEX($A$2:$A$101,MATCH(ROW()-ROW($C$1),$B$2:$B$101,0)),"")
A78: =IF(Company_Information!B100="","",Company_Information!B100) | B78: =IF(A78="","",MAX(B$1:B77)+1) | C78: =+IFERROR(INDEX($A$2:$A$101,MATCH(ROW()-ROW($C$1),$B$2:$B$101,0)),"")
... A101: =IF(Company_Information!B123="","",Company_Information!B123) | B101: =IF(A101="","",MAX(B$1:B100)+1) | C101: =+IFERROR(INDEX($A$2:$A$101,MATCH(ROW()-ROW($C$1),$B$2:$B$101,0)),"")
B102: =IF(A102="","",MAX(B$1:B101)+1) | C102: =+IFERROR(INDEX($A$2:$A$101,MATCH(ROW()-ROW($C$1),$B$2:$B$101,0)),"")
B103: =IF(A103="","",MAX(B$1:B102)+1) | C103: =+IFERROR(INDEX($A$2:$A$101,MATCH(ROW()-ROW($C$1),$B$2:$B$101,0)),"")
B104: =IF(A104="","",MAX(B$1:B103)+1) | C104: =+IFERROR(INDEX($A$2:$A$101,MATCH(ROW()-ROW($C$1),$B$2:$B$101,0)),"")
B105: =IF(A105="","",MAX(B$1:B104)+1) | C105: =+IFERROR(INDEX($A$2:$A$101,MATCH(ROW()-ROW($C$1),$B$2:$B$101,0)),"")
B106: =IF(A106="","",MAX(B$1:B105)+1) | C106: =+IFERROR(INDEX($A$2:$A$101,MATCH(ROW()-ROW($C$1),$B$2:$B$101,0)),"")
B107: =IF(A107="","",MAX(B$1:B106)+1) | C107: =+IFERROR(INDEX($A$2:$A$101,MATCH(ROW()-ROW($C$1),$B$2:$B$101,0)),"")
B108: =IF(A108="","",MAX(B$1:B107)+1) | C108: =+IFERROR(INDEX($A$2:$A$101,MATCH(ROW()-ROW($C$1),$B$2:$B$101,0)),"")
B109: =IF(A109="","",MAX(B$1:B108)+1) | C109: =+IFERROR(INDEX($A$2:$A$101,MATCH(ROW()-ROW($C$1),$B$2:$B$101,0)),"")
B110: =IF(A110="","",MAX(B$1:B109)+1) | C110: =+IFERROR(INDEX($A$2:$A$101,MATCH(ROW()-ROW($C$1),$B$2:$B$101,0)),"")
B111: =IF(A111="","",MAX(B$1:B110)+1) | C111: =+IFERROR(INDEX($A$2:$A$101,MATCH(ROW()-ROW($C$1),$B$2:$B$101,0)),"")
B112: =IF(A112="","",MAX(B$1:B111)+1) | C112: =+IFERROR(INDEX($A$2:$A$101,MATCH(ROW()-ROW($C$1),$B$2:$B$101,0)),"")
B113: =IF(A113="","",MAX(B$1:B112)+1) | C113: =+IFERROR(INDEX($A$2:$A$101,MATCH(ROW()-ROW($C$1),$B$2:$B$101,0)),"")
... B201: =IF(A201="","",MAX(B$1:B200)+1) | C201: =+IFERROR(INDEX($A$2:$A$101,MATCH(ROW()-ROW($C$1),$B$2:$B$101,0)),"")

Sheet Revisions
A1: Revision Number | B1: Date | C1: Description
A2: 1 | B2: 45441 | C2: Finalized Release Version

Sheet Worksheet Map
A1: Worksheet Name | B1: Parent | C1: JSON Key | D1: Parent Primary Key | E1: Child Foreign Key
A2: Company_Information | C2: records
A3: Notifications | B3: records | C3: Notifications | D3: RecordId | E3: RecordId
A4: Emissions_Averaging | B4: records | C4: EmissionsAveraging | D4: RecordId | E4: RecordId
A5: Monitor_Excursions | B5: records | C5: MonitorExcursions | D5: RecordId | E5: RecordId
A6: Chloroprene | B6: records | C6: Chloroprene | D6: RecordId | E6: RecordId
A7: Malfunctions | B7: records | C7: Malfunctions | D7: RecordId | E7: RecordId
A8: Bypass | B8: records | C8: Bypass | D8: RecordId | E8: RecordId
A9: Flares | B9: records | C9: Flares | D9: RecordId | E9: RecordId
A10: Maintenance_Vents | B10: records | C10: MaintenanceVents | D10: RecordId | E10: RecordId
A11: Tanks | B11: records | C11: Tanks | D11: RecordId | E11: RecordId
A12: Pressure_Vessels | B12: records | C12: PressureVessels | D12: RecordId | E12: RecordId
A13: Heat_Exchanger_System | B13: records | C13: HeatExchangerSystem | D13: RecordId | E13: RecordId
A14: Heat_Exchanger_Leaks | B14: records | C14: HeatExchangerLeaks | D14: RecordId | E14: RecordId
... A27: Performance_Tests | B27: records | C27: PerformanceTests | D27: RecordId | E27: RecordId
