Workbook
Name grantt: '[1]Do Not Complete'!$A$1:$A$4
Name NEAs: Lookups!$A$2:$A$6
Name States: Lookups!$C$2:$C$55
Name Years: Lookups!$E$2:$E$8

Sheet Getting Started
B2: Optional Template 3 for EPA FY20-21 P2 and SRA Grant Programs: Facility-Level Reporting for Broadly-Provided Technical Assistance (Training, Webinars, Etc.)
B4: Welcome | E4: This Excel file is one of three template files offered by EPA to recipients of Pollution Prevention (P2) Grants and Source Reduction Assistance (SRA) Grants. Each file is called a workbook, containing a set of spreadsheets (worksheets) for entering your data. Using these workbooks will allow you to track and report all required outcome elements, automatically tabulate many of your required outputs, and update and resubmit the file for sequential annual reporting. Using these workbooks will also allow EPA to easily import this information into a P2 Grants Database which helps EPA aggregate P2 grant performance information across the country. This database will also be available to all P2 grantees so you can search and find what P2 actions are being recommended and implemented by others.
E5: See https://www.epa.gov/p2/fy-2020-and-fy-2021-pollution-prevention-grant-program-request-applications and
E6: https://www.epa.gov/p2/fy-2020-and-fy-2021-source-reduction-assistance-grant-program-request-applications.
B8: How to Choose Among the Template Workbooks | E8: Choose from among the template workbooks according to the type of grant project (activity category) you are reporting on: Template 1: For a grant project providing P2 technical assistance recommendations to individual facilities. Template 2: For a grant project supporting a green certification or leadership program for participating business facilities. Template 3: For a grant project providing P2 technical assistance to broad audiences (training, roundtables, and so forth). NOTE: Always use a separate workbook for each type of project. If you enter facilities from two projects in a single workbook, the workbook cannot aggregate results by project.
B10: Getting Started in the Template 3 Workbook | E10: If you have a grant project that is providing technical assistance to broad audiences (such as training or roundtables), Template 3 is the right format for your needs.
E11: Number your grant projects with your project officer. You and your EPA grant project officer should work together to number the projects under your grant. The project number is the grant number preceded by a P1-, or a P2-, and so on. For example, if a grant “XYZ1234” has two projects, one project will be P1-XYZ1234 and the other will be P2-XYZ1234. Project numbers help readily identify projects.
E12: Start a new workbook file using Template 3. Enter your assigned grant project number in the Grant Project Data tab. You will see the grant project number then auto-populated in the Facility tabs. As you go about your data entry, PLEASE DO NOT MODIFY THE WORKBOOK FEATURES OR FUNCTIONS. Any modification will interfere with EPA’s ability to import this file into a grant reporting database used for calculating national P2 performance measures and sharing information with P2 technical assistance providers on P2 actions recommended and implemented. When you save the file, include the grant project number in the name of the file.
E13: Overview of workbook functionality: Use the tabs below from left to right. Full instructions appear in each tab. The Grant Project Data Tab combines data entry and an automatic list. On top is the data entry area for grant administration data. Below that is an auto-generated tracking list that will pull in facility names you've entered in numbered facility tabs and place them next to the correct numbered facility tabs. The Aggregate Results Tab is an auto-calculator that aggregates results automatically from data entered in numbered facility tabs. The Numbered Facility Tabs are for data entry of facility-level data, one facility per numbered tab. Fill in a Numbered Facility Tab for each business facility that meets these conditions: (1) attended broadly-provided P2 technical assistance such as a training or webinar; (2) was contacted by you for follow-up; and (3) reported to you during the follow-up that they took P2 actions and achieved corresponding outcomes as a result of having received the broadly-provided P2 technical assistance. Entry of facility names allows the Grant Project Data Tab to pull names and associate them with the correctly numbered tabs. This list associating numbered tabs to facility names will help you later when you need to find the correct tab for a given facility to update the status of follow-up, implementation and results achieved. Template 3 has 50 Facility Tabs; please use a new file if you need more Facility Tabs.
B15: Calculating Outcomes in the Facility Tabs | E15: EPA's P2 calculators are designed to help you measure environmental and economic outcomes from pollution prevention activities.
E16: For help with calculating Metric Tons of Carbon Dioxide Equivalent (MTCO2e), the required reporting unit for reductions in CO2 and related greenhouse gases, please use the EPA P2 Greenhouse Gas Calculator. The calculator allows you to calculate your GHG reductions from electricity management, energy substitution (green energy), stationary sources, mobile sources, reduced water use, reduced chemical use, chemical substitution, and solvent remanufacturing. The calculator will also provide associated cost savings for the first five listed above (electricity management, green energy, stationary and mobile sources, and reduced water use).
E17: For help with calculating cost savings, please use the P2 Cost Savings Calculator. This calculator estimates the annual net cost savings realized from avoided fees and expenses associated with buying fewer hazardous inputs, shipping less hazardous waste, emitting fewer regulated air emissions, using less water, sending less wastewater through pre-treatment and treatment works, and buying less fuel and energy. The cost differences of buying greener materials, fuel and energy is also calculated. Users can use the tool to estimate prospective cost savings.
E18: To calculate pounds of water pollution that facilities reduce, either use the facility’s permit methodology or multiply wastewater gallons by 8.35 to get pounds and divide by 10,000 to eliminate water content. For help with converting gallons of hazardous materials to pounds of hazardous materials, please use the P2 Gallons to Pounds Converter.
Q20: Last Updated: 5/23/2022

Sheet Grant Project Data
A1: FY20-21 P2 and SRA Grants Template 3: Facility-Level Reporting for Broadly-Provided Technical Assistance (Training, Webinars, Etc.)
A2: P2 Grant Project Data
A4: How to Use this Tab: | B4: 1. Fill in Rows 6 - 15. Rows 6 and 7 entries here automatically populate Rows 6 and 7 in the Facility Tabs. In Row 8, the reference to FY is the federal Fiscal Year from Oct. 1 - Sept. 30. 2. The tracking list starting in Row 18 automatically populates as you enter facility names in numbered facility tabs. This list will help you later if you need to relocate a facility for updating follow-up, implementation and results achieved.
A6: Grant Recipient:
A7: Grant Project Number:
A8: Grant Period (FY-FY):
A9: Grantee Contact Name:
A10: Grantee Contact Phone Number:
A11: Grantee Contact E-mail:
A12: EPA Region:
A13: EPA Technical Contact Name:
A14: EPA Technical Contact Phone Number:
A15: EPA Technical Contact Email:
B18: Facility Names on Facility Tabs
A19: Facility 1: | B19: =IFERROR(IF(D19=0,"",IF(E19=0,"{No Facility Name Provided}",E19)),"") | D19: {=INDIRECT("'"&SUBSTITUTE(A19,":","")&"'!$K$49")} -> 0 | E19: {=INDIRECT("'"&SUBSTITUTE(A19,":","")&"'!$B$10")} -> 0
A20: Facility 2: | B20: =IFERROR(IF(D20=0,"",IF(E20=0,"{No Facility Name Provided}",E20)),"") | D20: {=INDIRECT("'"&SUBSTITUTE(A20,":","")&"'!$K$49")} -> 0 | E20: {=INDIRECT("'"&SUBSTITUTE(A20,":","")&"'!$B$10")} -> 0
A21: Facility 3: | B21: =IFERROR(IF(D21=0,"",IF(E21=0,"{No Facility Name Provided}",E21)),"") | D21: {=INDIRECT("'"&SUBSTITUTE(A21,":","")&"'!$K$49")} -> 0 | E21: {=INDIRECT("'"&SUBSTITUTE(A21,":","")&"'!$B$10")} -> 0
A22: Facility 4: | B22: =IFERROR(IF(D22=0,"",IF(E22=0,"{No Facility Name Provided}",E22)),"") | D22: {=INDIRECT("'"&SUBSTITUTE(A22,":","")&"'!$K$49")} -> 0 | E22: {=INDIRECT("'"&SUBSTITUTE(A22,":","")&"'!$B$10")} -> 0
A23: Facility 5: | B23: =IFERROR(IF(D23=0,"",IF(E23=0,"{No Facility Name Provided}",E23)),"") | D23: {=INDIRECT("'"&SUBSTITUTE(A23,":","")&"'!$K$49")} -> 0 | E23: {=INDIRECT("'"&SUBSTITUTE(A23,":","")&"'!$B$10")} -> 0
A24: Facility 6: | B24: =IFERROR(IF(D24=0,"",IF(E24=0,"{No Facility Name Provided}",E24)),"") | D24: {=INDIRECT("'"&SUBSTITUTE(A24,":","")&"'!$K$49")} -> 0 | E24: {=INDIRECT("'"&SUBSTITUTE(A24,":","")&"'!$B$10")} -> 0
A25: Facility 7: | B25: =IFERROR(IF(D25=0,"",IF(E25=0,"{No Facility Name Provided}",E25)),"") | D25: {=INDIRECT("'"&SUBSTITUTE(A25,":","")&"'!$K$49")} -> 0 | E25: {=INDIRECT("'"&SUBSTITUTE(A25,":","")&"'!$B$10")} -> 0
A26: Facility 8: | B26: =IFERROR(IF(D26=0,"",IF(E26=0,"{No Facility Name Provided}",E26)),"") | D26: {=INDIRECT("'"&SUBSTITUTE(A26,":","")&"'!$K$49")} -> 0 | E26: {=INDIRECT("'"&SUBSTITUTE(A26,":","")&"'!$B$10")} -> 0
A27: Facility 9: | B27: =IFERROR(IF(D27=0,"",IF(E27=0,"{No Facility Name Provided}",E27)),"") | D27: {=INDIRECT("'"&SUBSTITUTE(A27,":","")&"'!$K$49")} -> 0 | E27: {=INDIRECT("'"&SUBSTITUTE(A27,":","")&"'!$B$10")} -> 0
A28: Facility 10: | B28: =IFERROR(IF(D28=0,"",IF(E28=0,"{No Facility Name Provided}",E28)),"") | D28: {=INDIRECT("'"&SUBSTITUTE(A28,":","")&"'!$K$49")} -> 0 | E28: {=INDIRECT("'"&SUBSTITUTE(A28,":","")&"'!$B$10")} -> 0
A29: Facility 11: | B29: =IFERROR(IF(D29=0,"",IF(E29=0,"{No Facility Name Provided}",E29)),"") | D29: {=INDIRECT("'"&SUBSTITUTE(A29,":","")&"'!$K$49")} -> 0 | E29: {=INDIRECT("'"&SUBSTITUTE(A29,":","")&"'!$B$10")} -> 0
A30: Facility 12: | B30: =IFERROR(IF(D30=0,"",IF(E30=0,"{No Facility Name Provided}",E30)),"") | D30: {=INDIRECT("'"&SUBSTITUTE(A30,":","")&"'!$K$49")} -> 0 | E30: {=INDIRECT("'"&SUBSTITUTE(A30,":","")&"'!$B$10")} -> 0
... A68: Facility 50: | B68: =IFERROR(IF(D68=0,"",IF(E68=0,"{No Facility Name Provided}",E68)),"") | D68: {=INDIRECT("'"&SUBSTITUTE(A68,":","")&"'!$K$49")} -> 0 | E68: {=INDIRECT("'"&SUBSTITUTE(A68,":","")&"'!$B$10")} -> 0

Sheet Aggregate Results
A1: FY20-21 P2 and SRA Grants Template 3: Facility-Level Reporting for Broadly-Provided Technical Assistance (Training, Webinars, Etc.)
A2: Aggregate of Verified Implemented Results From All Facility Tabs
A4: How to Use this Tab: | C4: This is a read-only tab where you can track the aggregate outcome values being achieved by all facilities covered in this grant project. The background formula pulls reported values from the Facility Tabs. Informational messages on the Facility Tabs will remind you to select a Fiscal Year in the given P2 Action Recommendations Row and enter a date in Row 19 for the aggregating formula to work.
A6: Grant Recipient: | C6: =IF('Grant Project Data'!B6<>"",'Grant Project Data'!B6,"")
A7: Grant Project Number: | C7: =IF('Grant Project Data'!B7<>"",'Grant Project Data'!B7,"")
B9: $ | D9: Annual Reductions
A10: Fiscal Year | B10: One-time Costs to Implement ($) | C10: Annual Savings From P2 Actions ($) | D10: Hazardous Material Input (lbs) | E10: Hazardous Waste (lbs) | F10: Air Emissions (lbs) | G10: Water Pollution (lbs) | H10: MTCO2e Emissions (tons) | I10: Water Use (gallons)
A11: 2020 | B11: =SUM('Facility 1'!C50,'Facility 2'!C50,'Facility 3'!C50,'Facility 4'!C50,'Facility 5'!C50,'Facility 6'!C50,'Facility 7'!C50,'Facility 8'!C50,'Facility 9'!C50,'Facility 10'!C50,'Facility 11'!C50,'Facility 12'!C50,'Facility 13'!C50,'Facility 14'!C50,'Facility 15'!C50,'Facility 16'!C50,'Facility 17'!C50,'Facility 18'!C50,'Facility 19'!C50,'Facility 20'!C50,'Facility 21'!C50,'Facility 22'!C50,'Facility 23'!C50,'Facility 24'!C50,'Facility 25'!C50,'Facility 26'!C50,'Facility 27'!C50,'Facility 28'!C50,'Facility 29'!C50,'Facility 30'!C50,'Facility 31'!C50,'Facility 32'!C50,'Facility 33'!C50,'Facility 34'!C50,'Facility 35'!C50,'Facility 36'!C50,'Facility 37'!C50,'Facility 38'!C50,'Facility 39'!C50,'Facility 40'!C50,'Facility 41'!C50,'Facility 42'!C50,'Facility 43'!C50,'Facility 44'!C50,'Facility 45'!C50,'Facility 46'!C50,'Facility 47'!C50,'Facility 48'!C50,'Facility 49'!C50,'Facility 50'!C50) -> 0 | C11: =SUM('Facility 1'!D50,'Facility 2'!D50,'Facility 3'!D50,'Facility 4'!D50,'Facility 5'!D50,'Facility 6'!D50,'Facility 7'!D50,'Facility 8'!D50,'Facility 9'!D50,'Facility 10'!D50,'Facility 11'!D50,'Facility 12'!D50,'Facility 13'!D50,'Facility 14'!D50,'Facility 15'!D50,'Facility 16'!D50,'Facility 17'!D50,'Facility 18'!D50,'Facility 19'!D50,'Facility 20'!D50,'Facility 21'!D50,'Facility 22'!D50,'Facility 23'!D50,'Facility 24'!D50,'Facility 25'!D50,'Facility 26'!D50,'Facility 27'!D50,'Facility 28'!D50,'Facility 29'!D50,'Facility 30'!D50,'Facility 31'!D50,'Facility 32'!D50,'Facility 33'!D50,'Facility 34'!D50,'Facility 35'!D50,'Facility 36'!D50,'Facility 37'!D50,'Facility 38'!D50,'Facility 39'!D50,'Facility 40'!D50,'Facility 41'!D50,'Facility 42'!D50,'Facility 43'!D50,'Facility 44'!D50,'Facility 45'!D50,'Facility 46'!D50,'Facility 47'!D50,'Facility 48'!D50,'Facility 49'!D50,'Facility 50'!D50) -> 0 | D11: =SUM('Facility 1'!E50,'Facility 2'!E50,'Facility 3'!E50,'Facility 4'!E50,'Facility 5'!E50,'Facility 6'!E50,'Facility 7'!E50,'Facility 8'!E50,'Facility 9'!E50,'Facility 10'!E50,'Facility 11'!E50,'Facility 12'!E50,'Facility 13'!E50,'Facility 14'!E50,'Facility 15'!E50,'Facility 16'!E50,'Facility 17'!E50,'Facility 18'!E50,'Facility 19'!E50,'Facility 20'!E50,'Facility 21'!E50,'Facility 22'!E50,'Facility 23'!E50,'Facility 24'!E50,'Facility 25'!E50,'Facility 26'!E50,'Facility 27'!E50,'Facility 28'!E50,'Facility 29'!E50,'Facility 30'!E50,'Facility 31'!E50,'Facility 32'!E50,'Facility 33'!E50,'Facility 34'!E50,'Facility 35'!E50,'Facility 36'!E50,'Facility 37'!E50,'Facility 38'!E50,'Facility 39'!E50,'Facility 40'!E50,'Facility 41'!E50,'Facility 42'!E50,'Facility 43'!E50,'Facility 44'!E50,'Facility 45'!E50,'Facility 46'!E50,'Facility 47'!E50,'Facility 48'!E50,'Facility 49'!E50,'Facility 50'!E50) -> 0 | E11: =SUM('Facility 1'!F50,'Facility 2'!F50,'Facility 3'!F50,'Facility 4'!F50,'Facility 5'!F50,'Facility 6'!F50,'Facility 7'!F50,'Facility 8'!F50,'Facility 9'!F50,'Facility 10'!F50,'Facility 11'!F50,'Facility 12'!F50,'Facility 13'!F50,'Facility 14'!F50,'Facility 15'!F50,'Facility 16'!F50,'Facility 17'!F50,'Facility 18'!F50,'Facility 19'!F50,'Facility 20'!F50,'Facility 21'!F50,'Facility 22'!F50,'Facility 23'!F50,'Facility 24'!F50,'Facility 25'!F50,'Facility 26'!F50,'Facility 27'!F50,'Facility 28'!F50,'Facility 29'!F50,'Facility 30'!F50,'Facility 31'!F50,'Facility 32'!F50,'Facility 33'!F50,'Facility 34'!F50,'Facility 35'!F50,'Facility 36'!F50,'Facility 37'!F50,'Facility 38'!F50,'Facility 39'!F50,'Facility 40'!F50,'Facility 41'!F50,'Facility 42'!F50,'Facility 43'!F50,'Facility 44'!F50,'Facility 45'!F50,'Facility 46'!F50,'Facility 47'!F50,'Facility 48'!F50,'Facility 49'!F50,'Facility 50'!F50) -> 0 | F11: =SUM('Facility 1'!G50,'Facility 2'!G50,'Facility 3'!G50,'Facility 4'!G50,'Facility 5'!G50,'Facility 6'!G50,'Facility 7'!G50,'Facility 8'!G50,'Facility 9'!G50,'Facility 10'!G50,'Facility 11'!G50,'Facility 12'!G50,'Facility 13'!G50,'Facility 14'!G50,'Facility 15'!G50,'Facility 16'!G50,'Facility 17'!G50,'Facility 18'!G50,'Facility 19'!G50,'Facility 20'!G50,'Facility 21'!G50,'Facility 22'!G50,'Facility 23'!G50,'Facility 24'!G50,'Facility 25'!G50,'Facility 26'!G50,'Facility 27'!G50,'Facility 28'!G50,'Facility 29'!G50,'Facility 30'!G50,'Facility 31'!G50,'Facility 32'!G50,'Facility 33'!G50,'Facility 34'!G50,'Facility 35'!G50,'Facility 36'!G50,'Facility 37'!G50,'Facility 38'!G50,'Facility 39'!G50,'Facility 40'!G50,'Facility 41'!G50,'Facility 42'!G50,'Facility 43'!G50,'Facility 44'!G50,'Facility 45'!G50,'Facility 46'!G50,'Facility 47'!G50,'Facility 48'!G50,'Facility 49'!G50,'Facility 50'!G50) -> 0 | G11: =SUM('Facility 1'!H50,'Facility 2'!H50,'Facility 3'!H50,'Facility 4'!H50,'Facility 5'!H50,'Facility 6'!H50,'Facility 7'!H50,'Facility 8'!H50,'Facility 9'!H50,'Facility 10'!H50,'Facility 11'!H50,'Facility 12'!H50,'Facility 13'!H50,'Facility 14'!H50,'Facility 15'!H50,'Facility 16'!H50,'Facility 17'!H50,'Facility 18'!H50,'Facility 19'!H50,'Facility 20'!H50,'Facility 21'!H50,'Facility 22'!H50,'Facility 23'!H50,'Facility 24'!H50,'Facility 25'!H50,'Facility 26'!H50,'Facility 27'!H50,'Facility 28'!H50,'Facility 29'!H50,'Facility 30'!H50,'Facility 31'!H50,'Facility 32'!H50,'Facility 33'!H50,'Facility 34'!H50,'Facility 35'!H50,'Facility 36'!H50,'Facility 37'!H50,'Facility 38'!H50,'Facility 39'!H50,'Facility 40'!H50,'Facility 41'!H50,'Facility 42'!H50,'Facility 43'!H50,'Facility 44'!H50,'Facility 45'!H50,'Facility 46'!H50,'Facility 47'!H50,'Facility 48'!H50,'Facility 49'!H50,'Facility 50'!H50) -> 0 | H11: =SUM('Facility 1'!I50,'Facility 2'!I50,'Facility 3'!I50,'Facility 4'!I50,'Facility 5'!I50,'Facility 6'!I50,'Facility 7'!I50,'Facility 8'!I50,'Facility 9'!I50,'Facility 10'!I50,'Facility 11'!I50,'Facility 12'!I50,'Facility 13'!I50,'Facility 14'!I50,'Facility 15'!I50,'Facility 16'!I50,'Facility 17'!I50,'Facility 18'!I50,'Facility 19'!I50,'Facility 20'!I50,'Facility 21'!I50,'Facility 22'!I50,'Facility 23'!I50,'Facility 24'!I50,'Facility 25'!I50,'Facility 26'!I50,'Facility 27'!I50,'Facility 28'!I50,'Facility 29'!I50,'Facility 30'!I50,'Facility 31'!I50,'Facility 32'!I50,'Facility 33'!I50,'Facility 34'!I50,'Facility 35'!I50,'Facility 36'!I50,'Facility 37'!I50,'Facility 38'!I50,'Facility 39'!I50,'Facility 40'!I50,'Facility 41'!I50,'Facility 42'!I50,'Facility 43'!I50,'Facility 44'!I50,'Facility 45'!I50,'Facility 46'!I50,'Facility 47'!I50,'Facility 48'!I50,'Facility 49'!I50,'Facility 50'!I50) -> 0 | I11: =SUM('Facility 1'!J50,'Facility 2'!J50,'Facility 3'!J50,'Facility 4'!J50,'Facility 5'!J50,'Facility 6'!J50,'Facility 7'!J50,'Facility 8'!J50,'Facility 9'!J50,'Facility 10'!J50,'Facility 11'!J50,'Facility 12'!J50,'Facility 13'!J50,'Facility 14'!J50,'Facility 15'!J50,'Facility 16'!J50,'Facility 17'!J50,'Facility 18'!J50,'Facility 19'!J50,'Facility 20'!J50,'Facility 21'!J50,'Facility 22'!J50,'Facility 23'!J50,'Facility 24'!J50,'Facility 25'!J50,'Facility 26'!J50,'Facility 27'!J50,'Facility 28'!J50,'Facility 29'!J50,'Facility 30'!J50,'Facility 31'!J50,'Facility 32'!J50,'Facility 33'!J50,'Facility 34'!J50,'Facility 35'!J50,'Facility 36'!J50,'Facility 37'!J50,'Facility 38'!J50,'Facility 39'!J50,'Facility 40'!J50,'Facility 41'!J50,'Facility 42'!J50,'Facility 43'!J50,'Facility 44'!J50,'Facility 45'!J50,'Facility 46'!J50,'Facility 47'!J50,'Facility 48'!J50,'Facility 49'!J50,'Facility 50'!J50) -> 0
A12: 2021 | B12: =SUM('Facility 1'!C51,'Facility 2'!C51,'Facility 3'!C51,'Facility 4'!C51,'Facility 5'!C51,'Facility 6'!C51,'Facility 7'!C51,'Facility 8'!C51,'Facility 9'!C51,'Facility 10'!C51,'Facility 11'!C51,'Facility 12'!C51,'Facility 13'!C51,'Facility 14'!C51,'Facility 15'!C51,'Facility 16'!C51,'Facility 17'!C51,'Facility 18'!C51,'Facility 19'!C51,'Facility 20'!C51,'Facility 21'!C51,'Facility 22'!C51,'Facility 23'!C51,'Facility 24'!C51,'Facility 25'!C51,'Facility 26'!C51,'Facility 27'!C51,'Facility 28'!C51,'Facility 29'!C51,'Facility 30'!C51,'Facility 31'!C51,'Facility 32'!C51,'Facility 33'!C51,'Facility 34'!C51,'Facility 35'!C51,'Facility 36'!C51,'Facility 37'!C51,'Facility 38'!C51,'Facility 39'!C51,'Facility 40'!C51,'Facility 41'!C51,'Facility 42'!C51,'Facility 43'!C51,'Facility 44'!C51,'Facility 45'!C51,'Facility 46'!C51,'Facility 47'!C51,'Facility 48'!C51,'Facility 49'!C51,'Facility 50'!C51) -> 0 | C12: =SUM('Facility 1'!D51,'Facility 2'!D51,'Facility 3'!D51,'Facility 4'!D51,'Facility 5'!D51,'Facility 6'!D51,'Facility 7'!D51,'Facility 8'!D51,'Facility 9'!D51,'Facility 10'!D51,'Facility 11'!D51,'Facility 12'!D51,'Facility 13'!D51,'Facility 14'!D51,'Facility 15'!D51,'Facility 16'!D51,'Facility 17'!D51,'Facility 18'!D51,'Facility 19'!D51,'Facility 20'!D51,'Facility 21'!D51,'Facility 22'!D51,'Facility 23'!D51,'Facility 24'!D51,'Facility 25'!D51,'Facility 26'!D51,'Facility 27'!D51,'Facility 28'!D51,'Facility 29'!D51,'Facility 30'!D51,'Facility 31'!D51,'Facility 32'!D51,'Facility 33'!D51,'Facility 34'!D51,'Facility 35'!D51,'Facility 36'!D51,'Facility 37'!D51,'Facility 38'!D51,'Facility 39'!D51,'Facility 40'!D51,'Facility 41'!D51,'Facility 42'!D51,'Facility 43'!D51,'Facility 44'!D51,'Facility 45'!D51,'Facility 46'!D51,'Facility 47'!D51,'Facility 48'!D51,'Facility 49'!D51,'Facility 50'!D51) -> 0 | D12: =SUM('Facility 1'!E51,'Facility 2'!E51,'Facility 3'!E51,'Facility 4'!E51,'Facility 5'!E51,'Facility 6'!E51,'Facility 7'!E51,'Facility 8'!E51,'Facility 9'!E51,'Facility 10'!E51,'Facility 11'!E51,'Facility 12'!E51,'Facility 13'!E51,'Facility 14'!E51,'Facility 15'!E51,'Facility 16'!E51,'Facility 17'!E51,'Facility 18'!E51,'Facility 19'!E51,'Facility 20'!E51,'Facility 21'!E51,'Facility 22'!E51,'Facility 23'!E51,'Facility 24'!E51,'Facility 25'!E51,'Facility 26'!E51,'Facility 27'!E51,'Facility 28'!E51,'Facility 29'!E51,'Facility 30'!E51,'Facility 31'!E51,'Facility 32'!E51,'Facility 33'!E51,'Facility 34'!E51,'Facility 35'!E51,'Facility 36'!E51,'Facility 37'!E51,'Facility 38'!E51,'Facility 39'!E51,'Facility 40'!E51,'Facility 41'!E51,'Facility 42'!E51,'Facility 43'!E51,'Facility 44'!E51,'Facility 45'!E51,'Facility 46'!E51,'Facility 47'!E51,'Facility 48'!E51,'Facility 49'!E51,'Facility 50'!E51) -> 0 | E12: =SUM('Facility 1'!F51,'Facility 2'!F51,'Facility 3'!F51,'Facility 4'!F51,'Facility 5'!F51,'Facility 6'!F51,'Facility 7'!F51,'Facility 8'!F51,'Facility 9'!F51,'Facility 10'!F51,'Facility 11'!F51,'Facility 12'!F51,'Facility 13'!F51,'Facility 14'!F51,'Facility 15'!F51,'Facility 16'!F51,'Facility 17'!F51,'Facility 18'!F51,'Facility 19'!F51,'Facility 20'!F51,'Facility 21'!F51,'Facility 22'!F51,'Facility 23'!F51,'Facility 24'!F51,'Facility 25'!F51,'Facility 26'!F51,'Facility 27'!F51,'Facility 28'!F51,'Facility 29'!F51,'Facility 30'!F51,'Facility 31'!F51,'Facility 32'!F51,'Facility 33'!F51,'Facility 34'!F51,'Facility 35'!F51,'Facility 36'!F51,'Facility 37'!F51,'Facility 38'!F51,'Facility 39'!F51,'Facility 40'!F51,'Facility 41'!F51,'Facility 42'!F51,'Facility 43'!F51,'Facility 44'!F51,'Facility 45'!F51,'Facility 46'!F51,'Facility 47'!F51,'Facility 48'!F51,'Facility 49'!F51,'Facility 50'!F51) -> 0 | F12: =SUM('Facility 1'!G51,'Facility 2'!G51,'Facility 3'!G51,'Facility 4'!G51,'Facility 5'!G51,'Facility 6'!G51,'Facility 7'!G51,'Facility 8'!G51,'Facility 9'!G51,'Facility 10'!G51,'Facility 11'!G51,'Facility 12'!G51,'Facility 13'!G51,'Facility 14'!G51,'Facility 15'!G51,'Facility 16'!G51,'Facility 17'!G51,'Facility 18'!G51,'Facility 19'!G51,'Facility 20'!G51,'Facility 21'!G51,'Facility 22'!G51,'Facility 23'!G51,'Facility 24'!G51,'Facility 25'!G51,'Facility 26'!G51,'Facility 27'!G51,'Facility 28'!G51,'Facility 29'!G51,'Facility 30'!G51,'Facility 31'!G51,'Facility 32'!G51,'Facility 33'!G51,'Facility 34'!G51,'Facility 35'!G51,'Facility 36'!G51,'Facility 37'!G51,'Facility 38'!G51,'Facility 39'!G51,'Facility 40'!G51,'Facility 41'!G51,'Facility 42'!G51,'Facility 43'!G51,'Facility 44'!G51,'Facility 45'!G51,'Facility 46'!G51,'Facility 47'!G51,'Facility 48'!G51,'Facility 49'!G51,'Facility 50'!G51) -> 0 | G12: =SUM('Facility 1'!H51,'Facility 2'!H51,'Facility 3'!H51,'Facility 4'!H51,'Facility 5'!H51,'Facility 6'!H51,'Facility 7'!H51,'Facility 8'!H51,'Facility 9'!H51,'Facility 10'!H51,'Facility 11'!H51,'Facility 12'!H51,'Facility 13'!H51,'Facility 14'!H51,'Facility 15'!H51,'Facility 16'!H51,'Facility 17'!H51,'Facility 18'!H51,'Facility 19'!H51,'Facility 20'!H51,'Facility 21'!H51,'Facility 22'!H51,'Facility 23'!H51,'Facility 24'!H51,'Facility 25'!H51,'Facility 26'!H51,'Facility 27'!H51,'Facility 28'!H51,'Facility 29'!H51,'Facility 30'!H51,'Facility 31'!H51,'Facility 32'!H51,'Facility 33'!H51,'Facility 34'!H51,'Facility 35'!H51,'Facility 36'!H51,'Facility 37'!H51,'Facility 38'!H51,'Facility 39'!H51,'Facility 40'!H51,'Facility 41'!H51,'Facility 42'!H51,'Facility 43'!H51,'Facility 44'!H51,'Facility 45'!H51,'Facility 46'!H51,'Facility 47'!H51,'Facility 48'!H51,'Facility 49'!H51,'Facility 50'!H51) -> 0 | H12: =SUM('Facility 1'!I51,'Facility 2'!I51,'Facility 3'!I51,'Facility 4'!I51,'Facility 5'!I51,'Facility 6'!I51,'Facility 7'!I51,'Facility 8'!I51,'Facility 9'!I51,'Facility 10'!I51,'Facility 11'!I51,'Facility 12'!I51,'Facility 13'!I51,'Facility 14'!I51,'Facility 15'!I51,'Facility 16'!I51,'Facility 17'!I51,'Facility 18'!I51,'Facility 19'!I51,'Facility 20'!I51,'Facility 21'!I51,'Facility 22'!I51,'Facility 23'!I51,'Facility 24'!I51,'Facility 25'!I51,'Facility 26'!I51,'Facility 27'!I51,'Facility 28'!I51,'Facility 29'!I51,'Facility 30'!I51,'Facility 31'!I51,'Facility 32'!I51,'Facility 33'!I51,'Facility 34'!I51,'Facility 35'!I51,'Facility 36'!I51,'Facility 37'!I51,'Facility 38'!I51,'Facility 39'!I51,'Facility 40'!I51,'Facility 41'!I51,'Facility 42'!I51,'Facility 43'!I51,'Facility 44'!I51,'Facility 45'!I51,'Facility 46'!I51,'Facility 47'!I51,'Facility 48'!I51,'Facility 49'!I51,'Facility 50'!I51) -> 0 | I12: =SUM('Facility 1'!J51,'Facility 2'!J51,'Facility 3'!J51,'Facility 4'!J51,'Facility 5'!J51,'Facility 6'!J51,'Facility 7'!J51,'Facility 8'!J51,'Facility 9'!J51,'Facility 10'!J51,'Facility 11'!J51,'Facility 12'!J51,'Facility 13'!J51,'Facility 14'!J51,'Facility 15'!J51,'Facility 16'!J51,'Facility 17'!J51,'Facility 18'!J51,'Facility 19'!J51,'Facility 20'!J51,'Facility 21'!J51,'Facility 22'!J51,'Facility 23'!J51,'Facility 24'!J51,'Facility 25'!J51,'Facility 26'!J51,'Facility 27'!J51,'Facility 28'!J51,'Facility 29'!J51,'Facility 30'!J51,'Facility 31'!J51,'Facility 32'!J51,'Facility 33'!J51,'Facility 34'!J51,'Facility 35'!J51,'Facility 36'!J51,'Facility 37'!J51,'Facility 38'!J51,'Facility 39'!J51,'Facility 40'!J51,'Facility 41'!J51,'Facility 42'!J51,'Facility 43'!J51,'Facility 44'!J51,'Facility 45'!J51,'Facility 46'!J51,'Facility 47'!J51,'Facility 48'!J51,'Facility 49'!J51,'Facility 50'!J51) -> 0
A13: 2022 | B13: =SUM('Facility 1'!C52,'Facility 2'!C52,'Facility 3'!C52,'Facility 4'!C52,'Facility 5'!C52,'Facility 6'!C52,'Facility 7'!C52,'Facility 8'!C52,'Facility 9'!C52,'Facility 10'!C52,'Facility 11'!C52,'Facility 12'!C52,'Facility 13'!C52,'Facility 14'!C52,'Facility 15'!C52,'Facility 16'!C52,'Facility 17'!C52,'Facility 18'!C52,'Facility 19'!C52,'Facility 20'!C52,'Facility 21'!C52,'Facility 22'!C52,'Facility 23'!C52,'Facility 24'!C52,'Facility 25'!C52,'Facility 26'!C52,'Facility 27'!C52,'Facility 28'!C52,'Facility 29'!C52,'Facility 30'!C52,'Facility 31'!C52,'Facility 32'!C52,'Facility 33'!C52,'Facility 34'!C52,'Facility 35'!C52,'Facility 36'!C52,'Facility 37'!C52,'Facility 38'!C52,'Facility 39'!C52,'Facility 40'!C52,'Facility 41'!C52,'Facility 42'!C52,'Facility 43'!C52,'Facility 44'!C52,'Facility 45'!C52,'Facility 46'!C52,'Facility 47'!C52,'Facility 48'!C52,'Facility 49'!C52,'Facility 50'!C52) -> 0 | C13: =SUM('Facility 1'!D52,'Facility 2'!D52,'Facility 3'!D52,'Facility 4'!D52,'Facility 5'!D52,'Facility 6'!D52,'Facility 7'!D52,'Facility 8'!D52,'Facility 9'!D52,'Facility 10'!D52,'Facility 11'!D52,'Facility 12'!D52,'Facility 13'!D52,'Facility 14'!D52,'Facility 15'!D52,'Facility 16'!D52,'Facility 17'!D52,'Facility 18'!D52,'Facility 19'!D52,'Facility 20'!D52,'Facility 21'!D52,'Facility 22'!D52,'Facility 23'!D52,'Facility 24'!D52,'Facility 25'!D52,'Facility 26'!D52,'Facility 27'!D52,'Facility 28'!D52,'Facility 29'!D52,'Facility 30'!D52,'Facility 31'!D52,'Facility 32'!D52,'Facility 33'!D52,'Facility 34'!D52,'Facility 35'!D52,'Facility 36'!D52,'Facility 37'!D52,'Facility 38'!D52,'Facility 39'!D52,'Facility 40'!D52,'Facility 41'!D52,'Facility 42'!D52,'Facility 43'!D52,'Facility 44'!D52,'Facility 45'!D52,'Facility 46'!D52,'Facility 47'!D52,'Facility 48'!D52,'Facility 49'!D52,'Facility 50'!D52) -> 0 | D13: =SUM('Facility 1'!E52,'Facility 2'!E52,'Facility 3'!E52,'Facility 4'!E52,'Facility 5'!E52,'Facility 6'!E52,'Facility 7'!E52,'Facility 8'!E52,'Facility 9'!E52,'Facility 10'!E52,'Facility 11'!E52,'Facility 12'!E52,'Facility 13'!E52,'Facility 14'!E52,'Facility 15'!E52,'Facility 16'!E52,'Facility 17'!E52,'Facility 18'!E52,'Facility 19'!E52,'Facility 20'!E52,'Facility 21'!E52,'Facility 22'!E52,'Facility 23'!E52,'Facility 24'!E52,'Facility 25'!E52,'Facility 26'!E52,'Facility 27'!E52,'Facility 28'!E52,'Facility 29'!E52,'Facility 30'!E52,'Facility 31'!E52,'Facility 32'!E52,'Facility 33'!E52,'Facility 34'!E52,'Facility 35'!E52,'Facility 36'!E52,'Facility 37'!E52,'Facility 38'!E52,'Facility 39'!E52,'Facility 40'!E52,'Facility 41'!E52,'Facility 42'!E52,'Facility 43'!E52,'Facility 44'!E52,'Facility 45'!E52,'Facility 46'!E52,'Facility 47'!E52,'Facility 48'!E52,'Facility 49'!E52,'Facility 50'!E52) -> 0 | E13: =SUM('Facility 1'!F52,'Facility 2'!F52,'Facility 3'!F52,'Facility 4'!F52,'Facility 5'!F52,'Facility 6'!F52,'Facility 7'!F52,'Facility 8'!F52,'Facility 9'!F52,'Facility 10'!F52,'Facility 11'!F52,'Facility 12'!F52,'Facility 13'!F52,'Facility 14'!F52,'Facility 15'!F52,'Facility 16'!F52,'Facility 17'!F52,'Facility 18'!F52,'Facility 19'!F52,'Facility 20'!F52,'Facility 21'!F52,'Facility 22'!F52,'Facility 23'!F52,'Facility 24'!F52,'Facility 25'!F52,'Facility 26'!F52,'Facility 27'!F52,'Facility 28'!F52,'Facility 29'!F52,'Facility 30'!F52,'Facility 31'!F52,'Facility 32'!F52,'Facility 33'!F52,'Facility 34'!F52,'Facility 35'!F52,'Facility 36'!F52,'Facility 37'!F52,'Facility 38'!F52,'Facility 39'!F52,'Facility 40'!F52,'Facility 41'!F52,'Facility 42'!F52,'Facility 43'!F52,'Facility 44'!F52,'Facility 45'!F52,'Facility 46'!F52,'Facility 47'!F52,'Facility 48'!F52,'Facility 49'!F52,'Facility 50'!F52) -> 0 | F13: =SUM('Facility 1'!G52,'Facility 2'!G52,'Facility 3'!G52,'Facility 4'!G52,'Facility 5'!G52,'Facility 6'!G52,'Facility 7'!G52,'Facility 8'!G52,'Facility 9'!G52,'Facility 10'!G52,'Facility 11'!G52,'Facility 12'!G52,'Facility 13'!G52,'Facility 14'!G52,'Facility 15'!G52,'Facility 16'!G52,'Facility 17'!G52,'Facility 18'!G52,'Facility 19'!G52,'Facility 20'!G52,'Facility 21'!G52,'Facility 22'!G52,'Facility 23'!G52,'Facility 24'!G52,'Facility 25'!G52,'Facility 26'!G52,'Facility 27'!G52,'Facility 28'!G52,'Facility 29'!G52,'Facility 30'!G52,'Facility 31'!G52,'Facility 32'!G52,'Facility 33'!G52,'Facility 34'!G52,'Facility 35'!G52,'Facility 36'!G52,'Facility 37'!G52,'Facility 38'!G52,'Facility 39'!G52,'Facility 40'!G52,'Facility 41'!G52,'Facility 42'!G52,'Facility 43'!G52,'Facility 44'!G52,'Facility 45'!G52,'Facility 46'!G52,'Facility 47'!G52,'Facility 48'!G52,'Facility 49'!G52,'Facility 50'!G52) -> 0 | G13: =SUM('Facility 1'!H52,'Facility 2'!H52,'Facility 3'!H52,'Facility 4'!H52,'Facility 5'!H52,'Facility 6'!H52,'Facility 7'!H52,'Facility 8'!H52,'Facility 9'!H52,'Facility 10'!H52,'Facility 11'!H52,'Facility 12'!H52,'Facility 13'!H52,'Facility 14'!H52,'Facility 15'!H52,'Facility 16'!H52,'Facility 17'!H52,'Facility 18'!H52,'Facility 19'!H52,'Facility 20'!H52,'Facility 21'!H52,'Facility 22'!H52,'Facility 23'!H52,'Facility 24'!H52,'Facility 25'!H52,'Facility 26'!H52,'Facility 27'!H52,'Facility 28'!H52,'Facility 29'!H52,'Facility 30'!H52,'Facility 31'!H52,'Facility 32'!H52,'Facility 33'!H52,'Facility 34'!H52,'Facility 35'!H52,'Facility 36'!H52,'Facility 37'!H52,'Facility 38'!H52,'Facility 39'!H52,'Facility 40'!H52,'Facility 41'!H52,'Facility 42'!H52,'Facility 43'!H52,'Facility 44'!H52,'Facility 45'!H52,'Facility 46'!H52,'Facility 47'!H52,'Facility 48'!H52,'Facility 49'!H52,'Facility 50'!H52) -> 0 | H13: =SUM('Facility 1'!I52,'Facility 2'!I52,'Facility 3'!I52,'Facility 4'!I52,'Facility 5'!I52,'Facility 6'!I52,'Facility 7'!I52,'Facility 8'!I52,'Facility 9'!I52,'Facility 10'!I52,'Facility 11'!I52,'Facility 12'!I52,'Facility 13'!I52,'Facility 14'!I52,'Facility 15'!I52,'Facility 16'!I52,'Facility 17'!I52,'Facility 18'!I52,'Facility 19'!I52,'Facility 20'!I52,'Facility 21'!I52,'Facility 22'!I52,'Facility 23'!I52,'Facility 24'!I52,'Facility 25'!I52,'Facility 26'!I52,'Facility 27'!I52,'Facility 28'!I52,'Facility 29'!I52,'Facility 30'!I52,'Facility 31'!I52,'Facility 32'!I52,'Facility 33'!I52,'Facility 34'!I52,'Facility 35'!I52,'Facility 36'!I52,'Facility 37'!I52,'Facility 38'!I52,'Facility 39'!I52,'Facility 40'!I52,'Facility 41'!I52,'Facility 42'!I52,'Facility 43'!I52,'Facility 44'!I52,'Facility 45'!I52,'Facility 46'!I52,'Facility 47'!I52,'Facility 48'!I52,'Facility 49'!I52,'Facility 50'!I52) -> 0 | I13: =SUM('Facility 1'!J52,'Facility 2'!J52,'Facility 3'!J52,'Facility 4'!J52,'Facility 5'!J52,'Facility 6'!J52,'Facility 7'!J52,'Facility 8'!J52,'Facility 9'!J52,'Facility 10'!J52,'Facility 11'!J52,'Facility 12'!J52,'Facility 13'!J52,'Facility 14'!J52,'Facility 15'!J52,'Facility 16'!J52,'Facility 17'!J52,'Facility 18'!J52,'Facility 19'!J52,'Facility 20'!J52,'Facility 21'!J52,'Facility 22'!J52,'Facility 23'!J52,'Facility 24'!J52,'Facility 25'!J52,'Facility 26'!J52,'Facility 27'!J52,'Facility 28'!J52,'Facility 29'!J52,'Facility 30'!J52,'Facility 31'!J52,'Facility 32'!J52,'Facility 33'!J52,'Facility 34'!J52,'Facility 35'!J52,'Facility 36'!J52,'Facility 37'!J52,'Facility 38'!J52,'Facility 39'!J52,'Facility 40'!J52,'Facility 41'!J52,'Facility 42'!J52,'Facility 43'!J52,'Facility 44'!J52,'Facility 45'!J52,'Facility 46'!J52,'Facility 47'!J52,'Facility 48'!J52,'Facility 49'!J52,'Facility 50'!J52) -> 0
A14: 2023 | B14: =SUM('Facility 1'!C53,'Facility 2'!C53,'Facility 3'!C53,'Facility 4'!C53,'Facility 5'!C53,'Facility 6'!C53,'Facility 7'!C53,'Facility 8'!C53,'Facility 9'!C53,'Facility 10'!C53,'Facility 11'!C53,'Facility 12'!C53,'Facility 13'!C53,'Facility 14'!C53,'Facility 15'!C53,'Facility 16'!C53,'Facility 17'!C53,'Facility 18'!C53,'Facility 19'!C53,'Facility 20'!C53,'Facility 21'!C53,'Facility 22'!C53,'Facility 23'!C53,'Facility 24'!C53,'Facility 25'!C53,'Facility 26'!C53,'Facility 27'!C53,'Facility 28'!C53,'Facility 29'!C53,'Facility 30'!C53,'Facility 31'!C53,'Facility 32'!C53,'Facility 33'!C53,'Facility 34'!C53,'Facility 35'!C53,'Facility 36'!C53,'Facility 37'!C53,'Facility 38'!C53,'Facility 39'!C53,'Facility 40'!C53,'Facility 41'!C53,'Facility 42'!C53,'Facility 43'!C53,'Facility 44'!C53,'Facility 45'!C53,'Facility 46'!C53,'Facility 47'!C53,'Facility 48'!C53,'Facility 49'!C53,'Facility 50'!C53) -> 0 | C14: =SUM('Facility 1'!D53,'Facility 2'!D53,'Facility 3'!D53,'Facility 4'!D53,'Facility 5'!D53,'Facility 6'!D53,'Facility 7'!D53,'Facility 8'!D53,'Facility 9'!D53,'Facility 10'!D53,'Facility 11'!D53,'Facility 12'!D53,'Facility 13'!D53,'Facility 14'!D53,'Facility 15'!D53,'Facility 16'!D53,'Facility 17'!D53,'Facility 18'!D53,'Facility 19'!D53,'Facility 20'!D53,'Facility 21'!D53,'Facility 22'!D53,'Facility 23'!D53,'Facility 24'!D53,'Facility 25'!D53,'Facility 26'!D53,'Facility 27'!D53,'Facility 28'!D53,'Facility 29'!D53,'Facility 30'!D53,'Facility 31'!D53,'Facility 32'!D53,'Facility 33'!D53,'Facility 34'!D53,'Facility 35'!D53,'Facility 36'!D53,'Facility 37'!D53,'Facility 38'!D53,'Facility 39'!D53,'Facility 40'!D53,'Facility 41'!D53,'Facility 42'!D53,'Facility 43'!D53,'Facility 44'!D53,'Facility 45'!D53,'Facility 46'!D53,'Facility 47'!D53,'Facility 48'!D53,'Facility 49'!D53,'Facility 50'!D53) -> 0 | D14: =SUM('Facility 1'!E53,'Facility 2'!E53,'Facility 3'!E53,'Facility 4'!E53,'Facility 5'!E53,'Facility 6'!E53,'Facility 7'!E53,'Facility 8'!E53,'Facility 9'!E53,'Facility 10'!E53,'Facility 11'!E53,'Facility 12'!E53,'Facility 13'!E53,'Facility 14'!E53,'Facility 15'!E53,'Facility 16'!E53,'Facility 17'!E53,'Facility 18'!E53,'Facility 19'!E53,'Facility 20'!E53,'Facility 21'!E53,'Facility 22'!E53,'Facility 23'!E53,'Facility 24'!E53,'Facility 25'!E53,'Facility 26'!E53,'Facility 27'!E53,'Facility 28'!E53,'Facility 29'!E53,'Facility 30'!E53,'Facility 31'!E53,'Facility 32'!E53,'Facility 33'!E53,'Facility 34'!E53,'Facility 35'!E53,'Facility 36'!E53,'Facility 37'!E53,'Facility 38'!E53,'Facility 39'!E53,'Facility 40'!E53,'Facility 41'!E53,'Facility 42'!E53,'Facility 43'!E53,'Facility 44'!E53,'Facility 45'!E53,'Facility 46'!E53,'Facility 47'!E53,'Facility 48'!E53,'Facility 49'!E53,'Facility 50'!E53) -> 0 | E14: =SUM('Facility 1'!F53,'Facility 2'!F53,'Facility 3'!F53,'Facility 4'!F53,'Facility 5'!F53,'Facility 6'!F53,'Facility 7'!F53,'Facility 8'!F53,'Facility 9'!F53,'Facility 10'!F53,'Facility 11'!F53,'Facility 12'!F53,'Facility 13'!F53,'Facility 14'!F53,'Facility 15'!F53,'Facility 16'!F53,'Facility 17'!F53,'Facility 18'!F53,'Facility 19'!F53,'Facility 20'!F53,'Facility 21'!F53,'Facility 22'!F53,'Facility 23'!F53,'Facility 24'!F53,'Facility 25'!F53,'Facility 26'!F53,'Facility 27'!F53,'Facility 28'!F53,'Facility 29'!F53,'Facility 30'!F53,'Facility 31'!F53,'Facility 32'!F53,'Facility 33'!F53,'Facility 34'!F53,'Facility 35'!F53,'Facility 36'!F53,'Facility 37'!F53,'Facility 38'!F53,'Facility 39'!F53,'Facility 40'!F53,'Facility 41'!F53,'Facility 42'!F53,'Facility 43'!F53,'Facility 44'!F53,'Facility 45'!F53,'Facility 46'!F53,'Facility 47'!F53,'Facility 48'!F53,'Facility 49'!F53,'Facility 50'!F53) -> 0 | F14: =SUM('Facility 1'!G53,'Facility 2'!G53,'Facility 3'!G53,'Facility 4'!G53,'Facility 5'!G53,'Facility 6'!G53,'Facility 7'!G53,'Facility 8'!G53,'Facility 9'!G53,'Facility 10'!G53,'Facility 11'!G53,'Facility 12'!G53,'Facility 13'!G53,'Facility 14'!G53,'Facility 15'!G53,'Facility 16'!G53,'Facility 17'!G53,'Facility 18'!G53,'Facility 19'!G53,'Facility 20'!G53,'Facility 21'!G53,'Facility 22'!G53,'Facility 23'!G53,'Facility 24'!G53,'Facility 25'!G53,'Facility 26'!G53,'Facility 27'!G53,'Facility 28'!G53,'Facility 29'!G53,'Facility 30'!G53,'Facility 31'!G53,'Facility 32'!G53,'Facility 33'!G53,'Facility 34'!G53,'Facility 35'!G53,'Facility 36'!G53,'Facility 37'!G53,'Facility 38'!G53,'Facility 39'!G53,'Facility 40'!G53,'Facility 41'!G53,'Facility 42'!G53,'Facility 43'!G53,'Facility 44'!G53,'Facility 45'!G53,'Facility 46'!G53,'Facility 47'!G53,'Facility 48'!G53,'Facility 49'!G53,'Facility 50'!G53) -> 0 | G14: =SUM('Facility 1'!H53,'Facility 2'!H53,'Facility 3'!H53,'Facility 4'!H53,'Facility 5'!H53,'Facility 6'!H53,'Facility 7'!H53,'Facility 8'!H53,'Facility 9'!H53,'Facility 10'!H53,'Facility 11'!H53,'Facility 12'!H53,'Facility 13'!H53,'Facility 14'!H53,'Facility 15'!H53,'Facility 16'!H53,'Facility 17'!H53,'Facility 18'!H53,'Facility 19'!H53,'Facility 20'!H53,'Facility 21'!H53,'Facility 22'!H53,'Facility 23'!H53,'Facility 24'!H53,'Facility 25'!H53,'Facility 26'!H53,'Facility 27'!H53,'Facility 28'!H53,'Facility 29'!H53,'Facility 30'!H53,'Facility 31'!H53,'Facility 32'!H53,'Facility 33'!H53,'Facility 34'!H53,'Facility 35'!H53,'Facility 36'!H53,'Facility 37'!H53,'Facility 38'!H53,'Facility 39'!H53,'Facility 40'!H53,'Facility 41'!H53,'Facility 42'!H53,'Facility 43'!H53,'Facility 44'!H53,'Facility 45'!H53,'Facility 46'!H53,'Facility 47'!H53,'Facility 48'!H53,'Facility 49'!H53,'Facility 50'!H53) -> 0 | H14: =SUM('Facility 1'!I53,'Facility 2'!I53,'Facility 3'!I53,'Facility 4'!I53,'Facility 5'!I53,'Facility 6'!I53,'Facility 7'!I53,'Facility 8'!I53,'Facility 9'!I53,'Facility 10'!I53,'Facility 11'!I53,'Facility 12'!I53,'Facility 13'!I53,'Facility 14'!I53,'Facility 15'!I53,'Facility 16'!I53,'Facility 17'!I53,'Facility 18'!I53,'Facility 19'!I53,'Facility 20'!I53,'Facility 21'!I53,'Facility 22'!I53,'Facility 23'!I53,'Facility 24'!I53,'Facility 25'!I53,'Facility 26'!I53,'Facility 27'!I53,'Facility 28'!I53,'Facility 29'!I53,'Facility 30'!I53,'Facility 31'!I53,'Facility 32'!I53,'Facility 33'!I53,'Facility 34'!I53,'Facility 35'!I53,'Facility 36'!I53,'Facility 37'!I53,'Facility 38'!I53,'Facility 39'!I53,'Facility 40'!I53,'Facility 41'!I53,'Facility 42'!I53,'Facility 43'!I53,'Facility 44'!I53,'Facility 45'!I53,'Facility 46'!I53,'Facility 47'!I53,'Facility 48'!I53,'Facility 49'!I53,'Facility 50'!I53) -> 0 | I14: =SUM('Facility 1'!J53,'Facility 2'!J53,'Facility 3'!J53,'Facility 4'!J53,'Facility 5'!J53,'Facility 6'!J53,'Facility 7'!J53,'Facility 8'!J53,'Facility 9'!J53,'Facility 10'!J53,'Facility 11'!J53,'Facility 12'!J53,'Facility 13'!J53,'Facility 14'!J53,'Facility 15'!J53,'Facility 16'!J53,'Facility 17'!J53,'Facility 18'!J53,'Facility 19'!J53,'Facility 20'!J53,'Facility 21'!J53,'Facility 22'!J53,'Facility 23'!J53,'Facility 24'!J53,'Facility 25'!J53,'Facility 26'!J53,'Facility 27'!J53,'Facility 28'!J53,'Facility 29'!J53,'Facility 30'!J53,'Facility 31'!J53,'Facility 32'!J53,'Facility 33'!J53,'Facility 34'!J53,'Facility 35'!J53,'Facility 36'!J53,'Facility 37'!J53,'Facility 38'!J53,'Facility 39'!J53,'Facility 40'!J53,'Facility 41'!J53,'Facility 42'!J53,'Facility 43'!J53,'Facility 44'!J53,'Facility 45'!J53,'Facility 46'!J53,'Facility 47'!J53,'Facility 48'!J53,'Facility 49'!J53,'Facility 50'!J53) -> 0
A15: 2024 | B15: =SUM('Facility 1'!C54,'Facility 2'!C54,'Facility 3'!C54,'Facility 4'!C54,'Facility 5'!C54,'Facility 6'!C54,'Facility 7'!C54,'Facility 8'!C54,'Facility 9'!C54,'Facility 10'!C54,'Facility 11'!C54,'Facility 12'!C54,'Facility 13'!C54,'Facility 14'!C54,'Facility 15'!C54,'Facility 16'!C54,'Facility 17'!C54,'Facility 18'!C54,'Facility 19'!C54,'Facility 20'!C54,'Facility 21'!C54,'Facility 22'!C54,'Facility 23'!C54,'Facility 24'!C54,'Facility 25'!C54,'Facility 26'!C54,'Facility 27'!C54,'Facility 28'!C54,'Facility 29'!C54,'Facility 30'!C54,'Facility 31'!C54,'Facility 32'!C54,'Facility 33'!C54,'Facility 34'!C54,'Facility 35'!C54,'Facility 36'!C54,'Facility 37'!C54,'Facility 38'!C54,'Facility 39'!C54,'Facility 40'!C54,'Facility 41'!C54,'Facility 42'!C54,'Facility 43'!C54,'Facility 44'!C54,'Facility 45'!C54,'Facility 46'!C54,'Facility 47'!C54,'Facility 48'!C54,'Facility 49'!C54,'Facility 50'!C54) -> 0 | C15: =SUM('Facility 1'!D54,'Facility 2'!D54,'Facility 3'!D54,'Facility 4'!D54,'Facility 5'!D54,'Facility 6'!D54,'Facility 7'!D54,'Facility 8'!D54,'Facility 9'!D54,'Facility 10'!D54,'Facility 11'!D54,'Facility 12'!D54,'Facility 13'!D54,'Facility 14'!D54,'Facility 15'!D54,'Facility 16'!D54,'Facility 17'!D54,'Facility 18'!D54,'Facility 19'!D54,'Facility 20'!D54,'Facility 21'!D54,'Facility 22'!D54,'Facility 23'!D54,'Facility 24'!D54,'Facility 25'!D54,'Facility 26'!D54,'Facility 27'!D54,'Facility 28'!D54,'Facility 29'!D54,'Facility 30'!D54,'Facility 31'!D54,'Facility 32'!D54,'Facility 33'!D54,'Facility 34'!D54,'Facility 35'!D54,'Facility 36'!D54,'Facility 37'!D54,'Facility 38'!D54,'Facility 39'!D54,'Facility 40'!D54,'Facility 41'!D54,'Facility 42'!D54,'Facility 43'!D54,'Facility 44'!D54,'Facility 45'!D54,'Facility 46'!D54,'Facility 47'!D54,'Facility 48'!D54,'Facility 49'!D54,'Facility 50'!D54) -> 0 | D15: =SUM('Facility 1'!E54,'Facility 2'!E54,'Facility 3'!E54,'Facility 4'!E54,'Facility 5'!E54,'Facility 6'!E54,'Facility 7'!E54,'Facility 8'!E54,'Facility 9'!E54,'Facility 10'!E54,'Facility 11'!E54,'Facility 12'!E54,'Facility 13'!E54,'Facility 14'!E54,'Facility 15'!E54,'Facility 16'!E54,'Facility 17'!E54,'Facility 18'!E54,'Facility 19'!E54,'Facility 20'!E54,'Facility 21'!E54,'Facility 22'!E54,'Facility 23'!E54,'Facility 24'!E54,'Facility 25'!E54,'Facility 26'!E54,'Facility 27'!E54,'Facility 28'!E54,'Facility 29'!E54,'Facility 30'!E54,'Facility 31'!E54,'Facility 32'!E54,'Facility 33'!E54,'Facility 34'!E54,'Facility 35'!E54,'Facility 36'!E54,'Facility 37'!E54,'Facility 38'!E54,'Facility 39'!E54,'Facility 40'!E54,'Facility 41'!E54,'Facility 42'!E54,'Facility 43'!E54,'Facility 44'!E54,'Facility 45'!E54,'Facility 46'!E54,'Facility 47'!E54,'Facility 48'!E54,'Facility 49'!E54,'Facility 50'!E54) -> 0 | E15: =SUM('Facility 1'!F54,'Facility 2'!F54,'Facility 3'!F54,'Facility 4'!F54,'Facility 5'!F54,'Facility 6'!F54,'Facility 7'!F54,'Facility 8'!F54,'Facility 9'!F54,'Facility 10'!F54,'Facility 11'!F54,'Facility 12'!F54,'Facility 13'!F54,'Facility 14'!F54,'Facility 15'!F54,'Facility 16'!F54,'Facility 17'!F54,'Facility 18'!F54,'Facility 19'!F54,'Facility 20'!F54,'Facility 21'!F54,'Facility 22'!F54,'Facility 23'!F54,'Facility 24'!F54,'Facility 25'!F54,'Facility 26'!F54,'Facility 27'!F54,'Facility 28'!F54,'Facility 29'!F54,'Facility 30'!F54,'Facility 31'!F54,'Facility 32'!F54,'Facility 33'!F54,'Facility 34'!F54,'Facility 35'!F54,'Facility 36'!F54,'Facility 37'!F54,'Facility 38'!F54,'Facility 39'!F54,'Facility 40'!F54,'Facility 41'!F54,'Facility 42'!F54,'Facility 43'!F54,'Facility 44'!F54,'Facility 45'!F54,'Facility 46'!F54,'Facility 47'!F54,'Facility 48'!F54,'Facility 49'!F54,'Facility 50'!F54) -> 0 | F15: =SUM('Facility 1'!G54,'Facility 2'!G54,'Facility 3'!G54,'Facility 4'!G54,'Facility 5'!G54,'Facility 6'!G54,'Facility 7'!G54,'Facility 8'!G54,'Facility 9'!G54,'Facility 10'!G54,'Facility 11'!G54,'Facility 12'!G54,'Facility 13'!G54,'Facility 14'!G54,'Facility 15'!G54,'Facility 16'!G54,'Facility 17'!G54,'Facility 18'!G54,'Facility 19'!G54,'Facility 20'!G54,'Facility 21'!G54,'Facility 22'!G54,'Facility 23'!G54,'Facility 24'!G54,'Facility 25'!G54,'Facility 26'!G54,'Facility 27'!G54,'Facility 28'!G54,'Facility 29'!G54,'Facility 30'!G54,'Facility 31'!G54,'Facility 32'!G54,'Facility 33'!G54,'Facility 34'!G54,'Facility 35'!G54,'Facility 36'!G54,'Facility 37'!G54,'Facility 38'!G54,'Facility 39'!G54,'Facility 40'!G54,'Facility 41'!G54,'Facility 42'!G54,'Facility 43'!G54,'Facility 44'!G54,'Facility 45'!G54,'Facility 46'!G54,'Facility 47'!G54,'Facility 48'!G54,'Facility 49'!G54,'Facility 50'!G54) -> 0 | G15: =SUM('Facility 1'!H54,'Facility 2'!H54,'Facility 3'!H54,'Facility 4'!H54,'Facility 5'!H54,'Facility 6'!H54,'Facility 7'!H54,'Facility 8'!H54,'Facility 9'!H54,'Facility 10'!H54,'Facility 11'!H54,'Facility 12'!H54,'Facility 13'!H54,'Facility 14'!H54,'Facility 15'!H54,'Facility 16'!H54,'Facility 17'!H54,'Facility 18'!H54,'Facility 19'!H54,'Facility 20'!H54,'Facility 21'!H54,'Facility 22'!H54,'Facility 23'!H54,'Facility 24'!H54,'Facility 25'!H54,'Facility 26'!H54,'Facility 27'!H54,'Facility 28'!H54,'Facility 29'!H54,'Facility 30'!H54,'Facility 31'!H54,'Facility 32'!H54,'Facility 33'!H54,'Facility 34'!H54,'Facility 35'!H54,'Facility 36'!H54,'Facility 37'!H54,'Facility 38'!H54,'Facility 39'!H54,'Facility 40'!H54,'Facility 41'!H54,'Facility 42'!H54,'Facility 43'!H54,'Facility 44'!H54,'Facility 45'!H54,'Facility 46'!H54,'Facility 47'!H54,'Facility 48'!H54,'Facility 49'!H54,'Facility 50'!H54) -> 0 | H15: =SUM('Facility 1'!I54,'Facility 2'!I54,'Facility 3'!I54,'Facility 4'!I54,'Facility 5'!I54,'Facility 6'!I54,'Facility 7'!I54,'Facility 8'!I54,'Facility 9'!I54,'Facility 10'!I54,'Facility 11'!I54,'Facility 12'!I54,'Facility 13'!I54,'Facility 14'!I54,'Facility 15'!I54,'Facility 16'!I54,'Facility 17'!I54,'Facility 18'!I54,'Facility 19'!I54,'Facility 20'!I54,'Facility 21'!I54,'Facility 22'!I54,'Facility 23'!I54,'Facility 24'!I54,'Facility 25'!I54,'Facility 26'!I54,'Facility 27'!I54,'Facility 28'!I54,'Facility 29'!I54,'Facility 30'!I54,'Facility 31'!I54,'Facility 32'!I54,'Facility 33'!I54,'Facility 34'!I54,'Facility 35'!I54,'Facility 36'!I54,'Facility 37'!I54,'Facility 38'!I54,'Facility 39'!I54,'Facility 40'!I54,'Facility 41'!I54,'Facility 42'!I54,'Facility 43'!I54,'Facility 44'!I54,'Facility 45'!I54,'Facility 46'!I54,'Facility 47'!I54,'Facility 48'!I54,'Facility 49'!I54,'Facility 50'!I54) -> 0 | I15: =SUM('Facility 1'!J54,'Facility 2'!J54,'Facility 3'!J54,'Facility 4'!J54,'Facility 5'!J54,'Facility 6'!J54,'Facility 7'!J54,'Facility 8'!J54,'Facility 9'!J54,'Facility 10'!J54,'Facility 11'!J54,'Facility 12'!J54,'Facility 13'!J54,'Facility 14'!J54,'Facility 15'!J54,'Facility 16'!J54,'Facility 17'!J54,'Facility 18'!J54,'Facility 19'!J54,'Facility 20'!J54,'Facility 21'!J54,'Facility 22'!J54,'Facility 23'!J54,'Facility 24'!J54,'Facility 25'!J54,'Facility 26'!J54,'Facility 27'!J54,'Facility 28'!J54,'Facility 29'!J54,'Facility 30'!J54,'Facility 31'!J54,'Facility 32'!J54,'Facility 33'!J54,'Facility 34'!J54,'Facility 35'!J54,'Facility 36'!J54,'Facility 37'!J54,'Facility 38'!J54,'Facility 39'!J54,'Facility 40'!J54,'Facility 41'!J54,'Facility 42'!J54,'Facility 43'!J54,'Facility 44'!J54,'Facility 45'!J54,'Facility 46'!J54,'Facility 47'!J54,'Facility 48'!J54,'Facility 49'!J54,'Facility 50'!J54) -> 0
A16: 2025 | B16: =SUM('Facility 1'!C55,'Facility 2'!C55,'Facility 3'!C55,'Facility 4'!C55,'Facility 5'!C55,'Facility 6'!C55,'Facility 7'!C55,'Facility 8'!C55,'Facility 9'!C55,'Facility 10'!C55,'Facility 11'!C55,'Facility 12'!C55,'Facility 13'!C55,'Facility 14'!C55,'Facility 15'!C55,'Facility 16'!C55,'Facility 17'!C55,'Facility 18'!C55,'Facility 19'!C55,'Facility 20'!C55,'Facility 21'!C55,'Facility 22'!C55,'Facility 23'!C55,'Facility 24'!C55,'Facility 25'!C55,'Facility 26'!C55,'Facility 27'!C55,'Facility 28'!C55,'Facility 29'!C55,'Facility 30'!C55,'Facility 31'!C55,'Facility 32'!C55,'Facility 33'!C55,'Facility 34'!C55,'Facility 35'!C55,'Facility 36'!C55,'Facility 37'!C55,'Facility 38'!C55,'Facility 39'!C55,'Facility 40'!C55,'Facility 41'!C55,'Facility 42'!C55,'Facility 43'!C55,'Facility 44'!C55,'Facility 45'!C55,'Facility 46'!C55,'Facility 47'!C55,'Facility 48'!C55,'Facility 49'!C55,'Facility 50'!C55) -> 0 | C16: =SUM('Facility 1'!D55,'Facility 2'!D55,'Facility 3'!D55,'Facility 4'!D55,'Facility 5'!D55,'Facility 6'!D55,'Facility 7'!D55,'Facility 8'!D55,'Facility 9'!D55,'Facility 10'!D55,'Facility 11'!D55,'Facility 12'!D55,'Facility 13'!D55,'Facility 14'!D55,'Facility 15'!D55,'Facility 16'!D55,'Facility 17'!D55,'Facility 18'!D55,'Facility 19'!D55,'Facility 20'!D55,'Facility 21'!D55,'Facility 22'!D55,'Facility 23'!D55,'Facility 24'!D55,'Facility 25'!D55,'Facility 26'!D55,'Facility 27'!D55,'Facility 28'!D55,'Facility 29'!D55,'Facility 30'!D55,'Facility 31'!D55,'Facility 32'!D55,'Facility 33'!D55,'Facility 34'!D55,'Facility 35'!D55,'Facility 36'!D55,'Facility 37'!D55,'Facility 38'!D55,'Facility 39'!D55,'Facility 40'!D55,'Facility 41'!D55,'Facility 42'!D55,'Facility 43'!D55,'Facility 44'!D55,'Facility 45'!D55,'Facility 46'!D55,'Facility 47'!D55,'Facility 48'!D55,'Facility 49'!D55,'Facility 50'!D55) -> 0 | D16: =SUM('Facility 1'!E55,'Facility 2'!E55,'Facility 3'!E55,'Facility 4'!E55,'Facility 5'!E55,'Facility 6'!E55,'Facility 7'!E55,'Facility 8'!E55,'Facility 9'!E55,'Facility 10'!E55,'Facility 11'!E55,'Facility 12'!E55,'Facility 13'!E55,'Facility 14'!E55,'Facility 15'!E55,'Facility 16'!E55,'Facility 17'!E55,'Facility 18'!E55,'Facility 19'!E55,'Facility 20'!E55,'Facility 21'!E55,'Facility 22'!E55,'Facility 23'!E55,'Facility 24'!E55,'Facility 25'!E55,'Facility 26'!E55,'Facility 27'!E55,'Facility 28'!E55,'Facility 29'!E55,'Facility 30'!E55,'Facility 31'!E55,'Facility 32'!E55,'Facility 33'!E55,'Facility 34'!E55,'Facility 35'!E55,'Facility 36'!E55,'Facility 37'!E55,'Facility 38'!E55,'Facility 39'!E55,'Facility 40'!E55,'Facility 41'!E55,'Facility 42'!E55,'Facility 43'!E55,'Facility 44'!E55,'Facility 45'!E55,'Facility 46'!E55,'Facility 47'!E55,'Facility 48'!E55,'Facility 49'!E55,'Facility 50'!E55) -> 0 | E16: =SUM('Facility 1'!F55,'Facility 2'!F55,'Facility 3'!F55,'Facility 4'!F55,'Facility 5'!F55,'Facility 6'!F55,'Facility 7'!F55,'Facility 8'!F55,'Facility 9'!F55,'Facility 10'!F55,'Facility 11'!F55,'Facility 12'!F55,'Facility 13'!F55,'Facility 14'!F55,'Facility 15'!F55,'Facility 16'!F55,'Facility 17'!F55,'Facility 18'!F55,'Facility 19'!F55,'Facility 20'!F55,'Facility 21'!F55,'Facility 22'!F55,'Facility 23'!F55,'Facility 24'!F55,'Facility 25'!F55,'Facility 26'!F55,'Facility 27'!F55,'Facility 28'!F55,'Facility 29'!F55,'Facility 30'!F55,'Facility 31'!F55,'Facility 32'!F55,'Facility 33'!F55,'Facility 34'!F55,'Facility 35'!F55,'Facility 36'!F55,'Facility 37'!F55,'Facility 38'!F55,'Facility 39'!F55,'Facility 40'!F55,'Facility 41'!F55,'Facility 42'!F55,'Facility 43'!F55,'Facility 44'!F55,'Facility 45'!F55,'Facility 46'!F55,'Facility 47'!F55,'Facility 48'!F55,'Facility 49'!F55,'Facility 50'!F55) -> 0 | F16: =SUM('Facility 1'!G55,'Facility 2'!G55,'Facility 3'!G55,'Facility 4'!G55,'Facility 5'!G55,'Facility 6'!G55,'Facility 7'!G55,'Facility 8'!G55,'Facility 9'!G55,'Facility 10'!G55,'Facility 11'!G55,'Facility 12'!G55,'Facility 13'!G55,'Facility 14'!G55,'Facility 15'!G55,'Facility 16'!G55,'Facility 17'!G55,'Facility 18'!G55,'Facility 19'!G55,'Facility 20'!G55,'Facility 21'!G55,'Facility 22'!G55,'Facility 23'!G55,'Facility 24'!G55,'Facility 25'!G55,'Facility 26'!G55,'Facility 27'!G55,'Facility 28'!G55,'Facility 29'!G55,'Facility 30'!G55,'Facility 31'!G55,'Facility 32'!G55,'Facility 33'!G55,'Facility 34'!G55,'Facility 35'!G55,'Facility 36'!G55,'Facility 37'!G55,'Facility 38'!G55,'Facility 39'!G55,'Facility 40'!G55,'Facility 41'!G55,'Facility 42'!G55,'Facility 43'!G55,'Facility 44'!G55,'Facility 45'!G55,'Facility 46'!G55,'Facility 47'!G55,'Facility 48'!G55,'Facility 49'!G55,'Facility 50'!G55) -> 0 | G16: =SUM('Facility 1'!H55,'Facility 2'!H55,'Facility 3'!H55,'Facility 4'!H55,'Facility 5'!H55,'Facility 6'!H55,'Facility 7'!H55,'Facility 8'!H55,'Facility 9'!H55,'Facility 10'!H55,'Facility 11'!H55,'Facility 12'!H55,'Facility 13'!H55,'Facility 14'!H55,'Facility 15'!H55,'Facility 16'!H55,'Facility 17'!H55,'Facility 18'!H55,'Facility 19'!H55,'Facility 20'!H55,'Facility 21'!H55,'Facility 22'!H55,'Facility 23'!H55,'Facility 24'!H55,'Facility 25'!H55,'Facility 26'!H55,'Facility 27'!H55,'Facility 28'!H55,'Facility 29'!H55,'Facility 30'!H55,'Facility 31'!H55,'Facility 32'!H55,'Facility 33'!H55,'Facility 34'!H55,'Facility 35'!H55,'Facility 36'!H55,'Facility 37'!H55,'Facility 38'!H55,'Facility 39'!H55,'Facility 40'!H55,'Facility 41'!H55,'Facility 42'!H55,'Facility 43'!H55,'Facility 44'!H55,'Facility 45'!H55,'Facility 46'!H55,'Facility 47'!H55,'Facility 48'!H55,'Facility 49'!H55,'Facility 50'!H55) -> 0 | H16: =SUM('Facility 1'!I55,'Facility 2'!I55,'Facility 3'!I55,'Facility 4'!I55,'Facility 5'!I55,'Facility 6'!I55,'Facility 7'!I55,'Facility 8'!I55,'Facility 9'!I55,'Facility 10'!I55,'Facility 11'!I55,'Facility 12'!I55,'Facility 13'!I55,'Facility 14'!I55,'Facility 15'!I55,'Facility 16'!I55,'Facility 17'!I55,'Facility 18'!I55,'Facility 19'!I55,'Facility 20'!I55,'Facility 21'!I55,'Facility 22'!I55,'Facility 23'!I55,'Facility 24'!I55,'Facility 25'!I55,'Facility 26'!I55,'Facility 27'!I55,'Facility 28'!I55,'Facility 29'!I55,'Facility 30'!I55,'Facility 31'!I55,'Facility 32'!I55,'Facility 33'!I55,'Facility 34'!I55,'Facility 35'!I55,'Facility 36'!I55,'Facility 37'!I55,'Facility 38'!I55,'Facility 39'!I55,'Facility 40'!I55,'Facility 41'!I55,'Facility 42'!I55,'Facility 43'!I55,'Facility 44'!I55,'Facility 45'!I55,'Facility 46'!I55,'Facility 47'!I55,'Facility 48'!I55,'Facility 49'!I55,'Facility 50'!I55) -> 0 | I16: =SUM('Facility 1'!J55,'Facility 2'!J55,'Facility 3'!J55,'Facility 4'!J55,'Facility 5'!J55,'Facility 6'!J55,'Facility 7'!J55,'Facility 8'!J55,'Facility 9'!J55,'Facility 10'!J55,'Facility 11'!J55,'Facility 12'!J55,'Facility 13'!J55,'Facility 14'!J55,'Facility 15'!J55,'Facility 16'!J55,'Facility 17'!J55,'Facility 18'!J55,'Facility 19'!J55,'Facility 20'!J55,'Facility 21'!J55,'Facility 22'!J55,'Facility 23'!J55,'Facility 24'!J55,'Facility 25'!J55,'Facility 26'!J55,'Facility 27'!J55,'Facility 28'!J55,'Facility 29'!J55,'Facility 30'!J55,'Facility 31'!J55,'Facility 32'!J55,'Facility 33'!J55,'Facility 34'!J55,'Facility 35'!J55,'Facility 36'!J55,'Facility 37'!J55,'Facility 38'!J55,'Facility 39'!J55,'Facility 40'!J55,'Facility 41'!J55,'Facility 42'!J55,'Facility 43'!J55,'Facility 44'!J55,'Facility 45'!J55,'Facility 46'!J55,'Facility 47'!J55,'Facility 48'!J55,'Facility 49'!J55,'Facility 50'!J55) -> 0

Sheet Sample Facility
A1: FY20-21 P2 and SRA Grants Template 3: Facility-Level Reporting for Broadly-Provided Technical Assistance (Training, Webinars, Etc.)
A2: FACILITY 1
A4: How to Use this Tab: | B4: 1. Under "Facility Information," enter data in Rows 10-19 for a facility that attended a training, webinar or roundtable and then implemented a P2 action a result of attending. On Row 11: Enter any EPA program Facility ID or look up the EPA Registry (facility) ID on https://www.epa.gov/frs. The Row 18 date is the date when the training, webinar or roundtable occurred, and the Row 19 date is when you followed up to determine they implemented a P2 action as a result of attending. 2. Under "P2 Actions and Outcomes," enter each P2 action implemented by the facility as a result of attending the broadly-provided technical assistance. Enter each P2 action implemented on a separate row, beginning in Row 25. In Column B, select the federal Fiscal Year (the Oct. 1 - Sept. 30 period) when the attending facility implemented the P2 action. In Columns C - J, enter the cost, annual savings and outcome values associated with the implemented P2 action. For calculating MTCO2e and water pollution, see the section in the “Getting Started” Tab on “Calculating Outcomes in the Facility Tabs.” Please note: Values in Columns C - J for a recommendation row will tally in the Total rows on this sheet and in the "Aggregate Results" Tab only if Row 19 has a date entered and Column B has a Fiscal Year selected. 3. The cell will be highlighted yellow if your response is different than the expected input type (e.g., letters instead of numbers). Delete the response and re-enter in the appropriate format to remove the highlighting.
A6: Grant Recipient: | B6: =IF('Grant Project Data'!B6<>"",'Grant Project Data'!B6,"")
A7: Grant Project Number: | B7: =IF('Grant Project Data'!B7<>"",'Grant Project Data'!B7,"")
A9: Facility Information (Only a business if a P2 Grant)
A10: Facility Name (optional) | B10: xx
A11: EPA Facility ID Number (optional) | B11: xx
A12: Facility Contact (optional) | B12: xx
A13: Facility City (optional) | B13: xx
A14: Facility State (2-letter Abbreviation) | B14: VA
A15: EPA Region Where Facility is Located | B15: Region 3
A16: Facility NAICS Code (6 Digits) | B16: xxxxxx
A17: NEA for this Facility | B17: NEA 3 – Automotive Manufacturing and Maintenance
A18: Date of Broadly-Provided Technical Assistance (Training, etc.) (MM/DD/YYYY) | B18: 43891
A19: Date(s) of Follow-up (MM/DD/YYYY) | B19: 43922 | H19: =IF(AND(COUNTA(B19:G19)=0,COUNTA(B25:B48)>0),"<< Please enter the date(s) the participant reported the actions listed below.","")
A21: P2 Actions and Outcomes
A22: List each P2 recommendation provided to the facility on a separate line. Include the what, the how, and "quantity" information if that is needed to calculate cost, savings and annual reductions, e.g., # LEDs, # solar panels.
A23: P2 Actions Implemented | C23: $ | E23: Annual Reductions
B24: Fiscal Year Implemented (October 1 - September 30) | C24: One-time Cost to Implement ($) | D24: Annual Savings From P2 Action ($) | E24: Hazardous Material Input (lbs) | F24: Hazardous Waste (lbs) | G24: Air Emissions (lbs) | H24: Water Pollution (lbs) Select header for help | I24: MTCO2e Emissions (metric tons) | J24: Water Use (gal.)
A25: Ex. Reduced water use for cleaning (in coating dept.) by using LVHP spray nozzles and worker training. | B25: 2020 | J25: 9000000
A26: Ex. Reduced paint and solvent use, and thus reduce VOC emissions to water, by installing electrostatic painting equip. & using infrared curing. | B26: 2020 | H26: 13600
A27: Ex. Installed solar array. | B27: 2021 | I27: 1326
A49: TOTAL IMPLEMENTED | C49: =SUM(C50:C55) -> 0 | D49: =SUM(D50:D55) -> 0 | E49: =SUM(E50:E55) -> 0 | F49: =SUM(F50:F55) -> 0 | G49: =SUM(G50:G55) -> 0 | H49: =SUM(H50:H55) -> 13600 | I49: =SUM(I50:I55) -> 1326 | J49: =SUM(J50:J55) -> 9000000 | K49: =COUNTA(B10:G19,A25:J48) -> 19
A50: TOTAL IMPLEMENTED 2020 | C50: =IF($K$51=TRUE,SUMIF($B$25:$B$48,RIGHT($A50,4),C$25:C$48),0) -> 0 | D50: =IF($K$51=TRUE,SUMIF($B$25:$B$48,RIGHT($A50,4),D$25:D$48),0) -> 0 | E50: =IF($K$51=TRUE,SUMIF($B$25:$B$48,RIGHT($A50,4),E$25:E$48),0) -> 0 | F50: =IF($K$51=TRUE,SUMIF($B$25:$B$48,RIGHT($A50,4),F$25:F$48),0) -> 0 | G50: =IF($K$51=TRUE,SUMIF($B$25:$B$48,RIGHT($A50,4),G$25:G$48),0) -> 0 | H50: =IF($K$51=TRUE,SUMIF($B$25:$B$48,RIGHT($A50,4),H$25:H$48),0) -> 13600 | I50: =IF($K$51=TRUE,SUMIF($B$25:$B$48,RIGHT($A50,4),I$25:I$48),0) -> 0 | J50: =IF($K$51=TRUE,SUMIF($B$25:$B$48,RIGHT($A50,4),J$25:J$48),0) -> 9000000 | K50: =IF(AND($K$52=TRUE,$K$51=FALSE)," << The totals will not display until you enter date(s) in row 19 above."&CHAR(10),"")
