Workbook
Name Periods: OFFSET(Lists!$O$2,0,0,SUMPRODUCT(--(Lists!$O$2:$O$1430<>"")),1)
Name Samplers: OFFSET(Lists!$K$2,0,0,SUMPRODUCT(--(Lists!$K$2:$K$2101<>"")),1)
Name Sites: OFFSET(Lists!$C$2,0,0,SUMPRODUCT(--(Lists!$C$2:$C$11<>"")),1)

Sheet Welcome
A1: DO NOT REMOVE OR EDIT INFORMATION IN ROWS 1 THORUGH 5 FOR INTERNAL USE ONLY
A2: Template Name | B2: 63.311(j) Fenceline Monitoring Report
A3: CitationID | B3: 63.311(j)
A4: Template Version | B4: v1.00
A5: Last Updated Date | B5: 45483
B6: OMB No.: 2060-0253 Form 5900-619
B7: For further Paperwork Reduction Act information see: https://www.epa.gov/electronic-reporting-air-emissions/paperwork-reduction-act-pra-cedri-and-ert
B9: 40 CFR Part 63, Subpart L - National Emission Standards for for Coke Oven Batteries
B10: §63.311(j) Fenceline Monitoring Report Spreadsheet Template
B11: Instructions for Spreadsheet Template
B12: Purpose: This spreadsheet template was designed by the U.S. EPA to facilitate quarterly reporting for affected facilities subject under 40 CFR part 63, subpart L National Emission Standards for Coke Oven Batteries.
B13: Electronic reporting: Electronic submission of quarterly fenceline monitoring reports through the EPA's Compliance and Emissions Data Reporting (CEDRI) is required under §63.311(j). CEDRI is accessed through the EPA's Central Data Exchange (https://cdx.epa.gov).
B14: Confidential Business Information:
B15: Do not submit confidential business information (CBI) to EPA via CEDRI. EPA will make all the information submitted through this form via CEDRI available to the public without further notice to you. All CBI claims must be asserted at the time of submission. Anything submitted using CEDRI cannot later be claimed to be CBI. Furthermore, under CAA section 114(c) emissions data is not entitled to confidential treatment, and EPA is required to make emissions data available to the public. Thus, emissions data will not be protected as CBI and will be made publicly available.
B16: Although we do not expect persons to assert a claim of CBI, if persons wish to assert a CBI claim for some of the information in this report, you must submit a version of the report with the CBI omitted via CEDRI and submit a complete report, including any information claimed to be CBI, to EPA. The preferred method to receive CBI is for it to be transmitted electronically using email attachments, File Transfer Protocol, or other online file sharing services. Electronic submissions must be transmitted directly to the OAQPS CBI Office at the email address oaqpscbi@epa.gov to the attention of the Coke Ovens Sector Lead. If assistance is needed with submitting large electronic files that exceed the file size limit for email attachments, and if you do not have your own file sharing service, please email oaqpscbi@epa.gov to request a file transfer link. If you cannot transmit the file electronically, you may send CBI information through the postal service to the following address:
B17: OAQPS Document Control Officer (C404-02) OAQPS, U.S. Environmental Protection Agency Attn: Coke Ovens Sector Lead Research Triangle Park, North Carolina 27711
B18: The mailed CBI material should be double wrapped and clearly marked. Any CBI markings should not show through the outer envelope. Clearly mark the part or all of the information that you claim to be CBI. Information not marked as CBI may be authorized for public release without prior notice. Information marked as CBI will not be disclosed except in accordance with procedures set forth in 40 CFR part 2.
... B26: Within each worksheet, example rows are colored light orange (rows 14 through 23), and the XML tag row (row 13) is colored green. These rows are locked; no data entry is made in these rows.

Sheet Company_Information
B1: DO NOT REMOVE OR EDIT INFORMATION IN ROWS 1 THORUGH 5 FOR INTERNAL USE ONLY
B2: =Welcome!A2 -> Template Name | C2: =Welcome!B2 -> 63.311(j) Fenceline Monitoring Report
B3: =Welcome!A3 -> CitationID | C3: =Welcome!B3 -> 63.311(j)
B4: =Welcome!A4 -> Template Version | C4: =Welcome!B4 -> v1.00
B5: =Welcome!A5 -> Last Updated Date | C5: =Welcome!B5 -> 45483
B7: 40 CFR Part 63, Subpart L - National Emission Standards for Coke Ovens - Quarterly Fenceline Monitoring Report
B8: (j) For fenceline monitoring systems subject to § 63.314 of this subpart, each owner or operator must submit Fenceline Monitoring Reports on a quarterly basis.
B9: (1) Facility name and address (including the county). (2) Year and reporting quarter (i.e., Quarter 1, Quarter 2, Quarter 3, or Quarter 4).
B10: Note: The Company Record No. will automatically generate if you do not enter one.
B11: SITE INFORMATION | K11: REPORTING PERIOD | M11: ADDITIONAL INFORMATION
B12: Company Record No. (Each row must have a unique value.) | C12: Facility Name (§63.311(j)(1)) | D12: Address (§63.311(j)(1)) | E12: Address 2 | F12: City (§63.311(j)(1)) | G12: County (§63.311(j)(1)) | H12: State Abbreviation (§63.311(j)(1)) (Select from dropdown list) | I12: Zip Code (§63.311(j)(1)) | J12: Responsible Agency Facility ID (State Facility Identifier) | K12: Sampling Year (§63.311(j)(2)) | L12: Sampling Quarter (§63.311(j)(2)) (Select from dropdown list) | M12: Please enter any additional information. | N12: Enter associated file name reference.
B13: RecordId | C13: CompanyName | D13: AddressLine1 | E13: AddressLine2 | F13: CityName | G13: CountyName | H13: StateName | I13: ZipCode | J13: StateFacId | K13: SamplingYr | L13: SamplingQrt | M13: AddInfo | N13: AddFile
B14: e.g.: 1 | C14: e.g.: ABC Company | D14: e.g.: 123 Main Street | E14: e.g.: Suite 101 | F14: e.g.: Brooklyn | G14: e.g.: Kings | H14: e.g.: NY | I14: e.g.: 11221 | J14: e.g.: AI 725647 | K14: e.g.: 2024 | L14: e.g.: Quarter 4 | M14: e.g.: | N14: e.g.: addlinfo.zip
B15: e.g.: | C15: e.g.: | D15: e.g.: | E15: e.g.: | F15: e.g.: | G15: e.g.: | H15: e.g.: | I15: e.g.: | J15: e.g.: | K15: e.g.: | L15: e.g.: | M15: e.g.: | N15: e.g.:
B16: e.g.: | C16: e.g.: | D16: e.g.: | E16: e.g.: | F16: e.g.: | G16: e.g.: | H16: e.g.: | I16: e.g.: | J16: e.g.: | K16: e.g.: | L16: e.g.: | M16: e.g.: | N16: e.g.:
B17: e.g.: | C17: e.g.: | D17: e.g.: | E17: e.g.: | F17: e.g.: | G17: e.g.: | H17: e.g.: | I17: e.g.: | J17: e.g.: | K17: e.g.: | L17: e.g.: | M17: e.g.: | N17: e.g.:
B18: e.g.: | C18: e.g.: | D18: e.g.: | E18: e.g.: | F18: e.g.: | G18: e.g.: | H18: e.g.: | I18: e.g.: | J18: e.g.: | K18: e.g.: | L18: e.g.: | M18: e.g.: | N18: e.g.:
B19: e.g.: | C19: e.g.: | D19: e.g.: | E19: e.g.: | F19: e.g.: | G19: e.g.: | H19: e.g.: | I19: e.g.: | J19: e.g.: | K19: e.g.: | L19: e.g.: | M19: e.g.: | N19: e.g.:
B20: e.g.: | C20: e.g.: | D20: e.g.: | E20: e.g.: | F20: e.g.: | G20: e.g.: | H20: e.g.: | I20: e.g.: | J20: e.g.: | K20: e.g.: | L20: e.g.: | M20: e.g.: | N20: e.g.:
B21: e.g.: | C21: e.g.: | D21: e.g.: | E21: e.g.: | F21: e.g.: | G21: e.g.: | H21: e.g.: | I21: e.g.: | J21: e.g.: | K21: e.g.: | L21: e.g.: | M21: e.g.: | N21: e.g.:
B22: e.g.: | C22: e.g.: | D22: e.g.: | E22: e.g.: | F22: e.g.: | G22: e.g.: | H22: e.g.: | I22: e.g.: | J22: e.g.: | K22: e.g.: | L22: e.g.: | M22: e.g.: | N22: e.g.:
B23: e.g.: | C23: e.g.: | D23: e.g.: | E23: e.g.: | F23: e.g.: | G23: e.g.: | H23: e.g.: | I23: e.g.: | J23: e.g.: | K23: e.g.: | L23: e.g.: | M23: e.g.: | N23: e.g.:
B24: =IF(Table1[[#This Row],[Facility Name (§63.311(j)(1))]]="","",ROW(B24)-23)
B25: =IF(Table1[[#This Row],[Facility Name (§63.311(j)(1))]]="","",ROW(B25)-23)
B26: =IF(Table1[[#This Row],[Facility Name (§63.311(j)(1))]]="","",ROW(B26)-23)
B27: =IF(Table1[[#This Row],[Facility Name (§63.311(j)(1))]]="","",ROW(B27)-23)
B28: =IF(Table1[[#This Row],[Facility Name (§63.311(j)(1))]]="","",ROW(B28)-23)
B29: =IF(Table1[[#This Row],[Facility Name (§63.311(j)(1))]]="","",ROW(B29)-23)
B30: =IF(Table1[[#This Row],[Facility Name (§63.311(j)(1))]]="","",ROW(B30)-23)
B31: =IF(Table1[[#This Row],[Facility Name (§63.311(j)(1))]]="","",ROW(B31)-23)
B32: =IF(Table1[[#This Row],[Facility Name (§63.311(j)(1))]]="","",ROW(B32)-23)
B33: =IF(Table1[[#This Row],[Facility Name (§63.311(j)(1))]]="","",ROW(B33)-23)

Sheet Sampler_Information
B1: DO NOT REMOVE OR EDIT INFORMATION IN ROWS 1 THORUGH 5 FOR INTERNAL USE ONLY
B2: =Welcome!A2 -> Template Name | C2: =Welcome!B2 -> 63.311(j) Fenceline Monitoring Report
B3: =Welcome!A3 -> CitationID | C3: =Welcome!B3 -> 63.311(j)
B4: =Welcome!A4 -> Template Version | C4: =Welcome!B4 -> v1.00
B5: =Welcome!A5 -> Last Updated Date | C5: =Welcome!B5 -> 45483
B7: =Company_Information!B7 -> 40 CFR Part 63, Subpart L - National Emission Standards for Coke Ovens - Quarterly Fenceline Monitoring Report
B8: (3) For each passive tube monitor: The latitude and longitude location coordinates; the sampler name; and identification of the type of sampler
B9: (i.e., regular monitor, extra monitor, duplicate, field blank, inactive). Coordinates must be in decimal degrees with at least five decimal places.
B11: Note: Company Record No. selections will appear once information is entered onto the Company _Information tab.
B12: Company Record No. (Select from dropdown list) | C12: Sampler Name (§63.311(j)(3)) | D12: Latitude of Passive Sampler in Decimal Degree (at least five decimal places) (§63.311(j)(3)) | E12: Longitude of Passive Sampler in Decimal Degree (at least five decimal places) (§63.311(j)(3)) | F12: Passive Sampler Type (§63.311(j)(3)) (Select from dropdown list) | G12: Comments
B13: RecordId | C13: SamplerName | D13: SamplerLat | E13: SamplerLong | F13: SamplerType | G13: SamplerComments
B14: e.g.: 1 | C14: e.g.: PS 1 | D14: e.g.: 31.12345 | E14: e.g.: -101.12345 | F14: e.g.: regular monitor | G14: e.g.:
B15: e.g.: | C15: e.g.: | D15: e.g.: | E15: e.g.: | F15: e.g.: | G15: e.g.:
B16: e.g.: | C16: e.g.: | D16: e.g.: | E16: e.g.: | F16: e.g.: | G16: e.g.:
B17: e.g.: | C17: e.g.: | D17: e.g.: | E17: e.g.: | F17: e.g.: | G17: e.g.:
B18: e.g.: | C18: e.g.: | D18: e.g.: | E18: e.g.: | F18: e.g.: | G18: e.g.:
B19: e.g.: | C19: e.g.: | D19: e.g.: | E19: e.g.: | F19: e.g.: | G19: e.g.:
B20: e.g.: | C20: e.g.: | D20: e.g.: | E20: e.g.: | F20: e.g.: | G20: e.g.:
B21: e.g.: | C21: e.g.: | D21: e.g.: | E21: e.g.: | F21: e.g.: | G21: e.g.:
B22: e.g.: | C22: e.g.: | D22: e.g.: | E22: e.g.: | F22: e.g.: | G22: e.g.:
B23: e.g.: | C23: e.g.: | D23: e.g.: | E23: e.g.: | F23: e.g.: | G23: e.g.:

Sheet Sample_Periods
B1: =Welcome!A1 -> DO NOT REMOVE OR EDIT INFORMATION IN ROWS 1 THORUGH 5 FOR INTERNAL USE ONLY
B2: =Welcome!A2 -> Template Name | C2: =Welcome!B2 -> 63.311(j) Fenceline Monitoring Report
B3: =Welcome!A3 -> CitationID | C3: =Welcome!B3 -> 63.311(j)
B4: =Welcome!A4 -> Template Version | C4: =Welcome!B4 -> v1.00
B5: =Welcome!A5 -> Last Updated Date | C5: =Welcome!B5 -> 45483
B7: =Company_Information!B7 -> 40 CFR Part 63, Subpart L - National Emission Standards for Coke Ovens - Quarterly Fenceline Monitoring Report
B8: (4) The beginning and ending dates for each sampling period. (8) The biweekly concentration difference (Δc) for benzene for each sampling period and the annual average Δc for benzene
B9: for each sampling period. (9) Indication of whether the owner or operator was required to develop a corrective action plan under § 63.314(h) of this subpart.
B10: Note: Company Record No. selections will appear once information is entered onto the Company _Information tab. For each sample period, enter each compound that was monitored on a separate row.
B11: Sample Period IDs can be repeated on multiple rows if multiple compounds are monitored during a sampling period.
B12: Company Record No. (Select from dropdown list) | C12: Sampling Period ID | D12: Sampling Period Start Date (§63.311(j)(4)) | E12: Sampling Period End Date (§63.311(j)(4)) | F12: Monitored Compound (§63.311(j)(8)) (Select from dropdown list) | G12: Sampling Period Δc (µg/m3) (§63.311(j)(8)) | H12: Annual Average Δc (µg/m3) (§63.311(j)(8)) | I12: Were you required to develop a corrective action plan under § 63.314(e)? (§63.311(j)(9)) (Select from dropdown list) | J12: Comments
B13: RecordId | C13: PeriodID | D13: StartDate | E13: EndDate | F13: Compound | G13: PeriodDeltaC | H13: AnnualAvgDeltaC | I13: CorrectiveActionPlan | J13: PeriodComments
B14: e.g.: 1 | C14: e.g.: 2024-25 | D14: e.g.: 11/10/24 | E14: e.g.: 11/24/24 | F14: e.g.: benzene | G14: e.g.: 5.2 | H14: e.g.: 1.8 | I14: e.g.: No | J14: e.g.:
B15: e.g.: | C15: e.g.: | D15: e.g.: | E15: e.g.: | F15: e.g.: | G15: e.g.: | H15: e.g.: | I15: e.g.: | J15: e.g.:
B16: e.g.: | C16: e.g.: | D16: e.g.: | E16: e.g.: | F16: e.g.: | G16: e.g.: | H16: e.g.: | I16: e.g.: | J16: e.g.:
B17: e.g.: | C17: e.g.: | D17: e.g.: | E17: e.g.: | F17: e.g.: | G17: e.g.: | H17: e.g.: | I17: e.g.: | J17: e.g.:
B18: e.g.: | C18: e.g.: | D18: e.g.: | E18: e.g.: | F18: e.g.: | G18: e.g.: | H18: e.g.: | I18: e.g.: | J18: e.g.:
B19: e.g.: | C19: e.g.: | D19: e.g.: | E19: e.g.: | F19: e.g.: | G19: e.g.: | H19: e.g.: | I19: e.g.: | J19: e.g.:
B20: e.g.: | C20: e.g.: | D20: e.g.: | E20: e.g.: | F20: e.g.: | G20: e.g.: | H20: e.g.: | I20: e.g.: | J20: e.g.:
B21: e.g.: | C21: e.g.: | D21: e.g.: | E21: e.g.: | F21: e.g.: | G21: e.g.: | H21: e.g.: | I21: e.g.: | J21: e.g.:
B22: e.g.: | C22: e.g.: | D22: e.g.: | E22: e.g.: | F22: e.g.: | G22: e.g.: | H22: e.g.: | I22: e.g.: | J22: e.g.:
B23: e.g.: | C23: e.g.: | D23: e.g.: | E23: e.g.: | F23: e.g.: | G23: e.g.: | H23: e.g.: | I23: e.g.: | J23: e.g.:

Sheet Sample_Results
B1: DO NOT REMOVE OR EDIT INFORMATION IN ROWS 1 THORUGH 5 FOR INTERNAL USE ONLY
B2: =Welcome!A2 -> Template Name | C2: =Welcome!B2 -> 63.311(j) Fenceline Monitoring Report
B3: =Welcome!A3 -> CitationID | C3: =Welcome!B3 -> 63.311(j)
B4: =Welcome!A4 -> Template Version | C4: =Welcome!B4 -> v1.00
B5: =Welcome!A5 -> Last Updated Date | C5: =Welcome!B5 -> 45483
B7: =Company_Information!B7 -> 40 CFR Part 63, Subpart L - National Emission Standards for Coke Ovens - Quarterly Fenceline Monitoring Report
B8: (5) Individual sample results for benzene, reported in units of µg/m3, for each monitor for each sampling period that ends during the reporting period. (6) Data flags that indicate each monitor skipped for the sampling period (7) Data flags for each outlier determined.
B9: Note: You must enter information on the Company _Information, Sampler_Information, and Sample_Periods tabs before completing this tab in order to populate the dropdowns in Columns B, C, and D. For each sample period and each
B10: sampling location, enter each compound that was monitored on a separate row. Results below the method detection limit must be reported at the method detection limit (not reporting limit), and you much choose "yes" in Column H. Report
B11: only numbers in Columns F and G. Do not report N/A or less than symbols. You may clarify any results in Column J. If a result is an outlier in accordance with Methods 325A/B or 327, you must submit attach the supporting documentation.
B12: Company Record No. (Select from dropdown list) | C12: Sampling Period ID (Select from dropdown list) | D12: Sampler Name (§63.311(j)(3), §63.311(j)(5)) (Select from dropdown list) | E12: Monitored Compound (§63.311(j)(5)) (Select from dropdown list) | F12: Sampling Period Concentration (µg/m3) (§63.311(j)(5)) | G12: Corrected Sampling Period Concentration (If allowed by site-specific monitoring plan) (µg/m3) (§63.311(j)(5)) | H12: Below method detection limit (BDL)? (§63.311(j)(5)) (Select from dropdown list) | I12: Was this monitor location skipped during the sample period per the alternate frequency under §63.314(a)(2)(iii)? (§63.311(j)(6)) (Select from dropdown list) | J12: Outlier? (If yes, attach evidence in Additional Information on Company Information tab.) (§63.311(j)(7)) (Select from dropdown list) | K12: Comments
B13: RecordId | C13: PeriodID | D13: SamplerName | E13: Compound | F13: Concentration | G13: CorrectedConc | H13: BDLFlag | I13: SkipFlag | J13: OutlierFlag | K13: ResultsComments
B14: e.g.: 1 | C14: e.g.: 2024-25 | D14: e.g.: PS 1 | E14: e.g.: benzene | F14: e.g.: 0.11 | G14: e.g.: | H14: e.g.: Yes | I14: e.g.: No | J14: e.g.: No | K14: e.g.:
B15: e.g.: | C15: e.g.: | D15: e.g.: | E15: e.g.: | F15: e.g.: | G15: e.g.: | H15: e.g.: | I15: e.g.: | J15: e.g.: | K15: e.g.:
B16: e.g.: | C16: e.g.: | D16: e.g.: | E16: e.g.: | F16: e.g.: | G16: e.g.: | H16: e.g.: | I16: e.g.: | J16: e.g.: | K16: e.g.:
B17: e.g.: | C17: e.g.: | D17: e.g.: | E17: e.g.: | F17: e.g.: | G17: e.g.: | H17: e.g.: | I17: e.g.: | J17: e.g.: | K17: e.g.:
B18: e.g.: | C18: e.g.: | D18: e.g.: | E18: e.g.: | F18: e.g.: | G18: e.g.: | H18: e.g.: | I18: e.g.: | J18: e.g.: | K18: e.g.:
B19: e.g.: | C19: e.g.: | D19: e.g.: | E19: e.g.: | F19: e.g.: | G19: e.g.: | H19: e.g.: | I19: e.g.: | J19: e.g.: | K19: e.g.:
B20: e.g.: | C20: e.g.: | D20: e.g.: | E20: e.g.: | F20: e.g.: | G20: e.g.: | H20: e.g.: | I20: e.g.: | J20: e.g.: | K20: e.g.:
B21: e.g.: | C21: e.g.: | D21: e.g.: | E21: e.g.: | F21: e.g.: | G21: e.g.: | H21: e.g.: | I21: e.g.: | J21: e.g.: | K21: e.g.:
B22: e.g.: | C22: e.g.: | D22: e.g.: | E22: e.g.: | F22: e.g.: | G22: e.g.: | H22: e.g.: | I22: e.g.: | J22: e.g.: | K22: e.g.:
B23: e.g.: | C23: e.g.: | D23: e.g.: | E23: e.g.: | F23: e.g.: | G23: e.g.: | H23: e.g.: | I23: e.g.: | J23: e.g.: | K23: e.g.:

Sheet Lists
A1: Site | B1: Num | C1: SiteList | E1: States | G1: Quarters | I1: Sampler | J1: Num | K1: SamplerList | M1: Period | N1: Num | O1: PeriodList
A2: {=IF(SUMPRODUCT(--(LEN(Company_Information!B24:B212)>0))>0,IF(Company_Information!B24="","",Company_Information!B24),"Add a company in the Company Information tab")} -> Add a company in the Company Information tab | B2: =IF(A2="","",MAX(B1:B$1)+1) -> 1 | C2: =+IFERROR(INDEX($A$2:$A$11,MATCH(ROW()-ROW($C$1),$B$2:$B$11,0)),"") -> Add a company in the Company Information tab | E2: AK | G2: Quarter 1 | I2: {=IF(SUMPRODUCT(--(LEN(Sampler_Information!C24:C2123)>0))>0,IF(Sampler_Information!C24="","",Sampler_Information!C24),"Add a sampler in the Sampler Information tab")} -> Add a sampler in the Sampler Information tab | J2: =IF(I2="","",MAX(J1:J$1)+1) -> 1 | K2: =+IFERROR(INDEX($I$2:$I$2101,MATCH(ROW()-ROW($K$1),$J$2:$J$2101,0)),"") -> Add a sampler in the Sampler Information tab | M2: {=IF(SUMPRODUCT(--(LEN(Sample_Periods!C24:C1451)>0))>0,IF(Sample_Periods!C24="","",Sample_Periods!C24),"Add a sample period in the Sample Periods tab")} -> Add a sample period in the Sample Periods tab | N2: =IF(M2="","",MAX(N1:N$1)+1) -> 1 | O2: =+IFERROR(INDEX($M$2:$M$1430,MATCH(ROW()-ROW($N$1),$N$2:$N$1430,0)),"") -> Add a sample period in the Sample Periods tab
A3: =IF(Company_Information!B25="","",Company_Information!B25) | B3: =IF(A3="","",MAX(B$1:B2)+1) | C3: =+IFERROR(INDEX($A$2:$A$11,MATCH(ROW()-ROW($C$1),$B$2:$B$11,0)),"") | E3: AL | G3: Quarter 2 | I3: =IF(Sampler_Information!C25="","",Sampler_Information!C25) | J3: =IF(I3="","",MAX(J$1:J2)+1) | K3: =+IFERROR(INDEX($I$2:$I$2101,MATCH(ROW()-ROW($K$1),$J$2:$J$2101,0)),"") | M3: =IF(Sample_Periods!C25="","",Sample_Periods!C24) | N3: =IF(M3="","",MAX(N$1:N2)+1) | O3: =+IFERROR(INDEX($M$2:$M$1430,MATCH(ROW()-ROW($N$1),$N$2:$N$1430,0)),"")
A4: =IF(Company_Information!B26="","",Company_Information!B26) | B4: =IF(A4="","",MAX(B$1:B3)+1) | C4: =+IFERROR(INDEX($A$2:$A$11,MATCH(ROW()-ROW($C$1),$B$2:$B$11,0)),"") | E4: AR | G4: Quarter 3 | I4: =IF(Sampler_Information!C26="","",Sampler_Information!C26) | J4: =IF(I4="","",MAX(J$1:J3)+1) | K4: =+IFERROR(INDEX($I$2:$I$2101,MATCH(ROW()-ROW($K$1),$J$2:$J$2101,0)),"") | M4: =IF(Sample_Periods!C26="","",Sample_Periods!C25) | N4: =IF(M4="","",MAX(N$1:N3)+1) | O4: =+IFERROR(INDEX($M$2:$M$1430,MATCH(ROW()-ROW($N$1),$N$2:$N$1430,0)),"")
A5: =IF(Company_Information!B27="","",Company_Information!B27) | B5: =IF(A5="","",MAX(B$1:B4)+1) | C5: =+IFERROR(INDEX($A$2:$A$11,MATCH(ROW()-ROW($C$1),$B$2:$B$11,0)),"") | E5: AS | G5: Quarter 4 | I5: =IF(Sampler_Information!C27="","",Sampler_Information!C27) | J5: =IF(I5="","",MAX(J$1:J4)+1) | K5: =+IFERROR(INDEX($I$2:$I$2101,MATCH(ROW()-ROW($K$1),$J$2:$J$2101,0)),"") | M5: =IF(Sample_Periods!C27="","",Sample_Periods!C26) | N5: =IF(M5="","",MAX(N$1:N4)+1) | O5: =+IFERROR(INDEX($M$2:$M$1430,MATCH(ROW()-ROW($N$1),$N$2:$N$1430,0)),"")
A6: =IF(Company_Information!B28="","",Company_Information!B28) | B6: =IF(A6="","",MAX(B$1:B5)+1) | C6: =+IFERROR(INDEX($A$2:$A$11,MATCH(ROW()-ROW($C$1),$B$2:$B$11,0)),"") | E6: AZ | I6: =IF(Sampler_Information!C28="","",Sampler_Information!C28) | J6: =IF(I6="","",MAX(J$1:J5)+1) | K6: =+IFERROR(INDEX($I$2:$I$2101,MATCH(ROW()-ROW($K$1),$J$2:$J$2101,0)),"") | M6: =IF(Sample_Periods!C28="","",Sample_Periods!C27) | N6: =IF(M6="","",MAX(N$1:N5)+1) | O6: =+IFERROR(INDEX($M$2:$M$1430,MATCH(ROW()-ROW($N$1),$N$2:$N$1430,0)),"")
A7: =IF(Company_Information!B29="","",Company_Information!B29) | B7: =IF(A7="","",MAX(B$1:B6)+1) | C7: =+IFERROR(INDEX($A$2:$A$11,MATCH(ROW()-ROW($C$1),$B$2:$B$11,0)),"") | E7: CA | G7: Sampler Types | I7: =IF(Sampler_Information!C29="","",Sampler_Information!C29) | J7: =IF(I7="","",MAX(J$1:J6)+1) | K7: =+IFERROR(INDEX($I$2:$I$2101,MATCH(ROW()-ROW($K$1),$J$2:$J$2101,0)),"") | M7: =IF(Sample_Periods!C29="","",Sample_Periods!C28) | N7: =IF(M7="","",MAX(N$1:N6)+1) | O7: =+IFERROR(INDEX($M$2:$M$1430,MATCH(ROW()-ROW($N$1),$N$2:$N$1430,0)),"")
A8: =IF(Company_Information!B30="","",Company_Information!B30) | B8: =IF(A8="","",MAX(B$1:B7)+1) | C8: =+IFERROR(INDEX($A$2:$A$11,MATCH(ROW()-ROW($C$1),$B$2:$B$11,0)),"") | E8: CO | G8: regular monitor | I8: =IF(Sampler_Information!C30="","",Sampler_Information!C30) | J8: =IF(I8="","",MAX(J$1:J7)+1) | K8: =+IFERROR(INDEX($I$2:$I$2101,MATCH(ROW()-ROW($K$1),$J$2:$J$2101,0)),"") | M8: =IF(Sample_Periods!C30="","",Sample_Periods!C29) | N8: =IF(M8="","",MAX(N$1:N7)+1) | O8: =+IFERROR(INDEX($M$2:$M$1430,MATCH(ROW()-ROW($N$1),$N$2:$N$1430,0)),"")
A9: =IF(Company_Information!B31="","",Company_Information!B31) | B9: =IF(A9="","",MAX(B$1:B8)+1) | C9: =+IFERROR(INDEX($A$2:$A$11,MATCH(ROW()-ROW($C$1),$B$2:$B$11,0)),"") | E9: CT | G9: extra monitor | I9: =IF(Sampler_Information!C31="","",Sampler_Information!C31) | J9: =IF(I9="","",MAX(J$1:J8)+1) | K9: =+IFERROR(INDEX($I$2:$I$2101,MATCH(ROW()-ROW($K$1),$J$2:$J$2101,0)),"") | M9: =IF(Sample_Periods!C31="","",Sample_Periods!C30) | N9: =IF(M9="","",MAX(N$1:N8)+1) | O9: =+IFERROR(INDEX($M$2:$M$1430,MATCH(ROW()-ROW($N$1),$N$2:$N$1430,0)),"")
A10: =IF(Company_Information!B32="","",Company_Information!B32) | B10: =IF(A10="","",MAX(B$1:B9)+1) | C10: =+IFERROR(INDEX($A$2:$A$11,MATCH(ROW()-ROW($C$1),$B$2:$B$11,0)),"") | E10: DC | G10: duplicate | I10: =IF(Sampler_Information!C32="","",Sampler_Information!C32) | J10: =IF(I10="","",MAX(J$1:J9)+1) | K10: =+IFERROR(INDEX($I$2:$I$2101,MATCH(ROW()-ROW($K$1),$J$2:$J$2101,0)),"") | M10: =IF(Sample_Periods!C32="","",Sample_Periods!C31) | N10: =IF(M10="","",MAX(N$1:N9)+1) | O10: =+IFERROR(INDEX($M$2:$M$1430,MATCH(ROW()-ROW($N$1),$N$2:$N$1430,0)),"")
A11: =IF(Company_Information!B33="","",Company_Information!B33) | B11: =IF(A11="","",MAX(B$1:B10)+1) | C11: =+IFERROR(INDEX($A$2:$A$11,MATCH(ROW()-ROW($C$1),$B$2:$B$11,0)),"") | E11: DE | G11: field blank | I11: =IF(Sampler_Information!C33="","",Sampler_Information!C33) | J11: =IF(I11="","",MAX(J$1:J10)+1) | K11: =+IFERROR(INDEX($I$2:$I$2101,MATCH(ROW()-ROW($K$1),$J$2:$J$2101,0)),"") | M11: =IF(Sample_Periods!C33="","",Sample_Periods!C32) | N11: =IF(M11="","",MAX(N$1:N10)+1) | O11: =+IFERROR(INDEX($M$2:$M$1430,MATCH(ROW()-ROW($N$1),$N$2:$N$1430,0)),"")
E12: FL | G12: inactive | I12: =IF(Sampler_Information!C34="","",Sampler_Information!C34) | J12: =IF(I12="","",MAX(J$1:J11)+1) | K12: =+IFERROR(INDEX($I$2:$I$2101,MATCH(ROW()-ROW($K$1),$J$2:$J$2101,0)),"") | M12: =IF(Sample_Periods!C34="","",Sample_Periods!C33) | N12: =IF(M12="","",MAX(N$1:N11)+1) | O12: =+IFERROR(INDEX($M$2:$M$1430,MATCH(ROW()-ROW($N$1),$N$2:$N$1430,0)),"")
E13: GA | I13: =IF(Sampler_Information!C35="","",Sampler_Information!C35) | J13: =IF(I13="","",MAX(J$1:J12)+1) | K13: =+IFERROR(INDEX($I$2:$I$2101,MATCH(ROW()-ROW($K$1),$J$2:$J$2101,0)),"") | M13: =IF(Sample_Periods!C35="","",Sample_Periods!C34) | N13: =IF(M13="","",MAX(N$1:N12)+1) | O13: =+IFERROR(INDEX($M$2:$M$1430,MATCH(ROW()-ROW($N$1),$N$2:$N$1430,0)),"")
E14: GU | G14: Compound | I14: =IF(Sampler_Information!C36="","",Sampler_Information!C36) | J14: =IF(I14="","",MAX(J$1:J13)+1) | K14: =+IFERROR(INDEX($I$2:$I$2101,MATCH(ROW()-ROW($K$1),$J$2:$J$2101,0)),"") | M14: =IF(Sample_Periods!C36="","",Sample_Periods!C35) | N14: =IF(M14="","",MAX(N$1:N13)+1) | O14: =+IFERROR(INDEX($M$2:$M$1430,MATCH(ROW()-ROW($N$1),$N$2:$N$1430,0)),"")
E15: HI | G15: benzene | I15: =IF(Sampler_Information!C37="","",Sampler_Information!C37) | J15: =IF(I15="","",MAX(J$1:J14)+1) | K15: =+IFERROR(INDEX($I$2:$I$2101,MATCH(ROW()-ROW($K$1),$J$2:$J$2101,0)),"") | M15: =IF(Sample_Periods!C37="","",Sample_Periods!C36) | N15: =IF(M15="","",MAX(N$1:N14)+1) | O15: =+IFERROR(INDEX($M$2:$M$1430,MATCH(ROW()-ROW($N$1),$N$2:$N$1430,0)),"")
E16: IA | I16: =IF(Sampler_Information!C38="","",Sampler_Information!C38) | J16: =IF(I16="","",MAX(J$1:J15)+1) | K16: =+IFERROR(INDEX($I$2:$I$2101,MATCH(ROW()-ROW($K$1),$J$2:$J$2101,0)),"") | M16: =IF(Sample_Periods!C38="","",Sample_Periods!C37) | N16: =IF(M16="","",MAX(N$1:N15)+1) | O16: =+IFERROR(INDEX($M$2:$M$1430,MATCH(ROW()-ROW($N$1),$N$2:$N$1430,0)),"")
E17: ID | I17: =IF(Sampler_Information!C39="","",Sampler_Information!C39) | J17: =IF(I17="","",MAX(J$1:J16)+1) | K17: =+IFERROR(INDEX($I$2:$I$2101,MATCH(ROW()-ROW($K$1),$J$2:$J$2101,0)),"") | M17: =IF(Sample_Periods!C39="","",Sample_Periods!C38) | N17: =IF(M17="","",MAX(N$1:N16)+1) | O17: =+IFERROR(INDEX($M$2:$M$1430,MATCH(ROW()-ROW($N$1),$N$2:$N$1430,0)),"")
E18: IL | I18: =IF(Sampler_Information!C40="","",Sampler_Information!C40) | J18: =IF(I18="","",MAX(J$1:J17)+1) | K18: =+IFERROR(INDEX($I$2:$I$2101,MATCH(ROW()-ROW($K$1),$J$2:$J$2101,0)),"") | M18: =IF(Sample_Periods!C40="","",Sample_Periods!C39) | N18: =IF(M18="","",MAX(N$1:N17)+1) | O18: =+IFERROR(INDEX($M$2:$M$1430,MATCH(ROW()-ROW($N$1),$N$2:$N$1430,0)),"")
E19: IN | I19: =IF(Sampler_Information!C41="","",Sampler_Information!C41) | J19: =IF(I19="","",MAX(J$1:J18)+1) | K19: =+IFERROR(INDEX($I$2:$I$2101,MATCH(ROW()-ROW($K$1),$J$2:$J$2101,0)),"") | M19: =IF(Sample_Periods!C41="","",Sample_Periods!C40) | N19: =IF(M19="","",MAX(N$1:N18)+1) | O19: =+IFERROR(INDEX($M$2:$M$1430,MATCH(ROW()-ROW($N$1),$N$2:$N$1430,0)),"")
E20: KS | I20: =IF(Sampler_Information!C42="","",Sampler_Information!C42) | J20: =IF(I20="","",MAX(J$1:J19)+1) | K20: =+IFERROR(INDEX($I$2:$I$2101,MATCH(ROW()-ROW($K$1),$J$2:$J$2101,0)),"") | M20: =IF(Sample_Periods!C42="","",Sample_Periods!C41) | N20: =IF(M20="","",MAX(N$1:N19)+1) | O20: =+IFERROR(INDEX($M$2:$M$1430,MATCH(ROW()-ROW($N$1),$N$2:$N$1430,0)),"")
E21: KY | I21: =IF(Sampler_Information!C43="","",Sampler_Information!C43) | J21: =IF(I21="","",MAX(J$1:J20)+1) | K21: =+IFERROR(INDEX($I$2:$I$2101,MATCH(ROW()-ROW($K$1),$J$2:$J$2101,0)),"") | M21: =IF(Sample_Periods!C43="","",Sample_Periods!C42) | N21: =IF(M21="","",MAX(N$1:N20)+1) | O21: =+IFERROR(INDEX($M$2:$M$1430,MATCH(ROW()-ROW($N$1),$N$2:$N$1430,0)),"")
E22: LA | I22: =IF(Sampler_Information!C44="","",Sampler_Information!C44) | J22: =IF(I22="","",MAX(J$1:J21)+1) | K22: =+IFERROR(INDEX($I$2:$I$2101,MATCH(ROW()-ROW($K$1),$J$2:$J$2101,0)),"") | M22: =IF(Sample_Periods!C44="","",Sample_Periods!C43) | N22: =IF(M22="","",MAX(N$1:N21)+1) | O22: =+IFERROR(INDEX($M$2:$M$1430,MATCH(ROW()-ROW($N$1),$N$2:$N$1430,0)),"")
E23: MA | I23: =IF(Sampler_Information!C45="","",Sampler_Information!C45) | J23: =IF(I23="","",MAX(J$1:J22)+1) | K23: =+IFERROR(INDEX($I$2:$I$2101,MATCH(ROW()-ROW($K$1),$J$2:$J$2101,0)),"") | M23: =IF(Sample_Periods!C45="","",Sample_Periods!C44) | N23: =IF(M23="","",MAX(N$1:N22)+1) | O23: =+IFERROR(INDEX($M$2:$M$1430,MATCH(ROW()-ROW($N$1),$N$2:$N$1430,0)),"")
E24: MD | I24: =IF(Sampler_Information!C46="","",Sampler_Information!C46) | J24: =IF(I24="","",MAX(J$1:J23)+1) | K24: =+IFERROR(INDEX($I$2:$I$2101,MATCH(ROW()-ROW($K$1),$J$2:$J$2101,0)),"") | M24: =IF(Sample_Periods!C46="","",Sample_Periods!C45) | N24: =IF(M24="","",MAX(N$1:N23)+1) | O24: =+IFERROR(INDEX($M$2:$M$1430,MATCH(ROW()-ROW($N$1),$N$2:$N$1430,0)),"")
E25: ME | I25: =IF(Sampler_Information!C47="","",Sampler_Information!C47) | J25: =IF(I25="","",MAX(J$1:J24)+1) | K25: =+IFERROR(INDEX($I$2:$I$2101,MATCH(ROW()-ROW($K$1),$J$2:$J$2101,0)),"") | M25: =IF(Sample_Periods!C47="","",Sample_Periods!C46) | N25: =IF(M25="","",MAX(N$1:N24)+1) | O25: =+IFERROR(INDEX($M$2:$M$1430,MATCH(ROW()-ROW($N$1),$N$2:$N$1430,0)),"")
E26: MI | I26: =IF(Sampler_Information!C48="","",Sampler_Information!C48) | J26: =IF(I26="","",MAX(J$1:J25)+1) | K26: =+IFERROR(INDEX($I$2:$I$2101,MATCH(ROW()-ROW($K$1),$J$2:$J$2101,0)),"") | M26: =IF(Sample_Periods!C48="","",Sample_Periods!C47) | N26: =IF(M26="","",MAX(N$1:N25)+1) | O26: =+IFERROR(INDEX($M$2:$M$1430,MATCH(ROW()-ROW($N$1),$N$2:$N$1430,0)),"")
E27: MN | I27: =IF(Sampler_Information!C49="","",Sampler_Information!C49) | J27: =IF(I27="","",MAX(J$1:J26)+1) | K27: =+IFERROR(INDEX($I$2:$I$2101,MATCH(ROW()-ROW($K$1),$J$2:$J$2101,0)),"") | M27: =IF(Sample_Periods!C49="","",Sample_Periods!C48) | N27: =IF(M27="","",MAX(N$1:N26)+1) | O27: =+IFERROR(INDEX($M$2:$M$1430,MATCH(ROW()-ROW($N$1),$N$2:$N$1430,0)),"")
... E57: WY | I57: =IF(Sampler_Information!C79="","",Sampler_Information!C79) | J57: =IF(I57="","",MAX(J$1:J56)+1) | K57: =+IFERROR(INDEX($I$2:$I$2101,MATCH(ROW()-ROW($K$1),$J$2:$J$2101,0)),"") | M57: =IF(Sample_Periods!C79="","",Sample_Periods!C78) | N57: =IF(M57="","",MAX(N$1:N56)+1) | O57: =+IFERROR(INDEX($M$2:$M$1430,MATCH(ROW()-ROW($N$1),$N$2:$N$1430,0)),"")
I58: =IF(Sampler_Information!C80="","",Sampler_Information!C80) | J58: =IF(I58="","",MAX(J$1:J57)+1) | K58: =+IFERROR(INDEX($I$2:$I$2101,MATCH(ROW()-ROW($K$1),$J$2:$J$2101,0)),"") | M58: =IF(Sample_Periods!C80="","",Sample_Periods!C79) | N58: =IF(M58="","",MAX(N$1:N57)+1) | O58: =+IFERROR(INDEX($M$2:$M$1430,MATCH(ROW()-ROW($N$1),$N$2:$N$1430,0)),"")
I59: =IF(Sampler_Information!C81="","",Sampler_Information!C81) | J59: =IF(I59="","",MAX(J$1:J58)+1) | K59: =+IFERROR(INDEX($I$2:$I$2101,MATCH(ROW()-ROW($K$1),$J$2:$J$2101,0)),"") | M59: =IF(Sample_Periods!C81="","",Sample_Periods!C80) | N59: =IF(M59="","",MAX(N$1:N58)+1) | O59: =+IFERROR(INDEX($M$2:$M$1430,MATCH(ROW()-ROW($N$1),$N$2:$N$1430,0)),"")
I60: =IF(Sampler_Information!C82="","",Sampler_Information!C82) | J60: =IF(I60="","",MAX(J$1:J59)+1) | K60: =+IFERROR(INDEX($I$2:$I$2101,MATCH(ROW()-ROW($K$1),$J$2:$J$2101,0)),"") | M60: =IF(Sample_Periods!C82="","",Sample_Periods!C81) | N60: =IF(M60="","",MAX(N$1:N59)+1) | O60: =+IFERROR(INDEX($M$2:$M$1430,MATCH(ROW()-ROW($N$1),$N$2:$N$1430,0)),"")
I61: =IF(Sampler_Information!C83="","",Sampler_Information!C83) | J61: =IF(I61="","",MAX(J$1:J60)+1) | K61: =+IFERROR(INDEX($I$2:$I$2101,MATCH(ROW()-ROW($K$1),$J$2:$J$2101,0)),"") | M61: =IF(Sample_Periods!C83="","",Sample_Periods!C82) | N61: =IF(M61="","",MAX(N$1:N60)+1) | O61: =+IFERROR(INDEX($M$2:$M$1430,MATCH(ROW()-ROW($N$1),$N$2:$N$1430,0)),"")
I62: =IF(Sampler_Information!C84="","",Sampler_Information!C84) | J62: =IF(I62="","",MAX(J$1:J61)+1) | K62: =+IFERROR(INDEX($I$2:$I$2101,MATCH(ROW()-ROW($K$1),$J$2:$J$2101,0)),"") | M62: =IF(Sample_Periods!C84="","",Sample_Periods!C83) | N62: =IF(M62="","",MAX(N$1:N61)+1) | O62: =+IFERROR(INDEX($M$2:$M$1430,MATCH(ROW()-ROW($N$1),$N$2:$N$1430,0)),"")
I63: =IF(Sampler_Information!C85="","",Sampler_Information!C85) | J63: =IF(I63="","",MAX(J$1:J62)+1) | K63: =+IFERROR(INDEX($I$2:$I$2101,MATCH(ROW()-ROW($K$1),$J$2:$J$2101,0)),"") | M63: =IF(Sample_Periods!C85="","",Sample_Periods!C84) | N63: =IF(M63="","",MAX(N$1:N62)+1) | O63: =+IFERROR(INDEX($M$2:$M$1430,MATCH(ROW()-ROW($N$1),$N$2:$N$1430,0)),"")
I64: =IF(Sampler_Information!C86="","",Sampler_Information!C86) | J64: =IF(I64="","",MAX(J$1:J63)+1) | K64: =+IFERROR(INDEX($I$2:$I$2101,MATCH(ROW()-ROW($K$1),$J$2:$J$2101,0)),"") | M64: =IF(Sample_Periods!C86="","",Sample_Periods!C85) | N64: =IF(M64="","",MAX(N$1:N63)+1) | O64: =+IFERROR(INDEX($M$2:$M$1430,MATCH(ROW()-ROW($N$1),$N$2:$N$1430,0)),"")
I65: =IF(Sampler_Information!C87="","",Sampler_Information!C87) | J65: =IF(I65="","",MAX(J$1:J64)+1) | K65: =+IFERROR(INDEX($I$2:$I$2101,MATCH(ROW()-ROW($K$1),$J$2:$J$2101,0)),"") | M65: =IF(Sample_Periods!C87="","",Sample_Periods!C86) | N65: =IF(M65="","",MAX(N$1:N64)+1) | O65: =+IFERROR(INDEX($M$2:$M$1430,MATCH(ROW()-ROW($N$1),$N$2:$N$1430,0)),"")
I66: =IF(Sampler_Information!C88="","",Sampler_Information!C88) | J66: =IF(I66="","",MAX(J$1:J65)+1) | K66: =+IFERROR(INDEX($I$2:$I$2101,MATCH(ROW()-ROW($K$1),$J$2:$J$2101,0)),"") | M66: =IF(Sample_Periods!C88="","",Sample_Periods!C87) | N66: =IF(M66="","",MAX(N$1:N65)+1) | O66: =+IFERROR(INDEX($M$2:$M$1430,MATCH(ROW()-ROW($N$1),$N$2:$N$1430,0)),"")
I67: =IF(Sampler_Information!C89="","",Sampler_Information!C89) | J67: =IF(I67="","",MAX(J$1:J66)+1) | K67: =+IFERROR(INDEX($I$2:$I$2101,MATCH(ROW()-ROW($K$1),$J$2:$J$2101,0)),"") | M67: =IF(Sample_Periods!C89="","",Sample_Periods!C88) | N67: =IF(M67="","",MAX(N$1:N66)+1) | O67: =+IFERROR(INDEX($M$2:$M$1430,MATCH(ROW()-ROW($N$1),$N$2:$N$1430,0)),"")
I68: =IF(Sampler_Information!C90="","",Sampler_Information!C90) | J68: =IF(I68="","",MAX(J$1:J67)+1) | K68: =+IFERROR(INDEX($I$2:$I$2101,MATCH(ROW()-ROW($K$1),$J$2:$J$2101,0)),"") | M68: =IF(Sample_Periods!C90="","",Sample_Periods!C89) | N68: =IF(M68="","",MAX(N$1:N67)+1) | O68: =+IFERROR(INDEX($M$2:$M$1430,MATCH(ROW()-ROW($N$1),$N$2:$N$1430,0)),"")
I69: =IF(Sampler_Information!C91="","",Sampler_Information!C91) | J69: =IF(I69="","",MAX(J$1:J68)+1) | K69: =+IFERROR(INDEX($I$2:$I$2101,MATCH(ROW()-ROW($K$1),$J$2:$J$2101,0)),"") | M69: =IF(Sample_Periods!C91="","",Sample_Periods!C90) | N69: =IF(M69="","",MAX(N$1:N68)+1) | O69: =+IFERROR(INDEX($M$2:$M$1430,MATCH(ROW()-ROW($N$1),$N$2:$N$1430,0)),"")
...

Sheet Revisions
A1: =Sample_Results!B7 -> 40 CFR Part 63, Subpart L - National Emission Standards for Coke Ovens - Quarterly Fenceline Monitoring Report
A2: Revision Number | B2: Date | C2: Revisions
A3: Proposal Draft | B3: 45026 | C3: Draft Released at Proposal
A4: Final ICR Draft | B4: 45358 | C4: Sample_Periods: corrected regulatory citation in column I; Sample_Results: added regulatory citation to column G, corrected regulatory citations in all columns; Throughout: changed font color for "(Select from Dropdown List)" where not already blue
A5: v1.00 | B5: 45483 | C5: Initial release version

Sheet Worksheet Map
A1: Worksheet Name | B1: Parent | C1: JSON Key | D1: Parent Primary Key | E1: Child Foreign Key
A2: Company_Information | C2: records
A3: Sampler_Information | B3: records | C3: SamplerInformation | D3: RecordId | E3: RecordId
A4: Sample_Periods | B4: records | C4: SamplePeriods | D4: RecordId | E4: RecordId
A5: Sample_Results | B5: records | C5: SampleResults | D5: RecordId | E5: RecordId
