Workbook
Name CompanyRecord: OFFSET(Lists!$D$2,0,0,SUMPRODUCT(--(Lists!$D$2:$D$11<>"")),1)
Name DeviationCauses: Table16[Deviation Causes]
Name DeviationCauses: Table16[Deviation Causes]
Name states: Table20[states]
Name states: Table20[states]

Sheet Lists
B1: Column2 | C1: Column1 | D1: Companylist | E1: Column3 | G1: CMSCauseList | J1: states
B2: =+IF(E2="","",MAX(B1:B$1)+1) -> 1 | C2: {=IF(SUMPRODUCT(--(LEN(Company_Information!B24:B33)>0))>0,IF(Company_Information!B24="","",Company_Information!B24),"Complete the Company_Information tab")} -> Complete the Company_Information tab | D2: =+IFERROR(INDEX(C$2:C$501,MATCH(ROW()-ROW($D$1),B$2:B$501,0)),"") -> Complete the Company_Information tab | E2: =IF(COUNTIF(C$2:C2,C2)=1,C2,"") -> Complete the Company_Information tab | G2: Monitoring Equipment Malfunctions | J2: AK
B3: =+IF(E3="","",MAX(B$1:B2)+1) | C3: =+IF(Company_Information!B25="","",Company_Information!B25) | D3: =+IFERROR(INDEX(C$2:C$501,MATCH(ROW()-ROW($D$1),B$2:B$501,0)),"") | E3: =IF(COUNTIF(C$2:C3,C3)=1,C3,"") | G3: Nonmonitoring Equipment Malfunctions | J3: AL
B4: =+IF(E4="","",MAX(B$1:B3)+1) | C4: =+IF(Company_Information!B26="","",Company_Information!B26) | D4: =+IFERROR(INDEX(C$2:C$501,MATCH(ROW()-ROW($D$1),B$2:B$501,0)),"") | E4: =IF(COUNTIF(C$2:C4,C4)=1,C4,"") | G4: Quality Assurance/Quality Control Calibrations | J4: AR
B5: =+IF(E5="","",MAX(B$1:B4)+1) | C5: =+IF(Company_Information!B27="","",Company_Information!B27) | D5: =+IFERROR(INDEX(C$2:C$501,MATCH(ROW()-ROW($D$1),B$2:B$501,0)),"") | E5: =IF(COUNTIF(C$2:C5,C5)=1,C5,"") | G5: Other Known Causes | J5: AS
B6: =+IF(E6="","",MAX(B$1:B5)+1) | C6: =+IF(Company_Information!B28="","",Company_Information!B28) | D6: =+IFERROR(INDEX(C$2:C$501,MATCH(ROW()-ROW($D$1),B$2:B$501,0)),"") | E6: =IF(COUNTIF(C$2:C6,C6)=1,C6,"") | G6: Other Unknown Causes | J6: AZ
B7: =+IF(E7="","",MAX(B$1:B6)+1) | C7: =+IF(Company_Information!B29="","",Company_Information!B29) | D7: =+IFERROR(INDEX(C$2:C$501,MATCH(ROW()-ROW($D$1),B$2:B$501,0)),"") | E7: =IF(COUNTIF(C$2:C7,C7)=1,C7,"") | J7: CA
B8: =+IF(E8="","",MAX(B$1:B7)+1) | C8: =+IF(Company_Information!B30="","",Company_Information!B30) | D8: =+IFERROR(INDEX(C$2:C$501,MATCH(ROW()-ROW($D$1),B$2:B$501,0)),"") | E8: =IF(COUNTIF(C$2:C8,C8)=1,C8,"") | J8: CO
B9: =+IF(E9="","",MAX(B$1:B8)+1) | C9: =+IF(Company_Information!B31="","",Company_Information!B31) | D9: =+IFERROR(INDEX(C$2:C$501,MATCH(ROW()-ROW($D$1),B$2:B$501,0)),"") | E9: =IF(COUNTIF(C$2:C9,C9)=1,C9,"") | J9: CT
B10: =+IF(E10="","",MAX(B$1:B9)+1) | C10: =+IF(Company_Information!B32="","",Company_Information!B32) | D10: =+IFERROR(INDEX(C$2:C$501,MATCH(ROW()-ROW($D$1),B$2:B$501,0)),"") | E10: =IF(COUNTIF(C$2:C10,C10)=1,C10,"") | J10: DC
B11: =+IF(E11="","",MAX(B$1:B10)+1) | C11: =+IF(Company_Information!B33="","",Company_Information!B33) | D11: =+IFERROR(INDEX(C$2:C$501,MATCH(ROW()-ROW($D$1),B$2:B$501,0)),"") | E11: =IF(COUNTIF(C$2:C11,C11)=1,C11,"") | J11: DE
G12: Malfunction | J12: FL
G13: Other Period | J13: GA
J14: GU
G15: Deviation Causes | J15: HI
G16: Control Equipment Problems | J16: IA
G17: Process Problems | J17: ID
G18: Other Known Causes | J18: IL
G19: Other Unknown Causes | J19: IN
J20: KS
J21: KY
J22: LA
J23: MA
J24: MD
J25: ME
J26: MI
J27: MN
J28: MO
J29: MP
J30: MS
J31: MT
... J57: WY

Sheet Welcome
A1: DO NOT REMOVE OR EDIT INFORMATION IN ROWS 1 THROUGH 5 FOR INTERNAL USE ONLY
A2: Template Name | B2: 63.311(d) Semiannual Compliance Certification (Spreadsheet Template)
A3: CitationID | B3: 63.311(d)
A4: Template Version | B4: v1.00
A5: Last Updated Date | B5: 45483
B6: OMB No.: 2060-0253 Form 5900-618
A7: Blank | B7: For further Paperwork Reduction Act information see: https://www.epa.gov/electronic-reporting-air-emissions/paperwork-reduction-act-pra-cedri-and-ert
A8: Blank | B8: 40 CFR Part 63, Subpart L National Emission Standards for Coke Oven Batteries - §63.311(d) Semiannual Compliance Certification Spreadsheet Template
B9: Instructions for Spreadsheet Template Purpose: This spreadsheet template was designed by the U.S. EPA to facilitate Semiannual Compliance certification for facilities subject under the 40 CFR part 63, subpart L National Emission Standard for Coke Oven Batteries.
A10: Blank | B10: Electronic reporting: Electronic submission of Semiannual Compliance Reports through the EPA's Compliance and Emissions Data Reporting Interface (CEDRI) is required under §63.311(d). CEDRI is accessed through the EPA's Central Data Exchange (https://cdx.epa.gov).
B11: The CEDRI spreadsheet template upload feature allows you to submit data in a single report for a single company or multiple companies, as well as multiple sites, using this EPA provided Excel workbook. Data for each company must be entered into the worksheet labeled Company_Information in this Excel workbook. Each row in the Company_Information worksheet includes the data for a single company/facility. The Company Record No. will be used as an index field to match the information on each tab to the appropriate company/facility. For each facility record found in the Company_Information worksheet, you may reference a single file attachment that includes additional information.
B12: Do not submit confidential business information (CBI) to EPA via CEDRI. EPA will make all the information submitted through this form via CEDRI available to the public without further notice to you. All CBI claims must be asserted at the time of submission. Anything submitted using CEDRI cannot later be claimed to be CBI. Furthermore, under CAA section 114(c) emissions data is not entitled to confidential treatment, and EPA is required to make emissions data available to the public. Thus, emissions data will not be protected as CBI and will be made publicly available.
B13: Although we do not expect persons to assert a claim of CBI, if persons wish to assert a CBI claim for some of the information in this report, you must submit a version of the report with the CBI omitted via CEDRI and submit a complete report, including any information claimed to be CBI, to EPA. The preferred method to receive CBI is for it to be transmitted electronically using email attachments, File Transfer Protocol, or other online file sharing services. Electronic submissions must be transmitted directly to the OAQPS CBI Office at the email address oaqpscbi@epa.gov to the attention of the Coke Ovens Sector Lead. If assistance is needed with submitting large electronic files that exceed the file size limit for email attachments, and if you do not have your own file sharing service, please email oaqpscbi@epa.gov to request a file transfer link. If you cannot transmit the file electronically, you may send CBI information through the postal service to the following address:
B14: OAQPS Document Control Officer (C404-02) OAQPS, U.S. Environmental Protection Agency Attn: Coke Ovens Sector Lead Research Triangle Park, North Carolina 27711
B15: The mailed CBI material should be double wrapped and clearly marked. Any CBI markings should not show through the outer envelope. Clearly mark the part or all of the information that you claim to be CBI. Information not marked as CBI may be authorized for public release without prior notice. Information marked as CBI will not be disclosed except in accordance with procedures set forth in 40 CFR part 2.
A16: Blank | B16: IMPORTANT: The spreadsheet must be uploaded into CEDRI as a single ZIP file, which must include this Excel workbook and any related attachments that were referenced in the workbook (i.e., additional information file found in the "Company Information" worksheet). Note: If you are uploading file attachments for your report, the uploaded files may be in any format (e.g., zip, docx, PDF). If you would like to include an Excel file(s) as an attachment, you must first zip the excel file(s) into a separate ZIP file to the master ZIP file that will be uploaded into CEDRI. Once all data have been entered in the worksheet, combine this Excel workbook and all attachment files (including any ZIP file containing separate excel file(s), if applicable) into a single ZIP file for upload to CEDRI. Please ensure your report includes all of the required data elements found in the listed citations below for this spreadsheet upload submission.
A17: Blank | B17: Template Navigation and Tabs to Complete: Gray Tabs: The gray tab (Company_Information) contains general information that will mostly remain unchanged from report to report. After completing the gray tab, the workbook may be saved as a site specific template for use in subsequent reports to limit subsequent data entry. This tab should be reviewed for changes prior to submittal as it contains dates for reporting. The Revisions tab presents the revision number, date, and details for all revisions to the template and requires no data entrry. Green Tabs: Green tabs (Certifications, Door Leaks, Charging Opacity, Charging Control Device Opacity, and Shed Opacity) are to be completed as necessary to complete the Semiannual report. Some cells are linked to previous tabs or are calculations dependent upon data entry. A number of cells contain dynamic dropdown lists dependent on entries in previous tabs, these menus will be blank until that information is completed. Cells with calculated results are locked and colored light pink. The Certifications tab must be completed for every report. Within the tabs, example rows are colored light orange (rows 14 through 23), and the XML tags (row 13) are colored green. These rows are locked; no data entry is made in these rows. Cells with fixed calculations are colored light pink and are locked to prevent data entry. Some cells have optional calculations that may be used or overwritten, these are not colored or locked, but the optional calculation is reflected in the header.

Sheet Company_Information
B1: DO NOT REMOVE OR EDIT INFORMATION IN ROWS 1 THROUGH 5 FOR INTERNAL USE ONLY
B2: Template Name | C2: =+Welcome!B2 -> 63.311(d) Semiannual Compliance Certification (Spreadsheet Template)
B3: CitationID | C3: =+Welcome!B3 -> 63.311(d)
B4: Template Version | C4: =+Welcome!B4 -> v1.00
B5: Last Updated Date | C5: =+Welcome!B5 -> 45483
B6: =Welcome!B7 -> For further Paperwork Reduction Act information see: https://www.epa.gov/electronic-reporting-air-emissions/paperwork-reduction-act-pra-cedri-and-ert
B7: 40 CFR Part 63, Subpart L National Emission Standards for Coke Oven Batteries -
B8: §63.311(d) Semiannual Compliance Certification Spreadsheet Template
C11: SITE INFORMATION | M11: ADDITIONAL INFORMATION
B12: Company Record No. (Field value will automatically generate if a value is not entered.) | C12: Company Name (§63.311(d)(9)) | D12: Address (§63.311(d)(9)) | E12: Address 2 | F12: City (§63.311(d)(9)) | G12: County (§63.311(d)(9)) | H12: State Abbreviation (§63.311(d)(9)) (Select from Dropdown) | I12: Zip Code (§63.311(d)(9)) | J12: Responsible Agency Facility ID (State Facility Identifier) | K12: Beginning Date of Reporting Period (§63.311(d)(9)) | L12: Ending Date of Reporting Period (§63.311(d)(9)) | M12: Please enter any additional information. | N12: Enter associated file name reference.
B13: RecordId | C13: CompanyName | D13: AddressLine1 | E13: AddressLine2 | F13: CityName | G13: CountyName | H13: StateName | I13: ZIPCode | J13: StateFacID | K13: PeriodStartDate | L13: PeriodEndDate | M13: AddInfo | N13: AddFile
B14: e.g.: 1 | C14: e.g.: ABC Company | D14: e.g.: 123 Main Street | E14: e.g.: Suite 100 | F14: e.g.: Brooklyn | G14: e.g.: Kings | H14: e.g.: NY | I14: e.g.: 11221 | J14: e.g.: 9145555555 | K14: e.g.: 01/01/2020 | L14: e.g.: 6/30/2020 | M14: e.g.: | N14: e.g.: addlinfo.zip
B15: e.g.: | C15: e.g.: | D15: e.g.: | E15: e.g.: | F15: e.g.: | G15: e.g.: | H15: e.g.: | I15: e.g.: | J15: e.g.: | K15: e.g.: | L15: e.g.: | M15: e.g.: | N15: e.g.:
B16: e.g.: | C16: e.g.: | D16: e.g.: | E16: e.g.: | F16: e.g.: | G16: e.g.: | H16: e.g.: | I16: e.g.: | J16: e.g.: | K16: e.g.: | L16: e.g.: | M16: e.g.: | N16: e.g.:
B17: e.g.: | C17: e.g.: | D17: e.g.: | E17: e.g.: | F17: e.g.: | G17: e.g.: | H17: e.g.: | I17: e.g.: | J17: e.g.: | K17: e.g.: | L17: e.g.: | M17: e.g.: | N17: e.g.:
B18: e.g.: | C18: e.g.: | D18: e.g.: | E18: e.g.: | F18: e.g.: | G18: e.g.: | H18: e.g.: | I18: e.g.: | J18: e.g.: | K18: e.g.: | L18: e.g.: | M18: e.g.: | N18: e.g.:
B19: e.g.: | C19: e.g.: | D19: e.g.: | E19: e.g.: | F19: e.g.: | G19: e.g.: | H19: e.g.: | I19: e.g.: | J19: e.g.: | K19: e.g.: | L19: e.g.: | M19: e.g.: | N19: e.g.:
B20: e.g.: | C20: e.g.: | D20: e.g.: | E20: e.g.: | F20: e.g.: | G20: e.g.: | H20: e.g.: | I20: e.g.: | J20: e.g.: | K20: e.g.: | L20: e.g.: | M20: e.g.: | N20: e.g.:
B21: e.g.: | C21: e.g.: | D21: e.g.: | E21: e.g.: | F21: e.g.: | G21: e.g.: | H21: e.g.: | I21: e.g.: | J21: e.g.: | K21: e.g.: | L21: e.g.: | M21: e.g.: | N21: e.g.:
B22: e.g.: | C22: e.g.: | D22: e.g.: | E22: e.g.: | F22: e.g.: | G22: e.g.: | H22: e.g.: | I22: e.g.: | J22: e.g.: | K22: e.g.: | L22: e.g.: | M22: e.g.: | N22: e.g.:
B23: e.g.: | C23: e.g.: | D23: e.g.: | E23: e.g.: | F23: e.g.: | G23: e.g.: | H23: e.g.: | I23: e.g.: | J23: e.g.: | K23: e.g.: | L23: e.g.: | M23: e.g.: | N23: e.g.:
B24: =IF(C24="","",MAX($B$23:B23)+1)
B25: =IF(C25="","",MAX($B$23:B24)+1)
B26: =IF(C26="","",MAX($B$23:B25)+1)
B27: =IF(C27="","",MAX($B$23:B26)+1)
B28: =IF(C28="","",MAX($B$23:B27)+1)
B29: =IF(C29="","",MAX($B$23:B28)+1)
B30: =IF(C30="","",MAX($B$23:B29)+1)
B31: =IF(C31="","",MAX($B$23:B30)+1)
B32: =IF(C32="","",MAX($B$23:B31)+1)
B33: =IF(C33="","",MAX($B$23:B32)+1)

Sheet Certifications
B1: DO NOT REMOVE OR EDIT INFORMATION IN ROWS 1 THROUGH 5 FOR INTERNAL USE ONLY
B2: Template Name | C2: =+Welcome!B2 -> 63.311(d) Semiannual Compliance Certification (Spreadsheet Template)
B3: CitationID | C3: =+Welcome!B3 -> 63.311(d)
B4: Template Version | C4: =+Welcome!B4 -> v1.00
B5: Last Updated Date | C5: =+Welcome!B5 -> 45483
B6: =Welcome!B7 -> For further Paperwork Reduction Act information see: https://www.epa.gov/electronic-reporting-air-emissions/paperwork-reduction-act-pra-cedri-and-ert
B7: 40 CFR Part 63, Subpart L National Emission Standards for Coke Oven Batteries -
B8: §63.311(d) Semiannual Compliance Certification Spreadsheet Template
B12: Company Record No. (Autocompleted) | C12: Selecting Yes certifies that no coke oven gas was vented, except through the bypass/bleeder stack flare system of a byproduct coke oven battery during the reporting period or a venting report has been submitted according to §63.311(e) (§63.311(d)(1)) (Select from Dropdown) | D12: Selecting Yes below certifies that work practices were implemented according to §63.306. (§63.311(d)(2)) (Select from Dropdown) | E12: Selecting Yes certifies that all work practices for nonrecovery coke oven batteries were implemented as required by §63.303(b)(3). (§63.311(d)(3)) (Select from Dropdown) | F12: Selecting Yes certifies that all coke oven door leaks on a nonrecovery battery were stopped according to the requirements of §63.303(c)(2) and (3). If No, Complete the Door Leak tab. (§63.311(d)(4)) (Select from dropdown) | G12: Selecting Yes certifies that the opacity of emissions from charging operations for a new nonrecovery coke oven battery did not exceed 20%. If No, complete the Charging Opacity tab. (§63.311(d)(5)) (Select from dropdown) | H12: Selecting Yes below certifies that all work practices for a charging emissions control device for a new nonrecovery coke oven battery were implemented as required in §63.303(d)(3). If Opacity greater than 10% was observed from the control device, complete the Charging Control Device Opacity tab. (§63.311(d)(7)) (Select from Dropdown) | I12: Selecting Yes below certifies that all work practices for oven dampers on a new nonrecovery coke oven battery were implemented according to §63.303(d)(4). (§63.311(d)(8)) (Select from Dropdown)
B13: RecordId | C13: VentFlag | D13: 306WPFlag | E13: AllWPFlag | F13: DoorLeakFlag | G13: OpacityFlag | H13: ChargingWPFlag | I13: OvenDamperWPFlag
B14: e.g.: | C14: e.g.: | D14: e.g.: | E14: e.g.: | F14: e.g.: | G14: e.g.:
B15: e.g.: | C15: e.g.: | D15: e.g.: | E15: e.g.: | F15: e.g.: | G15: e.g.:
B16: e.g.: | C16: e.g.: | D16: e.g.: | E16: e.g.: | F16: e.g.: | G16: e.g.:
B17: e.g.: | C17: e.g.: | D17: e.g.: | E17: e.g.: | F17: e.g.: | G17: e.g.:
B18: e.g.: | C18: e.g.: | D18: e.g.: | E18: e.g.: | F18: e.g.: | G18: e.g.:
B19: e.g.: | C19: e.g.: | D19: e.g.: | E19: e.g.: | F19: e.g.: | G19: e.g.:
B20: e.g.: | C20: e.g.: | D20: e.g.: | E20: e.g.: | F20: e.g.: | G20: e.g.:
B21: e.g.: | C21: e.g.: | D21: e.g.: | E21: e.g.: | F21: e.g.: | G21: e.g.:
B22: e.g.: | C22: e.g.: | D22: e.g.: | E22: e.g.: | F22: e.g.: | G22: e.g.:
B23: e.g.: | C23: e.g.: | D23: e.g.: | E23: e.g.: | F23: e.g.: | G23: e.g.:
B24: =IF(Lists!D2="","",Lists!D2) -> Complete the Company_Information tab
B25: =IF(Lists!D3="","",Lists!D3)
B26: =IF(Lists!D4="","",Lists!D4)
B27: =IF(Lists!D5="","",Lists!D5)
B28: =IF(Lists!D6="","",Lists!D6)
B29: =IF(Lists!D7="","",Lists!D7)
B30: =IF(Lists!D8="","",Lists!D8)
B31: =IF(Lists!D9="","",Lists!D9)
B32: =IF(Lists!D10="","",Lists!D10)
B33: =IF(Lists!D11="","",Lists!D11)

Sheet Door Leaks
B1: DO NOT REMOVE OR EDIT INFORMATION IN ROWS 1 THROUGH 5 FOR INTERNAL USE ONLY
B2: Template Name
B3: CitationID
B4: Template Version
B5: Last Updated Date
B6: =Welcome!B7 -> For further Paperwork Reduction Act information see: https://www.epa.gov/electronic-reporting-air-emissions/paperwork-reduction-act-pra-cedri-and-ert
B7: 40 CFR Part 63, Subpart L National Emission Standards for Coke Oven Batteries -
B8: §63.311(d) Semiannual Compliance Certification Spreadsheet Template
B12: Company Record No. (Select from dropdown) | C12: Oven Number of Each Door Where a Leak Was Not Stopped According to §63.303(c)(2) and (3) or Where a Door Leak Occurred Again During the Cycle (§63.311(d)(4)(i)) | D12: Start Date (§63.311(f)(1)(iv)) | E12: Start Time (§63.311(f)(1)(iv)) | F12: Total Duration of Leak (hours) (§63.311(d)(4)(ii)) | G12: Cause of Leak (§63.311(d)(4)(iii)) | H12: Estimate of Quantity of Each Regulated Pollutant Emitted over Emission Limit (Name and Amount including units) (§63.311(f)(1)(iv)) | I12: Method Used to Estimate Emissions (§63.311(f)(1)(iv))
B13: RecordId | C13: OvenNumber_DL | D13: StartDate_DL | E13: StartTime_DL | F13: LeakDuration_DL | G13: LeakCause_DL | H13: Estimate_DL | I13: Method_DL
B14: e.g.: 1 | C14: e.g.: Oven 5 | D14: e.g.: 2/2/2019 | E14: e.g.: 13:12 | F14: e.g.: 16.08 | G14: e.g.: Control Equipment Problems | H14: e.g.: 1.3 lb Coke Oven Gas | I14: e.g.: AP-42 emission factor
B15: e.g.: | C15: e.g.: | D15: e.g.: | E15: e.g.: | F15: e.g.: | G15: e.g.: | H15: e.g.: | I15: e.g.:
B16: e.g.: | C16: e.g.: | D16: e.g.: | E16: e.g.: | F16: e.g.: | G16: e.g.: | H16: e.g.: | I16: e.g.:
B17: e.g.: | C17: e.g.: | D17: e.g.: | E17: e.g.: | F17: e.g.: | G17: e.g.: | H17: e.g.: | I17: e.g.:
B18: e.g.: | C18: e.g.: | D18: e.g.: | E18: e.g.: | F18: e.g.: | G18: e.g.: | H18: e.g.: | I18: e.g.:
B19: e.g.: | C19: e.g.: | D19: e.g.: | E19: e.g.: | F19: e.g.: | G19: e.g.: | H19: e.g.: | I19: e.g.:
B20: e.g.: | C20: e.g.: | D20: e.g.: | E20: e.g.: | F20: e.g.: | G20: e.g.: | H20: e.g.: | I20: e.g.:
B21: e.g.: | C21: e.g.: | D21: e.g.: | E21: e.g.: | F21: e.g.: | G21: e.g.: | H21: e.g.: | I21: e.g.:
B22: e.g.: | C22: e.g.: | D22: e.g.: | E22: e.g.: | F22: e.g.: | G22: e.g.: | H22: e.g.: | I22: e.g.:
B23: e.g.: | C23: e.g.: | D23: e.g.: | E23: e.g.: | F23: e.g.: | G23: e.g.: | H23: e.g.: | I23: e.g.:

Sheet Charging Opacity
B1: DO NOT REMOVE OR EDIT INFORMATION IN ROWS 1 THROUGH 5 FOR INTERNAL USE ONLY
B2: Template Name
B3: CitationID
B4: Template Version
B5: Last Updated Date
B6: =Welcome!B7 -> For further Paperwork Reduction Act information see: https://www.epa.gov/electronic-reporting-air-emissions/paperwork-reduction-act-pra-cedri-and-ert
B7: 40 CFR Part 63, Subpart L National Emission Standards for Coke Oven Batteries -
B8: §63.311(d) Semiannual Compliance Certification Spreadsheet Template
B12: Company Record No. (Select from dropdown) | C12: Battery Where Charging Opacity Was Measured (§63.311(d)(5)) | D12: Number of Opacity Deviations (§63.311(d)(5)) | E12: Total Duration of Deviation (hours) (§63.311(d)(5)) | F12: Cause of Deviation (§63.311(d)(5)) | G12: Corrective Action Taken (§63.311(d)(5))
B13: RecordId | C13: Battery_CO | D13: NumberDeviations_CO | E13: Duration_CO | F13: DeviationCause_CO | G13: CorrectiveAction_CO
B14: e.g.: 1 | C14: e.g.: Oven 5 | D14: e.g.: 6 | E14: e.g.: 16.08 | F14: e.g.: Control Equipment Problems
B15: e.g.: | C15: e.g.: | D15: e.g.: | E15: e.g.: | F15: e.g.: | G15: e.g.:
B16: e.g.: | C16: e.g.: | D16: e.g.: | E16: e.g.: | F16: e.g.: | G16: e.g.:
B17: e.g.: | C17: e.g.: | D17: e.g.: | E17: e.g.: | F17: e.g.: | G17: e.g.:
B18: e.g.: | C18: e.g.: | D18: e.g.: | E18: e.g.: | F18: e.g.: | G18: e.g.:
B19: e.g.: | C19: e.g.: | D19: e.g.: | E19: e.g.: | F19: e.g.: | G19: e.g.:
B20: e.g.: | C20: e.g.: | D20: e.g.: | E20: e.g.: | F20: e.g.: | G20: e.g.:
B21: e.g.: | C21: e.g.: | D21: e.g.: | E21: e.g.: | F21: e.g.: | G21: e.g.:
B22: e.g.: | C22: e.g.: | D22: e.g.: | E22: e.g.: | F22: e.g.: | G22: e.g.:
B23: e.g.: | C23: e.g.: | D23: e.g.: | E23: e.g.: | F23: e.g.: | G23: e.g.:

Sheet Charging Control Device Opacity
B1: DO NOT REMOVE OR EDIT INFORMATION IN ROWS 1 THROUGH 5 FOR INTERNAL USE ONLY
B2: Template Name
B3: CitationID
B4: Template Version
B5: Last Updated Date
B6: =Welcome!B7 -> For further Paperwork Reduction Act information see: https://www.epa.gov/electronic-reporting-air-emissions/paperwork-reduction-act-pra-cedri-and-ert
B7: 40 CFR Part 63, Subpart L National Emission Standards for Coke Oven Batteries -
B8: §63.311(d) Semiannual Compliance Certification Spreadsheet Template
B12: Company Record No. (Select from dropdown) | C12: Battery Where Charging Opacity Was Measured (§63.311(d)(6)) | D12: Number of Opacity Deviations (§63.311(d)(6)) | E12: Total Duration of Deviation (hours) (§63.311(d)(6)) | F12: Cause of Deviation (§63.311(d)(6)) | G12: Corrective Action Taken (§63.311(d)(6))
B13: RecordId | C13: Battery_CCDO | D13: NumberDeviations_CCDO | E13: Duration_CCDO | F13: DeviationCause_CCDO | G13: Corrective Action_CCDO
B14: e.g.: 1 | C14: e.g.: Oven 5 | D14: e.g.: 8 | E14: e.g.: 16.08 | F14: e.g.: Control Equipment Problems | G14: e.g.:
B15: e.g.: | C15: e.g.: | D15: e.g.: | E15: e.g.: | F15: e.g.: | G15: e.g.:
B16: e.g.: | C16: e.g.: | D16: e.g.: | E16: e.g.: | F16: e.g.: | G16: e.g.:
B17: e.g.: | C17: e.g.: | D17: e.g.: | E17: e.g.: | F17: e.g.: | G17: e.g.:
B18: e.g.: | C18: e.g.: | D18: e.g.: | E18: e.g.: | F18: e.g.: | G18: e.g.:
B19: e.g.: | C19: e.g.: | D19: e.g.: | E19: e.g.: | F19: e.g.: | G19: e.g.:
B20: e.g.: | C20: e.g.: | D20: e.g.: | E20: e.g.: | F20: e.g.: | G20: e.g.:
B21: e.g.: | C21: e.g.: | D21: e.g.: | E21: e.g.: | F21: e.g.: | G21: e.g.:
B22: e.g.: | C22: e.g.: | D22: e.g.: | E22: e.g.: | F22: e.g.: | G22: e.g.:
B23: e.g.: | C23: e.g.: | D23: e.g.: | E23: e.g.: | F23: e.g.: | G23: e.g.:

Sheet Shed Opacity
B1: DO NOT REMOVE OR EDIT INFORMATION IN ROWS 1 THROUGH 5 FOR INTERNAL USE ONLY
B2: Template Name
B3: CitationID
B4: Template Version
B5: Last Updated Date
B6: =Welcome!B7 -> For further Paperwork Reduction Act information see: https://www.epa.gov/electronic-reporting-air-emissions/paperwork-reduction-act-pra-cedri-and-ert
B7: 40 CFR Part 63, Subpart L National Emission Standards for Coke Oven Batteries -
B8: §63.311(d) Semiannual Compliance Certification Spreadsheet Template
B12: Company Record No. (Select from dropdown) | C12: Affected Source (§63.311(f)(2)(ii)(A)) | D12: Start Date (§63.311(f)(2)(ii)(A)) | E12: Start Time (§63.311(f)(2)(ii)(A)) | F12: Total Duration of Leak (hours) (§63.311(f)(2)(ii)(A)) | G12: Cause of Leak (§63.311(f)(2)(ii)(A)) | H12: Estimate of Quantity of Each Regulated Pollutant Emitted over Emission Limit (Name and Amount including units) (§63.311(f)(2)(ii)(A)) | I12: Method Used to Estimate Emissions (§63.311(f)(2)(ii)(A))
B13: RecordId | C13: OvenNumber_DL | D13: StartDate_DL | E13: StartTime_DL | F13: LeakDuration_DL | G13: LeakCause_DL | H13: Estimate_DL | I13: Method_DL
B14: e.g.: 1 | C14: e.g.: Oven 5 | D14: e.g.: 2/2/2019 | E14: e.g.: 13:12 | F14: e.g.: 16.08 | G14: e.g.: Control Equipment Problems | H14: e.g.: 1.3 lb Coke Oven Gas | I14: e.g.: AP-42 emission factor
B15: e.g.: | C15: e.g.: | D15: e.g.: | E15: e.g.: | F15: e.g.: | G15: e.g.: | H15: e.g.: | I15: e.g.:
B16: e.g.: | C16: e.g.: | D16: e.g.: | E16: e.g.: | F16: e.g.: | G16: e.g.: | H16: e.g.: | I16: e.g.:
B17: e.g.: | C17: e.g.: | D17: e.g.: | E17: e.g.: | F17: e.g.: | G17: e.g.: | H17: e.g.: | I17: e.g.:
B18: e.g.: | C18: e.g.: | D18: e.g.: | E18: e.g.: | F18: e.g.: | G18: e.g.: | H18: e.g.: | I18: e.g.:
B19: e.g.: | C19: e.g.: | D19: e.g.: | E19: e.g.: | F19: e.g.: | G19: e.g.: | H19: e.g.: | I19: e.g.:
B20: e.g.: | C20: e.g.: | D20: e.g.: | E20: e.g.: | F20: e.g.: | G20: e.g.: | H20: e.g.: | I20: e.g.:
B21: e.g.: | C21: e.g.: | D21: e.g.: | E21: e.g.: | F21: e.g.: | G21: e.g.: | H21: e.g.: | I21: e.g.:
B22: e.g.: | C22: e.g.: | D22: e.g.: | E22: e.g.: | F22: e.g.: | G22: e.g.: | H22: e.g.: | I22: e.g.:
B23: e.g.: | C23: e.g.: | D23: e.g.: | E23: e.g.: | F23: e.g.: | G23: e.g.: | H23: e.g.: | I23: e.g.:

Sheet Revisions
A1: =+Company_Information!B7 -> 40 CFR Part 63, Subpart L National Emission Standards for Coke Oven Batteries -
A2: =+Company_Information!B8 -> §63.311(d) Semiannual Compliance Certification Spreadsheet Template
A3: Revision Number | B3: Date | C3: Revisions
A4: Draft | B4: 45047 | C4: Draft version released in Docket
A5: Final ICR Draft | B5: 45375 | C5: Company_Information: added "Select from Dropdown List" to header of column H.
A6: 1 | B6: 45483 | C6: Initial release version

Sheet Worksheet Map
A1: Worksheet Name | B1: Parent | C1: JSON Key | D1: Parent Primary Key | E1: Child Foreign Key
A2: Company_Information | C2: records
A3: Certifications | B3: records | C3: Certifications | D3: RecordId | E3: RecordId
A4: Door Leaks | B4: records | C4: DoorLeaks | D4: RecordId | E4: RecordId
A5: Charging Opacity | B5: records | C5: ChargingOpacity | D5: RecordId | E5: RecordId
A6: Charging Control Device Opacity | B6: records | C6: ChargingControlDeviceOpacity | D6: RecordId | E6: RecordId
