Workbook
Name BW_default: 'Exposure Factors'!$C$3
Name BW_women: 'Exposure Factors'!$D$3
Name WY_CT_default: 'Exposure Factors'!$C$7
Name WY_CT_women: 'Exposure Factors'!$D$7
Name WY_HE_default: 'Exposure Factors'!$C$6
Name WY_HE_women: 'Exposure Factors'!$D$6

Sheet Cover Page
B3: Risk Evaluation for Tris(2-chloroethyl) Phosphate (TCEP)
B7: Supplemental Information File: Risk Calculator for Occupational Exposures
B9: CASRN: 115-96-8
B11: September 2024

Sheet Read Me
B2: Description of this workbook
B3: The risk calculator workbook contains the following spreadsheets: Dashboard, Bridge Table, RR, Health Data, Inhalation Exposure, Dermal Crosswalk, Dermal Exposures, List Values, and Exposure Factors. The workbook is designed such that the user need only to use the first two spreadsheets which have tabs colored green and contain the results of the risk calculator i.e. the Dashboard and the RR. The remaining spreadsheets contain data storage and calculation spreadsheets.
B5: Tab(s) | C5: Description
B6: Dashboard | C6: The Dashboard is an interactive spreadsheet that allows a user to view exposure results for a selected Occupational Exposure Scenario (OES) and with a single PPE option of their choosing (i.e. respirator APF or Glove Protection Factor PF). The user can select the desired OES, PPE options and for dermal exposures the worker type (either an average adult or a female of reproductive age) from a drop-down menu. The exposure estimates are shown in the “Exposure Outputs” section for both inhalation and dermal routes and for high-end and central tendency exposures. For inhalation exposures the columns show results for both worker and ONU exposures. The “Risk Estimation” sections are separated into acute, chronic non-cancer, cancer, and sub-chronic non-cancer sections. For each section there is a brief description of the hazard endpoint and the hazard value i.e. HEC for non-cancer effects from inhalation exposure, HED for non-cancer effects from dermal exposure or a slope factor for cancer and the benchmark MOEs or benchmark values for cancer risk are provided to the right of the hazard value. The risk estimations show two columns of risk estimates: one column for exposures without PPE and one column for the results of the user-selected PPE option. These two columns allow the user to compare with and without PPE results side-by-side. The Dashboard automatically shades the cancer risk and MOE cells when they exceed the cancer benchmark or the benchmark MOE value.
B7: Bridge Table | C7: The table provides summary of the risk estimates for inhalation and dermal exposures for all occupational exposure scenarios. Risk estimates that exceed the benchmark (i.e., MOEs less than the benchmark MOE or cancer risks greater than the cancer risk benchmark) are highlighted by bolding the number and shading the cell.
B8: RR | C8: The RR spreadsheet is an expanded version of the Dashboard. Similar to the Dashboard the RR allows the user to select a OES. However, the user also selects to see results for a worker or ONU and, instead of requiring a user to select a single exposure reduction option, the Heat Map displays all the PPE options. The RR spreadsheet has a column each for no PPE and each PPE option (i.e. APF or PF). The RR spreadsheet has a row for each toxicity endpoint, and each row shows the cancer risk or MOE values. Similar to the Dashboard, the RR spreadsheet shades results if the MOE or cancer risk exceeds the benchmark MOE or cancer benchmark.
B9: Health Data, Inhalation Exposure, Dermal Crosswalk, Dermal Exposures, List Values, and Exposure Factors | C9: As described above the remaining spreadsheets are data storage and calculation spreadsheets. These worksheets store the inhalation and dermal exposure estimates, health hazard values, and some of the risk calculations. The user does not need to access these worksheets to use the Dashboard and RR spreadsheets as described above; all results are automatically loaded into the Dashboard and RR spreadsheets.

Sheet Dashboard
C2: Condition of Use | D2: Throughput | F2: Scenario | I2: Personal Protective Equipment (PPE) | M2: Dermal
C3: Select the OES (select) | D3: Select the Throughput (select) | F3: Description/Number of Sites | I3: Respirator Protection Factor (Select) | J3: Glove Protection Factor (Select) | M3: Worker Type (select)
C4: 6f - Commercial Use - Paints & Coatings - Spray (2-part reactive coatings, 250-day application) | D4: 2,500-lb throughput | F4: =VLOOKUP($C$4,'Inhalation Exposure'!C4:F60,4,FALSE) -> Spray 250-day application; resin paints & coatings (mist) | I4: 10 | J4: 5 | M4: Average Adult Worker
C6: 8-hr TWA Exposures | M6: Dermal
C7: Exposure Outputs | M7: Exposure Outputs
C8: Category | D8: Exposure Level | E8: 8-hour TWA | F8: Acute, Non-Cancer Exposures | G8: Subchronic, Non-Cancer Exposures | H8: Chronic, Non-Cancer Exposures | I8: Chronic, Cancer Exposures | M8: Category | N8: Exposure Level | O8: Potential Dose Rate | P8: Acute Retained Dose | Q8: Subchronic Retained Dose, Non-Cancer | R8: Chronic Retained Dose, Non-Cancer | S8: Chronic Retained Dose, Cancer
E9: CTCEP, 8-hr TWA (mg/m3) | F9: ACTCEP (mg/m3) | G9: ADCTCEP, subchronic (mg/m3) | H9: ADCTCEP (mg/m3) | I9: LADCTCEP (mg/m3) | O9: APDRexp (mg/day) | P9: ARDTCEP (mg/kg-day) | Q9: SCRDTCEP (mg/kg-day) | R9: CRDTCEP (mg/kg-day) | S9: CRDTCEP (mg/kg-day)
C10: Average Adult Worker | D10: High End | E10: =SUMIFS('Inhalation Exposure'!$I:$I,'Inhalation Exposure'!$C:$C,$C$4,'Inhalation Exposure'!$D:$D,$C10,'Inhalation Exposure'!$E:$E,$D$4) -> 5.525 | F10: =SUMIFS('Inhalation Exposure'!$M:$M,'Inhalation Exposure'!$C:$C,$C$4,'Inhalation Exposure'!$D:$D,$C10,'Inhalation Exposure'!$E:$E,$D$4) -> 3.7585034 | G10: =SUMIFS('Inhalation Exposure'!$AA:$AA,'Inhalation Exposure'!$C:$C,$C$4,'Inhalation Exposure'!$D:$D,$C10,'Inhalation Exposure'!$E:$E,$D$4) -> 2.7562358 | H10: =SUMIFS('Inhalation Exposure'!$Q:$Q,'Inhalation Exposure'!$C:$C,$C$4,'Inhalation Exposure'!$D:$D,$C10,'Inhalation Exposure'!$E:$E,$D$4) -> 2.5743174 | I10: =SUMIFS('Inhalation Exposure'!$U:$U,'Inhalation Exposure'!$C:$C,$C$4,'Inhalation Exposure'!$D:$D,$C10,'Inhalation Exposure'!$E:$E,$D$4) -> 1.3201628 | M10: Worker, No Gloves | N10: High End | O10: ='Dermal Exposure'!M5 -> 641.97325 | P10: ='Dermal Exposure'!N5 -> 8.0246656 | Q10: ='Dermal Exposure'!Q5 -> 5.8847548 | R10: ='Dermal Exposure'!O5 -> 5.4963463 | S10: ='Dermal Exposure'!P5 -> 2.8186391
C11: ONU | E11: =SUMIFS('Inhalation Exposure'!$I:$I,'Inhalation Exposure'!$C:$C,$C$4,'Inhalation Exposure'!$D:$D,$C11,'Inhalation Exposure'!$E:$E,$D$4) -> 0 | F11: =SUMIFS('Inhalation Exposure'!$M:$M,'Inhalation Exposure'!$C:$C,$C$4,'Inhalation Exposure'!$D:$D,$C11,'Inhalation Exposure'!$E:$E,$D$4) -> 0 | G11: =SUMIFS('Inhalation Exposure'!$AA:$AA,'Inhalation Exposure'!$C:$C,$C$4,'Inhalation Exposure'!$D:$D,$C11,'Inhalation Exposure'!$E:$E,$D$4) -> 0 | H11: =SUMIFS('Inhalation Exposure'!$Q:$Q,'Inhalation Exposure'!$C:$C,$C$4,'Inhalation Exposure'!$D:$D,$C11,'Inhalation Exposure'!$E:$E,$D$4) -> 0 | I11: =SUMIFS('Inhalation Exposure'!$U:$U,'Inhalation Exposure'!$C:$C,$C$4,'Inhalation Exposure'!$D:$D,$C11,'Inhalation Exposure'!$E:$E,$D$4) -> 0 | N11: Central Tendency | O11: ='Dermal Exposure'!M6 -> 118.42225 | P11: ='Dermal Exposure'!N6 -> 1.4802781 | Q11: ='Dermal Exposure'!Q6 -> 1.0855373 | R11: ='Dermal Exposure'!O6 -> 1.0138891 | S11: ='Dermal Exposure'!P6 -> 0.40295593
C12: Average Adult Worker | D12: Central Tendency | E12: =SUMIFS('Inhalation Exposure'!$J:$J,'Inhalation Exposure'!$C:$C,$C$4,'Inhalation Exposure'!$D:$D,$C12,'Inhalation Exposure'!$E:$E,$D$4) -> 0.845 | F12: =SUMIFS('Inhalation Exposure'!$N:$N,'Inhalation Exposure'!$C:$C,$C$4,'Inhalation Exposure'!$D:$D,$C12,'Inhalation Exposure'!$E:$E,$D$4) -> 0.57482993 | G12: =SUMIFS('Inhalation Exposure'!$AB:$AB,'Inhalation Exposure'!$C:$C,$C$4,'Inhalation Exposure'!$D:$D,$C12,'Inhalation Exposure'!$E:$E,$D$4) -> 0.42154195 | H12: =SUMIFS('Inhalation Exposure'!$R:$R,'Inhalation Exposure'!$C:$C,$C$4,'Inhalation Exposure'!$D:$D,$C12,'Inhalation Exposure'!$E:$E,$D$4) -> 0.39371913 | I12: =SUMIFS('Inhalation Exposure'!$V:$V,'Inhalation Exposure'!$C:$C,$C$4,'Inhalation Exposure'!$D:$D,$C12,'Inhalation Exposure'!$E:$E,$D$4) -> 0.15647812 | M12: =_xlfn.CONCAT("Worker with Gloves; PF of ",J4) -> Worker with Gloves; PF of 5 | N12: High End | O12: =O10/$J$4 -> 128.39465 | P12: =P10/$J$4 -> 1.6049331 | Q12: =Q10/$J$4 -> 1.176951 | R12: =R10/$J$4 -> 1.0992693 | S12: =S10/$J$4 -> 0.56372783
C13: ONU | E13: =SUMIFS('Inhalation Exposure'!$J:$J,'Inhalation Exposure'!$C:$C,$C$4,'Inhalation Exposure'!$D:$D,$C13,'Inhalation Exposure'!$E:$E,$D$4) -> 0 | F13: =SUMIFS('Inhalation Exposure'!$N:$N,'Inhalation Exposure'!$C:$C,$C$4,'Inhalation Exposure'!$D:$D,$C13,'Inhalation Exposure'!$E:$E,$D$4) -> 0 | G13: =SUMIFS('Inhalation Exposure'!$AB:$AB,'Inhalation Exposure'!$C:$C,$C$4,'Inhalation Exposure'!$D:$D,$C13,'Inhalation Exposure'!$E:$E,$D$4) -> 0 | H13: =SUMIFS('Inhalation Exposure'!$R:$R,'Inhalation Exposure'!$C:$C,$C$4,'Inhalation Exposure'!$D:$D,$C13,'Inhalation Exposure'!$E:$E,$D$4) -> 0 | I13: =SUMIFS('Inhalation Exposure'!$V:$V,'Inhalation Exposure'!$C:$C,$C$4,'Inhalation Exposure'!$D:$D,$C13,'Inhalation Exposure'!$E:$E,$D$4) -> 0 | N13: Central Tendency | O13: =O11/$J$4 -> 23.68445 | P13: =P11/$J$4 -> 0.29605563 | Q13: =Q11/$J$4 -> 0.21710746 | R13: =R11/$J$4 -> 0.20277783 | S13: =S11/$J$4 -> 0.080591187
C15: Risk Estimation for Acute Inhalation Exposures | M15: Risk Estimation for Acute Dermal Exposures
C16: Health Effect, Endpoint and Study | D16: HEC (mg/m3) | E16: Exposure Level | F16: Benchmark MOE (= Total UF) | G16: Acute Exposure Estimates | I16: =_xlfn.CONCAT("Respirator Scenario: APF of ",$I$4) -> Respirator Scenario: APF of 10 | M16: Health Effect, Endpoint and Study | N16: HED (mg/kg) | O16: Exposure Level | P16: Benchmark MOE (= Total UF) | Q16: Acute Exposure Estimates | R16: Gloved Scenarios
G17: Worker MOE | H17: ONU MOE | I17: Worker MOE | J17: ONU MOE | Q17: Worker MOE, No Gloves | R17: =_xlfn.CONCAT("Worker MOE with Gloves: PF of ",$J$4) -> Worker MOE with Gloves: PF of 5
B18: Tox1 | C18: ='Health Data'!D6 -> Tremors (S) | D18: =VLOOKUP($B18,'Health Data'!$F$6:$K$8,2,FALSE) -> 51.5 | E18: High End | F18: =VLOOKUP($B$18,'Health Data'!$F$6:$I$8,4,FALSE) -> 30 | G18: =IFERROR(D18/$F$10, "") -> 13.702262 | H18: =IFERROR(D18/$F$11, "") | I18: =IFERROR(G18*$I$4,"") -> 137.02262 | J18: =IFERROR(H18*$I$4,"") | L18: Tox1 | M18: ='Health Data'!D6 -> Tremors (S) | N18: =VLOOKUP($L$18,'Health Data'!$F$6:$K$8,3,FALSE) -> 9.46 | O18: High End | P18: =VLOOKUP($L$18,'Health Data'!$F$6:$I$8,4,FALSE) -> 30 | Q18: =IFERROR(N18/$P$10, "") -> 1.1788653 | R18: =IFERROR(N18/$P$12, "") -> 5.8943266
E19: Central Tendency | F19: =VLOOKUP($B$18,'Health Data'!$F$6:$I$8,4,FALSE) -> 30 | G19: =IFERROR(D18/$F$12, "") -> 89.591716 | H19: =IFERROR(D18/$F$13, "") | I19: =IFERROR(G19*$I$4,"") -> 895.91716 | J19: =IFERROR(H19*$I$4,"") | O19: Central Tendency | P19: =VLOOKUP($L$18,'Health Data'!$F$6:$I$8,4,FALSE) -> 30 | Q19: =IFERROR(N18/$P$11,"") -> 6.3906909 | R19: =IFERROR(N18/$P$13,"") -> 31.953455
C21: Risk Estimation for Subchronic, Non-Cancer Inhalation Exposures | M21: Risk Estimation for Sub-chronic, Non-Cancer Dermal Exposures
C22: Health Effect, Endpoint and Study | D22: HEC (mg/m3) | E22: Exposure Level | F22: Benchmark MOE (= Total UF) | G22: Sub-Chronic Exposure Estimates | I22: =_xlfn.CONCAT("Respirator Scenario: APF of ",$I$4) -> Respirator Scenario: APF of 10 | M22: Health Effect, Endpoint and Study | N22: HED (mg/kg) | O22: Exposure Level | P22: Benchmark MOE (= Total UF) | Q22: Sub-chronic Exposure Estimates | R22: Gloved Scenarios
G23: Worker MOE | H23: ONU MOE | I23: Worker MOE | J23: ONU MOE | Q23: Worker MOE, No Gloves | R23: =_xlfn.CONCAT("Worker MOE with Gloves: PF of ",$J$4) -> Worker MOE with Gloves: PF of 5
B24: Tox2 | C24: ='Health Data'!D7 -> Reproductive toxicity | D24: =VLOOKUP($B24,'Health Data'!$F$6:$K$8,2,FALSE) -> 14.9 | E24: High End | F24: =VLOOKUP($B$30,'Health Data'!$F$6:$I$8,4,FALSE) -> 30 | G24: =IFERROR(D24/$G$10, "") -> 5.4059235 | H24: =IFERROR(D24/$G$11, "") | I24: =IFERROR(G24*$I$4,"") -> 54.059235 | J24: =IFERROR(H24*$I$4,"") | L24: Tox2 | M24: ='Health Data'!D7 -> Reproductive toxicity | N24: =VLOOKUP($L$24,'Health Data'!$F$6:$K$8,3,FALSE) -> 2.73 | O24: High End | P24: =VLOOKUP($L$30,'Health Data'!$F$6:$I$8,4,FALSE) -> 30 | Q24: =IFERROR(N24/$Q$10, "") -> 0.46391058 | R24: =IFERROR(N24/$Q$12, "") -> 2.3195529
E25: Central Tendency | F25: =VLOOKUP($B$30,'Health Data'!$F$6:$I$8,4,FALSE) -> 30 | G25: =IFERROR(D24/$G$12, "") -> 35.346423 | H25: =IFERROR(D24/$G$13, "") | I25: =IFERROR(G25*$I$4,"") -> 353.46423 | J25: =IFERROR(H25*$I$4,"") | O25: Central Tendency | P25: =VLOOKUP($L$30,'Health Data'!$F$6:$I$8,4,FALSE) -> 30 | Q25: =IFERROR(N24/$Q$11,"") -> 2.5148837 | R25: =IFERROR(N24/$Q$13,"") -> 12.574418
C27: Risk Estimation for Chronic, Non-Cancer Inhalation Exposures | M27: Risk Estimation for Chronic, Non-Cancer Dermal Exposures
C28: Health Effect, Endpoint and Study | D28: HEC (mg/m3) | E28: Exposure Level | F28: Benchmark MOE (= Total UF) | G28: Chronic Exposure Estimates | I28: =_xlfn.CONCAT("Respirator Scenario: APF of ",$I$4) -> Respirator Scenario: APF of 10 | M28: Health Effect, Endpoint and Study | N28: HED (mg/kg) | O28: Exposure Level | P28: Benchmark MOE (= Total UF) | Q28: Chronic Exposure Estimates | R28: Gloved Scenarios
G29: Worker MOE | H29: ONU MOE | I29: Worker MOE | J29: ONU MOE | Q29: Worker MOE, No Gloves | R29: =_xlfn.CONCAT("Worker MOE with Gloves: PF of ",$J$4) -> Worker MOE with Gloves: PF of 5
B30: Tox2 | C30: ='Health Data'!D7 -> Reproductive toxicity | D30: =VLOOKUP($B30,'Health Data'!$F$6:$K$8,2,FALSE) -> 14.9 | E30: High End | F30: =VLOOKUP($B$30,'Health Data'!$F$6:$I$8,4,FALSE) -> 30 | G30: =IFERROR(D30/$H$10, "") -> 5.7879421 | H30: =IFERROR(D30/$H$11, "") | I30: =IFERROR(G30*$I$4,"") -> 57.879421 | J30: =IFERROR(H30*$I$4,"") | L30: Tox2 | M30: ='Health Data'!D7 -> Reproductive toxicity | N30: =VLOOKUP($L$30,'Health Data'!$F$6:$K$8,3,FALSE) -> 2.73 | O30: High End | P30: =VLOOKUP($L$30,'Health Data'!$F$6:$I$8,4,FALSE) -> 30 | Q30: =IFERROR(N30/$R$10, "") -> 0.49669359 | R30: =IFERROR(N30/$R$12, "") -> 2.483468
E31: Central Tendency | F31: =VLOOKUP($B$30,'Health Data'!$F$6:$I$8,4,FALSE) -> 30 | G31: =IFERROR(D30/$H$12, "") -> 37.844237 | H31: =IFERROR(D30/$H$13, "") | I31: =IFERROR(G31*$I$4,"") -> 378.44237 | J31: =IFERROR(H31*$I$4,"") | O31: Central Tendency | P31: =VLOOKUP($L$30,'Health Data'!$F$6:$I$8,4,FALSE) -> 30 | Q31: =IFERROR(N30/$R$11,"") -> 2.6926021 | R31: =IFERROR(N30/$R$13,"") -> 13.463011
C33: Cancer Risks | G33: Chronic Cancer Exposure Estimates | I33: =_xlfn.CONCAT("Respirator Scenario: APF of ",$I$4) -> Respirator Scenario: APF of 10 | M33: Cancer Risks | Q33: Chronic Cancer Exposure Estimates | R33: Gloved Scenarios
C34: Risk Estimate | D34: IUR (mg/m3)-1 | E34: Exposure Level | F34: Benchmark | G34: Worker | H34: ONU | I34: Worker | J34: ONU | M34: Risk Estimate | N34: CSF (mg/kg-d)-1 | O34: Exposure Level | P34: Benchmark | Q34: Worker, No Gloves | R34: =_xlfn.CONCAT("Worker with Gloves: PF of ",$J$4) -> Worker with Gloves: PF of 5
B35: Tox3 | C35: ='Health Data'!D8 -> Renal tubule adenomas and carcinomas in male Fischer 344 rats (S) | D35: =VLOOKUP($B35,'Health Data'!$F$6:$K$8,5,FALSE) -> 0.00451 | E35: High End | F35: =VLOOKUP($B$35,'Health Data'!$F$6:$I$8,4,FALSE) -> 0.0001 | G35: =IFERROR(I10*D35, "") -> 0.0059539341 | H35: =IF(I11*D35=0, "",I11*D35) | I35: =IFERROR(G35/$I$4,"") -> 0.00059539341 | J35: =IFERROR(H35/$I$4,"") | L35: Tox3 | M35: ='Health Data'!D8 -> Renal tubule adenomas and carcinomas in male Fischer 344 rats (S) | N35: =VLOOKUP($L$35,'Health Data'!$F$6:$K$8,6,FALSE) -> 0.0245 | O35: High End | P35: =VLOOKUP($L$35,'Health Data'!$F$6:$I$8,4,FALSE) -> 0.0001 | Q35: =IFERROR($S$10*N35, "") -> 0.069056659 | R35: =IFERROR($S$12*N35, "") -> 0.013811332
E36: Central Tendency | F36: =VLOOKUP($B$35,'Health Data'!$F$6:$I$8,4,FALSE) -> 0.0001 | G36: =IFERROR(I12*D35, "") -> 0.0007057163 | H36: =IF(I13*D35=0, "",I13*D35) | I36: =IFERROR(G36/$I$4,"") -> 7.057163e-05 | J36: =IFERROR(H36/$I$4,"") | O36: Central Tendency | Q36: =IFERROR($S$11*N35, "") -> 0.0098724204 | R36: =IFERROR($S$13*N35, "") -> 0.0019744841
C66: Inhalation Cancer Risk Estimates | D66: Cancer Risk | E66: =_xlfn.CONCAT("Cancer Risk with APF of ",$I$4) -> Cancer Risk with APF of 10 | M66: Dermal Cancer Risk Estimates | N66: High-End
C67: ONU: 50th Percentile | D67: =H36 | E67: =J36 | M67: =Q34 -> Worker, No Gloves | N67: =Q35 -> 0.069056659
C68: ONU: 95th Percentile | D68: =H35 | E68: =J35 | M68: =R34 -> Worker with Gloves: PF of 5 | N68: =R35 -> 0.013811332
C69: Worker: 50th Percentile | D69: =G36 -> 0.0007057163 | E69: =I36 -> 7.057163e-05
C70: Worker: 95th Percentile | D70: =G35 -> 0.0059539341 | E70: =I35 -> 0.00059539341

Sheet RR
H2: Inhalation Exposure | J2: Occupational Exposure Scenario (OES) | K2: Throughput | L2: Scenario | R2: Dermal Exposure
H3: Exposure Type (select) | J3: Select the OES (select) | K3: Select the Throughput (select) | L3: Description/Number of Sites | R3: Worker Type (Select)
H4: Worker | J4: 1 - Manufacturing - Import - Repackaging | K4: 2,500-lb throughput | L4: =VLOOKUP($J$4,'Inhalation Exposure'!C4:F60,4,FALSE) -> 8-hr shift; 1 site | R4: Average Adult Worker
H6: 8-hr TWA Exposures | R6: Dermal
H7: Exposure Outputs | R7: Exposure Outputs
H8: Category | I8: Exposure Level | J8: 8-hour TWA | K8: Acute, Non-Cancer Exposures | L8: Subchronic, Non-Cancer Exposures | M8: Chronic, Non-Cancer Exposures | N8: Chronic, Cancer Exposures | R8: Category | S8: Exposure Level | T8: Potential Dose Rate | U8: Acute Retained Dose | V8: Sub-chronic Retained Dose, Non-Cancer | W8: Chronic Retained Dose, Non-Cancer | X8: Chronic Retained Dose, Cancer
J9: CTCEP, 8-hr TWA (mg/m3) | K9: ACTCEP (mg/m3) | L9: ADCTCEP, subchronic (mg/m3) | M9: ADCTCEP (mg/m3) | N9: LADCTCEP (mg/m3) | T9: APDRexp (mg/day) | U9: ARDTCEP (mg/kg-day) | V9: SCRDTCEP (mg/kg-day) | W9: CRDTCEP (mg/kg-day) | X9: CRDTCEP (mg/kg-day)
H10: Average Adult Worker | I10: High End | J10: =SUMIFS('Inhalation Exposure'!$I:$I,'Inhalation Exposure'!$C:$C,$J$4,'Inhalation Exposure'!$D:$D,$H10,'Inhalation Exposure'!$E:$E,$K$4) -> 0.04082565 | K10: =SUMIFS('Inhalation Exposure'!$M:$M,'Inhalation Exposure'!$C:$C,$J$4,'Inhalation Exposure'!$D:$D,$H10,'Inhalation Exposure'!$E:$E,$K$4) -> 0.027772551 | L10: =SUMIFS('Inhalation Exposure'!$AA:$AA,'Inhalation Exposure'!$C:$C,$J$4,'Inhalation Exposure'!$D:$D,$H10,'Inhalation Exposure'!$E:$E,$K$4) -> 0.0037192045 | M10: =SUMIFS('Inhalation Exposure'!$Q:$Q,'Inhalation Exposure'!$C:$C,$J$4,'Inhalation Exposure'!$D:$D,$H10,'Inhalation Exposure'!$E:$E,$K$4) -> 0.00030568804 | N10: =SUMIFS('Inhalation Exposure'!$U:$U,'Inhalation Exposure'!$C:$C,$J$4,'Inhalation Exposure'!$D:$D,$H10,'Inhalation Exposure'!$E:$E,$K$4) -> 0.00012194802 | R10: Worker, No Gloves | S10: High End | T10: ='Dermal Exposure'!M8 -> 523.551 | U10: ='Dermal Exposure'!N8 -> 6.5443875 | V10: ='Dermal Exposure'!Q8 -> 1.5270238 | W10: ='Dermal Exposure'!O8 -> 0.1255088 | X10: ='Dermal Exposure'!P8 -> 0.064363488
H11: ONU | J11: =SUMIFS('Inhalation Exposure'!$I:$I,'Inhalation Exposure'!$C:$C,$J$4,'Inhalation Exposure'!$D:$D,$H11,'Inhalation Exposure'!$E:$E,$K$4) -> 0 | K11: =SUMIFS('Inhalation Exposure'!$M:$M,'Inhalation Exposure'!$C:$C,$J$4,'Inhalation Exposure'!$D:$D,$H11,'Inhalation Exposure'!$E:$E,$K$4) -> 0 | L11: =SUMIFS('Inhalation Exposure'!$AA:$AA,'Inhalation Exposure'!$C:$C,$J$4,'Inhalation Exposure'!$D:$D,$H11,'Inhalation Exposure'!$E:$E,$K$4) -> 0 | M11: =SUMIFS('Inhalation Exposure'!$Q:$Q,'Inhalation Exposure'!$C:$C,$J$4,'Inhalation Exposure'!$D:$D,$H11,'Inhalation Exposure'!$E:$E,$K$4) -> 0 | N11: =SUMIFS('Inhalation Exposure'!$U:$U,'Inhalation Exposure'!$C:$C,$J$4,'Inhalation Exposure'!$D:$D,$H11,'Inhalation Exposure'!$E:$E,$K$4) -> 0 | S11: Central Tendency | T11: ='Dermal Exposure'!M9 -> 174.517 | U11: ='Dermal Exposure'!N9 -> 2.1814625 | V11: ='Dermal Exposure'!Q9 -> 0.29086167 | W11: ='Dermal Exposure'!O9 -> 0.023906438 | X11: ='Dermal Exposure'!P9 -> 0.0095012768
H12: Average Adult Worker | I12: Central Tendency | J12: =SUMIFS('Inhalation Exposure'!$J:$J,'Inhalation Exposure'!$C:$C,$J$4,'Inhalation Exposure'!$D:$D,$H12,'Inhalation Exposure'!$E:$E,$K$4) -> 0.011094965 | K12: =SUMIFS('Inhalation Exposure'!$N:$N,'Inhalation Exposure'!$C:$C,$J$4,'Inhalation Exposure'!$D:$D,$H12,'Inhalation Exposure'!$E:$E,$K$4) -> 0.0075475955 | L12: =SUMIFS('Inhalation Exposure'!$AB:$AB,'Inhalation Exposure'!$C:$C,$J$4,'Inhalation Exposure'!$D:$D,$H12,'Inhalation Exposure'!$E:$E,$K$4) -> 0.0010844309 | M12: =SUMIFS('Inhalation Exposure'!$R:$R,'Inhalation Exposure'!$C:$C,$J$4,'Inhalation Exposure'!$D:$D,$H12,'Inhalation Exposure'!$E:$E,$K$4) -> 8.913131e-05 | N12: =SUMIFS('Inhalation Exposure'!$V:$V,'Inhalation Exposure'!$C:$C,$J$4,'Inhalation Exposure'!$D:$D,$H12,'Inhalation Exposure'!$E:$E,$K$4) -> 3.3686502e-05 | R12: =_xlfn.CONCAT("Worker with Gloves; PF of ",'List Values'!H3) -> Worker with Gloves; PF of 5 | S12: High End | T12: =T10/'List Values'!$H$3 -> 104.7102 | U12: =U10/'List Values'!$H$3 -> 1.3088775 | V12: =V10/'List Values'!$H$3 -> 0.30540475 | W12: =W10/'List Values'!$H$3 -> 0.02510176 | X12: =X10/'List Values'!$H$3 -> 0.012872698
H13: ONU | J13: =SUMIFS('Inhalation Exposure'!$J:$J,'Inhalation Exposure'!$C:$C,$J$4,'Inhalation Exposure'!$D:$D,$H13,'Inhalation Exposure'!$E:$E,$K$4) -> 0 | K13: =SUMIFS('Inhalation Exposure'!$N:$N,'Inhalation Exposure'!$C:$C,$J$4,'Inhalation Exposure'!$D:$D,$H13,'Inhalation Exposure'!$E:$E,$K$4) -> 0 | L13: =SUMIFS('Inhalation Exposure'!$Z:$Z,'Inhalation Exposure'!$C:$C,$J$4,'Inhalation Exposure'!$D:$D,$H13,'Inhalation Exposure'!$E:$E,$K$4) -> 0 | M13: =SUMIFS('Inhalation Exposure'!$R:$R,'Inhalation Exposure'!$C:$C,$J$4,'Inhalation Exposure'!$D:$D,$H13,'Inhalation Exposure'!$E:$E,$K$4) -> 0 | N13: =SUMIFS('Inhalation Exposure'!$V:$V,'Inhalation Exposure'!$C:$C,$J$4,'Inhalation Exposure'!$D:$D,$H13,'Inhalation Exposure'!$E:$E,$K$4) -> 0 | S13: Central Tendency | T13: =T11/'List Values'!$H$3 -> 34.9034 | U13: =U11/'List Values'!$H$3 -> 0.4362925 | V13: =V11/'List Values'!$H$3 -> 0.058172333 | W13: =W11/'List Values'!$H$3 -> 0.0047812877 | X13: =X11/'List Values'!$H$3 -> 0.0019002554
R14: =_xlfn.CONCAT("Worker with Gloves; PF of ",'List Values'!H4) -> Worker with Gloves; PF of 10 | S14: High End | T14: =T10/'List Values'!$H$4 -> 52.3551 | U14: =U10/'List Values'!$H$4 -> 0.65443875 | V14: =V10/'List Values'!$H$4 -> 0.15270238 | W14: =W10/'List Values'!$H$4 -> 0.01255088 | X14: =X10/'List Values'!$H$4 -> 0.0064363488
S15: Central Tendency | T15: =T11/'List Values'!$H$4 -> 17.4517 | U15: =U11/'List Values'!$H$4 -> 0.21814625 | V15: =V11/'List Values'!$H$4 -> 0.029086167 | W15: =W11/'List Values'!$H$4 -> 0.0023906438 | X15: =X11/'List Values'!$H$4 -> 0.00095012768
R16: =_xlfn.CONCAT("Worker with Gloves; PF of ",'List Values'!H5) -> Worker with Gloves; PF of 20 | S16: High End | T16: =T10/'List Values'!$H$5 -> 26.17755 | U16: =U10/'List Values'!$H$5 -> 0.32721938 | V16: =V10/'List Values'!$H$5 -> 0.076351188 | W16: =W10/'List Values'!$H$5 -> 0.0062754401 | X16: =X10/'List Values'!$H$5 -> 0.0032181744
S17: Central Tendency | T17: =T11/'List Values'!$H$5 -> 8.72585 | U17: =U11/'List Values'!$H$5 -> 0.10907312 | V17: =V11/'List Values'!$H$5 -> 0.014543083 | W17: =W11/'List Values'!$H$5 -> 0.0011953219 | X17: =X11/'List Values'!$H$5 -> 0.00047506384
H19: Risk Estimation for Inhalation Exposures | R19: Risk Estimation for Dermal Exposures
C20: Risk Type | D20: Toxicity Endpoint | F20: Study | H20: HEC (mg/m3) | I20: Exposure Level | J20: Benchmark MOE (= Total UF) | K20: =_xlfn.CONCAT("Exposure Estimates: ",H4," MOE") -> Exposure Estimates: Worker MOE | R20: HED (mg/kg) | S20: Exposure Level | T20: Benchmark MOE (= Total UF) | U20: =_xlfn.CONCAT("Exposure Estimates: ",H4," MOE") -> Exposure Estimates: Worker MOE
K21: No Respirator | L21: APF = 10 | M21: APF = 25 | N21: APF = 50 | O21: APF = 1,000 | P21: APF = 10,000 | U21: No Gloves | V21: PF = 5 | W21: PF = 10 | X21: PF = 20
B22: Tox1 | C22: Acute, Non-Cancer | D22: ='Health Data'!D6 -> Tremors (S) | F22: ='Health Data'!E6 -> Moser et al. (2015) | H22: =VLOOKUP($B22,'Health Data'!$F$6:$K$8,2,FALSE) -> 51.5 | I22: High End | J22: =VLOOKUP($B22,'Health Data'!$F$6:$K$8,4,FALSE) -> 30 | K22: {=IFERROR($H22/_xlfn.IFS($H$4="Worker",$K$10,$H$4="ONU",$K$11), "")} -> 1854.3489 | L22: =IFERROR($K22*'List Values'!$E$17, "") -> 18543.489 | M22: =IFERROR($K22*'List Values'!$E$18, "") -> 46358.723 | N22: =IFERROR($K22*'List Values'!$E$19, "") -> 92717.446 | O22: =IFERROR($K22*'List Values'!$E$20, "") -> 1854348.9 | P22: =IFERROR($K22*'List Values'!$E$21, "") -> 18543489 | R22: =VLOOKUP($B22,'Health Data'!$F$6:$K$8,3,FALSE) -> 9.46 | S22: High End | T22: =VLOOKUP($B22,'Health Data'!$F$6:$K$8,4,FALSE) -> 30 | U22: =IFERROR($R22/U$10, "") -> 1.4455134 | V22: =IFERROR($R22/U$12, "") -> 7.2275671 | W22: =IFERROR($R22/U$14, "") -> 14.455134 | X22: =IFERROR($R22/U$16, "") -> 28.910269
I23: Central Tendency | K23: {=IFERROR($H22/_xlfn.IFS($H$4="Worker",$K$12,$H$4="ONU",$K$13),"")} -> 6823.3652 | L23: =IFERROR($K23*'List Values'!$E$17, "") -> 68233.652 | M23: =IFERROR($K23*'List Values'!$E$18, "") -> 170584.13 | N23: =IFERROR($K23*'List Values'!$E$19, "") -> 341168.26 | O23: =IFERROR($K23*'List Values'!$E$20, "") -> 6823365.2 | P23: =IFERROR($K23*'List Values'!$E$21, "") -> 68233652 | S23: Central Tendency | U23: =IFERROR($R22/U$11, "") -> 4.3365403 | V23: =IFERROR($R22/U$13, "") -> 21.682701 | W23: =IFERROR($R22/U$15, "") -> 43.365403 | X23: =IFERROR($R22/U$17, "") -> 86.730806
B24: Tox2 | C24: Sub-chronic, Non-Cancer | D24: ='Health Data'!D7 -> Reproductive toxicity | F24: ='Health Data'!E7 -> {Chen, 2015, xxx@@author-year} | H24: =VLOOKUP($B24,'Health Data'!$F$6:$K$8,2,FALSE) -> 14.9 | I24: High End | J24: =VLOOKUP($B24,'Health Data'!$F$6:$K$8,4,FALSE) -> 30 | K24: {=IFERROR($H24/_xlfn.IFS($H$4="Worker",$L$10,$H$4="ONU",$L$11), "")} -> 4006.2331 | L24: =IFERROR($K24*'List Values'!$E$17, "") -> 40062.331 | M24: =IFERROR($K24*'List Values'!$E$18, "") -> 100155.83 | N24: =IFERROR($K24*'List Values'!$E$19, "") -> 200311.65 | O24: =IFERROR($K24*'List Values'!$E$20, "") -> 4006233.1 | P24: =IFERROR($K24*'List Values'!$E$21, "") -> 40062331 | R24: =VLOOKUP($B24,'Health Data'!$F$6:$K$8,3,FALSE) -> 2.73 | S24: High End | T24: =VLOOKUP($B24,'Health Data'!$F$6:$K$8,4,FALSE) -> 30 | U24: =IFERROR($R24/V$10, "") -> 1.7877914 | V24: =IFERROR($R24/V$12, "") -> 8.9389572 | W24: =IFERROR($R24/V$14, "") -> 17.877914 | X24: =IFERROR($R24/V$16, "") -> 35.755829
I25: Central Tendency | K25: {=IFERROR($H24/_xlfn.IFS($H$4="Worker",$L$12,$H$4="ONU",$L$13), "")} -> 13739.925 | L25: =IFERROR($K25*'List Values'!$E$17, "") -> 137399.25 | M25: =IFERROR($K25*'List Values'!$E$18, "") -> 343498.13 | N25: =IFERROR($K25*'List Values'!$E$19, "") -> 686996.26 | O25: =IFERROR($K25*'List Values'!$E$20, "") -> 13739925 | P25: =IFERROR($K25*'List Values'!$E$21, "") -> 1.3739925e+08 | S25: Central Tendency | U25: =IFERROR($R24/V$11, "") -> 9.3859051 | V25: =IFERROR($R24/V$13, "") -> 46.929525 | W25: =IFERROR($R24/V$15, "") -> 93.859051 | X25: =IFERROR($R24/V$17, "") -> 187.7181
B26: Tox2 | C26: Chronic, Non-Cancer | D26: ='Health Data'!D7 -> Reproductive toxicity | F26: ='Health Data'!E7 -> {Chen, 2015, xxx@@author-year} | H26: =VLOOKUP($B26,'Health Data'!$F$6:$K$8,2,FALSE) -> 14.9 | I26: High End | J26: =VLOOKUP($B26,'Health Data'!$F$6:$K$8,4,FALSE) -> 30 | K26: {=IFERROR($H26/_xlfn.IFS($H$4="Worker",$M$10,$H$4="ONU",$M$11), "")} -> 48742.502 | L26: =IFERROR($K26*'List Values'!$E$17, "") -> 487425.02 | M26: =IFERROR($K26*'List Values'!$E$18, "") -> 1218562.6 | N26: =IFERROR($K26*'List Values'!$E$19, "") -> 2437125.1 | O26: =IFERROR($K26*'List Values'!$E$20, "") -> 48742502 | P26: =IFERROR($K26*'List Values'!$E$21, "") -> 4.8742502e+08 | R26: =VLOOKUP($B26,'Health Data'!$F$6:$K$8,3,FALSE) -> 2.73 | S26: High End | T26: =VLOOKUP($B26,'Health Data'!$F$6:$K$8,4,FALSE) -> 30 | U26: =IFERROR($R26/W$10, "") -> 21.751463 | V26: =IFERROR($R26/W$12, "") -> 108.75731 | W26: =IFERROR($R26/W$14, "") -> 217.51463 | X26: =IFERROR($R26/W$16, "") -> 435.02925
I27: Central Tendency | K27: {=IFERROR($H26/_xlfn.IFS($H$4="Worker",$M$12,$H$4="ONU",$M$13), "")} -> 167169.09 | L27: =IFERROR($K27*'List Values'!$E$17, "") -> 1671690.9 | M27: =IFERROR($K27*'List Values'!$E$18, "") -> 4179227.3 | N27: =IFERROR($K27*'List Values'!$E$19, "") -> 8358454.5 | O27: =IFERROR($K27*'List Values'!$E$20, "") -> 1.6716909e+08 | P27: =IFERROR($K27*'List Values'!$E$21, "") -> 1.6716909e+09 | S27: Central Tendency | U27: =IFERROR($R26/W$11, "") -> 114.19518 | V27: =IFERROR($R26/W$13, "") -> 570.97589 | W27: =IFERROR($R26/W$15, "") -> 1141.9518 | X27: =IFERROR($R26/W$17, "") -> 2283.9036
B28: Tox3 | C28: Chronic, Cancer | D28: ='Health Data'!D8 -> Renal tubule adenomas and carcinomas in male Fischer 344 rats (S) | F28: ='Health Data'!E8 -> NTP (1991) | H28: =VLOOKUP($B28,'Health Data'!$F$6:$K$8,5,FALSE) -> 0.00451 | I28: High End | J28: =VLOOKUP($B28,'Health Data'!$F$6:$K$8,4,FALSE) -> 0.0001 | K28: {=IFERROR($H28*_xlfn.IFS($H$4="Worker",$N$10,$H$4="ONU",N11), "")} -> 5.4998558e-07 | L28: =IFERROR($K28/'List Values'!$E$17, "") -> 5.4998558e-08 | M28: =IFERROR($K28/'List Values'!$E$18, "") -> 2.1999423e-08 | N28: =IFERROR($K28/'List Values'!$E$19, "") -> 1.0999712e-08 | O28: =IFERROR($K28/'List Values'!$E$20, "") -> 5.4998558e-10 | P28: =IFERROR($K28/'List Values'!$E$21, "") -> 5.4998558e-11 | R28: =VLOOKUP(B28,'Health Data'!$F$6:$K$8,6,FALSE) -> 0.0245 | S28: High End | T28: =VLOOKUP($B28,'Health Data'!$F$6:$K$8,4,FALSE) -> 0.0001 | U28: =IFERROR($R28*X$10, "") -> 0.0015769055 | V28: =IFERROR($R$28*X$12, "") -> 0.00031538109 | W28: =IFERROR($R$28*X$14, "") -> 0.00015769055 | X28: =IFERROR($R$28*X$16, "") -> 7.8845273e-05
I29: Central Tendency | K29: {=IFERROR($H28*_xlfn.IFS($H$4="Worker",$N$12,$H$4="ONU",N13), "")} -> 1.5192612e-07 | L29: =IFERROR($K29/'List Values'!$E$17, "") -> 1.5192612e-08 | M29: =IFERROR($K29/'List Values'!$E$18, "") -> 6.0770449e-09 | N29: =IFERROR($K29/'List Values'!$E$19, "") -> 3.0385225e-09 | O29: =IFERROR($K29/'List Values'!$E$20, "") -> 1.5192612e-10 | P29: =IFERROR($K29/'List Values'!$E$21, "") -> 1.5192612e-11 | S29: Central Tendency | U29: =IFERROR($R28*X$11, "") -> 0.00023278128 | V29: =IFERROR($R28*X$13, "") -> 4.6556256e-05 | W29: =IFERROR($R$28*X$15, "") -> 2.3278128e-05 | X29: =IFERROR($R$28*X$17, "") -> 1.1639064e-05
H56: Inhalation Cancer Risk Estimates | I56: =I28 -> High End | J56: =I29 -> Central Tendency | R56: Dermal Cancer Risk Estimates | S56: =S28 -> High End | T56: =S29 -> Central Tendency
H57: No Respirator | I57: =K28 -> 5.4998558e-07 | J57: =K29 -> 1.5192612e-07 | R57: No Gloves (PF = 1) | S57: =U28 -> 0.0015769055 | T57: =U29 -> 0.00023278128
H58: APF = 10 | I58: =L28 -> 5.4998558e-08 | J58: =L29 -> 1.5192612e-08 | R58: Protective Gloves (PF = 5) | S58: =V28 -> 0.00031538109 | T58: =V29 -> 4.6556256e-05
H59: APF = 25 | I59: =M28 -> 2.1999423e-08 | J59: =M29 -> 6.0770449e-09 | R59: Protective Gloves (Commercial uses, PF = 10) | S59: =W28 -> 0.00015769055 | T59: =W29 -> 2.3278128e-05
A60: = | H60: APF = 50 | I60: =N28 -> 1.0999712e-08 | J60: =N29 -> 3.0385225e-09 | R60: Protective Gloves (Industrial uses, PF = 20) | S60: =X28 -> 7.8845273e-05 | T60: =X29 -> 1.1639064e-05
H61: APF = 1,000 | I61: =O28 -> 5.4998558e-10 | J61: =O29 -> 1.5192612e-10
H62: APF = 10,000 | I62: =P28 -> 5.4998558e-11 | J62: =P29 -> 1.5192612e-11

Sheet Health Data
B2: Look-up Values and Risk Parameter Values
G3: Inhalation | H3: Dermal | J3: Inhalation | K3: Dermal
F4: Acute and Chronic, Non-Cancer Parameters | J4: Cancer Parameters | N4: Look-up Table Values
C5: Toxicity Endpoint | E5: Study | F5: Code | G5: HEC (mg/m3) | H5: HED (mg/kg-d) | I5: Benchmark MOE | J5: IUR (mg/m3)-1 | K5: CSF (mg/kg-d)-1 | O5: Exposure Percentiles | P5: Target Cancer Risk Level
B6: Acute, Non-Cancer | D6: Tremors (S) | E6: Moser et al. (2015) | F6: Tox1 | G6: 51.5 | H6: 9.46 | I6: 30 | J6: -- | K6: -- | O6: High End | P6: =0.000001 -> 1e-06
B7: Short-term (Sub-chronic) and Chronic, Non-Cancer | D7: Reproductive toxicity | E7: {Chen, 2015, xxx@@author-year} | F7: Tox2 | G7: 14.9 | H7: 2.73 | I7: 30 | J7: -- | K7: -- | O7: Central Tendency | P7: =0.00001 -> 1e-05
B8: Chronic, Cancer | C8: Cancer | D8: Renal tubule adenomas and carcinomas in male Fischer 344 rats (S) | E8: NTP (1991) | F8: Tox3 | G8: -- | H8: -- | I8: 0.0001 | J8: 0.00451 | K8: 0.0245
P9: =0.0001 -> 0.0001
N11: HEC conversion factor
N12: =O14/O13 -> 0.085642229 | P12: ppm/mg/m3
N13: TCEP MW | O13: 285.49 | P13: g/mol
N14: Molar Volume | O14: 24.45 | P14: L/mol

Sheet Bridge Table
B2: Summary of Risk Estimates for Inhalation and Dermal Exposures to Workers by Condition of Use
L3: Benchmarks
L4: ='Health Data'!I6 -> 30 | M4: ='Health Data'!I7 -> 30 | N4: ='Health Data'!I7 -> 30 | O4: ='Health Data'!I8 -> 0.0001 | P4: =L4 -> 30 | Q4: =M4 -> 30 | R4: =N4 -> 30 | S4: =O4 -> 0.0001
B6: OES Group | C6: Population | D6: Exposure Route | E6: Throughput | F6: Life Cycle Stage/ Category | G6: Subcategory | H6: Occupational Exposure Scenario | I6: Population | J6: Exposure Route and Duration | K6: Exposure Level | L6: Risk Estimates for No PPE | P6: Risk Estimates with PPE | U6: Select the PPE APF or PF for Each OES, Receptor, and Endpoint
L7: Acute Non-cancer (bench­mark MOE = 30) | M7: Subchronic, Non-Cancer (bench-mark MOE = 30) | N7: Chronic Non-cancer (bench­mark MOE = 30) | O7: Cancer (bench­mark = 10-4) | P7: Acute Non-cancer (bench­mark MOE = 30) | Q7: Subchronic, Non-Cancer (bench-mark MOE = 30) | R7: Chronic Non-cancer (bench­mark MOE = 30) | S7: Cancer (bench­mark = 10‑4) | U7: Acute Non-cancer | V7: Subchronic Non-Cancer | W7: Chronic Non-cancer | X7: Cancer | AA7: Acute Non-cancer HEC (mg/m3) and HED (mg/kg-d) | AB7: Short-term (Sub-chronic) HEC (mg/m3) and HED (mg/kg-d) | AC7: Chronic Non-cancer HEC (mg/m3) and HED (mg/kg-d) | AD7: Cancer IUR (mg/m3)-1 and CSF (mg/kg-d)-1
B8: 1 | C8: Average Adult Worker | D8: Inhalation | E8: 2,500-lb throughput | F8: Manufacturing / Import | G8: Import | H8: Manufacturing - Import - Repackaging | I8: Average Adult Worker | J8: Inhalation 8-hr TWA | K8: Central Tendency | L8: =IFERROR(IFERROR(VLOOKUP($D8,$Z$8:$AD$9,2,FALSE),0)/IF($D8="Inhalation",IF($K8="Central Tendency",SUMIFS('Inhalation Exposure'!$N$4:$N$61,'Inhalation Exposure'!$B$4:$B$61,$B8,'Inhalation Exposure'!$D$4:$D$61,$C8,'Inhalation Exposure'!$E$4:$E$61,$E8),SUMIFS('Inhalation Exposure'!$M$4:$M$61,'Inhalation Exposure'!$B$4:$B$61,$B8,'Inhalation Exposure'!$D$4:$D$61,$C8,'Inhalation Exposure'!$E$4:$E$61,$E8)),IF($K8="Central Tendency",SUMIFS('Dermal Crosswalk'!$P$5:$P$32,'Dermal Crosswalk'!$A$5:$A$32,'Bridge Table'!$B8,'Dermal Crosswalk'!$C$5:$C$32,'Bridge Table'!$E8),SUMIFS('Dermal Crosswalk'!$K$5:$K$32,'Dermal Crosswalk'!$A$5:$A$32,'Bridge Table'!$B8,'Dermal Crosswalk'!$C$5:$C$32,'Bridge Table'!$E8))),"--") -> 6823.3652 | M8: =IFERROR(IFERROR(VLOOKUP($D8,$Z$8:$AD$9,3,FALSE),0)/IF($D8="Inhalation",IF($K8="Central Tendency",SUMIFS('Inhalation Exposure'!$AB$4:$AB$61,'Inhalation Exposure'!$B$4:$B$61,$B8,'Inhalation Exposure'!$D$4:$D$61,$C8,'Inhalation Exposure'!$E$4:$E$61,$E8),SUMIFS('Inhalation Exposure'!$AA$4:$AA$61,'Inhalation Exposure'!$B$4:$B$61,$B8,'Inhalation Exposure'!$D$4:$D$61,$C8,'Inhalation Exposure'!$E$4:$E$61,$E8)),IF($K8="Central Tendency",SUMIFS('Dermal Crosswalk'!$S$5:$S$32,'Dermal Crosswalk'!$A$5:$A$32,'Bridge Table'!$B8,'Dermal Crosswalk'!$C$5:$C$32,'Bridge Table'!$E8),SUMIFS('Dermal Crosswalk'!$N$5:$N$32,'Dermal Crosswalk'!$A$5:$A$32,'Bridge Table'!$B8,'Dermal Crosswalk'!$C$5:$C$32,'Bridge Table'!$E8))),"--") -> 13739.925 | N8: =IFERROR(IFERROR(VLOOKUP($D8,$Z$8:$AD$9,4,FALSE),0)/IF($D8="Inhalation",IF($K8="Central Tendency",SUMIFS('Inhalation Exposure'!$R$4:$R$61,'Inhalation Exposure'!$B$4:$B$61,$B8,'Inhalation Exposure'!$D$4:$D$61,$C8,'Inhalation Exposure'!$E$4:$E$61,$E8),SUMIFS('Inhalation Exposure'!$Q$4:$Q$61,'Inhalation Exposure'!$B$4:$B$61,$B8,'Inhalation Exposure'!$D$4:$D$61,$C8,'Inhalation Exposure'!$E$4:$E$61,$E8)),IF($K8="Central Tendency",SUMIFS('Dermal Crosswalk'!$Q$5:$Q$32,'Dermal Crosswalk'!$A$5:$A$32,'Bridge Table'!$B8,'Dermal Crosswalk'!$C$5:$C$32,'Bridge Table'!$E8),SUMIFS('Dermal Crosswalk'!$L$5:$L$32,'Dermal Crosswalk'!$A$5:$A$32,'Bridge Table'!$B8,'Dermal Crosswalk'!$C$5:$C$32,'Bridge Table'!$E8))),"--") -> 167169.09 | O8: =IFERROR(IFERROR(VLOOKUP($D8,$Z$8:$AD$9,5,FALSE),0)*IF($D8="Inhalation",IF($K8="Central Tendency",SUMIFS('Inhalation Exposure'!$V$4:$V$61,'Inhalation Exposure'!$B$4:$B$61,$B8,'Inhalation Exposure'!$D$4:$D$61,$C8,'Inhalation Exposure'!$E$4:$E$61,$E8),SUMIFS('Inhalation Exposure'!$U$4:$U$61,'Inhalation Exposure'!$B$4:$B$61,$B8,'Inhalation Exposure'!$D$4:$D$61,$C8,'Inhalation Exposure'!$E$4:$E$61,$E8)),IF($K8="Central Tendency",SUMIFS('Dermal Crosswalk'!$R$5:$R$32,'Dermal Crosswalk'!$A$5:$A$32,'Bridge Table'!$B8,'Dermal Crosswalk'!$C$5:$C$32,'Bridge Table'!$E8),SUMIFS('Dermal Crosswalk'!$M$5:$M$32,'Dermal Crosswalk'!$A$5:$A$32,'Bridge Table'!$B8,'Dermal Crosswalk'!$C$5:$C$32,'Bridge Table'!$E8))),"--") -> 1.5192612e-07 | P8: =IFERROR(L8*U8,"Not Assessed") -> 68233.652 | Q8: =IFERROR(M8*V8,"Not Assessed") -> 137399.25 | R8: =IFERROR(N8*W8,"Not Assessed") -> 1671690.9 | S8: =IFERROR(O8/X8, "Not Assessed") -> 1.5192612e-08 | U8: 10 | V8: 10 | W8: 10 | X8: 10 | Z8: Inhalation | AA8: ='Health Data'!G6 -> 51.5 | AB8: ='Health Data'!G7 -> 14.9 | AC8: ='Health Data'!G7 -> 14.9 | AD8: ='Health Data'!J8 -> 0.00451
B9: 1 | C9: Average Adult Worker | D9: Inhalation | E9: 2,500-lb throughput | P9: =CONCATENATE("(APF ",U8,")") -> (APF 10) | Q9: =CONCATENATE("(APF ",V8,")") -> (APF 10) | R9: =CONCATENATE("(APF ",W8,")") -> (APF 10) | S9: =CONCATENATE("(APF ",X8,")") -> (APF 10) | U9: APF | V9: APF | W9: APF | X9: APF | Z9: Dermal | AA9: ='Health Data'!H6 -> 9.46 | AB9: ='Health Data'!H7 -> 2.73 | AC9: ='Health Data'!H7 -> 2.73 | AD9: ='Health Data'!K8 -> 0.0245
B10: 1 | C10: Average Adult Worker | D10: Inhalation | E10: 2,500-lb throughput | K10: High-End | L10: =IFERROR(IFERROR(VLOOKUP($D10,$Z$8:$AD$9,2,FALSE),0)/IF($D10="Inhalation",IF($K10="Central Tendency",SUMIFS('Inhalation Exposure'!$N$4:$N$61,'Inhalation Exposure'!$B$4:$B$61,$B10,'Inhalation Exposure'!$D$4:$D$61,$C10,'Inhalation Exposure'!$E$4:$E$61,$E10),SUMIFS('Inhalation Exposure'!$M$4:$M$61,'Inhalation Exposure'!$B$4:$B$61,$B10,'Inhalation Exposure'!$D$4:$D$61,$C10,'Inhalation Exposure'!$E$4:$E$61,$E10)),IF($K10="Central Tendency",SUMIFS('Dermal Crosswalk'!$P$5:$P$32,'Dermal Crosswalk'!$A$5:$A$32,'Bridge Table'!$B10,'Dermal Crosswalk'!$C$5:$C$32,'Bridge Table'!$E10),SUMIFS('Dermal Crosswalk'!$K$5:$K$32,'Dermal Crosswalk'!$A$5:$A$32,'Bridge Table'!$B10,'Dermal Crosswalk'!$C$5:$C$32,'Bridge Table'!$E10))),"--") -> 1854.3489 | M10: =IFERROR(IFERROR(VLOOKUP($D10,$Z$8:$AD$9,3,FALSE),0)/IF($D10="Inhalation",IF($K10="Central Tendency",SUMIFS('Inhalation Exposure'!$AB$4:$AB$61,'Inhalation Exposure'!$B$4:$B$61,$B10,'Inhalation Exposure'!$D$4:$D$61,$C10,'Inhalation Exposure'!$E$4:$E$61,$E10),SUMIFS('Inhalation Exposure'!$AA$4:$AA$61,'Inhalation Exposure'!$B$4:$B$61,$B10,'Inhalation Exposure'!$D$4:$D$61,$C10,'Inhalation Exposure'!$E$4:$E$61,$E10)),IF($K10="Central Tendency",SUMIFS('Dermal Crosswalk'!$S$5:$S$32,'Dermal Crosswalk'!$A$5:$A$32,'Bridge Table'!$B10,'Dermal Crosswalk'!$C$5:$C$32,'Bridge Table'!$E10),SUMIFS('Dermal Crosswalk'!$N$5:$N$32,'Dermal Crosswalk'!$A$5:$A$32,'Bridge Table'!$B10,'Dermal Crosswalk'!$C$5:$C$32,'Bridge Table'!$E10))),"--") -> 4006.2331 | N10: =IFERROR(IFERROR(VLOOKUP($D10,$Z$8:$AD$9,4,FALSE),0)/IF($D10="Inhalation",IF($K10="Central Tendency",SUMIFS('Inhalation Exposure'!$R$4:$R$61,'Inhalation Exposure'!$B$4:$B$61,$B10,'Inhalation Exposure'!$D$4:$D$61,$C10,'Inhalation Exposure'!$E$4:$E$61,$E10),SUMIFS('Inhalation Exposure'!$Q$4:$Q$61,'Inhalation Exposure'!$B$4:$B$61,$B10,'Inhalation Exposure'!$D$4:$D$61,$C10,'Inhalation Exposure'!$E$4:$E$61,$E10)),IF($K10="Central Tendency",SUMIFS('Dermal Crosswalk'!$Q$5:$Q$32,'Dermal Crosswalk'!$A$5:$A$32,'Bridge Table'!$B10,'Dermal Crosswalk'!$C$5:$C$32,'Bridge Table'!$E10),SUMIFS('Dermal Crosswalk'!$L$5:$L$32,'Dermal Crosswalk'!$A$5:$A$32,'Bridge Table'!$B10,'Dermal Crosswalk'!$C$5:$C$32,'Bridge Table'!$E10))),"--") -> 48742.502 | O10: =IFERROR(IFERROR(VLOOKUP($D10,$Z$8:$AD$9,5,FALSE),0)*IF($D10="Inhalation",IF($K10="Central Tendency",SUMIFS('Inhalation Exposure'!$V$4:$V$61,'Inhalation Exposure'!$B$4:$B$61,$B10,'Inhalation Exposure'!$D$4:$D$61,$C10,'Inhalation Exposure'!$E$4:$E$61,$E10),SUMIFS('Inhalation Exposure'!$U$4:$U$61,'Inhalation Exposure'!$B$4:$B$61,$B10,'Inhalation Exposure'!$D$4:$D$61,$C10,'Inhalation Exposure'!$E$4:$E$61,$E10)),IF($K10="Central Tendency",SUMIFS('Dermal Crosswalk'!$R$5:$R$32,'Dermal Crosswalk'!$A$5:$A$32,'Bridge Table'!$B10,'Dermal Crosswalk'!$C$5:$C$32,'Bridge Table'!$E10),SUMIFS('Dermal Crosswalk'!$M$5:$M$32,'Dermal Crosswalk'!$A$5:$A$32,'Bridge Table'!$B10,'Dermal Crosswalk'!$C$5:$C$32,'Bridge Table'!$E10))),"--") -> 5.4998558e-07 | P10: =IFERROR(L10*U10,"Not Assessed") -> 18543.489 | Q10: =IFERROR(M10*V10,"Not Assessed") -> 40062.331 | R10: =IFERROR(N10*W10,"Not Assessed") -> 487425.02 | S10: =IFERROR(O10/X10, "Not Assessed") -> 5.4998558e-08 | U10: 10 | V10: 10 | W10: 10 | X10: 10
B11: 1 | C11: Average Adult Worker | D11: Inhalation | E11: 2,500-lb throughput | P11: =CONCATENATE("(APF ",U10,")") -> (APF 10) | Q11: =CONCATENATE("(APF ",V10,")") -> (APF 10) | R11: =CONCATENATE("(APF ",W10,")") -> (APF 10) | S11: =CONCATENATE("(APF ",X10,")") -> (APF 10) | U11: APF | V11: APF | W11: APF | X11: APF
B12: 1 | C12: Average Adult Worker | D12: Inhalation | E12: 25,000-lb throughput | I12: Average Adult Worker | J12: Inhalation 8-hr TWA | K12: Central Tendency | L12: =IFERROR(IFERROR(VLOOKUP($D12,$Z$8:$AD$9,2,FALSE),0)/IF($D12="Inhalation",IF($K12="Central Tendency",SUMIFS('Inhalation Exposure'!$N$4:$N$61,'Inhalation Exposure'!$B$4:$B$61,$B12,'Inhalation Exposure'!$D$4:$D$61,$C12,'Inhalation Exposure'!$E$4:$E$61,$E12),SUMIFS('Inhalation Exposure'!$M$4:$M$61,'Inhalation Exposure'!$B$4:$B$61,$B12,'Inhalation Exposure'!$D$4:$D$61,$C12,'Inhalation Exposure'!$E$4:$E$61,$E12)),IF($K12="Central Tendency",SUMIFS('Dermal Crosswalk'!$P$5:$P$32,'Dermal Crosswalk'!$A$5:$A$32,'Bridge Table'!$B12,'Dermal Crosswalk'!$C$5:$C$32,'Bridge Table'!$E12),SUMIFS('Dermal Crosswalk'!$K$5:$K$32,'Dermal Crosswalk'!$A$5:$A$32,'Bridge Table'!$B12,'Dermal Crosswalk'!$C$5:$C$32,'Bridge Table'!$E12))),"--") -> 6798.7622 | M12: =IFERROR(IFERROR(VLOOKUP($D12,$Z$8:$AD$9,3,FALSE),0)/IF($D12="Inhalation",IF($K12="Central Tendency",SUMIFS('Inhalation Exposure'!$AB$4:$AB$61,'Inhalation Exposure'!$B$4:$B$61,$B12,'Inhalation Exposure'!$D$4:$D$61,$C12,'Inhalation Exposure'!$E$4:$E$61,$E12),SUMIFS('Inhalation Exposure'!$AA$4:$AA$61,'Inhalation Exposure'!$B$4:$B$61,$B12,'Inhalation Exposure'!$D$4:$D$61,$C12,'Inhalation Exposure'!$E$4:$E$61,$E12)),IF($K12="Central Tendency",SUMIFS('Dermal Crosswalk'!$S$5:$S$32,'Dermal Crosswalk'!$A$5:$A$32,'Bridge Table'!$B12,'Dermal Crosswalk'!$C$5:$C$32,'Bridge Table'!$E12),SUMIFS('Dermal Crosswalk'!$N$5:$N$32,'Dermal Crosswalk'!$A$5:$A$32,'Bridge Table'!$B12,'Dermal Crosswalk'!$C$5:$C$32,'Bridge Table'!$E12))),"--") -> 2682.3007 | N12: =IFERROR(IFERROR(VLOOKUP($D12,$Z$8:$AD$9,4,FALSE),0)/IF($D12="Inhalation",IF($K12="Central Tendency",SUMIFS('Inhalation Exposure'!$R$4:$R$61,'Inhalation Exposure'!$B$4:$B$61,$B12,'Inhalation Exposure'!$D$4:$D$61,$C12,'Inhalation Exposure'!$E$4:$E$61,$E12),SUMIFS('Inhalation Exposure'!$Q$4:$Q$61,'Inhalation Exposure'!$B$4:$B$61,$B12,'Inhalation Exposure'!$D$4:$D$61,$C12,'Inhalation Exposure'!$E$4:$E$61,$E12)),IF($K12="Central Tendency",SUMIFS('Dermal Crosswalk'!$Q$5:$Q$32,'Dermal Crosswalk'!$A$5:$A$32,'Bridge Table'!$B12,'Dermal Crosswalk'!$C$5:$C$32,'Bridge Table'!$E12),SUMIFS('Dermal Crosswalk'!$L$5:$L$32,'Dermal Crosswalk'!$A$5:$A$32,'Bridge Table'!$B12,'Dermal Crosswalk'!$C$5:$C$32,'Bridge Table'!$E12))),"--") -> 18636.104 | O12: =IFERROR(IFERROR(VLOOKUP($D12,$Z$8:$AD$9,5,FALSE),0)*IF($D12="Inhalation",IF($K12="Central Tendency",SUMIFS('Inhalation Exposure'!$V$4:$V$61,'Inhalation Exposure'!$B$4:$B$61,$B12,'Inhalation Exposure'!$D$4:$D$61,$C12,'Inhalation Exposure'!$E$4:$E$61,$E12),SUMIFS('Inhalation Exposure'!$U$4:$U$61,'Inhalation Exposure'!$B$4:$B$61,$B12,'Inhalation Exposure'!$D$4:$D$61,$C12,'Inhalation Exposure'!$E$4:$E$61,$E12)),IF($K12="Central Tendency",SUMIFS('Dermal Crosswalk'!$R$5:$R$32,'Dermal Crosswalk'!$A$5:$A$32,'Bridge Table'!$B12,'Dermal Crosswalk'!$C$5:$C$32,'Bridge Table'!$E12),SUMIFS('Dermal Crosswalk'!$M$5:$M$32,'Dermal Crosswalk'!$A$5:$A$32,'Bridge Table'!$B12,'Dermal Crosswalk'!$C$5:$C$32,'Bridge Table'!$E12))),"--") -> 1.3660252e-06 | P12: =IFERROR(L12*U12,"Not Assessed") -> 67987.622 | Q12: =IFERROR(M12*V12,"Not Assessed") -> 26823.007 | R12: =IFERROR(N12*W12,"Not Assessed") -> 186361.04 | S12: =IFERROR(O12/X12, "Not Assessed") -> 1.3660252e-07 | U12: 10 | V12: 10 | W12: 10 | X12: 10
B13: 1 | C13: Average Adult Worker | D13: Inhalation | E13: 25,000-lb throughput | P13: =CONCATENATE("(APF ",U12,")") -> (APF 10) | Q13: =CONCATENATE("(APF ",V12,")") -> (APF 10) | R13: =CONCATENATE("(APF ",W12,")") -> (APF 10) | S13: =CONCATENATE("(APF ",X12,")") -> (APF 10) | U13: APF | V13: APF | W13: APF | X13: APF
B14: 1 | C14: Average Adult Worker | D14: Inhalation | E14: 25,000-lb throughput | K14: High-End | L14: =IFERROR(IFERROR(VLOOKUP($D14,$Z$8:$AD$9,2,FALSE),0)/IF($D14="Inhalation",IF($K14="Central Tendency",SUMIFS('Inhalation Exposure'!$N$4:$N$61,'Inhalation Exposure'!$B$4:$B$61,$B14,'Inhalation Exposure'!$D$4:$D$61,$C14,'Inhalation Exposure'!$E$4:$E$61,$E14),SUMIFS('Inhalation Exposure'!$M$4:$M$61,'Inhalation Exposure'!$B$4:$B$61,$B14,'Inhalation Exposure'!$D$4:$D$61,$C14,'Inhalation Exposure'!$E$4:$E$61,$E14)),IF($K14="Central Tendency",SUMIFS('Dermal Crosswalk'!$P$5:$P$32,'Dermal Crosswalk'!$A$5:$A$32,'Bridge Table'!$B14,'Dermal Crosswalk'!$C$5:$C$32,'Bridge Table'!$E14),SUMIFS('Dermal Crosswalk'!$K$5:$K$32,'Dermal Crosswalk'!$A$5:$A$32,'Bridge Table'!$B14,'Dermal Crosswalk'!$C$5:$C$32,'Bridge Table'!$E14))),"--") -> 1847.2574 | M14: =IFERROR(IFERROR(VLOOKUP($D14,$Z$8:$AD$9,3,FALSE),0)/IF($D14="Inhalation",IF($K14="Central Tendency",SUMIFS('Inhalation Exposure'!$AB$4:$AB$61,'Inhalation Exposure'!$B$4:$B$61,$B14,'Inhalation Exposure'!$D$4:$D$61,$C14,'Inhalation Exposure'!$E$4:$E$61,$E14),SUMIFS('Inhalation Exposure'!$AA$4:$AA$61,'Inhalation Exposure'!$B$4:$B$61,$B14,'Inhalation Exposure'!$D$4:$D$61,$C14,'Inhalation Exposure'!$E$4:$E$61,$E14)),IF($K14="Central Tendency",SUMIFS('Dermal Crosswalk'!$S$5:$S$32,'Dermal Crosswalk'!$A$5:$A$32,'Bridge Table'!$B14,'Dermal Crosswalk'!$C$5:$C$32,'Bridge Table'!$E14),SUMIFS('Dermal Crosswalk'!$N$5:$N$32,'Dermal Crosswalk'!$A$5:$A$32,'Bridge Table'!$B14,'Dermal Crosswalk'!$C$5:$C$32,'Bridge Table'!$E14))),"--") -> 728.79441 | N14: =IFERROR(IFERROR(VLOOKUP($D14,$Z$8:$AD$9,4,FALSE),0)/IF($D14="Inhalation",IF($K14="Central Tendency",SUMIFS('Inhalation Exposure'!$R$4:$R$61,'Inhalation Exposure'!$B$4:$B$61,$B14,'Inhalation Exposure'!$D$4:$D$61,$C14,'Inhalation Exposure'!$E$4:$E$61,$E14),SUMIFS('Inhalation Exposure'!$Q$4:$Q$61,'Inhalation Exposure'!$B$4:$B$61,$B14,'Inhalation Exposure'!$D$4:$D$61,$C14,'Inhalation Exposure'!$E$4:$E$61,$E14)),IF($K14="Central Tendency",SUMIFS('Dermal Crosswalk'!$Q$5:$Q$32,'Dermal Crosswalk'!$A$5:$A$32,'Bridge Table'!$B14,'Dermal Crosswalk'!$C$5:$C$32,'Bridge Table'!$E14),SUMIFS('Dermal Crosswalk'!$L$5:$L$32,'Dermal Crosswalk'!$A$5:$A$32,'Bridge Table'!$B14,'Dermal Crosswalk'!$C$5:$C$32,'Bridge Table'!$E14))),"--") -> 5440.4104 | O14: =IFERROR(IFERROR(VLOOKUP($D14,$Z$8:$AD$9,5,FALSE),0)*IF($D14="Inhalation",IF($K14="Central Tendency",SUMIFS('Inhalation Exposure'!$V$4:$V$61,'Inhalation Exposure'!$B$4:$B$61,$B14,'Inhalation Exposure'!$D$4:$D$61,$C14,'Inhalation Exposure'!$E$4:$E$61,$E14),SUMIFS('Inhalation Exposure'!$U$4:$U$61,'Inhalation Exposure'!$B$4:$B$61,$B14,'Inhalation Exposure'!$D$4:$D$61,$C14,'Inhalation Exposure'!$E$4:$E$61,$E14)),IF($K14="Central Tendency",SUMIFS('Dermal Crosswalk'!$R$5:$R$32,'Dermal Crosswalk'!$A$5:$A$32,'Bridge Table'!$B14,'Dermal Crosswalk'!$C$5:$C$32,'Bridge Table'!$E14),SUMIFS('Dermal Crosswalk'!$M$5:$M$32,'Dermal Crosswalk'!$A$5:$A$32,'Bridge Table'!$B14,'Dermal Crosswalk'!$C$5:$C$32,'Bridge Table'!$E14))),"--") -> 4.9144527e-06 | P14: =IFERROR(L14*U14,"Not Assessed") -> 18472.574 | Q14: =IFERROR(M14*V14,"Not Assessed") -> 7287.9441 | R14: =IFERROR(N14*W14,"Not Assessed") -> 54404.104 | S14: =IFERROR(O14/X14, "Not Assessed") -> 4.9144527e-07 | U14: 10 | V14: 10 | W14: 10 | X14: 10
B15: 1 | C15: Average Adult Worker | D15: Inhalation | E15: 25,000-lb throughput | P15: =CONCATENATE("(APF ",U14,")") -> (APF 10) | Q15: =CONCATENATE("(APF ",V14,")") -> (APF 10) | R15: =CONCATENATE("(APF ",W14,")") -> (APF 10) | S15: =CONCATENATE("(APF ",X14,")") -> (APF 10) | U15: APF | V15: APF | W15: APF | X15: APF
B16: 1 | C16: ONU | D16: Inhalation | E16: 2,500-lb throughput | I16: ONU | J16: Inhalation 8-hr TWA | K16: Central Tendency | L16: =IFERROR(IFERROR(VLOOKUP($D16,$Z$8:$AD$9,2,FALSE),0)/IF($D16="Inhalation",IF($K16="Central Tendency",SUMIFS('Inhalation Exposure'!$L$4:$L$60,'Inhalation Exposure'!$B$4:$B$60,$B16,'Inhalation Exposure'!$D$4:$D$60,$C16,'Inhalation Exposure'!$E$4:$E$60,$E16),SUMIFS('Inhalation Exposure'!$K$4:$K$60,'Inhalation Exposure'!$B$4:$B$60,$B16,'Inhalation Exposure'!$D$4:$D$60,$C16,'Inhalation Exposure'!$E$4:$E$60,$E16)),IF($K16="Central Tendency",SUMIFS('Dermal Crosswalk'!$P$5:$P$32,'Dermal Crosswalk'!$A$5:$A$32,'Bridge Table'!$B16,'Dermal Crosswalk'!$C$5:$C$32,'Bridge Table'!$E16),SUMIFS('Dermal Crosswalk'!$K$5:$K$32,'Dermal Crosswalk'!$A$5:$A$32,'Bridge Table'!$B16,'Dermal Crosswalk'!$C$5:$C$32,'Bridge Table'!$E16))),"--") -> -- | M16: =IFERROR(IFERROR(VLOOKUP($D16,$Z$8:$AD$9,3,FALSE),0)/IF($D16="Inhalation",IF($K16="Central Tendency",SUMIFS('Inhalation Exposure'!$AB$4:$AB$60,'Inhalation Exposure'!$B$4:$B$60,$B16,'Inhalation Exposure'!$D$4:$D$60,$C16,'Inhalation Exposure'!$E$4:$E$60,$E16),SUMIFS('Inhalation Exposure'!$AA$4:$AA$60,'Inhalation Exposure'!$B$4:$B$60,$B16,'Inhalation Exposure'!$D$4:$D$60,$C16,'Inhalation Exposure'!$E$4:$E$60,$E16)),IF($K16="Central Tendency",SUMIFS('Dermal Crosswalk'!$S$5:$S$32,'Dermal Crosswalk'!$A$5:$A$32,'Bridge Table'!$B16,'Dermal Crosswalk'!$C$5:$C$32,'Bridge Table'!$E16),SUMIFS('Dermal Crosswalk'!$N$5:$N$32,'Dermal Crosswalk'!$A$5:$A$32,'Bridge Table'!$B16,'Dermal Crosswalk'!$C$5:$C$32,'Bridge Table'!$E16))),"--") -> -- | N16: =IFERROR(IFERROR(VLOOKUP($D16,$Z$8:$AD$9,4,FALSE),0)/IF($D16="Inhalation",IF($K16="Central Tendency",SUMIFS('Inhalation Exposure'!$R$4:$R$60,'Inhalation Exposure'!$B$4:$B$60,$B16,'Inhalation Exposure'!$D$4:$D$60,$C16,'Inhalation Exposure'!$E$4:$E$60,$E16),SUMIFS('Inhalation Exposure'!$Q$4:$Q$60,'Inhalation Exposure'!$B$4:$B$60,$B16,'Inhalation Exposure'!$D$4:$D$60,$C16,'Inhalation Exposure'!$E$4:$E$60,$E16)),IF($K16="Central Tendency",SUMIFS('Dermal Crosswalk'!$Q$5:$Q$32,'Dermal Crosswalk'!$A$5:$A$32,'Bridge Table'!$B16,'Dermal Crosswalk'!$C$5:$C$32,'Bridge Table'!$E16),SUMIFS('Dermal Crosswalk'!$L$5:$L$32,'Dermal Crosswalk'!$A$5:$A$32,'Bridge Table'!$B16,'Dermal Crosswalk'!$C$5:$C$32,'Bridge Table'!$E16))),"--") -> -- | O16: =IF(IFERROR(VLOOKUP($D16,$Z$8:$AD$9,5,FALSE),0)*IF($D16="Inhalation",IF($K16="Central Tendency",SUMIFS('Inhalation Exposure'!$V$4:$V$60,'Inhalation Exposure'!$B$4:$B$60,$B16,'Inhalation Exposure'!$D$4:$D$60,$C16,'Inhalation Exposure'!$E$4:$E$60,$E16),SUMIFS('Inhalation Exposure'!$U$4:$U$60,'Inhalation Exposure'!$B$4:$B$60,$B16,'Inhalation Exposure'!$D$4:$D$60,$C16,'Inhalation Exposure'!$E$4:$E$60,$E16)),IF($K16="Central Tendency",SUMIFS('Dermal Crosswalk'!$R$5:$R$32,'Dermal Crosswalk'!$A$5:$A$32,'Bridge Table'!$B16,'Dermal Crosswalk'!$C$5:$C$32,'Bridge Table'!$E16),SUMIFS('Dermal Crosswalk'!$M$5:$M$32,'Dermal Crosswalk'!$A$5:$A$32,'Bridge Table'!$B16,'Dermal Crosswalk'!$C$5:$C$32,'Bridge Table'!$E16)))=0,"--",IFERROR(VLOOKUP($D16,$Z$8:$AD$9,5,FALSE),0)*IF($D16="Inhalation",IF($K16="Central Tendency",SUMIFS('Inhalation Exposure'!$V$4:$V$60,'Inhalation Exposure'!$B$4:$B$60,$B16,'Inhalation Exposure'!$D$4:$D$60,$C16,'Inhalation Exposure'!$E$4:$E$60,$E16),SUMIFS('Inhalation Exposure'!$U$4:$U$60,'Inhalation Exposure'!$B$4:$B$60,$B16,'Inhalation Exposure'!$D$4:$D$60,$C16,'Inhalation Exposure'!$E$4:$E$60,$E16)),IF($K16="Central Tendency",SUMIFS('Dermal Crosswalk'!$R$5:$R$32,'Dermal Crosswalk'!$A$5:$A$32,'Bridge Table'!$B16,'Dermal Crosswalk'!$C$5:$C$32,'Bridge Table'!$E16),SUMIFS('Dermal Crosswalk'!$M$5:$M$32,'Dermal Crosswalk'!$A$5:$A$32,'Bridge Table'!$B16,'Dermal Crosswalk'!$C$5:$C$32,'Bridge Table'!$E16)))) -> -- | P16: N/A | Q16: N/A | R16: N/A | S16: N/A | U16: N/A | V16: N/A | W16: N/A | X16: N/A
B17: 1 | C17: ONU | D17: Inhalation | E17: 2,500-lb throughput
B18: 1 | C18: ONU | D18: Inhalation | E18: 2,500-lb throughput | K18: High-End | L18: =IFERROR(IFERROR(VLOOKUP($D18,$Z$8:$AD$9,2,FALSE),0)/IF($D18="Inhalation",IF($K18="Central Tendency",SUMIFS('Inhalation Exposure'!$L$4:$L$60,'Inhalation Exposure'!$B$4:$B$60,$B18,'Inhalation Exposure'!$D$4:$D$60,$C18,'Inhalation Exposure'!$E$4:$E$60,$E18),SUMIFS('Inhalation Exposure'!$K$4:$K$60,'Inhalation Exposure'!$B$4:$B$60,$B18,'Inhalation Exposure'!$D$4:$D$60,$C18,'Inhalation Exposure'!$E$4:$E$60,$E18)),IF($K18="Central Tendency",SUMIFS('Dermal Crosswalk'!$P$5:$P$32,'Dermal Crosswalk'!$A$5:$A$32,'Bridge Table'!$B18,'Dermal Crosswalk'!$C$5:$C$32,'Bridge Table'!$E18),SUMIFS('Dermal Crosswalk'!$K$5:$K$32,'Dermal Crosswalk'!$A$5:$A$32,'Bridge Table'!$B18,'Dermal Crosswalk'!$C$5:$C$32,'Bridge Table'!$E18))),"--") -> -- | M18: =IFERROR(IFERROR(VLOOKUP($D18,$Z$8:$AD$9,3,FALSE),0)/IF($D18="Inhalation",IF($K18="Central Tendency",SUMIFS('Inhalation Exposure'!$AB$4:$AB$60,'Inhalation Exposure'!$B$4:$B$60,$B18,'Inhalation Exposure'!$D$4:$D$60,$C18,'Inhalation Exposure'!$E$4:$E$60,$E18),SUMIFS('Inhalation Exposure'!$AA$4:$AA$60,'Inhalation Exposure'!$B$4:$B$60,$B18,'Inhalation Exposure'!$D$4:$D$60,$C18,'Inhalation Exposure'!$E$4:$E$60,$E18)),IF($K18="Central Tendency",SUMIFS('Dermal Crosswalk'!$S$5:$S$32,'Dermal Crosswalk'!$A$5:$A$32,'Bridge Table'!$B18,'Dermal Crosswalk'!$C$5:$C$32,'Bridge Table'!$E18),SUMIFS('Dermal Crosswalk'!$N$5:$N$32,'Dermal Crosswalk'!$A$5:$A$32,'Bridge Table'!$B18,'Dermal Crosswalk'!$C$5:$C$32,'Bridge Table'!$E18))),"--") -> -- | N18: =IFERROR(IFERROR(VLOOKUP($D18,$Z$8:$AD$9,4,FALSE),0)/IF($D18="Inhalation",IF($K18="Central Tendency",SUMIFS('Inhalation Exposure'!$R$4:$R$60,'Inhalation Exposure'!$B$4:$B$60,$B18,'Inhalation Exposure'!$D$4:$D$60,$C18,'Inhalation Exposure'!$E$4:$E$60,$E18),SUMIFS('Inhalation Exposure'!$Q$4:$Q$60,'Inhalation Exposure'!$B$4:$B$60,$B18,'Inhalation Exposure'!$D$4:$D$60,$C18,'Inhalation Exposure'!$E$4:$E$60,$E18)),IF($K18="Central Tendency",SUMIFS('Dermal Crosswalk'!$Q$5:$Q$32,'Dermal Crosswalk'!$A$5:$A$32,'Bridge Table'!$B18,'Dermal Crosswalk'!$C$5:$C$32,'Bridge Table'!$E18),SUMIFS('Dermal Crosswalk'!$L$5:$L$32,'Dermal Crosswalk'!$A$5:$A$32,'Bridge Table'!$B18,'Dermal Crosswalk'!$C$5:$C$32,'Bridge Table'!$E18))),"--") -> -- | O18: =IF(IFERROR(VLOOKUP($D18,$Z$8:$AD$9,5,FALSE),0)*IF($D18="Inhalation",IF($K18="Central Tendency",SUMIFS('Inhalation Exposure'!$V$4:$V$60,'Inhalation Exposure'!$B$4:$B$60,$B18,'Inhalation Exposure'!$D$4:$D$60,$C18,'Inhalation Exposure'!$E$4:$E$60,$E18),SUMIFS('Inhalation Exposure'!$U$4:$U$60,'Inhalation Exposure'!$B$4:$B$60,$B18,'Inhalation Exposure'!$D$4:$D$60,$C18,'Inhalation Exposure'!$E$4:$E$60,$E18)),IF($K18="Central Tendency",SUMIFS('Dermal Crosswalk'!$R$5:$R$32,'Dermal Crosswalk'!$A$5:$A$32,'Bridge Table'!$B18,'Dermal Crosswalk'!$C$5:$C$32,'Bridge Table'!$E18),SUMIFS('Dermal Crosswalk'!$M$5:$M$32,'Dermal Crosswalk'!$A$5:$A$32,'Bridge Table'!$B18,'Dermal Crosswalk'!$C$5:$C$32,'Bridge Table'!$E18)))=0,"--",IFERROR(VLOOKUP($D18,$Z$8:$AD$9,5,FALSE),0)*IF($D18="Inhalation",IF($K18="Central Tendency",SUMIFS('Inhalation Exposure'!$V$4:$V$60,'Inhalation Exposure'!$B$4:$B$60,$B18,'Inhalation Exposure'!$D$4:$D$60,$C18,'Inhalation Exposure'!$E$4:$E$60,$E18),SUMIFS('Inhalation Exposure'!$U$4:$U$60,'Inhalation Exposure'!$B$4:$B$60,$B18,'Inhalation Exposure'!$D$4:$D$60,$C18,'Inhalation Exposure'!$E$4:$E$60,$E18)),IF($K18="Central Tendency",SUMIFS('Dermal Crosswalk'!$R$5:$R$32,'Dermal Crosswalk'!$A$5:$A$32,'Bridge Table'!$B18,'Dermal Crosswalk'!$C$5:$C$32,'Bridge Table'!$E18),SUMIFS('Dermal Crosswalk'!$M$5:$M$32,'Dermal Crosswalk'!$A$5:$A$32,'Bridge Table'!$B18,'Dermal Crosswalk'!$C$5:$C$32,'Bridge Table'!$E18)))) -> -- | P18: N/A | Q18: N/A | R18: N/A | S18: N/A | U18: N/A | V18: N/A | W18: N/A | X18: N/A
B19: 1 | C19: ONU | D19: Inhalation | E19: 2,500-lb throughput
