Workbook
Name BW_default: 'Exposure Factors'!$C$3
Name BW_women: 'Exposure Factors'!$D$3
Name WY_CT_default: 'Exposure Factors'!$C$7
Name WY_CT_women: 'Exposure Factors'!$D$7
Name WY_HE_default: 'Exposure Factors'!$C$6
Name WY_HE_women: 'Exposure Factors'!$D$6

Sheet Cover Page
B3: Risk Evaluation for Tris(2-chloroethyl) Phosphate (TCEP)
B7: Supplemental Information File: Risk Calculator for Occupational Exposures
B9: CASRN: 115-96-8
B11: September 2024

Sheet Read Me
B2: Description of this workbook
B3: The risk calculator workbook contains the following spreadsheets: Dashboard, Bridge Table, RR, Health Data, Inhalation Exposure, Dermal Crosswalk, Dermal Exposures, List Values, and Exposure Factors. The workbook is designed such that the user need only to use the first two spreadsheets which have tabs colored green and contain the results of the risk calculator i.e. the Dashboard and the RR. The remaining spreadsheets contain data storage and calculation spreadsheets.
B5: Tab(s) | C5: Description
B6: Dashboard | C6: The Dashboard is an interactive spreadsheet that allows a user to view exposure results for a selected Occupational Exposure Scenario (OES) and with a single PPE option of their choosing (i.e. respirator APF or Glove Protection Factor PF). The user can select the desired OES, PPE options and for dermal exposures the worker type (either an average adult or a female of reproductive age) from a drop-down menu. The exposure estimates are shown in the “Exposure Outputs” section for both inhalation and dermal routes and for high-end and central tendency exposures. For inhalation exposures the columns show results for both worker and ONU exposures. The “Risk Estimation” sections are separated into acute, chronic non-cancer, cancer, and sub-chronic non-cancer sections. For each section there is a brief description of the hazard endpoint and the hazard value i.e. HEC for non-cancer effects from inhalation exposure, HED for non-cancer effects from dermal exposure or a slope factor for cancer and the benchmark MOEs or benchmark values for cancer risk are provided to the right of the hazard value. The risk estimations show two columns of risk estimates: one column for exposures without PPE and one column for the results of the user-selected PPE option. These two columns allow the user to compare with and without PPE results side-by-side. The Dashboard automatically shades the cancer risk and MOE cells when they exceed the cancer benchmark or the benchmark MOE value.
B7: Bridge Table | C7: The table provides summary of the risk estimates for inhalation and dermal exposures for all occupational exposure scenarios. Risk estimates that exceed the benchmark (i.e., MOEs less than the benchmark MOE or cancer risks greater than the cancer risk benchmark) are highlighted by bolding the number and shading the cell.
B8: RR | C8: The RR spreadsheet is an expanded version of the Dashboard. Similar to the Dashboard the RR allows the user to select a OES. However, the user also selects to see results for a worker or ONU and, instead of requiring a user to select a single exposure reduction option, the Heat Map displays all the PPE options. The RR spreadsheet has a column each for no PPE and each PPE option (i.e. APF or PF). The RR spreadsheet has a row for each toxicity endpoint, and each row shows the cancer risk or MOE values. Similar to the Dashboard, the RR spreadsheet shades results if the MOE or cancer risk exceeds the benchmark MOE or cancer benchmark.
B9: Health Data, Inhalation Exposure, Dermal Crosswalk, Dermal Exposures, List Values, and Exposure Factors | C9: As described above the remaining spreadsheets are data storage and calculation spreadsheets. These worksheets store the inhalation and dermal exposure estimates, health hazard values, and some of the risk calculations. The user does not need to access these worksheets to use the Dashboard and RR spreadsheets as described above; all results are automatically loaded into the Dashboard and RR spreadsheets.

Sheet Dashboard
C2: Condition of Use | D2: Throughput | F2: Scenario | I2: Personal Protective Equipment (PPE) | M2: Dermal
C3: Select the OES (select) | D3: Select the Throughput (select) | F3: Description/Number of Sites | I3: Respirator Protection Factor (Select) | J3: Glove Protection Factor (Select) | M3: Worker Type (select)
C4: 6f - Commercial Use - Paints & Coatings - Spray (2-part reactive coatings, 250-day application) | D4: 2,500-lb throughput | F4: =VLOOKUP($C$4,'Inhalation Exposure'!C4:F60,4,FALSE) -> Spray 250-day application; resin paints & coatings (mist) | I4: 10 | J4: 5 | M4: Average Adult Worker
C6: 8-hr TWA Exposures | M6: Dermal
C7: Exposure Outputs | M7: Exposure Outputs
C8: Category | D8: Exposure Level | E8: 8-hour TWA | F8: Acute, Non-Cancer Exposures | G8: Subchronic, Non-Cancer Exposures | H8: Chronic, Non-Cancer Exposures | I8: Chronic, Cancer Exposures | M8: Category | N8: Exposure Level | O8: Potential Dose Rate | P8: Acute Retained Dose | Q8: Subchronic Retained Dose, Non-Cancer | R8: Chronic Retained Dose, Non-Cancer | S8: Chronic Retained Dose, Cancer
E9: CTCEP, 8-hr TWA (mg/m3) | F9: ACTCEP (mg/m3) | G9: ADCTCEP, subchronic (mg/m3) | H9: ADCTCEP (mg/m3) | I9: LADCTCEP (mg/m3) | O9: APDRexp (mg/day) | P9: ARDTCEP (mg/kg-day) | Q9: SCRDTCEP (mg/kg-day) | R9: CRDTCEP (mg/kg-day) | S9: CRDTCEP (mg/kg-day)
C10: Average Adult Worker | D10: High End | E10: =SUMIFS('Inhalation Exposure'!$I:$I,'Inhalation Exposure'!$C:$C,$C$4,'Inhalation Exposure'!$D:$D,$C10,'Inhalation Exposure'!$E:$E,$D$4) -> 5.525 | F10: =SUMIFS('Inhalation Exposure'!$M:$M,'Inhalation Exposure'!$C:$C,$C$4,'Inhalation Exposure'!$D:$D,$C10,'Inhalation Exposure'!$E:$E,$D$4) -> 3.7585034 | G10: =SUMIFS('Inhalation Exposure'!$AA:$AA,'Inhalation Exposure'!$C:$C,$C$4,'Inhalation Exposure'!$D:$D,$C10,'Inhalation Exposure'!$E:$E,$D$4) -> 2.7562358 | H10: =SUMIFS('Inhalation Exposure'!$Q:$Q,'Inhalation Exposure'!$C:$C,$C$4,'Inhalation Exposure'!$D:$D,$C10,'Inhalation Exposure'!$E:$E,$D$4) -> 2.5743174 | I10: =SUMIFS('Inhalation Exposure'!$U:$U,'Inhalation Exposure'!$C:$C,$C$4,'Inhalation Exposure'!$D:$D,$C10,'Inhalation Exposure'!$E:$E,$D$4) -> 1.3201628 | M10: Worker, No Gloves | N10: High End | O10: ='Dermal Exposure'!M5 -> 641.97325 | P10: ='Dermal Exposure'!N5 -> 8.0246656 | Q10: ='Dermal Exposure'!Q5 -> 5.8847548 | R10: ='Dermal Exposure'!O5 -> 5.4963463 | S10: ='Dermal Exposure'!P5 -> 2.8186391
C11: ONU | E11: =SUMIFS('Inhalation Exposure'!$I:$I,'Inhalation Exposure'!$C:$C,$C$4,'Inhalation Exposure'!$D:$D,$C11,'Inhalation Exposure'!$E:$E,$D$4) -> 0 | F11: =SUMIFS('Inhalation Exposure'!$M:$M,'Inhalation Exposure'!$C:$C,$C$4,'Inhalation Exposure'!$D:$D,$C11,'Inhalation Exposure'!$E:$E,$D$4) -> 0 | G11: =SUMIFS('Inhalation Exposure'!$AA:$AA,'Inhalation Exposure'!$C:$C,$C$4,'Inhalation Exposure'!$D:$D,$C11,'Inhalation Exposure'!$E:$E,$D$4) -> 0 | H11: =SUMIFS('Inhalation Exposure'!$Q:$Q,'Inhalation Exposure'!$C:$C,$C$4,'Inhalation Exposure'!$D:$D,$C11,'Inhalation Exposure'!$E:$E,$D$4) -> 0 | I11: =SUMIFS('Inhalation Exposure'!$U:$U,'Inhalation Exposure'!$C:$C,$C$4,'Inhalation Exposure'!$D:$D,$C11,'Inhalation Exposure'!$E:$E,$D$4) -> 0 | N11: Central Tendency | O11: ='Dermal Exposure'!M6 -> 118.42225 | P11: ='Dermal Exposure'!N6 -> 1.4802781 | Q11: ='Dermal Exposure'!Q6 -> 1.0855373 | R11: ='Dermal Exposure'!O6 -> 1.0138891 | S11: ='Dermal Exposure'!P6 -> 0.40295593
C12: Average Adult Worker | D12: Central Tendency | E12: =SUMIFS('Inhalation Exposure'!$J:$J,'Inhalation Exposure'!$C:$C,$C$4,'Inhalation Exposure'!$D:$D,$C12,'Inhalation Exposure'!$E:$E,$D$4) -> 0.845 | F12: =SUMIFS('Inhalation Exposure'!$N:$N,'Inhalation Exposure'!$C:$C,$C$4,'Inhalation Exposure'!$D:$D,$C12,'Inhalation Exposure'!$E:$E,$D$4) -> 0.57482993 | G12: =SUMIFS('Inhalation Exposure'!$AB:$AB,'Inhalation Exposure'!$C:$C,$C$4,'Inhalation Exposure'!$D:$D,$C12,'Inhalation Exposure'!$E:$E,$D$4) -> 0.42154195 | H12: =SUMIFS('Inhalation Exposure'!$R:$R,'Inhalation Exposure'!$C:$C,$C$4,'Inhalation Exposure'!$D:$D,$C12,'Inhalation Exposure'!$E:$E,$D$4) -> 0.39371913 | I12: =SUMIFS('Inhalation Exposure'!$V:$V,'Inhalation Exposure'!$C:$C,$C$4,'Inhalation Exposure'!$D:$D,$C12,'Inhalation Exposure'!$E:$E,$D$4) -> 0.15647812 | M12: =_xlfn.CONCAT("Worker with Gloves; PF of ",J4) -> Worker with Gloves; PF of 5 | N12: High End | O12: =O10/$J$4 -> 128.39465 | P12: =P10/$J$4 -> 1.6049331 | Q12: =Q10/$J$4 -> 1.176951 | R12: =R10/$J$4 -> 1.0992693 | S12: =S10/$J$4 -> 0.56372783
C13: ONU | E13: =SUMIFS('Inhalation Exposure'!$J:$J,'Inhalation Exposure'!$C:$C,$C$4,'Inhalation Exposure'!$D:$D,$C13,'Inhalation Exposure'!$E:$E,$D$4) -> 0 | F13: =SUMIFS('Inhalation Exposure'!$N:$N,'Inhalation Exposure'!$C:$C,$C$4,'Inhalation Exposure'!$D:$D,$C13,'Inhalation Exposure'!$E:$E,$D$4) -> 0 | G13: =SUMIFS('Inhalation Exposure'!$AB:$AB,'Inhalation Exposure'!$C:$C,$C$4,'Inhalation Exposure'!$D:$D,$C13,'Inhalation Exposure'!$E:$E,$D$4) -> 0 | H13: =SUMIFS('Inhalation Exposure'!$R:$R,'Inhalation Exposure'!$C:$C,$C$4,'Inhalation Exposure'!$D:$D,$C13,'Inhalation Exposure'!$E:$E,$D$4) -> 0 | I13: =SUMIFS('Inhalation Exposure'!$V:$V,'Inhalation Exposure'!$C:$C,$C$4,'Inhalation Exposure'!$D:$D,$C13,'Inhalation Exposure'!$E:$E,$D$4) -> 0 | N13: Central Tendency | O13: =O11/$J$4 -> 23.68445 | P13: =P11/$J$4 -> 0.29605563 | Q13: =Q11/$J$4 -> 0.21710746 | R13: =R11/$J$4 -> 0.20277783 | S13: =S11/$J$4 -> 0.080591187
C15: Risk Estimation for Acute Inhalation Exposures | M15: Risk Estimation for Acute Dermal Exposures
C16: Health Effect, Endpoint and Study | D16: HEC (mg/m3) | E16: Exposure Level | F16: Benchmark MOE (= Total UF) | G16: Acute Exposure Estimates | I16: =_xlfn.CONCAT("Respirator Scenario: APF of ",$I$4) -> Respirator Scenario: APF of 10 | M16: Health Effect, Endpoint and Study | N16: HED (mg/kg) | O16: Exposure Level | P16: Benchmark MOE (= Total UF) | Q16: Acute Exposure Estimates | R16: Gloved Scenarios
G17: Worker MOE | H17: ONU MOE | I17: Worker MOE | J17: ONU MOE | Q17: Worker MOE, No Gloves | R17: =_xlfn.CONCAT("Worker MOE with Gloves: PF of ",$J$4) -> Worker MOE with Gloves: PF of 5
B18: Tox1 | C18: ='Health Data'!D6 -> Tremors (S) | D18: =VLOOKUP($B18,'Health Data'!$F$6:$K$8,2,FALSE) -> 51.5 | E18: High End | F18: =VLOOKUP($B$18,'Health Data'!$F$6:$I$8,4,FALSE) -> 30 | G18: =IFERROR(D18/$F$10, "") -> 13.702262 | H18: =IFERROR(D18/$F$11, "") | I18: =IFERROR(G18*$I$4,"") -> 137.02262 | J18: =IFERROR(H18*$I$4,"") | L18: Tox1 | M18: ='Health Data'!D6 -> Tremors (S) | N18: =VLOOKUP($L$18,'Health Data'!$F$6:$K$8,3,FALSE) -> 9.46 | O18: High End | P18: =VLOOKUP($L$18,'Health Data'!$F$6:$I$8,4,FALSE) -> 30 | Q18: =IFERROR(N18/$P$10, "") -> 1.1788653 | R18: =IFERROR(N18/$P$12, "") -> 5.8943266
E19: Central Tendency | F19: =VLOOKUP($B$18,'Health Data'!$F$6:$I$8,4,FALSE) -> 30 | G19: =IFERROR(D18/$F$12, "") -> 89.591716 | H19: =IFERROR(D18/$F$13, "") | I19: =IFERROR(G19*$I$4,"") -> 895.91716 | J19: =IFERROR(H19*$I$4,"") | O19: Central Tendency | P19: =VLOOKUP($L$18,'Health Data'!$F$6:$I$8,4,FALSE) -> 30 | Q19: =IFERROR(N18/$P$11,"") -> 6.3906909 | R19: =IFERROR(N18/$P$13,"") -> 31.953455
C21: Risk Estimation for Subchronic, Non-Cancer Inhalation Exposures | M21: Risk Estimation for Sub-chronic, Non-Cancer Dermal Exposures
C22: Health Effect, Endpoint and Study | D22: HEC (mg/m3) | E22: Exposure Level | F22: Benchmark MOE (= Total UF) | G22: Sub-Chronic Exposure Estimates | I22: =_xlfn.CONCAT("Respirator Scenario: APF of ",$I$4) -> Respirator Scenario: APF of 10 | M22: Health Effect, Endpoint and Study | N22: HED (mg/kg) | O22: Exposure Level | P22: Benchmark MOE (= Total UF) | Q22: Sub-chronic Exposure Estimates | R22: Gloved Scenarios
G23: Worker MOE | H23: ONU MOE | I23: Worker MOE | J23: ONU MOE | Q23: Worker MOE, No Gloves | R23: =_xlfn.CONCAT("Worker MOE with Gloves: PF of ",$J$4) -> Worker MOE with Gloves: PF of 5
B24: Tox2 | C24: ='Health Data'!D7 -> Reproductive toxicity | D24: =VLOOKUP($B24,'Health Data'!$F$6:$K$8,2,FALSE) -> 14.9 | E24: High End | F24: =VLOOKUP($B$30,'Health Data'!$F$6:$I$8,4,FALSE) -> 30 | G24: =IFERROR(D24/$G$10, "") -> 5.4059235 | H24: =IFERROR(D24/$G$11, "") | I24: =IFERROR(G24*$I$4,"") -> 54.059235 | J24: =IFERROR(H24*$I$4,"") | L24: Tox2 | M24: ='Health Data'!D7 -> Reproductive toxicity | N24: =VLOOKUP($L$24,'Health Data'!$F$6:$K$8,3,FALSE) -> 2.73 | O24: High End | P24: =VLOOKUP($L$30,'Health Data'!$F$6:$I$8,4,FALSE) -> 30 | Q24: =IFERROR(N24/$Q$10, "") -> 0.46391058 | R24: =IFERROR(N24/$Q$12, "") -> 2.3195529
E25: Central Tendency | F25: =VLOOKUP($B$30,'Health Data'!$F$6:$I$8,4,FALSE) -> 30 | G25: =IFERROR(D24/$G$12, "") -> 35.346423 | H25: =IFERROR(D24/$G$13, "") | I25: =IFERROR(G25*$I$4,"") -> 353.46423 | J25: =IFERROR(H25*$I$4,"") | O25: Central Tendency | P25: =VLOOKUP($L$30,'Health Data'!$F$6:$I$8,4,FALSE) -> 30 | Q25: =IFERROR(N24/$Q$11,"") -> 2.5148837 | R25: =IFERROR(N24/$Q$13,"") -> 12.574418
C27: Risk Estimation for Chronic, Non-Cancer Inhalation Exposures | M27: Risk Estimation for Chronic, Non-Cancer Dermal Exposures
C28: Health Effect, Endpoint and Study | D28: HEC (mg/m3) | E28: Exposure Level | F28: Benchmark MOE (= Total UF) | G28: Chronic Exposure Estimates | I28: =_xlfn.CONCAT("Respirator Scenario: APF of ",$I$4) -> Respirator Scenario: APF of 10 | M28: Health Effect, Endpoint and Study | N28: HED (mg/kg) | O28: Exposure Level | P28: Benchmark MOE (= Total UF) | Q28: Chronic Exposure Estimates | R28: Gloved Scenarios
G29: Worker MOE | H29: ONU MOE | I29: Worker MOE | J29: ONU MOE | Q29: Worker MOE, No Gloves | R29: =_xlfn.CONCAT("Worker MOE with Gloves: PF of ",$J$4) -> Worker MOE with Gloves: PF of 5
B30: Tox2 | C30: ='Health Data'!D7 -> Reproductive toxicity | D30: =VLOOKUP($B30,'Health Data'!$F$6:$K$8,2,FALSE) -> 14.9 | E30: High End | F30: =VLOOKUP($B$30,'Health Data'!$F$6:$I$8,4,FALSE) -> 30 | G30: =IFERROR(D30/$H$10, "") -> 5.7879421 | H30: =IFERROR(D30/$H$11, "") | I30: =IFERROR(G30*$I$4,"") -> 57.879421 | J30: =IFERROR(H30*$I$4,"") | L30: Tox2 | M30: ='Health Data'!D7 -> Reproductive toxicity | N30: =VLOOKUP($L$30,'Health Data'!$F$6:$K$8,3,FALSE) -> 2.73 | O30: High End | P30: =VLOOKUP($L$30,'Health Data'!$F$6:$I$8,4,FALSE) -> 30 | Q30: =IFERROR(N30/$R$10, "") -> 0.49669359 | R30: =IFERROR(N30/$R$12, "") -> 2.483468
E31: Central Tendency | F31: =VLOOKUP($B$30,'Health Data'!$F$6:$I$8,4,FALSE) -> 30 | G31: =IFERROR(D30/$H$12, "") -> 37.844237 | H31: =IFERROR(D30/$H$13, "") | I31: =IFERROR(G31*$I$4,"") -> 378.44237 | J31: =IFERROR(H31*$I$4,"") | O31: Central Tendency | P31: =VLOOKUP($L$30,'Health Data'!$F$6:$I$8,4,FALSE) -> 30 | Q31: =IFERROR(N30/$R$11,"") -> 2.6926021 | R31: =IFERROR(N30/$R$13,"") -> 13.463011
C33: Cancer Risks | G33: Chronic Cancer Exposure Estimates | I33: =_xlfn.CONCAT("Respirator Scenario: APF of ",$I$4) -> Respirator Scenario: APF of 10 | M33: Cancer Risks | Q33: Chronic Cancer Exposure Estimates | R33: Gloved Scenarios
C34: Risk Estimate | D34: IUR (mg/m3)-1 | E34: Exposure Level | F34: Benchmark | G34: Worker | H34: ONU | I34: Worker | J34: ONU | M34: Risk Estimate | N34: CSF (mg/kg-d)-1 | O34: Exposure Level | P34: Benchmark | Q34: Worker, No Gloves | R34: =_xlfn.CONCAT("Worker with Gloves: PF of ",$J$4) -> Worker with Gloves: PF of 5
B35: Tox3 | C35: ='Health Data'!D8 -> Renal tubule adenomas and carcinomas in male Fischer 344 rats (S) | D35: =VLOOKUP($B35,'Health Data'!$F$6:$K$8,5,FALSE) -> 0.00451 | E35: High End | F35: =VLOOKUP($B$35,'Health Data'!$F$6:$I$8,4,FALSE) -> 0.0001 | G35: =IFERROR(I10*D35, "") -> 0.0059539341 | H35: =IF(I11*D35=0, "",I11*D35) | I35: =IFERROR(G35/$I$4,"") -> 0.00059539341 | J35: =IFERROR(H35/$I$4,"") | L35: Tox3 | M35: ='Health Data'!D8 -> Renal tubule adenomas and carcinomas in male Fischer 344 rats (S) | N35: =VLOOKUP($L$35,'Health Data'!$F$6:$K$8,6,FALSE) -> 0.0245 | O35: High End | P35: =VLOOKUP($L$35,'Health Data'!$F$6:$I$8,4,FALSE) -> 0.0001 | Q35: =IFERROR($S$10*N35, "") -> 0.069056659 | R35: =IFERROR($S$12*N35, "") -> 0.013811332
E36: Central Tendency | F36: =VLOOKUP($B$35,'Health Data'!$F$6:$I$8,4,FALSE) -> 0.0001 | G36: =IFERROR(I12*D35, "") -> 0.0007057163 | H36: =IF(I13*D35=0, "",I13*D35) | I36: =IFERROR(G36/$I$4,"") -> 7.057163e-05 | J36: =IFERROR(H36/$I$4,"") | O36: Central Tendency | Q36: =IFERROR($S$11*N35, "") -> 0.0098724204 | R36: =IFERROR($S$13*N35, "") -> 0.0019744841
C66: Inhalation Cancer Risk Estimates | D66: Cancer Risk | E66: =_xlfn.CONCAT("Cancer Risk with APF of ",$I$4) -> Cancer Risk with APF of 10 | M66: Dermal Cancer Risk Estimates | N66: High-End
C67: ONU: 50th Percentile | D67: =H36 | E67: =J36 | M67: =Q34 -> Worker, No Gloves | N67: =Q35 -> 0.069056659
C68: ONU: 95th Percentile | D68: =H35 | E68: =J35 | M68: =R34 -> Worker with Gloves: PF of 5 | N68: =R35 -> 0.013811332
C69: Worker: 50th Percentile | D69: =G36 -> 0.0007057163 | E69: =I36 -> 7.057163e-05
C70: Worker: 95th Percentile | D70: =G35 -> 0.0059539341 | E70: =I35 -> 0.00059539341

Sheet RR
H2: Inhalation Exposure | J2: Occupational Exposure Scenario (OES) | K2: Throughput | L2: Scenario | R2: Dermal Exposure
H3: Exposure Type (select) | J3: Select the OES (select) | K3: Select the Throughput (select) | L3: Description/Number of Sites | R3: Worker Type (Select)
H4: Worker | J4: 1 - Manufacturing - Import - Repackaging | K4: 2,500-lb throughput | L4: =VLOOKUP($J$4,'Inhalation Exposure'!C4:F60,4,FALSE) -> 8-hr shift; 1 site | R4: Average Adult Worker
H6: 8-hr TWA Exposures | R6: Dermal
H7: Exposure Outputs | R7: Exposure Outputs
H8: Category | I8: Exposure Level | J8: 8-hour TWA | K8: Acute, Non-Cancer Exposures | L8: Subchronic, Non-Cancer Exposures | M8: Chronic, Non-Cancer Exposures | N8: Chronic, Cancer Exposures | R8: Category | S8: Exposure Level | T8: Potential Dose Rate | U8: Acute Retained Dose | V8: Sub-chronic Retained Dose, Non-Cancer | W8: Chronic Retained Dose, Non-Cancer | X8: Chronic Retained Dose, Cancer
J9: CTCEP, 8-hr TWA (mg/m3) | K9: ACTCEP (mg/m3) | L9: ADCTCEP, subchronic (mg/m3) | M9: ADCTCEP (mg/m3) | N9: LADCTCEP (mg/m3) | T9: APDRexp (mg/day) | U9: ARDTCEP (mg/kg-day) | V9: SCRDTCEP (mg/kg-day) | W9: CRDTCEP (mg/kg-day) | X9: CRDTCEP (mg/kg-day)
H10: Average Adult Worker | I10: High End | J10: =SUMIFS('Inhalation Exposure'!$I:$I,'Inhalation Exposure'!$C:$C,$J$4,'Inhalation Exposure'!$D:$D,$H10,'Inhalation Exposure'!$E:$E,$K$4) -> 0.04082565 | K10: =SUMIFS('Inhalation Exposure'!$M:$M,'Inhalation Exposure'!$C:$C,$J$4,'Inhalation Exposure'!$D:$D,$H10,'Inhalation Exposure'!$E:$E,$K$4) -> 0.027772551 | L10: =SUMIFS('Inhalation Exposure'!$AA:$AA,'Inhalation Exposure'!$C:$C,$J$4,'Inhalation Exposure'!$D:$D,$H10,'Inhalation Exposure'!$E:$E,$K$4) -> 0.0037192045 | M10: =SUMIFS('Inhalation Exposure'!$Q:$Q,'Inhalation Exposure'!$C:$C,$J$4,'Inhalation Exposure'!$D:$D,$H10,'Inhalation Exposure'!$E:$E,$K$4) -> 0.00030568804 | N10: =SUMIFS('Inhalation Exposure'!$U:$U,'Inhalation Exposure'!$C:$C,$J$4,'Inhalation Exposure'!$D:$D,$H10,'Inhalation Exposure'!$E:$E,$K$4) -> 0.00012194802 | R10: Worker, No Gloves | S10: High End | T10: ='Dermal Exposure'!M8 -> 523.551 | U10: ='Dermal Exposure'!N8 -> 6.5443875 | V10: ='Dermal Exposure'!Q8 -> 1.5270238 | W10: ='Dermal Exposure'!O8 -> 0.1255088 | X10: ='Dermal Exposure'!P8 -> 0.064363488
H11: ONU | J11: =SUMIFS('Inhalation Exposure'!$I:$I,'Inhalation Exposure'!$C:$C,$J$4,'Inhalation Exposure'!$D:$D,$H11,'Inhalation Exposure'!$E:$E,$K$4) -> 0 | K11: =SUMIFS('Inhalation Exposure'!$M:$M,'Inhalation Exposure'!$C:$C,$J$4,'Inhalation Exposure'!$D:$D,$H11,'Inhalation Exposure'!$E:$E,$K$4) -> 0 | L11: =SUMIFS('Inhalation Exposure'!$AA:$AA,'Inhalation Exposure'!$C:$C,$J$4,'Inhalation Exposure'!$D:$D,$H11,'Inhalation Exposure'!$E:$E,$K$4) -> 0 | M11: =SUMIFS('Inhalation Exposure'!$Q:$Q,'Inhalation Exposure'!$C:$C,$J$4,'Inhalation Exposure'!$D:$D,$H11,'Inhalation Exposure'!$E:$E,$K$4) -> 0 | N11: =SUMIFS('Inhalation Exposure'!$U:$U,'Inhalation Exposure'!$C:$C,$J$4,'Inhalation Exposure'!$D:$D,$H11,'Inhalation Exposure'!$E:$E,$K$4) -> 0 | S11: Central Tendency | T11: ='Dermal Exposure'!M9 -> 174.517 | U11: ='Dermal Exposure'!N9 -> 2.1814625 | V11: ='Dermal Exposure'!Q9 -> 0.29086167 | W11: ='Dermal Exposure'!O9 -> 0.023906438 | X11: ='Dermal Exposure'!P9 -> 0.0095012768
H12: Average Adult Worker | I12: Central Tendency | J12: =SUMIFS('Inhalation Exposure'!$J:$J,'Inhalation Exposure'!$C:$C,$J$4,'Inhalation Exposure'!$D:$D,$H12,'Inhalation Exposure'!$E:$E,$K$4) -> 0.011094965 | K12: =SUMIFS('Inhalation Exposure'!$N:$N,'Inhalation Exposure'!$C:$C,$J$4,'Inhalation Exposure'!$D:$D,$H12,'Inhalation Exposure'!$E:$E,$K$4) -> 0.0075475955 | L12: =SUMIFS('Inhalation Exposure'!$AB:$AB,'Inhalation Exposure'!$C:$C,$J$4,'Inhalation Exposure'!$D:$D,$H12,'Inhalation Exposure'!$E:$E,$K$4) -> 0.0010844309 | M12: =SUMIFS('Inhalation Exposure'!$R:$R,'Inhalation Exposure'!$C:$C,$J$4,'Inhalation Exposure'!$D:$D,$H12,'Inhalation Exposure'!$E:$E,$K$4) -> 8.913131e-05 | N12: =SUMIFS('Inhalation Exposure'!$V:$V,'Inhalation Exposure'!$C:$C,$J$4,'Inhalation Exposure'!$D:$D,$H12,'Inhalation Exposure'!$E:$E,$K$4) -> 3.3686502e-05 | R12: =_xlfn.CONCAT("Worker with Gloves; PF of ",'List Values'!H3) -> Worker with Gloves; PF of 5 | S12: High End | T12: =T10/'List Values'!$H$3 -> 104.7102 | U12: =U10/'List Values'!$H$3 -> 1.3088775 | V12: =V10/'List Values'!$H$3 -> 0.30540475 | W12: =W10/'List Values'!$H$3 -> 0.02510176 | X12: =X10/'List Values'!$H$3 -> 0.012872698
H13: ONU | J13: =SUMIFS('Inhalation Exposure'!$J:$J,'Inhalation Exposure'!$C:$C,$J$4,'Inhalation Exposure'!$D:$D,$H13,'Inhalation Exposure'!$E:$E,$K$4) -> 0 | K13: =SUMIFS('Inhalation Exposure'!$N:$N,'Inhalation Exposure'!$C:$C,$J$4,'Inhalation Exposure'!$D:$D,$H13,'Inhalation Exposure'!$E:$E,$K$4) -> 0 | L13: =SUMIFS('Inhalation Exposure'!$Z:$Z,'Inhalation Exposure'!$C:$C,$J$4,'Inhalation Exposure'!$D:$D,$H13,'Inhalation Exposure'!$E:$E,$K$4) -> 0 | M13: =SUMIFS('Inhalation Exposure'!$R:$R,'Inhalation Exposure'!$C:$C,$J$4,'Inhalation Exposure'!$D:$D,$H13,'Inhalation Exposure'!$E:$E,$K$4) -> 0 | N13: =SUMIFS('Inhalation Exposure'!$V:$V,'Inhalation Exposure'!$C:$C,$J$4,'Inhalation Exposure'!$D:$D,$H13,'Inhalation Exposure'!$E:$E,$K$4) -> 0 | S13: Central Tendency | T13: =T11/'List Values'!$H$3 -> 34.9034 | U13: =U11/'List Values'!$H$3 -> 0.4362925 | V13: =V11/'List Values'!$H$3 -> 0.058172333 | W13: =W11/'List Values'!$H$3 -> 0.0047812877 | X13: =X11/'List Values'!$H$3 -> 0.0019002554
R14: =_xlfn.CONCAT("Worker with Gloves; PF of ",'List Values'!H4) -> Worker with Gloves; PF of 10 | S14: High End | T14: =T10/'List Values'!$H$4 -> 52.3551 | U14: =U10/'List Values'!$H$4 -> 0.65443875 | V14: =V10/'List Values'!$H$4 -> 0.15270238 | W14: =W10/'List Values'!$H$4 -> 0.01255088 | X14: =X10/'List Values'!$H$4 -> 0.0064363488
S15: Central Tendency | T15: =T11/'List Values'!$H$4 -> 17.4517 | U15: =U11/'List Values'!$H$4 -> 0.21814625 | V15: =V11/'List Values'!$H$4 -> 0.029086167 | W15: =W11/'List Values'!$H$4 -> 0.0023906438 | X15: =X11/'List Values'!$H$4 -> 0.00095012768
R16: =_xlfn.CONCAT("Worker with Gloves; PF of ",'List Values'!H5) -> Worker with Gloves; PF of 20 | S16: High End | T16: =T10/'List Values'!$H$5 -> 26.17755 | U16: =U10/'List Values'!$H$5 -> 0.32721938 | V16: =V10/'List Values'!$H$5 -> 0.076351188 | W16: =W10/'List Values'!$H$5 -> 0.0062754401 | X16: =X10/'List Values'!$H$5 -> 0.0032181744
S17: Central Tendency | T17: =T11/'List Values'!$H$5 -> 8.72585 | U17: =U11/'List Values'!$H$5 -> 0.10907312 | V17: =V11/'List Values'!$H$5 -> 0.014543083 | W17: =W11/'List Values'!$H$5 -> 0.0011953219 | X17: =X11/'List Values'!$H$5 -> 0.00047506384
H19: Risk Estimation for Inhalation Exposures | R19: Risk Estimation for Dermal Exposures
C20: Risk Type | D20: Toxicity Endpoint | F20: Study | H20: HEC (mg/m3) | I20: Exposure Level | J20: Benchmark MOE (= Total UF) | K20: =_xlfn.CONCAT("Exposure Estimates: ",H4," MOE") -> Exposure Estimates: Worker MOE | R20: HED (mg/kg) | S20: Exposure Level | T20: Benchmark MOE (= Total UF) | U20: =_xlfn.CONCAT("Exposure Estimates: ",H4," MOE") -> Exposure Estimates: Worker MOE
K21: No Respirator | L21: APF = 10 | M21: APF = 25 | N21: APF = 50 | O21: APF = 1,000 | P21: APF = 10,000 | U21: No Gloves | V21: PF = 5 | W21: PF = 10 | X21: PF = 20
B22: Tox1 | C22: Acute, Non-Cancer | D22: ='Health Data'!D6 -> Tremors (S) | F22: ='Health Data'!E6 -> Moser et al. (2015) | H22: =VLOOKUP($B22,'Health Data'!$F$6:$K$8,2,FALSE) -> 51.5 | I22: High End | J22: =VLOOKUP($B22,'Health Data'!$F$6:$K$8,4,FALSE) -> 30 | K22: {=IFERROR($H22/_xlfn.IFS($H$4="Worker",$K$10,$H$4="ONU",$K$11), "")} -> 1854.3489 | L22: =IFERROR($K22*'List Values'!$E$17, "") -> 18543.489 | M22: =IFERROR($K22*'List Values'!$E$18, "") -> 46358.723 | N22: =IFERROR($K22*'List Values'!$E$19, "") -> 92717.446 | O22: =IFERROR($K22*'List Values'!$E$20, "") -> 1854348.9 | P22: =IFERROR($K22*'List Values'!$E$21, "") -> 18543489 | R22: =VLOOKUP($B22,'Health Data'!$F$6:$K$8,3,FALSE) -> 9.46 | S22: High End | T22: =VLOOKUP($B22,'Health Data'!$F$6:$K$8,4,FALSE) -> 30 | U22: =IFERROR($R22/U$10, "") -> 1.4455134 | V22: =IFERROR($R22/U$12, "") -> 7.2275671 | W22: =IFERROR($R22/U$14, "") -> 14.455134 | X22: =IFERROR($R22/U$16, "") -> 28.910269
I23: Central Tendency | K23: {=IFERROR($H22/_xlfn.IFS($H$4="Worker",$K$12,$H$4="ONU",$K$13),"")} -> 6823.3652 | L23: =IFERROR($K23*'List Values'!$E$17, "") -> 68233.652 | M23: =IFERROR($K23*'List Values'!$E$18, "") -> 170584.13 | N23: =IFERROR($K23*'List Values'!$E$19, "") -> 341168.26 | O23: =IFERROR($K23*'List Values'!$E$20, "") -> 6823365.2 | P23: =IFERROR($K23*'List Values'!$E$21, "") -> 68233652 | S23: Central Tendency | U23: =IFERROR($R22/U$11, "") -> 4.3365403 | V23: =IFERROR($R22/U$13, "") -> 21.682701 | W23: =IFERROR($R22/U$15, "") -> 43.365403 | X23: =IFERROR($R22/U$17, "") -> 86.730806
B24: Tox2 | C24: Sub-chronic, Non-Cancer | D24: ='Health Data'!D7 -> Reproductive toxicity | F24: ='Health Data'!E7 -> {Chen, 2015, xxx@@author-year} | H24: =VLOOKUP($B24,'Health Data'!$F$6:$K$8,2,FALSE) -> 14.9 | I24: High End | J24: =VLOOKUP($B24,'Health Data'!$F$6:$K$8,4,FALSE) -> 30 | K24: {=IFERROR($H24/_xlfn.IFS($H$4="Worker",$L$10,$H$4="ONU",$L$11), "")} -> 4006.2331 | L24: =IFERROR($K24*'List Values'!$E$17, "") -> 40062.331 | M24: =IFERROR($K24*'List Values'!$E$18, "") -> 100155.83 | N24: =IFERROR($K24*'List Values'!$E$19, "") -> 200311.65 | O24: =IFERROR($K24*'List Values'!$E$20, "") -> 4006233.1 | P24: =IFERROR($K24*'List Values'!$E$21, "") -> 40062331 | R24: =VLOOKUP($B24,'Health Data'!$F$6:$K$8,3,FALSE) -> 2.73 | S24: High End | T24: =VLOOKUP($B24,'Health Data'!$F$6:$K$8,4,FALSE) -> 30 | U24: =IFERROR($R24/V$10, "") -> 1.7877914 | V24: =IFERROR($R24/V$12, "") -> 8.9389572 | W24: =IFERROR($R24/V$14, "") -> 17.877914 | X24: =IFERROR($R24/V$16, "") -> 35.755829
I25: Central Tendency | K25: {=IFERROR($H24/_xlfn.IFS($H$4="Worker",$L$12,$H$4="ONU",$L$13), "")} -> 13739.925 | L25: =IFERROR($K25*'List Values'!$E$17, "") -> 137399.25 | M25: =IFERROR($K25*'List Values'!$E$18, "") -> 343498.13 | N25: =IFERROR($K25*'List Values'!$E$19, "") -> 686996.26 | O25: =IFERROR($K25*'List Values'!$E$20, "") -> 13739925 | P25: =IFERROR($K25*'List Values'!$E$21, "") -> 1.3739925e+08 | S25: Central Tendency | U25: =IFERROR($R24/V$11, "") -> 9.3859051 | V25: =IFERROR($R24/V$13, "") -> 46.929525 | W25: =IFERROR($R24/V$15, "") -> 93.859051 | X25: =IFERROR($R24/V$17, "") -> 187.7181
B26: Tox2 | C26: Chronic, Non-Cancer | D26: ='Health Data'!D7 -> Reproductive toxicity | F26: ='Health Data'!E7 -> {Chen, 2015, xxx@@author-year} | H26: =VLOOKUP($B26,'Health Data'!$F$6:$K$8,2,FALSE) -> 14.9 | I26: High End | J26: =VLOOKUP($B26,'Health Data'!$F$6:$K$8,4,FALSE) -> 30 | K26: {=IFERROR($H26/_xlfn.IFS($H$4="Worker",$M$10,$H$4="ONU",$M$11), "")} -> 48742.502 | L26: =IFERROR($K26*'List Values'!$E$17, "") -> 487425.02 | M26: =IFERROR($K26*'List Values'!$E$18, "") -> 1218562.6 | N26: =IFERROR($K26*'List Values'!$E$19, "") -> 2437125.1 | O26: =IFERROR($K26*'List Values'!$E$20, "") -> 48742502 | P26: =IFERROR($K26*'List Values'!$E$21, "") -> 4.8742502e+08 | R26: =VLOOKUP($B26,'Health Data'!$F$6:$K$8,3,FALSE) -> 2.73 | S26: High End | T26: =VLOOKUP($B26,'Health Data'!$F$6:$K$8,4,FALSE) -> 30 | U26: =IFERROR($R26/W$10, "") -> 21.751463 | V26: =IFERROR($R26/W$12, "") -> 108.75731 | W26: =IFERROR($R26/W$14, "") -> 217.51463 | X26: =IFERROR($R26/W$16, "") -> 435.02925
I27: Central Tendency | K27: {=IFERROR($H26/_xlfn.IFS($H$4="Worker",$M$12,$H$4="ONU",$M$13), "")} -> 167169.09 | L27: =IFERROR($K27*'List Values'!$E$17, "") -> 1671690.9 | M27: =IFERROR($K27*'List Values'!$E$18, "") -> 4179227.3 | N27: =IFERROR($K27*'List Values'!$E$19, "") -> 8358454.5 | O27: =IFERROR($K27*'List Values'!$E$20, "") -> 1.6716909e+08 | P27: =IFERROR($K27*'List Values'!$E$21, "") -> 1.6716909e+09 | S27: Central Tendency | U27: =IFERROR($R26/W$11, "") -> 114.19518 | V27: =IFERROR($R26/W$13, "") -> 570.97589 | W27: =IFERROR($R26/W$15, "") -> 1141.9518 | X27: =IFERROR($R26/W$17, "") -> 2283.9036
B28: Tox3 | C28: Chronic, Cancer | D28: ='Health Data'!D8 -> Renal tubule adenomas and carcinomas in male Fischer 344 rats (S) | F28: ='Health Data'!E8 -> NTP (1991) | H28: =VLOOKUP($B28,'Health Data'!$F$6:$K$8,5,FALSE) -> 0.00451 | I28: High End | J28: =VLOOKUP($B28,'Health Data'!$F$6:$K$8,4,FALSE) -> 0.0001 | K28: {=IFERROR($H28*_xlfn.IFS($H$4="Worker",$N$10,$H$4="ONU",N11), "")} -> 5.4998558e-07 | L28: =IFERROR($K28/'List Values'!$E$17, "") -> 5.4998558e-08 | M28: =IFERROR($K28/'List Values'!$E$18, "") -> 2.1999423e-08 | N28: =IFERROR($K28/'List Values'!$E$19, "") -> 1.0999712e-08 | O28: =IFERROR($K28/'List Values'!$E$20, "") -> 5.4998558e-10 | P28: =IFERROR($K28/'List Values'!$E$21, "") -> 5.4998558e-11 | R28: =VLOOKUP(B28,'Health Data'!$F$6:$K$8,6,FALSE) -> 0.0245 | S28: High End | T28: =VLOOKUP($B28,'Health Data'!$F$6:$K$8,4,FALSE) -> 0.0001 | U28: =IFERROR($R28*X$10, "") -> 0.0015769055 | V28: =IFERROR($R$28*X$12, "") -> 0.00031538109 | W28: =IFERROR($R$28*X$14, "") -> 0.00015769055 | X28: =IFERROR($R$28*X$16, "") -> 7.8845273e-05
I29: Central Tendency | K29: {=IFERROR($H28*_xlfn.IFS($H$4="Worker",$N$12,$H$4="ONU",N13), "")} -> 1.5192612e-07 | L29: =IFERROR($K29/'List Values'!$E$17, "") -> 1.5192612e-08 | M29: =IFERROR($K29/'List Values'!$E$18, "") -> 6.0770449e-09 | N29: =IFERROR($K29/'List Values'!$E$19, "") -> 3.0385225e-09 | O29: =IFERROR($K29/'List Values'!$E$20, "") -> 1.5192612e-10 | P29: =IFERROR($K29/'List Values'!$E$21, "") -> 1.5192612e-11 | S29: Central Tendency | U29: =IFERROR($R28*X$11, "") -> 0.00023278128 | V29: =IFERROR($R28*X$13, "") -> 4.6556256e-05 | W29: =IFERROR($R$28*X$15, "") -> 2.3278128e-05 | X29: =IFERROR($R$28*X$17, "") -> 1.1639064e-05
H56: Inhalation Cancer Risk Estimates | I56: =I28 -> High End | J56: =I29 -> Central Tendency | R56: Dermal Cancer Risk Estimates | S56: =S28 -> High End | T56: =S29 -> Central Tendency
H57: No Respirator | I57: =K28 -> 5.4998558e-07 | J57: =K29 -> 1.5192612e-07 | R57: No Gloves (PF = 1) | S57: =U28 -> 0.0015769055 | T57: =U29 -> 0.00023278128
H58: APF = 10 | I58: =L28 -> 5.4998558e-08 | J58: =L29 -> 1.5192612e-08 | R58: Protective Gloves (PF = 5) | S58: =V28 -> 0.00031538109 | T58: =V29 -> 4.6556256e-05
H59: APF = 25 | I59: =M28 -> 2.1999423e-08 | J59: =M29 -> 6.0770449e-09 | R59: Protective Gloves (Commercial uses, PF = 10) | S59: =W28 -> 0.00015769055 | T59: =W29 -> 2.3278128e-05
A60: = | H60: APF = 50 | I60: =N28 -> 1.0999712e-08 | J60: =N29 -> 3.0385225e-09 | R60: Protective Gloves (Industrial uses, PF = 20) | S60: =X28 -> 7.8845273e-05 | T60: =X29 -> 1.1639064e-05
H61: APF = 1,000 | I61: =O28 -> 5.4998558e-10 | J61: =O29 -> 1.5192612e-10
H62: APF = 10,000 | I62: =P28 -> 5.4998558e-11 | J62: =P29 -> 1.5192612e-11

Sheet Health Data
B2: Look-up Values and Risk Parameter Values
G3: Inhalation | H3: Dermal | J3: Inhalation | K3: Dermal
F4: Acute and Chronic, Non-Cancer Parameters | J4: Cancer Parameters | N4: Look-up Table Values
C5: Toxicity Endpoint | E5: Study | F5: Code | G5: HEC (mg/m3) | H5: HED (mg/kg-d) | I5: Benchmark MOE | J5: IUR (mg/m3)-1 | K5: CSF (mg/kg-d)-1 | O5: Exposure Percentiles | P5: Target Cancer Risk Level
B6: Acute, Non-Cancer | D6: Tremors (S) | E6: Moser et al. (2015) | F6: Tox1 | G6: 51.5 | H6: 9.46 | I6: 30 | J6: -- | K6: -- | O6: High End | P6: =0.000001 -> 1e-06
B7: Short-term (Sub-chronic) and Chronic, Non-Cancer | D7: Reproductive toxicity | E7: {Chen, 2015, xxx@@author-year} | F7: Tox2 | G7: 14.9 | H7: 2.73 | I7: 30 | J7: -- | K7: -- | O7: Central Tendency | P7: =0.00001 -> 1e-05
B8: Chronic, Cancer | C8: Cancer | D8: Renal tubule adenomas and carcinomas in male Fischer 344 rats (S) | E8: NTP (1991) | F8: Tox3 | G8: -- | H8: -- | I8: 0.0001 | J8: 0.00451 | K8: 0.0245
P9: =0.0001 -> 0.0001
N11: HEC conversion factor
N12: =O14/O13 -> 0.085642229 | P12: ppm/mg/m3
N13: TCEP MW | O13: 285.49 | P13: g/mol
N14: Molar Volume | O14: 24.45 | P14: L/mol

Sheet Bridge Table
B2: Summary of Risk Estimates for Inhalation and Dermal Exposures to Workers by Condition of Use
L3: Benchmarks
L4: ='Health Data'!I6 -> 30 | M4: ='Health Data'!I7 -> 30 | N4: ='Health Data'!I7 -> 30 | O4: ='Health Data'!I8 -> 0.0001 | P4: =L4 -> 30 | Q4: =M4 -> 30 | R4: =N4 -> 30 | S4: =O4 -> 0.0001
B6: OES Group | C6: Population | D6: Exposure Route | E6: Throughput | F6: Life Cycle Stage/ Category | G6: Subcategory | H6: Occupational Exposure Scenario | I6: Population | J6: Exposure Route and Duration | K6: Exposure Level | L6: Risk Estimates for No PPE | P6: Risk Estimates with PPE | U6: Select the PPE APF or PF for Each OES, Receptor, and Endpoint
L7: Acute Non-cancer (bench­mark MOE = 30) | M7: Subchronic, Non-Cancer (bench-mark MOE = 30) | N7: Chronic Non-cancer (bench­mark MOE = 30) | O7: Cancer (bench­mark = 10-4) | P7: Acute Non-cancer (bench­mark MOE = 30) | Q7: Subchronic, Non-Cancer (bench-mark MOE = 30) | R7: Chronic Non-cancer (bench­mark MOE = 30) | S7: Cancer (bench­mark = 10‑4) | U7: Acute Non-cancer | V7: Subchronic Non-Cancer | W7: Chronic Non-cancer | X7: Cancer | AA7: Acute Non-cancer HEC (mg/m3) and HED (mg/kg-d) | AB7: Short-term (Sub-chronic) HEC (mg/m3) and HED (mg/kg-d) | AC7: Chronic Non-cancer HEC (mg/m3) and HED (mg/kg-d) | AD7: Cancer IUR (mg/m3)-1 and CSF (mg/kg-d)-1
B8: 1 | C8: Average Adult Worker | D8: Inhalation | E8: 2,500-lb throughput | F8: Manufacturing / Import | G8: Import | H8: Manufacturing - Import - Repackaging | I8: Average Adult Worker | J8: Inhalation 8-hr TWA | K8: Central Tendency | L8: =IFERROR(IFERROR(VLOOKUP($D8,$Z$8:$AD$9,2,FALSE),0)/IF($D8="Inhalation",IF($K8="Central Tendency",SUMIFS('Inhalation Exposure'!$N$4:$N$61,'Inhalation Exposure'!$B$4:$B$61,$B8,'Inhalation Exposure'!$D$4:$D$61,$C8,'Inhalation Exposure'!$E$4:$E$61,$E8),SUMIFS('Inhalation Exposure'!$M$4:$M$61,'Inhalation Exposure'!$B$4:$B$61,$B8,'Inhalation Exposure'!$D$4:$D$61,$C8,'Inhalation Exposure'!$E$4:$E$61,$E8)),IF($K8="Central Tendency",SUMIFS('Dermal Crosswalk'!$P$5:$P$32,'Dermal Crosswalk'!$A$5:$A$32,'Bridge Table'!$B8,'Dermal Crosswalk'!$C$5:$C$32,'Bridge Table'!$E8),SUMIFS('Dermal Crosswalk'!$K$5:$K$32,'Dermal Crosswalk'!$A$5:$A$32,'Bridge Table'!$B8,'Dermal Crosswalk'!$C$5:$C$32,'Bridge Table'!$E8))),"--") -> 6823.3652 | M8: =IFERROR(IFERROR(VLOOKUP($D8,$Z$8:$AD$9,3,FALSE),0)/IF($D8="Inhalation",IF($K8="Central Tendency",SUMIFS('Inhalation Exposure'!$AB$4:$AB$61,'Inhalation Exposure'!$B$4:$B$61,$B8,'Inhalation Exposure'!$D$4:$D$61,$C8,'Inhalation Exposure'!$E$4:$E$61,$E8),SUMIFS('Inhalation Exposure'!$AA$4:$AA$61,'Inhalation Exposure'!$B$4:$B$61,$B8,'Inhalation Exposure'!$D$4:$D$61,$C8,'Inhalation Exposure'!$E$4:$E$61,$E8)),IF($K8="Central Tendency",SUMIFS('Dermal Crosswalk'!$S$5:$S$32,'Dermal Crosswalk'!$A$5:$A$32,'Bridge Table'!$B8,'Dermal Crosswalk'!$C$5:$C$32,'Bridge Table'!$E8),SUMIFS('Dermal Crosswalk'!$N$5:$N$32,'Dermal Crosswalk'!$A$5:$A$32,'Bridge Table'!$B8,'Dermal Crosswalk'!$C$5:$C$32,'Bridge Table'!$E8))),"--") -> 13739.925 | N8: =IFERROR(IFERROR(VLOOKUP($D8,$Z$8:$AD$9,4,FALSE),0)/IF($D8="Inhalation",IF($K8="Central Tendency",SUMIFS('Inhalation Exposure'!$R$4:$R$61,'Inhalation Exposure'!$B$4:$B$61,$B8,'Inhalation Exposure'!$D$4:$D$61,$C8,'Inhalation Exposure'!$E$4:$E$61,$E8),SUMIFS('Inhalation Exposure'!$Q$4:$Q$61,'Inhalation Exposure'!$B$4:$B$61,$B8,'Inhalation Exposure'!$D$4:$D$61,$C8,'Inhalation Exposure'!$E$4:$E$61,$E8)),IF($K8="Central Tendency",SUMIFS('Dermal Crosswalk'!$Q$5:$Q$32,'Dermal Crosswalk'!$A$5:$A$32,'Bridge Table'!$B8,'Dermal Crosswalk'!$C$5:$C$32,'Bridge Table'!$E8),SUMIFS('Dermal Crosswalk'!$L$5:$L$32,'Dermal Crosswalk'!$A$5:$A$32,'Bridge Table'!$B8,'Dermal Crosswalk'!$C$5:$C$32,'Bridge Table'!$E8))),"--") -> 167169.09 | O8: =IFERROR(IFERROR(VLOOKUP($D8,$Z$8:$AD$9,5,FALSE),0)*IF($D8="Inhalation",IF($K8="Central Tendency",SUMIFS('Inhalation Exposure'!$V$4:$V$61,'Inhalation Exposure'!$B$4:$B$61,$B8,'Inhalation Exposure'!$D$4:$D$61,$C8,'Inhalation Exposure'!$E$4:$E$61,$E8),SUMIFS('Inhalation Exposure'!$U$4:$U$61,'Inhalation Exposure'!$B$4:$B$61,$B8,'Inhalation Exposure'!$D$4:$D$61,$C8,'Inhalation Exposure'!$E$4:$E$61,$E8)),IF($K8="Central Tendency",SUMIFS('Dermal Crosswalk'!$R$5:$R$32,'Dermal Crosswalk'!$A$5:$A$32,'Bridge Table'!$B8,'Dermal Crosswalk'!$C$5:$C$32,'Bridge Table'!$E8),SUMIFS('Dermal Crosswalk'!$M$5:$M$32,'Dermal Crosswalk'!$A$5:$A$32,'Bridge Table'!$B8,'Dermal Crosswalk'!$C$5:$C$32,'Bridge Table'!$E8))),"--") -> 1.5192612e-07 | P8: =IFERROR(L8*U8,"Not Assessed") -> 68233.652 | Q8: =IFERROR(M8*V8,"Not Assessed") -> 137399.25 | R8: =IFERROR(N8*W8,"Not Assessed") -> 1671690.9 | S8: =IFERROR(O8/X8, "Not Assessed") -> 1.5192612e-08 | U8: 10 | V8: 10 | W8: 10 | X8: 10 | Z8: Inhalation | AA8: ='Health Data'!G6 -> 51.5 | AB8: ='Health Data'!G7 -> 14.9 | AC8: ='Health Data'!G7 -> 14.9 | AD8: ='Health Data'!J8 -> 0.00451
B9: 1 | C9: Average Adult Worker | D9: Inhalation | E9: 2,500-lb throughput | P9: =CONCATENATE("(APF ",U8,")") -> (APF 10) | Q9: =CONCATENATE("(APF ",V8,")") -> (APF 10) | R9: =CONCATENATE("(APF ",W8,")") -> (APF 10) | S9: =CONCATENATE("(APF ",X8,")") -> (APF 10) | U9: APF | V9: APF | W9: APF | X9: APF | Z9: Dermal | AA9: ='Health Data'!H6 -> 9.46 | AB9: ='Health Data'!H7 -> 2.73 | AC9: ='Health Data'!H7 -> 2.73 | AD9: ='Health Data'!K8 -> 0.0245
B10: 1 | C10: Average Adult Worker | D10: Inhalation | E10: 2,500-lb throughput | K10: High-End | L10: =IFERROR(IFERROR(VLOOKUP($D10,$Z$8:$AD$9,2,FALSE),0)/IF($D10="Inhalation",IF($K10="Central Tendency",SUMIFS('Inhalation Exposure'!$N$4:$N$61,'Inhalation Exposure'!$B$4:$B$61,$B10,'Inhalation Exposure'!$D$4:$D$61,$C10,'Inhalation Exposure'!$E$4:$E$61,$E10),SUMIFS('Inhalation Exposure'!$M$4:$M$61,'Inhalation Exposure'!$B$4:$B$61,$B10,'Inhalation Exposure'!$D$4:$D$61,$C10,'Inhalation Exposure'!$E$4:$E$61,$E10)),IF($K10="Central Tendency",SUMIFS('Dermal Crosswalk'!$P$5:$P$32,'Dermal Crosswalk'!$A$5:$A$32,'Bridge Table'!$B10,'Dermal Crosswalk'!$C$5:$C$32,'Bridge Table'!$E10),SUMIFS('Dermal Crosswalk'!$K$5:$K$32,'Dermal Crosswalk'!$A$5:$A$32,'Bridge Table'!$B10,'Dermal Crosswalk'!$C$5:$C$32,'Bridge Table'!$E10))),"--") -> 1854.3489 | M10: =IFERROR(IFERROR(VLOOKUP($D10,$Z$8:$AD$9,3,FALSE),0)/IF($D10="Inhalation",IF($K10="Central Tendency",SUMIFS('Inhalation Exposure'!$AB$4:$AB$61,'Inhalation Exposure'!$B$4:$B$61,$B10,'Inhalation Exposure'!$D$4:$D$61,$C10,'Inhalation Exposure'!$E$4:$E$61,$E10),SUMIFS('Inhalation Exposure'!$AA$4:$AA$61,'Inhalation Exposure'!$B$4:$B$61,$B10,'Inhalation Exposure'!$D$4:$D$61,$C10,'Inhalation Exposure'!$E$4:$E$61,$E10)),IF($K10="Central Tendency",SUMIFS('Dermal Crosswalk'!$S$5:$S$32,'Dermal Crosswalk'!$A$5:$A$32,'Bridge Table'!$B10,'Dermal Crosswalk'!$C$5:$C$32,'Bridge Table'!$E10),SUMIFS('Dermal Crosswalk'!$N$5:$N$32,'Dermal Crosswalk'!$A$5:$A$32,'Bridge Table'!$B10,'Dermal Crosswalk'!$C$5:$C$32,'Bridge Table'!$E10))),"--") -> 4006.2331 | N10: =IFERROR(IFERROR(VLOOKUP($D10,$Z$8:$AD$9,4,FALSE),0)/IF($D10="Inhalation",IF($K10="Central Tendency",SUMIFS('Inhalation Exposure'!$R$4:$R$61,'Inhalation Exposure'!$B$4:$B$61,$B10,'Inhalation Exposure'!$D$4:$D$61,$C10,'Inhalation Exposure'!$E$4:$E$61,$E10),SUMIFS('Inhalation Exposure'!$Q$4:$Q$61,'Inhalation Exposure'!$B$4:$B$61,$B10,'Inhalation Exposure'!$D$4:$D$61,$C10,'Inhalation Exposure'!$E$4:$E$61,$E10)),IF($K10="Central Tendency",SUMIFS('Dermal Crosswalk'!$Q$5:$Q$32,'Dermal Crosswalk'!$A$5:$A$32,'Bridge Table'!$B10,'Dermal Crosswalk'!$C$5:$C$32,'Bridge Table'!$E10),SUMIFS('Dermal Crosswalk'!$L$5:$L$32,'Dermal Crosswalk'!$A$5:$A$32,'Bridge Table'!$B10,'Dermal Crosswalk'!$C$5:$C$32,'Bridge Table'!$E10))),"--") -> 48742.502 | O10: =IFERROR(IFERROR(VLOOKUP($D10,$Z$8:$AD$9,5,FALSE),0)*IF($D10="Inhalation",IF($K10="Central Tendency",SUMIFS('Inhalation Exposure'!$V$4:$V$61,'Inhalation Exposure'!$B$4:$B$61,$B10,'Inhalation Exposure'!$D$4:$D$61,$C10,'Inhalation Exposure'!$E$4:$E$61,$E10),SUMIFS('Inhalation Exposure'!$U$4:$U$61,'Inhalation Exposure'!$B$4:$B$61,$B10,'Inhalation Exposure'!$D$4:$D$61,$C10,'Inhalation Exposure'!$E$4:$E$61,$E10)),IF($K10="Central Tendency",SUMIFS('Dermal Crosswalk'!$R$5:$R$32,'Dermal Crosswalk'!$A$5:$A$32,'Bridge Table'!$B10,'Dermal Crosswalk'!$C$5:$C$32,'Bridge Table'!$E10),SUMIFS('Dermal Crosswalk'!$M$5:$M$32,'Dermal Crosswalk'!$A$5:$A$32,'Bridge Table'!$B10,'Dermal Crosswalk'!$C$5:$C$32,'Bridge Table'!$E10))),"--") -> 5.4998558e-07 | P10: =IFERROR(L10*U10,"Not Assessed") -> 18543.489 | Q10: =IFERROR(M10*V10,"Not Assessed") -> 40062.331 | R10: =IFERROR(N10*W10,"Not Assessed") -> 487425.02 | S10: =IFERROR(O10/X10, "Not Assessed") -> 5.4998558e-08 | U10: 10 | V10: 10 | W10: 10 | X10: 10
B11: 1 | C11: Average Adult Worker | D11: Inhalation | E11: 2,500-lb throughput | P11: =CONCATENATE("(APF ",U10,")") -> (APF 10) | Q11: =CONCATENATE("(APF ",V10,")") -> (APF 10) | R11: =CONCATENATE("(APF ",W10,")") -> (APF 10) | S11: =CONCATENATE("(APF ",X10,")") -> (APF 10) | U11: APF | V11: APF | W11: APF | X11: APF
B12: 1 | C12: Average Adult Worker | D12: Inhalation | E12: 25,000-lb throughput | I12: Average Adult Worker | J12: Inhalation 8-hr TWA | K12: Central Tendency | L12: =IFERROR(IFERROR(VLOOKUP($D12,$Z$8:$AD$9,2,FALSE),0)/IF($D12="Inhalation",IF($K12="Central Tendency",SUMIFS('Inhalation Exposure'!$N$4:$N$61,'Inhalation Exposure'!$B$4:$B$61,$B12,'Inhalation Exposure'!$D$4:$D$61,$C12,'Inhalation Exposure'!$E$4:$E$61,$E12),SUMIFS('Inhalation Exposure'!$M$4:$M$61,'Inhalation Exposure'!$B$4:$B$61,$B12,'Inhalation Exposure'!$D$4:$D$61,$C12,'Inhalation Exposure'!$E$4:$E$61,$E12)),IF($K12="Central Tendency",SUMIFS('Dermal Crosswalk'!$P$5:$P$32,'Dermal Crosswalk'!$A$5:$A$32,'Bridge Table'!$B12,'Dermal Crosswalk'!$C$5:$C$32,'Bridge Table'!$E12),SUMIFS('Dermal Crosswalk'!$K$5:$K$32,'Dermal Crosswalk'!$A$5:$A$32,'Bridge Table'!$B12,'Dermal Crosswalk'!$C$5:$C$32,'Bridge Table'!$E12))),"--") -> 6798.7622 | M12: =IFERROR(IFERROR(VLOOKUP($D12,$Z$8:$AD$9,3,FALSE),0)/IF($D12="Inhalation",IF($K12="Central Tendency",SUMIFS('Inhalation Exposure'!$AB$4:$AB$61,'Inhalation Exposure'!$B$4:$B$61,$B12,'Inhalation Exposure'!$D$4:$D$61,$C12,'Inhalation Exposure'!$E$4:$E$61,$E12),SUMIFS('Inhalation Exposure'!$AA$4:$AA$61,'Inhalation Exposure'!$B$4:$B$61,$B12,'Inhalation Exposure'!$D$4:$D$61,$C12,'Inhalation Exposure'!$E$4:$E$61,$E12)),IF($K12="Central Tendency",SUMIFS('Dermal Crosswalk'!$S$5:$S$32,'Dermal Crosswalk'!$A$5:$A$32,'Bridge Table'!$B12,'Dermal Crosswalk'!$C$5:$C$32,'Bridge Table'!$E12),SUMIFS('Dermal Crosswalk'!$N$5:$N$32,'Dermal Crosswalk'!$A$5:$A$32,'Bridge Table'!$B12,'Dermal Crosswalk'!$C$5:$C$32,'Bridge Table'!$E12))),"--") -> 2682.3007 | N12: =IFERROR(IFERROR(VLOOKUP($D12,$Z$8:$AD$9,4,FALSE),0)/IF($D12="Inhalation",IF($K12="Central Tendency",SUMIFS('Inhalation Exposure'!$R$4:$R$61,'Inhalation Exposure'!$B$4:$B$61,$B12,'Inhalation Exposure'!$D$4:$D$61,$C12,'Inhalation Exposure'!$E$4:$E$61,$E12),SUMIFS('Inhalation Exposure'!$Q$4:$Q$61,'Inhalation Exposure'!$B$4:$B$61,$B12,'Inhalation Exposure'!$D$4:$D$61,$C12,'Inhalation Exposure'!$E$4:$E$61,$E12)),IF($K12="Central Tendency",SUMIFS('Dermal Crosswalk'!$Q$5:$Q$32,'Dermal Crosswalk'!$A$5:$A$32,'Bridge Table'!$B12,'Dermal Crosswalk'!$C$5:$C$32,'Bridge Table'!$E12),SUMIFS('Dermal Crosswalk'!$L$5:$L$32,'Dermal Crosswalk'!$A$5:$A$32,'Bridge Table'!$B12,'Dermal Crosswalk'!$C$5:$C$32,'Bridge Table'!$E12))),"--") -> 18636.104 | O12: =IFERROR(IFERROR(VLOOKUP($D12,$Z$8:$AD$9,5,FALSE),0)*IF($D12="Inhalation",IF($K12="Central Tendency",SUMIFS('Inhalation Exposure'!$V$4:$V$61,'Inhalation Exposure'!$B$4:$B$61,$B12,'Inhalation Exposure'!$D$4:$D$61,$C12,'Inhalation Exposure'!$E$4:$E$61,$E12),SUMIFS('Inhalation Exposure'!$U$4:$U$61,'Inhalation Exposure'!$B$4:$B$61,$B12,'Inhalation Exposure'!$D$4:$D$61,$C12,'Inhalation Exposure'!$E$4:$E$61,$E12)),IF($K12="Central Tendency",SUMIFS('Dermal Crosswalk'!$R$5:$R$32,'Dermal Crosswalk'!$A$5:$A$32,'Bridge Table'!$B12,'Dermal Crosswalk'!$C$5:$C$32,'Bridge Table'!$E12),SUMIFS('Dermal Crosswalk'!$M$5:$M$32,'Dermal Crosswalk'!$A$5:$A$32,'Bridge Table'!$B12,'Dermal Crosswalk'!$C$5:$C$32,'Bridge Table'!$E12))),"--") -> 1.3660252e-06 | P12: =IFERROR(L12*U12,"Not Assessed") -> 67987.622 | Q12: =IFERROR(M12*V12,"Not Assessed") -> 26823.007 | R12: =IFERROR(N12*W12,"Not Assessed") -> 186361.04 | S12: =IFERROR(O12/X12, "Not Assessed") -> 1.3660252e-07 | U12: 10 | V12: 10 | W12: 10 | X12: 10
B13: 1 | C13: Average Adult Worker | D13: Inhalation | E13: 25,000-lb throughput | P13: =CONCATENATE("(APF ",U12,")") -> (APF 10) | Q13: =CONCATENATE("(APF ",V12,")") -> (APF 10) | R13: =CONCATENATE("(APF ",W12,")") -> (APF 10) | S13: =CONCATENATE("(APF ",X12,")") -> (APF 10) | U13: APF | V13: APF | W13: APF | X13: APF
B14: 1 | C14: Average Adult Worker | D14: Inhalation | E14: 25,000-lb throughput | K14: High-End | L14: =IFERROR(IFERROR(VLOOKUP($D14,$Z$8:$AD$9,2,FALSE),0)/IF($D14="Inhalation",IF($K14="Central Tendency",SUMIFS('Inhalation Exposure'!$N$4:$N$61,'Inhalation Exposure'!$B$4:$B$61,$B14,'Inhalation Exposure'!$D$4:$D$61,$C14,'Inhalation Exposure'!$E$4:$E$61,$E14),SUMIFS('Inhalation Exposure'!$M$4:$M$61,'Inhalation Exposure'!$B$4:$B$61,$B14,'Inhalation Exposure'!$D$4:$D$61,$C14,'Inhalation Exposure'!$E$4:$E$61,$E14)),IF($K14="Central Tendency",SUMIFS('Dermal Crosswalk'!$P$5:$P$32,'Dermal Crosswalk'!$A$5:$A$32,'Bridge Table'!$B14,'Dermal Crosswalk'!$C$5:$C$32,'Bridge Table'!$E14),SUMIFS('Dermal Crosswalk'!$K$5:$K$32,'Dermal Crosswalk'!$A$5:$A$32,'Bridge Table'!$B14,'Dermal Crosswalk'!$C$5:$C$32,'Bridge Table'!$E14))),"--") -> 1847.2574 | M14: =IFERROR(IFERROR(VLOOKUP($D14,$Z$8:$AD$9,3,FALSE),0)/IF($D14="Inhalation",IF($K14="Central Tendency",SUMIFS('Inhalation Exposure'!$AB$4:$AB$61,'Inhalation Exposure'!$B$4:$B$61,$B14,'Inhalation Exposure'!$D$4:$D$61,$C14,'Inhalation Exposure'!$E$4:$E$61,$E14),SUMIFS('Inhalation Exposure'!$AA$4:$AA$61,'Inhalation Exposure'!$B$4:$B$61,$B14,'Inhalation Exposure'!$D$4:$D$61,$C14,'Inhalation Exposure'!$E$4:$E$61,$E14)),IF($K14="Central Tendency",SUMIFS('Dermal Crosswalk'!$S$5:$S$32,'Dermal Crosswalk'!$A$5:$A$32,'Bridge Table'!$B14,'Dermal Crosswalk'!$C$5:$C$32,'Bridge Table'!$E14),SUMIFS('Dermal Crosswalk'!$N$5:$N$32,'Dermal Crosswalk'!$A$5:$A$32,'Bridge Table'!$B14,'Dermal Crosswalk'!$C$5:$C$32,'Bridge Table'!$E14))),"--") -> 728.79441 | N14: =IFERROR(IFERROR(VLOOKUP($D14,$Z$8:$AD$9,4,FALSE),0)/IF($D14="Inhalation",IF($K14="Central Tendency",SUMIFS('Inhalation Exposure'!$R$4:$R$61,'Inhalation Exposure'!$B$4:$B$61,$B14,'Inhalation Exposure'!$D$4:$D$61,$C14,'Inhalation Exposure'!$E$4:$E$61,$E14),SUMIFS('Inhalation Exposure'!$Q$4:$Q$61,'Inhalation Exposure'!$B$4:$B$61,$B14,'Inhalation Exposure'!$D$4:$D$61,$C14,'Inhalation Exposure'!$E$4:$E$61,$E14)),IF($K14="Central Tendency",SUMIFS('Dermal Crosswalk'!$Q$5:$Q$32,'Dermal Crosswalk'!$A$5:$A$32,'Bridge Table'!$B14,'Dermal Crosswalk'!$C$5:$C$32,'Bridge Table'!$E14),SUMIFS('Dermal Crosswalk'!$L$5:$L$32,'Dermal Crosswalk'!$A$5:$A$32,'Bridge Table'!$B14,'Dermal Crosswalk'!$C$5:$C$32,'Bridge Table'!$E14))),"--") -> 5440.4104 | O14: =IFERROR(IFERROR(VLOOKUP($D14,$Z$8:$AD$9,5,FALSE),0)*IF($D14="Inhalation",IF($K14="Central Tendency",SUMIFS('Inhalation Exposure'!$V$4:$V$61,'Inhalation Exposure'!$B$4:$B$61,$B14,'Inhalation Exposure'!$D$4:$D$61,$C14,'Inhalation Exposure'!$E$4:$E$61,$E14),SUMIFS('Inhalation Exposure'!$U$4:$U$61,'Inhalation Exposure'!$B$4:$B$61,$B14,'Inhalation Exposure'!$D$4:$D$61,$C14,'Inhalation Exposure'!$E$4:$E$61,$E14)),IF($K14="Central Tendency",SUMIFS('Dermal Crosswalk'!$R$5:$R$32,'Dermal Crosswalk'!$A$5:$A$32,'Bridge Table'!$B14,'Dermal Crosswalk'!$C$5:$C$32,'Bridge Table'!$E14),SUMIFS('Dermal Crosswalk'!$M$5:$M$32,'Dermal Crosswalk'!$A$5:$A$32,'Bridge Table'!$B14,'Dermal Crosswalk'!$C$5:$C$32,'Bridge Table'!$E14))),"--") -> 4.9144527e-06 | P14: =IFERROR(L14*U14,"Not Assessed") -> 18472.574 | Q14: =IFERROR(M14*V14,"Not Assessed") -> 7287.9441 | R14: =IFERROR(N14*W14,"Not Assessed") -> 54404.104 | S14: =IFERROR(O14/X14, "Not Assessed") -> 4.9144527e-07 | U14: 10 | V14: 10 | W14: 10 | X14: 10
B15: 1 | C15: Average Adult Worker | D15: Inhalation | E15: 25,000-lb throughput | P15: =CONCATENATE("(APF ",U14,")") -> (APF 10) | Q15: =CONCATENATE("(APF ",V14,")") -> (APF 10) | R15: =CONCATENATE("(APF ",W14,")") -> (APF 10) | S15: =CONCATENATE("(APF ",X14,")") -> (APF 10) | U15: APF | V15: APF | W15: APF | X15: APF
B16: 1 | C16: ONU | D16: Inhalation | E16: 2,500-lb throughput | I16: ONU | J16: Inhalation 8-hr TWA | K16: Central Tendency | L16: =IFERROR(IFERROR(VLOOKUP($D16,$Z$8:$AD$9,2,FALSE),0)/IF($D16="Inhalation",IF($K16="Central Tendency",SUMIFS('Inhalation Exposure'!$L$4:$L$60,'Inhalation Exposure'!$B$4:$B$60,$B16,'Inhalation Exposure'!$D$4:$D$60,$C16,'Inhalation Exposure'!$E$4:$E$60,$E16),SUMIFS('Inhalation Exposure'!$K$4:$K$60,'Inhalation Exposure'!$B$4:$B$60,$B16,'Inhalation Exposure'!$D$4:$D$60,$C16,'Inhalation Exposure'!$E$4:$E$60,$E16)),IF($K16="Central Tendency",SUMIFS('Dermal Crosswalk'!$P$5:$P$32,'Dermal Crosswalk'!$A$5:$A$32,'Bridge Table'!$B16,'Dermal Crosswalk'!$C$5:$C$32,'Bridge Table'!$E16),SUMIFS('Dermal Crosswalk'!$K$5:$K$32,'Dermal Crosswalk'!$A$5:$A$32,'Bridge Table'!$B16,'Dermal Crosswalk'!$C$5:$C$32,'Bridge Table'!$E16))),"--") -> -- | M16: =IFERROR(IFERROR(VLOOKUP($D16,$Z$8:$AD$9,3,FALSE),0)/IF($D16="Inhalation",IF($K16="Central Tendency",SUMIFS('Inhalation Exposure'!$AB$4:$AB$60,'Inhalation Exposure'!$B$4:$B$60,$B16,'Inhalation Exposure'!$D$4:$D$60,$C16,'Inhalation Exposure'!$E$4:$E$60,$E16),SUMIFS('Inhalation Exposure'!$AA$4:$AA$60,'Inhalation Exposure'!$B$4:$B$60,$B16,'Inhalation Exposure'!$D$4:$D$60,$C16,'Inhalation Exposure'!$E$4:$E$60,$E16)),IF($K16="Central Tendency",SUMIFS('Dermal Crosswalk'!$S$5:$S$32,'Dermal Crosswalk'!$A$5:$A$32,'Bridge Table'!$B16,'Dermal Crosswalk'!$C$5:$C$32,'Bridge Table'!$E16),SUMIFS('Dermal Crosswalk'!$N$5:$N$32,'Dermal Crosswalk'!$A$5:$A$32,'Bridge Table'!$B16,'Dermal Crosswalk'!$C$5:$C$32,'Bridge Table'!$E16))),"--") -> -- | N16: =IFERROR(IFERROR(VLOOKUP($D16,$Z$8:$AD$9,4,FALSE),0)/IF($D16="Inhalation",IF($K16="Central Tendency",SUMIFS('Inhalation Exposure'!$R$4:$R$60,'Inhalation Exposure'!$B$4:$B$60,$B16,'Inhalation Exposure'!$D$4:$D$60,$C16,'Inhalation Exposure'!$E$4:$E$60,$E16),SUMIFS('Inhalation Exposure'!$Q$4:$Q$60,'Inhalation Exposure'!$B$4:$B$60,$B16,'Inhalation Exposure'!$D$4:$D$60,$C16,'Inhalation Exposure'!$E$4:$E$60,$E16)),IF($K16="Central Tendency",SUMIFS('Dermal Crosswalk'!$Q$5:$Q$32,'Dermal Crosswalk'!$A$5:$A$32,'Bridge Table'!$B16,'Dermal Crosswalk'!$C$5:$C$32,'Bridge Table'!$E16),SUMIFS('Dermal Crosswalk'!$L$5:$L$32,'Dermal Crosswalk'!$A$5:$A$32,'Bridge Table'!$B16,'Dermal Crosswalk'!$C$5:$C$32,'Bridge Table'!$E16))),"--") -> -- | O16: =IF(IFERROR(VLOOKUP($D16,$Z$8:$AD$9,5,FALSE),0)*IF($D16="Inhalation",IF($K16="Central Tendency",SUMIFS('Inhalation Exposure'!$V$4:$V$60,'Inhalation Exposure'!$B$4:$B$60,$B16,'Inhalation Exposure'!$D$4:$D$60,$C16,'Inhalation Exposure'!$E$4:$E$60,$E16),SUMIFS('Inhalation Exposure'!$U$4:$U$60,'Inhalation Exposure'!$B$4:$B$60,$B16,'Inhalation Exposure'!$D$4:$D$60,$C16,'Inhalation Exposure'!$E$4:$E$60,$E16)),IF($K16="Central Tendency",SUMIFS('Dermal Crosswalk'!$R$5:$R$32,'Dermal Crosswalk'!$A$5:$A$32,'Bridge Table'!$B16,'Dermal Crosswalk'!$C$5:$C$32,'Bridge Table'!$E16),SUMIFS('Dermal Crosswalk'!$M$5:$M$32,'Dermal Crosswalk'!$A$5:$A$32,'Bridge Table'!$B16,'Dermal Crosswalk'!$C$5:$C$32,'Bridge Table'!$E16)))=0,"--",IFERROR(VLOOKUP($D16,$Z$8:$AD$9,5,FALSE),0)*IF($D16="Inhalation",IF($K16="Central Tendency",SUMIFS('Inhalation Exposure'!$V$4:$V$60,'Inhalation Exposure'!$B$4:$B$60,$B16,'Inhalation Exposure'!$D$4:$D$60,$C16,'Inhalation Exposure'!$E$4:$E$60,$E16),SUMIFS('Inhalation Exposure'!$U$4:$U$60,'Inhalation Exposure'!$B$4:$B$60,$B16,'Inhalation Exposure'!$D$4:$D$60,$C16,'Inhalation Exposure'!$E$4:$E$60,$E16)),IF($K16="Central Tendency",SUMIFS('Dermal Crosswalk'!$R$5:$R$32,'Dermal Crosswalk'!$A$5:$A$32,'Bridge Table'!$B16,'Dermal Crosswalk'!$C$5:$C$32,'Bridge Table'!$E16),SUMIFS('Dermal Crosswalk'!$M$5:$M$32,'Dermal Crosswalk'!$A$5:$A$32,'Bridge Table'!$B16,'Dermal Crosswalk'!$C$5:$C$32,'Bridge Table'!$E16)))) -> -- | P16: N/A | Q16: N/A | R16: N/A | S16: N/A | U16: N/A | V16: N/A | W16: N/A | X16: N/A
B17: 1 | C17: ONU | D17: Inhalation | E17: 2,500-lb throughput
B18: 1 | C18: ONU | D18: Inhalation | E18: 2,500-lb throughput | K18: High-End | L18: =IFERROR(IFERROR(VLOOKUP($D18,$Z$8:$AD$9,2,FALSE),0)/IF($D18="Inhalation",IF($K18="Central Tendency",SUMIFS('Inhalation Exposure'!$L$4:$L$60,'Inhalation Exposure'!$B$4:$B$60,$B18,'Inhalation Exposure'!$D$4:$D$60,$C18,'Inhalation Exposure'!$E$4:$E$60,$E18),SUMIFS('Inhalation Exposure'!$K$4:$K$60,'Inhalation Exposure'!$B$4:$B$60,$B18,'Inhalation Exposure'!$D$4:$D$60,$C18,'Inhalation Exposure'!$E$4:$E$60,$E18)),IF($K18="Central Tendency",SUMIFS('Dermal Crosswalk'!$P$5:$P$32,'Dermal Crosswalk'!$A$5:$A$32,'Bridge Table'!$B18,'Dermal Crosswalk'!$C$5:$C$32,'Bridge Table'!$E18),SUMIFS('Dermal Crosswalk'!$K$5:$K$32,'Dermal Crosswalk'!$A$5:$A$32,'Bridge Table'!$B18,'Dermal Crosswalk'!$C$5:$C$32,'Bridge Table'!$E18))),"--") -> -- | M18: =IFERROR(IFERROR(VLOOKUP($D18,$Z$8:$AD$9,3,FALSE),0)/IF($D18="Inhalation",IF($K18="Central Tendency",SUMIFS('Inhalation Exposure'!$AB$4:$AB$60,'Inhalation Exposure'!$B$4:$B$60,$B18,'Inhalation Exposure'!$D$4:$D$60,$C18,'Inhalation Exposure'!$E$4:$E$60,$E18),SUMIFS('Inhalation Exposure'!$AA$4:$AA$60,'Inhalation Exposure'!$B$4:$B$60,$B18,'Inhalation Exposure'!$D$4:$D$60,$C18,'Inhalation Exposure'!$E$4:$E$60,$E18)),IF($K18="Central Tendency",SUMIFS('Dermal Crosswalk'!$S$5:$S$32,'Dermal Crosswalk'!$A$5:$A$32,'Bridge Table'!$B18,'Dermal Crosswalk'!$C$5:$C$32,'Bridge Table'!$E18),SUMIFS('Dermal Crosswalk'!$N$5:$N$32,'Dermal Crosswalk'!$A$5:$A$32,'Bridge Table'!$B18,'Dermal Crosswalk'!$C$5:$C$32,'Bridge Table'!$E18))),"--") -> -- | N18: =IFERROR(IFERROR(VLOOKUP($D18,$Z$8:$AD$9,4,FALSE),0)/IF($D18="Inhalation",IF($K18="Central Tendency",SUMIFS('Inhalation Exposure'!$R$4:$R$60,'Inhalation Exposure'!$B$4:$B$60,$B18,'Inhalation Exposure'!$D$4:$D$60,$C18,'Inhalation Exposure'!$E$4:$E$60,$E18),SUMIFS('Inhalation Exposure'!$Q$4:$Q$60,'Inhalation Exposure'!$B$4:$B$60,$B18,'Inhalation Exposure'!$D$4:$D$60,$C18,'Inhalation Exposure'!$E$4:$E$60,$E18)),IF($K18="Central Tendency",SUMIFS('Dermal Crosswalk'!$Q$5:$Q$32,'Dermal Crosswalk'!$A$5:$A$32,'Bridge Table'!$B18,'Dermal Crosswalk'!$C$5:$C$32,'Bridge Table'!$E18),SUMIFS('Dermal Crosswalk'!$L$5:$L$32,'Dermal Crosswalk'!$A$5:$A$32,'Bridge Table'!$B18,'Dermal Crosswalk'!$C$5:$C$32,'Bridge Table'!$E18))),"--") -> -- | O18: =IF(IFERROR(VLOOKUP($D18,$Z$8:$AD$9,5,FALSE),0)*IF($D18="Inhalation",IF($K18="Central Tendency",SUMIFS('Inhalation Exposure'!$V$4:$V$60,'Inhalation Exposure'!$B$4:$B$60,$B18,'Inhalation Exposure'!$D$4:$D$60,$C18,'Inhalation Exposure'!$E$4:$E$60,$E18),SUMIFS('Inhalation Exposure'!$U$4:$U$60,'Inhalation Exposure'!$B$4:$B$60,$B18,'Inhalation Exposure'!$D$4:$D$60,$C18,'Inhalation Exposure'!$E$4:$E$60,$E18)),IF($K18="Central Tendency",SUMIFS('Dermal Crosswalk'!$R$5:$R$32,'Dermal Crosswalk'!$A$5:$A$32,'Bridge Table'!$B18,'Dermal Crosswalk'!$C$5:$C$32,'Bridge Table'!$E18),SUMIFS('Dermal Crosswalk'!$M$5:$M$32,'Dermal Crosswalk'!$A$5:$A$32,'Bridge Table'!$B18,'Dermal Crosswalk'!$C$5:$C$32,'Bridge Table'!$E18)))=0,"--",IFERROR(VLOOKUP($D18,$Z$8:$AD$9,5,FALSE),0)*IF($D18="Inhalation",IF($K18="Central Tendency",SUMIFS('Inhalation Exposure'!$V$4:$V$60,'Inhalation Exposure'!$B$4:$B$60,$B18,'Inhalation Exposure'!$D$4:$D$60,$C18,'Inhalation Exposure'!$E$4:$E$60,$E18),SUMIFS('Inhalation Exposure'!$U$4:$U$60,'Inhalation Exposure'!$B$4:$B$60,$B18,'Inhalation Exposure'!$D$4:$D$60,$C18,'Inhalation Exposure'!$E$4:$E$60,$E18)),IF($K18="Central Tendency",SUMIFS('Dermal Crosswalk'!$R$5:$R$32,'Dermal Crosswalk'!$A$5:$A$32,'Bridge Table'!$B18,'Dermal Crosswalk'!$C$5:$C$32,'Bridge Table'!$E18),SUMIFS('Dermal Crosswalk'!$M$5:$M$32,'Dermal Crosswalk'!$A$5:$A$32,'Bridge Table'!$B18,'Dermal Crosswalk'!$C$5:$C$32,'Bridge Table'!$E18)))) -> -- | P18: N/A | Q18: N/A | R18: N/A | S18: N/A | U18: N/A | V18: N/A | W18: N/A | X18: N/A
B19: 1 | C19: ONU | D19: Inhalation | E19: 2,500-lb throughput
B20: 1 | C20: ONU | D20: Inhalation | E20: 25,000-lb throughput | I20: ONU | J20: Inhalation 8-hr TWA | K20: Central Tendency | L20: =IFERROR(IFERROR(VLOOKUP($D20,$Z$8:$AD$9,2,FALSE),0)/IF($D20="Inhalation",IF($K20="Central Tendency",SUMIFS('Inhalation Exposure'!$L$4:$L$60,'Inhalation Exposure'!$B$4:$B$60,$B20,'Inhalation Exposure'!$D$4:$D$60,$C20,'Inhalation Exposure'!$E$4:$E$60,$E20),SUMIFS('Inhalation Exposure'!$K$4:$K$60,'Inhalation Exposure'!$B$4:$B$60,$B20,'Inhalation Exposure'!$D$4:$D$60,$C20,'Inhalation Exposure'!$E$4:$E$60,$E20)),IF($K20="Central Tendency",SUMIFS('Dermal Crosswalk'!$P$5:$P$32,'Dermal Crosswalk'!$A$5:$A$32,'Bridge Table'!$B20,'Dermal Crosswalk'!$C$5:$C$32,'Bridge Table'!$E20),SUMIFS('Dermal Crosswalk'!$K$5:$K$32,'Dermal Crosswalk'!$A$5:$A$32,'Bridge Table'!$B20,'Dermal Crosswalk'!$C$5:$C$32,'Bridge Table'!$E20))),"--") -> -- | M20: =IFERROR(IFERROR(VLOOKUP($D20,$Z$8:$AD$9,3,FALSE),0)/IF($D20="Inhalation",IF($K20="Central Tendency",SUMIFS('Inhalation Exposure'!$AB$4:$AB$60,'Inhalation Exposure'!$B$4:$B$60,$B20,'Inhalation Exposure'!$D$4:$D$60,$C20,'Inhalation Exposure'!$E$4:$E$60,$E20),SUMIFS('Inhalation Exposure'!$AA$4:$AA$60,'Inhalation Exposure'!$B$4:$B$60,$B20,'Inhalation Exposure'!$D$4:$D$60,$C20,'Inhalation Exposure'!$E$4:$E$60,$E20)),IF($K20="Central Tendency",SUMIFS('Dermal Crosswalk'!$S$5:$S$32,'Dermal Crosswalk'!$A$5:$A$32,'Bridge Table'!$B20,'Dermal Crosswalk'!$C$5:$C$32,'Bridge Table'!$E20),SUMIFS('Dermal Crosswalk'!$N$5:$N$32,'Dermal Crosswalk'!$A$5:$A$32,'Bridge Table'!$B20,'Dermal Crosswalk'!$C$5:$C$32,'Bridge Table'!$E20))),"--") -> -- | N20: =IFERROR(IFERROR(VLOOKUP($D20,$Z$8:$AD$9,4,FALSE),0)/IF($D20="Inhalation",IF($K20="Central Tendency",SUMIFS('Inhalation Exposure'!$R$4:$R$60,'Inhalation Exposure'!$B$4:$B$60,$B20,'Inhalation Exposure'!$D$4:$D$60,$C20,'Inhalation Exposure'!$E$4:$E$60,$E20),SUMIFS('Inhalation Exposure'!$Q$4:$Q$60,'Inhalation Exposure'!$B$4:$B$60,$B20,'Inhalation Exposure'!$D$4:$D$60,$C20,'Inhalation Exposure'!$E$4:$E$60,$E20)),IF($K20="Central Tendency",SUMIFS('Dermal Crosswalk'!$Q$5:$Q$32,'Dermal Crosswalk'!$A$5:$A$32,'Bridge Table'!$B20,'Dermal Crosswalk'!$C$5:$C$32,'Bridge Table'!$E20),SUMIFS('Dermal Crosswalk'!$L$5:$L$32,'Dermal Crosswalk'!$A$5:$A$32,'Bridge Table'!$B20,'Dermal Crosswalk'!$C$5:$C$32,'Bridge Table'!$E20))),"--") -> -- | O20: =IF(IFERROR(VLOOKUP($D20,$Z$8:$AD$9,5,FALSE),0)*IF($D20="Inhalation",IF($K20="Central Tendency",SUMIFS('Inhalation Exposure'!$V$4:$V$60,'Inhalation Exposure'!$B$4:$B$60,$B20,'Inhalation Exposure'!$D$4:$D$60,$C20,'Inhalation Exposure'!$E$4:$E$60,$E20),SUMIFS('Inhalation Exposure'!$U$4:$U$60,'Inhalation Exposure'!$B$4:$B$60,$B20,'Inhalation Exposure'!$D$4:$D$60,$C20,'Inhalation Exposure'!$E$4:$E$60,$E20)),IF($K20="Central Tendency",SUMIFS('Dermal Crosswalk'!$R$5:$R$32,'Dermal Crosswalk'!$A$5:$A$32,'Bridge Table'!$B20,'Dermal Crosswalk'!$C$5:$C$32,'Bridge Table'!$E20),SUMIFS('Dermal Crosswalk'!$M$5:$M$32,'Dermal Crosswalk'!$A$5:$A$32,'Bridge Table'!$B20,'Dermal Crosswalk'!$C$5:$C$32,'Bridge Table'!$E20)))=0,"--",IFERROR(VLOOKUP($D20,$Z$8:$AD$9,5,FALSE),0)*IF($D20="Inhalation",IF($K20="Central Tendency",SUMIFS('Inhalation Exposure'!$V$4:$V$60,'Inhalation Exposure'!$B$4:$B$60,$B20,'Inhalation Exposure'!$D$4:$D$60,$C20,'Inhalation Exposure'!$E$4:$E$60,$E20),SUMIFS('Inhalation Exposure'!$U$4:$U$60,'Inhalation Exposure'!$B$4:$B$60,$B20,'Inhalation Exposure'!$D$4:$D$60,$C20,'Inhalation Exposure'!$E$4:$E$60,$E20)),IF($K20="Central Tendency",SUMIFS('Dermal Crosswalk'!$R$5:$R$32,'Dermal Crosswalk'!$A$5:$A$32,'Bridge Table'!$B20,'Dermal Crosswalk'!$C$5:$C$32,'Bridge Table'!$E20),SUMIFS('Dermal Crosswalk'!$M$5:$M$32,'Dermal Crosswalk'!$A$5:$A$32,'Bridge Table'!$B20,'Dermal Crosswalk'!$C$5:$C$32,'Bridge Table'!$E20)))) -> -- | P20: N/A | Q20: N/A | R20: N/A | S20: N/A | U20: N/A | V20: N/A | W20: N/A | X20: N/A
B21: 1 | C21: ONU | D21: Inhalation | E21: 25,000-lb throughput
B22: 1 | C22: ONU | D22: Inhalation | E22: 25,000-lb throughput | K22: High-End | L22: =IFERROR(IFERROR(VLOOKUP($D22,$Z$8:$AD$9,2,FALSE),0)/IF($D22="Inhalation",IF($K22="Central Tendency",SUMIFS('Inhalation Exposure'!$L$4:$L$60,'Inhalation Exposure'!$B$4:$B$60,$B22,'Inhalation Exposure'!$D$4:$D$60,$C22,'Inhalation Exposure'!$E$4:$E$60,$E22),SUMIFS('Inhalation Exposure'!$K$4:$K$60,'Inhalation Exposure'!$B$4:$B$60,$B22,'Inhalation Exposure'!$D$4:$D$60,$C22,'Inhalation Exposure'!$E$4:$E$60,$E22)),IF($K22="Central Tendency",SUMIFS('Dermal Crosswalk'!$P$5:$P$32,'Dermal Crosswalk'!$A$5:$A$32,'Bridge Table'!$B22,'Dermal Crosswalk'!$C$5:$C$32,'Bridge Table'!$E22),SUMIFS('Dermal Crosswalk'!$K$5:$K$32,'Dermal Crosswalk'!$A$5:$A$32,'Bridge Table'!$B22,'Dermal Crosswalk'!$C$5:$C$32,'Bridge Table'!$E22))),"--") -> -- | M22: =IFERROR(IFERROR(VLOOKUP($D22,$Z$8:$AD$9,3,FALSE),0)/IF($D22="Inhalation",IF($K22="Central Tendency",SUMIFS('Inhalation Exposure'!$AB$4:$AB$60,'Inhalation Exposure'!$B$4:$B$60,$B22,'Inhalation Exposure'!$D$4:$D$60,$C22,'Inhalation Exposure'!$E$4:$E$60,$E22),SUMIFS('Inhalation Exposure'!$AA$4:$AA$60,'Inhalation Exposure'!$B$4:$B$60,$B22,'Inhalation Exposure'!$D$4:$D$60,$C22,'Inhalation Exposure'!$E$4:$E$60,$E22)),IF($K22="Central Tendency",SUMIFS('Dermal Crosswalk'!$S$5:$S$32,'Dermal Crosswalk'!$A$5:$A$32,'Bridge Table'!$B22,'Dermal Crosswalk'!$C$5:$C$32,'Bridge Table'!$E22),SUMIFS('Dermal Crosswalk'!$N$5:$N$32,'Dermal Crosswalk'!$A$5:$A$32,'Bridge Table'!$B22,'Dermal Crosswalk'!$C$5:$C$32,'Bridge Table'!$E22))),"--") -> -- | N22: =IFERROR(IFERROR(VLOOKUP($D22,$Z$8:$AD$9,4,FALSE),0)/IF($D22="Inhalation",IF($K22="Central Tendency",SUMIFS('Inhalation Exposure'!$R$4:$R$60,'Inhalation Exposure'!$B$4:$B$60,$B22,'Inhalation Exposure'!$D$4:$D$60,$C22,'Inhalation Exposure'!$E$4:$E$60,$E22),SUMIFS('Inhalation Exposure'!$Q$4:$Q$60,'Inhalation Exposure'!$B$4:$B$60,$B22,'Inhalation Exposure'!$D$4:$D$60,$C22,'Inhalation Exposure'!$E$4:$E$60,$E22)),IF($K22="Central Tendency",SUMIFS('Dermal Crosswalk'!$Q$5:$Q$32,'Dermal Crosswalk'!$A$5:$A$32,'Bridge Table'!$B22,'Dermal Crosswalk'!$C$5:$C$32,'Bridge Table'!$E22),SUMIFS('Dermal Crosswalk'!$L$5:$L$32,'Dermal Crosswalk'!$A$5:$A$32,'Bridge Table'!$B22,'Dermal Crosswalk'!$C$5:$C$32,'Bridge Table'!$E22))),"--") -> -- | O22: =IF(IFERROR(VLOOKUP($D22,$Z$8:$AD$9,5,FALSE),0)*IF($D22="Inhalation",IF($K22="Central Tendency",SUMIFS('Inhalation Exposure'!$V$4:$V$60,'Inhalation Exposure'!$B$4:$B$60,$B22,'Inhalation Exposure'!$D$4:$D$60,$C22,'Inhalation Exposure'!$E$4:$E$60,$E22),SUMIFS('Inhalation Exposure'!$U$4:$U$60,'Inhalation Exposure'!$B$4:$B$60,$B22,'Inhalation Exposure'!$D$4:$D$60,$C22,'Inhalation Exposure'!$E$4:$E$60,$E22)),IF($K22="Central Tendency",SUMIFS('Dermal Crosswalk'!$R$5:$R$32,'Dermal Crosswalk'!$A$5:$A$32,'Bridge Table'!$B22,'Dermal Crosswalk'!$C$5:$C$32,'Bridge Table'!$E22),SUMIFS('Dermal Crosswalk'!$M$5:$M$32,'Dermal Crosswalk'!$A$5:$A$32,'Bridge Table'!$B22,'Dermal Crosswalk'!$C$5:$C$32,'Bridge Table'!$E22)))=0,"--",IFERROR(VLOOKUP($D22,$Z$8:$AD$9,5,FALSE),0)*IF($D22="Inhalation",IF($K22="Central Tendency",SUMIFS('Inhalation Exposure'!$V$4:$V$60,'Inhalation Exposure'!$B$4:$B$60,$B22,'Inhalation Exposure'!$D$4:$D$60,$C22,'Inhalation Exposure'!$E$4:$E$60,$E22),SUMIFS('Inhalation Exposure'!$U$4:$U$60,'Inhalation Exposure'!$B$4:$B$60,$B22,'Inhalation Exposure'!$D$4:$D$60,$C22,'Inhalation Exposure'!$E$4:$E$60,$E22)),IF($K22="Central Tendency",SUMIFS('Dermal Crosswalk'!$R$5:$R$32,'Dermal Crosswalk'!$A$5:$A$32,'Bridge Table'!$B22,'Dermal Crosswalk'!$C$5:$C$32,'Bridge Table'!$E22),SUMIFS('Dermal Crosswalk'!$M$5:$M$32,'Dermal Crosswalk'!$A$5:$A$32,'Bridge Table'!$B22,'Dermal Crosswalk'!$C$5:$C$32,'Bridge Table'!$E22)))) -> -- | P22: N/A | Q22: N/A | R22: N/A | S22: N/A | U22: N/A | V22: N/A | W22: N/A | X22: N/A
B23: 1 | C23: ONU | D23: Inhalation | E23: 25,000-lb throughput
B24: 1 | C24: Average Adult Worker | D24: Dermal | E24: 2,500-lb throughput | I24: Average Adult Worker | J24: Dermal | K24: Central Tendency | L24: =IFERROR(IFERROR(VLOOKUP($D24,$Z$8:$AD$9,2,FALSE),0)/IF($D24="Inhalation",IF($K24="Central Tendency",SUMIFS('Inhalation Exposure'!$N$4:$N$61,'Inhalation Exposure'!$B$4:$B$61,$B24,'Inhalation Exposure'!$D$4:$D$61,$C24,'Inhalation Exposure'!$E$4:$E$61,$E24),SUMIFS('Inhalation Exposure'!$M$4:$M$61,'Inhalation Exposure'!$B$4:$B$61,$B24,'Inhalation Exposure'!$D$4:$D$61,$C24,'Inhalation Exposure'!$E$4:$E$61,$E24)),IF($K24="Central Tendency",SUMIFS('Dermal Crosswalk'!$P$5:$P$32,'Dermal Crosswalk'!$A$5:$A$32,'Bridge Table'!$B24,'Dermal Crosswalk'!$C$5:$C$32,'Bridge Table'!$E24),SUMIFS('Dermal Crosswalk'!$K$5:$K$32,'Dermal Crosswalk'!$A$5:$A$32,'Bridge Table'!$B24,'Dermal Crosswalk'!$C$5:$C$32,'Bridge Table'!$E24))),"--") -> 4.3365403 | M24: =IFERROR(IFERROR(VLOOKUP($D24,$Z$8:$AD$9,3,FALSE),0)/IF($D24="Inhalation",IF($K24="Central Tendency",SUMIFS('Inhalation Exposure'!$AB$4:$AB$61,'Inhalation Exposure'!$B$4:$B$61,$B24,'Inhalation Exposure'!$D$4:$D$61,$C24,'Inhalation Exposure'!$E$4:$E$61,$E24),SUMIFS('Inhalation Exposure'!$AA$4:$AA$61,'Inhalation Exposure'!$B$4:$B$61,$B24,'Inhalation Exposure'!$D$4:$D$61,$C24,'Inhalation Exposure'!$E$4:$E$61,$E24)),IF($K24="Central Tendency",SUMIFS('Dermal Crosswalk'!$S$5:$S$32,'Dermal Crosswalk'!$A$5:$A$32,'Bridge Table'!$B24,'Dermal Crosswalk'!$C$5:$C$32,'Bridge Table'!$E24),SUMIFS('Dermal Crosswalk'!$N$5:$N$32,'Dermal Crosswalk'!$A$5:$A$32,'Bridge Table'!$B24,'Dermal Crosswalk'!$C$5:$C$32,'Bridge Table'!$E24))),"--") -> 9.3859051 | N24: =IFERROR(IFERROR(VLOOKUP($D24,$Z$8:$AD$9,4,FALSE),0)/IF($D24="Inhalation",IF($K24="Central Tendency",SUMIFS('Inhalation Exposure'!$R$4:$R$61,'Inhalation Exposure'!$B$4:$B$61,$B24,'Inhalation Exposure'!$D$4:$D$61,$C24,'Inhalation Exposure'!$E$4:$E$61,$E24),SUMIFS('Inhalation Exposure'!$Q$4:$Q$61,'Inhalation Exposure'!$B$4:$B$61,$B24,'Inhalation Exposure'!$D$4:$D$61,$C24,'Inhalation Exposure'!$E$4:$E$61,$E24)),IF($K24="Central Tendency",SUMIFS('Dermal Crosswalk'!$Q$5:$Q$32,'Dermal Crosswalk'!$A$5:$A$32,'Bridge Table'!$B24,'Dermal Crosswalk'!$C$5:$C$32,'Bridge Table'!$E24),SUMIFS('Dermal Crosswalk'!$L$5:$L$32,'Dermal Crosswalk'!$A$5:$A$32,'Bridge Table'!$B24,'Dermal Crosswalk'!$C$5:$C$32,'Bridge Table'!$E24))),"--") -> 114.19518 | O24: =IFERROR(IFERROR(VLOOKUP($D24,$Z$8:$AD$9,5,FALSE),0)*IF($D24="Inhalation",IF($K24="Central Tendency",SUMIFS('Inhalation Exposure'!$V$4:$V$61,'Inhalation Exposure'!$B$4:$B$61,$B24,'Inhalation Exposure'!$D$4:$D$61,$C24,'Inhalation Exposure'!$E$4:$E$61,$E24),SUMIFS('Inhalation Exposure'!$U$4:$U$61,'Inhalation Exposure'!$B$4:$B$61,$B24,'Inhalation Exposure'!$D$4:$D$61,$C24,'Inhalation Exposure'!$E$4:$E$61,$E24)),IF($K24="Central Tendency",SUMIFS('Dermal Crosswalk'!$R$5:$R$32,'Dermal Crosswalk'!$A$5:$A$32,'Bridge Table'!$B24,'Dermal Crosswalk'!$C$5:$C$32,'Bridge Table'!$E24),SUMIFS('Dermal Crosswalk'!$M$5:$M$32,'Dermal Crosswalk'!$A$5:$A$32,'Bridge Table'!$B24,'Dermal Crosswalk'!$C$5:$C$32,'Bridge Table'!$E24))),"--") -> 0.00023278128 | P24: =L24*U24 -> 21.682701 | Q24: =M24*V24 -> 46.929525 | R24: =N24*W24 -> 570.97589 | S24: =O24/X24 -> 4.6556256e-05 | U24: 5 | V24: 5 | W24: 5 | X24: 5
B25: 1 | C25: Average Adult Worker | D25: Dermal | E25: 2,500-lb throughput | P25: =CONCATENATE("(PF ",U24,")") -> (PF 5) | Q25: =CONCATENATE("(PF ",V24,")") -> (PF 5) | R25: =CONCATENATE("(PF ",W24,")") -> (PF 5) | S25: =CONCATENATE("(PF ",X24,")") -> (PF 5) | U25: PF | V25: PF | W25: PF | X25: PF
B26: 1 | C26: Average Adult Worker | D26: Dermal | E26: 2,500-lb throughput | K26: High-End | L26: =IFERROR(IFERROR(VLOOKUP($D26,$Z$8:$AD$9,2,FALSE),0)/IF($D26="Inhalation",IF($K26="Central Tendency",SUMIFS('Inhalation Exposure'!$N$4:$N$61,'Inhalation Exposure'!$B$4:$B$61,$B26,'Inhalation Exposure'!$D$4:$D$61,$C26,'Inhalation Exposure'!$E$4:$E$61,$E26),SUMIFS('Inhalation Exposure'!$M$4:$M$61,'Inhalation Exposure'!$B$4:$B$61,$B26,'Inhalation Exposure'!$D$4:$D$61,$C26,'Inhalation Exposure'!$E$4:$E$61,$E26)),IF($K26="Central Tendency",SUMIFS('Dermal Crosswalk'!$P$5:$P$32,'Dermal Crosswalk'!$A$5:$A$32,'Bridge Table'!$B26,'Dermal Crosswalk'!$C$5:$C$32,'Bridge Table'!$E26),SUMIFS('Dermal Crosswalk'!$K$5:$K$32,'Dermal Crosswalk'!$A$5:$A$32,'Bridge Table'!$B26,'Dermal Crosswalk'!$C$5:$C$32,'Bridge Table'!$E26))),"--") -> 1.4455134 | M26: =IFERROR(IFERROR(VLOOKUP($D26,$Z$8:$AD$9,3,FALSE),0)/IF($D26="Inhalation",IF($K26="Central Tendency",SUMIFS('Inhalation Exposure'!$AB$4:$AB$61,'Inhalation Exposure'!$B$4:$B$61,$B26,'Inhalation Exposure'!$D$4:$D$61,$C26,'Inhalation Exposure'!$E$4:$E$61,$E26),SUMIFS('Inhalation Exposure'!$AA$4:$AA$61,'Inhalation Exposure'!$B$4:$B$61,$B26,'Inhalation Exposure'!$D$4:$D$61,$C26,'Inhalation Exposure'!$E$4:$E$61,$E26)),IF($K26="Central Tendency",SUMIFS('Dermal Crosswalk'!$S$5:$S$32,'Dermal Crosswalk'!$A$5:$A$32,'Bridge Table'!$B26,'Dermal Crosswalk'!$C$5:$C$32,'Bridge Table'!$E26),SUMIFS('Dermal Crosswalk'!$N$5:$N$32,'Dermal Crosswalk'!$A$5:$A$32,'Bridge Table'!$B26,'Dermal Crosswalk'!$C$5:$C$32,'Bridge Table'!$E26))),"--") -> 1.7877914 | N26: =IFERROR(IFERROR(VLOOKUP($D26,$Z$8:$AD$9,4,FALSE),0)/IF($D26="Inhalation",IF($K26="Central Tendency",SUMIFS('Inhalation Exposure'!$R$4:$R$61,'Inhalation Exposure'!$B$4:$B$61,$B26,'Inhalation Exposure'!$D$4:$D$61,$C26,'Inhalation Exposure'!$E$4:$E$61,$E26),SUMIFS('Inhalation Exposure'!$Q$4:$Q$61,'Inhalation Exposure'!$B$4:$B$61,$B26,'Inhalation Exposure'!$D$4:$D$61,$C26,'Inhalation Exposure'!$E$4:$E$61,$E26)),IF($K26="Central Tendency",SUMIFS('Dermal Crosswalk'!$Q$5:$Q$32,'Dermal Crosswalk'!$A$5:$A$32,'Bridge Table'!$B26,'Dermal Crosswalk'!$C$5:$C$32,'Bridge Table'!$E26),SUMIFS('Dermal Crosswalk'!$L$5:$L$32,'Dermal Crosswalk'!$A$5:$A$32,'Bridge Table'!$B26,'Dermal Crosswalk'!$C$5:$C$32,'Bridge Table'!$E26))),"--") -> 21.751463 | O26: =IFERROR(IFERROR(VLOOKUP($D26,$Z$8:$AD$9,5,FALSE),0)*IF($D26="Inhalation",IF($K26="Central Tendency",SUMIFS('Inhalation Exposure'!$V$4:$V$61,'Inhalation Exposure'!$B$4:$B$61,$B26,'Inhalation Exposure'!$D$4:$D$61,$C26,'Inhalation Exposure'!$E$4:$E$61,$E26),SUMIFS('Inhalation Exposure'!$U$4:$U$61,'Inhalation Exposure'!$B$4:$B$61,$B26,'Inhalation Exposure'!$D$4:$D$61,$C26,'Inhalation Exposure'!$E$4:$E$61,$E26)),IF($K26="Central Tendency",SUMIFS('Dermal Crosswalk'!$R$5:$R$32,'Dermal Crosswalk'!$A$5:$A$32,'Bridge Table'!$B26,'Dermal Crosswalk'!$C$5:$C$32,'Bridge Table'!$E26),SUMIFS('Dermal Crosswalk'!$M$5:$M$32,'Dermal Crosswalk'!$A$5:$A$32,'Bridge Table'!$B26,'Dermal Crosswalk'!$C$5:$C$32,'Bridge Table'!$E26))),"--") -> 0.0015769055 | P26: =L26*U26 -> 7.2275671 | Q26: =M26*V26 -> 8.9389572 | R26: =N26*W26 -> 108.75731 | S26: =O26/X26 -> 0.00031538109 | U26: 5 | V26: 5 | W26: 5 | X26: 5
B27: 1 | C27: Average Adult Worker | D27: Dermal | E27: 2,500-lb throughput | P27: =CONCATENATE("(PF ",U26,")") -> (PF 5) | Q27: =CONCATENATE("(PF ",V26,")") -> (PF 5) | R27: =CONCATENATE("(PF ",W26,")") -> (PF 5) | S27: =CONCATENATE("(PF ",X26,")") -> (PF 5) | U27: PF | V27: PF | W27: PF | X27: PF
B28: 1 | C28: Average Adult Worker | D28: Dermal | E28: 25,000-lb throughput | I28: Average Adult Worker | J28: Dermal | K28: Central Tendency | L28: =IFERROR(IFERROR(VLOOKUP($D28,$Z$8:$AD$9,2,FALSE),0)/IF($D28="Inhalation",IF($K28="Central Tendency",SUMIFS('Inhalation Exposure'!$N$4:$N$61,'Inhalation Exposure'!$B$4:$B$61,$B28,'Inhalation Exposure'!$D$4:$D$61,$C28,'Inhalation Exposure'!$E$4:$E$61,$E28),SUMIFS('Inhalation Exposure'!$M$4:$M$61,'Inhalation Exposure'!$B$4:$B$61,$B28,'Inhalation Exposure'!$D$4:$D$61,$C28,'Inhalation Exposure'!$E$4:$E$61,$E28)),IF($K28="Central Tendency",SUMIFS('Dermal Crosswalk'!$P$5:$P$32,'Dermal Crosswalk'!$A$5:$A$32,'Bridge Table'!$B28,'Dermal Crosswalk'!$C$5:$C$32,'Bridge Table'!$E28),SUMIFS('Dermal Crosswalk'!$K$5:$K$32,'Dermal Crosswalk'!$A$5:$A$32,'Bridge Table'!$B28,'Dermal Crosswalk'!$C$5:$C$32,'Bridge Table'!$E28))),"--") -> 4.3365403 | M28: =IFERROR(IFERROR(VLOOKUP($D28,$Z$8:$AD$9,3,FALSE),0)/IF($D28="Inhalation",IF($K28="Central Tendency",SUMIFS('Inhalation Exposure'!$AB$4:$AB$61,'Inhalation Exposure'!$B$4:$B$61,$B28,'Inhalation Exposure'!$D$4:$D$61,$C28,'Inhalation Exposure'!$E$4:$E$61,$E28),SUMIFS('Inhalation Exposure'!$AA$4:$AA$61,'Inhalation Exposure'!$B$4:$B$61,$B28,'Inhalation Exposure'!$D$4:$D$61,$C28,'Inhalation Exposure'!$E$4:$E$61,$E28)),IF($K28="Central Tendency",SUMIFS('Dermal Crosswalk'!$S$5:$S$32,'Dermal Crosswalk'!$A$5:$A$32,'Bridge Table'!$B28,'Dermal Crosswalk'!$C$5:$C$32,'Bridge Table'!$E28),SUMIFS('Dermal Crosswalk'!$N$5:$N$32,'Dermal Crosswalk'!$A$5:$A$32,'Bridge Table'!$B28,'Dermal Crosswalk'!$C$5:$C$32,'Bridge Table'!$E28))),"--") -> 1.7065282 | N28: =IFERROR(IFERROR(VLOOKUP($D28,$Z$8:$AD$9,4,FALSE),0)/IF($D28="Inhalation",IF($K28="Central Tendency",SUMIFS('Inhalation Exposure'!$R$4:$R$61,'Inhalation Exposure'!$B$4:$B$61,$B28,'Inhalation Exposure'!$D$4:$D$61,$C28,'Inhalation Exposure'!$E$4:$E$61,$E28),SUMIFS('Inhalation Exposure'!$Q$4:$Q$61,'Inhalation Exposure'!$B$4:$B$61,$B28,'Inhalation Exposure'!$D$4:$D$61,$C28,'Inhalation Exposure'!$E$4:$E$61,$E28)),IF($K28="Central Tendency",SUMIFS('Dermal Crosswalk'!$Q$5:$Q$32,'Dermal Crosswalk'!$A$5:$A$32,'Bridge Table'!$B28,'Dermal Crosswalk'!$C$5:$C$32,'Bridge Table'!$E28),SUMIFS('Dermal Crosswalk'!$L$5:$L$32,'Dermal Crosswalk'!$A$5:$A$32,'Bridge Table'!$B28,'Dermal Crosswalk'!$C$5:$C$32,'Bridge Table'!$E28))),"--") -> 12.020545 | O28: =IFERROR(IFERROR(VLOOKUP($D28,$Z$8:$AD$9,5,FALSE),0)*IF($D28="Inhalation",IF($K28="Central Tendency",SUMIFS('Inhalation Exposure'!$V$4:$V$61,'Inhalation Exposure'!$B$4:$B$61,$B28,'Inhalation Exposure'!$D$4:$D$61,$C28,'Inhalation Exposure'!$E$4:$E$61,$E28),SUMIFS('Inhalation Exposure'!$U$4:$U$61,'Inhalation Exposure'!$B$4:$B$61,$B28,'Inhalation Exposure'!$D$4:$D$61,$C28,'Inhalation Exposure'!$E$4:$E$61,$E28)),IF($K28="Central Tendency",SUMIFS('Dermal Crosswalk'!$R$5:$R$32,'Dermal Crosswalk'!$A$5:$A$32,'Bridge Table'!$B28,'Dermal Crosswalk'!$C$5:$C$32,'Bridge Table'!$E28),SUMIFS('Dermal Crosswalk'!$M$5:$M$32,'Dermal Crosswalk'!$A$5:$A$32,'Bridge Table'!$B28,'Dermal Crosswalk'!$C$5:$C$32,'Bridge Table'!$E28))),"--") -> 0.0022114222 | P28: =L28*U28 -> 21.682701 | Q28: =M28*V28 -> 8.532641 | R28: =N28*W28 -> 60.102726 | S28: =O28/X28 -> 0.00044228443 | U28: 5 | V28: 5 | W28: 5 | X28: 5
B29: 1 | C29: Average Adult Worker | D29: Dermal | E29: 25,000-lb throughput | P29: =CONCATENATE("(PF ",U28,")") -> (PF 5) | Q29: =CONCATENATE("(PF ",V28,")") -> (PF 5) | R29: =CONCATENATE("(PF ",W28,")") -> (PF 5) | S29: =CONCATENATE("(PF ",X28,")") -> (PF 5) | U29: PF | V29: PF | W29: PF | X29: PF
B30: 1 | C30: Average Adult Worker | D30: Dermal | E30: 25,000-lb throughput | K30: High-End | L30: =IFERROR(IFERROR(VLOOKUP($D30,$Z$8:$AD$9,2,FALSE),0)/IF($D30="Inhalation",IF($K30="Central Tendency",SUMIFS('Inhalation Exposure'!$N$4:$N$61,'Inhalation Exposure'!$B$4:$B$61,$B30,'Inhalation Exposure'!$D$4:$D$61,$C30,'Inhalation Exposure'!$E$4:$E$61,$E30),SUMIFS('Inhalation Exposure'!$M$4:$M$61,'Inhalation Exposure'!$B$4:$B$61,$B30,'Inhalation Exposure'!$D$4:$D$61,$C30,'Inhalation Exposure'!$E$4:$E$61,$E30)),IF($K30="Central Tendency",SUMIFS('Dermal Crosswalk'!$P$5:$P$32,'Dermal Crosswalk'!$A$5:$A$32,'Bridge Table'!$B30,'Dermal Crosswalk'!$C$5:$C$32,'Bridge Table'!$E30),SUMIFS('Dermal Crosswalk'!$K$5:$K$32,'Dermal Crosswalk'!$A$5:$A$32,'Bridge Table'!$B30,'Dermal Crosswalk'!$C$5:$C$32,'Bridge Table'!$E30))),"--") -> 1.4455134 | M30: =IFERROR(IFERROR(VLOOKUP($D30,$Z$8:$AD$9,3,FALSE),0)/IF($D30="Inhalation",IF($K30="Central Tendency",SUMIFS('Inhalation Exposure'!$AB$4:$AB$61,'Inhalation Exposure'!$B$4:$B$61,$B30,'Inhalation Exposure'!$D$4:$D$61,$C30,'Inhalation Exposure'!$E$4:$E$61,$E30),SUMIFS('Inhalation Exposure'!$AA$4:$AA$61,'Inhalation Exposure'!$B$4:$B$61,$B30,'Inhalation Exposure'!$D$4:$D$61,$C30,'Inhalation Exposure'!$E$4:$E$61,$E30)),IF($K30="Central Tendency",SUMIFS('Dermal Crosswalk'!$S$5:$S$32,'Dermal Crosswalk'!$A$5:$A$32,'Bridge Table'!$B30,'Dermal Crosswalk'!$C$5:$C$32,'Bridge Table'!$E30),SUMIFS('Dermal Crosswalk'!$N$5:$N$32,'Dermal Crosswalk'!$A$5:$A$32,'Bridge Table'!$B30,'Dermal Crosswalk'!$C$5:$C$32,'Bridge Table'!$E30))),"--") -> 0.56884273 | N30: =IFERROR(IFERROR(VLOOKUP($D30,$Z$8:$AD$9,4,FALSE),0)/IF($D30="Inhalation",IF($K30="Central Tendency",SUMIFS('Inhalation Exposure'!$R$4:$R$61,'Inhalation Exposure'!$B$4:$B$61,$B30,'Inhalation Exposure'!$D$4:$D$61,$C30,'Inhalation Exposure'!$E$4:$E$61,$E30),SUMIFS('Inhalation Exposure'!$Q$4:$Q$61,'Inhalation Exposure'!$B$4:$B$61,$B30,'Inhalation Exposure'!$D$4:$D$61,$C30,'Inhalation Exposure'!$E$4:$E$61,$E30)),IF($K30="Central Tendency",SUMIFS('Dermal Crosswalk'!$Q$5:$Q$32,'Dermal Crosswalk'!$A$5:$A$32,'Bridge Table'!$B30,'Dermal Crosswalk'!$C$5:$C$32,'Bridge Table'!$E30),SUMIFS('Dermal Crosswalk'!$L$5:$L$32,'Dermal Crosswalk'!$A$5:$A$32,'Bridge Table'!$B30,'Dermal Crosswalk'!$C$5:$C$32,'Bridge Table'!$E30))),"--") -> 2.2391212 | O30: =IFERROR(IFERROR(VLOOKUP($D30,$Z$8:$AD$9,5,FALSE),0)*IF($D30="Inhalation",IF($K30="Central Tendency",SUMIFS('Inhalation Exposure'!$V$4:$V$61,'Inhalation Exposure'!$B$4:$B$61,$B30,'Inhalation Exposure'!$D$4:$D$61,$C30,'Inhalation Exposure'!$E$4:$E$61,$E30),SUMIFS('Inhalation Exposure'!$U$4:$U$61,'Inhalation Exposure'!$B$4:$B$61,$B30,'Inhalation Exposure'!$D$4:$D$61,$C30,'Inhalation Exposure'!$E$4:$E$61,$E30)),IF($K30="Central Tendency",SUMIFS('Dermal Crosswalk'!$R$5:$R$32,'Dermal Crosswalk'!$A$5:$A$32,'Bridge Table'!$B30,'Dermal Crosswalk'!$C$5:$C$32,'Bridge Table'!$E30),SUMIFS('Dermal Crosswalk'!$M$5:$M$32,'Dermal Crosswalk'!$A$5:$A$32,'Bridge Table'!$B30,'Dermal Crosswalk'!$C$5:$C$32,'Bridge Table'!$E30))),"--") -> 0.01531851 | P30: =L30*U30 -> 7.2275671 | Q30: =M30*V30 -> 2.8442137 | R30: =N30*W30 -> 11.195606 | S30: =O30/X30 -> 0.003063702 | U30: 5 | V30: 5 | W30: 5 | X30: 5
B31: 1 | C31: Average Adult Worker | D31: Dermal | E31: 25,000-lb throughput | P31: =CONCATENATE("(PF ",U30,")") -> (PF 5) | Q31: =CONCATENATE("(PF ",V30,")") -> (PF 5) | R31: =CONCATENATE("(PF ",W30,")") -> (PF 5) | S31: =CONCATENATE("(PF ",X30,")") -> (PF 5) | U31: PF | V31: PF | W31: PF | X31: PF
B32: 2a | C32: Average Adult Worker | D32: Inhalation | E32: 2,500-lb throughput | F32: Processing / Processing - incorporation into formulation, mixture or reaction product | G32: Flame retardant in: Paint and coating manufacturing | H32: Processing - Incorporation - Paints & Coatings - 1-part coatings | I32: Average Adult Worker | J32: Inhalation 8-hr TWA | K32: Central Tendency | L32: =IFERROR(IFERROR(VLOOKUP($D32,$Z$8:$AD$9,2,FALSE),0)/IF($D32="Inhalation",IF($K32="Central Tendency",SUMIFS('Inhalation Exposure'!$N$4:$N$61,'Inhalation Exposure'!$B$4:$B$61,$B32,'Inhalation Exposure'!$D$4:$D$61,$C32,'Inhalation Exposure'!$E$4:$E$61,$E32),SUMIFS('Inhalation Exposure'!$M$4:$M$61,'Inhalation Exposure'!$B$4:$B$61,$B32,'Inhalation Exposure'!$D$4:$D$61,$C32,'Inhalation Exposure'!$E$4:$E$61,$E32)),IF($K32="Central Tendency",SUMIFS('Dermal Crosswalk'!$P$5:$P$32,'Dermal Crosswalk'!$A$5:$A$32,'Bridge Table'!$B32,'Dermal Crosswalk'!$C$5:$C$32,'Bridge Table'!$E32),SUMIFS('Dermal Crosswalk'!$K$5:$K$32,'Dermal Crosswalk'!$A$5:$A$32,'Bridge Table'!$B32,'Dermal Crosswalk'!$C$5:$C$32,'Bridge Table'!$E32))),"--") -> 4575.4209 | M32: =IFERROR(IFERROR(VLOOKUP($D32,$Z$8:$AD$9,3,FALSE),0)/IF($D32="Inhalation",IF($K32="Central Tendency",SUMIFS('Inhalation Exposure'!$AB$4:$AB$61,'Inhalation Exposure'!$B$4:$B$61,$B32,'Inhalation Exposure'!$D$4:$D$61,$C32,'Inhalation Exposure'!$E$4:$E$61,$E32),SUMIFS('Inhalation Exposure'!$AA$4:$AA$61,'Inhalation Exposure'!$B$4:$B$61,$B32,'Inhalation Exposure'!$D$4:$D$61,$C32,'Inhalation Exposure'!$E$4:$E$61,$E32)),IF($K32="Central Tendency",SUMIFS('Dermal Crosswalk'!$S$5:$S$32,'Dermal Crosswalk'!$A$5:$A$32,'Bridge Table'!$B32,'Dermal Crosswalk'!$C$5:$C$32,'Bridge Table'!$E32),SUMIFS('Dermal Crosswalk'!$N$5:$N$32,'Dermal Crosswalk'!$A$5:$A$32,'Bridge Table'!$B32,'Dermal Crosswalk'!$C$5:$C$32,'Bridge Table'!$E32))),"--") -> 6706.7152 | N32: =IFERROR(IFERROR(VLOOKUP($D32,$Z$8:$AD$9,4,FALSE),0)/IF($D32="Inhalation",IF($K32="Central Tendency",SUMIFS('Inhalation Exposure'!$R$4:$R$61,'Inhalation Exposure'!$B$4:$B$61,$B32,'Inhalation Exposure'!$D$4:$D$61,$C32,'Inhalation Exposure'!$E$4:$E$61,$E32),SUMIFS('Inhalation Exposure'!$Q$4:$Q$61,'Inhalation Exposure'!$B$4:$B$61,$B32,'Inhalation Exposure'!$D$4:$D$61,$C32,'Inhalation Exposure'!$E$4:$E$61,$E32)),IF($K32="Central Tendency",SUMIFS('Dermal Crosswalk'!$Q$5:$Q$32,'Dermal Crosswalk'!$A$5:$A$32,'Bridge Table'!$B32,'Dermal Crosswalk'!$C$5:$C$32,'Bridge Table'!$E32),SUMIFS('Dermal Crosswalk'!$L$5:$L$32,'Dermal Crosswalk'!$A$5:$A$32,'Bridge Table'!$B32,'Dermal Crosswalk'!$C$5:$C$32,'Bridge Table'!$E32))),"--") -> 76708.535 | O32: =IFERROR(IFERROR(VLOOKUP($D32,$Z$8:$AD$9,5,FALSE),0)*IF($D32="Inhalation",IF($K32="Central Tendency",SUMIFS('Inhalation Exposure'!$V$4:$V$61,'Inhalation Exposure'!$B$4:$B$61,$B32,'Inhalation Exposure'!$D$4:$D$61,$C32,'Inhalation Exposure'!$E$4:$E$61,$E32),SUMIFS('Inhalation Exposure'!$U$4:$U$61,'Inhalation Exposure'!$B$4:$B$61,$B32,'Inhalation Exposure'!$D$4:$D$61,$C32,'Inhalation Exposure'!$E$4:$E$61,$E32)),IF($K32="Central Tendency",SUMIFS('Dermal Crosswalk'!$R$5:$R$32,'Dermal Crosswalk'!$A$5:$A$32,'Bridge Table'!$B32,'Dermal Crosswalk'!$C$5:$C$32,'Bridge Table'!$E32),SUMIFS('Dermal Crosswalk'!$M$5:$M$32,'Dermal Crosswalk'!$A$5:$A$32,'Bridge Table'!$B32,'Dermal Crosswalk'!$C$5:$C$32,'Bridge Table'!$E32))),"--") -> 3.2981806e-07 | P32: =IFERROR(L32*U32,"Not Assessed") -> 45754.209 | Q32: =IFERROR(M32*V32,"Not Assessed") -> 67067.152 | R32: =IFERROR(N32*W32,"Not Assessed") -> 767085.35 | S32: =IFERROR(O32/X32, "Not Assessed") -> 3.2981806e-08 | U32: 10 | V32: 10 | W32: 10 | X32: 10
B33: 2a | C33: Average Adult Worker | D33: Inhalation | E33: 2,500-lb throughput | P33: =CONCATENATE("(APF ",U32,")") -> (APF 10) | Q33: =CONCATENATE("(APF ",V32,")") -> (APF 10) | R33: =CONCATENATE("(APF ",W32,")") -> (APF 10) | S33: =CONCATENATE("(APF ",X32,")") -> (APF 10) | U33: APF | V33: APF | W33: APF | X33: APF
B34: 2a | C34: Average Adult Worker | D34: Inhalation | E34: 2,500-lb throughput | K34: High-End | L34: =IFERROR(IFERROR(VLOOKUP($D34,$Z$8:$AD$9,2,FALSE),0)/IF($D34="Inhalation",IF($K34="Central Tendency",SUMIFS('Inhalation Exposure'!$N$4:$N$61,'Inhalation Exposure'!$B$4:$B$61,$B34,'Inhalation Exposure'!$D$4:$D$61,$C34,'Inhalation Exposure'!$E$4:$E$61,$E34),SUMIFS('Inhalation Exposure'!$M$4:$M$61,'Inhalation Exposure'!$B$4:$B$61,$B34,'Inhalation Exposure'!$D$4:$D$61,$C34,'Inhalation Exposure'!$E$4:$E$61,$E34)),IF($K34="Central Tendency",SUMIFS('Dermal Crosswalk'!$P$5:$P$32,'Dermal Crosswalk'!$A$5:$A$32,'Bridge Table'!$B34,'Dermal Crosswalk'!$C$5:$C$32,'Bridge Table'!$E34),SUMIFS('Dermal Crosswalk'!$K$5:$K$32,'Dermal Crosswalk'!$A$5:$A$32,'Bridge Table'!$B34,'Dermal Crosswalk'!$C$5:$C$32,'Bridge Table'!$E34))),"--") -> 728.23549 | M34: =IFERROR(IFERROR(VLOOKUP($D34,$Z$8:$AD$9,3,FALSE),0)/IF($D34="Inhalation",IF($K34="Central Tendency",SUMIFS('Inhalation Exposure'!$AB$4:$AB$61,'Inhalation Exposure'!$B$4:$B$61,$B34,'Inhalation Exposure'!$D$4:$D$61,$C34,'Inhalation Exposure'!$E$4:$E$61,$E34),SUMIFS('Inhalation Exposure'!$AA$4:$AA$61,'Inhalation Exposure'!$B$4:$B$61,$B34,'Inhalation Exposure'!$D$4:$D$61,$C34,'Inhalation Exposure'!$E$4:$E$61,$E34)),IF($K34="Central Tendency",SUMIFS('Dermal Crosswalk'!$S$5:$S$32,'Dermal Crosswalk'!$A$5:$A$32,'Bridge Table'!$B34,'Dermal Crosswalk'!$C$5:$C$32,'Bridge Table'!$E34),SUMIFS('Dermal Crosswalk'!$N$5:$N$32,'Dermal Crosswalk'!$A$5:$A$32,'Bridge Table'!$B34,'Dermal Crosswalk'!$C$5:$C$32,'Bridge Table'!$E34))),"--") -> 1611.4629 | N34: =IFERROR(IFERROR(VLOOKUP($D34,$Z$8:$AD$9,4,FALSE),0)/IF($D34="Inhalation",IF($K34="Central Tendency",SUMIFS('Inhalation Exposure'!$R$4:$R$61,'Inhalation Exposure'!$B$4:$B$61,$B34,'Inhalation Exposure'!$D$4:$D$61,$C34,'Inhalation Exposure'!$E$4:$E$61,$E34),SUMIFS('Inhalation Exposure'!$Q$4:$Q$61,'Inhalation Exposure'!$B$4:$B$61,$B34,'Inhalation Exposure'!$D$4:$D$61,$C34,'Inhalation Exposure'!$E$4:$E$61,$E34)),IF($K34="Central Tendency",SUMIFS('Dermal Crosswalk'!$Q$5:$Q$32,'Dermal Crosswalk'!$A$5:$A$32,'Bridge Table'!$B34,'Dermal Crosswalk'!$C$5:$C$32,'Bridge Table'!$E34),SUMIFS('Dermal Crosswalk'!$L$5:$L$32,'Dermal Crosswalk'!$A$5:$A$32,'Bridge Table'!$B34,'Dermal Crosswalk'!$C$5:$C$32,'Bridge Table'!$E34))),"--") -> 18595.337 | O34: =IFERROR(IFERROR(VLOOKUP($D34,$Z$8:$AD$9,5,FALSE),0)*IF($D34="Inhalation",IF($K34="Central Tendency",SUMIFS('Inhalation Exposure'!$V$4:$V$61,'Inhalation Exposure'!$B$4:$B$61,$B34,'Inhalation Exposure'!$D$4:$D$61,$C34,'Inhalation Exposure'!$E$4:$E$61,$E34),SUMIFS('Inhalation Exposure'!$U$4:$U$61,'Inhalation Exposure'!$B$4:$B$61,$B34,'Inhalation Exposure'!$D$4:$D$61,$C34,'Inhalation Exposure'!$E$4:$E$61,$E34)),IF($K34="Central Tendency",SUMIFS('Dermal Crosswalk'!$R$5:$R$32,'Dermal Crosswalk'!$A$5:$A$32,'Bridge Table'!$B34,'Dermal Crosswalk'!$C$5:$C$32,'Bridge Table'!$E34),SUMIFS('Dermal Crosswalk'!$M$5:$M$32,'Dermal Crosswalk'!$A$5:$A$32,'Bridge Table'!$B34,'Dermal Crosswalk'!$C$5:$C$32,'Bridge Table'!$E34))),"--") -> 1.4307083e-06 | P34: =IFERROR(L34*U34,"Not Assessed") -> 7282.3549 | Q34: =IFERROR(M34*V34,"Not Assessed") -> 16114.629 | R34: =IFERROR(N34*W34,"Not Assessed") -> 185953.37 | S34: =IFERROR(O34/X34, "Not Assessed") -> 1.4307083e-07 | U34: 10 | V34: 10 | W34: 10 | X34: 10
B35: 2a | C35: Average Adult Worker | D35: Inhalation | E35: 2,500-lb throughput | P35: =CONCATENATE("(APF ",U34,")") -> (APF 10) | Q35: =CONCATENATE("(APF ",V34,")") -> (APF 10) | R35: =CONCATENATE("(APF ",W34,")") -> (APF 10) | S35: =CONCATENATE("(APF ",X34,")") -> (APF 10) | U35: APF | V35: APF | W35: APF | X35: APF
B36: 2a | C36: Average Adult Worker | D36: Inhalation | E36: 25,000-lb throughput | I36: Average Adult Worker | J36: Inhalation 8-hr TWA | K36: Central Tendency | L36: =IFERROR(IFERROR(VLOOKUP($D36,$Z$8:$AD$9,2,FALSE),0)/IF($D36="Inhalation",IF($K36="Central Tendency",SUMIFS('Inhalation Exposure'!$N$4:$N$61,'Inhalation Exposure'!$B$4:$B$61,$B36,'Inhalation Exposure'!$D$4:$D$61,$C36,'Inhalation Exposure'!$E$4:$E$61,$E36),SUMIFS('Inhalation Exposure'!$M$4:$M$61,'Inhalation Exposure'!$B$4:$B$61,$B36,'Inhalation Exposure'!$D$4:$D$61,$C36,'Inhalation Exposure'!$E$4:$E$61,$E36)),IF($K36="Central Tendency",SUMIFS('Dermal Crosswalk'!$P$5:$P$32,'Dermal Crosswalk'!$A$5:$A$32,'Bridge Table'!$B36,'Dermal Crosswalk'!$C$5:$C$32,'Bridge Table'!$E36),SUMIFS('Dermal Crosswalk'!$K$5:$K$32,'Dermal Crosswalk'!$A$5:$A$32,'Bridge Table'!$B36,'Dermal Crosswalk'!$C$5:$C$32,'Bridge Table'!$E36))),"--") -> 4528.2026 | M36: =IFERROR(IFERROR(VLOOKUP($D36,$Z$8:$AD$9,3,FALSE),0)/IF($D36="Inhalation",IF($K36="Central Tendency",SUMIFS('Inhalation Exposure'!$AB$4:$AB$61,'Inhalation Exposure'!$B$4:$B$61,$B36,'Inhalation Exposure'!$D$4:$D$61,$C36,'Inhalation Exposure'!$E$4:$E$61,$E36),SUMIFS('Inhalation Exposure'!$AA$4:$AA$61,'Inhalation Exposure'!$B$4:$B$61,$B36,'Inhalation Exposure'!$D$4:$D$61,$C36,'Inhalation Exposure'!$E$4:$E$61,$E36)),IF($K36="Central Tendency",SUMIFS('Dermal Crosswalk'!$S$5:$S$32,'Dermal Crosswalk'!$A$5:$A$32,'Bridge Table'!$B36,'Dermal Crosswalk'!$C$5:$C$32,'Bridge Table'!$E36),SUMIFS('Dermal Crosswalk'!$N$5:$N$32,'Dermal Crosswalk'!$A$5:$A$32,'Bridge Table'!$B36,'Dermal Crosswalk'!$C$5:$C$32,'Bridge Table'!$E36))),"--") -> 1923.3266 | N36: =IFERROR(IFERROR(VLOOKUP($D36,$Z$8:$AD$9,4,FALSE),0)/IF($D36="Inhalation",IF($K36="Central Tendency",SUMIFS('Inhalation Exposure'!$R$4:$R$61,'Inhalation Exposure'!$B$4:$B$61,$B36,'Inhalation Exposure'!$D$4:$D$61,$C36,'Inhalation Exposure'!$E$4:$E$61,$E36),SUMIFS('Inhalation Exposure'!$Q$4:$Q$61,'Inhalation Exposure'!$B$4:$B$61,$B36,'Inhalation Exposure'!$D$4:$D$61,$C36,'Inhalation Exposure'!$E$4:$E$61,$E36)),IF($K36="Central Tendency",SUMIFS('Dermal Crosswalk'!$Q$5:$Q$32,'Dermal Crosswalk'!$A$5:$A$32,'Bridge Table'!$B36,'Dermal Crosswalk'!$C$5:$C$32,'Bridge Table'!$E36),SUMIFS('Dermal Crosswalk'!$L$5:$L$32,'Dermal Crosswalk'!$A$5:$A$32,'Bridge Table'!$B36,'Dermal Crosswalk'!$C$5:$C$32,'Bridge Table'!$E36))),"--") -> 8809.6804 | O36: =IFERROR(IFERROR(VLOOKUP($D36,$Z$8:$AD$9,5,FALSE),0)*IF($D36="Inhalation",IF($K36="Central Tendency",SUMIFS('Inhalation Exposure'!$V$4:$V$61,'Inhalation Exposure'!$B$4:$B$61,$B36,'Inhalation Exposure'!$D$4:$D$61,$C36,'Inhalation Exposure'!$E$4:$E$61,$E36),SUMIFS('Inhalation Exposure'!$U$4:$U$61,'Inhalation Exposure'!$B$4:$B$61,$B36,'Inhalation Exposure'!$D$4:$D$61,$C36,'Inhalation Exposure'!$E$4:$E$61,$E36)),IF($K36="Central Tendency",SUMIFS('Dermal Crosswalk'!$R$5:$R$32,'Dermal Crosswalk'!$A$5:$A$32,'Bridge Table'!$B36,'Dermal Crosswalk'!$C$5:$C$32,'Bridge Table'!$E36),SUMIFS('Dermal Crosswalk'!$M$5:$M$32,'Dermal Crosswalk'!$A$5:$A$32,'Bridge Table'!$B36,'Dermal Crosswalk'!$C$5:$C$32,'Bridge Table'!$E36))),"--") -> 2.8667322e-06 | P36: =IFERROR(L36*U36,"Not Assessed") -> 45282.026 | Q36: =IFERROR(M36*V36,"Not Assessed") -> 19233.266 | R36: =IFERROR(N36*W36,"Not Assessed") -> 88096.804 | S36: =IFERROR(O36/X36, "Not Assessed") -> 2.8667322e-07 | U36: 10 | V36: 10 | W36: 10 | X36: 10
B37: 2a | C37: Average Adult Worker | D37: Inhalation | E37: 25,000-lb throughput | P37: =CONCATENATE("(APF ",U36,")") -> (APF 10) | Q37: =CONCATENATE("(APF ",V36,")") -> (APF 10) | R37: =CONCATENATE("(APF ",W36,")") -> (APF 10) | S37: =CONCATENATE("(APF ",X36,")") -> (APF 10) | U37: APF | V37: APF | W37: APF | X37: APF
B38: 2a | C38: Average Adult Worker | D38: Inhalation | E38: 25,000-lb throughput | K38: High-End | L38: =IFERROR(IFERROR(VLOOKUP($D38,$Z$8:$AD$9,2,FALSE),0)/IF($D38="Inhalation",IF($K38="Central Tendency",SUMIFS('Inhalation Exposure'!$N$4:$N$61,'Inhalation Exposure'!$B$4:$B$61,$B38,'Inhalation Exposure'!$D$4:$D$61,$C38,'Inhalation Exposure'!$E$4:$E$61,$E38),SUMIFS('Inhalation Exposure'!$M$4:$M$61,'Inhalation Exposure'!$B$4:$B$61,$B38,'Inhalation Exposure'!$D$4:$D$61,$C38,'Inhalation Exposure'!$E$4:$E$61,$E38)),IF($K38="Central Tendency",SUMIFS('Dermal Crosswalk'!$P$5:$P$32,'Dermal Crosswalk'!$A$5:$A$32,'Bridge Table'!$B38,'Dermal Crosswalk'!$C$5:$C$32,'Bridge Table'!$E38),SUMIFS('Dermal Crosswalk'!$K$5:$K$32,'Dermal Crosswalk'!$A$5:$A$32,'Bridge Table'!$B38,'Dermal Crosswalk'!$C$5:$C$32,'Bridge Table'!$E38))),"--") -> 693.10449 | M38: =IFERROR(IFERROR(VLOOKUP($D38,$Z$8:$AD$9,3,FALSE),0)/IF($D38="Inhalation",IF($K38="Central Tendency",SUMIFS('Inhalation Exposure'!$AB$4:$AB$61,'Inhalation Exposure'!$B$4:$B$61,$B38,'Inhalation Exposure'!$D$4:$D$61,$C38,'Inhalation Exposure'!$E$4:$E$61,$E38),SUMIFS('Inhalation Exposure'!$AA$4:$AA$61,'Inhalation Exposure'!$B$4:$B$61,$B38,'Inhalation Exposure'!$D$4:$D$61,$C38,'Inhalation Exposure'!$E$4:$E$61,$E38)),IF($K38="Central Tendency",SUMIFS('Dermal Crosswalk'!$S$5:$S$32,'Dermal Crosswalk'!$A$5:$A$32,'Bridge Table'!$B38,'Dermal Crosswalk'!$C$5:$C$32,'Bridge Table'!$E38),SUMIFS('Dermal Crosswalk'!$N$5:$N$32,'Dermal Crosswalk'!$A$5:$A$32,'Bridge Table'!$B38,'Dermal Crosswalk'!$C$5:$C$32,'Bridge Table'!$E38))),"--") -> 345.03082 | N38: =IFERROR(IFERROR(VLOOKUP($D38,$Z$8:$AD$9,4,FALSE),0)/IF($D38="Inhalation",IF($K38="Central Tendency",SUMIFS('Inhalation Exposure'!$R$4:$R$61,'Inhalation Exposure'!$B$4:$B$61,$B38,'Inhalation Exposure'!$D$4:$D$61,$C38,'Inhalation Exposure'!$E$4:$E$61,$E38),SUMIFS('Inhalation Exposure'!$Q$4:$Q$61,'Inhalation Exposure'!$B$4:$B$61,$B38,'Inhalation Exposure'!$D$4:$D$61,$C38,'Inhalation Exposure'!$E$4:$E$61,$E38)),IF($K38="Central Tendency",SUMIFS('Dermal Crosswalk'!$Q$5:$Q$32,'Dermal Crosswalk'!$A$5:$A$32,'Bridge Table'!$B38,'Dermal Crosswalk'!$C$5:$C$32,'Bridge Table'!$E38),SUMIFS('Dermal Crosswalk'!$L$5:$L$32,'Dermal Crosswalk'!$A$5:$A$32,'Bridge Table'!$B38,'Dermal Crosswalk'!$C$5:$C$32,'Bridge Table'!$E38))),"--") -> 2113.3478 | O38: =IFERROR(IFERROR(VLOOKUP($D38,$Z$8:$AD$9,5,FALSE),0)*IF($D38="Inhalation",IF($K38="Central Tendency",SUMIFS('Inhalation Exposure'!$V$4:$V$61,'Inhalation Exposure'!$B$4:$B$61,$B38,'Inhalation Exposure'!$D$4:$D$61,$C38,'Inhalation Exposure'!$E$4:$E$61,$E38),SUMIFS('Inhalation Exposure'!$U$4:$U$61,'Inhalation Exposure'!$B$4:$B$61,$B38,'Inhalation Exposure'!$D$4:$D$61,$C38,'Inhalation Exposure'!$E$4:$E$61,$E38)),IF($K38="Central Tendency",SUMIFS('Dermal Crosswalk'!$R$5:$R$32,'Dermal Crosswalk'!$A$5:$A$32,'Bridge Table'!$B38,'Dermal Crosswalk'!$C$5:$C$32,'Bridge Table'!$E38),SUMIFS('Dermal Crosswalk'!$M$5:$M$32,'Dermal Crosswalk'!$A$5:$A$32,'Bridge Table'!$B38,'Dermal Crosswalk'!$C$5:$C$32,'Bridge Table'!$E38))),"--") -> 1.2614043e-05 | P38: =IFERROR(L38*U38,"Not Assessed") -> 6931.0449 | Q38: =IFERROR(M38*V38,"Not Assessed") -> 3450.3082 | R38: =IFERROR(N38*W38,"Not Assessed") -> 21133.478 | S38: =IFERROR(O38/X38, "Not Assessed") -> 1.2614043e-06 | U38: 10 | V38: 10 | W38: 10 | X38: 10
B39: 2a | C39: Average Adult Worker | D39: Inhalation | E39: 25,000-lb throughput | P39: =CONCATENATE("(APF ",U38,")") -> (APF 10) | Q39: =CONCATENATE("(APF ",V38,")") -> (APF 10) | R39: =CONCATENATE("(APF ",W38,")") -> (APF 10) | S39: =CONCATENATE("(APF ",X38,")") -> (APF 10) | U39: APF | V39: APF | W39: APF | X39: APF
B40: 2a | C40: ONU | D40: Inhalation | E40: 2,500-lb throughput | I40: ONU | J40: Inhalation 8-hr TWA | K40: Central Tendency | L40: =IFERROR(IFERROR(VLOOKUP($D40,$Z$8:$AD$9,2,FALSE),0)/IF($D40="Inhalation",IF($K40="Central Tendency",SUMIFS('Inhalation Exposure'!$L$4:$L$60,'Inhalation Exposure'!$B$4:$B$60,$B40,'Inhalation Exposure'!$D$4:$D$60,$C40,'Inhalation Exposure'!$E$4:$E$60,$E40),SUMIFS('Inhalation Exposure'!$K$4:$K$60,'Inhalation Exposure'!$B$4:$B$60,$B40,'Inhalation Exposure'!$D$4:$D$60,$C40,'Inhalation Exposure'!$E$4:$E$60,$E40)),IF($K40="Central Tendency",SUMIFS('Dermal Crosswalk'!$P$5:$P$32,'Dermal Crosswalk'!$A$5:$A$32,'Bridge Table'!$B40,'Dermal Crosswalk'!$C$5:$C$32,'Bridge Table'!$E40),SUMIFS('Dermal Crosswalk'!$K$5:$K$32,'Dermal Crosswalk'!$A$5:$A$32,'Bridge Table'!$B40,'Dermal Crosswalk'!$C$5:$C$32,'Bridge Table'!$E40))),"--") -> -- | M40: =IFERROR(IFERROR(VLOOKUP($D40,$Z$8:$AD$9,3,FALSE),0)/IF($D40="Inhalation",IF($K40="Central Tendency",SUMIFS('Inhalation Exposure'!$AB$4:$AB$60,'Inhalation Exposure'!$B$4:$B$60,$B40,'Inhalation Exposure'!$D$4:$D$60,$C40,'Inhalation Exposure'!$E$4:$E$60,$E40),SUMIFS('Inhalation Exposure'!$AA$4:$AA$60,'Inhalation Exposure'!$B$4:$B$60,$B40,'Inhalation Exposure'!$D$4:$D$60,$C40,'Inhalation Exposure'!$E$4:$E$60,$E40)),IF($K40="Central Tendency",SUMIFS('Dermal Crosswalk'!$S$5:$S$32,'Dermal Crosswalk'!$A$5:$A$32,'Bridge Table'!$B40,'Dermal Crosswalk'!$C$5:$C$32,'Bridge Table'!$E40),SUMIFS('Dermal Crosswalk'!$N$5:$N$32,'Dermal Crosswalk'!$A$5:$A$32,'Bridge Table'!$B40,'Dermal Crosswalk'!$C$5:$C$32,'Bridge Table'!$E40))),"--") -> -- | N40: =IFERROR(IFERROR(VLOOKUP($D40,$Z$8:$AD$9,4,FALSE),0)/IF($D40="Inhalation",IF($K40="Central Tendency",SUMIFS('Inhalation Exposure'!$R$4:$R$60,'Inhalation Exposure'!$B$4:$B$60,$B40,'Inhalation Exposure'!$D$4:$D$60,$C40,'Inhalation Exposure'!$E$4:$E$60,$E40),SUMIFS('Inhalation Exposure'!$Q$4:$Q$60,'Inhalation Exposure'!$B$4:$B$60,$B40,'Inhalation Exposure'!$D$4:$D$60,$C40,'Inhalation Exposure'!$E$4:$E$60,$E40)),IF($K40="Central Tendency",SUMIFS('Dermal Crosswalk'!$Q$5:$Q$32,'Dermal Crosswalk'!$A$5:$A$32,'Bridge Table'!$B40,'Dermal Crosswalk'!$C$5:$C$32,'Bridge Table'!$E40),SUMIFS('Dermal Crosswalk'!$L$5:$L$32,'Dermal Crosswalk'!$A$5:$A$32,'Bridge Table'!$B40,'Dermal Crosswalk'!$C$5:$C$32,'Bridge Table'!$E40))),"--") -> -- | O40: =IF(IFERROR(VLOOKUP($D40,$Z$8:$AD$9,5,FALSE),0)*IF($D40="Inhalation",IF($K40="Central Tendency",SUMIFS('Inhalation Exposure'!$V$4:$V$60,'Inhalation Exposure'!$B$4:$B$60,$B40,'Inhalation Exposure'!$D$4:$D$60,$C40,'Inhalation Exposure'!$E$4:$E$60,$E40),SUMIFS('Inhalation Exposure'!$U$4:$U$60,'Inhalation Exposure'!$B$4:$B$60,$B40,'Inhalation Exposure'!$D$4:$D$60,$C40,'Inhalation Exposure'!$E$4:$E$60,$E40)),IF($K40="Central Tendency",SUMIFS('Dermal Crosswalk'!$R$5:$R$32,'Dermal Crosswalk'!$A$5:$A$32,'Bridge Table'!$B40,'Dermal Crosswalk'!$C$5:$C$32,'Bridge Table'!$E40),SUMIFS('Dermal Crosswalk'!$M$5:$M$32,'Dermal Crosswalk'!$A$5:$A$32,'Bridge Table'!$B40,'Dermal Crosswalk'!$C$5:$C$32,'Bridge Table'!$E40)))=0,"--",IFERROR(VLOOKUP($D40,$Z$8:$AD$9,5,FALSE),0)*IF($D40="Inhalation",IF($K40="Central Tendency",SUMIFS('Inhalation Exposure'!$V$4:$V$60,'Inhalation Exposure'!$B$4:$B$60,$B40,'Inhalation Exposure'!$D$4:$D$60,$C40,'Inhalation Exposure'!$E$4:$E$60,$E40),SUMIFS('Inhalation Exposure'!$U$4:$U$60,'Inhalation Exposure'!$B$4:$B$60,$B40,'Inhalation Exposure'!$D$4:$D$60,$C40,'Inhalation Exposure'!$E$4:$E$60,$E40)),IF($K40="Central Tendency",SUMIFS('Dermal Crosswalk'!$R$5:$R$32,'Dermal Crosswalk'!$A$5:$A$32,'Bridge Table'!$B40,'Dermal Crosswalk'!$C$5:$C$32,'Bridge Table'!$E40),SUMIFS('Dermal Crosswalk'!$M$5:$M$32,'Dermal Crosswalk'!$A$5:$A$32,'Bridge Table'!$B40,'Dermal Crosswalk'!$C$5:$C$32,'Bridge Table'!$E40)))) -> -- | P40: N/A | Q40: N/A | R40: N/A | S40: N/A | U40: N/A | V40: N/A | W40: N/A | X40: N/A
B41: 2a | C41: ONU | D41: Inhalation | E41: 2,500-lb throughput
B42: 2a | C42: ONU | D42: Inhalation | E42: 2,500-lb throughput | K42: High-End | L42: =IFERROR(IFERROR(VLOOKUP($D42,$Z$8:$AD$9,2,FALSE),0)/IF($D42="Inhalation",IF($K42="Central Tendency",SUMIFS('Inhalation Exposure'!$L$4:$L$60,'Inhalation Exposure'!$B$4:$B$60,$B42,'Inhalation Exposure'!$D$4:$D$60,$C42,'Inhalation Exposure'!$E$4:$E$60,$E42),SUMIFS('Inhalation Exposure'!$K$4:$K$60,'Inhalation Exposure'!$B$4:$B$60,$B42,'Inhalation Exposure'!$D$4:$D$60,$C42,'Inhalation Exposure'!$E$4:$E$60,$E42)),IF($K42="Central Tendency",SUMIFS('Dermal Crosswalk'!$P$5:$P$32,'Dermal Crosswalk'!$A$5:$A$32,'Bridge Table'!$B42,'Dermal Crosswalk'!$C$5:$C$32,'Bridge Table'!$E42),SUMIFS('Dermal Crosswalk'!$K$5:$K$32,'Dermal Crosswalk'!$A$5:$A$32,'Bridge Table'!$B42,'Dermal Crosswalk'!$C$5:$C$32,'Bridge Table'!$E42))),"--") -> -- | M42: =IFERROR(IFERROR(VLOOKUP($D42,$Z$8:$AD$9,3,FALSE),0)/IF($D42="Inhalation",IF($K42="Central Tendency",SUMIFS('Inhalation Exposure'!$AB$4:$AB$60,'Inhalation Exposure'!$B$4:$B$60,$B42,'Inhalation Exposure'!$D$4:$D$60,$C42,'Inhalation Exposure'!$E$4:$E$60,$E42),SUMIFS('Inhalation Exposure'!$AA$4:$AA$60,'Inhalation Exposure'!$B$4:$B$60,$B42,'Inhalation Exposure'!$D$4:$D$60,$C42,'Inhalation Exposure'!$E$4:$E$60,$E42)),IF($K42="Central Tendency",SUMIFS('Dermal Crosswalk'!$S$5:$S$32,'Dermal Crosswalk'!$A$5:$A$32,'Bridge Table'!$B42,'Dermal Crosswalk'!$C$5:$C$32,'Bridge Table'!$E42),SUMIFS('Dermal Crosswalk'!$N$5:$N$32,'Dermal Crosswalk'!$A$5:$A$32,'Bridge Table'!$B42,'Dermal Crosswalk'!$C$5:$C$32,'Bridge Table'!$E42))),"--") -> -- | N42: =IFERROR(IFERROR(VLOOKUP($D42,$Z$8:$AD$9,4,FALSE),0)/IF($D42="Inhalation",IF($K42="Central Tendency",SUMIFS('Inhalation Exposure'!$R$4:$R$60,'Inhalation Exposure'!$B$4:$B$60,$B42,'Inhalation Exposure'!$D$4:$D$60,$C42,'Inhalation Exposure'!$E$4:$E$60,$E42),SUMIFS('Inhalation Exposure'!$Q$4:$Q$60,'Inhalation Exposure'!$B$4:$B$60,$B42,'Inhalation Exposure'!$D$4:$D$60,$C42,'Inhalation Exposure'!$E$4:$E$60,$E42)),IF($K42="Central Tendency",SUMIFS('Dermal Crosswalk'!$Q$5:$Q$32,'Dermal Crosswalk'!$A$5:$A$32,'Bridge Table'!$B42,'Dermal Crosswalk'!$C$5:$C$32,'Bridge Table'!$E42),SUMIFS('Dermal Crosswalk'!$L$5:$L$32,'Dermal Crosswalk'!$A$5:$A$32,'Bridge Table'!$B42,'Dermal Crosswalk'!$C$5:$C$32,'Bridge Table'!$E42))),"--") -> -- | O42: =IF(IFERROR(VLOOKUP($D42,$Z$8:$AD$9,5,FALSE),0)*IF($D42="Inhalation",IF($K42="Central Tendency",SUMIFS('Inhalation Exposure'!$V$4:$V$60,'Inhalation Exposure'!$B$4:$B$60,$B42,'Inhalation Exposure'!$D$4:$D$60,$C42,'Inhalation Exposure'!$E$4:$E$60,$E42),SUMIFS('Inhalation Exposure'!$U$4:$U$60,'Inhalation Exposure'!$B$4:$B$60,$B42,'Inhalation Exposure'!$D$4:$D$60,$C42,'Inhalation Exposure'!$E$4:$E$60,$E42)),IF($K42="Central Tendency",SUMIFS('Dermal Crosswalk'!$R$5:$R$32,'Dermal Crosswalk'!$A$5:$A$32,'Bridge Table'!$B42,'Dermal Crosswalk'!$C$5:$C$32,'Bridge Table'!$E42),SUMIFS('Dermal Crosswalk'!$M$5:$M$32,'Dermal Crosswalk'!$A$5:$A$32,'Bridge Table'!$B42,'Dermal Crosswalk'!$C$5:$C$32,'Bridge Table'!$E42)))=0,"--",IFERROR(VLOOKUP($D42,$Z$8:$AD$9,5,FALSE),0)*IF($D42="Inhalation",IF($K42="Central Tendency",SUMIFS('Inhalation Exposure'!$V$4:$V$60,'Inhalation Exposure'!$B$4:$B$60,$B42,'Inhalation Exposure'!$D$4:$D$60,$C42,'Inhalation Exposure'!$E$4:$E$60,$E42),SUMIFS('Inhalation Exposure'!$U$4:$U$60,'Inhalation Exposure'!$B$4:$B$60,$B42,'Inhalation Exposure'!$D$4:$D$60,$C42,'Inhalation Exposure'!$E$4:$E$60,$E42)),IF($K42="Central Tendency",SUMIFS('Dermal Crosswalk'!$R$5:$R$32,'Dermal Crosswalk'!$A$5:$A$32,'Bridge Table'!$B42,'Dermal Crosswalk'!$C$5:$C$32,'Bridge Table'!$E42),SUMIFS('Dermal Crosswalk'!$M$5:$M$32,'Dermal Crosswalk'!$A$5:$A$32,'Bridge Table'!$B42,'Dermal Crosswalk'!$C$5:$C$32,'Bridge Table'!$E42)))) -> -- | P42: N/A | Q42: N/A | R42: N/A | S42: N/A | U42: N/A | V42: N/A | W42: N/A | X42: N/A
B43: 2a | C43: ONU | D43: Inhalation | E43: 2,500-lb throughput
B44: 2a | C44: ONU | D44: Inhalation | E44: 25,000-lb throughput | I44: ONU | J44: Inhalation 8-hr TWA | K44: Central Tendency | L44: =IFERROR(IFERROR(VLOOKUP($D44,$Z$8:$AD$9,2,FALSE),0)/IF($D44="Inhalation",IF($K44="Central Tendency",SUMIFS('Inhalation Exposure'!$L$4:$L$60,'Inhalation Exposure'!$B$4:$B$60,$B44,'Inhalation Exposure'!$D$4:$D$60,$C44,'Inhalation Exposure'!$E$4:$E$60,$E44),SUMIFS('Inhalation Exposure'!$K$4:$K$60,'Inhalation Exposure'!$B$4:$B$60,$B44,'Inhalation Exposure'!$D$4:$D$60,$C44,'Inhalation Exposure'!$E$4:$E$60,$E44)),IF($K44="Central Tendency",SUMIFS('Dermal Crosswalk'!$P$5:$P$32,'Dermal Crosswalk'!$A$5:$A$32,'Bridge Table'!$B44,'Dermal Crosswalk'!$C$5:$C$32,'Bridge Table'!$E44),SUMIFS('Dermal Crosswalk'!$K$5:$K$32,'Dermal Crosswalk'!$A$5:$A$32,'Bridge Table'!$B44,'Dermal Crosswalk'!$C$5:$C$32,'Bridge Table'!$E44))),"--") -> -- | M44: =IFERROR(IFERROR(VLOOKUP($D44,$Z$8:$AD$9,3,FALSE),0)/IF($D44="Inhalation",IF($K44="Central Tendency",SUMIFS('Inhalation Exposure'!$AB$4:$AB$60,'Inhalation Exposure'!$B$4:$B$60,$B44,'Inhalation Exposure'!$D$4:$D$60,$C44,'Inhalation Exposure'!$E$4:$E$60,$E44),SUMIFS('Inhalation Exposure'!$AA$4:$AA$60,'Inhalation Exposure'!$B$4:$B$60,$B44,'Inhalation Exposure'!$D$4:$D$60,$C44,'Inhalation Exposure'!$E$4:$E$60,$E44)),IF($K44="Central Tendency",SUMIFS('Dermal Crosswalk'!$S$5:$S$32,'Dermal Crosswalk'!$A$5:$A$32,'Bridge Table'!$B44,'Dermal Crosswalk'!$C$5:$C$32,'Bridge Table'!$E44),SUMIFS('Dermal Crosswalk'!$N$5:$N$32,'Dermal Crosswalk'!$A$5:$A$32,'Bridge Table'!$B44,'Dermal Crosswalk'!$C$5:$C$32,'Bridge Table'!$E44))),"--") -> -- | N44: =IFERROR(IFERROR(VLOOKUP($D44,$Z$8:$AD$9,4,FALSE),0)/IF($D44="Inhalation",IF($K44="Central Tendency",SUMIFS('Inhalation Exposure'!$R$4:$R$60,'Inhalation Exposure'!$B$4:$B$60,$B44,'Inhalation Exposure'!$D$4:$D$60,$C44,'Inhalation Exposure'!$E$4:$E$60,$E44),SUMIFS('Inhalation Exposure'!$Q$4:$Q$60,'Inhalation Exposure'!$B$4:$B$60,$B44,'Inhalation Exposure'!$D$4:$D$60,$C44,'Inhalation Exposure'!$E$4:$E$60,$E44)),IF($K44="Central Tendency",SUMIFS('Dermal Crosswalk'!$Q$5:$Q$32,'Dermal Crosswalk'!$A$5:$A$32,'Bridge Table'!$B44,'Dermal Crosswalk'!$C$5:$C$32,'Bridge Table'!$E44),SUMIFS('Dermal Crosswalk'!$L$5:$L$32,'Dermal Crosswalk'!$A$5:$A$32,'Bridge Table'!$B44,'Dermal Crosswalk'!$C$5:$C$32,'Bridge Table'!$E44))),"--") -> -- | O44: =IF(IFERROR(VLOOKUP($D44,$Z$8:$AD$9,5,FALSE),0)*IF($D44="Inhalation",IF($K44="Central Tendency",SUMIFS('Inhalation Exposure'!$V$4:$V$60,'Inhalation Exposure'!$B$4:$B$60,$B44,'Inhalation Exposure'!$D$4:$D$60,$C44,'Inhalation Exposure'!$E$4:$E$60,$E44),SUMIFS('Inhalation Exposure'!$U$4:$U$60,'Inhalation Exposure'!$B$4:$B$60,$B44,'Inhalation Exposure'!$D$4:$D$60,$C44,'Inhalation Exposure'!$E$4:$E$60,$E44)),IF($K44="Central Tendency",SUMIFS('Dermal Crosswalk'!$R$5:$R$32,'Dermal Crosswalk'!$A$5:$A$32,'Bridge Table'!$B44,'Dermal Crosswalk'!$C$5:$C$32,'Bridge Table'!$E44),SUMIFS('Dermal Crosswalk'!$M$5:$M$32,'Dermal Crosswalk'!$A$5:$A$32,'Bridge Table'!$B44,'Dermal Crosswalk'!$C$5:$C$32,'Bridge Table'!$E44)))=0,"--",IFERROR(VLOOKUP($D44,$Z$8:$AD$9,5,FALSE),0)*IF($D44="Inhalation",IF($K44="Central Tendency",SUMIFS('Inhalation Exposure'!$V$4:$V$60,'Inhalation Exposure'!$B$4:$B$60,$B44,'Inhalation Exposure'!$D$4:$D$60,$C44,'Inhalation Exposure'!$E$4:$E$60,$E44),SUMIFS('Inhalation Exposure'!$U$4:$U$60,'Inhalation Exposure'!$B$4:$B$60,$B44,'Inhalation Exposure'!$D$4:$D$60,$C44,'Inhalation Exposure'!$E$4:$E$60,$E44)),IF($K44="Central Tendency",SUMIFS('Dermal Crosswalk'!$R$5:$R$32,'Dermal Crosswalk'!$A$5:$A$32,'Bridge Table'!$B44,'Dermal Crosswalk'!$C$5:$C$32,'Bridge Table'!$E44),SUMIFS('Dermal Crosswalk'!$M$5:$M$32,'Dermal Crosswalk'!$A$5:$A$32,'Bridge Table'!$B44,'Dermal Crosswalk'!$C$5:$C$32,'Bridge Table'!$E44)))) -> -- | P44: N/A | Q44: N/A | R44: N/A | S44: N/A | U44: N/A | V44: N/A | W44: N/A | X44: N/A
B45: 2a | C45: ONU | D45: Inhalation | E45: 25,000-lb throughput
B46: 2a | C46: ONU | D46: Inhalation | E46: 25,000-lb throughput | K46: High-End | L46: =IFERROR(IFERROR(VLOOKUP($D46,$Z$8:$AD$9,2,FALSE),0)/IF($D46="Inhalation",IF($K46="Central Tendency",SUMIFS('Inhalation Exposure'!$L$4:$L$60,'Inhalation Exposure'!$B$4:$B$60,$B46,'Inhalation Exposure'!$D$4:$D$60,$C46,'Inhalation Exposure'!$E$4:$E$60,$E46),SUMIFS('Inhalation Exposure'!$K$4:$K$60,'Inhalation Exposure'!$B$4:$B$60,$B46,'Inhalation Exposure'!$D$4:$D$60,$C46,'Inhalation Exposure'!$E$4:$E$60,$E46)),IF($K46="Central Tendency",SUMIFS('Dermal Crosswalk'!$P$5:$P$32,'Dermal Crosswalk'!$A$5:$A$32,'Bridge Table'!$B46,'Dermal Crosswalk'!$C$5:$C$32,'Bridge Table'!$E46),SUMIFS('Dermal Crosswalk'!$K$5:$K$32,'Dermal Crosswalk'!$A$5:$A$32,'Bridge Table'!$B46,'Dermal Crosswalk'!$C$5:$C$32,'Bridge Table'!$E46))),"--") -> -- | M46: =IFERROR(IFERROR(VLOOKUP($D46,$Z$8:$AD$9,3,FALSE),0)/IF($D46="Inhalation",IF($K46="Central Tendency",SUMIFS('Inhalation Exposure'!$AB$4:$AB$60,'Inhalation Exposure'!$B$4:$B$60,$B46,'Inhalation Exposure'!$D$4:$D$60,$C46,'Inhalation Exposure'!$E$4:$E$60,$E46),SUMIFS('Inhalation Exposure'!$AA$4:$AA$60,'Inhalation Exposure'!$B$4:$B$60,$B46,'Inhalation Exposure'!$D$4:$D$60,$C46,'Inhalation Exposure'!$E$4:$E$60,$E46)),IF($K46="Central Tendency",SUMIFS('Dermal Crosswalk'!$S$5:$S$32,'Dermal Crosswalk'!$A$5:$A$32,'Bridge Table'!$B46,'Dermal Crosswalk'!$C$5:$C$32,'Bridge Table'!$E46),SUMIFS('Dermal Crosswalk'!$N$5:$N$32,'Dermal Crosswalk'!$A$5:$A$32,'Bridge Table'!$B46,'Dermal Crosswalk'!$C$5:$C$32,'Bridge Table'!$E46))),"--") -> -- | N46: =IFERROR(IFERROR(VLOOKUP($D46,$Z$8:$AD$9,4,FALSE),0)/IF($D46="Inhalation",IF($K46="Central Tendency",SUMIFS('Inhalation Exposure'!$R$4:$R$60,'Inhalation Exposure'!$B$4:$B$60,$B46,'Inhalation Exposure'!$D$4:$D$60,$C46,'Inhalation Exposure'!$E$4:$E$60,$E46),SUMIFS('Inhalation Exposure'!$Q$4:$Q$60,'Inhalation Exposure'!$B$4:$B$60,$B46,'Inhalation Exposure'!$D$4:$D$60,$C46,'Inhalation Exposure'!$E$4:$E$60,$E46)),IF($K46="Central Tendency",SUMIFS('Dermal Crosswalk'!$Q$5:$Q$32,'Dermal Crosswalk'!$A$5:$A$32,'Bridge Table'!$B46,'Dermal Crosswalk'!$C$5:$C$32,'Bridge Table'!$E46),SUMIFS('Dermal Crosswalk'!$L$5:$L$32,'Dermal Crosswalk'!$A$5:$A$32,'Bridge Table'!$B46,'Dermal Crosswalk'!$C$5:$C$32,'Bridge Table'!$E46))),"--") -> -- | O46: =IF(IFERROR(VLOOKUP($D46,$Z$8:$AD$9,5,FALSE),0)*IF($D46="Inhalation",IF($K46="Central Tendency",SUMIFS('Inhalation Exposure'!$V$4:$V$60,'Inhalation Exposure'!$B$4:$B$60,$B46,'Inhalation Exposure'!$D$4:$D$60,$C46,'Inhalation Exposure'!$E$4:$E$60,$E46),SUMIFS('Inhalation Exposure'!$U$4:$U$60,'Inhalation Exposure'!$B$4:$B$60,$B46,'Inhalation Exposure'!$D$4:$D$60,$C46,'Inhalation Exposure'!$E$4:$E$60,$E46)),IF($K46="Central Tendency",SUMIFS('Dermal Crosswalk'!$R$5:$R$32,'Dermal Crosswalk'!$A$5:$A$32,'Bridge Table'!$B46,'Dermal Crosswalk'!$C$5:$C$32,'Bridge Table'!$E46),SUMIFS('Dermal Crosswalk'!$M$5:$M$32,'Dermal Crosswalk'!$A$5:$A$32,'Bridge Table'!$B46,'Dermal Crosswalk'!$C$5:$C$32,'Bridge Table'!$E46)))=0,"--",IFERROR(VLOOKUP($D46,$Z$8:$AD$9,5,FALSE),0)*IF($D46="Inhalation",IF($K46="Central Tendency",SUMIFS('Inhalation Exposure'!$V$4:$V$60,'Inhalation Exposure'!$B$4:$B$60,$B46,'Inhalation Exposure'!$D$4:$D$60,$C46,'Inhalation Exposure'!$E$4:$E$60,$E46),SUMIFS('Inhalation Exposure'!$U$4:$U$60,'Inhalation Exposure'!$B$4:$B$60,$B46,'Inhalation Exposure'!$D$4:$D$60,$C46,'Inhalation Exposure'!$E$4:$E$60,$E46)),IF($K46="Central Tendency",SUMIFS('Dermal Crosswalk'!$R$5:$R$32,'Dermal Crosswalk'!$A$5:$A$32,'Bridge Table'!$B46,'Dermal Crosswalk'!$C$5:$C$32,'Bridge Table'!$E46),SUMIFS('Dermal Crosswalk'!$M$5:$M$32,'Dermal Crosswalk'!$A$5:$A$32,'Bridge Table'!$B46,'Dermal Crosswalk'!$C$5:$C$32,'Bridge Table'!$E46)))) -> -- | P46: N/A | Q46: N/A | R46: N/A | S46: N/A | U46: N/A | V46: N/A | W46: N/A | X46: N/A
B47: 2a | C47: ONU | D47: Inhalation | E47: 25,000-lb throughput
B48: 2a | C48: Average Adult Worker | D48: Dermal | E48: 2,500-lb throughput | I48: Average Adult Worker | J48: Dermal | K48: Central Tendency | L48: =IFERROR(IFERROR(VLOOKUP($D48,$Z$8:$AD$9,2,FALSE),0)/IF($D48="Inhalation",IF($K48="Central Tendency",SUMIFS('Inhalation Exposure'!$N$4:$N$61,'Inhalation Exposure'!$B$4:$B$61,$B48,'Inhalation Exposure'!$D$4:$D$61,$C48,'Inhalation Exposure'!$E$4:$E$61,$E48),SUMIFS('Inhalation Exposure'!$M$4:$M$61,'Inhalation Exposure'!$B$4:$B$61,$B48,'Inhalation Exposure'!$D$4:$D$61,$C48,'Inhalation Exposure'!$E$4:$E$61,$E48)),IF($K48="Central Tendency",SUMIFS('Dermal Crosswalk'!$P$5:$P$32,'Dermal Crosswalk'!$A$5:$A$32,'Bridge Table'!$B48,'Dermal Crosswalk'!$C$5:$C$32,'Bridge Table'!$E48),SUMIFS('Dermal Crosswalk'!$K$5:$K$32,'Dermal Crosswalk'!$A$5:$A$32,'Bridge Table'!$B48,'Dermal Crosswalk'!$C$5:$C$32,'Bridge Table'!$E48))),"--") -> 4.3365403 | M48: =IFERROR(IFERROR(VLOOKUP($D48,$Z$8:$AD$9,3,FALSE),0)/IF($D48="Inhalation",IF($K48="Central Tendency",SUMIFS('Inhalation Exposure'!$AB$4:$AB$61,'Inhalation Exposure'!$B$4:$B$61,$B48,'Inhalation Exposure'!$D$4:$D$61,$C48,'Inhalation Exposure'!$E$4:$E$61,$E48),SUMIFS('Inhalation Exposure'!$AA$4:$AA$61,'Inhalation Exposure'!$B$4:$B$61,$B48,'Inhalation Exposure'!$D$4:$D$61,$C48,'Inhalation Exposure'!$E$4:$E$61,$E48)),IF($K48="Central Tendency",SUMIFS('Dermal Crosswalk'!$S$5:$S$32,'Dermal Crosswalk'!$A$5:$A$32,'Bridge Table'!$B48,'Dermal Crosswalk'!$C$5:$C$32,'Bridge Table'!$E48),SUMIFS('Dermal Crosswalk'!$N$5:$N$32,'Dermal Crosswalk'!$A$5:$A$32,'Bridge Table'!$B48,'Dermal Crosswalk'!$C$5:$C$32,'Bridge Table'!$E48))),"--") -> 6.2572701 | N48: =IFERROR(IFERROR(VLOOKUP($D48,$Z$8:$AD$9,4,FALSE),0)/IF($D48="Inhalation",IF($K48="Central Tendency",SUMIFS('Inhalation Exposure'!$R$4:$R$61,'Inhalation Exposure'!$B$4:$B$61,$B48,'Inhalation Exposure'!$D$4:$D$61,$C48,'Inhalation Exposure'!$E$4:$E$61,$E48),SUMIFS('Inhalation Exposure'!$Q$4:$Q$61,'Inhalation Exposure'!$B$4:$B$61,$B48,'Inhalation Exposure'!$D$4:$D$61,$C48,'Inhalation Exposure'!$E$4:$E$61,$E48)),IF($K48="Central Tendency",SUMIFS('Dermal Crosswalk'!$Q$5:$Q$32,'Dermal Crosswalk'!$A$5:$A$32,'Bridge Table'!$B48,'Dermal Crosswalk'!$C$5:$C$32,'Bridge Table'!$E48),SUMIFS('Dermal Crosswalk'!$L$5:$L$32,'Dermal Crosswalk'!$A$5:$A$32,'Bridge Table'!$B48,'Dermal Crosswalk'!$C$5:$C$32,'Bridge Table'!$E48))),"--") -> 76.130119 | O48: =IFERROR(IFERROR(VLOOKUP($D48,$Z$8:$AD$9,5,FALSE),0)*IF($D48="Inhalation",IF($K48="Central Tendency",SUMIFS('Inhalation Exposure'!$V$4:$V$61,'Inhalation Exposure'!$B$4:$B$61,$B48,'Inhalation Exposure'!$D$4:$D$61,$C48,'Inhalation Exposure'!$E$4:$E$61,$E48),SUMIFS('Inhalation Exposure'!$U$4:$U$61,'Inhalation Exposure'!$B$4:$B$61,$B48,'Inhalation Exposure'!$D$4:$D$61,$C48,'Inhalation Exposure'!$E$4:$E$61,$E48)),IF($K48="Central Tendency",SUMIFS('Dermal Crosswalk'!$R$5:$R$32,'Dermal Crosswalk'!$A$5:$A$32,'Bridge Table'!$B48,'Dermal Crosswalk'!$C$5:$C$32,'Bridge Table'!$E48),SUMIFS('Dermal Crosswalk'!$M$5:$M$32,'Dermal Crosswalk'!$A$5:$A$32,'Bridge Table'!$B48,'Dermal Crosswalk'!$C$5:$C$32,'Bridge Table'!$E48))),"--") -> 0.00034917192 | P48: =L48*U48 -> 21.682701 | Q48: =M48*V48 -> 31.28635 | R48: =N48*W48 -> 380.6506 | S48: =O48/X48 -> 6.9834384e-05 | U48: 5 | V48: 5 | W48: 5 | X48: 5
B49: 2a | C49: Average Adult Worker | D49: Dermal | E49: 2,500-lb throughput | P49: =CONCATENATE("(PF ",U48,")") -> (PF 5) | Q49: =CONCATENATE("(PF ",V48,")") -> (PF 5) | R49: =CONCATENATE("(PF ",W48,")") -> (PF 5) | S49: =CONCATENATE("(PF ",X48,")") -> (PF 5) | U49: PF | V49: PF | W49: PF | X49: PF
B50: 2a | C50: Average Adult Worker | D50: Dermal | E50: 2,500-lb throughput | K50: High-End | L50: =IFERROR(IFERROR(VLOOKUP($D50,$Z$8:$AD$9,2,FALSE),0)/IF($D50="Inhalation",IF($K50="Central Tendency",SUMIFS('Inhalation Exposure'!$N$4:$N$61,'Inhalation Exposure'!$B$4:$B$61,$B50,'Inhalation Exposure'!$D$4:$D$61,$C50,'Inhalation Exposure'!$E$4:$E$61,$E50),SUMIFS('Inhalation Exposure'!$M$4:$M$61,'Inhalation Exposure'!$B$4:$B$61,$B50,'Inhalation Exposure'!$D$4:$D$61,$C50,'Inhalation Exposure'!$E$4:$E$61,$E50)),IF($K50="Central Tendency",SUMIFS('Dermal Crosswalk'!$P$5:$P$32,'Dermal Crosswalk'!$A$5:$A$32,'Bridge Table'!$B50,'Dermal Crosswalk'!$C$5:$C$32,'Bridge Table'!$E50),SUMIFS('Dermal Crosswalk'!$K$5:$K$32,'Dermal Crosswalk'!$A$5:$A$32,'Bridge Table'!$B50,'Dermal Crosswalk'!$C$5:$C$32,'Bridge Table'!$E50))),"--") -> 1.4455134 | M50: =IFERROR(IFERROR(VLOOKUP($D50,$Z$8:$AD$9,3,FALSE),0)/IF($D50="Inhalation",IF($K50="Central Tendency",SUMIFS('Inhalation Exposure'!$AB$4:$AB$61,'Inhalation Exposure'!$B$4:$B$61,$B50,'Inhalation Exposure'!$D$4:$D$61,$C50,'Inhalation Exposure'!$E$4:$E$61,$E50),SUMIFS('Inhalation Exposure'!$AA$4:$AA$61,'Inhalation Exposure'!$B$4:$B$61,$B50,'Inhalation Exposure'!$D$4:$D$61,$C50,'Inhalation Exposure'!$E$4:$E$61,$E50)),IF($K50="Central Tendency",SUMIFS('Dermal Crosswalk'!$S$5:$S$32,'Dermal Crosswalk'!$A$5:$A$32,'Bridge Table'!$B50,'Dermal Crosswalk'!$C$5:$C$32,'Bridge Table'!$E50),SUMIFS('Dermal Crosswalk'!$N$5:$N$32,'Dermal Crosswalk'!$A$5:$A$32,'Bridge Table'!$B50,'Dermal Crosswalk'!$C$5:$C$32,'Bridge Table'!$E50))),"--") -> 0.56884273 | N50: =IFERROR(IFERROR(VLOOKUP($D50,$Z$8:$AD$9,4,FALSE),0)/IF($D50="Inhalation",IF($K50="Central Tendency",SUMIFS('Inhalation Exposure'!$R$4:$R$61,'Inhalation Exposure'!$B$4:$B$61,$B50,'Inhalation Exposure'!$D$4:$D$61,$C50,'Inhalation Exposure'!$E$4:$E$61,$E50),SUMIFS('Inhalation Exposure'!$Q$4:$Q$61,'Inhalation Exposure'!$B$4:$B$61,$B50,'Inhalation Exposure'!$D$4:$D$61,$C50,'Inhalation Exposure'!$E$4:$E$61,$E50)),IF($K50="Central Tendency",SUMIFS('Dermal Crosswalk'!$Q$5:$Q$32,'Dermal Crosswalk'!$A$5:$A$32,'Bridge Table'!$B50,'Dermal Crosswalk'!$C$5:$C$32,'Bridge Table'!$E50),SUMIFS('Dermal Crosswalk'!$L$5:$L$32,'Dermal Crosswalk'!$A$5:$A$32,'Bridge Table'!$B50,'Dermal Crosswalk'!$C$5:$C$32,'Bridge Table'!$E50))),"--") -> 4.0068484 | O50: =IFERROR(IFERROR(VLOOKUP($D50,$Z$8:$AD$9,5,FALSE),0)*IF($D50="Inhalation",IF($K50="Central Tendency",SUMIFS('Inhalation Exposure'!$V$4:$V$61,'Inhalation Exposure'!$B$4:$B$61,$B50,'Inhalation Exposure'!$D$4:$D$61,$C50,'Inhalation Exposure'!$E$4:$E$61,$E50),SUMIFS('Inhalation Exposure'!$U$4:$U$61,'Inhalation Exposure'!$B$4:$B$61,$B50,'Inhalation Exposure'!$D$4:$D$61,$C50,'Inhalation Exposure'!$E$4:$E$61,$E50)),IF($K50="Central Tendency",SUMIFS('Dermal Crosswalk'!$R$5:$R$32,'Dermal Crosswalk'!$A$5:$A$32,'Bridge Table'!$B50,'Dermal Crosswalk'!$C$5:$C$32,'Bridge Table'!$E50),SUMIFS('Dermal Crosswalk'!$M$5:$M$32,'Dermal Crosswalk'!$A$5:$A$32,'Bridge Table'!$B50,'Dermal Crosswalk'!$C$5:$C$32,'Bridge Table'!$E50))),"--") -> 0.0085603439 | P50: =L50*U50 -> 7.2275671 | Q50: =M50*V50 -> 2.8442137 | R50: =N50*W50 -> 20.034242 | S50: =O50/X50 -> 0.0017120688 | U50: 5 | V50: 5 | W50: 5 | X50: 5
B51: 2a | C51: Average Adult Worker | D51: Dermal | E51: 2,500-lb throughput | P51: =CONCATENATE("(PF ",U50,")") -> (PF 5) | Q51: =CONCATENATE("(PF ",V50,")") -> (PF 5) | R51: =CONCATENATE("(PF ",W50,")") -> (PF 5) | S51: =CONCATENATE("(PF ",X50,")") -> (PF 5) | U51: PF | V51: PF | W51: PF | X51: PF
B52: 2a | C52: Average Adult Worker | D52: Dermal | E52: 25,000-lb throughput | I52: Average Adult Worker | J52: Dermal | K52: Central Tendency | L52: =IFERROR(IFERROR(VLOOKUP($D52,$Z$8:$AD$9,2,FALSE),0)/IF($D52="Inhalation",IF($K52="Central Tendency",SUMIFS('Inhalation Exposure'!$N$4:$N$61,'Inhalation Exposure'!$B$4:$B$61,$B52,'Inhalation Exposure'!$D$4:$D$61,$C52,'Inhalation Exposure'!$E$4:$E$61,$E52),SUMIFS('Inhalation Exposure'!$M$4:$M$61,'Inhalation Exposure'!$B$4:$B$61,$B52,'Inhalation Exposure'!$D$4:$D$61,$C52,'Inhalation Exposure'!$E$4:$E$61,$E52)),IF($K52="Central Tendency",SUMIFS('Dermal Crosswalk'!$P$5:$P$32,'Dermal Crosswalk'!$A$5:$A$32,'Bridge Table'!$B52,'Dermal Crosswalk'!$C$5:$C$32,'Bridge Table'!$E52),SUMIFS('Dermal Crosswalk'!$K$5:$K$32,'Dermal Crosswalk'!$A$5:$A$32,'Bridge Table'!$B52,'Dermal Crosswalk'!$C$5:$C$32,'Bridge Table'!$E52))),"--") -> 4.3365403 | M52: =IFERROR(IFERROR(VLOOKUP($D52,$Z$8:$AD$9,3,FALSE),0)/IF($D52="Inhalation",IF($K52="Central Tendency",SUMIFS('Inhalation Exposure'!$AB$4:$AB$61,'Inhalation Exposure'!$B$4:$B$61,$B52,'Inhalation Exposure'!$D$4:$D$61,$C52,'Inhalation Exposure'!$E$4:$E$61,$E52),SUMIFS('Inhalation Exposure'!$AA$4:$AA$61,'Inhalation Exposure'!$B$4:$B$61,$B52,'Inhalation Exposure'!$D$4:$D$61,$C52,'Inhalation Exposure'!$E$4:$E$61,$E52)),IF($K52="Central Tendency",SUMIFS('Dermal Crosswalk'!$S$5:$S$32,'Dermal Crosswalk'!$A$5:$A$32,'Bridge Table'!$B52,'Dermal Crosswalk'!$C$5:$C$32,'Bridge Table'!$E52),SUMIFS('Dermal Crosswalk'!$N$5:$N$32,'Dermal Crosswalk'!$A$5:$A$32,'Bridge Table'!$B52,'Dermal Crosswalk'!$C$5:$C$32,'Bridge Table'!$E52))),"--") -> 1.7065282 | N52: =IFERROR(IFERROR(VLOOKUP($D52,$Z$8:$AD$9,4,FALSE),0)/IF($D52="Inhalation",IF($K52="Central Tendency",SUMIFS('Inhalation Exposure'!$R$4:$R$61,'Inhalation Exposure'!$B$4:$B$61,$B52,'Inhalation Exposure'!$D$4:$D$61,$C52,'Inhalation Exposure'!$E$4:$E$61,$E52),SUMIFS('Inhalation Exposure'!$Q$4:$Q$61,'Inhalation Exposure'!$B$4:$B$61,$B52,'Inhalation Exposure'!$D$4:$D$61,$C52,'Inhalation Exposure'!$E$4:$E$61,$E52)),IF($K52="Central Tendency",SUMIFS('Dermal Crosswalk'!$Q$5:$Q$32,'Dermal Crosswalk'!$A$5:$A$32,'Bridge Table'!$B52,'Dermal Crosswalk'!$C$5:$C$32,'Bridge Table'!$E52),SUMIFS('Dermal Crosswalk'!$L$5:$L$32,'Dermal Crosswalk'!$A$5:$A$32,'Bridge Table'!$B52,'Dermal Crosswalk'!$C$5:$C$32,'Bridge Table'!$E52))),"--") -> 8.0136968 | O52: =IFERROR(IFERROR(VLOOKUP($D52,$Z$8:$AD$9,5,FALSE),0)*IF($D52="Inhalation",IF($K52="Central Tendency",SUMIFS('Inhalation Exposure'!$V$4:$V$61,'Inhalation Exposure'!$B$4:$B$61,$B52,'Inhalation Exposure'!$D$4:$D$61,$C52,'Inhalation Exposure'!$E$4:$E$61,$E52),SUMIFS('Inhalation Exposure'!$U$4:$U$61,'Inhalation Exposure'!$B$4:$B$61,$B52,'Inhalation Exposure'!$D$4:$D$61,$C52,'Inhalation Exposure'!$E$4:$E$61,$E52)),IF($K52="Central Tendency",SUMIFS('Dermal Crosswalk'!$R$5:$R$32,'Dermal Crosswalk'!$A$5:$A$32,'Bridge Table'!$B52,'Dermal Crosswalk'!$C$5:$C$32,'Bridge Table'!$E52),SUMIFS('Dermal Crosswalk'!$M$5:$M$32,'Dermal Crosswalk'!$A$5:$A$32,'Bridge Table'!$B52,'Dermal Crosswalk'!$C$5:$C$32,'Bridge Table'!$E52))),"--") -> 0.0033171333 | P52: =L52*U52 -> 21.682701 | Q52: =M52*V52 -> 8.532641 | R52: =N52*W52 -> 40.068484 | S52: =O52/X52 -> 0.00066342665 | U52: 5 | V52: 5 | W52: 5 | X52: 5
B53: 2a | C53: Average Adult Worker | D53: Dermal | E53: 25,000-lb throughput | P53: =CONCATENATE("(PF ",U52,")") -> (PF 5) | Q53: =CONCATENATE("(PF ",V52,")") -> (PF 5) | R53: =CONCATENATE("(PF ",W52,")") -> (PF 5) | S53: =CONCATENATE("(PF ",X52,")") -> (PF 5) | U53: PF | V53: PF | W53: PF | X53: PF
B54: 2a | C54: Average Adult Worker | D54: Dermal | E54: 25,000-lb throughput | K54: High-End | L54: =IFERROR(IFERROR(VLOOKUP($D54,$Z$8:$AD$9,2,FALSE),0)/IF($D54="Inhalation",IF($K54="Central Tendency",SUMIFS('Inhalation Exposure'!$N$4:$N$61,'Inhalation Exposure'!$B$4:$B$61,$B54,'Inhalation Exposure'!$D$4:$D$61,$C54,'Inhalation Exposure'!$E$4:$E$61,$E54),SUMIFS('Inhalation Exposure'!$M$4:$M$61,'Inhalation Exposure'!$B$4:$B$61,$B54,'Inhalation Exposure'!$D$4:$D$61,$C54,'Inhalation Exposure'!$E$4:$E$61,$E54)),IF($K54="Central Tendency",SUMIFS('Dermal Crosswalk'!$P$5:$P$32,'Dermal Crosswalk'!$A$5:$A$32,'Bridge Table'!$B54,'Dermal Crosswalk'!$C$5:$C$32,'Bridge Table'!$E54),SUMIFS('Dermal Crosswalk'!$K$5:$K$32,'Dermal Crosswalk'!$A$5:$A$32,'Bridge Table'!$B54,'Dermal Crosswalk'!$C$5:$C$32,'Bridge Table'!$E54))),"--") -> 1.4455134 | M54: =IFERROR(IFERROR(VLOOKUP($D54,$Z$8:$AD$9,3,FALSE),0)/IF($D54="Inhalation",IF($K54="Central Tendency",SUMIFS('Inhalation Exposure'!$AB$4:$AB$61,'Inhalation Exposure'!$B$4:$B$61,$B54,'Inhalation Exposure'!$D$4:$D$61,$C54,'Inhalation Exposure'!$E$4:$E$61,$E54),SUMIFS('Inhalation Exposure'!$AA$4:$AA$61,'Inhalation Exposure'!$B$4:$B$61,$B54,'Inhalation Exposure'!$D$4:$D$61,$C54,'Inhalation Exposure'!$E$4:$E$61,$E54)),IF($K54="Central Tendency",SUMIFS('Dermal Crosswalk'!$S$5:$S$32,'Dermal Crosswalk'!$A$5:$A$32,'Bridge Table'!$B54,'Dermal Crosswalk'!$C$5:$C$32,'Bridge Table'!$E54),SUMIFS('Dermal Crosswalk'!$N$5:$N$32,'Dermal Crosswalk'!$A$5:$A$32,'Bridge Table'!$B54,'Dermal Crosswalk'!$C$5:$C$32,'Bridge Table'!$E54))),"--") -> 0.56884273 | N54: =IFERROR(IFERROR(VLOOKUP($D54,$Z$8:$AD$9,4,FALSE),0)/IF($D54="Inhalation",IF($K54="Central Tendency",SUMIFS('Inhalation Exposure'!$R$4:$R$61,'Inhalation Exposure'!$B$4:$B$61,$B54,'Inhalation Exposure'!$D$4:$D$61,$C54,'Inhalation Exposure'!$E$4:$E$61,$E54),SUMIFS('Inhalation Exposure'!$Q$4:$Q$61,'Inhalation Exposure'!$B$4:$B$61,$B54,'Inhalation Exposure'!$D$4:$D$61,$C54,'Inhalation Exposure'!$E$4:$E$61,$E54)),IF($K54="Central Tendency",SUMIFS('Dermal Crosswalk'!$Q$5:$Q$32,'Dermal Crosswalk'!$A$5:$A$32,'Bridge Table'!$B54,'Dermal Crosswalk'!$C$5:$C$32,'Bridge Table'!$E54),SUMIFS('Dermal Crosswalk'!$L$5:$L$32,'Dermal Crosswalk'!$A$5:$A$32,'Bridge Table'!$B54,'Dermal Crosswalk'!$C$5:$C$32,'Bridge Table'!$E54))),"--") -> 0.60904095 | O54: =IFERROR(IFERROR(VLOOKUP($D54,$Z$8:$AD$9,5,FALSE),0)*IF($D54="Inhalation",IF($K54="Central Tendency",SUMIFS('Inhalation Exposure'!$V$4:$V$61,'Inhalation Exposure'!$B$4:$B$61,$B54,'Inhalation Exposure'!$D$4:$D$61,$C54,'Inhalation Exposure'!$E$4:$E$61,$E54),SUMIFS('Inhalation Exposure'!$U$4:$U$61,'Inhalation Exposure'!$B$4:$B$61,$B54,'Inhalation Exposure'!$D$4:$D$61,$C54,'Inhalation Exposure'!$E$4:$E$61,$E54)),IF($K54="Central Tendency",SUMIFS('Dermal Crosswalk'!$R$5:$R$32,'Dermal Crosswalk'!$A$5:$A$32,'Bridge Table'!$B54,'Dermal Crosswalk'!$C$5:$C$32,'Bridge Table'!$E54),SUMIFS('Dermal Crosswalk'!$M$5:$M$32,'Dermal Crosswalk'!$A$5:$A$32,'Bridge Table'!$B54,'Dermal Crosswalk'!$C$5:$C$32,'Bridge Table'!$E54))),"--") -> 0.056318052 | P54: =L54*U54 -> 7.2275671 | Q54: =M54*V54 -> 2.8442137 | R54: =N54*W54 -> 3.0452048 | S54: =O54/X54 -> 0.01126361 | U54: 5 | V54: 5 | W54: 5 | X54: 5
B55: 2a | C55: Average Adult Worker | D55: Dermal | E55: 25,000-lb throughput | P55: =CONCATENATE("(PF ",U54,")") -> (PF 5) | Q55: =CONCATENATE("(PF ",V54,")") -> (PF 5) | R55: =CONCATENATE("(PF ",W54,")") -> (PF 5) | S55: =CONCATENATE("(PF ",X54,")") -> (PF 5) | U55: PF | V55: PF | W55: PF | X55: PF
B56: 2b | C56: Average Adult Worker | D56: Inhalation | E56: 2,500-lb throughput | H56: Processing - Incorporation - Paints & Coatings - 2-part reactive coatings | I56: Average Adult Worker | J56: Inhalation 8-hr TWA | K56: Central Tendency | L56: =IFERROR(IFERROR(VLOOKUP($D56,$Z$8:$AD$9,2,FALSE),0)/IF($D56="Inhalation",IF($K56="Central Tendency",SUMIFS('Inhalation Exposure'!$N$4:$N$61,'Inhalation Exposure'!$B$4:$B$61,$B56,'Inhalation Exposure'!$D$4:$D$61,$C56,'Inhalation Exposure'!$E$4:$E$61,$E56),SUMIFS('Inhalation Exposure'!$M$4:$M$61,'Inhalation Exposure'!$B$4:$B$61,$B56,'Inhalation Exposure'!$D$4:$D$61,$C56,'Inhalation Exposure'!$E$4:$E$61,$E56)),IF($K56="Central Tendency",SUMIFS('Dermal Crosswalk'!$P$5:$P$32,'Dermal Crosswalk'!$A$5:$A$32,'Bridge Table'!$B56,'Dermal Crosswalk'!$C$5:$C$32,'Bridge Table'!$E56),SUMIFS('Dermal Crosswalk'!$K$5:$K$32,'Dermal Crosswalk'!$A$5:$A$32,'Bridge Table'!$B56,'Dermal Crosswalk'!$C$5:$C$32,'Bridge Table'!$E56))),"--") -> 791.10706 | M56: =IFERROR(IFERROR(VLOOKUP($D56,$Z$8:$AD$9,3,FALSE),0)/IF($D56="Inhalation",IF($K56="Central Tendency",SUMIFS('Inhalation Exposure'!$AB$4:$AB$61,'Inhalation Exposure'!$B$4:$B$61,$B56,'Inhalation Exposure'!$D$4:$D$61,$C56,'Inhalation Exposure'!$E$4:$E$61,$E56),SUMIFS('Inhalation Exposure'!$AA$4:$AA$61,'Inhalation Exposure'!$B$4:$B$61,$B56,'Inhalation Exposure'!$D$4:$D$61,$C56,'Inhalation Exposure'!$E$4:$E$61,$E56)),IF($K56="Central Tendency",SUMIFS('Dermal Crosswalk'!$S$5:$S$32,'Dermal Crosswalk'!$A$5:$A$32,'Bridge Table'!$B56,'Dermal Crosswalk'!$C$5:$C$32,'Bridge Table'!$E56),SUMIFS('Dermal Crosswalk'!$N$5:$N$32,'Dermal Crosswalk'!$A$5:$A$32,'Bridge Table'!$B56,'Dermal Crosswalk'!$C$5:$C$32,'Bridge Table'!$E56))),"--") -> 6497.1542 | N56: =IFERROR(IFERROR(VLOOKUP($D56,$Z$8:$AD$9,4,FALSE),0)/IF($D56="Inhalation",IF($K56="Central Tendency",SUMIFS('Inhalation Exposure'!$R$4:$R$61,'Inhalation Exposure'!$B$4:$B$61,$B56,'Inhalation Exposure'!$D$4:$D$61,$C56,'Inhalation Exposure'!$E$4:$E$61,$E56),SUMIFS('Inhalation Exposure'!$Q$4:$Q$61,'Inhalation Exposure'!$B$4:$B$61,$B56,'Inhalation Exposure'!$D$4:$D$61,$C56,'Inhalation Exposure'!$E$4:$E$61,$E56)),IF($K56="Central Tendency",SUMIFS('Dermal Crosswalk'!$Q$5:$Q$32,'Dermal Crosswalk'!$A$5:$A$32,'Bridge Table'!$B56,'Dermal Crosswalk'!$C$5:$C$32,'Bridge Table'!$E56),SUMIFS('Dermal Crosswalk'!$L$5:$L$32,'Dermal Crosswalk'!$A$5:$A$32,'Bridge Table'!$B56,'Dermal Crosswalk'!$C$5:$C$32,'Bridge Table'!$E56))),"--") -> 79048.709 | O56: =IFERROR(IFERROR(VLOOKUP($D56,$Z$8:$AD$9,5,FALSE),0)*IF($D56="Inhalation",IF($K56="Central Tendency",SUMIFS('Inhalation Exposure'!$V$4:$V$61,'Inhalation Exposure'!$B$4:$B$61,$B56,'Inhalation Exposure'!$D$4:$D$61,$C56,'Inhalation Exposure'!$E$4:$E$61,$E56),SUMIFS('Inhalation Exposure'!$U$4:$U$61,'Inhalation Exposure'!$B$4:$B$61,$B56,'Inhalation Exposure'!$D$4:$D$61,$C56,'Inhalation Exposure'!$E$4:$E$61,$E56)),IF($K56="Central Tendency",SUMIFS('Dermal Crosswalk'!$R$5:$R$32,'Dermal Crosswalk'!$A$5:$A$32,'Bridge Table'!$B56,'Dermal Crosswalk'!$C$5:$C$32,'Bridge Table'!$E56),SUMIFS('Dermal Crosswalk'!$M$5:$M$32,'Dermal Crosswalk'!$A$5:$A$32,'Bridge Table'!$B56,'Dermal Crosswalk'!$C$5:$C$32,'Bridge Table'!$E56))),"--") -> 3.2115879e-07 | P56: =IFERROR(L56*U56,"Not Assessed") -> 7911.0706 | Q56: =IFERROR(M56*V56,"Not Assessed") -> 64971.542 | R56: =IFERROR(N56*W56,"Not Assessed") -> 790487.09 | S56: =IFERROR(O56/X56, "Not Assessed") -> 3.2115879e-08 | U56: 10 | V56: 10 | W56: 10 | X56: 10
B57: 2b | C57: Average Adult Worker | D57: Inhalation | E57: 2,500-lb throughput | P57: =CONCATENATE("(APF ",U56,")") -> (APF 10) | Q57: =CONCATENATE("(APF ",V56,")") -> (APF 10) | R57: =CONCATENATE("(APF ",W56,")") -> (APF 10) | S57: =CONCATENATE("(APF ",X56,")") -> (APF 10) | U57: APF | V57: APF | W57: APF | X57: APF
B58: 2b | C58: Average Adult Worker | D58: Inhalation | E58: 2,500-lb throughput | K58: High-End | L58: =IFERROR(IFERROR(VLOOKUP($D58,$Z$8:$AD$9,2,FALSE),0)/IF($D58="Inhalation",IF($K58="Central Tendency",SUMIFS('Inhalation Exposure'!$N$4:$N$61,'Inhalation Exposure'!$B$4:$B$61,$B58,'Inhalation Exposure'!$D$4:$D$61,$C58,'Inhalation Exposure'!$E$4:$E$61,$E58),SUMIFS('Inhalation Exposure'!$M$4:$M$61,'Inhalation Exposure'!$B$4:$B$61,$B58,'Inhalation Exposure'!$D$4:$D$61,$C58,'Inhalation Exposure'!$E$4:$E$61,$E58)),IF($K58="Central Tendency",SUMIFS('Dermal Crosswalk'!$P$5:$P$32,'Dermal Crosswalk'!$A$5:$A$32,'Bridge Table'!$B58,'Dermal Crosswalk'!$C$5:$C$32,'Bridge Table'!$E58),SUMIFS('Dermal Crosswalk'!$K$5:$K$32,'Dermal Crosswalk'!$A$5:$A$32,'Bridge Table'!$B58,'Dermal Crosswalk'!$C$5:$C$32,'Bridge Table'!$E58))),"--") -> 188.32368 | M58: =IFERROR(IFERROR(VLOOKUP($D58,$Z$8:$AD$9,3,FALSE),0)/IF($D58="Inhalation",IF($K58="Central Tendency",SUMIFS('Inhalation Exposure'!$AB$4:$AB$61,'Inhalation Exposure'!$B$4:$B$61,$B58,'Inhalation Exposure'!$D$4:$D$61,$C58,'Inhalation Exposure'!$E$4:$E$61,$E58),SUMIFS('Inhalation Exposure'!$AA$4:$AA$61,'Inhalation Exposure'!$B$4:$B$61,$B58,'Inhalation Exposure'!$D$4:$D$61,$C58,'Inhalation Exposure'!$E$4:$E$61,$E58)),IF($K58="Central Tendency",SUMIFS('Dermal Crosswalk'!$S$5:$S$32,'Dermal Crosswalk'!$A$5:$A$32,'Bridge Table'!$B58,'Dermal Crosswalk'!$C$5:$C$32,'Bridge Table'!$E58),SUMIFS('Dermal Crosswalk'!$N$5:$N$32,'Dermal Crosswalk'!$A$5:$A$32,'Bridge Table'!$B58,'Dermal Crosswalk'!$C$5:$C$32,'Bridge Table'!$E58))),"--") -> 1556.939 | N58: =IFERROR(IFERROR(VLOOKUP($D58,$Z$8:$AD$9,4,FALSE),0)/IF($D58="Inhalation",IF($K58="Central Tendency",SUMIFS('Inhalation Exposure'!$R$4:$R$61,'Inhalation Exposure'!$B$4:$B$61,$B58,'Inhalation Exposure'!$D$4:$D$61,$C58,'Inhalation Exposure'!$E$4:$E$61,$E58),SUMIFS('Inhalation Exposure'!$Q$4:$Q$61,'Inhalation Exposure'!$B$4:$B$61,$B58,'Inhalation Exposure'!$D$4:$D$61,$C58,'Inhalation Exposure'!$E$4:$E$61,$E58)),IF($K58="Central Tendency",SUMIFS('Dermal Crosswalk'!$Q$5:$Q$32,'Dermal Crosswalk'!$A$5:$A$32,'Bridge Table'!$B58,'Dermal Crosswalk'!$C$5:$C$32,'Bridge Table'!$E58),SUMIFS('Dermal Crosswalk'!$L$5:$L$32,'Dermal Crosswalk'!$A$5:$A$32,'Bridge Table'!$B58,'Dermal Crosswalk'!$C$5:$C$32,'Bridge Table'!$E58))),"--") -> 18942.758 | O58: =IFERROR(IFERROR(VLOOKUP($D58,$Z$8:$AD$9,5,FALSE),0)*IF($D58="Inhalation",IF($K58="Central Tendency",SUMIFS('Inhalation Exposure'!$V$4:$V$61,'Inhalation Exposure'!$B$4:$B$61,$B58,'Inhalation Exposure'!$D$4:$D$61,$C58,'Inhalation Exposure'!$E$4:$E$61,$E58),SUMIFS('Inhalation Exposure'!$U$4:$U$61,'Inhalation Exposure'!$B$4:$B$61,$B58,'Inhalation Exposure'!$D$4:$D$61,$C58,'Inhalation Exposure'!$E$4:$E$61,$E58)),IF($K58="Central Tendency",SUMIFS('Dermal Crosswalk'!$R$5:$R$32,'Dermal Crosswalk'!$A$5:$A$32,'Bridge Table'!$B58,'Dermal Crosswalk'!$C$5:$C$32,'Bridge Table'!$E58),SUMIFS('Dermal Crosswalk'!$M$5:$M$32,'Dermal Crosswalk'!$A$5:$A$32,'Bridge Table'!$B58,'Dermal Crosswalk'!$C$5:$C$32,'Bridge Table'!$E58))),"--") -> 1.4121038e-06 | P58: =IFERROR(L58*U58,"Not Assessed") -> 1883.2368 | Q58: =IFERROR(M58*V58,"Not Assessed") -> 15569.39 | R58: =IFERROR(N58*W58,"Not Assessed") -> 189427.58 | S58: =IFERROR(O58/X58, "Not Assessed") -> 1.4121038e-07 | U58: 10 | V58: 10 | W58: 10 | X58: 10
B59: 2b | C59: Average Adult Worker | D59: Inhalation | E59: 2,500-lb throughput | P59: =CONCATENATE("(APF ",U58,")") -> (APF 10) | Q59: =CONCATENATE("(APF ",V58,")") -> (APF 10) | R59: =CONCATENATE("(APF ",W58,")") -> (APF 10) | S59: =CONCATENATE("(APF ",X58,")") -> (APF 10) | U59: APF | V59: APF | W59: APF | X59: APF
B60: 2b | C60: Average Adult Worker | D60: Inhalation | E60: 25,000-lb throughput | I60: Average Adult Worker | J60: Inhalation 8-hr TWA | K60: Central Tendency | L60: =IFERROR(IFERROR(VLOOKUP($D60,$Z$8:$AD$9,2,FALSE),0)/IF($D60="Inhalation",IF($K60="Central Tendency",SUMIFS('Inhalation Exposure'!$N$4:$N$61,'Inhalation Exposure'!$B$4:$B$61,$B60,'Inhalation Exposure'!$D$4:$D$61,$C60,'Inhalation Exposure'!$E$4:$E$61,$E60),SUMIFS('Inhalation Exposure'!$M$4:$M$61,'Inhalation Exposure'!$B$4:$B$61,$B60,'Inhalation Exposure'!$D$4:$D$61,$C60,'Inhalation Exposure'!$E$4:$E$61,$E60)),IF($K60="Central Tendency",SUMIFS('Dermal Crosswalk'!$P$5:$P$32,'Dermal Crosswalk'!$A$5:$A$32,'Bridge Table'!$B60,'Dermal Crosswalk'!$C$5:$C$32,'Bridge Table'!$E60),SUMIFS('Dermal Crosswalk'!$K$5:$K$32,'Dermal Crosswalk'!$A$5:$A$32,'Bridge Table'!$B60,'Dermal Crosswalk'!$C$5:$C$32,'Bridge Table'!$E60))),"--") -> 601.74542 | M60: =IFERROR(IFERROR(VLOOKUP($D60,$Z$8:$AD$9,3,FALSE),0)/IF($D60="Inhalation",IF($K60="Central Tendency",SUMIFS('Inhalation Exposure'!$AB$4:$AB$61,'Inhalation Exposure'!$B$4:$B$61,$B60,'Inhalation Exposure'!$D$4:$D$61,$C60,'Inhalation Exposure'!$E$4:$E$61,$E60),SUMIFS('Inhalation Exposure'!$AA$4:$AA$61,'Inhalation Exposure'!$B$4:$B$61,$B60,'Inhalation Exposure'!$D$4:$D$61,$C60,'Inhalation Exposure'!$E$4:$E$61,$E60)),IF($K60="Central Tendency",SUMIFS('Dermal Crosswalk'!$S$5:$S$32,'Dermal Crosswalk'!$A$5:$A$32,'Bridge Table'!$B60,'Dermal Crosswalk'!$C$5:$C$32,'Bridge Table'!$E60),SUMIFS('Dermal Crosswalk'!$N$5:$N$32,'Dermal Crosswalk'!$A$5:$A$32,'Bridge Table'!$B60,'Dermal Crosswalk'!$C$5:$C$32,'Bridge Table'!$E60))),"--") -> 1220.4492 | N60: =IFERROR(IFERROR(VLOOKUP($D60,$Z$8:$AD$9,4,FALSE),0)/IF($D60="Inhalation",IF($K60="Central Tendency",SUMIFS('Inhalation Exposure'!$R$4:$R$61,'Inhalation Exposure'!$B$4:$B$61,$B60,'Inhalation Exposure'!$D$4:$D$61,$C60,'Inhalation Exposure'!$E$4:$E$61,$E60),SUMIFS('Inhalation Exposure'!$Q$4:$Q$61,'Inhalation Exposure'!$B$4:$B$61,$B60,'Inhalation Exposure'!$D$4:$D$61,$C60,'Inhalation Exposure'!$E$4:$E$61,$E60)),IF($K60="Central Tendency",SUMIFS('Dermal Crosswalk'!$Q$5:$Q$32,'Dermal Crosswalk'!$A$5:$A$32,'Bridge Table'!$B60,'Dermal Crosswalk'!$C$5:$C$32,'Bridge Table'!$E60),SUMIFS('Dermal Crosswalk'!$L$5:$L$32,'Dermal Crosswalk'!$A$5:$A$32,'Bridge Table'!$B60,'Dermal Crosswalk'!$C$5:$C$32,'Bridge Table'!$E60))),"--") -> 14839.886 | O60: =IFERROR(IFERROR(VLOOKUP($D60,$Z$8:$AD$9,5,FALSE),0)*IF($D60="Inhalation",IF($K60="Central Tendency",SUMIFS('Inhalation Exposure'!$V$4:$V$61,'Inhalation Exposure'!$B$4:$B$61,$B60,'Inhalation Exposure'!$D$4:$D$61,$C60,'Inhalation Exposure'!$E$4:$E$61,$E60),SUMIFS('Inhalation Exposure'!$U$4:$U$61,'Inhalation Exposure'!$B$4:$B$61,$B60,'Inhalation Exposure'!$D$4:$D$61,$C60,'Inhalation Exposure'!$E$4:$E$61,$E60)),IF($K60="Central Tendency",SUMIFS('Dermal Crosswalk'!$R$5:$R$32,'Dermal Crosswalk'!$A$5:$A$32,'Bridge Table'!$B60,'Dermal Crosswalk'!$C$5:$C$32,'Bridge Table'!$E60),SUMIFS('Dermal Crosswalk'!$M$5:$M$32,'Dermal Crosswalk'!$A$5:$A$32,'Bridge Table'!$B60,'Dermal Crosswalk'!$C$5:$C$32,'Bridge Table'!$E60))),"--") -> 1.7107669e-06 | P60: =IFERROR(L60*U60,"Not Assessed") -> 6017.4542 | Q60: =IFERROR(M60*V60,"Not Assessed") -> 12204.492 | R60: =IFERROR(N60*W60,"Not Assessed") -> 148398.86 | S60: =IFERROR(O60/X60, "Not Assessed") -> 1.7107669e-07 | U60: 10 | V60: 10 | W60: 10 | X60: 10
B61: 2b | C61: Average Adult Worker | D61: Inhalation | E61: 25,000-lb throughput | P61: =CONCATENATE("(APF ",U60,")") -> (APF 10) | Q61: =CONCATENATE("(APF ",V60,")") -> (APF 10) | R61: =CONCATENATE("(APF ",W60,")") -> (APF 10) | S61: =CONCATENATE("(APF ",X60,")") -> (APF 10) | U61: APF | V61: APF | W61: APF | X61: APF
B62: 2b | C62: Average Adult Worker | D62: Inhalation | E62: 25,000-lb throughput | K62: High-End | L62: =IFERROR(IFERROR(VLOOKUP($D62,$Z$8:$AD$9,2,FALSE),0)/IF($D62="Inhalation",IF($K62="Central Tendency",SUMIFS('Inhalation Exposure'!$N$4:$N$61,'Inhalation Exposure'!$B$4:$B$61,$B62,'Inhalation Exposure'!$D$4:$D$61,$C62,'Inhalation Exposure'!$E$4:$E$61,$E62),SUMIFS('Inhalation Exposure'!$M$4:$M$61,'Inhalation Exposure'!$B$4:$B$61,$B62,'Inhalation Exposure'!$D$4:$D$61,$C62,'Inhalation Exposure'!$E$4:$E$61,$E62)),IF($K62="Central Tendency",SUMIFS('Dermal Crosswalk'!$P$5:$P$32,'Dermal Crosswalk'!$A$5:$A$32,'Bridge Table'!$B62,'Dermal Crosswalk'!$C$5:$C$32,'Bridge Table'!$E62),SUMIFS('Dermal Crosswalk'!$K$5:$K$32,'Dermal Crosswalk'!$A$5:$A$32,'Bridge Table'!$B62,'Dermal Crosswalk'!$C$5:$C$32,'Bridge Table'!$E62))),"--") -> 146.3426 | M62: =IFERROR(IFERROR(VLOOKUP($D62,$Z$8:$AD$9,3,FALSE),0)/IF($D62="Inhalation",IF($K62="Central Tendency",SUMIFS('Inhalation Exposure'!$AB$4:$AB$61,'Inhalation Exposure'!$B$4:$B$61,$B62,'Inhalation Exposure'!$D$4:$D$61,$C62,'Inhalation Exposure'!$E$4:$E$61,$E62),SUMIFS('Inhalation Exposure'!$AA$4:$AA$61,'Inhalation Exposure'!$B$4:$B$61,$B62,'Inhalation Exposure'!$D$4:$D$61,$C62,'Inhalation Exposure'!$E$4:$E$61,$E62)),IF($K62="Central Tendency",SUMIFS('Dermal Crosswalk'!$S$5:$S$32,'Dermal Crosswalk'!$A$5:$A$32,'Bridge Table'!$B62,'Dermal Crosswalk'!$C$5:$C$32,'Bridge Table'!$E62),SUMIFS('Dermal Crosswalk'!$N$5:$N$32,'Dermal Crosswalk'!$A$5:$A$32,'Bridge Table'!$B62,'Dermal Crosswalk'!$C$5:$C$32,'Bridge Table'!$E62))),"--") -> 292.79013 | N62: =IFERROR(IFERROR(VLOOKUP($D62,$Z$8:$AD$9,4,FALSE),0)/IF($D62="Inhalation",IF($K62="Central Tendency",SUMIFS('Inhalation Exposure'!$R$4:$R$61,'Inhalation Exposure'!$B$4:$B$61,$B62,'Inhalation Exposure'!$D$4:$D$61,$C62,'Inhalation Exposure'!$E$4:$E$61,$E62),SUMIFS('Inhalation Exposure'!$Q$4:$Q$61,'Inhalation Exposure'!$B$4:$B$61,$B62,'Inhalation Exposure'!$D$4:$D$61,$C62,'Inhalation Exposure'!$E$4:$E$61,$E62)),IF($K62="Central Tendency",SUMIFS('Dermal Crosswalk'!$Q$5:$Q$32,'Dermal Crosswalk'!$A$5:$A$32,'Bridge Table'!$B62,'Dermal Crosswalk'!$C$5:$C$32,'Bridge Table'!$E62),SUMIFS('Dermal Crosswalk'!$L$5:$L$32,'Dermal Crosswalk'!$A$5:$A$32,'Bridge Table'!$B62,'Dermal Crosswalk'!$C$5:$C$32,'Bridge Table'!$E62))),"--") -> 3552.9131 | O62: =IFERROR(IFERROR(VLOOKUP($D62,$Z$8:$AD$9,5,FALSE),0)*IF($D62="Inhalation",IF($K62="Central Tendency",SUMIFS('Inhalation Exposure'!$V$4:$V$61,'Inhalation Exposure'!$B$4:$B$61,$B62,'Inhalation Exposure'!$D$4:$D$61,$C62,'Inhalation Exposure'!$E$4:$E$61,$E62),SUMIFS('Inhalation Exposure'!$U$4:$U$61,'Inhalation Exposure'!$B$4:$B$61,$B62,'Inhalation Exposure'!$D$4:$D$61,$C62,'Inhalation Exposure'!$E$4:$E$61,$E62)),IF($K62="Central Tendency",SUMIFS('Dermal Crosswalk'!$R$5:$R$32,'Dermal Crosswalk'!$A$5:$A$32,'Bridge Table'!$B62,'Dermal Crosswalk'!$C$5:$C$32,'Bridge Table'!$E62),SUMIFS('Dermal Crosswalk'!$M$5:$M$32,'Dermal Crosswalk'!$A$5:$A$32,'Bridge Table'!$B62,'Dermal Crosswalk'!$C$5:$C$32,'Bridge Table'!$E62))),"--") -> 7.5029377e-06 | P62: =IFERROR(L62*U62,"Not Assessed") -> 1463.426 | Q62: =IFERROR(M62*V62,"Not Assessed") -> 2927.9013 | R62: =IFERROR(N62*W62,"Not Assessed") -> 35529.131 | S62: =IFERROR(O62/X62, "Not Assessed") -> 7.5029377e-07 | U62: 10 | V62: 10 | W62: 10 | X62: 10
B63: 2b | C63: Average Adult Worker | D63: Inhalation | E63: 25,000-lb throughput | P63: =CONCATENATE("(APF ",U62,")") -> (APF 10) | Q63: =CONCATENATE("(APF ",V62,")") -> (APF 10) | R63: =CONCATENATE("(APF ",W62,")") -> (APF 10) | S63: =CONCATENATE("(APF ",X62,")") -> (APF 10) | U63: APF | V63: APF | W63: APF | X63: APF
B64: 2b | C64: ONU | D64: Inhalation | E64: 2,500-lb throughput | I64: ONU | J64: Inhalation 8-hr TWA | K64: Central Tendency | L64: =IFERROR(IFERROR(VLOOKUP($D64,$Z$8:$AD$9,2,FALSE),0)/IF($D64="Inhalation",IF($K64="Central Tendency",SUMIFS('Inhalation Exposure'!$L$4:$L$60,'Inhalation Exposure'!$B$4:$B$60,$B64,'Inhalation Exposure'!$D$4:$D$60,$C64,'Inhalation Exposure'!$E$4:$E$60,$E64),SUMIFS('Inhalation Exposure'!$K$4:$K$60,'Inhalation Exposure'!$B$4:$B$60,$B64,'Inhalation Exposure'!$D$4:$D$60,$C64,'Inhalation Exposure'!$E$4:$E$60,$E64)),IF($K64="Central Tendency",SUMIFS('Dermal Crosswalk'!$P$5:$P$32,'Dermal Crosswalk'!$A$5:$A$32,'Bridge Table'!$B64,'Dermal Crosswalk'!$C$5:$C$32,'Bridge Table'!$E64),SUMIFS('Dermal Crosswalk'!$K$5:$K$32,'Dermal Crosswalk'!$A$5:$A$32,'Bridge Table'!$B64,'Dermal Crosswalk'!$C$5:$C$32,'Bridge Table'!$E64))),"--") -> -- | M64: =IFERROR(IFERROR(VLOOKUP($D64,$Z$8:$AD$9,3,FALSE),0)/IF($D64="Inhalation",IF($K64="Central Tendency",SUMIFS('Inhalation Exposure'!$AB$4:$AB$60,'Inhalation Exposure'!$B$4:$B$60,$B64,'Inhalation Exposure'!$D$4:$D$60,$C64,'Inhalation Exposure'!$E$4:$E$60,$E64),SUMIFS('Inhalation Exposure'!$AA$4:$AA$60,'Inhalation Exposure'!$B$4:$B$60,$B64,'Inhalation Exposure'!$D$4:$D$60,$C64,'Inhalation Exposure'!$E$4:$E$60,$E64)),IF($K64="Central Tendency",SUMIFS('Dermal Crosswalk'!$S$5:$S$32,'Dermal Crosswalk'!$A$5:$A$32,'Bridge Table'!$B64,'Dermal Crosswalk'!$C$5:$C$32,'Bridge Table'!$E64),SUMIFS('Dermal Crosswalk'!$N$5:$N$32,'Dermal Crosswalk'!$A$5:$A$32,'Bridge Table'!$B64,'Dermal Crosswalk'!$C$5:$C$32,'Bridge Table'!$E64))),"--") -> -- | N64: =IFERROR(IFERROR(VLOOKUP($D64,$Z$8:$AD$9,4,FALSE),0)/IF($D64="Inhalation",IF($K64="Central Tendency",SUMIFS('Inhalation Exposure'!$R$4:$R$60,'Inhalation Exposure'!$B$4:$B$60,$B64,'Inhalation Exposure'!$D$4:$D$60,$C64,'Inhalation Exposure'!$E$4:$E$60,$E64),SUMIFS('Inhalation Exposure'!$Q$4:$Q$60,'Inhalation Exposure'!$B$4:$B$60,$B64,'Inhalation Exposure'!$D$4:$D$60,$C64,'Inhalation Exposure'!$E$4:$E$60,$E64)),IF($K64="Central Tendency",SUMIFS('Dermal Crosswalk'!$Q$5:$Q$32,'Dermal Crosswalk'!$A$5:$A$32,'Bridge Table'!$B64,'Dermal Crosswalk'!$C$5:$C$32,'Bridge Table'!$E64),SUMIFS('Dermal Crosswalk'!$L$5:$L$32,'Dermal Crosswalk'!$A$5:$A$32,'Bridge Table'!$B64,'Dermal Crosswalk'!$C$5:$C$32,'Bridge Table'!$E64))),"--") -> -- | O64: =IF(IFERROR(VLOOKUP($D64,$Z$8:$AD$9,5,FALSE),0)*IF($D64="Inhalation",IF($K64="Central Tendency",SUMIFS('Inhalation Exposure'!$V$4:$V$60,'Inhalation Exposure'!$B$4:$B$60,$B64,'Inhalation Exposure'!$D$4:$D$60,$C64,'Inhalation Exposure'!$E$4:$E$60,$E64),SUMIFS('Inhalation Exposure'!$U$4:$U$60,'Inhalation Exposure'!$B$4:$B$60,$B64,'Inhalation Exposure'!$D$4:$D$60,$C64,'Inhalation Exposure'!$E$4:$E$60,$E64)),IF($K64="Central Tendency",SUMIFS('Dermal Crosswalk'!$R$5:$R$32,'Dermal Crosswalk'!$A$5:$A$32,'Bridge Table'!$B64,'Dermal Crosswalk'!$C$5:$C$32,'Bridge Table'!$E64),SUMIFS('Dermal Crosswalk'!$M$5:$M$32,'Dermal Crosswalk'!$A$5:$A$32,'Bridge Table'!$B64,'Dermal Crosswalk'!$C$5:$C$32,'Bridge Table'!$E64)))=0,"--",IFERROR(VLOOKUP($D64,$Z$8:$AD$9,5,FALSE),0)*IF($D64="Inhalation",IF($K64="Central Tendency",SUMIFS('Inhalation Exposure'!$V$4:$V$60,'Inhalation Exposure'!$B$4:$B$60,$B64,'Inhalation Exposure'!$D$4:$D$60,$C64,'Inhalation Exposure'!$E$4:$E$60,$E64),SUMIFS('Inhalation Exposure'!$U$4:$U$60,'Inhalation Exposure'!$B$4:$B$60,$B64,'Inhalation Exposure'!$D$4:$D$60,$C64,'Inhalation Exposure'!$E$4:$E$60,$E64)),IF($K64="Central Tendency",SUMIFS('Dermal Crosswalk'!$R$5:$R$32,'Dermal Crosswalk'!$A$5:$A$32,'Bridge Table'!$B64,'Dermal Crosswalk'!$C$5:$C$32,'Bridge Table'!$E64),SUMIFS('Dermal Crosswalk'!$M$5:$M$32,'Dermal Crosswalk'!$A$5:$A$32,'Bridge Table'!$B64,'Dermal Crosswalk'!$C$5:$C$32,'Bridge Table'!$E64)))) -> -- | P64: N/A | Q64: N/A | R64: N/A | S64: N/A | U64: N/A | V64: N/A | W64: N/A | X64: N/A
B65: 2b | C65: ONU | D65: Inhalation | E65: 2,500-lb throughput
B66: 2b | C66: ONU | D66: Inhalation | E66: 2,500-lb throughput | K66: High-End | L66: =IFERROR(IFERROR(VLOOKUP($D66,$Z$8:$AD$9,2,FALSE),0)/IF($D66="Inhalation",IF($K66="Central Tendency",SUMIFS('Inhalation Exposure'!$L$4:$L$60,'Inhalation Exposure'!$B$4:$B$60,$B66,'Inhalation Exposure'!$D$4:$D$60,$C66,'Inhalation Exposure'!$E$4:$E$60,$E66),SUMIFS('Inhalation Exposure'!$K$4:$K$60,'Inhalation Exposure'!$B$4:$B$60,$B66,'Inhalation Exposure'!$D$4:$D$60,$C66,'Inhalation Exposure'!$E$4:$E$60,$E66)),IF($K66="Central Tendency",SUMIFS('Dermal Crosswalk'!$P$5:$P$32,'Dermal Crosswalk'!$A$5:$A$32,'Bridge Table'!$B66,'Dermal Crosswalk'!$C$5:$C$32,'Bridge Table'!$E66),SUMIFS('Dermal Crosswalk'!$K$5:$K$32,'Dermal Crosswalk'!$A$5:$A$32,'Bridge Table'!$B66,'Dermal Crosswalk'!$C$5:$C$32,'Bridge Table'!$E66))),"--") -> -- | M66: =IFERROR(IFERROR(VLOOKUP($D66,$Z$8:$AD$9,3,FALSE),0)/IF($D66="Inhalation",IF($K66="Central Tendency",SUMIFS('Inhalation Exposure'!$AB$4:$AB$60,'Inhalation Exposure'!$B$4:$B$60,$B66,'Inhalation Exposure'!$D$4:$D$60,$C66,'Inhalation Exposure'!$E$4:$E$60,$E66),SUMIFS('Inhalation Exposure'!$AA$4:$AA$60,'Inhalation Exposure'!$B$4:$B$60,$B66,'Inhalation Exposure'!$D$4:$D$60,$C66,'Inhalation Exposure'!$E$4:$E$60,$E66)),IF($K66="Central Tendency",SUMIFS('Dermal Crosswalk'!$S$5:$S$32,'Dermal Crosswalk'!$A$5:$A$32,'Bridge Table'!$B66,'Dermal Crosswalk'!$C$5:$C$32,'Bridge Table'!$E66),SUMIFS('Dermal Crosswalk'!$N$5:$N$32,'Dermal Crosswalk'!$A$5:$A$32,'Bridge Table'!$B66,'Dermal Crosswalk'!$C$5:$C$32,'Bridge Table'!$E66))),"--") -> -- | N66: =IFERROR(IFERROR(VLOOKUP($D66,$Z$8:$AD$9,4,FALSE),0)/IF($D66="Inhalation",IF($K66="Central Tendency",SUMIFS('Inhalation Exposure'!$R$4:$R$60,'Inhalation Exposure'!$B$4:$B$60,$B66,'Inhalation Exposure'!$D$4:$D$60,$C66,'Inhalation Exposure'!$E$4:$E$60,$E66),SUMIFS('Inhalation Exposure'!$Q$4:$Q$60,'Inhalation Exposure'!$B$4:$B$60,$B66,'Inhalation Exposure'!$D$4:$D$60,$C66,'Inhalation Exposure'!$E$4:$E$60,$E66)),IF($K66="Central Tendency",SUMIFS('Dermal Crosswalk'!$Q$5:$Q$32,'Dermal Crosswalk'!$A$5:$A$32,'Bridge Table'!$B66,'Dermal Crosswalk'!$C$5:$C$32,'Bridge Table'!$E66),SUMIFS('Dermal Crosswalk'!$L$5:$L$32,'Dermal Crosswalk'!$A$5:$A$32,'Bridge Table'!$B66,'Dermal Crosswalk'!$C$5:$C$32,'Bridge Table'!$E66))),"--") -> -- | O66: =IF(IFERROR(VLOOKUP($D66,$Z$8:$AD$9,5,FALSE),0)*IF($D66="Inhalation",IF($K66="Central Tendency",SUMIFS('Inhalation Exposure'!$V$4:$V$60,'Inhalation Exposure'!$B$4:$B$60,$B66,'Inhalation Exposure'!$D$4:$D$60,$C66,'Inhalation Exposure'!$E$4:$E$60,$E66),SUMIFS('Inhalation Exposure'!$U$4:$U$60,'Inhalation Exposure'!$B$4:$B$60,$B66,'Inhalation Exposure'!$D$4:$D$60,$C66,'Inhalation Exposure'!$E$4:$E$60,$E66)),IF($K66="Central Tendency",SUMIFS('Dermal Crosswalk'!$R$5:$R$32,'Dermal Crosswalk'!$A$5:$A$32,'Bridge Table'!$B66,'Dermal Crosswalk'!$C$5:$C$32,'Bridge Table'!$E66),SUMIFS('Dermal Crosswalk'!$M$5:$M$32,'Dermal Crosswalk'!$A$5:$A$32,'Bridge Table'!$B66,'Dermal Crosswalk'!$C$5:$C$32,'Bridge Table'!$E66)))=0,"--",IFERROR(VLOOKUP($D66,$Z$8:$AD$9,5,FALSE),0)*IF($D66="Inhalation",IF($K66="Central Tendency",SUMIFS('Inhalation Exposure'!$V$4:$V$60,'Inhalation Exposure'!$B$4:$B$60,$B66,'Inhalation Exposure'!$D$4:$D$60,$C66,'Inhalation Exposure'!$E$4:$E$60,$E66),SUMIFS('Inhalation Exposure'!$U$4:$U$60,'Inhalation Exposure'!$B$4:$B$60,$B66,'Inhalation Exposure'!$D$4:$D$60,$C66,'Inhalation Exposure'!$E$4:$E$60,$E66)),IF($K66="Central Tendency",SUMIFS('Dermal Crosswalk'!$R$5:$R$32,'Dermal Crosswalk'!$A$5:$A$32,'Bridge Table'!$B66,'Dermal Crosswalk'!$C$5:$C$32,'Bridge Table'!$E66),SUMIFS('Dermal Crosswalk'!$M$5:$M$32,'Dermal Crosswalk'!$A$5:$A$32,'Bridge Table'!$B66,'Dermal Crosswalk'!$C$5:$C$32,'Bridge Table'!$E66)))) -> -- | P66: N/A | Q66: N/A | R66: N/A | S66: N/A | U66: N/A | V66: N/A | W66: N/A | X66: N/A
B67: 2b | C67: ONU | D67: Inhalation | E67: 2,500-lb throughput
B68: 2b | C68: ONU | D68: Inhalation | E68: 25,000-lb throughput | I68: ONU | J68: Inhalation 8-hr TWA | K68: Central Tendency | L68: =IFERROR(IFERROR(VLOOKUP($D68,$Z$8:$AD$9,2,FALSE),0)/IF($D68="Inhalation",IF($K68="Central Tendency",SUMIFS('Inhalation Exposure'!$L$4:$L$60,'Inhalation Exposure'!$B$4:$B$60,$B68,'Inhalation Exposure'!$D$4:$D$60,$C68,'Inhalation Exposure'!$E$4:$E$60,$E68),SUMIFS('Inhalation Exposure'!$K$4:$K$60,'Inhalation Exposure'!$B$4:$B$60,$B68,'Inhalation Exposure'!$D$4:$D$60,$C68,'Inhalation Exposure'!$E$4:$E$60,$E68)),IF($K68="Central Tendency",SUMIFS('Dermal Crosswalk'!$P$5:$P$32,'Dermal Crosswalk'!$A$5:$A$32,'Bridge Table'!$B68,'Dermal Crosswalk'!$C$5:$C$32,'Bridge Table'!$E68),SUMIFS('Dermal Crosswalk'!$K$5:$K$32,'Dermal Crosswalk'!$A$5:$A$32,'Bridge Table'!$B68,'Dermal Crosswalk'!$C$5:$C$32,'Bridge Table'!$E68))),"--") -> -- | M68: =IFERROR(IFERROR(VLOOKUP($D68,$Z$8:$AD$9,3,FALSE),0)/IF($D68="Inhalation",IF($K68="Central Tendency",SUMIFS('Inhalation Exposure'!$AB$4:$AB$60,'Inhalation Exposure'!$B$4:$B$60,$B68,'Inhalation Exposure'!$D$4:$D$60,$C68,'Inhalation Exposure'!$E$4:$E$60,$E68),SUMIFS('Inhalation Exposure'!$AA$4:$AA$60,'Inhalation Exposure'!$B$4:$B$60,$B68,'Inhalation Exposure'!$D$4:$D$60,$C68,'Inhalation Exposure'!$E$4:$E$60,$E68)),IF($K68="Central Tendency",SUMIFS('Dermal Crosswalk'!$S$5:$S$32,'Dermal Crosswalk'!$A$5:$A$32,'Bridge Table'!$B68,'Dermal Crosswalk'!$C$5:$C$32,'Bridge Table'!$E68),SUMIFS('Dermal Crosswalk'!$N$5:$N$32,'Dermal Crosswalk'!$A$5:$A$32,'Bridge Table'!$B68,'Dermal Crosswalk'!$C$5:$C$32,'Bridge Table'!$E68))),"--") -> -- | N68: =IFERROR(IFERROR(VLOOKUP($D68,$Z$8:$AD$9,4,FALSE),0)/IF($D68="Inhalation",IF($K68="Central Tendency",SUMIFS('Inhalation Exposure'!$R$4:$R$60,'Inhalation Exposure'!$B$4:$B$60,$B68,'Inhalation Exposure'!$D$4:$D$60,$C68,'Inhalation Exposure'!$E$4:$E$60,$E68),SUMIFS('Inhalation Exposure'!$Q$4:$Q$60,'Inhalation Exposure'!$B$4:$B$60,$B68,'Inhalation Exposure'!$D$4:$D$60,$C68,'Inhalation Exposure'!$E$4:$E$60,$E68)),IF($K68="Central Tendency",SUMIFS('Dermal Crosswalk'!$Q$5:$Q$32,'Dermal Crosswalk'!$A$5:$A$32,'Bridge Table'!$B68,'Dermal Crosswalk'!$C$5:$C$32,'Bridge Table'!$E68),SUMIFS('Dermal Crosswalk'!$L$5:$L$32,'Dermal Crosswalk'!$A$5:$A$32,'Bridge Table'!$B68,'Dermal Crosswalk'!$C$5:$C$32,'Bridge Table'!$E68))),"--") -> -- | O68: =IF(IFERROR(VLOOKUP($D68,$Z$8:$AD$9,5,FALSE),0)*IF($D68="Inhalation",IF($K68="Central Tendency",SUMIFS('Inhalation Exposure'!$V$4:$V$60,'Inhalation Exposure'!$B$4:$B$60,$B68,'Inhalation Exposure'!$D$4:$D$60,$C68,'Inhalation Exposure'!$E$4:$E$60,$E68),SUMIFS('Inhalation Exposure'!$U$4:$U$60,'Inhalation Exposure'!$B$4:$B$60,$B68,'Inhalation Exposure'!$D$4:$D$60,$C68,'Inhalation Exposure'!$E$4:$E$60,$E68)),IF($K68="Central Tendency",SUMIFS('Dermal Crosswalk'!$R$5:$R$32,'Dermal Crosswalk'!$A$5:$A$32,'Bridge Table'!$B68,'Dermal Crosswalk'!$C$5:$C$32,'Bridge Table'!$E68),SUMIFS('Dermal Crosswalk'!$M$5:$M$32,'Dermal Crosswalk'!$A$5:$A$32,'Bridge Table'!$B68,'Dermal Crosswalk'!$C$5:$C$32,'Bridge Table'!$E68)))=0,"--",IFERROR(VLOOKUP($D68,$Z$8:$AD$9,5,FALSE),0)*IF($D68="Inhalation",IF($K68="Central Tendency",SUMIFS('Inhalation Exposure'!$V$4:$V$60,'Inhalation Exposure'!$B$4:$B$60,$B68,'Inhalation Exposure'!$D$4:$D$60,$C68,'Inhalation Exposure'!$E$4:$E$60,$E68),SUMIFS('Inhalation Exposure'!$U$4:$U$60,'Inhalation Exposure'!$B$4:$B$60,$B68,'Inhalation Exposure'!$D$4:$D$60,$C68,'Inhalation Exposure'!$E$4:$E$60,$E68)),IF($K68="Central Tendency",SUMIFS('Dermal Crosswalk'!$R$5:$R$32,'Dermal Crosswalk'!$A$5:$A$32,'Bridge Table'!$B68,'Dermal Crosswalk'!$C$5:$C$32,'Bridge Table'!$E68),SUMIFS('Dermal Crosswalk'!$M$5:$M$32,'Dermal Crosswalk'!$A$5:$A$32,'Bridge Table'!$B68,'Dermal Crosswalk'!$C$5:$C$32,'Bridge Table'!$E68)))) -> -- | P68: N/A | Q68: N/A | R68: N/A | S68: N/A | U68: N/A | V68: N/A | W68: N/A | X68: N/A
B69: 2b | C69: ONU | D69: Inhalation | E69: 25,000-lb throughput
B70: 2b | C70: ONU | D70: Inhalation | E70: 25,000-lb throughput | K70: High-End | L70: =IFERROR(IFERROR(VLOOKUP($D70,$Z$8:$AD$9,2,FALSE),0)/IF($D70="Inhalation",IF($K70="Central Tendency",SUMIFS('Inhalation Exposure'!$L$4:$L$60,'Inhalation Exposure'!$B$4:$B$60,$B70,'Inhalation Exposure'!$D$4:$D$60,$C70,'Inhalation Exposure'!$E$4:$E$60,$E70),SUMIFS('Inhalation Exposure'!$K$4:$K$60,'Inhalation Exposure'!$B$4:$B$60,$B70,'Inhalation Exposure'!$D$4:$D$60,$C70,'Inhalation Exposure'!$E$4:$E$60,$E70)),IF($K70="Central Tendency",SUMIFS('Dermal Crosswalk'!$P$5:$P$32,'Dermal Crosswalk'!$A$5:$A$32,'Bridge Table'!$B70,'Dermal Crosswalk'!$C$5:$C$32,'Bridge Table'!$E70),SUMIFS('Dermal Crosswalk'!$K$5:$K$32,'Dermal Crosswalk'!$A$5:$A$32,'Bridge Table'!$B70,'Dermal Crosswalk'!$C$5:$C$32,'Bridge Table'!$E70))),"--") -> -- | M70: =IFERROR(IFERROR(VLOOKUP($D70,$Z$8:$AD$9,3,FALSE),0)/IF($D70="Inhalation",IF($K70="Central Tendency",SUMIFS('Inhalation Exposure'!$AB$4:$AB$60,'Inhalation Exposure'!$B$4:$B$60,$B70,'Inhalation Exposure'!$D$4:$D$60,$C70,'Inhalation Exposure'!$E$4:$E$60,$E70),SUMIFS('Inhalation Exposure'!$AA$4:$AA$60,'Inhalation Exposure'!$B$4:$B$60,$B70,'Inhalation Exposure'!$D$4:$D$60,$C70,'Inhalation Exposure'!$E$4:$E$60,$E70)),IF($K70="Central Tendency",SUMIFS('Dermal Crosswalk'!$S$5:$S$32,'Dermal Crosswalk'!$A$5:$A$32,'Bridge Table'!$B70,'Dermal Crosswalk'!$C$5:$C$32,'Bridge Table'!$E70),SUMIFS('Dermal Crosswalk'!$N$5:$N$32,'Dermal Crosswalk'!$A$5:$A$32,'Bridge Table'!$B70,'Dermal Crosswalk'!$C$5:$C$32,'Bridge Table'!$E70))),"--") -> -- | N70: =IFERROR(IFERROR(VLOOKUP($D70,$Z$8:$AD$9,4,FALSE),0)/IF($D70="Inhalation",IF($K70="Central Tendency",SUMIFS('Inhalation Exposure'!$R$4:$R$60,'Inhalation Exposure'!$B$4:$B$60,$B70,'Inhalation Exposure'!$D$4:$D$60,$C70,'Inhalation Exposure'!$E$4:$E$60,$E70),SUMIFS('Inhalation Exposure'!$Q$4:$Q$60,'Inhalation Exposure'!$B$4:$B$60,$B70,'Inhalation Exposure'!$D$4:$D$60,$C70,'Inhalation Exposure'!$E$4:$E$60,$E70)),IF($K70="Central Tendency",SUMIFS('Dermal Crosswalk'!$Q$5:$Q$32,'Dermal Crosswalk'!$A$5:$A$32,'Bridge Table'!$B70,'Dermal Crosswalk'!$C$5:$C$32,'Bridge Table'!$E70),SUMIFS('Dermal Crosswalk'!$L$5:$L$32,'Dermal Crosswalk'!$A$5:$A$32,'Bridge Table'!$B70,'Dermal Crosswalk'!$C$5:$C$32,'Bridge Table'!$E70))),"--") -> -- | O70: =IF(IFERROR(VLOOKUP($D70,$Z$8:$AD$9,5,FALSE),0)*IF($D70="Inhalation",IF($K70="Central Tendency",SUMIFS('Inhalation Exposure'!$V$4:$V$60,'Inhalation Exposure'!$B$4:$B$60,$B70,'Inhalation Exposure'!$D$4:$D$60,$C70,'Inhalation Exposure'!$E$4:$E$60,$E70),SUMIFS('Inhalation Exposure'!$U$4:$U$60,'Inhalation Exposure'!$B$4:$B$60,$B70,'Inhalation Exposure'!$D$4:$D$60,$C70,'Inhalation Exposure'!$E$4:$E$60,$E70)),IF($K70="Central Tendency",SUMIFS('Dermal Crosswalk'!$R$5:$R$32,'Dermal Crosswalk'!$A$5:$A$32,'Bridge Table'!$B70,'Dermal Crosswalk'!$C$5:$C$32,'Bridge Table'!$E70),SUMIFS('Dermal Crosswalk'!$M$5:$M$32,'Dermal Crosswalk'!$A$5:$A$32,'Bridge Table'!$B70,'Dermal Crosswalk'!$C$5:$C$32,'Bridge Table'!$E70)))=0,"--",IFERROR(VLOOKUP($D70,$Z$8:$AD$9,5,FALSE),0)*IF($D70="Inhalation",IF($K70="Central Tendency",SUMIFS('Inhalation Exposure'!$V$4:$V$60,'Inhalation Exposure'!$B$4:$B$60,$B70,'Inhalation Exposure'!$D$4:$D$60,$C70,'Inhalation Exposure'!$E$4:$E$60,$E70),SUMIFS('Inhalation Exposure'!$U$4:$U$60,'Inhalation Exposure'!$B$4:$B$60,$B70,'Inhalation Exposure'!$D$4:$D$60,$C70,'Inhalation Exposure'!$E$4:$E$60,$E70)),IF($K70="Central Tendency",SUMIFS('Dermal Crosswalk'!$R$5:$R$32,'Dermal Crosswalk'!$A$5:$A$32,'Bridge Table'!$B70,'Dermal Crosswalk'!$C$5:$C$32,'Bridge Table'!$E70),SUMIFS('Dermal Crosswalk'!$M$5:$M$32,'Dermal Crosswalk'!$A$5:$A$32,'Bridge Table'!$B70,'Dermal Crosswalk'!$C$5:$C$32,'Bridge Table'!$E70)))) -> -- | P70: N/A | Q70: N/A | R70: N/A | S70: N/A | U70: N/A | V70: N/A | W70: N/A | X70: N/A
B71: 2b | C71: ONU | D71: Inhalation | E71: 25,000-lb throughput
B72: 2b | C72: Average Adult Worker | D72: Dermal | E72: 2,500-lb throughput | I72: Average Adult Worker | J72: Dermal | K72: Central Tendency | L72: =IFERROR(IFERROR(VLOOKUP($D72,$Z$8:$AD$9,2,FALSE),0)/IF($D72="Inhalation",IF($K72="Central Tendency",SUMIFS('Inhalation Exposure'!$N$4:$N$61,'Inhalation Exposure'!$B$4:$B$61,$B72,'Inhalation Exposure'!$D$4:$D$61,$C72,'Inhalation Exposure'!$E$4:$E$61,$E72),SUMIFS('Inhalation Exposure'!$M$4:$M$61,'Inhalation Exposure'!$B$4:$B$61,$B72,'Inhalation Exposure'!$D$4:$D$61,$C72,'Inhalation Exposure'!$E$4:$E$61,$E72)),IF($K72="Central Tendency",SUMIFS('Dermal Crosswalk'!$P$5:$P$32,'Dermal Crosswalk'!$A$5:$A$32,'Bridge Table'!$B72,'Dermal Crosswalk'!$C$5:$C$32,'Bridge Table'!$E72),SUMIFS('Dermal Crosswalk'!$K$5:$K$32,'Dermal Crosswalk'!$A$5:$A$32,'Bridge Table'!$B72,'Dermal Crosswalk'!$C$5:$C$32,'Bridge Table'!$E72))),"--") -> 4.3365403 | M72: =IFERROR(IFERROR(VLOOKUP($D72,$Z$8:$AD$9,3,FALSE),0)/IF($D72="Inhalation",IF($K72="Central Tendency",SUMIFS('Inhalation Exposure'!$AB$4:$AB$61,'Inhalation Exposure'!$B$4:$B$61,$B72,'Inhalation Exposure'!$D$4:$D$61,$C72,'Inhalation Exposure'!$E$4:$E$61,$E72),SUMIFS('Inhalation Exposure'!$AA$4:$AA$61,'Inhalation Exposure'!$B$4:$B$61,$B72,'Inhalation Exposure'!$D$4:$D$61,$C72,'Inhalation Exposure'!$E$4:$E$61,$E72)),IF($K72="Central Tendency",SUMIFS('Dermal Crosswalk'!$S$5:$S$32,'Dermal Crosswalk'!$A$5:$A$32,'Bridge Table'!$B72,'Dermal Crosswalk'!$C$5:$C$32,'Bridge Table'!$E72),SUMIFS('Dermal Crosswalk'!$N$5:$N$32,'Dermal Crosswalk'!$A$5:$A$32,'Bridge Table'!$B72,'Dermal Crosswalk'!$C$5:$C$32,'Bridge Table'!$E72))),"--") -> 37.54362 | N72: =IFERROR(IFERROR(VLOOKUP($D72,$Z$8:$AD$9,4,FALSE),0)/IF($D72="Inhalation",IF($K72="Central Tendency",SUMIFS('Inhalation Exposure'!$R$4:$R$61,'Inhalation Exposure'!$B$4:$B$61,$B72,'Inhalation Exposure'!$D$4:$D$61,$C72,'Inhalation Exposure'!$E$4:$E$61,$E72),SUMIFS('Inhalation Exposure'!$Q$4:$Q$61,'Inhalation Exposure'!$B$4:$B$61,$B72,'Inhalation Exposure'!$D$4:$D$61,$C72,'Inhalation Exposure'!$E$4:$E$61,$E72)),IF($K72="Central Tendency",SUMIFS('Dermal Crosswalk'!$Q$5:$Q$32,'Dermal Crosswalk'!$A$5:$A$32,'Bridge Table'!$B72,'Dermal Crosswalk'!$C$5:$C$32,'Bridge Table'!$E72),SUMIFS('Dermal Crosswalk'!$L$5:$L$32,'Dermal Crosswalk'!$A$5:$A$32,'Bridge Table'!$B72,'Dermal Crosswalk'!$C$5:$C$32,'Bridge Table'!$E72))),"--") -> 456.78071 | O72: =IFERROR(IFERROR(VLOOKUP($D72,$Z$8:$AD$9,5,FALSE),0)*IF($D72="Inhalation",IF($K72="Central Tendency",SUMIFS('Inhalation Exposure'!$V$4:$V$61,'Inhalation Exposure'!$B$4:$B$61,$B72,'Inhalation Exposure'!$D$4:$D$61,$C72,'Inhalation Exposure'!$E$4:$E$61,$E72),SUMIFS('Inhalation Exposure'!$U$4:$U$61,'Inhalation Exposure'!$B$4:$B$61,$B72,'Inhalation Exposure'!$D$4:$D$61,$C72,'Inhalation Exposure'!$E$4:$E$61,$E72)),IF($K72="Central Tendency",SUMIFS('Dermal Crosswalk'!$R$5:$R$32,'Dermal Crosswalk'!$A$5:$A$32,'Bridge Table'!$B72,'Dermal Crosswalk'!$C$5:$C$32,'Bridge Table'!$E72),SUMIFS('Dermal Crosswalk'!$M$5:$M$32,'Dermal Crosswalk'!$A$5:$A$32,'Bridge Table'!$B72,'Dermal Crosswalk'!$C$5:$C$32,'Bridge Table'!$E72))),"--") -> 5.819532e-05 | P72: =L72*U72 -> 21.682701 | Q72: =M72*V72 -> 187.7181 | R72: =N72*W72 -> 2283.9036 | S72: =O72/X72 -> 1.1639064e-05 | U72: 5 | V72: 5 | W72: 5 | X72: 5
B73: 2b | C73: Average Adult Worker | D73: Dermal | E73: 2,500-lb throughput | P73: =CONCATENATE("(PF ",U72,")") -> (PF 5) | Q73: =CONCATENATE("(PF ",V72,")") -> (PF 5) | R73: =CONCATENATE("(PF ",W72,")") -> (PF 5) | S73: =CONCATENATE("(PF ",X72,")") -> (PF 5) | U73: PF | V73: PF | W73: PF | X73: PF
B74: 2b | C74: Average Adult Worker | D74: Dermal | E74: 2,500-lb throughput | K74: High-End | L74: =IFERROR(IFERROR(VLOOKUP($D74,$Z$8:$AD$9,2,FALSE),0)/IF($D74="Inhalation",IF($K74="Central Tendency",SUMIFS('Inhalation Exposure'!$N$4:$N$61,'Inhalation Exposure'!$B$4:$B$61,$B74,'Inhalation Exposure'!$D$4:$D$61,$C74,'Inhalation Exposure'!$E$4:$E$61,$E74),SUMIFS('Inhalation Exposure'!$M$4:$M$61,'Inhalation Exposure'!$B$4:$B$61,$B74,'Inhalation Exposure'!$D$4:$D$61,$C74,'Inhalation Exposure'!$E$4:$E$61,$E74)),IF($K74="Central Tendency",SUMIFS('Dermal Crosswalk'!$P$5:$P$32,'Dermal Crosswalk'!$A$5:$A$32,'Bridge Table'!$B74,'Dermal Crosswalk'!$C$5:$C$32,'Bridge Table'!$E74),SUMIFS('Dermal Crosswalk'!$K$5:$K$32,'Dermal Crosswalk'!$A$5:$A$32,'Bridge Table'!$B74,'Dermal Crosswalk'!$C$5:$C$32,'Bridge Table'!$E74))),"--") -> 1.4455134 | M74: =IFERROR(IFERROR(VLOOKUP($D74,$Z$8:$AD$9,3,FALSE),0)/IF($D74="Inhalation",IF($K74="Central Tendency",SUMIFS('Inhalation Exposure'!$AB$4:$AB$61,'Inhalation Exposure'!$B$4:$B$61,$B74,'Inhalation Exposure'!$D$4:$D$61,$C74,'Inhalation Exposure'!$E$4:$E$61,$E74),SUMIFS('Inhalation Exposure'!$AA$4:$AA$61,'Inhalation Exposure'!$B$4:$B$61,$B74,'Inhalation Exposure'!$D$4:$D$61,$C74,'Inhalation Exposure'!$E$4:$E$61,$E74)),IF($K74="Central Tendency",SUMIFS('Dermal Crosswalk'!$S$5:$S$32,'Dermal Crosswalk'!$A$5:$A$32,'Bridge Table'!$B74,'Dermal Crosswalk'!$C$5:$C$32,'Bridge Table'!$E74),SUMIFS('Dermal Crosswalk'!$N$5:$N$32,'Dermal Crosswalk'!$A$5:$A$32,'Bridge Table'!$B74,'Dermal Crosswalk'!$C$5:$C$32,'Bridge Table'!$E74))),"--") -> 6.2572701 | N74: =IFERROR(IFERROR(VLOOKUP($D74,$Z$8:$AD$9,4,FALSE),0)/IF($D74="Inhalation",IF($K74="Central Tendency",SUMIFS('Inhalation Exposure'!$R$4:$R$61,'Inhalation Exposure'!$B$4:$B$61,$B74,'Inhalation Exposure'!$D$4:$D$61,$C74,'Inhalation Exposure'!$E$4:$E$61,$E74),SUMIFS('Inhalation Exposure'!$Q$4:$Q$61,'Inhalation Exposure'!$B$4:$B$61,$B74,'Inhalation Exposure'!$D$4:$D$61,$C74,'Inhalation Exposure'!$E$4:$E$61,$E74)),IF($K74="Central Tendency",SUMIFS('Dermal Crosswalk'!$Q$5:$Q$32,'Dermal Crosswalk'!$A$5:$A$32,'Bridge Table'!$B74,'Dermal Crosswalk'!$C$5:$C$32,'Bridge Table'!$E74),SUMIFS('Dermal Crosswalk'!$L$5:$L$32,'Dermal Crosswalk'!$A$5:$A$32,'Bridge Table'!$B74,'Dermal Crosswalk'!$C$5:$C$32,'Bridge Table'!$E74))),"--") -> 76.130119 | O74: =IFERROR(IFERROR(VLOOKUP($D74,$Z$8:$AD$9,5,FALSE),0)*IF($D74="Inhalation",IF($K74="Central Tendency",SUMIFS('Inhalation Exposure'!$V$4:$V$61,'Inhalation Exposure'!$B$4:$B$61,$B74,'Inhalation Exposure'!$D$4:$D$61,$C74,'Inhalation Exposure'!$E$4:$E$61,$E74),SUMIFS('Inhalation Exposure'!$U$4:$U$61,'Inhalation Exposure'!$B$4:$B$61,$B74,'Inhalation Exposure'!$D$4:$D$61,$C74,'Inhalation Exposure'!$E$4:$E$61,$E74)),IF($K74="Central Tendency",SUMIFS('Dermal Crosswalk'!$R$5:$R$32,'Dermal Crosswalk'!$A$5:$A$32,'Bridge Table'!$B74,'Dermal Crosswalk'!$C$5:$C$32,'Bridge Table'!$E74),SUMIFS('Dermal Crosswalk'!$M$5:$M$32,'Dermal Crosswalk'!$A$5:$A$32,'Bridge Table'!$B74,'Dermal Crosswalk'!$C$5:$C$32,'Bridge Table'!$E74))),"--") -> 0.00045054442 | P74: =L74*U74 -> 7.2275671 | Q74: =M74*V74 -> 31.28635 | R74: =N74*W74 -> 380.6506 | S74: =O74/X74 -> 9.0108883e-05 | U74: 5 | V74: 5 | W74: 5 | X74: 5
B75: 2b | C75: Average Adult Worker | D75: Dermal | E75: 2,500-lb throughput | P75: =CONCATENATE("(PF ",U74,")") -> (PF 5) | Q75: =CONCATENATE("(PF ",V74,")") -> (PF 5) | R75: =CONCATENATE("(PF ",W74,")") -> (PF 5) | S75: =CONCATENATE("(PF ",X74,")") -> (PF 5) | U75: PF | V75: PF | W75: PF | X75: PF
B76: 2b | C76: Average Adult Worker | D76: Dermal | E76: 25,000-lb throughput | I76: Average Adult Worker | J76: Dermal | K76: Central Tendency | L76: =IFERROR(IFERROR(VLOOKUP($D76,$Z$8:$AD$9,2,FALSE),0)/IF($D76="Inhalation",IF($K76="Central Tendency",SUMIFS('Inhalation Exposure'!$N$4:$N$61,'Inhalation Exposure'!$B$4:$B$61,$B76,'Inhalation Exposure'!$D$4:$D$61,$C76,'Inhalation Exposure'!$E$4:$E$61,$E76),SUMIFS('Inhalation Exposure'!$M$4:$M$61,'Inhalation Exposure'!$B$4:$B$61,$B76,'Inhalation Exposure'!$D$4:$D$61,$C76,'Inhalation Exposure'!$E$4:$E$61,$E76)),IF($K76="Central Tendency",SUMIFS('Dermal Crosswalk'!$P$5:$P$32,'Dermal Crosswalk'!$A$5:$A$32,'Bridge Table'!$B76,'Dermal Crosswalk'!$C$5:$C$32,'Bridge Table'!$E76),SUMIFS('Dermal Crosswalk'!$K$5:$K$32,'Dermal Crosswalk'!$A$5:$A$32,'Bridge Table'!$B76,'Dermal Crosswalk'!$C$5:$C$32,'Bridge Table'!$E76))),"--") -> 4.3365403 | M76: =IFERROR(IFERROR(VLOOKUP($D76,$Z$8:$AD$9,3,FALSE),0)/IF($D76="Inhalation",IF($K76="Central Tendency",SUMIFS('Inhalation Exposure'!$AB$4:$AB$61,'Inhalation Exposure'!$B$4:$B$61,$B76,'Inhalation Exposure'!$D$4:$D$61,$C76,'Inhalation Exposure'!$E$4:$E$61,$E76),SUMIFS('Inhalation Exposure'!$AA$4:$AA$61,'Inhalation Exposure'!$B$4:$B$61,$B76,'Inhalation Exposure'!$D$4:$D$61,$C76,'Inhalation Exposure'!$E$4:$E$61,$E76)),IF($K76="Central Tendency",SUMIFS('Dermal Crosswalk'!$S$5:$S$32,'Dermal Crosswalk'!$A$5:$A$32,'Bridge Table'!$B76,'Dermal Crosswalk'!$C$5:$C$32,'Bridge Table'!$E76),SUMIFS('Dermal Crosswalk'!$N$5:$N$32,'Dermal Crosswalk'!$A$5:$A$32,'Bridge Table'!$B76,'Dermal Crosswalk'!$C$5:$C$32,'Bridge Table'!$E76))),"--") -> 9.3859051 | N76: =IFERROR(IFERROR(VLOOKUP($D76,$Z$8:$AD$9,4,FALSE),0)/IF($D76="Inhalation",IF($K76="Central Tendency",SUMIFS('Inhalation Exposure'!$R$4:$R$61,'Inhalation Exposure'!$B$4:$B$61,$B76,'Inhalation Exposure'!$D$4:$D$61,$C76,'Inhalation Exposure'!$E$4:$E$61,$E76),SUMIFS('Inhalation Exposure'!$Q$4:$Q$61,'Inhalation Exposure'!$B$4:$B$61,$B76,'Inhalation Exposure'!$D$4:$D$61,$C76,'Inhalation Exposure'!$E$4:$E$61,$E76)),IF($K76="Central Tendency",SUMIFS('Dermal Crosswalk'!$Q$5:$Q$32,'Dermal Crosswalk'!$A$5:$A$32,'Bridge Table'!$B76,'Dermal Crosswalk'!$C$5:$C$32,'Bridge Table'!$E76),SUMIFS('Dermal Crosswalk'!$L$5:$L$32,'Dermal Crosswalk'!$A$5:$A$32,'Bridge Table'!$B76,'Dermal Crosswalk'!$C$5:$C$32,'Bridge Table'!$E76))),"--") -> 114.19518 | O76: =IFERROR(IFERROR(VLOOKUP($D76,$Z$8:$AD$9,5,FALSE),0)*IF($D76="Inhalation",IF($K76="Central Tendency",SUMIFS('Inhalation Exposure'!$V$4:$V$61,'Inhalation Exposure'!$B$4:$B$61,$B76,'Inhalation Exposure'!$D$4:$D$61,$C76,'Inhalation Exposure'!$E$4:$E$61,$E76),SUMIFS('Inhalation Exposure'!$U$4:$U$61,'Inhalation Exposure'!$B$4:$B$61,$B76,'Inhalation Exposure'!$D$4:$D$61,$C76,'Inhalation Exposure'!$E$4:$E$61,$E76)),IF($K76="Central Tendency",SUMIFS('Dermal Crosswalk'!$R$5:$R$32,'Dermal Crosswalk'!$A$5:$A$32,'Bridge Table'!$B76,'Dermal Crosswalk'!$C$5:$C$32,'Bridge Table'!$E76),SUMIFS('Dermal Crosswalk'!$M$5:$M$32,'Dermal Crosswalk'!$A$5:$A$32,'Bridge Table'!$B76,'Dermal Crosswalk'!$C$5:$C$32,'Bridge Table'!$E76))),"--") -> 0.00023278128 | P76: =L76*U76 -> 21.682701 | Q76: =M76*V76 -> 46.929525 | R76: =N76*W76 -> 570.97589 | S76: =O76/X76 -> 4.6556256e-05 | U76: 5 | V76: 5 | W76: 5 | X76: 5
B77: 2b | C77: Average Adult Worker | D77: Dermal | E77: 25,000-lb throughput | P77: =CONCATENATE("(PF ",U76,")") -> (PF 5) | Q77: =CONCATENATE("(PF ",V76,")") -> (PF 5) | R77: =CONCATENATE("(PF ",W76,")") -> (PF 5) | S77: =CONCATENATE("(PF ",X76,")") -> (PF 5) | U77: PF | V77: PF | W77: PF | X77: PF
B78: 2b | C78: Average Adult Worker | D78: Dermal | E78: 25,000-lb throughput | K78: High-End | L78: =IFERROR(IFERROR(VLOOKUP($D78,$Z$8:$AD$9,2,FALSE),0)/IF($D78="Inhalation",IF($K78="Central Tendency",SUMIFS('Inhalation Exposure'!$N$4:$N$61,'Inhalation Exposure'!$B$4:$B$61,$B78,'Inhalation Exposure'!$D$4:$D$61,$C78,'Inhalation Exposure'!$E$4:$E$61,$E78),SUMIFS('Inhalation Exposure'!$M$4:$M$61,'Inhalation Exposure'!$B$4:$B$61,$B78,'Inhalation Exposure'!$D$4:$D$61,$C78,'Inhalation Exposure'!$E$4:$E$61,$E78)),IF($K78="Central Tendency",SUMIFS('Dermal Crosswalk'!$P$5:$P$32,'Dermal Crosswalk'!$A$5:$A$32,'Bridge Table'!$B78,'Dermal Crosswalk'!$C$5:$C$32,'Bridge Table'!$E78),SUMIFS('Dermal Crosswalk'!$K$5:$K$32,'Dermal Crosswalk'!$A$5:$A$32,'Bridge Table'!$B78,'Dermal Crosswalk'!$C$5:$C$32,'Bridge Table'!$E78))),"--") -> 1.4455134 | M78: =IFERROR(IFERROR(VLOOKUP($D78,$Z$8:$AD$9,3,FALSE),0)/IF($D78="Inhalation",IF($K78="Central Tendency",SUMIFS('Inhalation Exposure'!$AB$4:$AB$61,'Inhalation Exposure'!$B$4:$B$61,$B78,'Inhalation Exposure'!$D$4:$D$61,$C78,'Inhalation Exposure'!$E$4:$E$61,$E78),SUMIFS('Inhalation Exposure'!$AA$4:$AA$61,'Inhalation Exposure'!$B$4:$B$61,$B78,'Inhalation Exposure'!$D$4:$D$61,$C78,'Inhalation Exposure'!$E$4:$E$61,$E78)),IF($K78="Central Tendency",SUMIFS('Dermal Crosswalk'!$S$5:$S$32,'Dermal Crosswalk'!$A$5:$A$32,'Bridge Table'!$B78,'Dermal Crosswalk'!$C$5:$C$32,'Bridge Table'!$E78),SUMIFS('Dermal Crosswalk'!$N$5:$N$32,'Dermal Crosswalk'!$A$5:$A$32,'Bridge Table'!$B78,'Dermal Crosswalk'!$C$5:$C$32,'Bridge Table'!$E78))),"--") -> 1.0428783 | N78: =IFERROR(IFERROR(VLOOKUP($D78,$Z$8:$AD$9,4,FALSE),0)/IF($D78="Inhalation",IF($K78="Central Tendency",SUMIFS('Inhalation Exposure'!$R$4:$R$61,'Inhalation Exposure'!$B$4:$B$61,$B78,'Inhalation Exposure'!$D$4:$D$61,$C78,'Inhalation Exposure'!$E$4:$E$61,$E78),SUMIFS('Inhalation Exposure'!$Q$4:$Q$61,'Inhalation Exposure'!$B$4:$B$61,$B78,'Inhalation Exposure'!$D$4:$D$61,$C78,'Inhalation Exposure'!$E$4:$E$61,$E78)),IF($K78="Central Tendency",SUMIFS('Dermal Crosswalk'!$Q$5:$Q$32,'Dermal Crosswalk'!$A$5:$A$32,'Bridge Table'!$B78,'Dermal Crosswalk'!$C$5:$C$32,'Bridge Table'!$E78),SUMIFS('Dermal Crosswalk'!$L$5:$L$32,'Dermal Crosswalk'!$A$5:$A$32,'Bridge Table'!$B78,'Dermal Crosswalk'!$C$5:$C$32,'Bridge Table'!$E78))),"--") -> 12.688353 | O78: =IFERROR(IFERROR(VLOOKUP($D78,$Z$8:$AD$9,5,FALSE),0)*IF($D78="Inhalation",IF($K78="Central Tendency",SUMIFS('Inhalation Exposure'!$V$4:$V$61,'Inhalation Exposure'!$B$4:$B$61,$B78,'Inhalation Exposure'!$D$4:$D$61,$C78,'Inhalation Exposure'!$E$4:$E$61,$E78),SUMIFS('Inhalation Exposure'!$U$4:$U$61,'Inhalation Exposure'!$B$4:$B$61,$B78,'Inhalation Exposure'!$D$4:$D$61,$C78,'Inhalation Exposure'!$E$4:$E$61,$E78)),IF($K78="Central Tendency",SUMIFS('Dermal Crosswalk'!$R$5:$R$32,'Dermal Crosswalk'!$A$5:$A$32,'Bridge Table'!$B78,'Dermal Crosswalk'!$C$5:$C$32,'Bridge Table'!$E78),SUMIFS('Dermal Crosswalk'!$M$5:$M$32,'Dermal Crosswalk'!$A$5:$A$32,'Bridge Table'!$B78,'Dermal Crosswalk'!$C$5:$C$32,'Bridge Table'!$E78))),"--") -> 0.0027032665 | P78: =L78*U78 -> 7.2275671 | Q78: =M78*V78 -> 5.2143917 | R78: =N78*W78 -> 63.441766 | S78: =O78/X78 -> 0.0005406533 | U78: 5 | V78: 5 | W78: 5 | X78: 5
B79: 2b | C79: Average Adult Worker | D79: Dermal | E79: 25,000-lb throughput | P79: =CONCATENATE("(PF ",U78,")") -> (PF 5) | Q79: =CONCATENATE("(PF ",V78,")") -> (PF 5) | R79: =CONCATENATE("(PF ",W78,")") -> (PF 5) | S79: =CONCATENATE("(PF ",X78,")") -> (PF 5) | U79: PF | V79: PF | W79: PF | X79: PF
B80: 3 | C80: Average Adult Worker | D80: Inhalation | E80: 2,500-lb throughput | G80: Flame retardant in: Polymers (e.g. polyester resin) | H80: Formulation of TCEP into 2-part Reactive Resins | I80: Average Adult Worker | J80: Inhalation 8-hr TWA | K80: Central Tendency | L80: =IFERROR(IFERROR(VLOOKUP($D80,$Z$8:$AD$9,2,FALSE),0)/IF($D80="Inhalation",IF($K80="Central Tendency",SUMIFS('Inhalation Exposure'!$N$4:$N$61,'Inhalation Exposure'!$B$4:$B$61,$B80,'Inhalation Exposure'!$D$4:$D$61,$C80,'Inhalation Exposure'!$E$4:$E$61,$E80),SUMIFS('Inhalation Exposure'!$M$4:$M$61,'Inhalation Exposure'!$B$4:$B$61,$B80,'Inhalation Exposure'!$D$4:$D$61,$C80,'Inhalation Exposure'!$E$4:$E$61,$E80)),IF($K80="Central Tendency",SUMIFS('Dermal Crosswalk'!$P$5:$P$32,'Dermal Crosswalk'!$A$5:$A$32,'Bridge Table'!$B80,'Dermal Crosswalk'!$C$5:$C$32,'Bridge Table'!$E80),SUMIFS('Dermal Crosswalk'!$K$5:$K$32,'Dermal Crosswalk'!$A$5:$A$32,'Bridge Table'!$B80,'Dermal Crosswalk'!$C$5:$C$32,'Bridge Table'!$E80))),"--") -> 1017.485 | M80: =IFERROR(IFERROR(VLOOKUP($D80,$Z$8:$AD$9,3,FALSE),0)/IF($D80="Inhalation",IF($K80="Central Tendency",SUMIFS('Inhalation Exposure'!$AB$4:$AB$61,'Inhalation Exposure'!$B$4:$B$61,$B80,'Inhalation Exposure'!$D$4:$D$61,$C80,'Inhalation Exposure'!$E$4:$E$61,$E80),SUMIFS('Inhalation Exposure'!$AA$4:$AA$61,'Inhalation Exposure'!$B$4:$B$61,$B80,'Inhalation Exposure'!$D$4:$D$61,$C80,'Inhalation Exposure'!$E$4:$E$61,$E80)),IF($K80="Central Tendency",SUMIFS('Dermal Crosswalk'!$S$5:$S$32,'Dermal Crosswalk'!$A$5:$A$32,'Bridge Table'!$B80,'Dermal Crosswalk'!$C$5:$C$32,'Bridge Table'!$E80),SUMIFS('Dermal Crosswalk'!$N$5:$N$32,'Dermal Crosswalk'!$A$5:$A$32,'Bridge Table'!$B80,'Dermal Crosswalk'!$C$5:$C$32,'Bridge Table'!$E80))),"--") -> 6669.9906 | N80: =IFERROR(IFERROR(VLOOKUP($D80,$Z$8:$AD$9,4,FALSE),0)/IF($D80="Inhalation",IF($K80="Central Tendency",SUMIFS('Inhalation Exposure'!$R$4:$R$61,'Inhalation Exposure'!$B$4:$B$61,$B80,'Inhalation Exposure'!$D$4:$D$61,$C80,'Inhalation Exposure'!$E$4:$E$61,$E80),SUMIFS('Inhalation Exposure'!$Q$4:$Q$61,'Inhalation Exposure'!$B$4:$B$61,$B80,'Inhalation Exposure'!$D$4:$D$61,$C80,'Inhalation Exposure'!$E$4:$E$61,$E80)),IF($K80="Central Tendency",SUMIFS('Dermal Crosswalk'!$Q$5:$Q$32,'Dermal Crosswalk'!$A$5:$A$32,'Bridge Table'!$B80,'Dermal Crosswalk'!$C$5:$C$32,'Bridge Table'!$E80),SUMIFS('Dermal Crosswalk'!$L$5:$L$32,'Dermal Crosswalk'!$A$5:$A$32,'Bridge Table'!$B80,'Dermal Crosswalk'!$C$5:$C$32,'Bridge Table'!$E80))),"--") -> 81138.076 | O80: =IFERROR(IFERROR(VLOOKUP($D80,$Z$8:$AD$9,5,FALSE),0)*IF($D80="Inhalation",IF($K80="Central Tendency",SUMIFS('Inhalation Exposure'!$V$4:$V$61,'Inhalation Exposure'!$B$4:$B$61,$B80,'Inhalation Exposure'!$D$4:$D$61,$C80,'Inhalation Exposure'!$E$4:$E$61,$E80),SUMIFS('Inhalation Exposure'!$U$4:$U$61,'Inhalation Exposure'!$B$4:$B$61,$B80,'Inhalation Exposure'!$D$4:$D$61,$C80,'Inhalation Exposure'!$E$4:$E$61,$E80)),IF($K80="Central Tendency",SUMIFS('Dermal Crosswalk'!$R$5:$R$32,'Dermal Crosswalk'!$A$5:$A$32,'Bridge Table'!$B80,'Dermal Crosswalk'!$C$5:$C$32,'Bridge Table'!$E80),SUMIFS('Dermal Crosswalk'!$M$5:$M$32,'Dermal Crosswalk'!$A$5:$A$32,'Bridge Table'!$B80,'Dermal Crosswalk'!$C$5:$C$32,'Bridge Table'!$E80))),"--") -> 3.1182875e-07 | P80: =IFERROR(L80*U80,"Not Assessed") -> 10174.85 | Q80: =IFERROR(M80*V80,"Not Assessed") -> 66699.906 | R80: =IFERROR(N80*W80,"Not Assessed") -> 811380.76 | S80: =IFERROR(O80/X80, "Not Assessed") -> 3.1182875e-08 | U80: 10 | V80: 10 | W80: 10 | X80: 10
B81: 3 | C81: Average Adult Worker | D81: Inhalation | E81: 2,500-lb throughput | P81: =CONCATENATE("(APF ",U80,")") -> (APF 10) | Q81: =CONCATENATE("(APF ",V80,")") -> (APF 10) | R81: =CONCATENATE("(APF ",W80,")") -> (APF 10) | S81: =CONCATENATE("(APF ",X80,")") -> (APF 10) | U81: APF | V81: APF | W81: APF | X81: APF
B82: 3 | C82: Average Adult Worker | D82: Inhalation | E82: 2,500-lb throughput | K82: High-End | L82: =IFERROR(IFERROR(VLOOKUP($D82,$Z$8:$AD$9,2,FALSE),0)/IF($D82="Inhalation",IF($K82="Central Tendency",SUMIFS('Inhalation Exposure'!$N$4:$N$61,'Inhalation Exposure'!$B$4:$B$61,$B82,'Inhalation Exposure'!$D$4:$D$61,$C82,'Inhalation Exposure'!$E$4:$E$61,$E82),SUMIFS('Inhalation Exposure'!$M$4:$M$61,'Inhalation Exposure'!$B$4:$B$61,$B82,'Inhalation Exposure'!$D$4:$D$61,$C82,'Inhalation Exposure'!$E$4:$E$61,$E82)),IF($K82="Central Tendency",SUMIFS('Dermal Crosswalk'!$P$5:$P$32,'Dermal Crosswalk'!$A$5:$A$32,'Bridge Table'!$B82,'Dermal Crosswalk'!$C$5:$C$32,'Bridge Table'!$E82),SUMIFS('Dermal Crosswalk'!$K$5:$K$32,'Dermal Crosswalk'!$A$5:$A$32,'Bridge Table'!$B82,'Dermal Crosswalk'!$C$5:$C$32,'Bridge Table'!$E82))),"--") -> 186.69559 | M82: =IFERROR(IFERROR(VLOOKUP($D82,$Z$8:$AD$9,3,FALSE),0)/IF($D82="Inhalation",IF($K82="Central Tendency",SUMIFS('Inhalation Exposure'!$AB$4:$AB$61,'Inhalation Exposure'!$B$4:$B$61,$B82,'Inhalation Exposure'!$D$4:$D$61,$C82,'Inhalation Exposure'!$E$4:$E$61,$E82),SUMIFS('Inhalation Exposure'!$AA$4:$AA$61,'Inhalation Exposure'!$B$4:$B$61,$B82,'Inhalation Exposure'!$D$4:$D$61,$C82,'Inhalation Exposure'!$E$4:$E$61,$E82)),IF($K82="Central Tendency",SUMIFS('Dermal Crosswalk'!$S$5:$S$32,'Dermal Crosswalk'!$A$5:$A$32,'Bridge Table'!$B82,'Dermal Crosswalk'!$C$5:$C$32,'Bridge Table'!$E82),SUMIFS('Dermal Crosswalk'!$N$5:$N$32,'Dermal Crosswalk'!$A$5:$A$32,'Bridge Table'!$B82,'Dermal Crosswalk'!$C$5:$C$32,'Bridge Table'!$E82))),"--") -> 1460.7477 | N82: =IFERROR(IFERROR(VLOOKUP($D82,$Z$8:$AD$9,4,FALSE),0)/IF($D82="Inhalation",IF($K82="Central Tendency",SUMIFS('Inhalation Exposure'!$R$4:$R$61,'Inhalation Exposure'!$B$4:$B$61,$B82,'Inhalation Exposure'!$D$4:$D$61,$C82,'Inhalation Exposure'!$E$4:$E$61,$E82),SUMIFS('Inhalation Exposure'!$Q$4:$Q$61,'Inhalation Exposure'!$B$4:$B$61,$B82,'Inhalation Exposure'!$D$4:$D$61,$C82,'Inhalation Exposure'!$E$4:$E$61,$E82)),IF($K82="Central Tendency",SUMIFS('Dermal Crosswalk'!$Q$5:$Q$32,'Dermal Crosswalk'!$A$5:$A$32,'Bridge Table'!$B82,'Dermal Crosswalk'!$C$5:$C$32,'Bridge Table'!$E82),SUMIFS('Dermal Crosswalk'!$L$5:$L$32,'Dermal Crosswalk'!$A$5:$A$32,'Bridge Table'!$B82,'Dermal Crosswalk'!$C$5:$C$32,'Bridge Table'!$E82))),"--") -> 17758.989 | O82: =IFERROR(IFERROR(VLOOKUP($D82,$Z$8:$AD$9,5,FALSE),0)*IF($D82="Inhalation",IF($K82="Central Tendency",SUMIFS('Inhalation Exposure'!$V$4:$V$61,'Inhalation Exposure'!$B$4:$B$61,$B82,'Inhalation Exposure'!$D$4:$D$61,$C82,'Inhalation Exposure'!$E$4:$E$61,$E82),SUMIFS('Inhalation Exposure'!$U$4:$U$61,'Inhalation Exposure'!$B$4:$B$61,$B82,'Inhalation Exposure'!$D$4:$D$61,$C82,'Inhalation Exposure'!$E$4:$E$61,$E82)),IF($K82="Central Tendency",SUMIFS('Dermal Crosswalk'!$R$5:$R$32,'Dermal Crosswalk'!$A$5:$A$32,'Bridge Table'!$B82,'Dermal Crosswalk'!$C$5:$C$32,'Bridge Table'!$E82),SUMIFS('Dermal Crosswalk'!$M$5:$M$32,'Dermal Crosswalk'!$A$5:$A$32,'Bridge Table'!$B82,'Dermal Crosswalk'!$C$5:$C$32,'Bridge Table'!$E82))),"--") -> 1.4897212e-06 | P82: =IFERROR(L82*U82,"Not Assessed") -> 1866.9559 | Q82: =IFERROR(M82*V82,"Not Assessed") -> 14607.477 | R82: =IFERROR(N82*W82,"Not Assessed") -> 177589.89 | S82: =IFERROR(O82/X82, "Not Assessed") -> 1.4897212e-07 | U82: 10 | V82: 10 | W82: 10 | X82: 10
B83: 3 | C83: Average Adult Worker | D83: Inhalation | E83: 2,500-lb throughput | P83: =CONCATENATE("(APF ",U82,")") -> (APF 10) | Q83: =CONCATENATE("(APF ",V82,")") -> (APF 10) | R83: =CONCATENATE("(APF ",W82,")") -> (APF 10) | S83: =CONCATENATE("(APF ",X82,")") -> (APF 10) | U83: APF | V83: APF | W83: APF | X83: APF
B84: 3 | C84: Average Adult Worker | D84: Inhalation | E84: 25,000-lb throughput | I84: Average Adult Worker | J84: Inhalation 8-hr TWA | K84: Central Tendency | L84: =IFERROR(IFERROR(VLOOKUP($D84,$Z$8:$AD$9,2,FALSE),0)/IF($D84="Inhalation",IF($K84="Central Tendency",SUMIFS('Inhalation Exposure'!$N$4:$N$61,'Inhalation Exposure'!$B$4:$B$61,$B84,'Inhalation Exposure'!$D$4:$D$61,$C84,'Inhalation Exposure'!$E$4:$E$61,$E84),SUMIFS('Inhalation Exposure'!$M$4:$M$61,'Inhalation Exposure'!$B$4:$B$61,$B84,'Inhalation Exposure'!$D$4:$D$61,$C84,'Inhalation Exposure'!$E$4:$E$61,$E84)),IF($K84="Central Tendency",SUMIFS('Dermal Crosswalk'!$P$5:$P$32,'Dermal Crosswalk'!$A$5:$A$32,'Bridge Table'!$B84,'Dermal Crosswalk'!$C$5:$C$32,'Bridge Table'!$E84),SUMIFS('Dermal Crosswalk'!$K$5:$K$32,'Dermal Crosswalk'!$A$5:$A$32,'Bridge Table'!$B84,'Dermal Crosswalk'!$C$5:$C$32,'Bridge Table'!$E84))),"--") -> 801.95389 | M84: =IFERROR(IFERROR(VLOOKUP($D84,$Z$8:$AD$9,3,FALSE),0)/IF($D84="Inhalation",IF($K84="Central Tendency",SUMIFS('Inhalation Exposure'!$AB$4:$AB$61,'Inhalation Exposure'!$B$4:$B$61,$B84,'Inhalation Exposure'!$D$4:$D$61,$C84,'Inhalation Exposure'!$E$4:$E$61,$E84),SUMIFS('Inhalation Exposure'!$AA$4:$AA$61,'Inhalation Exposure'!$B$4:$B$61,$B84,'Inhalation Exposure'!$D$4:$D$61,$C84,'Inhalation Exposure'!$E$4:$E$61,$E84)),IF($K84="Central Tendency",SUMIFS('Dermal Crosswalk'!$S$5:$S$32,'Dermal Crosswalk'!$A$5:$A$32,'Bridge Table'!$B84,'Dermal Crosswalk'!$C$5:$C$32,'Bridge Table'!$E84),SUMIFS('Dermal Crosswalk'!$N$5:$N$32,'Dermal Crosswalk'!$A$5:$A$32,'Bridge Table'!$B84,'Dermal Crosswalk'!$C$5:$C$32,'Bridge Table'!$E84))),"--") -> 1222.6522 | N84: =IFERROR(IFERROR(VLOOKUP($D84,$Z$8:$AD$9,4,FALSE),0)/IF($D84="Inhalation",IF($K84="Central Tendency",SUMIFS('Inhalation Exposure'!$R$4:$R$61,'Inhalation Exposure'!$B$4:$B$61,$B84,'Inhalation Exposure'!$D$4:$D$61,$C84,'Inhalation Exposure'!$E$4:$E$61,$E84),SUMIFS('Inhalation Exposure'!$Q$4:$Q$61,'Inhalation Exposure'!$B$4:$B$61,$B84,'Inhalation Exposure'!$D$4:$D$61,$C84,'Inhalation Exposure'!$E$4:$E$61,$E84)),IF($K84="Central Tendency",SUMIFS('Dermal Crosswalk'!$Q$5:$Q$32,'Dermal Crosswalk'!$A$5:$A$32,'Bridge Table'!$B84,'Dermal Crosswalk'!$C$5:$C$32,'Bridge Table'!$E84),SUMIFS('Dermal Crosswalk'!$L$5:$L$32,'Dermal Crosswalk'!$A$5:$A$32,'Bridge Table'!$B84,'Dermal Crosswalk'!$C$5:$C$32,'Bridge Table'!$E84))),"--") -> 13282.779 | O84: =IFERROR(IFERROR(VLOOKUP($D84,$Z$8:$AD$9,5,FALSE),0)*IF($D84="Inhalation",IF($K84="Central Tendency",SUMIFS('Inhalation Exposure'!$V$4:$V$61,'Inhalation Exposure'!$B$4:$B$61,$B84,'Inhalation Exposure'!$D$4:$D$61,$C84,'Inhalation Exposure'!$E$4:$E$61,$E84),SUMIFS('Inhalation Exposure'!$U$4:$U$61,'Inhalation Exposure'!$B$4:$B$61,$B84,'Inhalation Exposure'!$D$4:$D$61,$C84,'Inhalation Exposure'!$E$4:$E$61,$E84)),IF($K84="Central Tendency",SUMIFS('Dermal Crosswalk'!$R$5:$R$32,'Dermal Crosswalk'!$A$5:$A$32,'Bridge Table'!$B84,'Dermal Crosswalk'!$C$5:$C$32,'Bridge Table'!$E84),SUMIFS('Dermal Crosswalk'!$M$5:$M$32,'Dermal Crosswalk'!$A$5:$A$32,'Bridge Table'!$B84,'Dermal Crosswalk'!$C$5:$C$32,'Bridge Table'!$E84))),"--") -> 1.9054013e-06 | P84: =IFERROR(L84*U84,"Not Assessed") -> 8019.5389 | Q84: =IFERROR(M84*V84,"Not Assessed") -> 12226.522 | R84: =IFERROR(N84*W84,"Not Assessed") -> 132827.79 | S84: =IFERROR(O84/X84, "Not Assessed") -> 1.9054013e-07 | U84: 10 | V84: 10 | W84: 10 | X84: 10
B85: 3 | C85: Average Adult Worker | D85: Inhalation | E85: 25,000-lb throughput | P85: =CONCATENATE("(APF ",U84,")") -> (APF 10) | Q85: =CONCATENATE("(APF ",V84,")") -> (APF 10) | R85: =CONCATENATE("(APF ",W84,")") -> (APF 10) | S85: =CONCATENATE("(APF ",X84,")") -> (APF 10) | U85: APF | V85: APF | W85: APF | X85: APF
B86: 3 | C86: Average Adult Worker | D86: Inhalation | E86: 25,000-lb throughput | K86: High-End | L86: =IFERROR(IFERROR(VLOOKUP($D86,$Z$8:$AD$9,2,FALSE),0)/IF($D86="Inhalation",IF($K86="Central Tendency",SUMIFS('Inhalation Exposure'!$N$4:$N$61,'Inhalation Exposure'!$B$4:$B$61,$B86,'Inhalation Exposure'!$D$4:$D$61,$C86,'Inhalation Exposure'!$E$4:$E$61,$E86),SUMIFS('Inhalation Exposure'!$M$4:$M$61,'Inhalation Exposure'!$B$4:$B$61,$B86,'Inhalation Exposure'!$D$4:$D$61,$C86,'Inhalation Exposure'!$E$4:$E$61,$E86)),IF($K86="Central Tendency",SUMIFS('Dermal Crosswalk'!$P$5:$P$32,'Dermal Crosswalk'!$A$5:$A$32,'Bridge Table'!$B86,'Dermal Crosswalk'!$C$5:$C$32,'Bridge Table'!$E86),SUMIFS('Dermal Crosswalk'!$K$5:$K$32,'Dermal Crosswalk'!$A$5:$A$32,'Bridge Table'!$B86,'Dermal Crosswalk'!$C$5:$C$32,'Bridge Table'!$E86))),"--") -> 144.46348 | M86: =IFERROR(IFERROR(VLOOKUP($D86,$Z$8:$AD$9,3,FALSE),0)/IF($D86="Inhalation",IF($K86="Central Tendency",SUMIFS('Inhalation Exposure'!$AB$4:$AB$61,'Inhalation Exposure'!$B$4:$B$61,$B86,'Inhalation Exposure'!$D$4:$D$61,$C86,'Inhalation Exposure'!$E$4:$E$61,$E86),SUMIFS('Inhalation Exposure'!$AA$4:$AA$61,'Inhalation Exposure'!$B$4:$B$61,$B86,'Inhalation Exposure'!$D$4:$D$61,$C86,'Inhalation Exposure'!$E$4:$E$61,$E86)),IF($K86="Central Tendency",SUMIFS('Dermal Crosswalk'!$S$5:$S$32,'Dermal Crosswalk'!$A$5:$A$32,'Bridge Table'!$B86,'Dermal Crosswalk'!$C$5:$C$32,'Bridge Table'!$E86),SUMIFS('Dermal Crosswalk'!$N$5:$N$32,'Dermal Crosswalk'!$A$5:$A$32,'Bridge Table'!$B86,'Dermal Crosswalk'!$C$5:$C$32,'Bridge Table'!$E86))),"--") -> 283.29264 | N86: =IFERROR(IFERROR(VLOOKUP($D86,$Z$8:$AD$9,4,FALSE),0)/IF($D86="Inhalation",IF($K86="Central Tendency",SUMIFS('Inhalation Exposure'!$R$4:$R$61,'Inhalation Exposure'!$B$4:$B$61,$B86,'Inhalation Exposure'!$D$4:$D$61,$C86,'Inhalation Exposure'!$E$4:$E$61,$E86),SUMIFS('Inhalation Exposure'!$Q$4:$Q$61,'Inhalation Exposure'!$B$4:$B$61,$B86,'Inhalation Exposure'!$D$4:$D$61,$C86,'Inhalation Exposure'!$E$4:$E$61,$E86)),IF($K86="Central Tendency",SUMIFS('Dermal Crosswalk'!$Q$5:$Q$32,'Dermal Crosswalk'!$A$5:$A$32,'Bridge Table'!$B86,'Dermal Crosswalk'!$C$5:$C$32,'Bridge Table'!$E86),SUMIFS('Dermal Crosswalk'!$L$5:$L$32,'Dermal Crosswalk'!$A$5:$A$32,'Bridge Table'!$B86,'Dermal Crosswalk'!$C$5:$C$32,'Bridge Table'!$E86))),"--") -> 3110.6248 | O86: =IFERROR(IFERROR(VLOOKUP($D86,$Z$8:$AD$9,5,FALSE),0)*IF($D86="Inhalation",IF($K86="Central Tendency",SUMIFS('Inhalation Exposure'!$V$4:$V$61,'Inhalation Exposure'!$B$4:$B$61,$B86,'Inhalation Exposure'!$D$4:$D$61,$C86,'Inhalation Exposure'!$E$4:$E$61,$E86),SUMIFS('Inhalation Exposure'!$U$4:$U$61,'Inhalation Exposure'!$B$4:$B$61,$B86,'Inhalation Exposure'!$D$4:$D$61,$C86,'Inhalation Exposure'!$E$4:$E$61,$E86)),IF($K86="Central Tendency",SUMIFS('Dermal Crosswalk'!$R$5:$R$32,'Dermal Crosswalk'!$A$5:$A$32,'Bridge Table'!$B86,'Dermal Crosswalk'!$C$5:$C$32,'Bridge Table'!$E86),SUMIFS('Dermal Crosswalk'!$M$5:$M$32,'Dermal Crosswalk'!$A$5:$A$32,'Bridge Table'!$B86,'Dermal Crosswalk'!$C$5:$C$32,'Bridge Table'!$E86))),"--") -> 8.5898867e-06 | P86: =IFERROR(L86*U86,"Not Assessed") -> 1444.6348 | Q86: =IFERROR(M86*V86,"Not Assessed") -> 2832.9264 | R86: =IFERROR(N86*W86,"Not Assessed") -> 31106.248 | S86: =IFERROR(O86/X86, "Not Assessed") -> 8.5898867e-07 | U86: 10 | V86: 10 | W86: 10 | X86: 10
B87: 3 | C87: Average Adult Worker | D87: Inhalation | E87: 25,000-lb throughput | P87: =CONCATENATE("(APF ",U86,")") -> (APF 10) | Q87: =CONCATENATE("(APF ",V86,")") -> (APF 10) | R87: =CONCATENATE("(APF ",W86,")") -> (APF 10) | S87: =CONCATENATE("(APF ",X86,")") -> (APF 10) | U87: APF | V87: APF | W87: APF | X87: APF
B88: 3 | C88: ONU | D88: Inhalation | E88: 2,500-lb throughput | I88: ONU | J88: Inhalation 8-hr TWA | K88: Central Tendency | L88: =IFERROR(IFERROR(VLOOKUP($D88,$Z$8:$AD$9,2,FALSE),0)/IF($D88="Inhalation",IF($K88="Central Tendency",SUMIFS('Inhalation Exposure'!$L$4:$L$60,'Inhalation Exposure'!$B$4:$B$60,$B88,'Inhalation Exposure'!$D$4:$D$60,$C88,'Inhalation Exposure'!$E$4:$E$60,$E88),SUMIFS('Inhalation Exposure'!$K$4:$K$60,'Inhalation Exposure'!$B$4:$B$60,$B88,'Inhalation Exposure'!$D$4:$D$60,$C88,'Inhalation Exposure'!$E$4:$E$60,$E88)),IF($K88="Central Tendency",SUMIFS('Dermal Crosswalk'!$P$5:$P$32,'Dermal Crosswalk'!$A$5:$A$32,'Bridge Table'!$B88,'Dermal Crosswalk'!$C$5:$C$32,'Bridge Table'!$E88),SUMIFS('Dermal Crosswalk'!$K$5:$K$32,'Dermal Crosswalk'!$A$5:$A$32,'Bridge Table'!$B88,'Dermal Crosswalk'!$C$5:$C$32,'Bridge Table'!$E88))),"--") -> -- | M88: =IFERROR(IFERROR(VLOOKUP($D88,$Z$8:$AD$9,3,FALSE),0)/IF($D88="Inhalation",IF($K88="Central Tendency",SUMIFS('Inhalation Exposure'!$AB$4:$AB$60,'Inhalation Exposure'!$B$4:$B$60,$B88,'Inhalation Exposure'!$D$4:$D$60,$C88,'Inhalation Exposure'!$E$4:$E$60,$E88),SUMIFS('Inhalation Exposure'!$AA$4:$AA$60,'Inhalation Exposure'!$B$4:$B$60,$B88,'Inhalation Exposure'!$D$4:$D$60,$C88,'Inhalation Exposure'!$E$4:$E$60,$E88)),IF($K88="Central Tendency",SUMIFS('Dermal Crosswalk'!$S$5:$S$32,'Dermal Crosswalk'!$A$5:$A$32,'Bridge Table'!$B88,'Dermal Crosswalk'!$C$5:$C$32,'Bridge Table'!$E88),SUMIFS('Dermal Crosswalk'!$N$5:$N$32,'Dermal Crosswalk'!$A$5:$A$32,'Bridge Table'!$B88,'Dermal Crosswalk'!$C$5:$C$32,'Bridge Table'!$E88))),"--") -> -- | N88: =IFERROR(IFERROR(VLOOKUP($D88,$Z$8:$AD$9,4,FALSE),0)/IF($D88="Inhalation",IF($K88="Central Tendency",SUMIFS('Inhalation Exposure'!$R$4:$R$60,'Inhalation Exposure'!$B$4:$B$60,$B88,'Inhalation Exposure'!$D$4:$D$60,$C88,'Inhalation Exposure'!$E$4:$E$60,$E88),SUMIFS('Inhalation Exposure'!$Q$4:$Q$60,'Inhalation Exposure'!$B$4:$B$60,$B88,'Inhalation Exposure'!$D$4:$D$60,$C88,'Inhalation Exposure'!$E$4:$E$60,$E88)),IF($K88="Central Tendency",SUMIFS('Dermal Crosswalk'!$Q$5:$Q$32,'Dermal Crosswalk'!$A$5:$A$32,'Bridge Table'!$B88,'Dermal Crosswalk'!$C$5:$C$32,'Bridge Table'!$E88),SUMIFS('Dermal Crosswalk'!$L$5:$L$32,'Dermal Crosswalk'!$A$5:$A$32,'Bridge Table'!$B88,'Dermal Crosswalk'!$C$5:$C$32,'Bridge Table'!$E88))),"--") -> -- | O88: =IF(IFERROR(VLOOKUP($D88,$Z$8:$AD$9,5,FALSE),0)*IF($D88="Inhalation",IF($K88="Central Tendency",SUMIFS('Inhalation Exposure'!$V$4:$V$60,'Inhalation Exposure'!$B$4:$B$60,$B88,'Inhalation Exposure'!$D$4:$D$60,$C88,'Inhalation Exposure'!$E$4:$E$60,$E88),SUMIFS('Inhalation Exposure'!$U$4:$U$60,'Inhalation Exposure'!$B$4:$B$60,$B88,'Inhalation Exposure'!$D$4:$D$60,$C88,'Inhalation Exposure'!$E$4:$E$60,$E88)),IF($K88="Central Tendency",SUMIFS('Dermal Crosswalk'!$R$5:$R$32,'Dermal Crosswalk'!$A$5:$A$32,'Bridge Table'!$B88,'Dermal Crosswalk'!$C$5:$C$32,'Bridge Table'!$E88),SUMIFS('Dermal Crosswalk'!$M$5:$M$32,'Dermal Crosswalk'!$A$5:$A$32,'Bridge Table'!$B88,'Dermal Crosswalk'!$C$5:$C$32,'Bridge Table'!$E88)))=0,"--",IFERROR(VLOOKUP($D88,$Z$8:$AD$9,5,FALSE),0)*IF($D88="Inhalation",IF($K88="Central Tendency",SUMIFS('Inhalation Exposure'!$V$4:$V$60,'Inhalation Exposure'!$B$4:$B$60,$B88,'Inhalation Exposure'!$D$4:$D$60,$C88,'Inhalation Exposure'!$E$4:$E$60,$E88),SUMIFS('Inhalation Exposure'!$U$4:$U$60,'Inhalation Exposure'!$B$4:$B$60,$B88,'Inhalation Exposure'!$D$4:$D$60,$C88,'Inhalation Exposure'!$E$4:$E$60,$E88)),IF($K88="Central Tendency",SUMIFS('Dermal Crosswalk'!$R$5:$R$32,'Dermal Crosswalk'!$A$5:$A$32,'Bridge Table'!$B88,'Dermal Crosswalk'!$C$5:$C$32,'Bridge Table'!$E88),SUMIFS('Dermal Crosswalk'!$M$5:$M$32,'Dermal Crosswalk'!$A$5:$A$32,'Bridge Table'!$B88,'Dermal Crosswalk'!$C$5:$C$32,'Bridge Table'!$E88)))) -> -- | P88: N/A | Q88: N/A | R88: N/A | S88: N/A | U88: N/A | V88: N/A | W88: N/A | X88: N/A
B89: 3 | C89: ONU | D89: Inhalation | E89: 2,500-lb throughput
B90: 3 | C90: ONU | D90: Inhalation | E90: 2,500-lb throughput | K90: High-End | L90: =IFERROR(IFERROR(VLOOKUP($D90,$Z$8:$AD$9,2,FALSE),0)/IF($D90="Inhalation",IF($K90="Central Tendency",SUMIFS('Inhalation Exposure'!$L$4:$L$60,'Inhalation Exposure'!$B$4:$B$60,$B90,'Inhalation Exposure'!$D$4:$D$60,$C90,'Inhalation Exposure'!$E$4:$E$60,$E90),SUMIFS('Inhalation Exposure'!$K$4:$K$60,'Inhalation Exposure'!$B$4:$B$60,$B90,'Inhalation Exposure'!$D$4:$D$60,$C90,'Inhalation Exposure'!$E$4:$E$60,$E90)),IF($K90="Central Tendency",SUMIFS('Dermal Crosswalk'!$P$5:$P$32,'Dermal Crosswalk'!$A$5:$A$32,'Bridge Table'!$B90,'Dermal Crosswalk'!$C$5:$C$32,'Bridge Table'!$E90),SUMIFS('Dermal Crosswalk'!$K$5:$K$32,'Dermal Crosswalk'!$A$5:$A$32,'Bridge Table'!$B90,'Dermal Crosswalk'!$C$5:$C$32,'Bridge Table'!$E90))),"--") -> -- | M90: =IFERROR(IFERROR(VLOOKUP($D90,$Z$8:$AD$9,3,FALSE),0)/IF($D90="Inhalation",IF($K90="Central Tendency",SUMIFS('Inhalation Exposure'!$AB$4:$AB$60,'Inhalation Exposure'!$B$4:$B$60,$B90,'Inhalation Exposure'!$D$4:$D$60,$C90,'Inhalation Exposure'!$E$4:$E$60,$E90),SUMIFS('Inhalation Exposure'!$AA$4:$AA$60,'Inhalation Exposure'!$B$4:$B$60,$B90,'Inhalation Exposure'!$D$4:$D$60,$C90,'Inhalation Exposure'!$E$4:$E$60,$E90)),IF($K90="Central Tendency",SUMIFS('Dermal Crosswalk'!$S$5:$S$32,'Dermal Crosswalk'!$A$5:$A$32,'Bridge Table'!$B90,'Dermal Crosswalk'!$C$5:$C$32,'Bridge Table'!$E90),SUMIFS('Dermal Crosswalk'!$N$5:$N$32,'Dermal Crosswalk'!$A$5:$A$32,'Bridge Table'!$B90,'Dermal Crosswalk'!$C$5:$C$32,'Bridge Table'!$E90))),"--") -> -- | N90: =IFERROR(IFERROR(VLOOKUP($D90,$Z$8:$AD$9,4,FALSE),0)/IF($D90="Inhalation",IF($K90="Central Tendency",SUMIFS('Inhalation Exposure'!$R$4:$R$60,'Inhalation Exposure'!$B$4:$B$60,$B90,'Inhalation Exposure'!$D$4:$D$60,$C90,'Inhalation Exposure'!$E$4:$E$60,$E90),SUMIFS('Inhalation Exposure'!$Q$4:$Q$60,'Inhalation Exposure'!$B$4:$B$60,$B90,'Inhalation Exposure'!$D$4:$D$60,$C90,'Inhalation Exposure'!$E$4:$E$60,$E90)),IF($K90="Central Tendency",SUMIFS('Dermal Crosswalk'!$Q$5:$Q$32,'Dermal Crosswalk'!$A$5:$A$32,'Bridge Table'!$B90,'Dermal Crosswalk'!$C$5:$C$32,'Bridge Table'!$E90),SUMIFS('Dermal Crosswalk'!$L$5:$L$32,'Dermal Crosswalk'!$A$5:$A$32,'Bridge Table'!$B90,'Dermal Crosswalk'!$C$5:$C$32,'Bridge Table'!$E90))),"--") -> -- | O90: =IF(IFERROR(VLOOKUP($D90,$Z$8:$AD$9,5,FALSE),0)*IF($D90="Inhalation",IF($K90="Central Tendency",SUMIFS('Inhalation Exposure'!$V$4:$V$60,'Inhalation Exposure'!$B$4:$B$60,$B90,'Inhalation Exposure'!$D$4:$D$60,$C90,'Inhalation Exposure'!$E$4:$E$60,$E90),SUMIFS('Inhalation Exposure'!$U$4:$U$60,'Inhalation Exposure'!$B$4:$B$60,$B90,'Inhalation Exposure'!$D$4:$D$60,$C90,'Inhalation Exposure'!$E$4:$E$60,$E90)),IF($K90="Central Tendency",SUMIFS('Dermal Crosswalk'!$R$5:$R$32,'Dermal Crosswalk'!$A$5:$A$32,'Bridge Table'!$B90,'Dermal Crosswalk'!$C$5:$C$32,'Bridge Table'!$E90),SUMIFS('Dermal Crosswalk'!$M$5:$M$32,'Dermal Crosswalk'!$A$5:$A$32,'Bridge Table'!$B90,'Dermal Crosswalk'!$C$5:$C$32,'Bridge Table'!$E90)))=0,"--",IFERROR(VLOOKUP($D90,$Z$8:$AD$9,5,FALSE),0)*IF($D90="Inhalation",IF($K90="Central Tendency",SUMIFS('Inhalation Exposure'!$V$4:$V$60,'Inhalation Exposure'!$B$4:$B$60,$B90,'Inhalation Exposure'!$D$4:$D$60,$C90,'Inhalation Exposure'!$E$4:$E$60,$E90),SUMIFS('Inhalation Exposure'!$U$4:$U$60,'Inhalation Exposure'!$B$4:$B$60,$B90,'Inhalation Exposure'!$D$4:$D$60,$C90,'Inhalation Exposure'!$E$4:$E$60,$E90)),IF($K90="Central Tendency",SUMIFS('Dermal Crosswalk'!$R$5:$R$32,'Dermal Crosswalk'!$A$5:$A$32,'Bridge Table'!$B90,'Dermal Crosswalk'!$C$5:$C$32,'Bridge Table'!$E90),SUMIFS('Dermal Crosswalk'!$M$5:$M$32,'Dermal Crosswalk'!$A$5:$A$32,'Bridge Table'!$B90,'Dermal Crosswalk'!$C$5:$C$32,'Bridge Table'!$E90)))) -> -- | P90: N/A | Q90: N/A | R90: N/A | S90: N/A | U90: N/A | V90: N/A | W90: N/A | X90: N/A
B91: 3 | C91: ONU | D91: Inhalation | E91: 2,500-lb throughput
B92: 3 | C92: ONU | D92: Inhalation | E92: 25,000-lb throughput | I92: ONU | J92: Inhalation 8-hr TWA | K92: Central Tendency | L92: =IFERROR(IFERROR(VLOOKUP($D92,$Z$8:$AD$9,2,FALSE),0)/IF($D92="Inhalation",IF($K92="Central Tendency",SUMIFS('Inhalation Exposure'!$L$4:$L$60,'Inhalation Exposure'!$B$4:$B$60,$B92,'Inhalation Exposure'!$D$4:$D$60,$C92,'Inhalation Exposure'!$E$4:$E$60,$E92),SUMIFS('Inhalation Exposure'!$K$4:$K$60,'Inhalation Exposure'!$B$4:$B$60,$B92,'Inhalation Exposure'!$D$4:$D$60,$C92,'Inhalation Exposure'!$E$4:$E$60,$E92)),IF($K92="Central Tendency",SUMIFS('Dermal Crosswalk'!$P$5:$P$32,'Dermal Crosswalk'!$A$5:$A$32,'Bridge Table'!$B92,'Dermal Crosswalk'!$C$5:$C$32,'Bridge Table'!$E92),SUMIFS('Dermal Crosswalk'!$K$5:$K$32,'Dermal Crosswalk'!$A$5:$A$32,'Bridge Table'!$B92,'Dermal Crosswalk'!$C$5:$C$32,'Bridge Table'!$E92))),"--") -> -- | M92: =IFERROR(IFERROR(VLOOKUP($D92,$Z$8:$AD$9,3,FALSE),0)/IF($D92="Inhalation",IF($K92="Central Tendency",SUMIFS('Inhalation Exposure'!$AB$4:$AB$60,'Inhalation Exposure'!$B$4:$B$60,$B92,'Inhalation Exposure'!$D$4:$D$60,$C92,'Inhalation Exposure'!$E$4:$E$60,$E92),SUMIFS('Inhalation Exposure'!$AA$4:$AA$60,'Inhalation Exposure'!$B$4:$B$60,$B92,'Inhalation Exposure'!$D$4:$D$60,$C92,'Inhalation Exposure'!$E$4:$E$60,$E92)),IF($K92="Central Tendency",SUMIFS('Dermal Crosswalk'!$S$5:$S$32,'Dermal Crosswalk'!$A$5:$A$32,'Bridge Table'!$B92,'Dermal Crosswalk'!$C$5:$C$32,'Bridge Table'!$E92),SUMIFS('Dermal Crosswalk'!$N$5:$N$32,'Dermal Crosswalk'!$A$5:$A$32,'Bridge Table'!$B92,'Dermal Crosswalk'!$C$5:$C$32,'Bridge Table'!$E92))),"--") -> -- | N92: =IFERROR(IFERROR(VLOOKUP($D92,$Z$8:$AD$9,4,FALSE),0)/IF($D92="Inhalation",IF($K92="Central Tendency",SUMIFS('Inhalation Exposure'!$R$4:$R$60,'Inhalation Exposure'!$B$4:$B$60,$B92,'Inhalation Exposure'!$D$4:$D$60,$C92,'Inhalation Exposure'!$E$4:$E$60,$E92),SUMIFS('Inhalation Exposure'!$Q$4:$Q$60,'Inhalation Exposure'!$B$4:$B$60,$B92,'Inhalation Exposure'!$D$4:$D$60,$C92,'Inhalation Exposure'!$E$4:$E$60,$E92)),IF($K92="Central Tendency",SUMIFS('Dermal Crosswalk'!$Q$5:$Q$32,'Dermal Crosswalk'!$A$5:$A$32,'Bridge Table'!$B92,'Dermal Crosswalk'!$C$5:$C$32,'Bridge Table'!$E92),SUMIFS('Dermal Crosswalk'!$L$5:$L$32,'Dermal Crosswalk'!$A$5:$A$32,'Bridge Table'!$B92,'Dermal Crosswalk'!$C$5:$C$32,'Bridge Table'!$E92))),"--") -> -- | O92: =IF(IFERROR(VLOOKUP($D92,$Z$8:$AD$9,5,FALSE),0)*IF($D92="Inhalation",IF($K92="Central Tendency",SUMIFS('Inhalation Exposure'!$V$4:$V$60,'Inhalation Exposure'!$B$4:$B$60,$B92,'Inhalation Exposure'!$D$4:$D$60,$C92,'Inhalation Exposure'!$E$4:$E$60,$E92),SUMIFS('Inhalation Exposure'!$U$4:$U$60,'Inhalation Exposure'!$B$4:$B$60,$B92,'Inhalation Exposure'!$D$4:$D$60,$C92,'Inhalation Exposure'!$E$4:$E$60,$E92)),IF($K92="Central Tendency",SUMIFS('Dermal Crosswalk'!$R$5:$R$32,'Dermal Crosswalk'!$A$5:$A$32,'Bridge Table'!$B92,'Dermal Crosswalk'!$C$5:$C$32,'Bridge Table'!$E92),SUMIFS('Dermal Crosswalk'!$M$5:$M$32,'Dermal Crosswalk'!$A$5:$A$32,'Bridge Table'!$B92,'Dermal Crosswalk'!$C$5:$C$32,'Bridge Table'!$E92)))=0,"--",IFERROR(VLOOKUP($D92,$Z$8:$AD$9,5,FALSE),0)*IF($D92="Inhalation",IF($K92="Central Tendency",SUMIFS('Inhalation Exposure'!$V$4:$V$60,'Inhalation Exposure'!$B$4:$B$60,$B92,'Inhalation Exposure'!$D$4:$D$60,$C92,'Inhalation Exposure'!$E$4:$E$60,$E92),SUMIFS('Inhalation Exposure'!$U$4:$U$60,'Inhalation Exposure'!$B$4:$B$60,$B92,'Inhalation Exposure'!$D$4:$D$60,$C92,'Inhalation Exposure'!$E$4:$E$60,$E92)),IF($K92="Central Tendency",SUMIFS('Dermal Crosswalk'!$R$5:$R$32,'Dermal Crosswalk'!$A$5:$A$32,'Bridge Table'!$B92,'Dermal Crosswalk'!$C$5:$C$32,'Bridge Table'!$E92),SUMIFS('Dermal Crosswalk'!$M$5:$M$32,'Dermal Crosswalk'!$A$5:$A$32,'Bridge Table'!$B92,'Dermal Crosswalk'!$C$5:$C$32,'Bridge Table'!$E92)))) -> -- | P92: N/A | Q92: N/A | R92: N/A | S92: N/A | U92: N/A | V92: N/A | W92: N/A | X92: N/A
B93: 3 | C93: ONU | D93: Inhalation | E93: 25,000-lb throughput
B94: 3 | C94: ONU | D94: Inhalation | E94: 25,000-lb throughput | K94: High-End | L94: =IFERROR(IFERROR(VLOOKUP($D94,$Z$8:$AD$9,2,FALSE),0)/IF($D94="Inhalation",IF($K94="Central Tendency",SUMIFS('Inhalation Exposure'!$L$4:$L$60,'Inhalation Exposure'!$B$4:$B$60,$B94,'Inhalation Exposure'!$D$4:$D$60,$C94,'Inhalation Exposure'!$E$4:$E$60,$E94),SUMIFS('Inhalation Exposure'!$K$4:$K$60,'Inhalation Exposure'!$B$4:$B$60,$B94,'Inhalation Exposure'!$D$4:$D$60,$C94,'Inhalation Exposure'!$E$4:$E$60,$E94)),IF($K94="Central Tendency",SUMIFS('Dermal Crosswalk'!$P$5:$P$32,'Dermal Crosswalk'!$A$5:$A$32,'Bridge Table'!$B94,'Dermal Crosswalk'!$C$5:$C$32,'Bridge Table'!$E94),SUMIFS('Dermal Crosswalk'!$K$5:$K$32,'Dermal Crosswalk'!$A$5:$A$32,'Bridge Table'!$B94,'Dermal Crosswalk'!$C$5:$C$32,'Bridge Table'!$E94))),"--") -> -- | M94: =IFERROR(IFERROR(VLOOKUP($D94,$Z$8:$AD$9,3,FALSE),0)/IF($D94="Inhalation",IF($K94="Central Tendency",SUMIFS('Inhalation Exposure'!$AB$4:$AB$60,'Inhalation Exposure'!$B$4:$B$60,$B94,'Inhalation Exposure'!$D$4:$D$60,$C94,'Inhalation Exposure'!$E$4:$E$60,$E94),SUMIFS('Inhalation Exposure'!$AA$4:$AA$60,'Inhalation Exposure'!$B$4:$B$60,$B94,'Inhalation Exposure'!$D$4:$D$60,$C94,'Inhalation Exposure'!$E$4:$E$60,$E94)),IF($K94="Central Tendency",SUMIFS('Dermal Crosswalk'!$S$5:$S$32,'Dermal Crosswalk'!$A$5:$A$32,'Bridge Table'!$B94,'Dermal Crosswalk'!$C$5:$C$32,'Bridge Table'!$E94),SUMIFS('Dermal Crosswalk'!$N$5:$N$32,'Dermal Crosswalk'!$A$5:$A$32,'Bridge Table'!$B94,'Dermal Crosswalk'!$C$5:$C$32,'Bridge Table'!$E94))),"--") -> -- | N94: =IFERROR(IFERROR(VLOOKUP($D94,$Z$8:$AD$9,4,FALSE),0)/IF($D94="Inhalation",IF($K94="Central Tendency",SUMIFS('Inhalation Exposure'!$R$4:$R$60,'Inhalation Exposure'!$B$4:$B$60,$B94,'Inhalation Exposure'!$D$4:$D$60,$C94,'Inhalation Exposure'!$E$4:$E$60,$E94),SUMIFS('Inhalation Exposure'!$Q$4:$Q$60,'Inhalation Exposure'!$B$4:$B$60,$B94,'Inhalation Exposure'!$D$4:$D$60,$C94,'Inhalation Exposure'!$E$4:$E$60,$E94)),IF($K94="Central Tendency",SUMIFS('Dermal Crosswalk'!$Q$5:$Q$32,'Dermal Crosswalk'!$A$5:$A$32,'Bridge Table'!$B94,'Dermal Crosswalk'!$C$5:$C$32,'Bridge Table'!$E94),SUMIFS('Dermal Crosswalk'!$L$5:$L$32,'Dermal Crosswalk'!$A$5:$A$32,'Bridge Table'!$B94,'Dermal Crosswalk'!$C$5:$C$32,'Bridge Table'!$E94))),"--") -> -- | O94: =IF(IFERROR(VLOOKUP($D94,$Z$8:$AD$9,5,FALSE),0)*IF($D94="Inhalation",IF($K94="Central Tendency",SUMIFS('Inhalation Exposure'!$V$4:$V$60,'Inhalation Exposure'!$B$4:$B$60,$B94,'Inhalation Exposure'!$D$4:$D$60,$C94,'Inhalation Exposure'!$E$4:$E$60,$E94),SUMIFS('Inhalation Exposure'!$U$4:$U$60,'Inhalation Exposure'!$B$4:$B$60,$B94,'Inhalation Exposure'!$D$4:$D$60,$C94,'Inhalation Exposure'!$E$4:$E$60,$E94)),IF($K94="Central Tendency",SUMIFS('Dermal Crosswalk'!$R$5:$R$32,'Dermal Crosswalk'!$A$5:$A$32,'Bridge Table'!$B94,'Dermal Crosswalk'!$C$5:$C$32,'Bridge Table'!$E94),SUMIFS('Dermal Crosswalk'!$M$5:$M$32,'Dermal Crosswalk'!$A$5:$A$32,'Bridge Table'!$B94,'Dermal Crosswalk'!$C$5:$C$32,'Bridge Table'!$E94)))=0,"--",IFERROR(VLOOKUP($D94,$Z$8:$AD$9,5,FALSE),0)*IF($D94="Inhalation",IF($K94="Central Tendency",SUMIFS('Inhalation Exposure'!$V$4:$V$60,'Inhalation Exposure'!$B$4:$B$60,$B94,'Inhalation Exposure'!$D$4:$D$60,$C94,'Inhalation Exposure'!$E$4:$E$60,$E94),SUMIFS('Inhalation Exposure'!$U$4:$U$60,'Inhalation Exposure'!$B$4:$B$60,$B94,'Inhalation Exposure'!$D$4:$D$60,$C94,'Inhalation Exposure'!$E$4:$E$60,$E94)),IF($K94="Central Tendency",SUMIFS('Dermal Crosswalk'!$R$5:$R$32,'Dermal Crosswalk'!$A$5:$A$32,'Bridge Table'!$B94,'Dermal Crosswalk'!$C$5:$C$32,'Bridge Table'!$E94),SUMIFS('Dermal Crosswalk'!$M$5:$M$32,'Dermal Crosswalk'!$A$5:$A$32,'Bridge Table'!$B94,'Dermal Crosswalk'!$C$5:$C$32,'Bridge Table'!$E94)))) -> -- | P94: N/A | Q94: N/A | R94: N/A | S94: N/A | U94: N/A | V94: N/A | W94: N/A | X94: N/A
B95: 3 | C95: ONU | D95: Inhalation | E95: 25,000-lb throughput
