Workbook

Sheet Instructions and Summary
A1: Instructions and Summary
A2: EPA has provided this optional budget spreadsheet as a resource for SWIFR applicants. Use of this spreadsheet is optional. Applicants that do not use this resource will not be penalized.
A3: Project Title: | E3: Date of Submission:
A4: Applicant Name:
A6: Please read the instructions on each worksheet tab before starting. If you have any questions, please email SWIFR@epa.gov or SWIFR@epa.gov!
A7: 1. On each tab, fill in the descriptive/comments sections next to each line item and the "Additional Explanation" section at the bottom with narrative descriptions of each budget item and how they support the proposed project.
A8: 2. Fill out the blank white cells in workbook tabs a. through i. with total project costs.
A9: 3. Blue colored cells contain instructions, headers, or summary calculations and should not be modified. Only blank white cells should be populated.
A10: 4. Enter detailed support for the project costs identified for each Category line item within each worksheet tab to autopopulate the summary tab.
A11: 5. Ensure all entered costs are allowable, allocable, and reasonable in accordance with the administrative requirements prescribed in 2 CFR 200.
A12: 6. Add rows as needed throughout tabs a. through i. If rows are added, formulas/calculations may need to be adjusted by the preparer. Do not add rows to the Instructions and summary tab.
A13: 7. All budget period cost categories are rounded to the nearest dollar.
A14: 8. Below the Summary table, describe the approach, procedures, and controls for ensuring that awarded grant funds will be expended in a timely and efficient manner. (See Section V.A.6.c of the NOFO.)
A15: 9. Voluntary committed cost share is not required under this competition, not will it be accepted. Please do not include any cost share amounts in your proposed project.
A17: SUMMARY OF BUDGET CATEGORY COSTS PROPOSED
A18: The values in this summary table are from enteries made in subsequent tabs. Only blank white cells require data entry.
A19: CATEGORY | B19: Year 1 | C19: Year 2 | D19: Year 3 | E19: Total Costs | F19: Comments (as needed)
A20: a. Personnel | B20: ='a. Personnel'!E39 -> 0 | C20: ='a. Personnel'!H39 -> 0 | D20: ='a. Personnel'!K39 -> 0 | E20: =SUM(B20:D20) -> 0
A21: b. Fringe Benefits | B21: ='b. Fringe'!D17 -> 0 | C21: ='b. Fringe'!G17 -> 0 | D21: ='b. Fringe'!J17 -> 0 | E21: =SUM(B21:D21) -> 0
A22: c. Travel | B22: ='c. Travel'!K20 -> 0 | C22: ='c. Travel'!K26 -> 0 | D22: ='c. Travel'!K32 -> 0 | E22: =SUM(B22:D22) -> 0
A23: d. Equipment | B23: ='d. Equipment'!D17 -> 0 | C23: ='d. Equipment'!D25 -> 0 | D23: ='d. Equipment'!D33 -> 0 | E23: =SUM(B23:D23) -> 0
A24: e. Supplies | B24: ='e. Supplies'!D23 -> 0 | C24: ='e. Supplies'!D33 -> 0 | D24: ='e. Supplies'!D43 -> 0 | E24: =SUM(B24:D24) -> 0
A25: f. Contractual | B25: ='f. Contractual'!C20 -> 0 | C25: ='f. Contractual'!D20 -> 0 | D25: ='f. Contractual'!E20 -> 0 | E25: =SUM(B25:D25) -> 0
A26: g. Construction | B26: ='g. Construction'!B19 -> 0 | C26: ='g. Construction'!B26 -> 0 | D26: ='g. Construction'!B33 -> 0 | E26: =SUM(B26:D26) -> 0
A27: h. Other Direct Costs | B27: ='h. Other'!D23 -> 0 | C27: ='h. Other'!D31 -> 0 | D27: ='h. Other'!D39 -> 0 | E27: =SUM(B27:D27) -> 0
A28: TOTAL DIRECT COSTS | B28: =B20+B21+B22+B23+B24+B25+B26+B27 -> 0 | C28: =C20+C21+C22+C23+C24+C25+C26+C27 -> 0 | D28: =D20+D21+D22+D23+D24+D25+D26+D27 -> 0 | E28: =SUM(E20:E27) -> 0
A29: i. Indirect Charges | B29: ='i. Indirect'!B14 -> 0 | C29: ='i. Indirect'!C14 -> 0 | D29: ='i. Indirect'!D14 -> 0 | E29: =SUM(B29:D29) -> 0
A30: TOTAL COST | B30: =B28+B29 -> 0 | C30: =C28+C29 -> 0 | D30: =D28+D29 -> 0 | E30: =E28+E29 -> 0
A32: Describe the approach, procedures, and controls for ensuring that awarded grant funds will be expended in a timely and efficient manner.
A35: Additional Explanation (as needed):

Sheet a. Personnel
A1: Detailed Budget Justification
A2: a. Personnel
A3: INSTRUCTIONS - PLEASE READ!!!
A4: 1. List project costs soley for employees of the entity completing this form. All costs for subrecipients should be included under h. Other. All costs for contractors (including consultants) must be included under f. Contractual.
A5: 2. All personnel should be identified by position title and not employee name. Identify the personnel category type by Full Time Equivalent (FTE; i.e., percentage of time), including percentage of FTE for part-time employees, base pay rate, and the estimated funding amounts.
A6: The total estimated funding amounts will automatically calculate. [For reference: One full-time employee would be 1 FTE. One half-time (20 hrs/wk) employee would be .5 FTE.]
A7: 3. Applicants are encouraged to account for anticipated cost increases between project years, such as cost-of-living increases.
A8: 4. If more than one employee has the same position title (e.g., “Technician”), list each employee on a separate line with their corresponding hours.
A9: 5. Please fill out the "Description" column with roles and responsibilities for each position. Describe whether each position is intended to be temporary or permanent. If temporary, describe the anticipated timeframe for the position.
A10: 6. Each budget period is rounded to the nearest dollar.
A12: Position Title | B12: Description | C12: Year 1 FTE | D12: Year 1 Pay Rate ($/Hr) | E12: Year 1 Total Budget Period 1 | F12: Year 2 FTE | G12: Year 2 Pay Rate ($/Hr) | H12: Year 2 Total Budget Period 2 | I12: Year 3 FTE | J12: Year 3 Pay Rate ($/Hr) | K12: Year 3 Total Budget Period 3 | L12: Project Total FTE | M12: Project Total Dollars
A13: Sr. Engineer (EXAMPLE!!!) | B13: [Briefly describe the roles and responsibilities for each position] | C13: 0.5 | D13: 85 | E13: =C13*D13*40*52 -> 88400 | F13: 0.5 | G13: 90 | H13: =F13*G13*40*52 -> 93600 | I13: 0.5 | J13: 95 | K13: =I13*J13*40*52 -> 98800 | L13: =C13+F13+I13 -> 1.5 | M13: =E13+H13+K13 -> 280800
A14: Technician 1 (EXAMPLE!!!) | C14: 1 | D14: 20 | E14: =C14*D14*40*52 -> 41600 | F14: 1 | G14: 22 | H14: =F14*G14*40*52 -> 45760 | I14: 1 | J14: 24 | K14: =I14*J14*40*52 -> 49920 | L14: =C14+F14+I14 -> 3 | M14: =E14+H14+K14 -> 137280
A15: Technician 2 (EXAMPLE!!!) | C15: 1 | D15: 20 | E15: =C15*D15*40*52 -> 41600 | F15: 0.75 | G15: 22 | H15: =F15*G15*40*52 -> 34320 | I15: 0.5 | J15: 24 | K15: =I15*J15*40*52 -> 24960 | L15: =C15+F15+I15 -> 2.25 | M15: =E15+H15+K15 -> 100880
E16: =C16*D16*40*52 -> 0 | H16: =F16*G16*40*52 -> 0 | K16: =I16*J16*40*52 -> 0 | L16: =C16+F16+I16 -> 0 | M16: =E16+H16+K16 -> 0
E17: =C17*D17*40*52 -> 0 | H17: =F17*G17*40*52 -> 0 | K17: =I17*J17*40*52 -> 0 | L17: =C17+F17+I17 -> 0 | M17: =E17+H17+K17 -> 0
E18: =C18*D18*40*52 -> 0 | H18: =F18*G18*40*52 -> 0 | K18: =I18*J18*40*52 -> 0 | L18: =C18+F18+I18 -> 0 | M18: =E18+H18+K18 -> 0
E19: =C19*D19*40*52 -> 0 | H19: =F19*G19*40*52 -> 0 | K19: =I19*J19*40*52 -> 0 | L19: =C19+F19+I19 -> 0 | M19: =E19+H19+K19 -> 0
E20: =C20*D20*40*52 -> 0 | H20: =F20*G20*40*52 -> 0 | K20: =I20*J20*40*52 -> 0 | L20: =C20+F20+I20 -> 0 | M20: =E20+H20+K20 -> 0
E21: =C21*D21*40*52 -> 0 | H21: =F21*G21*40*52 -> 0 | K21: =I21*J21*40*52 -> 0 | L21: =C21+F21+I21 -> 0 | M21: =E21+H21+K21 -> 0
E22: =C22*D22*40*52 -> 0 | H22: =F22*G22*40*52 -> 0 | K22: =I22*J22*40*52 -> 0 | L22: =C22+F22+I22 -> 0 | M22: =E22+H22+K22 -> 0
E23: =C23*D23*40*52 -> 0 | H23: =F23*G23*40*52 -> 0 | K23: =I23*J23*40*52 -> 0 | L23: =C23+F23+I23 -> 0 | M23: =E23+H23+K23 -> 0
E24: =C24*D24*40*52 -> 0 | H24: =F24*G24*40*52 -> 0 | K24: =I24*J24*40*52 -> 0 | L24: =C24+F24+I24 -> 0 | M24: =E24+H24+K24 -> 0
E25: =C25*D25*40*52 -> 0 | H25: =F25*G25*40*52 -> 0 | K25: =I25*J25*40*52 -> 0 | L25: =C25+F25+I25 -> 0 | M25: =E25+H25+K25 -> 0
E26: =C26*D26*40*52 -> 0 | H26: =F26*G26*40*52 -> 0 | K26: =I26*J26*40*52 -> 0 | L26: =C26+F26+I26 -> 0 | M26: =E26+H26+K26 -> 0
E27: =C27*D27*40*52 -> 0 | H27: =F27*G27*40*52 -> 0 | K27: =I27*J27*40*52 -> 0 | L27: =C27+F27+I27 -> 0 | M27: =E27+H27+K27 -> 0
... E38: =C38*D38*40*52 -> 0 | H38: =F38*G38*40*52 -> 0 | K38: =I38*J38*40*52 -> 0 | L38: =C38+F38+I38 -> 0 | M38: =E38+H38+K38 -> 0
C39: =SUM(C16:C38) -> 0 | E39: =SUM(E16:E38) -> 0 | F39: =SUM(F16:F38) -> 0 | H39: =SUM(H16:H38) -> 0 | I39: =SUM(I16:I38) -> 0 | K39: =SUM(K16:K38) -> 0 | L39: =C39+F39+I39 -> 0 | M39: =E39+H39+K39 -> 0
A41: Additional Explanation (as needed):

Sheet b. Fringe
A1: Detailed Budget Justification
A2: b. Fringe Benefits
A3: INSTRUCTIONS - PLEASE READ!!!
A4: 1. Fill out the table below, with each position listed in a separate line. Add additional lines if needed. If all employees receive the same fringe benefits, you can show "Total Personnel" in the Labor Type column instead of listing out all position titles.
A5: 2. The rates and how they are applied should not be averaged to get one fringe cost percentage. Complex calculations should be described/provided in the Additional Explanation section below.
A6: 3. Fringe benefit charges must comply with 2 CFR 200.431.
A7: 4. Describe the elements that comprise your fringe benefits and how they are applied to your base (e.g., Personnel) in the Additional Explanation box at the bottom.
A8: 5. Each budget period is rounded to the nearest dollar.
A10: Labor Type | B10: Year 1 Personnel Costs | C10: Year 1 Fringe Rate | D10: Year 1 Total | E10: Year 2 Personnel Costs | F10: Year 2 Fringe Rate | G10: Year 2 Total | H10: Year 3 Personnel Costs | I10: Year 3 Fringe Rate | J10: Year 3 Total | K10: Total Project
A11: EXAMPLE!!! Sr. Engineer | B11: 88400 | C11: 0.2 | D11: =B11*C11 -> 17680 | E11: 93600 | F11: 0.2 | G11: =E11*F11 -> 18720 | H11: 98800 | I11: 0.2 | J11: =H11*I11 -> 19760 | K11: =D11+G11+J11 -> 56160
D12: =C12*B12 -> 0 | G12: =E12*F12 -> 0 | J12: =H12*I12 -> 0 | K12: =D12+G12+J12 -> 0
D13: =C13*B13 -> 0 | G13: =E13*F13 -> 0 | J13: =H13*I13 -> 0 | K13: =D13+G13+J13 -> 0
D14: =C14*B14 -> 0 | G14: =E14*F14 -> 0 | J14: =H14*I14 -> 0 | K14: =D14+G14+J14 -> 0
D15: =C15*B15 -> 0 | G15: =E15*F15 -> 0 | J15: =H15*I15 -> 0 | K15: =D15+G15+J15 -> 0
D16: =C16*B16 -> 0 | G16: =E16*F16 -> 0 | J16: =H16*I16 -> 0 | K16: =D16+G16+J16 -> 0
A17: Total: | B17: =SUM(B12:B16) -> 0 | D17: =SUM(D12:D16) -> 0 | E17: =SUM(E12:E16) -> 0 | G17: =SUM(G12:G16) -> 0 | H17: =SUM(H12:H16) -> 0 | J17: =SUM(J12:J16) -> 0 | K17: =D17+G17+J17 -> 0
A20: Additional Explanation: Please use this box (or an attachment) to list the elements that comprise your fringe benefits and how they are applied to your base (e.g. Personnel) to arrive at your fringe benefit rate.

Sheet c. Travel
A1: Detailed Budget Justification
A2: c. Travel
A3: INSTRUCTIONS - PLEASE READ!!!
A4: 1. Specify the mileage, per diem, estimated number of trips, number of travelers, and other costs for each type of travel. Examples of Purpose of Travel are off-site trainings and events, subrecipient site visits, EPA meetings, project mgmt. meetings, etc.
A5: Examples of Basis for Estimating Costs are past trips, travel quotes, GSA rates, etc.
A6: 2. All listed travel must be necessary to achieve project goals and objectives and should also be described in the Narrative Proposal.
A7: 3. Travel costs are governed by 2 CFR 200.475. Travel costs should remain consistent with travel costs incurred by an organization during normal business operations as a result of the organizations written travel policy.
A8: In absence of a written travel policy, organizations must follow the regulations prescribed by the General Services Administration. (See https://www.gsa.gov/travel/plan-book/per-diem-rates for GSA per diem rates.)
A9: 4. Calculate the "Total Vehicle Cost" based on the appropriate mode(s) of transportation required for each trip. See 41 CFR 301-10 for general GSA guidance on allowable transportation expenses.
A10: 5. If foreign travel is proposed, be sure to note it in the "Purpose of Travel" and/or "Additional Explanation" sections. Any foreign travel will require the proper documentation and approvals from the EPA Office of International and Tribal Affairs (OITA).
A11: 6. Each budget period is rounded to the nearest dollar.
A13: Purpose of Travel | B13: Depart From | C13: Destination | D13: No. of Travelers | E13: No. of Days | F13: No. of Nights | G13: Lodging per night per Traveler | H13: Flight per Traveler | I13: Total Vehicle Costs | J13: Per Diem per day per Traveler | K13: Cost per Trip | L13: Basis for Estimating Costs
A14: Year 1
A15: EXAMPLE!!! Attending the Tribal Lands and Environment Forum (TLEF) | D15: 2 | E15: 4 | F15: 3 | G15: 250 | H15: 500 | I15: 100 | J15: 160 | K15: =(E15*J15*D15)+(F15*G15*D15)+(H15*D15)+I15 -> 3880 | L15: Current GSA rates
K16: =(E16*J16*D16)+(F16*G16*D16)+(H16*D16)+I16 -> 0
K17: =(E17*J17*D17)+(F17*G17*D17)+(H17*D17)+I17 -> 0
K18: =(E18*J18*D18)+(F18*G18*D18)+(H18*D18)+I18 -> 0
K19: =(E19*J19*D19)+(F19*G19*D19)+(H19*D19)+I19 -> 0
A20: Year 1 Total | K20: =SUM(K16:K19) -> 0
A21: Year 2
K22: =(E22*J22*D22)+(F22*G22*D22)+(H22*D22)+I22 -> 0
K23: =(E23*J23*D23)+(F23*G23*D23)+(H23*D23)+I23 -> 0
K24: =(E24*J24*D24)+(F24*G24*D24)+(H24*D24)+I24 -> 0
K25: =(E25*J25*D25)+(F25*G25*D25)+(H25*D25)+I25 -> 0
A26: Year 2 Total | K26: =SUM(K22:K25) -> 0
A27: Year 3
K28: =(E28*J28*D28)+(F28*G28*D28)+(H28*D28)+I28 -> 0
K29: =(E29*J29*D29)+(F29*G29*D29)+(H29*D29)+I29 -> 0
K30: =(E30*J30*D30)+(F30*G30*D30)+(H30*D30)+I30 -> 0
K31: =(E31*J31*D31)+(F31*G31*D31)+(H31*D31)+I31 -> 0
A32: Year 3 Total | K32: =SUM(K28:K31) -> 0
A33: PROJECT TOTAL | K33: =K20+K26+K32 -> 0
A35: Additional Explanation (as needed):

Sheet d. Equipment
A1: Detailed Budget Justification
A2: d. Equipment
A3: INSTRUCTIONS - PLEASE READ!!!
A4: 1. Equipment is generally defined as an item with an acquisition cost equal to or greater than $10,000 per unit, and a useful life expectancy of more than one year. Please refer to the applicable Federal regulations in 2 CFR 200 for specific equipment definitions and treatment.
A5: 2. List all equipment below, providing a basis of cost (e.g. vendor quotes, catalog prices, prior invoices, etc.). In the "Description" column, briefly justify items as they relate to the Narrative Proposal.
A6: 3. Each budget period is rounded to the nearest dollar.
A8: Equipment Item | B8: Qty | C8: Unit Cost | D8: Total Cost | E8: Basis of Cost | F8: Description
A9: Year 1
A10: EXAMPLE!!! Heavy duty trailer | B10: 2 | C10: 12000 | D10: =B10*C10 -> 24000 | E10: Vendor Quote | F10: Trailer to transport large recycling materials from office buildings
D11: =B11*C11 -> 0
D12: =B12*C12 -> 0
D13: =B13*C13 -> 0
D14: =B14*C14 -> 0
D15: =B15*C15 -> 0
D16: =B16*C16 -> 0
A17: Year 1 Total | D17: =SUM(D11:D16) -> 0
A18: Year 2
D19: =B19*C19 -> 0
D20: =B20*C20 -> 0
D21: =B21*C21 -> 0
D22: =B22*C22 -> 0
D23: =B23*C23 -> 0
D24: =B24*C24 -> 0
A25: Year 2 Total | D25: =SUM(D19:D24) -> 0
A26: Year 3
D27: =B27*C27 -> 0
D28: =B28*C28 -> 0
D29: =B29*C29 -> 0
D30: =B30*C30 -> 0
D31: =B31*C31 -> 0
D32: =B32*C32 -> 0
A33: Year 3 Total | D33: =SUM(D27:D32) -> 0
A34: PROJECT TOTAL | D34: =D17+D25+D33 -> 0
A36: Additional Explanation (as needed):

Sheet e. Supplies
A1: Detailed Budget Justification
A2: e. Supplies
A3: INSTRUCTIONS - PLEASE READ!!!
A4: 1. Supplies means all tangible personal property other than “equipment.”
A5: Supplies are generally defined as an item with an acquisition cost of less than $10,000 per unit and a useful life expectancy of less than one year. Supplies are generally consumed during the project performance.
A6: The budget detail should identify categories of supplies to be procured (e.g., laboratory supplies or office supplies).
A7: Non-tangible goods and services associated with supplies, such as occasional photocopy services and rental costs should be included in the “Other” category. Please refer to the applicable Federal regulations in 2 CFR 200 for specific supplies definitions and treatment.
A8: 2. List all proposed supplies below, providing a basis of costs (e.g. vendor quotes, catalog prices, prior invoices, etc.). Briefly justify the need for the Supplies as they apply to the Narrative Proposal.
A9: 3. Multiple supply items valued at under $10,000 used to assemble an equipment item with a value greater than $10,000 with a useful life of more than one year should be included under d. Equipment.
A10: 4. Add rows as needed. If rows are added, formulas/calculations may need to be adjusted by the preparer.
A11: 5. Each budget period is rounded to the nearest dollar.
A13: Supply Item | B13: Qty | C13: Unit Cost | D13: Total Cost | E13: Basis of Cost | F13: Description
A14: Year 1
A15: EXAMPLE!!! PPE Safety Supplies (gloves, boots, hand tools, safety glasses) | B15: 10 | C15: 200 | D15: =B15*C15 -> 2000 | E15: Catalog price | F15: [Insert description of purpose, as it applies to the Narrative Proposal activities.]
D16: =B16*C16 -> 0
D17: =B17*C17 -> 0
D18: =B18*C18 -> 0
D19: =B19*C19 -> 0
D20: =B20*C20 -> 0
D21: =B21*C21 -> 0
D22: =B22*C22 -> 0
A23: Year 1 Total | D23: =SUM(D16:D22) -> 0
A24: Year 2
D25: =B25*C25 -> 0
D26: =B26*C26 -> 0
D27: =B27*C27 -> 0
D28: =B28*C28 -> 0
D29: =B29*C29 -> 0
D30: =B30*C30 -> 0
D31: =B31*C31 -> 0
D32: =B32*C32 -> 0
A33: Year 2 Total | D33: =SUM(D25:D32) -> 0
A34: Year 3
D35: =B35*C35 -> 0
D36: =B36*C36 -> 0
D37: =B37*C37 -> 0
D38: =B38*C38 -> 0
D39: =B39*C39 -> 0
D40: =B40*C40 -> 0
D41: =B41*C41 -> 0
...

Sheet f. Contractual
A1: Detailed Budget Justification
A2: f. Contractual
A3: INSTRUCTIONS - PLEASE READ!!!
A4: 1. List all procurement contracts under the proposed project. Recipients use procurement contracts to acquire property (including intellectual property such software licenses) and services needed to carry out the EPA funded project or program.
A5: See EPA’s Best Practice Guide for Procuring Services, Supplies, and Equipment Under EPA Assistance Agreements for detailed information on EPA’s interpretation of the procurement requirements in 2 CFR Part 200 (2 CFR 200.317 thru 200.327).
A6: [https://www.epa.gov/grants/best-practice-guide-procuring-services-supplies-and-equipment-under-epa-assistance]
A7: 2. EPA does not require or encourage recipients to identify contractors (including consultants) in the application, but recipients may do so if they describe the procurement process consistent with 2 CFR 200.318 through 200.320 that was used to select the contractor.
A8: 3. In the “Purpose and Basis of Cost” column below, briefly describe the scope of work or services to be provided, proposed duration, and proposed procurement method (competitive or non-competitive).
A9: 4. Applicants should briefly explain in their Narrative Proposal and budget narrative ("Additional Explanation" section below) why contracting is appropriate for the project.
A10: 5. Each budget period is rounded to the nearest dollar.
A12: Contractor/Service | B12: Purpose and Basis of Cost | C12: Year 1 | D12: Year 2 | E12: Year 3 | F12: Project Total
A13: EXAMPLE!!! Engineering services for design and spec. work for improvements to facility | B13: [Insert description of purpose, as it applies to the Narrative Proposal activities.] | C13: 48000 | D13: 32000 | E13: 16000 | F13: =SUM(C13:E13) -> 96000
F14: =SUM(C14:E14) -> 0
F15: =SUM(C15:E15) -> 0
F16: =SUM(C16:E16) -> 0
F17: =SUM(C17:E17) -> 0
F18: =SUM(C18:E18) -> 0
F19: =SUM(C19:E19) -> 0
A20: Total Contractual | C20: =SUM(C14:C19) -> 0 | D20: =SUM(D14:D19) -> 0 | E20: =SUM(E14:E19) -> 0 | F20: =SUM(F14:F19) -> 0
A22: Additional Explanation (as needed):

Sheet g. Construction
A1: Detailed Budget Justification
A2: g. Construction
A3: INSTRUCTIONS - PLEASE READ!!!
A4: 1. Construction is defined in 40 CFR 33.103 as “ . . . erection, alteration, or repair (including dredging, excavating, and painting) of buildings, structures,
A5: or other improvements to real property, and activities in response to a release or a threat of a release of a hazardous substance into the environment, or activities to prevent the introduction of a hazardous substance into a water supply."
A6: 2. List all proposed construction below, providing a basis of cost such as engineering estimates, prior construction, etc., and briefly justify its need as it applies to the Narrative Proposal.
A7: 3. Anticipated costs for hiring general contractors and other contractors performing activities described in 40 CFR 33.103 will be categorized under g. Construction. Anticipated costs for pre-construction architectural and engineering services should be entered under f. Contractual.
A8: For additional guidance on categorizing construction costs, see Interim General Budget Development Guidance for Applicants and Recipients of EPA Financial Assistance (https://www.epa.gov/sites/default/files/2019-05/documents/applicant-budget-development-guidance.pdf).
A9: 4. Each budget period is rounded to the nearest dollar.
A11: General Description | B11: Cost | C11: Basis of Cost | D11: Justification of need
A12: Year 1
A13: EXAMPLE ONLY!!! General contractor for facility construction | B13: 28000 | C13: Vendor quotes | D13: [Insert description of need, as it applies to the Narrative Proposal activities.]
A19: Year 1 Total | B19: =SUM(B14:B18) -> 0
A20: Year 2
A26: Year 2 Total | B26: =SUM(B21:B25) -> 0
A27: Year 3
A33: Year 3 Total | B33: =SUM(B28:B32) -> 0
A35: Description:

Sheet h. Other
A1: Detailed Budget Justification
A2: h. Other
A3: INSTRUCTIONS - PLEASE READ!!!
A4: 1. This category must include only those types of direct costs that do not fit in any of the specific budget categories. Examples of costs that may be in this category are:
A5: insurance; telephone services and utilities; occasional document reproduction at local copying centers; rental/lease of equipment, office space, and meeting facilities; participant support costs; subawards; and land acquisition costs when authorized under the financial assistance program.
A6: Please refer to the EPA Guidance on Participant Support Costs
A7: (https://www.epa.gov/sites/default/files/2020-11/documents/epa-guidance-on-participant-support-costs.pdf) and the Interim General Budget Development Guidance for Applicants and Recipients of EPA Financial Assistance (https://www.epa.gov/sites/default/files/2019-05/documents/applicant-budget-development-guidance.pdf).
A8: 2. Basis of cost are items such as vendor quotes, prior purchases of similar or like items, published price list, etc.
A9: 3. Please fill out the "Description and Justification" column with a detailed description of "Other" cost items and how they will be used in the project.
A10: Please be sure to tag any expenses/items (in the “Description” column) that may go to subawardees with “Subaward,” and any participant support costs (such as stipends/incentives/rebates) with “PSC.”
A11: Provide detail (or reference to your Narrative Proposal) such as how much each participant will receive, merit to receive item or money, and how many participants will get the incentive.
A12: 4. Each budget period is rounded to the nearest dollar.
A14: Item | B14: Unit Cost | C14: Quantity | D14: Total Cost | E14: Basis of Cost | F14: Description and Justification
A15: Year 1
A16: EXAMPLE!!! Monetary subsidies to households for the purchases of household recycling bins | B16: 50 | C16: 320 | D16: 16000 | E16: Vendor quotes | F16: [Insert description of need, as it applies to the Narrative Proposal activities.]
D17: =B17*C17 -> 0
D18: =B18*C18 -> 0
D19: =B19*C19 -> 0
D20: =B20*C20 -> 0
D21: =B21*C21 -> 0
D22: =B22*C22 -> 0
A23: Year 1 Total | D23: =SUM(D17:D22) -> 0
A24: Year 2
D25: =B25*C25 -> 0
D26: =B26*C26 -> 0
D27: =B27*C27 -> 0
D28: =B28*C28 -> 0
D29: =B29*C29 -> 0
D30: =B30*C30 -> 0
A31: Year 2 Total | D31: =SUM(D25:D30) -> 0
A32: Year 3
D33: =B33*C33 -> 0
D34: =B34*C34 -> 0
D35: =B35*C35 -> 0
D36: =B36*C36 -> 0
D37: =B37*C37 -> 0
D38: =B38*C38 -> 0
A39: Year 3 Total | D39: =SUM(D33:D38) -> 0
A40: PROJECT TOTAL | D40: =D39+D31+D23 -> 0
A42: Additional Explanation (as needed):

Sheet i. Indirect
A1: Detailed Budget Justification
A2: i. Indirect Costs
A4: INSTRUCTIONS - PLEASE READ!!!
A5: 1. Fill out the table below to indicate how your indirect costs are calculated. Use the box below to provide additional explanation regarding your indirect rate calculation.
A6: 2. Please refer to the Indirect Costs clause in the EPA Solicitation Clauses (https://www.epa.gov/grants/epa-solicitation-clauses-20240614) for more details on indirect costs.
A7: 3. IMPORTANT: You must provide an explanation (in "Additional Explanation" below, or in a separate attachment) and show how your indirect cost rate was applied to this budget in order to come up with the indirect costs shown.
A8: 4. Fill in Row 10 only if you are requesting less than the allowable total of indirect costs. If you include amounts in Row 10, please explain in the "Additional Explanation" section below.
A9: 5. Each budget period is rounded to the nearest dollar.
A11: Provide ONLY Applicable Rates: | B11: Year 1 | C11: Year 2 | D11: Year 3 | E11: Total | F11: Explanation of Distribution Base
A12: Indirect Cost Rate | B12: 0 | C12: 0 | D12: 0
A13: Indirect Cost Distribution Base
A14: Total Allowable Indirect Costs | B14: =B12*B13 -> 0 | C14: =C12*C13 -> 0 | D14: =D12*D13 -> 0 | E14: =SUM(B14:D14) -> 0
A15: Total indirect costs requested (if less than allowable total calculated above):
A17: Additional Explanation (as needed): *IMPORTANT: Please use this box (or an attachment) to further explain how your total indirect costs were calculated.

Sheet SF-424A
A1: Applicant Name: | E1: Award Number:
A2: Budget Information - Non Construction Programs
A3: OMB Approval No. 0348-0044
A4: Section A - Budget Summary
B5: Grant Program Function or Activity | C5: Catalog of Federal Domestic Assistance Number | D5: Estimated Unobligated Funds | F5: New or Revised Budget
D6: Federal | E6: Non-Federal | F6: Federal | G6: Non-Federal | H6: Total
B7: (a) | C7: (b) | D7: (c ) | E7: (d) | F7: (e) | G7: (f) | H7: (g)
A8: 1. | B8: Budget period 1 | F8: =D26-G8 -> #REF! | G8: =#REF! -> #REF! | H8: =SUM(D8:G8) -> #REF!
A9: 2. | B9: Budget period 2 | F9: =E26-G9 -> #REF! | G9: =#REF! -> #REF! | H9: =SUM(D9:G9) -> #REF!
A10: 3. | B10: Budget period 3 | F10: =F26-#REF! -> #REF! | G10: =#REF! -> #REF! | H10: =SUM(D10:G10) -> #REF!
A11: 4. | H11: =SUM(D11:G11) -> 0
A12: 5. | B12: Totals | D12: =SUM(D8:D11) -> 0 | E12: =SUM(E8:E11) -> 0 | F12: =SUM(F8:F11) -> #REF! | G12: =SUM(G8:G11) -> #REF! | H12: =SUM(H8:H11) -> #REF!
A13: Section B - Budget Categories
A14: 6. | B14: Object Class Categories | D14: Grant Program, Function or Activity | H14: Total (5)
D15: Budget period 1 | E15: Budget period 2 | F15: Budget period 3 | G15: (4)
B16: a. Personnel | D16: ='Instructions and Summary'!B20 -> 0 | E16: ='Instructions and Summary'!C20 -> 0 | F16: ='Instructions and Summary'!D20 -> 0 | H16: =SUM(D16:G16) -> 0
B17: b. Fringe Benefits | D17: ='Instructions and Summary'!B21 -> 0 | E17: ='Instructions and Summary'!C21 -> 0 | F17: ='Instructions and Summary'!D21 -> 0 | H17: =SUM(D17:G17) -> 0
B18: c. Travel | D18: ='Instructions and Summary'!B22 -> 0 | E18: ='Instructions and Summary'!C22 -> 0 | F18: ='Instructions and Summary'!D22 -> 0 | H18: =SUM(D18:G18) -> 0
B19: d. Equipment | D19: ='Instructions and Summary'!B23 -> 0 | E19: ='Instructions and Summary'!C23 -> 0 | F19: ='Instructions and Summary'!D23 -> 0 | H19: =SUM(D19:G19) -> 0
B20: e. Supplies | D20: ='Instructions and Summary'!B24 -> 0 | E20: ='Instructions and Summary'!C24 -> 0 | F20: ='Instructions and Summary'!D24 -> 0 | H20: =SUM(D20:G20) -> 0
B21: f. Contractual | D21: ='Instructions and Summary'!#REF! -> #REF! | E21: ='Instructions and Summary'!#REF! -> #REF! | F21: ='Instructions and Summary'!#REF! -> #REF! | H21: =SUM(D21:G21) -> #REF!
B22: g. Construction | D22: ='Instructions and Summary'!B26 -> 0 | E22: ='Instructions and Summary'!C26 -> 0 | F22: ='Instructions and Summary'!D26 -> 0 | H22: =SUM(D22:G22) -> 0
B23: h. Other | D23: ='Instructions and Summary'!B27 -> 0 | E23: ='Instructions and Summary'!C27 -> 0 | F23: ='Instructions and Summary'!D27 -> 0 | H23: =SUM(D23:G23) -> 0
B24: i. Total Direct Charges (sum of 6a-6h) | D24: =SUM(D16:D23) -> #REF! | E24: =SUM(E16:E23) -> #REF! | F24: =SUM(F16:F23) -> #REF! | G24: =SUM(G16:G23) -> 0 | H24: =SUM(D24:G24) -> #REF!
B25: j. Indirect Charges | D25: ='Instructions and Summary'!B29 -> 0 | E25: ='Instructions and Summary'!C29 -> 0 | F25: ='Instructions and Summary'!D29 -> 0 | H25: =SUM(D25:G25) -> 0
B26: k. Totals (sum of 6i-6j) | D26: =SUM(D24:D25) -> #REF! | E26: =SUM(E24:E25) -> #REF! | F26: =SUM(F24:F25) -> #REF! | G26: =SUM(G24:G25) -> 0 | H26: =SUM(H24:H25) -> #REF!
A28: 7. | B28: Program Income | H28: =SUM(D28:G28) -> 0
H30: SF-424A (Rev. 4-92)
A31: Previous Edition Usable | G31: Prescribed by OMB Circular A-102
A32: Authorized for Local Reproduction
A34: Section C - Non-Federal Resources
B35: (a) Grant Program | E35: (b) Applicant | F35: (c ) State | G35: (d) Other Sources | H35: (e) Totals
A36: 8. | B36: Budget period 1 | H36: =SUM(E36:G36) -> 0
A37: 9. | B37: Budget period 2 | H37: =SUM(E37:G37) -> 0
A38: 10. | B38: Budget period 3 | H38: =SUM(E38:G38) -> 0
A39: 11. | H39: =SUM(E39:G39) -> 0
A40: 12. | B40: Total (sum of lines 8 - 11) | E40: =SUM(E36:E39) -> 0 | F40: =SUM(F36:F39) -> 0 | G40: =SUM(G36:G39) -> 0 | H40: =SUM(H36:H39) -> 0
A41: Section D - Forecasted Cash Needs
D42: Total for 1st Year | E42: 1st Quarter | F42: 2nd Quarter | G42: 3rd Quarter | H42: 4th quarter
A43: 13. | B43: Federal | D43: =SUM(E43:H43) -> 0
...
