{"text_format":"1","workbook":"xlsx","n_sheets":8,"sheets":["Personal GHG Calculator","Assumptions","EGRID_DATA","EMISSION_FACTORS","WASTE","Heating Equip Upgrade","Clothes Washer","Sheet1"],"not_rendered":{"charts":0,"images":7,"macros":1,"external_links":0,"defined_names":94,"comments":0,"pivot_tables":0},"unopened":[],"bounds":{"document_bytes":16777216,"sheet_cells":100000,"rows_first":2000,"rows_last":500,"rows_between":2000,"halvings":0,"cell_chars":16384,"cell_head_chars":4096},"cells_cut":0,"cells_raw":0,"read":"whole","date_system":"1900"}

{"sheet":"Personal GHG Calculator","index":0,"n_rows":199,"n_cols":33,"rows_kept":199,"cut":false,"hidden":false,"merged":[[173,0,173,4],[190,0,190,4],[181,0,181,4],[189,0,189,4],[188,0,188,4],[174,0,176,3],[172,0,172,2],[157,0,159,4],[150,0,152,4],[162,0,169,4],[159,13,161,13],[128,14,128,17],[143,0,143,3],[136,0,136,3],[139,0,140,3],[133,0,133,3],[129,13,131,13],[127,14,127,18],[88,0,88,2],[64,0,64,3],[70,0,70,3],[123,0,123,2],[82,9,82,11],[123,9,123,11],[109,0,109,2],[103,0,103,2],[48,0,48,3],[174,13,180,13],[172,9,172,11],[162,13,169,13],[157,13,158,13],[148,0,148,3],[144,0,144,4],[153,13,155,13],[148,13,149,13],[150,13,152,13],[63,0,63,4],[108,0,108,2],[147,0,147,3],[53,0,53,3],[60,9,60,11],[62,0,62,4],[146,13,147,13],[125,13,127,13],[137,0,137,2],[66,0,66,3],[68,0,68,3],[73,5,73,7],[105,5,105,11],[25,13,27,13],[63,9,63,11],[88,9,88,11],[76,13,79,13],[44,0,44,3],[36,13,38,13],[44,7,45,7],[42,0,42,3],[41,0,41,3],[39,0,39,3],[34,9,34,11],[57,0,57,3],[56,0,56,3],[45,0,46,3],[37,0,37,3],[52,0,52,3],[23,10,23,12],[22,7,22,9],[10,9,10,11],[14,7,14,9],[18,7,18,9],[20,7,20,9],[16,7,16,9],[25,0,26,2],[36,0,36,3],[25,3,27,5],[11,0,11,3],[12,0,12,3],[23,0,23,3],[13,0,13,3],[28,0,28,2],[3,0,3,3],[4,0,4,3],[6,0,6,3],[9,0,9,3],[21,0,21,3]]}
[]
["Your Current Household Emissions"]
[]
["The Basics"]
["How many people live in your home?"]
[null,null,null,"What is your zip code?"]
["What is your household's primary heating source?"]
[null,null,"Enter 1 for natural gas, 2 for electric heat, 3 for oil, 4 for propane, 5 for wood, or 6 if you do not heat your house"]
[]
["Household Vehicles"]
[null,null,null,null,null,"Enter your data",null,null,null,"Estimated pounds of carbon dioxide/year",null,null,null,"Equation explanations"]
["How many vehicles does your household have?"]
[]
[]
[null,"Vehicle 1 ",null,null,"Miles driven",null,null,"enter 1 if this represents miles per week or 2 if it's miles per year",null,null,{"$f":"average_mpg","v":24.8},"Miles per Gallon"]
[]
[null,"Vehicle 2",null,null,"Miles driven",null,null,"enter 1 if this represents miles per week or 2 if it's miles per year",null,null,{"$f":"average_mpg","v":24.8},"Miles per Gallon"]
[]
[null,"Vehicle 3",null,null,"Miles driven",null,null,"enter 1 if this represents miles per week or 2 if it's miles per year",null,null,{"$f":"average_mpg","v":24.8},"Miles per Gallon"]
[]
[null,"Vehicle 4 ",null,0,"Miles driven",null,null,"enter 1 if this represents miles per week or 2 if it's miles per year",null,null,{"$f":"average_mpg","v":24.8},"Miles per Gallon"]
[]
[null,"Vehicle 5",null,0,"Miles driven",null,null,"enter 1 if this represents miles per week or 2 if it's miles per year",null,null,{"$f":"average_mpg","v":24.8},"Miles per Gallon"]
[]
[]
["208 miles/week is about average in the United States per vehicle.",null,null,"If you don’t know your car’s fuel economy, you can look it up at https://www.fueleconomy.gov The national average is 24.8 miles per gallon.",null,null,null,null,null,{"$f":"IF(D15=0,0,IF(G15=1,(D15*52)/K15*EF_passenger_vehicle*(nonCO2_vehicle_emissions_ratio),(D15)/K15*EF_passenger_vehicle*(nonCO2_vehicle_emissions_ratio)))+IF(D17=0,0,IF(G17=1,(D17*52)/K17*EF_passenger_vehicle*(nonCO2_vehicle_emissions_ratio),(D17)/K17*EF_passenger_vehicle*(nonCO2_vehicle_emissions_ratio)))+IF(D19=0,0,IF(G19=1,(D19*52)/K19*EF_passenger_vehicle*(nonCO2_vehicle_emissions_ratio),(D19)/K19*EF_passenger_vehicle*(nonCO2_vehicle_emissions_ratio)))+IF(D21=0,0,IF(G21=1,(D21*52)/K21*EF_passenger_vehicle*(nonCO2_vehicle_emissions_ratio),(D21)/K21*EF_passenger_vehicle*(nonCO2_vehicle_emissions_ratio)))+IF(D23=0,0,IF(G23=1,(D23*52)/K23*EF_passenger_vehicle*(nonCO2_vehicle_emissions_ratio),(D23)/K23*EF_passenger_vehicle*(nonCO2_vehicle_emissions_ratio)))+J29","v":0},"Pounds of carbon dioxide/year",null,null,"Emissions  = \nSum of vehicles 1-5:\n(number of miles driven per week for vehicle #1 * weeks in a year) / average household fuel efficiency of vehicle #1 * pounds of CO2 emitted per gallon * emissions of greenhouse gases other than CO2 "]
[null,null,null,null,null,null,null,null,null,"8,472 pounds is about average per vehicle over a year"]
[]
["Do you perform regular maintenance on your vehicles?",null,null,null,null,null,null,null,null,{"$f":"(IF(F29=2,IF(G15=1,(D15*52)/K15*EF_passenger_vehicle*(nonCO2_vehicle_emissions_ratio),(D15)/K15*EF_passenger_vehicle*(nonCO2_vehicle_emissions_ratio))*vehicle_efficiency_improvements+IF(G17=1,(D17*52)/K17*EF_passenger_vehicle*(nonCO2_vehicle_emissions_ratio),(D17)/K17*EF_passenger_vehicle*(nonCO2_vehicle_emissions_ratio))*vehicle_efficiency_improvements+IF(G19=1,(D19*52)/K19*EF_passenger_vehicle*(nonCO2_vehicle_emissions_ratio),(D19)/K19*EF_passenger_vehicle*(nonCO2_vehicle_emissions_ratio))*vehicle_efficiency_improvements+IF(G21=1,(D21*52)/K21*EF_passenger_vehicle*(nonCO2_vehicle_emissions_ratio),(D21)/K21*EF_passenger_vehicle*(nonCO2_vehicle_emissions_ratio))*vehicle_efficiency_improvements+IF(G23=1,(D23*52)/K23*EF_passenger_vehicle*(nonCO2_vehicle_emissions_ratio),(D23)/K23*EF_passenger_vehicle*(nonCO2_vehicle_emissions_ratio))*vehicle_efficiency_improvements,\"0\"))","v":"0"},null,null,null,"Emissions = If no is selected:\nSum of vehicles 1-5:\nIf vehicle #1's input is miles per week, then, (miles driven per week by vehicle #1 * number of weeks in a year) / vehicle #1's fuel efficiency * pounds of CO2 emitted per gallon * emissions of greenhouse gases other than CO2 * percent decrease in fuel efficiency from not performing regular maintenance on your vehicles \nIf vehicle #1's input is miles per year, then, miles driven per year by vehicle #1 / vehicle #1's fuel efficiency * pounds of CO2 emitted per gallon * emissions of greenhouse gases other than CO2 * percent decrease in fuel efficiency from not performing regular maintenance on your vehicles"]
[null,null,null,null,null,"enter 1 for yes and 2 for no",null,null,null,"pounds/yr"]
[null,null,null,null,null,"Regular maintenance includes: keeping your engine properly tuned and tires properly inflated",null,null,null,null,null,null,null,"Economic savings = If action is selected:\nSum of vehicles 1-5:\nIf vehicle #1's input is miles per week, then, (miles driven per week by vehicle #1 * number of weeks in a year) / vehicle #1's fuel efficiency * price per gallon of gasoline * percent increase in fuel efficiency from performing regular maintenance on your vehicles \nIf vehicle #1's input is miles per year, then, miles driven per year by vehicle #1 / vehicle #1's fuel efficiency * price per gallon of gasoline * percent increase in fuel efficiency from performing regular maintenance on your vehicles "]
[]
[]
["Home Energy"]
[null,null,null,null,null,"Enter your data",null,null,null,"Estimated pounds of carbon dioxide/year",null,null,null,"Equation explanations"]
[null,null,null,null,null,null,null,"Enter 1 for dollars, 2 for thousand cubic feet, 3 for therms"]
["How much natural gas does your household use per month?",null,null,null,null,null,null,null,null,{"$f":"IF(H37=1,(F37/Natural_gas_cost_1000CF)*EF_natural_gas*12,IF(H37=2,EF_natural_gas*F37*12,IF(H37=3,EF_natural_gas_therm*F37*12)))","v":false},"Pounds of carbon dioxide/year",null,null,"Emissions = \nIf input is dollars, then, (average monthly gas bill per month / price per thousand cubic feet) pounds of CO2 per thousand cubic feet of natural gas * months in a year \nIf input is thousand cubic feet, then, (average number of cubic feet consumed per month * pounds of C02 per thousand cubic feet of natural gas * months in a year \nIf input is therms, (average number of therms consumed per month / pounds of CO2 per therm of natural gas * months in a year "]
["If you enter your monthly consumption in thousand cubic feet, you'll get a more accurate estimate. If you enter dollars, our calculations assume you pay $15.23/thousand cubic feet.",null,null,null,null,"$28 is about average in the United States for a household of one person.",null,null,null,"2,730 pounds is about average for a household of one person over a year."]
[]
[null,null,null,null,null,null,null,"Enter 1 for dollars, 2 for kilowatt-hours"]
[]
["How much electricity does your household use per month?",null,null,null,null,null,null,1,null,{"$f":"IF(F45=2,IF(H42=1,(F42/cost_per_kWh)*e_factor_value*12,IF(H42=2,(F42)*e_factor_value*12)),IF(H42=1,((F42/cost_per_kWh)*e_factor_value*12)*(1-F49),IF(H42=2,(F42)*12*(1-F49)*e_factor_value)))","v":{"$error":"#N/A"}},"Pounds of carbon dioxide equivalent/year",null,null,"Emissions =  \nIf input is dollars, then, (average monthly electric bill / price per kWh) * electricity emission factor  * months in a year \nIf input is kWh, then, average number of kWh consumed per month * electricity emission factor  * months in a year \n\nIf uses green power, then, multiply by (1-percentage of green power used."]
["If you enter your average kilowatt-hours, you'll get a more accurate estimate. If you enter dollars, our calculations assume that you pay 16.09 cents/kWh.",null,null,null,null,"$56 is about average in the United States for a household of one person.",null,null,null,"3,513 pounds is about average in the U.S. for a household of one person over a year."]
[]
["Does your household currently purchase green power?",null,null,null,null,1,null,"Enter 1 for yes, 2 for no"]
["Green power can often be bought through your local utility or through a green power marketer. For a description of green power visit (http://www.epa.gov/greenpower/whatis/index.htm)."]
[]
[]
["If so, what portion of your household's total purchased electricity use is green power?"]
["Enter 100% if you buy all of your electricity as green power."]
[]
[null,null,null,null,null,null,null,"Enter 1 for dollars, 2 for gallons"]
["How much fuel oil does your household use per month?",null,null,null,null,null,null,null,null,{"$f":"IF(H53=1,(F53/fuel_oil_cost)*EF_fuel_oil_gallon*12,IF(H53=2,EF_fuel_oil_gallon*F53*12))","v":false},"Pounds of carbon dioxide/year",null,null,"Emissions =  \nIf input is dollars, then, (average monthly fuel oil bill / price per gallon) fuel oil emission factor * months in a year \nIf input is gallons, then, (average gallons of fuel oil consumed per month) fuel oil emission factor * months in a year "]
["Divide your annual fuel oil consumption (in gallons or dollars) by 12 to obtain a monthly average. If you enter your monthly fuel oil use in gallons, you'll get a more accurate estimate. If you enter dollars, our calculations assume that you pay $4.27/gallon.",null,null,null,null,"$72 is about average in                                          the United States for a                            household of one person.",null,null,null,"4,596 pounds is about average for a household of one person over a year."]
[]
[null,null,null,null,null,null,null,"Enter 1 for dollars, 2 for gallons"]
["How much propane does your household use per month?",null,null,null,null,null,null,null,null,{"$f":"IF(H57=1,(F57/propane_cost)*EF_propane*12,IF(H57=2,EF_propane*F57*12))","v":false},"Pounds of carbon dioxide/year",null,null,"Emissions =  \nIf input is dollars, then, (average monthly propane bill / price per gallon) propane emission factor * months in a year \nIf input is gallons, then, (average gallons of propane consumed per month) propane emission factor * months in a year "]
["If you enter your monthly propane use in gallons, you'll get a more accurate estimate. If you enter dollars, our calculations assume that you pay $2.56/gallon.",null,null,null,null,"$33 is about average in                                          the United States for a                            household of one person.",null,null,null,"1,955 pounds is about average for a household of one person over a year."]
[]
["Waste"]
[null,null,null,null,null,"Enter your data",null,null,null,"Estimated pounds of carbon dioxide/year",null,null,null,"Equation explanations"]
[]
["Based on the number of people in your household, the box at right shows your estimated greenhouse gas emissions from waste. However, if you currently recycle certain materials, your waste emissions may be lower. ",null,null,null,null,"Total Waste Emissions Before Recycling",null,null,null,{"$f":"F5*average_waste_emissions","v":0},"Pounds of carbon dioxide equivalent/year",null,null,"Emissions = number of people in household * average lb CO2 equivalent. generated from waste per person per year"]
["Which of the following products do you currently recycle in your household? ",null,null,null,null,null,null,null,null,"822 pounds is about average for a household of one person over a year."]
["Do you recycle aluminum and steel cans?",null,null,null,null,null,null,null,null,{"$f":"IF(F65=1,$F$5*metal_recycling_avoided_emissions,0)","v":0},"Pounds of carbon dioxide equivalent/year",null,null,"If your household recycles metal, then, number of people in household * average number of pounds of CO2 equivalent per person per year that could be saved by aluminum and steel cans",null,null,null,null,null,null,1,{"$f":"IF(U65=1,W65,0)","v":"Metal"},"Metal"]
[null,null,null,null,null,"enter 1 for yes and 2 for no"]
["Do you recycle plastic?",null,null,null,null,null,null,null,null,{"$f":"IF(F67=1,$F$5*plastic_recycling_avoided_emissions,0)","v":0},"Pounds of carbon dioxide equivalent/year",null,null,"If your household recycles plastic, then, number of people in household * average number of pounds of CO2 equivalent per person per year that could be saved by recycling plastic",null,null,null,null,null,null,1,{"$f":"IF(U67=1,W67,0)","v":"Plastic"},"Plastic"]
[null,null,null,null,null,"enter 1 for yes and 2 for no"]
["Do you recycle glass?",null,null,null,null,null,null,null,null,{"$f":"IF(F69=1,$F$5*glass_recycling_avoided_emissions,0)","v":0},"Pounds of carbon dioxide equivalent/year",null,null,"If your household recycles glass, then, number of people in household * average number of pounds of CO2 equivalent per person per year that could be saved by recycling glass",null,null,null,null,null,null,1,{"$f":"IF(U69=1,W69,0)","v":"Glass"},"Glass"]
[null,null,null,null,null,"enter 1 for yes and 2 for no"]
["Do you recycle newspaper?",null,null,null,null,null,null,null,null,{"$f":"IF(F71=1,$F$5*newspaper_recycling_avoided_emissions,0)","v":0},"Pounds of carbon dioxide equivalent/year",null,null,"If your household recycles newspaper, then, number of people in household * average number of pounds of CO2 equivalent per person per year that could be saved by recycling newspaper",null,null,null,null,null,null,0,{"$f":"IF(U71=1,W71,0)","v":0},"Newspaper"]
[null,null,null,null,null,"enter 1 for yes and 2 for no"]
["Do you recycle magazines?",null,null,null,null,null,null,null,null,{"$f":"IF(F73=1,$F$5*mag_recycling_avoided_emissions,0)","v":0},"Pounds of carbon dioxide equivalent/year",null,null,"If your household recycles magazines, then, number of people in household * average number of pounds of CO2 equivalent per person per year that could be saved by aluminum and steel cans",null,null,null,null,null,null,0]
[null,null,null,null,null,"enter 1 for yes and 2 for no",null,null,null,null,null,null,null,null,null,null,null,null,null,null,{"$f":"SUM(U68:U72)","v":1},{"$f":"IF(V71>0,V71&\", \",\"\")&IF(V69>0,V69&\", \",\"\")&IF(V67>0,V67&\", \",\"\")&IF(V65>0,V65&\", \",\"\")","v":"Glass, Plastic, Metal, "},{"$f":"IF(V71=0,W71&\", \",\"\")&IF(V69=0,W69&\", \",\"\")&IF(V67=0,W67&\", \",\"\")&IF(V65=0,W65&\", \",\"\")","v":"Newspaper, "}]
[]
[]
[null,null,null,null,null,"Total Waste Emissions After Recycling",null,null,null,{"$f":"J63+(SUM(J65,J67,J69,J71,J73))","v":0},"Pounds of carbon dioxide equivalent/year",null,null,"Total waste emissions before recycling + emission reduction from recycling newspaper + emission reduction from recycling glass + emission reduction from recycling plastic + emission reduction from recycling metal"]
[]
[]
[]
[]
["Your Total Emissions",null,null,null,null,null,null,null,null,{"$f":"SUM(J26,J37,J42,J53,J57,J77)","v":{"$error":"#N/A"}},"Pounds of carbon dioxide equivalent/year",null,null,"Estimates of greenhouse gas emission benefits from recycling newspaper, glass, plastic, metal, and magazines were developed using national waste data and life-cycle greenhouse gas emission factors for waste management. Calculations assume that it would be possible for households to recycle 100 percent of all recyclable materials generated as waste. For example, if you indicate that you recycle newspapers, this calculator assumes that you recycle 100 percent of the newspapers you receive."]
[null,null,null,null,null,null,null,null,null,"21,999 pounds is about average in the United States for a household of one person over a year",null,null,null,"Sum of emissions from natrual gas, electricity, fuel oil, propane, waste, and vehicle. "]
[]
[]
[]
["What You Can Do to Reduce Your Emissions"]
["On the Road"]
["Suggested actions",null,null,null,null,null,"Cost* (Dollars)","Estimated Savings (Dollars) ",null,"Estimated Savings (CO2 Emissions)"]
[]
["Reduce the number of miles you drive vehicle 1 by ",null,null,null,null,null,"no cost",{"$f":"IF(F91=1,D91*52*cost_per_mile,0)","v":0},null,{"$f":"IF(F91=1,IF(F109=1,(((D91*52)/(K15+D109))*EF_passenger_vehicle*(nonCO2_vehicle_emissions_ratio)),((D91*52)/K15*EF_passenger_vehicle*(nonCO2_vehicle_emissions_ratio))),0)","v":0},null,{"$f":"J91/J82","v":{"$error":"#N/A"}},null,"Emission reduction = If action is selected: \n(miles reduced per week for vehicle #1 * weeks in a year) / vehicle #1's fuel efficiency * pounds of CO2 emitted per gallon * emissions of greenhouse gases other than CO2\nIf vehicle replace the above calculation is done with improved gas mileage. "]
["miles per week. Will you take this action?",null,null,null,null,"enter 1 for yes, 2 for no, and 3 if you're already taking this action.",null,"annual savings",null,"pounds/yr",null,"percent of total emissions"]
["Reduce the number of miles you drive vehicle 2 by ",null,null,null,null,null,"no cost",{"$f":"IF(F93=1,D93*52*cost_per_mile,0)","v":0},null,{"$f":"IF(F93=1,IF(F111=1,(((D93*52)/(K17+D111))*EF_passenger_vehicle*(nonCO2_vehicle_emissions_ratio)),((D93*52)/K17*EF_passenger_vehicle*(nonCO2_vehicle_emissions_ratio))),0)","v":0},null,{"$f":"J93/J82","v":{"$error":"#N/A"}},null,"Economic savings = If action is selected: \n(miles reduced per week for vehicle #1 * weeks in a year) / vehicle #1's fuel efficiency * average cost per mile to drive\n"]
["miles per week. Will you take this action?",null,null,null,null,"enter 1 for yes, 2 for no, and 3 if you're already taking this action.",null,"annual savings",null,"pounds/yr",null,"percent of total emissions"]
["Reduce the number of miles you drive vehicle 3 by ",null,null,null,null,null,"no cost",{"$f":"IF(F95=1,D95*52*cost_per_mile,0)","v":0},null,{"$f":"IF(F95=1,IF(F113=1,(((D95*52)/(K19+D113))*EF_passenger_vehicle*(nonCO2_vehicle_emissions_ratio)),((D95*52)/K19*EF_passenger_vehicle*(nonCO2_vehicle_emissions_ratio))),0)","v":0},null,{"$f":"J95/J82","v":{"$error":"#N/A"}}]
["miles per week. Will you take this action? ",null,null,null,null,"enter 1 for yes, 2 for no, and 3 if you're already taking this action.",null,"annual savings",null,"pounds/yr",null,"percent of total emissions"]
["Reduce the number of miles you drive vehicle 4 by ",null,null,null,null,2,"no cost",{"$f":"IF(F97=1,D97*52*Assumptions!#REF!,0)","v":0},null,{"$f":"IF(F97=1,IF(F115=1,(((D97*52)/(K21+D115))*EF_passenger_vehicle*(nonCO2_vehicle_emissions_ratio)),((D97*52)/K21*EF_passenger_vehicle*(nonCO2_vehicle_emissions_ratio))),0)","v":0},null,{"$f":"J97/J82","v":{"$error":"#N/A"}}]
["miles per week. Will you take this action? ",null,null,null,null,"enter 1 for yes, 2 for no, and 3 if you're already taking this action.",null,"annual savings",null,"pounds/yr",null,"percent of total emissions"]
["Reduce the number of miles you drive vehicle 5 by ",null,null,null,null,2,"no cost",{"$f":"IF(F99=1,D99*52*Assumptions!#REF!,0)","v":0},null,{"$f":"IF(F99=1,IF(F117=1,(((D99*52)/(K23+D117))*EF_passenger_vehicle*(nonCO2_vehicle_emissions_ratio)),((D99*52)/K23*EF_passenger_vehicle*(nonCO2_vehicle_emissions_ratio))),0)","v":0},null,{"$f":"J99/J82","v":{"$error":"#N/A"}}]
["miles per week. Will you take this action? ",null,null,null,null,"enter 1 for yes, 2 for no, and 3 if you're already taking this action.",null,"annual savings",null,null,null,"percent of total emissions"]
[]
[null,null,null,null,null,"The Fuel Economy Web site (www.fueleconomy.gov) can help you find efficient vehicles."]
[]
["Will you perform regular maintenance on your vehicles?",null,null,null,null,null,"$",{"$f":"(IF(F104=3,IF(G15=1,(D15*52)/K15*gas_cost_gallon,(D15)/K15*gas_cost_gallon)*vehicle_efficiency_improvements+IF(G17=1,(D17*52)/K17*gas_cost_gallon,(D17)/K17*gas_cost_gallon)*vehicle_efficiency_improvements+IF(G19=1,(D19*52)/K19*gas_cost_gallon,(D19)/K19*gas_cost_gallon)*vehicle_efficiency_improvements+IF(G21=1,(D21*52)/K21*gas_cost_gallon,(D21)/K21*gas_cost_gallon)*vehicle_efficiency_improvements+IF(G23=1,(D23*52)/K23*gas_cost_gallon,(D23)/K23*gas_cost_gallon)*vehicle_efficiency_improvements,\"0\"))","v":"0"},null,{"$f":"(IF(F29=1,IF(G15=1,(D15*52)/K15*EF_passenger_vehicle*(nonCO2_vehicle_emissions_ratio),(D15)/K15*EF_passenger_vehicle*(nonCO2_vehicle_emissions_ratio))*vehicle_efficiency_improvements+IF(G17=1,(D17*52)/K17*EF_passenger_vehicle*(nonCO2_vehicle_emissions_ratio),(D17)/K17*EF_passenger_vehicle*(nonCO2_vehicle_emissions_ratio))*vehicle_efficiency_improvements+IF(G19=1,(D19*52)/K19*EF_passenger_vehicle*(nonCO2_vehicle_emissions_ratio),(D19)/K19*EF_passenger_vehicle*(nonCO2_vehicle_emissions_ratio))*vehicle_efficiency_improvements+IF(G21=1,(D21*52)/K21*EF_passenger_vehicle*(nonCO2_vehicle_emissions_ratio),(D21)/K21*EF_passenger_vehicle*(nonCO2_vehicle_emissions_ratio))*vehicle_efficiency_improvements+IF(G23=1,(D23*52)/K23*EF_passenger_vehicle*(nonCO2_vehicle_emissions_ratio),(D23)/K23*EF_passenger_vehicle*(nonCO2_vehicle_emissions_ratio))*vehicle_efficiency_improvements,\"0\"))","v":"0"},null,{"$f":"J104/$J$82","v":{"$error":"#N/A"}},null,"Emission reduction = If action is selected:\nSum of vehicles 1-5:\nIf vehicle #1's input is miles per week, then, (miles driven per week by vehicle #1 * number of weeks in a year) / vehicle #1's fuel efficiency * pounds of CO2 emitted per gallon * emissions of greenhouse gases other than CO2 * percent increase in fuel efficiency from performing regular maintenance on your vehicles \nIf vehicle #1's input is miles per year, then, miles driven per year by vehicle #1 / vehicle #1's fuel efficiency * pounds of CO2 emitted per gallon * emissions of greenhouse gases other than CO2 * percent increase in fuel efficiency from performing regular maintenance on your vehicles"]
[null,null,null,null,null,"enter 1 for yes, 2 for no, and 3 if you are already taking this action.",null,"annual savings",null,"pounds/yr",null,"percent of total emissions"]
[null,null,null,null,null,"Regular maintenance includes: keeping your engine properly tuned, tires properly inflated, and using the manufacturer's recommended grade of motor oil.",null,null,null,null,null,null,null,"Economic savings = If action is selected:\nSum of vehicles 1-5:\nIf vehicle #1's input is miles per week, then, (miles driven per week by vehicle #1 * number of weeks in a year) / vehicle #1's fuel efficiency * price per gallon of gasoline * percent increase in fuel efficiency from performing regular maintenance on your vehicles \nIf vehicle #1's input is miles per year, then, miles driven per year by vehicle #1 / vehicle #1's fuel efficiency * price per gallon of gasoline * percent increase in fuel efficiency from performing regular maintenance on your vehicles "]
[]
[]
["Replace vehicle 1 with one that gets ",null,null,null,null,null,"$$$",{"$f":"IF(F109=1,IF(G15=1,((D15*52/K15)*gas_cost_gallon)-((D15*52/(K15+D109))*gas_cost_gallon),IF(G15=2,(D15/K15*gas_cost_gallon)-(D15/(K15+D109)*gas_cost_gallon))),0)","v":0},null,{"$f":"IF(F109=1,(IF(G15=1,(D15*52)/K15*EF_passenger_vehicle*(nonCO2_vehicle_emissions_ratio),(D15)/K15*EF_passenger_vehicle*(nonCO2_vehicle_emissions_ratio))-IF(G15=1,(D15*52)/(K15+D109)*EF_passenger_vehicle*(nonCO2_vehicle_emissions_ratio),(D15)/(K15+D109)*EF_passenger_vehicle*(nonCO2_vehicle_emissions_ratio))),0)","v":0},null,{"$f":"J109/J82","v":{"$error":"#N/A"}},null,"Emission reduction = If action is selected:\nIf vehicle #1's input is miles per week (number of miles driven per week for vehicle #1 * weeks in a year) / vehicle #1's fuel efficiency * pounds of CO2 emitted per gallon * emissions of greenhouse gases other than CO2) - (miles driven per week * weeks in a year) / your current car's fuel efficiency + increased fuel efficiency) * pounds of CO2 emitted per gallon * emissions of greenhouse gases other than CO2)\nIf vehicle #1's input is miles per year (number of miles driven per year) / vehicle #1's fuel efficiency * pounds of CO2 emitted per gallon * emissions of greenhouse gases other than CO2) - (miles driven per week * weeks in a year) / vehicle #1's fuel efficiency + increase in vehicle #1's fuel efficiency) * pounds of CO2 emitted per gallon * emissions of greenhouse gases other than CO2)"]
["more miles per gallon. Will you take this action? (see EPA's Green Vehicle Guide for additional information: http://www.epa.gov/greenvehicles/Index.do)",null,null,null,null,"enter 1 for yes, 2 for no, and 3 if you're already taking this action.",null,"annual savings",null,"pounds/yr",null,"percent of total emissions"]
["Replace vehicle 2 with one that gets ",null,null,null,null,null,"$$$",{"$f":"IF(F111=1,IF(G17=1,((D17*52/K17)*gas_cost_gallon)-((D17*52/(K17+D111))*gas_cost_gallon),IF(G17=2,(D17/K17*gas_cost_gallon)-(D17/(K17+D111)*gas_cost_gallon))),0)","v":0},null,{"$f":"IF(F111=1,(IF(G17=1,(D17*52)/K17*EF_passenger_vehicle*(nonCO2_vehicle_emissions_ratio),(D17)/K17*EF_passenger_vehicle*(nonCO2_vehicle_emissions_ratio))-IF(G17=1,(D17*52)/(K17+D111)*EF_passenger_vehicle*(nonCO2_vehicle_emissions_ratio),(D17)/(K17+D111)*EF_passenger_vehicle*(nonCO2_vehicle_emissions_ratio))),0)","v":0},null,{"$f":"J111/J82","v":{"$error":"#N/A"}},null,"Economic savings = If action is selected:\nIf vehicle #1's input is miles per week ((number of miles driven per week for vehicle #1 * weeks in a year) / vehicle #1's fuel efficiency * price per gallon of gasoline) - (miles driven per week * weeks in a year) / your current car's fuel efficiency + increased fuel efficiency) * price per gallon of gasoline)\nIf vehicle #1's input is miles per year ((number of miles driven per year) / vehicle #1's fuel efficiency * price per gallon of gasoline) - (miles driven per week * weeks in a year) / vehicle #1's fuel efficiency + increase in vehicle #1's fuel efficiency) * price per gallon of gasoline)"]
["more miles per gallon. Will you take this action?",null,null,null,null,"enter 1 for yes, 2 for no, and 3 if you're already taking this action.",null,"annual savings",null,"pounds/yr",null,"percent of total emissions"]
["Replace vehicle 3 with one that gets ",null,null,null,null,null,"$$$",{"$f":"IF(F113=1,IF(G19=1,((D19*52/K19)*2.84)-((D19*52/(K19+D113))*2.84),IF(G19=2,(D19/K19*2.84)-(D19/(K19+D113)*2.84))),0)","v":0},null,{"$f":"IF(F113=1,(IF(G19=1,(D19*52)/K19*19.4*(100/95),(D19)/K19*19.4*(100/95))-IF(G19=1,(D19*52)/(K19+D113)*19.4*(100/95),(D19)/(K19+D113)*19.4*(100/95))),0)","v":0},null,{"$f":"J113/J82","v":{"$error":"#N/A"}}]
["more miles per gallon. Will you take this action?",null,null,null,null,"enter 1 for yes, 2 for no, and 3 if you're already taking this action.",null,"annual savings",null,"pounds/yr",null,"percent of total emissions"]
["Replace vehicle 4 with one that gets ",null,null,null,null,2,"$$$",{"$f":"IF(F115=1,IF(G21=1,((D21*52/K21)*2.84)-((D21*52/(K21+D115))*2.84),IF(G21=2,(D21/K21*2.84)-(D21/(K21+D115)*2.84))),0)","v":0},null,{"$f":"IF(F115=1,(IF(G21=1,(D21*52)/K21*19.4*(100/95),(D21)/K21*19.4*(100/95))-IF(G21=1,(D21*52)/(K21+D115)*19.4*(100/95),(D21)/(K21+D115)*19.4*(100/95))),0)","v":0},null,{"$f":"J115/J82","v":{"$error":"#N/A"}}]
["more miles per gallon. Will you take this action?",null,null,null,null,"enter 1 for yes, 2 for no, and 3 if you're already taking this action.",null,"annual savings",null,"pounds/yr",null,"percent of total emissions"]
["Replace vehicle 5 with one that gets ",null,null,null,null,2,"$$$",{"$f":"IF(F117=1,IF(G23=1,((D23*52/K23)*2.84)-((D23*52/(K23+D117))*2.84),IF(G23=2,(D23/K23*2.84)-(D23/(K23+D117)*2.84))),0)","v":0},null,{"$f":"IF(F117=1,(IF(G23=1,(D23*52)/K23*19.4*(100/95),(D23)/K23*19.4*(100/95))-IF(G23=1,(D23*52)/(K23+D117)*19.4*(100/95),(D23)/(K23+D117)*19.4*(100/95))),0)","v":0},null,{"$f":"J117/J82","v":{"$error":"#N/A"}}]
["more miles per gallon. Will you take this action?",null,null,null,null,"enter 1 for yes, 2 for no, and 3 if you're already taking this action.",null,"annual savings",null,"pounds/yr",null,"percent of total emissions"]
[null,null,null,null,null,null,null,{"$f":"SUM(H117,H115,H113,H111,H109,H29,H99,H97,H95,H93,H91)","v":0},null,{"$f":"SUM(J117,J115,J113,J111,J109,J29,J99,J97,J95,J93,J91)","v":0}]
[]
[null,null,null,null,null,"Walking, biking, carpooling, telecommuting, and using mass transit are good options."]
[]
["At Home"]
["Suggested actions",null,null,null,null,null,"Cost* (Dollars)","Estimated Savings (Dollars) ",null,"Estimated Savings (CO2 Emissions)",null,null,null,null,null,null,null,null,null,"Active",null,null,null,null,null,null,null,"Data",null,"Dollars","$/(mcf/kWh/gallon)","$/therm","Heating Values"]
[null,null,null,null,null,null,null,null,null,null,null,null,null,null,null,null,null,null,"Fuel",{"$f":"VLOOKUP($F$7,$Y$125:$Z$128,2,0)","v":{"$error":"#N/A"}},null,null,null,null,1,"Natural Gas",{"$f":"H37+1","v":1},{"$f":"F37","v":0},"Natural Gas",1,{"$f":"Natural_gas_cost_1000CF","v":15.23},{"$f":"Natural_gas_cost_therm","v":1.4672447013487475},{"$f":"heating_percent_NG","v":0.68073567554821979}]
["Turn down your household's heating thermostat ",null,null,null,null,null,"no cost",{"$f":"IF(ISERROR(IF(F126=1,B127*T129*thermostat_heating_savings*12*T128*T127,0)),0,IF(F126=1,B127*T129*thermostat_heating_savings*12*T128*T127,0))","v":0},null,{"$f":"IF(F126=1,IF(F7=1,(J37*heating_percent_NG*thermostat_heating_savings*B127),IF(F7=2,(J42*heating_percent_electricity*thermostat_heating_savings*B127),IF(F7=3,(J53*heating_percent_fuel_oil*thermostat_heating_savings*B127),IF(F7=4,(J57*heating_percent_propane*thermostat_heating_savings*B127),IF(F7=5,(0)))))),\"0\")","v":"0"},null,{"$f":"J126/J82","v":{"$error":"#N/A"}},null,"Emission reduction = If action is selected:\nIf heat source is natural gas, then, CO2 emissions from natural gas * percentage of energy source allotted to heating * savings per degree of setback (heating season) * number of degrees thermostat is turned down\nIf heat source is electricity, then, CO2 emissions from electricity * percentage of energy source allotted to heating * savings per degree of setback (heating season) * number of degrees thermostat is turned down  \nIf heat source is fuel oil, then, CO2 emissions from fuel oil * percentage of energy source allotted to heating * savings per degree of setback (heating season) * number of degrees thermostat is turned down\nIf heat source is propane, then, CO2 emissions from propane * percentage of energy source allotted to heating * savings per degree of setback (heating season) * number of degrees thermostat is turned down  ",null,null,null,null,"Fuel Unit Selector",{"$f":"VLOOKUP($F$7,$Y$125:$AA$128,3,0)","v":{"$error":"#N/A"}},null,null,null,null,2,"Electricity",{"$f":"H42+1","v":2},{"$f":"F42","v":0},"Electricity",1,{"$f":"cost_per_kWh","v":0.16089999999999999},null,{"$f":"heating_percent_electricity","v":0.12351223894004042}]
["by",null,"degree(s) Fahrenheit on winter nights. ",null,null,"enter 1 for yes, 2 for no, and 3 if you're already taking this action.",null,"annual savings",null,"pounds/yr",null,"percent of total emissions",null,null,null,null,null,null,"Fuel Consumed",{"$f":"VLOOKUP($F$7,$Y$125:$AB$128,4,0)","v":{"$error":"#N/A"}},null,null,null,null,3,"Fuel Oil",{"$f":"H53+1","v":1},{"$f":"F53","v":0},"Fuel Oil",1,{"$f":"fuel_oil_cost","v":4.2699999999999996},null,{"$f":"heating_percent_fuel_oil","v":0.79545454545454541}]
["Will you take this action?",null,null,null,null,null,null,null,null,null,null,null,null,null,null,null,null,null,null,{"$f":"VLOOKUP(T125,AC125:AF128,T126,0)","v":{"$error":"#N/A"}},null,null,null,null,4,"Propane",{"$f":"H57+1","v":1},{"$f":"F57","v":0},"Propane",1,{"$f":"propane_cost","v":2.5590000000000002},null,{"$f":"heating_percent_propane","v":0.70076726342710993}]
[null,null,null,null,null,null,null,null,null,null,null,null,null,"Economic savings = If action is selected:\n\nIf heat source is natural gas:\nIf input is dollars, then, dollars spent/month * percentage of energy source allotted to heating * savings per degree of setback (heating season) * number of degrees thermostat is turned down * number of months in the year\nIf input is therms, then, therms used/month * percentage of energy source allotted to heating * savings per degree of setback (heating season) * number of degrees thermostat is turned down * average cost per unit * number of months in the year\nIf input is thousand cubic feet, then, thousand cubic feet used/month * percentage of energy source allotted to heating * savings per degree of setback (heating season) * number of degrees thermostat is turned down * average cost per unit * number of months in the year\n\nIf heat source is electricity:\nIf input is dollars, then,  dollars spent/month * percentage of energy source allotted to heating * savings per degree of setback (heating season) * number of degrees thermostat is turned down * number of months in the year\nIf input is kWh, then, kWh used/month * percentage of energy source allotted to heating * savings per degree of setback (heating season) * number of degrees thermostat is turned down * average cost per unit * number of months in the year\n\nIf heat source is fuel oil:\nIf input is dollars, then, dollars spent/month * percentage of energy source allotted to heating * savings per degree of setback (heating season) * number of degrees thermostat is turned down * number of months in the year\nIf input is gallons, then, gallons used/month * percentage of energy source allotted to heating * savings per degree of setback (heating season) * number of degrees thermostat is turned down * average cost per unit * number of months in the year\n\nIf heat source is propane:\nIf input is dollars, then, dollars spent/month * percentage of energy source allotted to heating * savings per degree of setback (heating season) * number of degrees thermostat is turned down * number of months in the year\nIf input is gallons, then, gallons used/month * percentage of energy source allotted to heating * savings per degree of setback (heating season) * number of degrees thermostat is turned down * average cost per unit * number of months in the year",null,null,null,null,null,{"$f":"VLOOKUP(T125,AC125:AG128,5,0)","v":{"$error":"#N/A"}}]
["Turn up your household's air conditioner thermostat ",null,null,null,null,null,"no cost",{"$f":"IF(F130=1,IF(H42=1,(F42*AC_electricity_percent*thermostat_cooling_savings*B131*12),IF(H42=2,(F42*AC_electricity_percent*thermostat_cooling_savings*B131*cost_per_kWh*12))),\"0\")","v":"0"},null,{"$f":"IF(F130=1, J42*AC_electricity_percent*thermostat_cooling_savings* B131,\"0\")","v":"0"},null,{"$f":"J130/J82","v":{"$error":"#N/A"}},null,"Emission reduction = If action is selelcted:\ntotal electricity emissions * percent of total electricity emissions accounted for by air conditioning * savings per Degree of Setback (Cooling Season) *  number of degrees increased "]
[" by",null," degree(s) Fahrenheit in summer. ",null,null,"enter 1 for yes, 2 for no, and 3 if you're already taking this action.",null,"annual savings",null,"pounds/yr",null,"percent of total emissions"]
["Will you take this action?"]
[null,null,null,null,null,null,null,null,null,null,null,null,null,"If electricity input is dollars, then, percentage of energy source allotted to heating * savings per degree of setback (heating season) * number of degrees thermostat is turned down * number of months in the year\nIf electricity input is kwh, then, percentage of energy source allotted to heating * savings per degree of setback (heating season) * number of degrees thermostat is turned down * average cost per kWh * number of months in the year"]
["Enable sleep feature on your computer and monitor. Will you take this action?",null,null,null,null,null,"no cost",{"$f":"IF(F134=1,computer_sleep_savings*cost_per_kWh,0)","v":0},null,{"$f":"IF(F134=1,computer_sleep_savings*e_factor_value,\"0\")","v":"0"},null,{"$f":"J134/J82","v":{"$error":"#N/A"}},null,"Emission reduction = If action is selelcted:\nannual energy savings from enabling sleep feature on computer and monitor * electricity emission factor"]
[null,null,null,null,null,"enter 1 for yes, 2 for no, and 3 if you're already taking this action.",null,"annual savings",null,"pounds/yr",null,"percent of total emissions",null,"Economic savings = If action is selelcted: annual energy savings from enabling sleep feature on computer and monitor * average cost per kWh"]
[]
["Wash clothes in cold water instead of hot. Will you take this action?",null,null,null,null,null,"no cost",{"$f":"IF(F137=1,kWh_per_load_laundry*cost_per_kWh*52*B139,0)","v":0},null,{"$f":"IF(F137=1,kWh_per_load_laundry*e_factor_value*52*B139,\"0\")","v":"0"},null,{"$f":"J137/J82","v":{"$error":"#N/A"}},null,"Emission reduction = If action is selected:\naverage estimated kWh per load * emission factor * total number of loads per week * number of weeks in a year"]
["Enter the number of loads you do in a week",null,null,null,null,"enter 1 for yes, 2 for no, and 3 if you're already taking this action.",null,"annual savings",null,"pounds/yr",null,"percent of total emissions",null,"Economic savings = If action is selected:\naverage estimated kWh per load * average cost per kWh * total number of loads per week * number of weeks in a year"]
[]
["Use a clothes line or drying rack for 50% of your laundry, instead of your dryer. Will you take this action?",null,null,null,null,null,"$",{"$f":"IF(F140=1,(dryer_energy/2)*cost_per_kWh,\"0\")","v":"0"},null,{"$f":"IF(F140=1,(dryer_energy/2)*e_factor_value,\"0\")","v":"0"},null,{"$f":"J140/J82","v":{"$error":"#N/A"}},null,"Emission reduction = If action is selected:\naverage energy consumption of a household dryer / reducing dryer use by 50% * electricity emission factor "]
[null,null,null,null,null,"enter 1 for yes, 2 for no, and 3 if you're already taking this action.",null,"annual savings",null,"pounds/yr",null,"percent of total emissions",null,"Economic savings = If action is selected:"]
[null,null,null,null,null,null,null,null,null,null,null,null,null,"average energy consumption of a household dryer / reducing dryer use by 50% * average cost per kWh"]
["Substitute  ",0,"percent of your household's current ",null,null,null,"$","The cost of green power [http://www.epa.gov/greenpower/locator/index.htm] varies depending on resource, geography and type of green power product. ",null,{"$f":"IF(F143=1,B143*J42,\"0\")","v":"0"},null,{"$f":"J143/J82","v":{"$error":"#N/A"}},null,"Emission reduction = If action is selected:\nTotal electricity emissions * percentage of electricity to be replaced by Green Power "]
["electricity use with Green Power. Will you take this action?",null,null,null,null,"enter 1 for yes, 2 for no, and 3 if you're already taking this action.",null,null,null,"pounds/yr",null,"percent of total emissions"]
["Your local utility or other electricity supplier may offer green power as an option. If you purchase some or all of your electricity as green power, enter the percentage here. For a definition of green power, visit http://www.epa.gov/greenpower/gpmarket/index.htm. On average, green power costs roughly 2 cents per kWh more than conventional power. "]
[]
["Replace ",null,"60-watt incandescent light bulbs with 13-watt ",null,null,null,"$",{"$f":"IF(F147=1,B147*lamp_cost_savings,\"0\")","v":"0"},null,{"$f":"IF(F147=1,B147*lamp_kWh_savings*e_factor_value,\"0\")","v":"0"},null,{"$f":"J147/J82","v":{"$error":"#N/A"}},null,"Emission reduction = If action is selected:\nnumber of 60-watt incandescent light bulbs replaced * annual kwh savings per lamp * electricity emission factor"]
["ENERGY STAR lights. Will you take this action?",null,null,null,null,"enter 1 for yes, 2 for no, and 3 if you're already taking this action.",null,"annual savings",null,"pounds/yr",null,"percent of total emissions"]
["The ENERGY STAR Change a Light, Change the World website (www.energystar.gov) can help your household take this action",null,null,null,null,null,null,null,null,null,null,null,null,"Economic savings = If action is selected:\nnumber of 60-watt incandescent light bulbs replaced * annual energy cost savings per lamp"]
[]
["Replace your household's old refrigerator with an ENERGY STAR model. Will you take this action?\n",null,null,null,null,null,"$$",{"$f":"IF(F151=1, fridge_replacement_kWh_savings*cost_per_kWh,\"0\")","v":"0"},null,{"$f":"IF(F151=1, fridge_replacement_kWh_savings*e_factor_value,\"0\")","v":"0"},null,{"$f":"J151/J82","v":{"$error":"#N/A"}},null,"Emission reduction = If action is selected:\n(average kWh/year old fridge - average kWh/year ENERGY STAR fridge) electricity emission factor"]
[null,null,null,null,null,"enter 1 for yes, 2 for no, and 3 if you're already taking this action.",null,"annual savings",null,"pounds/yr",null,"percent of total emissions"]
[]
[null,null,null,null,null,null,null,null,null,null,null,null,null,"Economic savings = If action is selected:\n(average kWh/year old fridge - average kWh/year ENERGY STAR fridge) average cost per kWh"]
[]
[]
[]
["Replace old gas or oil furnace or boiler with an ENERGY STAR model. Will you take this action? \n",null,null,null,null,null,"$$$",{"$f":"IF(F7=2,0,IF(F7=4,0,IF(F7=5,0,IF(F7=6,0,IF(F158=1,boiler_replacement_cost_savings,\"0\")))))","v":"0"},null,{"$f":"IF(F158=1,IF(F7=1,boiler_replacement_savings_NG,IF(F7=2,0,IF(F7=3,boiler_replacement_savings_FO,IF(F7=4,0,IF(F7=5,0,IF(F7=6,0)))))),\"0\")","v":"0"},null,{"$f":"(J158/J82)","v":{"$error":"#N/A"}},null,"Emission reduction = If action is selected: \nIf heat source is natural gas, then, average emission savings for natural gas\nIf heat source is natural fuel oil, then, average emission savings for fuel oil"]
[null,null,null,null,null,"enter 1 for yes, 2 for no, and 3 if you're already taking this action.",null,"annual savings",null,"pounds/yr",null,"percent of total emissions"]
[null,null,null,null,null,null,null,null,null,null,null,null,null,"Economic savings = If action is selected:\nannual energy cost savings"]
[]
[]
["Replace single-pane windows with ENERGY STAR windows. Will you take this action?\n",null,null,null,null,null,"$$$",{"$f":"IF(OR(F163=2, ISBLANK(F163)),0,IF(F7=6,0,window_replacement_cost_savings))","v":0},null,{"$f":"IF(F163=2,0,IF(F163=1,IF(F7=2,e_factor_value*(window_replacement_energy_savings/BTU_per_kWh),IF(F7=1,EF_natural_gas*(window_replacement_energy_savings/BTU_per_1000cf_NG),IF(F7=3,(window_replacement_energy_savings/BTU_per_gallon_FO)*EF_fuel_oil_gallon,IF(F7=4,(window_replacement_energy_savings/BTU_per_gallon_propane)*EF_propane,IF(F7=5,0,IF(F7=6,0))))))))","v":false},null,{"$f":"J163/J82","v":{"$error":"#N/A"}},null,"Emission reduction = If action is selected:\nIf heat source is natural gas, then, (average annual energy savings from switching single pane windows to low-e ENERGY STAR windows / Btus per thousand cubic feet of natural gas) * natural gas emission factor\nIf heat source is electricity, then, (average annual energy savings from switching single pane windows to low-e ENERGY STAR windows / Btus per kWh of electricity) * electricity emission factor\nIf heat source is fuel oil, then, (average annual energy savings from switching single pane windows to low-e ENERGY STAR windows / Btus per gallon of fuel oil) * Fuel oil emission factor\nIf heat source is propane, then, (average annual energy savings from switching single pane windows to low-e ENERGY STAR windows / Btus per gallon of propane) * Propane emission factor\n\n"]
[null,null,null,null,null,"enter 1 for yes, 2 for no, and 3 if you're already taking this action.",null,"annual savings",null,"pounds/yr",null,"percent of total emissions"]
[]
[]
[]
[]
[]
[]
[null,null,null,null,null,null,null,null,null,null,null,null,null,"Economic savings = If action is selected:\nannual energy cost savings"]
["Waste"]
["Suggested actions",null,null,null,null,null,"Cost* (Dollars)","Estimated Savings (Dollars) ",null,"Estimated Savings (CO2 Emissions)"]
[]
[" Are you willing to start recycling the material(s) you don't currently recycle (such as newspaper, glass, plastic, metal and magazines)? ",null,null,null,null,null,"no cost",null,null,{"$f":"IF(F175=1,-SUM(IF(F65=2,$F$5*newspaper_recycling_avoided_emissions,0),IF(F67=2,$F$5*glass_recycling_avoided_emissions,0),IF(F69=2,$F$5*plastic_recycling_avoided_emissions,0),IF(F71=2,$F$5*metal_recycling_avoided_emissions,0),IF(F73=2,$F$5*mag_recycling_avoided_emissions,0)),0)","v":0},null,{"$f":"J175/J82","v":{"$error":"#N/A"}},null,"Emission Reduction = number of people in household * (average number of pounds of CO2 equivalent per person per year that could be saved by recycling newspaper + average number of pounds of CO2 equivalent per person per year that could be saved by recycling glass + average number of pounds of CO2 equivalent per person per year that could be saved by recycling plastic + average number of pounds of CO2 equivalent per person per year that could be saved by recycling metal+average number of pounds of CO2 equivalent per person per year that could be saved by recycling magazines)"]
[null,null,null,null,null,"enter 1 for yes, 2 for no, and 3 if you're already taking this action.",null,null,null,"pounds/yr",null,"percent of total emissions"]
[null,null,null,null,null,null,null,"Potential cost savings from recycling vary by community. If your community charges a fee per bag for trash pickup, for example, you may save money by recycling."]
[]
[]
[]
[]
[]
["Also consider reducing and reusing materials whenever possible. For more information visit EPA's Reduce Reuse Recycle Web site (http://www.epa.gov/garbage/reduce.htm)."]
[]
[]
[]
[]
["Current Emissions (as reported in the first section)",null,null,null,null,null,null,{"$f":"J82","v":{"$error":"#N/A"}},null,"pounds"]
["If you took all the actions you selected above, you would reduce your annual emissions by         ",null,null,null,null,null,null,{"$f":"SUM(J91,J93,J95,J97,J99,J104,J109,J111,J113,J115,J117,J126,J130,J134,J137,J140,J143,J147,J151,J158,J163,J175,)","v":0},null,"pounds","or",{"$f":"H189/J82","v":{"$error":"#N/A"}},"of your total"]
["If you took all the actions you selected above, your potential annual dollar savings would be*         ",null,null,null,null,null,"$",{"$f":"SUM(H91,H93,H95,H97,H99,H104,H109,H111,H113,H115,H117,H126,H130,H134,H137,H140,H147,H151,H158,H163)","v":0},null,"dollars"]
["Your new total annual CO2 emissions would be",null,null,null,null,null,null,{"$f":"J82-H189","v":{"$error":"#N/A"}},null,"pounds"]
["Your average emissions per household member would be",null,null,null,null,null,null,{"$f":"H191/F5","v":{"$error":"#N/A"}},null,"pounds",null,"average emissions per person are about 21,426 pounds per year"]
[]
["no cost: you can take this action without spending money.."]
["$: it is estimated that you will need to spend between $1 and $100 before you start seeing both energy and dollar savings from this action."]
["$$: it is estimated that you will need to spend more than $100 before you start seeing both energy and dollar savings from this action."]
["$$$: it is estimated that you will need to spend more than $1000 before you start seeing both energy and dollar savings from this action."]
[]
["* Potential annual dollar savings are approximations based on generalized assumptions. Please note that the savings shown here do not account for the up-front cost of purchasing the energy-saving equipment or vehicles."]

{"sheet":"Assumptions","index":1,"n_rows":103,"n_cols":7,"rows_kept":103,"cut":false,"hidden":false,"merged":[]}
[null,"List of Assumptions for Household GHG Calculator"]
[null,"Last Update:","2024-08-22"]
[null,"Description of Factor","Value","Unit","Assumptions","Source","Vintage of  Data"]
[null,"Household Vehicles"]
[null,"Pounds of CO2 emitted per gallon of gasoline",19.37,"lbs CO2/gallon",null,"U.S. Energy Information Administration, \"Carbon Dioxide Emissions Coefficients by Fuel,\" data revised February 9, 2022, https://www.eia.gov/environment/emissions/co2_vol_mass.php",2023]
[null,"Ratio of total emissions to CO2-only emissions",{"$f":"100/98.65","v":1.013684744044602},"lbCO2e/lbCO2","Emissions from gasoline powered passenger cars (MMT CO2 Eq.):\n\nCO2  = 356.0 \nCH4  = 0.2 \nN2O = 1.6\nTotal = 357.8\n\nTotal/CO2 = 1.005 (1.01)","EPA (2024) Inventory of U.S. Greenhouse Gas Emissions and Sinks: 1990-2022. U.S. Environmental Protection Agency, EPA 430-R-24-004.  Chapter 3 (Energy), Tables 3-13, 3-14, and 3-15 https://www.epa.gov/ghgemissions/inventory-us-greenhouse-gas-emissions-andsinks-1990-2022. ",2022]
[null,"Passenger Vehicle Fuel Economy",24.8,"miles per gallon (mpg)",null,"Federal Highway Administration, Highway Statistics 2022, Table VM-1. Annual Vehicle Distance Traveled in Miles and Related Data, light duty vehicles short WB (February 2024). https://www.fhwa.dot.gov/policyinformation/statistics/2022/vm1.cfm",2022]
[null,"Average miles traveled per year per vehicle",10847,"miles per year",null,"Federal Highway Administration, Highway Statistics 2022, Table VM-1. Annual Vehicle Distance Traveled in Miles and Related Data, light duty vehicles short WB (February 2024). https://www.fhwa.dot.gov/policyinformation/statistics/2022/vm1.cfm",2022]
[null,"Average miles traveled per week per vehicle",{"$f":"C8/52","v":208.59615384615384},"miles per week",null,"Calculation"]
[null,"Average emissions for a typical vehicle",{"$f":"1/average_mpg*C8*EF_passenger_vehicle","v":8472.0318548387095},"lbs CO2e/vehicle","1 / passenger vehicle fuel economy * average miles traveled per year per vehicle * emission factor (lbs of CO2 emitted per gallon of gasoline)","U.S. Energy Information Administration, \"Carbon Dioxide Emissions Coefficients by Fuel,\" data revised February 9, 2022, https://www.eia.gov/environment/emissions/co2_vol_mass.php\n\nFederal Highway Administration, Highway Statistics 2022, Table VM-1. Annual Vehicle Distance Traveled in Miles and Related Data, light duty vehicles short WB (February 2024). https://www.fhwa.dot.gov/policyinformation/statistics/2022/vm1.cfm","2023, 2022"]
[null,"Home Energy"]
[null,"NATURAL GAS"]
[null,"Average monthly consumption of natural gas",{"$f":"566*100/12","v":4716.666666666667},"cubic feet of natural gas/household","Annual average site energy consumption per household for natural gas is 566 ccf, or 56,600 cubic feet. ","U.S. Energy Information Administration Residential Energy Consumption Survey 2020 Fuel Consumption in the U.S. Table CE2.1 https://www.eia.gov/consumption/residential/data/2020/c&e/pdf/ce2.1.pdf",2020]
[null,"Price per thousand cubic feet of natural gas",15.23,"dollars/1000 cubic feet",null,"Energy Information Administration: Natural Gas Prices, Residential Price.  Release date June 28, 2024 annual average. http://www.eia.gov/dnav/ng/ng_pri_sum_dcu_nus_a.htm ",2023]
[null,"Average cost of natural gas",{"$f":"Natural_gas_cost_1000CF/conversion_1000cf_to_therm","v":1.4672447013487475},"dollars/therm",null,"Calculation"]
[null,"Carbon coefficient of natural gas",14.43,"Tg C/QBtu ",null,"EPA, Inventory of U.S. Greenhouse Gas Emissions and Sinks: 1990-2022, Annex 2,Table A-29 Carbon Content Coefficients for Natural Gas.chrome-extension://efaidnbmnnnibpcajpcglclefindmkaj/https://www.epa.gov/system/files/documents/2024-04/us-ghg-inventory-2024-annexes.pdf",2022]
[null,"Emission factor (natural gas/therm)",{"$f":"C18/C93","v":11.66465828242},"lbs CO2/therm natural gas",null,"calculation",2020]
[null,"Emission factor (natural gas/thousand cubic feet)",{"$f":"C16*$C$89*$C$95*$C$91/$C$90","v":121.0791529715196},"lbs CO2/1000 cubic feet of natural gas","Carbon coefficient of natural gas * ratio of CO2 to carbon * energy content of natural gas * lbs to teragrams conversion * QBtu/1015Btu ","EPA, Inventory of U.S. Greenhouse Gas Emissions and Sinks: 1990-2022, Annex 2,Table A-29 Carbon Content Coefficients for Natural Gas.chrome-extension://efaidnbmnnnibpcajpcglclefindmkaj/https://www.epa.gov/system/files/documents/2024-04/us-ghg-inventory-2024-annexes.pdf",2022]
[null,"Average annual CO2 emissions from natural gas per household",{"$f":"C13*12*C18/1000","v":6853.0800581880103},"lbs CO2/household (natural gas)","Average monthly consumption of natural gas * 12 * Emission factor (natural gas/1000 cf) / 1000","Calculation"]
[null,"Average annual CO2 emissions from natural gas per household of one person",{"$f":"C19/$C$103","v":2730.3107801545862},"lbs CO2/year/person","Average annual CO2 emissions from natural gas per household / average number of people per household","Calculation"]
[null,"Average monthly cost of natural gas per household of one person",{"$f":"C13/$C$103*C14/1000","v":28.619455511288187},"dollars/month/person","Average monthly consumption of natural gas per household / average number of people per household * price of natural gas * 1000 cubic feet unit conversion","Calculation"]
[null,"ELECTRICITY"]
[null,"Average monthly electricity consumption per household",{"$f":"10566/12","v":880.5},"kWh/month/household","Annual average site energy consumption, all homes, 10566kWh","U.S. Energy Information Administration Residential Energy Consumption Survey 2020 Fuel Consumption in the U.S. Table CE2.1 https://www.eia.gov/consumption/residential/data/2020/c&e/pdf/ce2.1.pdf Released March 2024, Data for 2020",2020]
[null,"Average US price per kWh",0.16089999999999999,"dollars/kWh",null,"U.S. Energy Information Administration, Electric Power Monthly - October 2021, Table 5.3 (Average Retail Price of Electricity to Ultimate Customers, Residential Sector), 2024 Rolling 12 Months Ending in April. https://www.eia.gov/electricity/monthly/epm_table_grapher.php?t=epmt_5_03",2024]
[null,"Electricity emissions factors are categorized by geographic subregion: see EGRID_DATA.","See Emission_Factors tab ","lbs CO2e/kWh","Varies by subregion.","eGRID Summary Tables 2020, Table 1, published January 27, 2022. Available at https://www.epa.gov/egrid/summary-data",2022]
[null,"Average annual CO2e emissions from electricity per household",{"$f":"C23*12*EMISSION_FACTORS!F37/1000","v":8743.5763200000001},"lbs CO2e/household (electricity)","Average monthly electricity consumption per household * 12 months/yr * national electricity emission factor / 1000 kWh/MWh","Calculation"]
[null,"Average annual CO2e emissions from electricity per household of one person",{"$f":"C26/$C$103","v":3483.4965418326697},"lbs CO2e/year/person","Average emissions per household / average number of people per household","Calculation"]
[null,"Average montly cost of electricity per household of one person",{"$f":"C23/$C$103*C24","v":56.443207171314739},"dollars/month/person","Average monthly electricity consumption / average number of people per household * price per kWh of electricity","Calculation"]
[null,"FUEL OIL"]
[null,"Average monthly consumption of fuel oil per household",{"$f":"507/12","v":42.25},"gallons of fuel oil/month","Average monthly consumption of 42 gallons of fuel oil, based on annual average consumption of 507 gallons of fuel oil per household per year. average houshold size is 2.51.","U.S Energy Information Administration 2020. A Look at Residential Energy Consumption in 2020 - Table CE2.1. chrome-extension://efaidnbmnnnibpcajpcglclefindmkaj/https://www.eia.gov/consumption/residential/data/2020/c&e/pdf/ce2.1.pdf  March 2024, Data for 2020",2020]
[null,"Average price per gallon of fuel oil",4.2699999999999996,"dollars/gallon","The data from the winter (Jan, Feb, Mar, Oct, Nov, Dec) is a sufficient estimate for yearly data. ","Energy Information Administration, April 2020. US No. 2 Heating Oil Residential Prices - 2019 annual average. https://www.eia.gov/dnav/pet/hist/LeafHandler.ashx?n=PET&s=M_EPD2F_PRS_NUS_DPG&f=M",2024]
[null,"Carbon coefficient of fuel oil ",20.22,"Tg C/QBtu ",null,"EPA, Inventory of U.S. Greenhouse Gas Emissions and Sinks: 1990-2022, Annex 2,Table A-30 Carbon Content Coefficients and Underlying Data for Petroleum Products, Distillate fuel oil no. 2. https://www.epa.gov/ghgemissions/inventory-us-greenhouse-gas-emissions-and-sinks",2022]
[null,"Fuel oil emission factor (pounds of CO2/gallon fuel oil) ",{"$f":"C32*$C$89*$C$99*$C$91/$C$90","v":22.457112835045283},"lbs CO2/gallon of fuel oil","Carbon coefficient of fuel oil * ratio of CO2 to carbon * energy content of fuel oil * lbs to teragrams conversion * QBtu/1015Btu ","Calculation"]
[null,"Fuel oil emission factor (pounds of CO2/MMBtu fuel oil) ",{"$f":"C33/($C$99)*10^6","v":163.45072104679994},"lbs CO2/MMBtu","lbs CO2/gallon * Btu/gallon * Btu to MMBtu conversion","Calculation"]
[null,"Average annual CO2 emissions from fuel oil per household",{"$f":"C30*12*C33","v":11385.756207367958},"lbs CO2/household (fuel oil)","Average monthly consumption of fuel oil per household * 12 months/yr * fuel oil emission factor","Calculation"]
[null,"Average annual CO2 emissions from fuel oil per household of one person",{"$f":"C35/$C$103","v":4536.1578515410192},"lbs CO2/year/person","Average emissions from fuel oil per household / average number of people per household","Calculation"]
[null,"Average monthly cost of fuel oil per household of one person",{"$f":"C30/$C$103*C31","v":71.875498007968133},"dollars/year/person","Average monthly fuel oil consumption / average number of people per household * price per gallon of fuel oil.","Calculation"]
[null,"PROPANE"]
[null,"Average monthly consumption of propane (LPG) per household",{"$f":"387/12","v":32.25},"gallons of oil/month",null,"U.S Energy Information Administration 2020. A Look at Residential Energy Consumption in 2020 - Table CE2.1. chrome-extension://efaidnbmnnnibpcajpcglclefindmkaj/https://www.eia.gov/consumption/residential/data/2020/c&e/pdf/ce2.1.pdf",2020]
[null,"Price per gallon of propane",2.5590000000000002,"dollars/gallon propane",null,"Energy Information Administration, U.S. Propane Residential Price - 2023 annual average. Released April 2024. https://www.eia.gov/dnav/pet/hist/LeafHandler.ashx?n=PET&s=M_EPLLPA_PRS_NUS_DPG&f=M",2023]
[null,"Carbon coefficient for propane",17.149999999999999,"Tg C/QBtu ",null,"EPA, Inventory of U.S. Greenhouse Gas Emissions and Sinks: 1990-2022, Annex 2,Table A-30 Carbon Content Coefficients and Underlying Data for Petroleum Products, LPG (Propane). https://www.epa.gov/ghgemissions/inventory-us-greenhouse-gas-emissions-and-sinks",2022]
[null,"Propane emission factor",{"$f":"C41*(44/12)*$C$102*C91/C90","v":12.677398061197419},"lbs CO2/gallon propane","Carbon coefficient of propane * ratio of CO2 to carbon * energy content of propane * lbs to teragrams conversion * QBtu/1015Btu ","Calculation"]
[null,"Average annual emissions from propane per household",{"$f":"C39*12*C42","v":4906.1530496834012},"lbs CO2/household (propane)","Average monthly consumption of propane per household * 12 months/yr * propane emission factor","Calculation"]
[null,"Average annual emissions from propane per household of one person",{"$f":"C43/$C$103","v":1954.6426492762555},"lbs CO2/year/person","Average monthly propane consumption / average number of people per household","Calculation"]
[null,"Average monthly cost of propane per household of one person",{"$f":"C39/$C$103*C40","v":32.879581673306781},"dollars/year/person","Average monthly propane consumption / average number of people per household * price per gallon of propane","Calculation"]
[null,"Waste"]
[null,"Average lbs CO2 equivalent generated from waste per person per year",{"$f":"WASTE!B37","v":822.2562162162161},"lbs CO2e/year/person from waste","Includes CH4 from landfills, CH4 from composting, and N2O from composting. Excludes wastewater treatment and bigas facilities. ","Based on EPA's Inventory of U.S. Greenhouse Gas Emissions and Sinks 1990-2022, Chapter 7 (Waste), Table 7-1: Emissions from Waste (MMT CO2 eq), CH4 and N2O emissions from Landfills and Composting (excludes wastewater treatment) https://www.epa.gov/ghgemissions/inventory-us-greenhouse-gas-emissions-and-sinks and U.S. Census Bureau, as of July, 2022, https://www.census.gov/popclock/",2022]
[null,"Average number of pounds of CO2 equivalent per person per year that could be saved by recycling metal",{"$f":"WASTE!B42","v":-120.61839792443274},"lbs CO2e/year/person avoided from recycling metal","Carbon dioxide equivalent emissions associated with household waste management were calculated using the total emissions for landfills (including incineration, landfill gas-to- energy projects, oxidation, and flaring) and the United States population estimates from U.S. Census Data. The emission factors for each material type were developed by EPA and presented in the Agency's report on greenhouse gas emissions from waste management and in the online Waste Reduction Model (WARM). These emission factors take into account the full material life cycle; i.e., not only emissions at the landfill, but also emissions and sequestration associated with production, manufacturing, remanufacturing, forest carbon storage due to reduced harvests, etc. The emission factor used for recycling materials in this calculator compares greenhouse gas emissions from recycling with those attributable to landfilling. This approach enables policy makers to evaluate, on a per-ton basis, the overall difference in greenhouse gas emissions between (1) recycling 1 ton of material and (2) manufacturing and then managing (post-consumer) 1 ton of the same material. Calculations assume that it would be possible for households to recycle 100 percent of all recyclable materials generated as waste. The plastic material type used in the calculator includes PET and HDPE, and the metal material type includes aluminum and steel cans.","Emission data are from: EPA, Documentation for Greenhouse Gas Emission and Energy Factors Used in the Waste Reduction Model (WARM) v16, Containers, Packaging, and Non-Durable Good Materials Chapters, (Dec 2023) https://www.epa.gov/system/files/documents/2023-12/warm_containers_packaging_and_non-durable_goods_materials_v16_dec.pdf\n\nAmount of waste generated from: EPA, Advancing Sustainable Materials Management: 2018 Tables and Figures (December 2020) https://www.epa.gov/facts-and-figures-about-materials-waste-and-recycling/advancing-sustainable-materials-management\n\nU.S. Census approximates from https://www.census.gov/popclock/","2018, 2023"]
[null,"Average number of pounds of CO2 equivalent per person per year that could be saved by recycling plastic",{"$f":"WASTE!B47","v":-72.913668463951083},"lbs CO2e/year/person avoided from recycling plastic","Carbon dioxide equivalent emissions associated with household waste management were calculated using the total emissions for landfills (including incineration, landfill gas-to- energy projects, oxidation, and flaring) and the United States population estimates from U.S. Census Data. The emission factors for each material type were developed by EPA and presented in the Agency's report on greenhouse gas emissions from waste management and in the online Waste Reduction Model (WARM). These emission factors take into account the full material life cycle; i.e., not only emissions at the landfill, but also emissions and sequestration associated with production, manufacturing, remanufacturing, forest carbon storage due to reduced harvests, etc. The emission factor used for recycling materials in this calculator compares greenhouse gas emissions from recycling with those attributable to landfilling. This approach enables policy makers to evaluate, on a per-ton basis, the overall difference in greenhouse gas emissions between (1) recycling 1 ton of material and (2) manufacturing and then managing (post-consumer) 1 ton of the same material. Calculations assume that it would be possible for households to recycle 100 percent of all recyclable materials generated as waste. The plastic material type used in the calculator includes PET and HDPE, and the metal material type includes aluminum and steel cans.","Emission data are from: EPA, Documentation for Greenhouse Gas Emission and Energy Factors Used in the Waste Reduction Model (WARM) v16, Containers, Packaging, and Non-Durable Good Materials Chapters, (Dec 2023) chrome-extension://efaidnbmnnnibpcajpcglclefindmkaj/https://www.epa.gov/system/files/documents/2023-12/warm_containers_packaging_and_non-durable_goods_materials_v16_dec.pdf. \n\nAmount of waste generated from: EPA, Advancing Sustainable Materials Management: 2018 Tables and Figures (December 2020) https://www.epa.gov/facts-and-figures-about-materials-waste-and-recycling/advancing-sustainable-materials-management\n\nU.S. Census approximates from https://www.census.gov/popclock/","2018, 2023"]
[null,"Average number of pounds of CO2 equivalent per person per year that could be saved by recycling glass",{"$f":"WASTE!B52","v":-19.207260182775631},"lbs CO2e/year/person avoided from recycling glass","Carbon dioxide equivalent emissions associated with household waste management were calculated using the total emissions for landfills (including incineration, landfill gas-to- energy projects, oxidation, and flaring) and the United States population estimates from U.S. Census data. The emission factors for each material type were developed by EPA and presented in the Agency's report on greenhouse gas emissions from waste management and in the online Waste Reduction Model (WARM). These emission factors take into account the full material life cycle; i.e., not only emissions at the landfill, but also emissions and sequestration associated with production, manufacturing, remanufacturing, forest carbon storage due to reduced harvests, etc. The emission factor used for recycling materials in this calculator compares greenhouse gas emissions from recycling with those attributable to landfilling. This approach enables policy makers to evaluate, on a per-ton basis, the overall difference in greenhouse gas emissions between (1) recycling 1 ton of material and (2) manufacturing and then managing (post-consumer) 1 ton of the same material. Calculations assume that it would be possible for households to recycle 100 percent of all recyclable materials generated as waste. The plastic material type used in the calculator includes PET and HDPE, and the metal material type includes aluminum and steel cans.","Emission data are from: EPA, Documentation for Greenhouse Gas Emission and Energy Factors Used in the Waste Reduction Model (WARM) v16, Containers, Packaging, and Non-Durable Good Materials Chapters, (Dec 2023) chrome-extension://efaidnbmnnnibpcajpcglclefindmkaj/https://www.epa.gov/system/files/documents/2023-12/warm_containers_packaging_and_non-durable_goods_materials_v16_dec.pdf. \n\nAmount of waste generated from: EPA, Advancing Sustainable Materials Management: 2018 Tables and Figures (December 2020) https://www.epa.gov/facts-and-figures-about-materials-waste-and-recycling/advancing-sustainable-materials-management\n\nU.S. Census approximates  from https://www.census/gov/popclocks/ ","2018, 2023"]
[null,"Average number of pounds of CO2 equivalent per person per year that could be saved by recycling newspaper",{"$f":"WASTE!B57","v":-118.96413010817948},"lbs CO2e/year/person avoided from recycling newspaper","Carbon dioxide equivalent emissions associated with household waste management were calculated using the total emissions for landfills (including incineration, landfill gas-to- energy projects, oxidation, and flaring) and the United States population estimates from U.S. Census data. The emission factors for each material type were developed by EPA and presented in the Agency's report on greenhouse gas emissions from waste management and in the online Waste Reduction Model (WARM). These emission factors take into account the full material life cycle; i.e., not only emissions at the landfill, but also emissions and sequestration associated with production, manufacturing, remanufacturing, forest carbon storage due to reduced harvests, etc. The emission factor used for recycling materials in this calculator compares greenhouse gas emissions from recycling with those attributable to landfilling. This approach enables policy makers to evaluate, on a per-ton basis, the overall difference in greenhouse gas emissions between (1) recycling 1 ton of material and (2) manufacturing and then managing (post-consumer) 1 ton of the same material. Calculations assume that it would be possible for households to recycle 100 percent of all recyclable materials generated as waste. The plastic material type used in the calculator includes PET and HDPE, and the metal material type includes aluminum and steel cans.","Emission data are from: EPA, Documentation for Greenhouse Gas Emission and Energy Factors Used in the Waste Reduction Model (WARM) v16, Containers, Packaging, and Non-Durable Good Materials Chapters, (Dec 2023) chrome-extension://efaidnbmnnnibpcajpcglclefindmkaj/https://www.epa.gov/system/files/documents/2023-12/warm_containers_packaging_and_non-durable_goods_materials_v16_dec.pdf. \n\nAmount of waste generated from: EPA, Advancing Sustainable Materials Management: 2018 Tables and Figures (December 2020) https://www.epa.gov/facts-and-figures-about-materials-waste-and-recycling/advancing-sustainable-materials-management\n\nU.S. Census approximates from https://www.census/gov/popclocks/","2018, 2023"]
[null,"Average number of pounds of CO2 equivalent per person per year that could be saved by recycling magazines",{"$f":"WASTE!B62","v":-85.032009749798718},"lbs CO2e/year/person avoided from recycling magazines","Carbon dioxide equivalent emissions associated with household waste management were calculated using the total emissions for landfills (including incineration, landfill gas-to- energy projects, oxidation, and flaring) and the United States population estimates from U.S. census data. The emission factors for each material type were developed by EPA and presented in the Agency's report on greenhouse gas emissions from waste management and in the online Waste Reduction Model (WARM). These emission factors take into account the full material life cycle; i.e., not only emissions at the landfill, but also emissions and sequestration associated with production, manufacturing, remanufacturing, forest carbon storage due to reduced harvests, etc. The emission factor used for recycling materials in this calculator compares greenhouse gas emissions from recycling with those attributable to landfilling. This approach enables policy makers to evaluate, on a per-ton basis, the overall difference in greenhouse gas emissions between (1) recycling 1 ton of material and (2) manufacturing and then managing (post-consumer) 1 ton of the same material. Calculations assume that it would be possible for households to recycle 100 percent of all recyclable materials generated as waste. The plastic material type used in the calculator includes PET and HDPE, and the metal material type includes aluminum and steel cans.","Emission data are from: EPA, Documentation for Greenhouse Gas Emission and Energy Factors Used in the Waste Reduction Model (WARM) v16, Containers, Packaging, and Non-Durable Good Materials Chapters, (Dec 2023) chrome-extension://efaidnbmnnnibpcajpcglclefindmkaj/https://www.epa.gov/system/files/documents/2023-12/warm_containers_packaging_and_non-durable_goods_materials_v16_dec.pdf. \n\nAmount of waste generated from: EPA, Advancing Sustainable Materials Management: 2018 Tables and Figures (December 2020) https://www.epa.gov/facts-and-figures-about-materials-waste-and-recycling/advancing-sustainable-materials-management\n\nU.S. Census approximates from https://www.census.gov/popclock/","2018, 2023"]
[null,"Average total emissions for household of one person",{"$f":"SUM(C47,C27,C36,C44,C20,C10)","v":21998.895893859455},"lbs CO2e/year","Sum of average lbs CO2 equivalent generated from waste per person per year, average annual CO2e emissions from electricity per household of one person, average annual CO2 emissions from natural gas per household of one person, and average emissions for a typical vehicle, average annual emissions from propane per household of one person, average annual emissions from fuel oil per household of one person.  Assume household owns a car. ","Calculation"]
[]
[null,"What You Can Do To Reduce Your Emissions"]
[null,"On the Road"]
[null,"Average variable cost per mile to drive ",0.1792,"dollars/mile","Source includes average operating costs for car models from 1985-2020.New value is the average variable cost per mile across all Model years. (i.e. assuming people still drive 1985 make cars. "," Transportation Energy Data Book, Table 11.15 Car Operating Cost per Mile, 1985-2020, Variable Cost, updated June 2022 https://tedb.ornl.gov/",2020]
[null,"Increase in fuel efficiency from performing regular maintenance on your vehicles ",1.6E-2,"%","You can improve your gas mileage by 0.6% on average—up to 3% in some cases—by keeping your tires inflated to the proper pressure. Under-inflated tires can lower gas mileage by about 0.2% for every 1 psi drop in the average pressure of all tires. Properly inflated tires are safer and last longer. The proper tire pressure for your vehicle is usually found on a sticker in the driver's side door jamb or the glove box and in your owner's manual. Do not use the maximum pressure printed on the tire's sidewall.\n\nYou can improve your gas mileage by 1%–2% by using the manufacturer's recommended grade of motor oil. For example, using 10W-30 motor oil in an engine designed to use 5W-30 can lower your gas mileage by 1%–2%. Using 5W-30 in an engine designed for 5W-20 can lower your gas mileage by 1%–1.5%. Also, look for motor oil that says \"Energy Conserving\" on the API performance symbol to be sure it contains friction-reducing additives.","US EPA and US DOE Fuel Economy Website, accessed August 21, 2024, https://www.fueleconomy.gov/feg/maintain.jsp",2022]
[null,"Price per gallon of gasoline",3.6850000000000001,"dollars/gallon gasoline",null,"EIA US Retail Gasoline Prices, 2023. Annual average price per gallon of gasoline, Gasoline - All Grades. Released July 14, 2024. https://www.eia.gov/dnav/pet/pet_pri_gnd_dcus_nus_a.htm",2023]
[null,"At Home"]
[null,"Savings per degree of setback (heating season)",{"$f":" 3%","v":0.03},"%",null,"ENERGY STAR CALCULATOR: Cost Estimate for Energy Star Qualified  Programmable Thermostats (2004) https://www.energystar.gov/ia/partners/promotions/cool_change/downloads/CalculatorProgrammableThermostat.xls",2004]
[null,"Percentage of natural gas allotted to heating ",{"$f":"2887/4241","v":0.68073567554821979},"%","2887 trillion Btu natural gas consumed for space heating/4241 trillion Btu feet total natural gas consumption","U.S. Energy Information Administration 2020. Table CE4.1  Annual household site end-use consumption by fuel in the United States—totals, 2020. https://www.eia.gov/consumption/residential/data/2020/c&e/pdf/ce4.1.pdf",2020]
[null,"Percentage of electricity source allotted to heating ",{"$f":"550/4453","v":0.12351223894004042},"%","550 trillion Btu of electricity consumed for space heating/4453 trillion Btu total electricity consumption","U.S. Energy Information Administration 2020. Table CE4.1  Annual household site end-use consumption by fuel in the United States—totals, 2020. https://www.eia.gov/consumption/residential/data/2020/c&e/pdf/ce4.1.pdf",2020]
[null,"Percentage of fuel oil source allotted to heating ",{"$f":"315/396","v":0.79545454545454541},"%","315 trillion Btu of fuel oil consumed for space heating/396 trillion Btu  total fuel oil consumption","U.S. Energy Information Administration 2020. Table CE4.1  Annual household site end-use consumption by fuel in the United States—totals, 2020. https://www.eia.gov/consumption/residential/data/2020/c&e/pdf/ce4.1.pdf",2020]
[null,"Percentage of propane source allotted to heating ",{"$f":"274/391","v":0.70076726342710993},"%","274 trillion Btu LPG (propane) consumed for space heating/391 trillion Btu total LPG consumption","U.S. Energy Information Administration 2020. Table CE4.1  Annual household site end-use consumption by fuel in the United States—totals, 2020. https://www.eia.gov/consumption/residential/data/2020/c&e/pdf/ce4.1.pdf",2020]
[null,"Percent of total electricity emissions accounted for by air conditioning ",{"$f":"866/4453","v":0.19447563440377275},"%","866 trillion Btu of electricity consumed for air conditioning/4453 trillion Btu total electricity consumption","U.S. Energy Information Administration 2020. Table CE4.1  Annual household site end-use consumption by fuel in the United States—totals, 2020. https://www.eia.gov/consumption/residential/data/2020/c&e/pdf/ce4.1.pdf",2020]
[null,"Savings per degree of setback (cooling season) ",{"$f":" 6%","v":0.06},"%",null,"ENERGY STAR CALCULATOR: Cost Estimate for Energy Star Qualified  Programmable Thermostats (2004) https://www.energystar.gov/ia/partners/promotions/cool_change/downloads/CalculatorProgrammableThermostat.xls",2004]
[null,"Annual energy savings from enabling sleep feature on computer and monitor ",{"$f":"(C70+C72)-(C69+C71)","v":43}," kWh","Assuming use of a desktop.","Calculation"]
[null,"Average annual unit computer energy (sleep feature enabled, computer turned off at night): ",27," kWh","Assuming use of a desktop.","ENERGY STAR Databook 2021, table: Annual & Lifetime Savings from ENERGY STAR Certified Computers and Monitors",2021]
[null,"Average annual unit computer energy (sleep feature not enabled, computer turned off at night): ",52," kWh","Assuming use of a desktop.","ENERGY STAR Databook 2021, table: Annual & Lifetime Savings from ENERGY STAR Certified Computers and Monitors",2021]
[null,"Average annual unit monitor energy (sleep feature enabled, monitor turned off at night):",16," kWh",null,"ENERGY STAR Databook 2021, table: Annual & Lifetime Savings from ENERGY STAR Certified Computers and Monitors",2021]
[null,"Average annual unit monitor energy (sleep feature not enabled, monitor turned off at night): ",34," kWh",null,"ENERGY STAR Databook 2021, table: Annual & Lifetime Savings from ENERGY STAR Certified Computers and Monitors",2021]
[null,"Average estimated kWh for water heating per load",0.96,"kWh","Assumes 295 loads/yr, 289 kWh/yr for machine energy and dryer energy. Data is being referenced in support of assessing energy savings from washing clothes in cold water only so water heating energy is excluded - see 'Personal GHG Calculator' line 137","ENERGY STAR Data Book Worksheet for 2014",2021]
[null,"Average energy consumption of a household dryer ",769,"kWh/year","Assumes 3000 Watt dryer and 5 hours of use per week.","EERE, amended federal standard (10 CFR 430.32(h)(3)) for residential clothes dryers: http://www1.eere.energy.gov/buildings/appliance_standards/product.aspx/productid/36",2021]
[null,"Average premium of green power per kWh",1.5800000000000002E-2,"dollars",null,"NREL 2019, Status and Trends in the U.S. Voluntary Green Power Market https://www.nrel.gov/docs/fy19osti/72204.pdf ",2017]
[null,"Annual kWh savings per light bulb",{"$f":"47-10","v":37},"kWh","Assumes 43 watt halogen light bulb (unit energy consumption: 47 kWh/year) is replaced with with 9 watt LED bulb (unit energy consumption: 10 kWh/year). Assumes light is on for 3 hours per day. ","ENERGY STAR data book 2024, Annual & Lifetime Savings from ENERGY STAR Certified Products, Residential and Commercial Lighting, Light Bulbs (halogen vs. LED)",2024]
[null,"Annual energy cost saving per lamp",5,"dollars","Assumes 43 watt halogen light bulb  is replaced with with 9 watt LED bulb. Assumes light is on for 1.9 hours per day. Assumes interior light","ENERGY STAR data book 2024, Annual & Lifetime Savings from ENERGY STAR Certified Products, Residential and Commercial Lighting, Light Bulbs (halogen vs. LED)",2024]
[null,"Average kWh/year ENERGY STAR refrigerator",488,"kWh/year",null," 2024 ENERGY STAR Data Book, Annual & Lifetime Savings from ENERGY STAR Certified Products",2021]
[null,"Average kWh/year old refrigerator ",{"$f":"543*(1+(0.0137*10))","v":617.39099999999996},"kWh/year","Estimate for 10 year old refrigerator: 2010 refrigerator energy consumption of 543 kWh/yr * (1 + (1.37% * 10 yrs). \n\nRefrigerators last ~14-17 years on average. Degradation factor from ENERGY STAR data team, based on AHAM data.\n\nFrom ENERGY STAR data team: Refrigerator degradation is based on the formula (UEC) * (1 + (1.37% * Age in Years)). Source: Miller, J.D. and Pratt, R.G of Pacific Northwest National Laboratory. Estimates of Refrigerator Loads in Public Housing Based on Metered Consumption Data.  ENERGY STAR Partnerships Program.  Prepared for the U.S. Department of Energy under Contract DE-AC06-76RLO 1830.  October 1998. p. 3.15.","2010 refrigerator energy consumption from ENERGY STAR Databook 2020, table: Historical Appliance Energy and Water Usage Table.\n\nRefrigerator degradation factor from Miller, J.D. and Pratt, R.G of Pacific Northwest National Laboratory. Estimates of Refrigerator Loads in Public Housing Based on Metered Consumption Data.  ENERGY STAR Partnerships Program.  Prepared for the U.S. Department of Energy under Contract DE-AC06-76RLO 1830.  October 1998. p. 3.15.","2010, 1998"]
[null,"Average kWh savings for refrigerator replacement",{"$f":"C79-C78","v":129.39099999999996},"kWh/year","Difference between 2010 refrigerator and an ENERGY STAR refrigerator.","Calculation",2021]
[null,"Average emission savings for natural gas from upgrading to ENERGY STAR boiler/furnace",{"$f":"AVERAGE('Heating Equip Upgrade'!F5,'Heating Equip Upgrade'!F8)","v":641.55620553309996},"lbs/year",null,"Calculations based on 2024 ENERGY STAR Data Book, Annual & Lifetime Savings from ENERGY STAR Certified Products",2024]
[null,"Average emission savings for fuel oil from upgrading to ENERGY STAR boiler/furnace",{"$f":"AVERAGE('Heating Equip Upgrade'!F12,'Heating Equip Upgrade'!F15)","v":400.45426656465918},"lbs/year",null,"Calculations based on 2024 ENERGY STAR Data Book, Annual & Lifetime Savings from ENERGY STAR Certified Products",2024]
[null,"Annual energy cost savings from upgrading to ENERGY STAR boiler/furnace (gas or fuel oil)",{"$f":"AVERAGE('Heating Equip Upgrade'!G5,'Heating Equip Upgrade'!G8,'Heating Equip Upgrade'!G12,'Heating Equip Upgrade'!G15)","v":78.420457115688833},"dollars",null,"Calculations based on 2024 ENERGY STAR Data Book, Annual & Lifetime Savings from ENERGY STAR Certified Products",2024]
[null,"Annual energy cost savings for natural gas from upgrading to ENERGY STAR boiler/furnace",{"$f":"AVERAGE('Heating Equip Upgrade'!G5,'Heating Equip Upgrade'!G8)","v":80.698458574181117},null,null,"Calculations based on 2024 ENERGY STAR Data Book, Annual & Lifetime Savings from ENERGY STAR Certified Products",2024]
[null,"Annual energy cost savings for fuel oil from upgrading to ENERGY STAR boiler/furnace",{"$f":"AVERAGE('Heating Equip Upgrade'!G12,'Heating Equip Upgrade'!G15)","v":76.142455657196535},null,null,"Calculations based on 2024 ENERGY STAR Data Book, Annual & Lifetime Savings from ENERGY STAR Certified Products",2024]
[null,"Average annual energy savings from switching single pane windows to low-e ENERGY STAR windows ",25210000,"BTUs","Assumes 2000 square-foot house, 300 square feet of glass. Source: ENERGY STAR. Methodology based on RESFEN 3.1 calculations performed by Lawrence Berkeley National Laboratory (LBNL), 2005. ","ENERGY STAR. Savings estimates were generated using a methodology based on RESFEN 3.1 calculations performed by Lawrence Berkeley National Laboratory (LBNL) https://www.energystar.gov/index.cfm?c=windows_doors.pr_savemoney",2005]
[null,"Average annual energy cost savings from changing to ENERGY STAR windows",311,"dollars","Average of all regions equally weighted. Savings estimates are based on EnergyPlus 9.5 modeling for typical homes in 132 U.S. cities. \"Typical Home\" is 2376 square feet, two story, single-family home assumed to be the default new construction and existing construction assemblies in each location. Savings are for a whole-home replacment with ENERGY STAR Version 7.0 windows. "," 2024 ENERGY STAR Data Book, Figure on average savings when replacing windows by region. ",2022]
[null,"Conversion Factors and Constants"]
[null,"Ratio of CO2 to Carbon",{"$f":"44/12","v":3.6666666666666665},"Ratio of CO2 to C, 44/12"]
[null,"Btu per Quadrillion Btu",{"$f":"10^15","v":1000000000000000},"Btu/QBtu "]
[null,"Conversion from teragrams to pounds",2204622620,"lbs/teragram"]
[null,"Conversion from metric tons to lbs",2204.6226200000001,"lbs / metric ton"]
[null,"Conversion from thousand cubic feet of natural gas to therms",{"$f":"HHV_natural_gas/100000","v":10.38},"therms/thousand cf","1 therm = 100,000 Btu"]
[null,"Conversion from liters to gallons",0.26417205199999999,"gallons/liter"]
[null,"Energy content per 1000 cubic feet of natural gas",{"$f":"1038*1000","v":1038000},"Btu/1000 cf natural gas",null,null,2022]
[null,"Energy content per kWh of electricity",3412,"Btu/kWh ",null,"EIA Monthly Energy Review, June 2024. Appendix A6 Approximate Heat Rates for Electricity, and Heat Content of Electricity, https://www.eia.gov/totalenergy/data/monthly/pdf/mer.pdf",2024]
[null,"MMBtu per barrel of fuel oil",{"$f":"5771/1000","v":5.7709999999999999},"MMBtu/barrel",null,"EIA Monthly Energy Review, June 2024. Appendix A3 Approximate Heat Content of Petroleum Consumption and Fuel Ethanol, Distillate Fuel Oil Consumption, https://www.eia.gov/totalenergy/data/monthly/pdf/mer.pdf",2024]
[null,"Fuel oil conversion - barrels per liter",{"$f":"1/0.159*0.001","v":6.2893081761006284E-3},"barrels/L","1 barrel (bbl) = 0.159 cubic meters\n1 liter = 0.001 cubic meters","EPA Inventory of U.S. GHG Emissions and Sinks 1990-2022, Annex 6, Section 6.4 Constants, Units, and Conversions. https://www.epa.gov/ghgemissions/inventory-us-greenhouse-gas-emissions-and-sinks",2022]
[null,"Energy content per gallon of fuel oil",{"$f":"C97/C94*(C98)*1000000","v":137393.78261057203},"Btu/gallon fuel oil",null,"calculation"]
[null,"MMBtu per barrel of propane",{"$f":"3841/1000","v":3.8410000000000002},"MMBtu/barrel",null,"EIA Monthly Energy Review, June 2024. Appendix A1 Approximate Heat Content of Petroleum and Biofuels, https://www.eia.gov/totalenergy/data/monthly/pdf/mer.pdf",2022]
[null,"Propane conversion - barrels per liter",{"$f":"1/0.159*0.001","v":6.2893081761006284E-3},"barrels/liter","1 barrel (bbl) = 0.159 cubic meters\n1 liter = 0.001 cubic meters","EPA Inventory of U.S. GHG Emissions and Sinks 1990-2022, Annex 6, Section 6.4 Constants, Units, and Conversions. https://www.epa.gov/ghgemissions/inventory-us-greenhouse-gas-emissions-and-sinks",2022]
[null,"Energy content per gallon of propane",{"$f":"C100/C94*(C101)*1000000","v":91445.073472051139},"Btu/gallon propane",null,"calculation"]
[null,"Average members/household",2.5099999999999998,"people",null,"US Census Historical Households Tables, Table HH-6. Average Population Per Household and Family: 1940 to Present, average population per household for all households, 2021 (November 2021) https://www.census.gov/data/tables/time-series/demo/families/households.html",2021]

{"sheet":"EGRID_DATA","index":2,"n_rows":41589,"n_cols":9,"rows_kept":4500,"cut":true,"hidden":false,"merged":[],"bounds":{"rows_first":2000,"rows_last":500,"rows_between":2000,"halvings":0}}
["ZIP (character)","State","Primary eGRID Subregion","Subregion annual CO2e output emission rate (lb/MWh)"]
["00001","AK","AKMS",{"$f":"VLOOKUP(C2,EMISSION_FACTORS!$A$7:$F$33,6,0)","v":497.55700000000002},null,null,"Zip_Code","Vlookup (e_factor)","Vlookup (e_factor)"]
["00002","AK","AKMS",{"$f":"VLOOKUP(C3,EMISSION_FACTORS!$A$7:$F$33,6,0)","v":497.55700000000002},null,null,{"$f":"'Personal GHG Calculator'!F6","v":0},{"$f":"VLOOKUP(G3,e_factor,4,FALSE)","v":{"$error":"#N/A"}},{"$f":"H3/1000","v":{"$error":"#N/A"}}]
["00003","AK","AKMS",{"$f":"VLOOKUP(C4,EMISSION_FACTORS!$A$7:$F$33,6,0)","v":497.55700000000002}]
["00004","AK","AKMS",{"$f":"VLOOKUP(C5,EMISSION_FACTORS!$A$7:$F$33,6,0)","v":497.55700000000002}]
["00005","AK","AKMS",{"$f":"VLOOKUP(C6,EMISSION_FACTORS!$A$7:$F$33,6,0)","v":497.55700000000002}]
["00006","AK","AKGD",{"$f":"VLOOKUP(C7,EMISSION_FACTORS!$A$7:$F$33,6,0)","v":1057.8409999999999}]
["00007","AK","AKMS",{"$f":"VLOOKUP(C8,EMISSION_FACTORS!$A$7:$F$33,6,0)","v":497.55700000000002}]
["00008","AK","AKMS",{"$f":"VLOOKUP(C9,EMISSION_FACTORS!$A$7:$F$33,6,0)","v":497.55700000000002}]
["00009","AK","AKMS",{"$f":"VLOOKUP(C10,EMISSION_FACTORS!$A$7:$F$33,6,0)","v":497.55700000000002}]
["00010","AK","AKMS",{"$f":"VLOOKUP(C11,EMISSION_FACTORS!$A$7:$F$33,6,0)","v":497.55700000000002}]
["00011","AK","AKGD",{"$f":"VLOOKUP(C12,EMISSION_FACTORS!$A$7:$F$33,6,0)","v":1057.8409999999999}]
["00012","CA","CAMX",{"$f":"VLOOKUP(C13,EMISSION_FACTORS!$A$7:$F$33,6,0)","v":499.27800000000002}]
["00013","HI","HIMS",{"$f":"VLOOKUP(C14,EMISSION_FACTORS!$A$7:$F$33,6,0)","v":1163.0650000000001}]
["00014","AZ","AZNM",{"$f":"VLOOKUP(C15,EMISSION_FACTORS!$A$7:$F$33,6,0)","v":779.38199999999995}]
["00015","AZ","AZNM",{"$f":"VLOOKUP(C16,EMISSION_FACTORS!$A$7:$F$33,6,0)","v":779.38199999999995}]
["00016","CA","CAMX",{"$f":"VLOOKUP(C17,EMISSION_FACTORS!$A$7:$F$33,6,0)","v":499.27800000000002}]
["00017","CA","CAMX",{"$f":"VLOOKUP(C18,EMISSION_FACTORS!$A$7:$F$33,6,0)","v":499.27800000000002}]
["00018","CA","CAMX",{"$f":"VLOOKUP(C19,EMISSION_FACTORS!$A$7:$F$33,6,0)","v":499.27800000000002}]
["00019","CA","CAMX",{"$f":"VLOOKUP(C20,EMISSION_FACTORS!$A$7:$F$33,6,0)","v":499.27800000000002}]
["00020","CA","CAMX",{"$f":"VLOOKUP(C21,EMISSION_FACTORS!$A$7:$F$33,6,0)","v":499.27800000000002}]
["00022","CA","CAMX",{"$f":"VLOOKUP(C22,EMISSION_FACTORS!$A$7:$F$33,6,0)","v":499.27800000000002}]
["00026","CA","CAMX",{"$f":"VLOOKUP(C23,EMISSION_FACTORS!$A$7:$F$33,6,0)","v":499.27800000000002}]
["00027","CO","RMPA",{"$f":"VLOOKUP(C24,EMISSION_FACTORS!$A$7:$F$33,6,0)","v":1131.7329999999999}]
["00028","CA","CAMX",{"$f":"VLOOKUP(C25,EMISSION_FACTORS!$A$7:$F$33,6,0)","v":499.27800000000002}]
["00029","CA","CAMX",{"$f":"VLOOKUP(C26,EMISSION_FACTORS!$A$7:$F$33,6,0)","v":499.27800000000002}]
["00031","CA","CAMX",{"$f":"VLOOKUP(C27,EMISSION_FACTORS!$A$7:$F$33,6,0)","v":499.27800000000002}]
["00032","CA","CAMX",{"$f":"VLOOKUP(C28,EMISSION_FACTORS!$A$7:$F$33,6,0)","v":499.27800000000002}]
["00033","CA","CAMX",{"$f":"VLOOKUP(C29,EMISSION_FACTORS!$A$7:$F$33,6,0)","v":499.27800000000002}]
["00034","CA","NWPP",{"$f":"VLOOKUP(C30,EMISSION_FACTORS!$A$7:$F$33,6,0)","v":605.87199999999996}]
["00035","CA","NWPP",{"$f":"VLOOKUP(C31,EMISSION_FACTORS!$A$7:$F$33,6,0)","v":605.87199999999996}]
["00037","CA","CAMX",{"$f":"VLOOKUP(C32,EMISSION_FACTORS!$A$7:$F$33,6,0)","v":499.27800000000002}]
["00038","CA","CAMX",{"$f":"VLOOKUP(C33,EMISSION_FACTORS!$A$7:$F$33,6,0)","v":499.27800000000002}]
["00039","CA","CAMX",{"$f":"VLOOKUP(C34,EMISSION_FACTORS!$A$7:$F$33,6,0)","v":499.27800000000002}]
["00040","CA","CAMX",{"$f":"VLOOKUP(C35,EMISSION_FACTORS!$A$7:$F$33,6,0)","v":499.27800000000002}]
["00041","FL","FRCC",{"$f":"VLOOKUP(C36,EMISSION_FACTORS!$A$7:$F$33,6,0)","v":816.89300000000003}]
["00042","FL","FRCC",{"$f":"VLOOKUP(C37,EMISSION_FACTORS!$A$7:$F$33,6,0)","v":816.89300000000003}]
["00043","FL","FRCC",{"$f":"VLOOKUP(C38,EMISSION_FACTORS!$A$7:$F$33,6,0)","v":816.89300000000003}]
["00044","CA","CAMX",{"$f":"VLOOKUP(C39,EMISSION_FACTORS!$A$7:$F$33,6,0)","v":499.27800000000002}]
["00045","FL","FRCC",{"$f":"VLOOKUP(C40,EMISSION_FACTORS!$A$7:$F$33,6,0)","v":816.89300000000003}]
["00047","CA","CAMX",{"$f":"VLOOKUP(C41,EMISSION_FACTORS!$A$7:$F$33,6,0)","v":499.27800000000002}]
["00048","CA","CAMX",{"$f":"VLOOKUP(C42,EMISSION_FACTORS!$A$7:$F$33,6,0)","v":499.27800000000002}]
["00049","CA","NWPP",{"$f":"VLOOKUP(C43,EMISSION_FACTORS!$A$7:$F$33,6,0)","v":605.87199999999996}]
["00050","CA","CAMX",{"$f":"VLOOKUP(C44,EMISSION_FACTORS!$A$7:$F$33,6,0)","v":499.27800000000002}]
["00051","CA","CAMX",{"$f":"VLOOKUP(C45,EMISSION_FACTORS!$A$7:$F$33,6,0)","v":499.27800000000002}]
["00052","CA","CAMX",{"$f":"VLOOKUP(C46,EMISSION_FACTORS!$A$7:$F$33,6,0)","v":499.27800000000002}]
["00053","FL","FRCC",{"$f":"VLOOKUP(C47,EMISSION_FACTORS!$A$7:$F$33,6,0)","v":816.89300000000003}]
["00054","CA","CAMX",{"$f":"VLOOKUP(C48,EMISSION_FACTORS!$A$7:$F$33,6,0)","v":499.27800000000002}]
["00055","CA","CAMX",{"$f":"VLOOKUP(C49,EMISSION_FACTORS!$A$7:$F$33,6,0)","v":499.27800000000002}]
["00056","ID","NWPP",{"$f":"VLOOKUP(C50,EMISSION_FACTORS!$A$7:$F$33,6,0)","v":605.87199999999996}]
["00057","CA","CAMX",{"$f":"VLOOKUP(C51,EMISSION_FACTORS!$A$7:$F$33,6,0)","v":499.27800000000002}]
["00058","CA","CAMX",{"$f":"VLOOKUP(C52,EMISSION_FACTORS!$A$7:$F$33,6,0)","v":499.27800000000002}]
["00059","MN","MROW",{"$f":"VLOOKUP(C53,EMISSION_FACTORS!$A$7:$F$33,6,0)","v":943.41800000000001}]
["00060","MN","MROW",{"$f":"VLOOKUP(C54,EMISSION_FACTORS!$A$7:$F$33,6,0)","v":943.41800000000001}]
["00061","CA","CAMX",{"$f":"VLOOKUP(C55,EMISSION_FACTORS!$A$7:$F$33,6,0)","v":499.27800000000002}]
["00063","MT","NWPP",{"$f":"VLOOKUP(C56,EMISSION_FACTORS!$A$7:$F$33,6,0)","v":605.87199999999996}]
["00064","NM","AZNM",{"$f":"VLOOKUP(C57,EMISSION_FACTORS!$A$7:$F$33,6,0)","v":779.38199999999995}]
["00065","CA","CAMX",{"$f":"VLOOKUP(C58,EMISSION_FACTORS!$A$7:$F$33,6,0)","v":499.27800000000002}]
["00066","NM","AZNM",{"$f":"VLOOKUP(C59,EMISSION_FACTORS!$A$7:$F$33,6,0)","v":779.38199999999995}]
["00067","OK","SPSO",{"$f":"VLOOKUP(C60,EMISSION_FACTORS!$A$7:$F$33,6,0)","v":975.25300000000004}]
["00068","OR","NWPP",{"$f":"VLOOKUP(C61,EMISSION_FACTORS!$A$7:$F$33,6,0)","v":605.87199999999996}]
["00069","OR","NWPP",{"$f":"VLOOKUP(C62,EMISSION_FACTORS!$A$7:$F$33,6,0)","v":605.87199999999996}]
["00070","OR","NWPP",{"$f":"VLOOKUP(C63,EMISSION_FACTORS!$A$7:$F$33,6,0)","v":605.87199999999996}]
["00071","UT","NWPP",{"$f":"VLOOKUP(C64,EMISSION_FACTORS!$A$7:$F$33,6,0)","v":605.87199999999996}]
["00072","WA","NWPP",{"$f":"VLOOKUP(C65,EMISSION_FACTORS!$A$7:$F$33,6,0)","v":605.87199999999996}]
["00073","WA","NWPP",{"$f":"VLOOKUP(C66,EMISSION_FACTORS!$A$7:$F$33,6,0)","v":605.87199999999996}]
["00074","WA","NWPP",{"$f":"VLOOKUP(C67,EMISSION_FACTORS!$A$7:$F$33,6,0)","v":605.87199999999996}]
["00076","WA","NWPP",{"$f":"VLOOKUP(C68,EMISSION_FACTORS!$A$7:$F$33,6,0)","v":605.87199999999996}]
["00077","OR","NWPP",{"$f":"VLOOKUP(C69,EMISSION_FACTORS!$A$7:$F$33,6,0)","v":605.87199999999996}]
["00084","NC","SRVC",{"$f":"VLOOKUP(C70,EMISSION_FACTORS!$A$7:$F$33,6,0)","v":625.87400000000002}]
["00087","FL","FRCC",{"$f":"VLOOKUP(C71,EMISSION_FACTORS!$A$7:$F$33,6,0)","v":816.89300000000003}]
["00097","FL","FRCC",{"$f":"VLOOKUP(C72,EMISSION_FACTORS!$A$7:$F$33,6,0)","v":816.89300000000003}]
["00098","FL","FRCC",{"$f":"VLOOKUP(C73,EMISSION_FACTORS!$A$7:$F$33,6,0)","v":816.89300000000003}]
["00100","UT","NWPP",{"$f":"VLOOKUP(C74,EMISSION_FACTORS!$A$7:$F$33,6,0)","v":605.87199999999996}]
["00116","LA","SRMV",{"$f":"VLOOKUP(C75,EMISSION_FACTORS!$A$7:$F$33,6,0)","v":803.65800000000002}]
["00119","LA","SRMV",{"$f":"VLOOKUP(C76,EMISSION_FACTORS!$A$7:$F$33,6,0)","v":803.65800000000002}]
["00120","LA","SRMV",{"$f":"VLOOKUP(C77,EMISSION_FACTORS!$A$7:$F$33,6,0)","v":803.65800000000002}]
["00121","LA","SRMV",{"$f":"VLOOKUP(C78,EMISSION_FACTORS!$A$7:$F$33,6,0)","v":803.65800000000002}]
["00125","ME","NEWE",{"$f":"VLOOKUP(C79,EMISSION_FACTORS!$A$7:$F$33,6,0)","v":540.48}]
["00126","ME","NEWE",{"$f":"VLOOKUP(C80,EMISSION_FACTORS!$A$7:$F$33,6,0)","v":540.48}]
["00127","ME","NEWE",{"$f":"VLOOKUP(C81,EMISSION_FACTORS!$A$7:$F$33,6,0)","v":540.48}]
["00128","ME","NEWE",{"$f":"VLOOKUP(C82,EMISSION_FACTORS!$A$7:$F$33,6,0)","v":540.48}]
["00130","ME","NEWE",{"$f":"VLOOKUP(C83,EMISSION_FACTORS!$A$7:$F$33,6,0)","v":540.48}]
["00132","ME","NEWE",{"$f":"VLOOKUP(C84,EMISSION_FACTORS!$A$7:$F$33,6,0)","v":540.48}]
["00133","ME","NEWE",{"$f":"VLOOKUP(C85,EMISSION_FACTORS!$A$7:$F$33,6,0)","v":540.48}]
["00134","ME","NEWE",{"$f":"VLOOKUP(C86,EMISSION_FACTORS!$A$7:$F$33,6,0)","v":540.48}]
["00135","ME","NEWE",{"$f":"VLOOKUP(C87,EMISSION_FACTORS!$A$7:$F$33,6,0)","v":540.48}]
["00137","ME","NEWE",{"$f":"VLOOKUP(C88,EMISSION_FACTORS!$A$7:$F$33,6,0)","v":540.48}]
["00138","ME","NEWE",{"$f":"VLOOKUP(C89,EMISSION_FACTORS!$A$7:$F$33,6,0)","v":540.48}]
["00139","ME","NEWE",{"$f":"VLOOKUP(C90,EMISSION_FACTORS!$A$7:$F$33,6,0)","v":540.48}]
["00141","ME","NEWE",{"$f":"VLOOKUP(C91,EMISSION_FACTORS!$A$7:$F$33,6,0)","v":540.48}]
["00148","ME","NEWE",{"$f":"VLOOKUP(C92,EMISSION_FACTORS!$A$7:$F$33,6,0)","v":540.48}]
["00151","ME","NEWE",{"$f":"VLOOKUP(C93,EMISSION_FACTORS!$A$7:$F$33,6,0)","v":540.48}]
["00152","MD","RFCE",{"$f":"VLOOKUP(C94,EMISSION_FACTORS!$A$7:$F$33,6,0)","v":660.31100000000004}]
["00158","MA","NEWE",{"$f":"VLOOKUP(C95,EMISSION_FACTORS!$A$7:$F$33,6,0)","v":540.48}]
["00160","MN","MROW",{"$f":"VLOOKUP(C96,EMISSION_FACTORS!$A$7:$F$33,6,0)","v":943.41800000000001}]
["00161","MN","MROW",{"$f":"VLOOKUP(C97,EMISSION_FACTORS!$A$7:$F$33,6,0)","v":943.41800000000001}]
["00164","MN","MROW",{"$f":"VLOOKUP(C98,EMISSION_FACTORS!$A$7:$F$33,6,0)","v":943.41800000000001}]
["00165","MN","MROW",{"$f":"VLOOKUP(C99,EMISSION_FACTORS!$A$7:$F$33,6,0)","v":943.41800000000001}]
["00166","MN","MROW",{"$f":"VLOOKUP(C100,EMISSION_FACTORS!$A$7:$F$33,6,0)","v":943.41800000000001}]
["00168","NH","NEWE",{"$f":"VLOOKUP(C101,EMISSION_FACTORS!$A$7:$F$33,6,0)","v":540.48}]
["00172","NH","NEWE",{"$f":"VLOOKUP(C102,EMISSION_FACTORS!$A$7:$F$33,6,0)","v":540.48}]
["00173","NH","NEWE",{"$f":"VLOOKUP(C103,EMISSION_FACTORS!$A$7:$F$33,6,0)","v":540.48}]
["00174","NH","NEWE",{"$f":"VLOOKUP(C104,EMISSION_FACTORS!$A$7:$F$33,6,0)","v":540.48}]
["00176","NH","NEWE",{"$f":"VLOOKUP(C105,EMISSION_FACTORS!$A$7:$F$33,6,0)","v":540.48}]
["00177","NH","NEWE",{"$f":"VLOOKUP(C106,EMISSION_FACTORS!$A$7:$F$33,6,0)","v":540.48}]
["00179","NH","NEWE",{"$f":"VLOOKUP(C107,EMISSION_FACTORS!$A$7:$F$33,6,0)","v":540.48}]
["00180","NH","NEWE",{"$f":"VLOOKUP(C108,EMISSION_FACTORS!$A$7:$F$33,6,0)","v":540.48}]
["00181","NH","NEWE",{"$f":"VLOOKUP(C109,EMISSION_FACTORS!$A$7:$F$33,6,0)","v":540.48}]
["00182","NH","NEWE",{"$f":"VLOOKUP(C110,EMISSION_FACTORS!$A$7:$F$33,6,0)","v":540.48}]
["00183","NH","NEWE",{"$f":"VLOOKUP(C111,EMISSION_FACTORS!$A$7:$F$33,6,0)","v":540.48}]
["00184","NH","NEWE",{"$f":"VLOOKUP(C112,EMISSION_FACTORS!$A$7:$F$33,6,0)","v":540.48}]
["00185","NH","NEWE",{"$f":"VLOOKUP(C113,EMISSION_FACTORS!$A$7:$F$33,6,0)","v":540.48}]
["00188","TX","ERCT",{"$f":"VLOOKUP(C114,EMISSION_FACTORS!$A$7:$F$33,6,0)","v":774.298}]
["00195","WA","NWPP",{"$f":"VLOOKUP(C115,EMISSION_FACTORS!$A$7:$F$33,6,0)","v":605.87199999999996}]
["00197","AZ","AZNM",{"$f":"VLOOKUP(C116,EMISSION_FACTORS!$A$7:$F$33,6,0)","v":779.38199999999995}]
["00198","AK","AKGD",{"$f":"VLOOKUP(C117,EMISSION_FACTORS!$A$7:$F$33,6,0)","v":1057.8409999999999}]
["00199","AZ","AZNM",{"$f":"VLOOKUP(C118,EMISSION_FACTORS!$A$7:$F$33,6,0)","v":779.38199999999995}]
["00501","NY","NYLI",{"$f":"VLOOKUP(C119,EMISSION_FACTORS!$A$7:$F$33,6,0)","v":1209.3109999999999}]
["00544","NY","NYLI",{"$f":"VLOOKUP(C120,EMISSION_FACTORS!$A$7:$F$33,6,0)","v":1209.3109999999999}]
["00601","PR","PRMS",{"$f":"VLOOKUP(C121,EMISSION_FACTORS!$A$7:$F$33,6,0)","v":1599.922}]
["00602","PR","PRMS",{"$f":"VLOOKUP(C122,EMISSION_FACTORS!$A$7:$F$33,6,0)","v":1599.922}]
["00603","PR","PRMS",{"$f":"VLOOKUP(C123,EMISSION_FACTORS!$A$7:$F$33,6,0)","v":1599.922}]
["00604","PR","PRMS",{"$f":"VLOOKUP(C124,EMISSION_FACTORS!$A$7:$F$33,6,0)","v":1599.922}]
["00605","PR","PRMS",{"$f":"VLOOKUP(C125,EMISSION_FACTORS!$A$7:$F$33,6,0)","v":1599.922}]
["00606","PR","PRMS",{"$f":"VLOOKUP(C126,EMISSION_FACTORS!$A$7:$F$33,6,0)","v":1599.922}]
["00610","PR","PRMS",{"$f":"VLOOKUP(C127,EMISSION_FACTORS!$A$7:$F$33,6,0)","v":1599.922}]
["00611","PR","PRMS",{"$f":"VLOOKUP(C128,EMISSION_FACTORS!$A$7:$F$33,6,0)","v":1599.922}]
["00612","PR","PRMS",{"$f":"VLOOKUP(C129,EMISSION_FACTORS!$A$7:$F$33,6,0)","v":1599.922}]
["00613","PR","PRMS",{"$f":"VLOOKUP(C130,EMISSION_FACTORS!$A$7:$F$33,6,0)","v":1599.922}]
["00614","PR","PRMS",{"$f":"VLOOKUP(C131,EMISSION_FACTORS!$A$7:$F$33,6,0)","v":1599.922}]
["00616","PR","PRMS",{"$f":"VLOOKUP(C132,EMISSION_FACTORS!$A$7:$F$33,6,0)","v":1599.922}]
["00617","PR","PRMS",{"$f":"VLOOKUP(C133,EMISSION_FACTORS!$A$7:$F$33,6,0)","v":1599.922}]
["00622","PR","PRMS",{"$f":"VLOOKUP(C134,EMISSION_FACTORS!$A$7:$F$33,6,0)","v":1599.922}]
["00623","PR","PRMS",{"$f":"VLOOKUP(C135,EMISSION_FACTORS!$A$7:$F$33,6,0)","v":1599.922}]
["00624","PR","PRMS",{"$f":"VLOOKUP(C136,EMISSION_FACTORS!$A$7:$F$33,6,0)","v":1599.922}]
["00627","PR","PRMS",{"$f":"VLOOKUP(C137,EMISSION_FACTORS!$A$7:$F$33,6,0)","v":1599.922}]
["00631","PR","PRMS",{"$f":"VLOOKUP(C138,EMISSION_FACTORS!$A$7:$F$33,6,0)","v":1599.922}]
["00636","PR","PRMS",{"$f":"VLOOKUP(C139,EMISSION_FACTORS!$A$7:$F$33,6,0)","v":1599.922}]
["00637","PR","PRMS",{"$f":"VLOOKUP(C140,EMISSION_FACTORS!$A$7:$F$33,6,0)","v":1599.922}]
["00638","PR","PRMS",{"$f":"VLOOKUP(C141,EMISSION_FACTORS!$A$7:$F$33,6,0)","v":1599.922}]
["00641","PR","PRMS",{"$f":"VLOOKUP(C142,EMISSION_FACTORS!$A$7:$F$33,6,0)","v":1599.922}]
["00646","PR","PRMS",{"$f":"VLOOKUP(C143,EMISSION_FACTORS!$A$7:$F$33,6,0)","v":1599.922}]
["00647","PR","PRMS",{"$f":"VLOOKUP(C144,EMISSION_FACTORS!$A$7:$F$33,6,0)","v":1599.922}]
["00650","PR","PRMS",{"$f":"VLOOKUP(C145,EMISSION_FACTORS!$A$7:$F$33,6,0)","v":1599.922}]
["00652","PR","PRMS",{"$f":"VLOOKUP(C146,EMISSION_FACTORS!$A$7:$F$33,6,0)","v":1599.922}]
["00653","PR","PRMS",{"$f":"VLOOKUP(C147,EMISSION_FACTORS!$A$7:$F$33,6,0)","v":1599.922}]
["00656","PR","PRMS",{"$f":"VLOOKUP(C148,EMISSION_FACTORS!$A$7:$F$33,6,0)","v":1599.922}]
["00659","PR","PRMS",{"$f":"VLOOKUP(C149,EMISSION_FACTORS!$A$7:$F$33,6,0)","v":1599.922}]
["00660","PR","PRMS",{"$f":"VLOOKUP(C150,EMISSION_FACTORS!$A$7:$F$33,6,0)","v":1599.922}]
["00662","PR","PRMS",{"$f":"VLOOKUP(C151,EMISSION_FACTORS!$A$7:$F$33,6,0)","v":1599.922}]
["00664","PR","PRMS",{"$f":"VLOOKUP(C152,EMISSION_FACTORS!$A$7:$F$33,6,0)","v":1599.922}]
["00667","PR","PRMS",{"$f":"VLOOKUP(C153,EMISSION_FACTORS!$A$7:$F$33,6,0)","v":1599.922}]
["00669","PR","PRMS",{"$f":"VLOOKUP(C154,EMISSION_FACTORS!$A$7:$F$33,6,0)","v":1599.922}]
["00670","PR","PRMS",{"$f":"VLOOKUP(C155,EMISSION_FACTORS!$A$7:$F$33,6,0)","v":1599.922}]
["00674","PR","PRMS",{"$f":"VLOOKUP(C156,EMISSION_FACTORS!$A$7:$F$33,6,0)","v":1599.922}]
["00676","PR","PRMS",{"$f":"VLOOKUP(C157,EMISSION_FACTORS!$A$7:$F$33,6,0)","v":1599.922}]
["00677","PR","PRMS",{"$f":"VLOOKUP(C158,EMISSION_FACTORS!$A$7:$F$33,6,0)","v":1599.922}]
["00678","PR","PRMS",{"$f":"VLOOKUP(C159,EMISSION_FACTORS!$A$7:$F$33,6,0)","v":1599.922}]
["00680","PR","PRMS",{"$f":"VLOOKUP(C160,EMISSION_FACTORS!$A$7:$F$33,6,0)","v":1599.922}]
["00681","PR","PRMS",{"$f":"VLOOKUP(C161,EMISSION_FACTORS!$A$7:$F$33,6,0)","v":1599.922}]
["00682","PR","PRMS",{"$f":"VLOOKUP(C162,EMISSION_FACTORS!$A$7:$F$33,6,0)","v":1599.922}]
["00683","PR","PRMS",{"$f":"VLOOKUP(C163,EMISSION_FACTORS!$A$7:$F$33,6,0)","v":1599.922}]
["00685","PR","PRMS",{"$f":"VLOOKUP(C164,EMISSION_FACTORS!$A$7:$F$33,6,0)","v":1599.922}]
["00687","PR","PRMS",{"$f":"VLOOKUP(C165,EMISSION_FACTORS!$A$7:$F$33,6,0)","v":1599.922}]
["00688","PR","PRMS",{"$f":"VLOOKUP(C166,EMISSION_FACTORS!$A$7:$F$33,6,0)","v":1599.922}]
["00690","PR","PRMS",{"$f":"VLOOKUP(C167,EMISSION_FACTORS!$A$7:$F$33,6,0)","v":1599.922}]
["00692","PR","PRMS",{"$f":"VLOOKUP(C168,EMISSION_FACTORS!$A$7:$F$33,6,0)","v":1599.922}]
["00693","PR","PRMS",{"$f":"VLOOKUP(C169,EMISSION_FACTORS!$A$7:$F$33,6,0)","v":1599.922}]
["00694","PR","PRMS",{"$f":"VLOOKUP(C170,EMISSION_FACTORS!$A$7:$F$33,6,0)","v":1599.922}]
["00698","PR","PRMS",{"$f":"VLOOKUP(C171,EMISSION_FACTORS!$A$7:$F$33,6,0)","v":1599.922}]
["00703","PR","PRMS",{"$f":"VLOOKUP(C172,EMISSION_FACTORS!$A$7:$F$33,6,0)","v":1599.922}]
["00704","PR","PRMS",{"$f":"VLOOKUP(C173,EMISSION_FACTORS!$A$7:$F$33,6,0)","v":1599.922}]
["00705","PR","PRMS",{"$f":"VLOOKUP(C174,EMISSION_FACTORS!$A$7:$F$33,6,0)","v":1599.922}]
["00707","PR","PRMS",{"$f":"VLOOKUP(C175,EMISSION_FACTORS!$A$7:$F$33,6,0)","v":1599.922}]
["00714","PR","PRMS",{"$f":"VLOOKUP(C176,EMISSION_FACTORS!$A$7:$F$33,6,0)","v":1599.922}]
["00715","PR","PRMS",{"$f":"VLOOKUP(C177,EMISSION_FACTORS!$A$7:$F$33,6,0)","v":1599.922}]
["00716","PR","PRMS",{"$f":"VLOOKUP(C178,EMISSION_FACTORS!$A$7:$F$33,6,0)","v":1599.922}]
["00717","PR","PRMS",{"$f":"VLOOKUP(C179,EMISSION_FACTORS!$A$7:$F$33,6,0)","v":1599.922}]
["00718","PR","PRMS",{"$f":"VLOOKUP(C180,EMISSION_FACTORS!$A$7:$F$33,6,0)","v":1599.922}]
["00719","PR","PRMS",{"$f":"VLOOKUP(C181,EMISSION_FACTORS!$A$7:$F$33,6,0)","v":1599.922}]
["00720","PR","PRMS",{"$f":"VLOOKUP(C182,EMISSION_FACTORS!$A$7:$F$33,6,0)","v":1599.922}]
["00721","PR","PRMS",{"$f":"VLOOKUP(C183,EMISSION_FACTORS!$A$7:$F$33,6,0)","v":1599.922}]
["00723","PR","PRMS",{"$f":"VLOOKUP(C184,EMISSION_FACTORS!$A$7:$F$33,6,0)","v":1599.922}]
["00725","PR","PRMS",{"$f":"VLOOKUP(C185,EMISSION_FACTORS!$A$7:$F$33,6,0)","v":1599.922}]
["00726","PR","PRMS",{"$f":"VLOOKUP(C186,EMISSION_FACTORS!$A$7:$F$33,6,0)","v":1599.922}]
["00727","PR","PRMS",{"$f":"VLOOKUP(C187,EMISSION_FACTORS!$A$7:$F$33,6,0)","v":1599.922}]
["00728","PR","PRMS",{"$f":"VLOOKUP(C188,EMISSION_FACTORS!$A$7:$F$33,6,0)","v":1599.922}]
["00729","PR","PRMS",{"$f":"VLOOKUP(C189,EMISSION_FACTORS!$A$7:$F$33,6,0)","v":1599.922}]
["00730","PR","PRMS",{"$f":"VLOOKUP(C190,EMISSION_FACTORS!$A$7:$F$33,6,0)","v":1599.922}]
["00731","PR","PRMS",{"$f":"VLOOKUP(C191,EMISSION_FACTORS!$A$7:$F$33,6,0)","v":1599.922}]
["00732","PR","PRMS",{"$f":"VLOOKUP(C192,EMISSION_FACTORS!$A$7:$F$33,6,0)","v":1599.922}]
["00733","PR","PRMS",{"$f":"VLOOKUP(C193,EMISSION_FACTORS!$A$7:$F$33,6,0)","v":1599.922}]
["00734","PR","PRMS",{"$f":"VLOOKUP(C194,EMISSION_FACTORS!$A$7:$F$33,6,0)","v":1599.922}]
["00735","PR","PRMS",{"$f":"VLOOKUP(C195,EMISSION_FACTORS!$A$7:$F$33,6,0)","v":1599.922}]
["00736","PR","PRMS",{"$f":"VLOOKUP(C196,EMISSION_FACTORS!$A$7:$F$33,6,0)","v":1599.922}]
["00737","PR","PRMS",{"$f":"VLOOKUP(C197,EMISSION_FACTORS!$A$7:$F$33,6,0)","v":1599.922}]
["00738","PR","PRMS",{"$f":"VLOOKUP(C198,EMISSION_FACTORS!$A$7:$F$33,6,0)","v":1599.922}]
["00739","PR","PRMS",{"$f":"VLOOKUP(C199,EMISSION_FACTORS!$A$7:$F$33,6,0)","v":1599.922}]
["00740","PR","PRMS",{"$f":"VLOOKUP(C200,EMISSION_FACTORS!$A$7:$F$33,6,0)","v":1599.922}]
["00741","PR","PRMS",{"$f":"VLOOKUP(C201,EMISSION_FACTORS!$A$7:$F$33,6,0)","v":1599.922}]
["00742","PR","PRMS",{"$f":"VLOOKUP(C202,EMISSION_FACTORS!$A$7:$F$33,6,0)","v":1599.922}]
["00744","PR","PRMS",{"$f":"VLOOKUP(C203,EMISSION_FACTORS!$A$7:$F$33,6,0)","v":1599.922}]
["00745","PR","PRMS",{"$f":"VLOOKUP(C204,EMISSION_FACTORS!$A$7:$F$33,6,0)","v":1599.922}]
["00751","PR","PRMS",{"$f":"VLOOKUP(C205,EMISSION_FACTORS!$A$7:$F$33,6,0)","v":1599.922}]
["00754","PR","PRMS",{"$f":"VLOOKUP(C206,EMISSION_FACTORS!$A$7:$F$33,6,0)","v":1599.922}]
["00757","PR","PRMS",{"$f":"VLOOKUP(C207,EMISSION_FACTORS!$A$7:$F$33,6,0)","v":1599.922}]
["00765","PR","PRMS",{"$f":"VLOOKUP(C208,EMISSION_FACTORS!$A$7:$F$33,6,0)","v":1599.922}]
["00766","PR","PRMS",{"$f":"VLOOKUP(C209,EMISSION_FACTORS!$A$7:$F$33,6,0)","v":1599.922}]
["00767","PR","PRMS",{"$f":"VLOOKUP(C210,EMISSION_FACTORS!$A$7:$F$33,6,0)","v":1599.922}]
["00769","PR","PRMS",{"$f":"VLOOKUP(C211,EMISSION_FACTORS!$A$7:$F$33,6,0)","v":1599.922}]
["00771","PR","PRMS",{"$f":"VLOOKUP(C212,EMISSION_FACTORS!$A$7:$F$33,6,0)","v":1599.922}]
["00772","PR","PRMS",{"$f":"VLOOKUP(C213,EMISSION_FACTORS!$A$7:$F$33,6,0)","v":1599.922}]
["00773","PR","PRMS",{"$f":"VLOOKUP(C214,EMISSION_FACTORS!$A$7:$F$33,6,0)","v":1599.922}]
["00775","PR","PRMS",{"$f":"VLOOKUP(C215,EMISSION_FACTORS!$A$7:$F$33,6,0)","v":1599.922}]
["00777","PR","PRMS",{"$f":"VLOOKUP(C216,EMISSION_FACTORS!$A$7:$F$33,6,0)","v":1599.922}]
["00778","PR","PRMS",{"$f":"VLOOKUP(C217,EMISSION_FACTORS!$A$7:$F$33,6,0)","v":1599.922}]
["00780","PR","PRMS",{"$f":"VLOOKUP(C218,EMISSION_FACTORS!$A$7:$F$33,6,0)","v":1599.922}]
["00782","PR","PRMS",{"$f":"VLOOKUP(C219,EMISSION_FACTORS!$A$7:$F$33,6,0)","v":1599.922}]
["00783","PR","PRMS",{"$f":"VLOOKUP(C220,EMISSION_FACTORS!$A$7:$F$33,6,0)","v":1599.922}]
["00784","PR","PRMS",{"$f":"VLOOKUP(C221,EMISSION_FACTORS!$A$7:$F$33,6,0)","v":1599.922}]
["00785","PR","PRMS",{"$f":"VLOOKUP(C222,EMISSION_FACTORS!$A$7:$F$33,6,0)","v":1599.922}]
["00786","PR","PRMS",{"$f":"VLOOKUP(C223,EMISSION_FACTORS!$A$7:$F$33,6,0)","v":1599.922}]
["00791","PR","PRMS",{"$f":"VLOOKUP(C224,EMISSION_FACTORS!$A$7:$F$33,6,0)","v":1599.922}]
["00792","PR","PRMS",{"$f":"VLOOKUP(C225,EMISSION_FACTORS!$A$7:$F$33,6,0)","v":1599.922}]
["00794","PR","PRMS",{"$f":"VLOOKUP(C226,EMISSION_FACTORS!$A$7:$F$33,6,0)","v":1599.922}]
["00795","PR","PRMS",{"$f":"VLOOKUP(C227,EMISSION_FACTORS!$A$7:$F$33,6,0)","v":1599.922}]
["00901","PR","PRMS",{"$f":"VLOOKUP(C228,EMISSION_FACTORS!$A$7:$F$33,6,0)","v":1599.922}]
["00902","PR","PRMS",{"$f":"VLOOKUP(C229,EMISSION_FACTORS!$A$7:$F$33,6,0)","v":1599.922}]
["00906","PR","PRMS",{"$f":"VLOOKUP(C230,EMISSION_FACTORS!$A$7:$F$33,6,0)","v":1599.922}]
["00907","PR","PRMS",{"$f":"VLOOKUP(C231,EMISSION_FACTORS!$A$7:$F$33,6,0)","v":1599.922}]
["00908","PR","PRMS",{"$f":"VLOOKUP(C232,EMISSION_FACTORS!$A$7:$F$33,6,0)","v":1599.922}]
["00909","PR","PRMS",{"$f":"VLOOKUP(C233,EMISSION_FACTORS!$A$7:$F$33,6,0)","v":1599.922}]
["00910","PR","PRMS",{"$f":"VLOOKUP(C234,EMISSION_FACTORS!$A$7:$F$33,6,0)","v":1599.922}]
["00911","PR","PRMS",{"$f":"VLOOKUP(C235,EMISSION_FACTORS!$A$7:$F$33,6,0)","v":1599.922}]
["00912","PR","PRMS",{"$f":"VLOOKUP(C236,EMISSION_FACTORS!$A$7:$F$33,6,0)","v":1599.922}]
["00913","PR","PRMS",{"$f":"VLOOKUP(C237,EMISSION_FACTORS!$A$7:$F$33,6,0)","v":1599.922}]
["00914","PR","PRMS",{"$f":"VLOOKUP(C238,EMISSION_FACTORS!$A$7:$F$33,6,0)","v":1599.922}]
["00915","PR","PRMS",{"$f":"VLOOKUP(C239,EMISSION_FACTORS!$A$7:$F$33,6,0)","v":1599.922}]
["00916","PR","PRMS",{"$f":"VLOOKUP(C240,EMISSION_FACTORS!$A$7:$F$33,6,0)","v":1599.922}]
["00917","PR","PRMS",{"$f":"VLOOKUP(C241,EMISSION_FACTORS!$A$7:$F$33,6,0)","v":1599.922}]
["00918","PR","PRMS",{"$f":"VLOOKUP(C242,EMISSION_FACTORS!$A$7:$F$33,6,0)","v":1599.922}]
["00919","PR","PRMS",{"$f":"VLOOKUP(C243,EMISSION_FACTORS!$A$7:$F$33,6,0)","v":1599.922}]
["00920","PR","PRMS",{"$f":"VLOOKUP(C244,EMISSION_FACTORS!$A$7:$F$33,6,0)","v":1599.922}]
["00921","PR","PRMS",{"$f":"VLOOKUP(C245,EMISSION_FACTORS!$A$7:$F$33,6,0)","v":1599.922}]
["00922","PR","PRMS",{"$f":"VLOOKUP(C246,EMISSION_FACTORS!$A$7:$F$33,6,0)","v":1599.922}]
["00923","PR","PRMS",{"$f":"VLOOKUP(C247,EMISSION_FACTORS!$A$7:$F$33,6,0)","v":1599.922}]
["00924","PR","PRMS",{"$f":"VLOOKUP(C248,EMISSION_FACTORS!$A$7:$F$33,6,0)","v":1599.922}]
["00925","PR","PRMS",{"$f":"VLOOKUP(C249,EMISSION_FACTORS!$A$7:$F$33,6,0)","v":1599.922}]
["00926","PR","PRMS",{"$f":"VLOOKUP(C250,EMISSION_FACTORS!$A$7:$F$33,6,0)","v":1599.922}]
["00927","PR","PRMS",{"$f":"VLOOKUP(C251,EMISSION_FACTORS!$A$7:$F$33,6,0)","v":1599.922}]
["00928","PR","PRMS",{"$f":"VLOOKUP(C252,EMISSION_FACTORS!$A$7:$F$33,6,0)","v":1599.922}]
["00929","PR","PRMS",{"$f":"VLOOKUP(C253,EMISSION_FACTORS!$A$7:$F$33,6,0)","v":1599.922}]
["00930","PR","PRMS",{"$f":"VLOOKUP(C254,EMISSION_FACTORS!$A$7:$F$33,6,0)","v":1599.922}]
["00931","PR","PRMS",{"$f":"VLOOKUP(C255,EMISSION_FACTORS!$A$7:$F$33,6,0)","v":1599.922}]
["00933","PR","PRMS",{"$f":"VLOOKUP(C256,EMISSION_FACTORS!$A$7:$F$33,6,0)","v":1599.922}]
["00934","PR","PRMS",{"$f":"VLOOKUP(C257,EMISSION_FACTORS!$A$7:$F$33,6,0)","v":1599.922}]
["00935","PR","PRMS",{"$f":"VLOOKUP(C258,EMISSION_FACTORS!$A$7:$F$33,6,0)","v":1599.922}]
["00936","PR","PRMS",{"$f":"VLOOKUP(C259,EMISSION_FACTORS!$A$7:$F$33,6,0)","v":1599.922}]
["00937","PR","PRMS",{"$f":"VLOOKUP(C260,EMISSION_FACTORS!$A$7:$F$33,6,0)","v":1599.922}]
["00939","PR","PRMS",{"$f":"VLOOKUP(C261,EMISSION_FACTORS!$A$7:$F$33,6,0)","v":1599.922}]
["00940","PR","PRMS",{"$f":"VLOOKUP(C262,EMISSION_FACTORS!$A$7:$F$33,6,0)","v":1599.922}]
["00949","PR","PRMS",{"$f":"VLOOKUP(C263,EMISSION_FACTORS!$A$7:$F$33,6,0)","v":1599.922}]
["00950","PR","PRMS",{"$f":"VLOOKUP(C264,EMISSION_FACTORS!$A$7:$F$33,6,0)","v":1599.922}]
["00951","PR","PRMS",{"$f":"VLOOKUP(C265,EMISSION_FACTORS!$A$7:$F$33,6,0)","v":1599.922}]
["00952","PR","PRMS",{"$f":"VLOOKUP(C266,EMISSION_FACTORS!$A$7:$F$33,6,0)","v":1599.922}]
["00953","PR","PRMS",{"$f":"VLOOKUP(C267,EMISSION_FACTORS!$A$7:$F$33,6,0)","v":1599.922}]
["00954","PR","PRMS",{"$f":"VLOOKUP(C268,EMISSION_FACTORS!$A$7:$F$33,6,0)","v":1599.922}]
["00955","PR","PRMS",{"$f":"VLOOKUP(C269,EMISSION_FACTORS!$A$7:$F$33,6,0)","v":1599.922}]
["00956","PR","PRMS",{"$f":"VLOOKUP(C270,EMISSION_FACTORS!$A$7:$F$33,6,0)","v":1599.922}]
["00957","PR","PRMS",{"$f":"VLOOKUP(C271,EMISSION_FACTORS!$A$7:$F$33,6,0)","v":1599.922}]
["00958","PR","PRMS",{"$f":"VLOOKUP(C272,EMISSION_FACTORS!$A$7:$F$33,6,0)","v":1599.922}]
["00959","PR","PRMS",{"$f":"VLOOKUP(C273,EMISSION_FACTORS!$A$7:$F$33,6,0)","v":1599.922}]
["00960","PR","PRMS",{"$f":"VLOOKUP(C274,EMISSION_FACTORS!$A$7:$F$33,6,0)","v":1599.922}]
["00961","PR","PRMS",{"$f":"VLOOKUP(C275,EMISSION_FACTORS!$A$7:$F$33,6,0)","v":1599.922}]
["00962","PR","PRMS",{"$f":"VLOOKUP(C276,EMISSION_FACTORS!$A$7:$F$33,6,0)","v":1599.922}]
["00963","PR","PRMS",{"$f":"VLOOKUP(C277,EMISSION_FACTORS!$A$7:$F$33,6,0)","v":1599.922}]
["00965","PR","PRMS",{"$f":"VLOOKUP(C278,EMISSION_FACTORS!$A$7:$F$33,6,0)","v":1599.922}]
["00966","PR","PRMS",{"$f":"VLOOKUP(C279,EMISSION_FACTORS!$A$7:$F$33,6,0)","v":1599.922}]
["00968","PR","PRMS",{"$f":"VLOOKUP(C280,EMISSION_FACTORS!$A$7:$F$33,6,0)","v":1599.922}]
["00969","PR","PRMS",{"$f":"VLOOKUP(C281,EMISSION_FACTORS!$A$7:$F$33,6,0)","v":1599.922}]
["00970","PR","PRMS",{"$f":"VLOOKUP(C282,EMISSION_FACTORS!$A$7:$F$33,6,0)","v":1599.922}]
["00971","PR","PRMS",{"$f":"VLOOKUP(C283,EMISSION_FACTORS!$A$7:$F$33,6,0)","v":1599.922}]
["00975","PR","PRMS",{"$f":"VLOOKUP(C284,EMISSION_FACTORS!$A$7:$F$33,6,0)","v":1599.922}]
["00976","PR","PRMS",{"$f":"VLOOKUP(C285,EMISSION_FACTORS!$A$7:$F$33,6,0)","v":1599.922}]
["00977","PR","PRMS",{"$f":"VLOOKUP(C286,EMISSION_FACTORS!$A$7:$F$33,6,0)","v":1599.922}]
["00978","PR","PRMS",{"$f":"VLOOKUP(C287,EMISSION_FACTORS!$A$7:$F$33,6,0)","v":1599.922}]
["00979","PR","PRMS",{"$f":"VLOOKUP(C288,EMISSION_FACTORS!$A$7:$F$33,6,0)","v":1599.922}]
["00981","PR","PRMS",{"$f":"VLOOKUP(C289,EMISSION_FACTORS!$A$7:$F$33,6,0)","v":1599.922}]
["00982","PR","PRMS",{"$f":"VLOOKUP(C290,EMISSION_FACTORS!$A$7:$F$33,6,0)","v":1599.922}]
["00983","PR","PRMS",{"$f":"VLOOKUP(C291,EMISSION_FACTORS!$A$7:$F$33,6,0)","v":1599.922}]
["00984","PR","PRMS",{"$f":"VLOOKUP(C292,EMISSION_FACTORS!$A$7:$F$33,6,0)","v":1599.922}]
["00985","PR","PRMS",{"$f":"VLOOKUP(C293,EMISSION_FACTORS!$A$7:$F$33,6,0)","v":1599.922}]
["00986","PR","PRMS",{"$f":"VLOOKUP(C294,EMISSION_FACTORS!$A$7:$F$33,6,0)","v":1599.922}]
["00987","PR","PRMS",{"$f":"VLOOKUP(C295,EMISSION_FACTORS!$A$7:$F$33,6,0)","v":1599.922}]
["00988","PR","PRMS",{"$f":"VLOOKUP(C296,EMISSION_FACTORS!$A$7:$F$33,6,0)","v":1599.922}]
["01001","MA","NEWE",{"$f":"VLOOKUP(C297,EMISSION_FACTORS!$A$7:$F$33,6,0)","v":540.48}]
["01002","MA","NEWE",{"$f":"VLOOKUP(C298,EMISSION_FACTORS!$A$7:$F$33,6,0)","v":540.48}]
["01003","MA","NEWE",{"$f":"VLOOKUP(C299,EMISSION_FACTORS!$A$7:$F$33,6,0)","v":540.48}]
["01004","MA","NEWE",{"$f":"VLOOKUP(C300,EMISSION_FACTORS!$A$7:$F$33,6,0)","v":540.48}]
["01005","MA","NEWE",{"$f":"VLOOKUP(C301,EMISSION_FACTORS!$A$7:$F$33,6,0)","v":540.48}]
["01007","MA","NEWE",{"$f":"VLOOKUP(C302,EMISSION_FACTORS!$A$7:$F$33,6,0)","v":540.48}]
["01008","MA","NEWE",{"$f":"VLOOKUP(C303,EMISSION_FACTORS!$A$7:$F$33,6,0)","v":540.48}]
["01009","MA","NEWE",{"$f":"VLOOKUP(C304,EMISSION_FACTORS!$A$7:$F$33,6,0)","v":540.48}]
["01010","MA","NEWE",{"$f":"VLOOKUP(C305,EMISSION_FACTORS!$A$7:$F$33,6,0)","v":540.48}]
["01011","MA","NEWE",{"$f":"VLOOKUP(C306,EMISSION_FACTORS!$A$7:$F$33,6,0)","v":540.48}]
["01012","MA","NEWE",{"$f":"VLOOKUP(C307,EMISSION_FACTORS!$A$7:$F$33,6,0)","v":540.48}]
["01013","MA","NEWE",{"$f":"VLOOKUP(C308,EMISSION_FACTORS!$A$7:$F$33,6,0)","v":540.48}]
["01014","MA","NEWE",{"$f":"VLOOKUP(C309,EMISSION_FACTORS!$A$7:$F$33,6,0)","v":540.48}]
["01020","MA","NEWE",{"$f":"VLOOKUP(C310,EMISSION_FACTORS!$A$7:$F$33,6,0)","v":540.48}]
["01021","MA","NEWE",{"$f":"VLOOKUP(C311,EMISSION_FACTORS!$A$7:$F$33,6,0)","v":540.48}]
["01022","MA","NEWE",{"$f":"VLOOKUP(C312,EMISSION_FACTORS!$A$7:$F$33,6,0)","v":540.48}]
["01026","MA","NEWE",{"$f":"VLOOKUP(C313,EMISSION_FACTORS!$A$7:$F$33,6,0)","v":540.48}]
["01027","MA","NEWE",{"$f":"VLOOKUP(C314,EMISSION_FACTORS!$A$7:$F$33,6,0)","v":540.48}]
["01028","MA","NEWE",{"$f":"VLOOKUP(C315,EMISSION_FACTORS!$A$7:$F$33,6,0)","v":540.48}]
["01029","MA","NEWE",{"$f":"VLOOKUP(C316,EMISSION_FACTORS!$A$7:$F$33,6,0)","v":540.48}]
["01030","MA","NEWE",{"$f":"VLOOKUP(C317,EMISSION_FACTORS!$A$7:$F$33,6,0)","v":540.48}]
["01031","MA","NEWE",{"$f":"VLOOKUP(C318,EMISSION_FACTORS!$A$7:$F$33,6,0)","v":540.48}]
["01032","MA","NEWE",{"$f":"VLOOKUP(C319,EMISSION_FACTORS!$A$7:$F$33,6,0)","v":540.48}]
["01033","MA","NEWE",{"$f":"VLOOKUP(C320,EMISSION_FACTORS!$A$7:$F$33,6,0)","v":540.48}]
["01034","MA","NEWE",{"$f":"VLOOKUP(C321,EMISSION_FACTORS!$A$7:$F$33,6,0)","v":540.48}]
["01035","MA","NEWE",{"$f":"VLOOKUP(C322,EMISSION_FACTORS!$A$7:$F$33,6,0)","v":540.48}]
["01036","MA","NEWE",{"$f":"VLOOKUP(C323,EMISSION_FACTORS!$A$7:$F$33,6,0)","v":540.48}]
["01037","MA","NEWE",{"$f":"VLOOKUP(C324,EMISSION_FACTORS!$A$7:$F$33,6,0)","v":540.48}]
["01038","MA","NEWE",{"$f":"VLOOKUP(C325,EMISSION_FACTORS!$A$7:$F$33,6,0)","v":540.48}]
["01039","MA","NEWE",{"$f":"VLOOKUP(C326,EMISSION_FACTORS!$A$7:$F$33,6,0)","v":540.48}]
["01040","MA","NEWE",{"$f":"VLOOKUP(C327,EMISSION_FACTORS!$A$7:$F$33,6,0)","v":540.48}]
["01041","MA","NEWE",{"$f":"VLOOKUP(C328,EMISSION_FACTORS!$A$7:$F$33,6,0)","v":540.48}]
["01050","MA","NEWE",{"$f":"VLOOKUP(C329,EMISSION_FACTORS!$A$7:$F$33,6,0)","v":540.48}]
["01053","MA","NEWE",{"$f":"VLOOKUP(C330,EMISSION_FACTORS!$A$7:$F$33,6,0)","v":540.48}]
["01054","MA","NEWE",{"$f":"VLOOKUP(C331,EMISSION_FACTORS!$A$7:$F$33,6,0)","v":540.48}]
["01056","MA","NEWE",{"$f":"VLOOKUP(C332,EMISSION_FACTORS!$A$7:$F$33,6,0)","v":540.48}]
["01057","MA","NEWE",{"$f":"VLOOKUP(C333,EMISSION_FACTORS!$A$7:$F$33,6,0)","v":540.48}]
["01059","MA","NEWE",{"$f":"VLOOKUP(C334,EMISSION_FACTORS!$A$7:$F$33,6,0)","v":540.48}]
["01060","MA","NEWE",{"$f":"VLOOKUP(C335,EMISSION_FACTORS!$A$7:$F$33,6,0)","v":540.48}]
["01061","MA","NEWE",{"$f":"VLOOKUP(C336,EMISSION_FACTORS!$A$7:$F$33,6,0)","v":540.48}]
["01062","MA","NEWE",{"$f":"VLOOKUP(C337,EMISSION_FACTORS!$A$7:$F$33,6,0)","v":540.48}]
["01063","MA","NEWE",{"$f":"VLOOKUP(C338,EMISSION_FACTORS!$A$7:$F$33,6,0)","v":540.48}]
["01066","MA","NEWE",{"$f":"VLOOKUP(C339,EMISSION_FACTORS!$A$7:$F$33,6,0)","v":540.48}]
["01068","MA","NEWE",{"$f":"VLOOKUP(C340,EMISSION_FACTORS!$A$7:$F$33,6,0)","v":540.48}]
["01069","MA","NEWE",{"$f":"VLOOKUP(C341,EMISSION_FACTORS!$A$7:$F$33,6,0)","v":540.48}]
["01070","MA","NEWE",{"$f":"VLOOKUP(C342,EMISSION_FACTORS!$A$7:$F$33,6,0)","v":540.48}]
["01071","MA","NEWE",{"$f":"VLOOKUP(C343,EMISSION_FACTORS!$A$7:$F$33,6,0)","v":540.48}]
["01072","MA","NEWE",{"$f":"VLOOKUP(C344,EMISSION_FACTORS!$A$7:$F$33,6,0)","v":540.48}]
["01073","MA","NEWE",{"$f":"VLOOKUP(C345,EMISSION_FACTORS!$A$7:$F$33,6,0)","v":540.48}]
["01074","MA","NEWE",{"$f":"VLOOKUP(C346,EMISSION_FACTORS!$A$7:$F$33,6,0)","v":540.48}]
["01075","MA","NEWE",{"$f":"VLOOKUP(C347,EMISSION_FACTORS!$A$7:$F$33,6,0)","v":540.48}]
["01077","MA","NEWE",{"$f":"VLOOKUP(C348,EMISSION_FACTORS!$A$7:$F$33,6,0)","v":540.48}]
["01079","MA","NEWE",{"$f":"VLOOKUP(C349,EMISSION_FACTORS!$A$7:$F$33,6,0)","v":540.48}]
["01080","MA","NEWE",{"$f":"VLOOKUP(C350,EMISSION_FACTORS!$A$7:$F$33,6,0)","v":540.48}]
["01081","MA","NEWE",{"$f":"VLOOKUP(C351,EMISSION_FACTORS!$A$7:$F$33,6,0)","v":540.48}]
["01082","MA","NEWE",{"$f":"VLOOKUP(C352,EMISSION_FACTORS!$A$7:$F$33,6,0)","v":540.48}]
["01083","MA","NEWE",{"$f":"VLOOKUP(C353,EMISSION_FACTORS!$A$7:$F$33,6,0)","v":540.48}]
["01084","MA","NEWE",{"$f":"VLOOKUP(C354,EMISSION_FACTORS!$A$7:$F$33,6,0)","v":540.48}]
["01085","MA","NEWE",{"$f":"VLOOKUP(C355,EMISSION_FACTORS!$A$7:$F$33,6,0)","v":540.48}]
["01086","MA","NEWE",{"$f":"VLOOKUP(C356,EMISSION_FACTORS!$A$7:$F$33,6,0)","v":540.48}]
["01088","MA","NEWE",{"$f":"VLOOKUP(C357,EMISSION_FACTORS!$A$7:$F$33,6,0)","v":540.48}]
["01089","MA","NEWE",{"$f":"VLOOKUP(C358,EMISSION_FACTORS!$A$7:$F$33,6,0)","v":540.48}]
["01090","MA","NEWE",{"$f":"VLOOKUP(C359,EMISSION_FACTORS!$A$7:$F$33,6,0)","v":540.48}]
["01092","MA","NEWE",{"$f":"VLOOKUP(C360,EMISSION_FACTORS!$A$7:$F$33,6,0)","v":540.48}]
["01093","MA","NEWE",{"$f":"VLOOKUP(C361,EMISSION_FACTORS!$A$7:$F$33,6,0)","v":540.48}]
["01094","MA","NEWE",{"$f":"VLOOKUP(C362,EMISSION_FACTORS!$A$7:$F$33,6,0)","v":540.48}]
["01095","MA","NEWE",{"$f":"VLOOKUP(C363,EMISSION_FACTORS!$A$7:$F$33,6,0)","v":540.48}]
["01096","MA","NEWE",{"$f":"VLOOKUP(C364,EMISSION_FACTORS!$A$7:$F$33,6,0)","v":540.48}]
["01097","MA","NEWE",{"$f":"VLOOKUP(C365,EMISSION_FACTORS!$A$7:$F$33,6,0)","v":540.48}]
["01098","MA","NEWE",{"$f":"VLOOKUP(C366,EMISSION_FACTORS!$A$7:$F$33,6,0)","v":540.48}]
["01101","MA","NEWE",{"$f":"VLOOKUP(C367,EMISSION_FACTORS!$A$7:$F$33,6,0)","v":540.48}]
["01102","MA","NEWE",{"$f":"VLOOKUP(C368,EMISSION_FACTORS!$A$7:$F$33,6,0)","v":540.48}]
["01103","MA","NEWE",{"$f":"VLOOKUP(C369,EMISSION_FACTORS!$A$7:$F$33,6,0)","v":540.48}]
["01104","MA","NEWE",{"$f":"VLOOKUP(C370,EMISSION_FACTORS!$A$7:$F$33,6,0)","v":540.48}]
["01105","MA","NEWE",{"$f":"VLOOKUP(C371,EMISSION_FACTORS!$A$7:$F$33,6,0)","v":540.48}]
["01106","MA","NEWE",{"$f":"VLOOKUP(C372,EMISSION_FACTORS!$A$7:$F$33,6,0)","v":540.48}]
["01107","MA","NEWE",{"$f":"VLOOKUP(C373,EMISSION_FACTORS!$A$7:$F$33,6,0)","v":540.48}]
["01108","MA","NEWE",{"$f":"VLOOKUP(C374,EMISSION_FACTORS!$A$7:$F$33,6,0)","v":540.48}]
["01109","MA","NEWE",{"$f":"VLOOKUP(C375,EMISSION_FACTORS!$A$7:$F$33,6,0)","v":540.48}]
["01111","MA","NEWE",{"$f":"VLOOKUP(C376,EMISSION_FACTORS!$A$7:$F$33,6,0)","v":540.48}]
["01115","MA","NEWE",{"$f":"VLOOKUP(C377,EMISSION_FACTORS!$A$7:$F$33,6,0)","v":540.48}]
["01116","MA","NEWE",{"$f":"VLOOKUP(C378,EMISSION_FACTORS!$A$7:$F$33,6,0)","v":540.48}]
["01118","MA","NEWE",{"$f":"VLOOKUP(C379,EMISSION_FACTORS!$A$7:$F$33,6,0)","v":540.48}]
["01119","MA","NEWE",{"$f":"VLOOKUP(C380,EMISSION_FACTORS!$A$7:$F$33,6,0)","v":540.48}]
["01128","MA","NEWE",{"$f":"VLOOKUP(C381,EMISSION_FACTORS!$A$7:$F$33,6,0)","v":540.48}]
["01129","MA","NEWE",{"$f":"VLOOKUP(C382,EMISSION_FACTORS!$A$7:$F$33,6,0)","v":540.48}]
["01138","MA","NEWE",{"$f":"VLOOKUP(C383,EMISSION_FACTORS!$A$7:$F$33,6,0)","v":540.48}]
["01139","MA","NEWE",{"$f":"VLOOKUP(C384,EMISSION_FACTORS!$A$7:$F$33,6,0)","v":540.48}]
["01144","MA","NEWE",{"$f":"VLOOKUP(C385,EMISSION_FACTORS!$A$7:$F$33,6,0)","v":540.48}]
["01151","MA","NEWE",{"$f":"VLOOKUP(C386,EMISSION_FACTORS!$A$7:$F$33,6,0)","v":540.48}]
["01152","MA","NEWE",{"$f":"VLOOKUP(C387,EMISSION_FACTORS!$A$7:$F$33,6,0)","v":540.48}]
["01199","MA","NEWE",{"$f":"VLOOKUP(C388,EMISSION_FACTORS!$A$7:$F$33,6,0)","v":540.48}]
["01201","MA","NEWE",{"$f":"VLOOKUP(C389,EMISSION_FACTORS!$A$7:$F$33,6,0)","v":540.48}]
["01202","MA","NEWE",{"$f":"VLOOKUP(C390,EMISSION_FACTORS!$A$7:$F$33,6,0)","v":540.48}]
["01203","MA","NEWE",{"$f":"VLOOKUP(C391,EMISSION_FACTORS!$A$7:$F$33,6,0)","v":540.48}]
["01220","MA","NEWE",{"$f":"VLOOKUP(C392,EMISSION_FACTORS!$A$7:$F$33,6,0)","v":540.48}]
["01222","MA","NEWE",{"$f":"VLOOKUP(C393,EMISSION_FACTORS!$A$7:$F$33,6,0)","v":540.48}]
["01223","MA","NEWE",{"$f":"VLOOKUP(C394,EMISSION_FACTORS!$A$7:$F$33,6,0)","v":540.48}]
["01224","MA","NEWE",{"$f":"VLOOKUP(C395,EMISSION_FACTORS!$A$7:$F$33,6,0)","v":540.48}]
["01225","MA","NEWE",{"$f":"VLOOKUP(C396,EMISSION_FACTORS!$A$7:$F$33,6,0)","v":540.48}]
["01226","MA","NEWE",{"$f":"VLOOKUP(C397,EMISSION_FACTORS!$A$7:$F$33,6,0)","v":540.48}]
["01227","MA","NEWE",{"$f":"VLOOKUP(C398,EMISSION_FACTORS!$A$7:$F$33,6,0)","v":540.48}]
["01229","MA","NEWE",{"$f":"VLOOKUP(C399,EMISSION_FACTORS!$A$7:$F$33,6,0)","v":540.48}]
["01230","MA","NEWE",{"$f":"VLOOKUP(C400,EMISSION_FACTORS!$A$7:$F$33,6,0)","v":540.48}]
["01235","MA","NEWE",{"$f":"VLOOKUP(C401,EMISSION_FACTORS!$A$7:$F$33,6,0)","v":540.48}]
["01236","MA","NEWE",{"$f":"VLOOKUP(C402,EMISSION_FACTORS!$A$7:$F$33,6,0)","v":540.48}]
["01237","MA","NEWE",{"$f":"VLOOKUP(C403,EMISSION_FACTORS!$A$7:$F$33,6,0)","v":540.48}]
["01238","MA","NEWE",{"$f":"VLOOKUP(C404,EMISSION_FACTORS!$A$7:$F$33,6,0)","v":540.48}]
["01240","MA","NEWE",{"$f":"VLOOKUP(C405,EMISSION_FACTORS!$A$7:$F$33,6,0)","v":540.48}]
["01242","MA","NEWE",{"$f":"VLOOKUP(C406,EMISSION_FACTORS!$A$7:$F$33,6,0)","v":540.48}]
["01243","MA","NEWE",{"$f":"VLOOKUP(C407,EMISSION_FACTORS!$A$7:$F$33,6,0)","v":540.48}]
["01244","MA","NEWE",{"$f":"VLOOKUP(C408,EMISSION_FACTORS!$A$7:$F$33,6,0)","v":540.48}]
["01245","MA","NEWE",{"$f":"VLOOKUP(C409,EMISSION_FACTORS!$A$7:$F$33,6,0)","v":540.48}]
["01247","MA","NEWE",{"$f":"VLOOKUP(C410,EMISSION_FACTORS!$A$7:$F$33,6,0)","v":540.48}]
["01252","MA","NEWE",{"$f":"VLOOKUP(C411,EMISSION_FACTORS!$A$7:$F$33,6,0)","v":540.48}]
["01253","MA","NEWE",{"$f":"VLOOKUP(C412,EMISSION_FACTORS!$A$7:$F$33,6,0)","v":540.48}]
["01254","MA","NEWE",{"$f":"VLOOKUP(C413,EMISSION_FACTORS!$A$7:$F$33,6,0)","v":540.48}]
["01255","MA","NEWE",{"$f":"VLOOKUP(C414,EMISSION_FACTORS!$A$7:$F$33,6,0)","v":540.48}]
["01256","MA","NEWE",{"$f":"VLOOKUP(C415,EMISSION_FACTORS!$A$7:$F$33,6,0)","v":540.48}]
["01257","MA","NEWE",{"$f":"VLOOKUP(C416,EMISSION_FACTORS!$A$7:$F$33,6,0)","v":540.48}]
["01258","MA","NEWE",{"$f":"VLOOKUP(C417,EMISSION_FACTORS!$A$7:$F$33,6,0)","v":540.48}]
["01259","MA","NEWE",{"$f":"VLOOKUP(C418,EMISSION_FACTORS!$A$7:$F$33,6,0)","v":540.48}]
["01260","MA","NEWE",{"$f":"VLOOKUP(C419,EMISSION_FACTORS!$A$7:$F$33,6,0)","v":540.48}]
["01262","MA","NEWE",{"$f":"VLOOKUP(C420,EMISSION_FACTORS!$A$7:$F$33,6,0)","v":540.48}]
["01263","MA","NEWE",{"$f":"VLOOKUP(C421,EMISSION_FACTORS!$A$7:$F$33,6,0)","v":540.48}]
["01264","MA","NEWE",{"$f":"VLOOKUP(C422,EMISSION_FACTORS!$A$7:$F$33,6,0)","v":540.48}]
["01266","MA","NEWE",{"$f":"VLOOKUP(C423,EMISSION_FACTORS!$A$7:$F$33,6,0)","v":540.48}]
["01267","MA","NEWE",{"$f":"VLOOKUP(C424,EMISSION_FACTORS!$A$7:$F$33,6,0)","v":540.48}]
["01270","MA","NEWE",{"$f":"VLOOKUP(C425,EMISSION_FACTORS!$A$7:$F$33,6,0)","v":540.48}]
["01301","MA","NEWE",{"$f":"VLOOKUP(C426,EMISSION_FACTORS!$A$7:$F$33,6,0)","v":540.48}]
["01302","MA","NEWE",{"$f":"VLOOKUP(C427,EMISSION_FACTORS!$A$7:$F$33,6,0)","v":540.48}]
["01330","MA","NEWE",{"$f":"VLOOKUP(C428,EMISSION_FACTORS!$A$7:$F$33,6,0)","v":540.48}]
["01331","MA","NEWE",{"$f":"VLOOKUP(C429,EMISSION_FACTORS!$A$7:$F$33,6,0)","v":540.48}]
["01337","MA","NEWE",{"$f":"VLOOKUP(C430,EMISSION_FACTORS!$A$7:$F$33,6,0)","v":540.48}]
["01338","MA","NEWE",{"$f":"VLOOKUP(C431,EMISSION_FACTORS!$A$7:$F$33,6,0)","v":540.48}]
["01339","MA","NEWE",{"$f":"VLOOKUP(C432,EMISSION_FACTORS!$A$7:$F$33,6,0)","v":540.48}]
["01340","MA","NEWE",{"$f":"VLOOKUP(C433,EMISSION_FACTORS!$A$7:$F$33,6,0)","v":540.48}]
["01341","MA","NEWE",{"$f":"VLOOKUP(C434,EMISSION_FACTORS!$A$7:$F$33,6,0)","v":540.48}]
["01342","MA","NEWE",{"$f":"VLOOKUP(C435,EMISSION_FACTORS!$A$7:$F$33,6,0)","v":540.48}]
["01343","MA","NEWE",{"$f":"VLOOKUP(C436,EMISSION_FACTORS!$A$7:$F$33,6,0)","v":540.48}]
["01344","MA","NEWE",{"$f":"VLOOKUP(C437,EMISSION_FACTORS!$A$7:$F$33,6,0)","v":540.48}]
["01346","MA","NEWE",{"$f":"VLOOKUP(C438,EMISSION_FACTORS!$A$7:$F$33,6,0)","v":540.48}]
["01347","MA","NEWE",{"$f":"VLOOKUP(C439,EMISSION_FACTORS!$A$7:$F$33,6,0)","v":540.48}]
["01349","MA","NEWE",{"$f":"VLOOKUP(C440,EMISSION_FACTORS!$A$7:$F$33,6,0)","v":540.48}]
["01350","MA","NEWE",{"$f":"VLOOKUP(C441,EMISSION_FACTORS!$A$7:$F$33,6,0)","v":540.48}]
["01351","MA","NEWE",{"$f":"VLOOKUP(C442,EMISSION_FACTORS!$A$7:$F$33,6,0)","v":540.48}]
["01354","MA","NEWE",{"$f":"VLOOKUP(C443,EMISSION_FACTORS!$A$7:$F$33,6,0)","v":540.48}]
["01355","MA","NEWE",{"$f":"VLOOKUP(C444,EMISSION_FACTORS!$A$7:$F$33,6,0)","v":540.48}]
["01360","MA","NEWE",{"$f":"VLOOKUP(C445,EMISSION_FACTORS!$A$7:$F$33,6,0)","v":540.48}]
["01364","MA","NEWE",{"$f":"VLOOKUP(C446,EMISSION_FACTORS!$A$7:$F$33,6,0)","v":540.48}]
["01366","MA","NEWE",{"$f":"VLOOKUP(C447,EMISSION_FACTORS!$A$7:$F$33,6,0)","v":540.48}]
["01367","MA","NEWE",{"$f":"VLOOKUP(C448,EMISSION_FACTORS!$A$7:$F$33,6,0)","v":540.48}]
["01368","MA","NEWE",{"$f":"VLOOKUP(C449,EMISSION_FACTORS!$A$7:$F$33,6,0)","v":540.48}]
["01370","MA","NEWE",{"$f":"VLOOKUP(C450,EMISSION_FACTORS!$A$7:$F$33,6,0)","v":540.48}]
["01373","MA","NEWE",{"$f":"VLOOKUP(C451,EMISSION_FACTORS!$A$7:$F$33,6,0)","v":540.48}]
["01375","MA","NEWE",{"$f":"VLOOKUP(C452,EMISSION_FACTORS!$A$7:$F$33,6,0)","v":540.48}]
["01376","MA","NEWE",{"$f":"VLOOKUP(C453,EMISSION_FACTORS!$A$7:$F$33,6,0)","v":540.48}]
["01378","MA","NEWE",{"$f":"VLOOKUP(C454,EMISSION_FACTORS!$A$7:$F$33,6,0)","v":540.48}]
["01379","MA","NEWE",{"$f":"VLOOKUP(C455,EMISSION_FACTORS!$A$7:$F$33,6,0)","v":540.48}]
["01380","MA","NEWE",{"$f":"VLOOKUP(C456,EMISSION_FACTORS!$A$7:$F$33,6,0)","v":540.48}]
["01420","MA","NEWE",{"$f":"VLOOKUP(C457,EMISSION_FACTORS!$A$7:$F$33,6,0)","v":540.48}]
["01430","MA","NEWE",{"$f":"VLOOKUP(C458,EMISSION_FACTORS!$A$7:$F$33,6,0)","v":540.48}]
["01431","MA","NEWE",{"$f":"VLOOKUP(C459,EMISSION_FACTORS!$A$7:$F$33,6,0)","v":540.48}]
["01432","MA","NEWE",{"$f":"VLOOKUP(C460,EMISSION_FACTORS!$A$7:$F$33,6,0)","v":540.48}]
["01434","MA","NEWE",{"$f":"VLOOKUP(C461,EMISSION_FACTORS!$A$7:$F$33,6,0)","v":540.48}]
["01436","MA","NEWE",{"$f":"VLOOKUP(C462,EMISSION_FACTORS!$A$7:$F$33,6,0)","v":540.48}]
["01438","MA","NEWE",{"$f":"VLOOKUP(C463,EMISSION_FACTORS!$A$7:$F$33,6,0)","v":540.48}]
["01440","MA","NEWE",{"$f":"VLOOKUP(C464,EMISSION_FACTORS!$A$7:$F$33,6,0)","v":540.48}]
["01441","MA","NEWE",{"$f":"VLOOKUP(C465,EMISSION_FACTORS!$A$7:$F$33,6,0)","v":540.48}]
["01450","MA","NEWE",{"$f":"VLOOKUP(C466,EMISSION_FACTORS!$A$7:$F$33,6,0)","v":540.48}]
["01451","MA","NEWE",{"$f":"VLOOKUP(C467,EMISSION_FACTORS!$A$7:$F$33,6,0)","v":540.48}]
["01452","MA","NEWE",{"$f":"VLOOKUP(C468,EMISSION_FACTORS!$A$7:$F$33,6,0)","v":540.48}]
["01453","MA","NEWE",{"$f":"VLOOKUP(C469,EMISSION_FACTORS!$A$7:$F$33,6,0)","v":540.48}]
["01460","MA","NEWE",{"$f":"VLOOKUP(C470,EMISSION_FACTORS!$A$7:$F$33,6,0)","v":540.48}]
["01462","MA","NEWE",{"$f":"VLOOKUP(C471,EMISSION_FACTORS!$A$7:$F$33,6,0)","v":540.48}]
["01463","MA","NEWE",{"$f":"VLOOKUP(C472,EMISSION_FACTORS!$A$7:$F$33,6,0)","v":540.48}]
["01464","MA","NEWE",{"$f":"VLOOKUP(C473,EMISSION_FACTORS!$A$7:$F$33,6,0)","v":540.48}]
["01467","MA","NEWE",{"$f":"VLOOKUP(C474,EMISSION_FACTORS!$A$7:$F$33,6,0)","v":540.48}]
["01468","MA","NEWE",{"$f":"VLOOKUP(C475,EMISSION_FACTORS!$A$7:$F$33,6,0)","v":540.48}]
["01469","MA","NEWE",{"$f":"VLOOKUP(C476,EMISSION_FACTORS!$A$7:$F$33,6,0)","v":540.48}]
["01470","MA","NEWE",{"$f":"VLOOKUP(C477,EMISSION_FACTORS!$A$7:$F$33,6,0)","v":540.48}]
["01471","MA","NEWE",{"$f":"VLOOKUP(C478,EMISSION_FACTORS!$A$7:$F$33,6,0)","v":540.48}]
["01472","MA","NEWE",{"$f":"VLOOKUP(C479,EMISSION_FACTORS!$A$7:$F$33,6,0)","v":540.48}]
["01473","MA","NEWE",{"$f":"VLOOKUP(C480,EMISSION_FACTORS!$A$7:$F$33,6,0)","v":540.48}]
["01474","MA","NEWE",{"$f":"VLOOKUP(C481,EMISSION_FACTORS!$A$7:$F$33,6,0)","v":540.48}]
["01475","MA","NEWE",{"$f":"VLOOKUP(C482,EMISSION_FACTORS!$A$7:$F$33,6,0)","v":540.48}]
["01477","MA","NEWE",{"$f":"VLOOKUP(C483,EMISSION_FACTORS!$A$7:$F$33,6,0)","v":540.48}]
["01501","MA","NEWE",{"$f":"VLOOKUP(C484,EMISSION_FACTORS!$A$7:$F$33,6,0)","v":540.48}]
["01503","MA","NEWE",{"$f":"VLOOKUP(C485,EMISSION_FACTORS!$A$7:$F$33,6,0)","v":540.48}]
["01504","MA","NEWE",{"$f":"VLOOKUP(C486,EMISSION_FACTORS!$A$7:$F$33,6,0)","v":540.48}]
["01505","MA","NEWE",{"$f":"VLOOKUP(C487,EMISSION_FACTORS!$A$7:$F$33,6,0)","v":540.48}]
["01506","MA","NEWE",{"$f":"VLOOKUP(C488,EMISSION_FACTORS!$A$7:$F$33,6,0)","v":540.48}]
["01507","MA","NEWE",{"$f":"VLOOKUP(C489,EMISSION_FACTORS!$A$7:$F$33,6,0)","v":540.48}]
["01508","MA","NEWE",{"$f":"VLOOKUP(C490,EMISSION_FACTORS!$A$7:$F$33,6,0)","v":540.48}]
["01509","MA","NEWE",{"$f":"VLOOKUP(C491,EMISSION_FACTORS!$A$7:$F$33,6,0)","v":540.48}]
["01510","MA","NEWE",{"$f":"VLOOKUP(C492,EMISSION_FACTORS!$A$7:$F$33,6,0)","v":540.48}]
["01515","MA","NEWE",{"$f":"VLOOKUP(C493,EMISSION_FACTORS!$A$7:$F$33,6,0)","v":540.48}]
["01516","MA","NEWE",{"$f":"VLOOKUP(C494,EMISSION_FACTORS!$A$7:$F$33,6,0)","v":540.48}]
["01517","MA","NEWE",{"$f":"VLOOKUP(C495,EMISSION_FACTORS!$A$7:$F$33,6,0)","v":540.48}]
["01518","MA","NEWE",{"$f":"VLOOKUP(C496,EMISSION_FACTORS!$A$7:$F$33,6,0)","v":540.48}]
["01519","MA","NEWE",{"$f":"VLOOKUP(C497,EMISSION_FACTORS!$A$7:$F$33,6,0)","v":540.48}]
["01520","MA","NEWE",{"$f":"VLOOKUP(C498,EMISSION_FACTORS!$A$7:$F$33,6,0)","v":540.48}]
["01521","MA","NEWE",{"$f":"VLOOKUP(C499,EMISSION_FACTORS!$A$7:$F$33,6,0)","v":540.48}]
["01522","MA","NEWE",{"$f":"VLOOKUP(C500,EMISSION_FACTORS!$A$7:$F$33,6,0)","v":540.48}]
["01523","MA","NEWE",{"$f":"VLOOKUP(C501,EMISSION_FACTORS!$A$7:$F$33,6,0)","v":540.48}]
["01524","MA","NEWE",{"$f":"VLOOKUP(C502,EMISSION_FACTORS!$A$7:$F$33,6,0)","v":540.48}]
["01525","MA","NEWE",{"$f":"VLOOKUP(C503,EMISSION_FACTORS!$A$7:$F$33,6,0)","v":540.48}]
["01526","MA","NEWE",{"$f":"VLOOKUP(C504,EMISSION_FACTORS!$A$7:$F$33,6,0)","v":540.48}]
["01527","MA","NEWE",{"$f":"VLOOKUP(C505,EMISSION_FACTORS!$A$7:$F$33,6,0)","v":540.48}]
["01529","MA","NEWE",{"$f":"VLOOKUP(C506,EMISSION_FACTORS!$A$7:$F$33,6,0)","v":540.48}]
["01531","MA","NEWE",{"$f":"VLOOKUP(C507,EMISSION_FACTORS!$A$7:$F$33,6,0)","v":540.48}]
["01532","MA","NEWE",{"$f":"VLOOKUP(C508,EMISSION_FACTORS!$A$7:$F$33,6,0)","v":540.48}]
["01534","MA","NEWE",{"$f":"VLOOKUP(C509,EMISSION_FACTORS!$A$7:$F$33,6,0)","v":540.48}]
["01535","MA","NEWE",{"$f":"VLOOKUP(C510,EMISSION_FACTORS!$A$7:$F$33,6,0)","v":540.48}]
["01536","MA","NEWE",{"$f":"VLOOKUP(C511,EMISSION_FACTORS!$A$7:$F$33,6,0)","v":540.48}]
["01537","MA","NEWE",{"$f":"VLOOKUP(C512,EMISSION_FACTORS!$A$7:$F$33,6,0)","v":540.48}]
["01538","MA","NEWE",{"$f":"VLOOKUP(C513,EMISSION_FACTORS!$A$7:$F$33,6,0)","v":540.48}]
["01540","MA","NEWE",{"$f":"VLOOKUP(C514,EMISSION_FACTORS!$A$7:$F$33,6,0)","v":540.48}]
["01541","MA","NEWE",{"$f":"VLOOKUP(C515,EMISSION_FACTORS!$A$7:$F$33,6,0)","v":540.48}]
["01542","MA","NEWE",{"$f":"VLOOKUP(C516,EMISSION_FACTORS!$A$7:$F$33,6,0)","v":540.48}]
["01543","MA","NEWE",{"$f":"VLOOKUP(C517,EMISSION_FACTORS!$A$7:$F$33,6,0)","v":540.48}]
["01545","MA","NEWE",{"$f":"VLOOKUP(C518,EMISSION_FACTORS!$A$7:$F$33,6,0)","v":540.48}]
["01546","MA","NEWE",{"$f":"VLOOKUP(C519,EMISSION_FACTORS!$A$7:$F$33,6,0)","v":540.48}]
["01550","MA","NEWE",{"$f":"VLOOKUP(C520,EMISSION_FACTORS!$A$7:$F$33,6,0)","v":540.48}]
["01560","MA","NEWE",{"$f":"VLOOKUP(C521,EMISSION_FACTORS!$A$7:$F$33,6,0)","v":540.48}]
["01561","MA","NEWE",{"$f":"VLOOKUP(C522,EMISSION_FACTORS!$A$7:$F$33,6,0)","v":540.48}]
["01562","MA","NEWE",{"$f":"VLOOKUP(C523,EMISSION_FACTORS!$A$7:$F$33,6,0)","v":540.48}]
["01564","MA","NEWE",{"$f":"VLOOKUP(C524,EMISSION_FACTORS!$A$7:$F$33,6,0)","v":540.48}]
["01566","MA","NEWE",{"$f":"VLOOKUP(C525,EMISSION_FACTORS!$A$7:$F$33,6,0)","v":540.48}]
["01568","MA","NEWE",{"$f":"VLOOKUP(C526,EMISSION_FACTORS!$A$7:$F$33,6,0)","v":540.48}]
["01569","MA","NEWE",{"$f":"VLOOKUP(C527,EMISSION_FACTORS!$A$7:$F$33,6,0)","v":540.48}]
["01570","MA","NEWE",{"$f":"VLOOKUP(C528,EMISSION_FACTORS!$A$7:$F$33,6,0)","v":540.48}]
["01571","MA","NEWE",{"$f":"VLOOKUP(C529,EMISSION_FACTORS!$A$7:$F$33,6,0)","v":540.48}]
["01580","MA","NEWE",{"$f":"VLOOKUP(C530,EMISSION_FACTORS!$A$7:$F$33,6,0)","v":540.48}]
["01581","MA","NEWE",{"$f":"VLOOKUP(C531,EMISSION_FACTORS!$A$7:$F$33,6,0)","v":540.48}]
["01582","MA","NEWE",{"$f":"VLOOKUP(C532,EMISSION_FACTORS!$A$7:$F$33,6,0)","v":540.48}]
["01583","MA","NEWE",{"$f":"VLOOKUP(C533,EMISSION_FACTORS!$A$7:$F$33,6,0)","v":540.48}]
["01585","MA","NEWE",{"$f":"VLOOKUP(C534,EMISSION_FACTORS!$A$7:$F$33,6,0)","v":540.48}]
["01586","MA","NEWE",{"$f":"VLOOKUP(C535,EMISSION_FACTORS!$A$7:$F$33,6,0)","v":540.48}]
["01588","MA","NEWE",{"$f":"VLOOKUP(C536,EMISSION_FACTORS!$A$7:$F$33,6,0)","v":540.48}]
["01590","MA","NEWE",{"$f":"VLOOKUP(C537,EMISSION_FACTORS!$A$7:$F$33,6,0)","v":540.48}]
["01601","MA","NEWE",{"$f":"VLOOKUP(C538,EMISSION_FACTORS!$A$7:$F$33,6,0)","v":540.48}]
["01602","MA","NEWE",{"$f":"VLOOKUP(C539,EMISSION_FACTORS!$A$7:$F$33,6,0)","v":540.48}]
["01603","MA","NEWE",{"$f":"VLOOKUP(C540,EMISSION_FACTORS!$A$7:$F$33,6,0)","v":540.48}]
["01604","MA","NEWE",{"$f":"VLOOKUP(C541,EMISSION_FACTORS!$A$7:$F$33,6,0)","v":540.48}]
["01605","MA","NEWE",{"$f":"VLOOKUP(C542,EMISSION_FACTORS!$A$7:$F$33,6,0)","v":540.48}]
["01606","MA","NEWE",{"$f":"VLOOKUP(C543,EMISSION_FACTORS!$A$7:$F$33,6,0)","v":540.48}]
["01607","MA","NEWE",{"$f":"VLOOKUP(C544,EMISSION_FACTORS!$A$7:$F$33,6,0)","v":540.48}]
["01608","MA","NEWE",{"$f":"VLOOKUP(C545,EMISSION_FACTORS!$A$7:$F$33,6,0)","v":540.48}]
["01609","MA","NEWE",{"$f":"VLOOKUP(C546,EMISSION_FACTORS!$A$7:$F$33,6,0)","v":540.48}]
["01610","MA","NEWE",{"$f":"VLOOKUP(C547,EMISSION_FACTORS!$A$7:$F$33,6,0)","v":540.48}]
["01611","MA","NEWE",{"$f":"VLOOKUP(C548,EMISSION_FACTORS!$A$7:$F$33,6,0)","v":540.48}]
["01612","MA","NEWE",{"$f":"VLOOKUP(C549,EMISSION_FACTORS!$A$7:$F$33,6,0)","v":540.48}]
["01613","MA","NEWE",{"$f":"VLOOKUP(C550,EMISSION_FACTORS!$A$7:$F$33,6,0)","v":540.48}]
["01614","MA","NEWE",{"$f":"VLOOKUP(C551,EMISSION_FACTORS!$A$7:$F$33,6,0)","v":540.48}]
["01615","MA","NEWE",{"$f":"VLOOKUP(C552,EMISSION_FACTORS!$A$7:$F$33,6,0)","v":540.48}]
["01653","MA","NEWE",{"$f":"VLOOKUP(C553,EMISSION_FACTORS!$A$7:$F$33,6,0)","v":540.48}]
["01654","MA","NEWE",{"$f":"VLOOKUP(C554,EMISSION_FACTORS!$A$7:$F$33,6,0)","v":540.48}]
["01655","MA","NEWE",{"$f":"VLOOKUP(C555,EMISSION_FACTORS!$A$7:$F$33,6,0)","v":540.48}]
["01701","MA","NEWE",{"$f":"VLOOKUP(C556,EMISSION_FACTORS!$A$7:$F$33,6,0)","v":540.48}]
["01702","MA","NEWE",{"$f":"VLOOKUP(C557,EMISSION_FACTORS!$A$7:$F$33,6,0)","v":540.48}]
["01703","MA","NEWE",{"$f":"VLOOKUP(C558,EMISSION_FACTORS!$A$7:$F$33,6,0)","v":540.48}]
["01704","MA","NEWE",{"$f":"VLOOKUP(C559,EMISSION_FACTORS!$A$7:$F$33,6,0)","v":540.48}]
["01705","MA","NEWE",{"$f":"VLOOKUP(C560,EMISSION_FACTORS!$A$7:$F$33,6,0)","v":540.48}]
["01718","MA","NEWE",{"$f":"VLOOKUP(C561,EMISSION_FACTORS!$A$7:$F$33,6,0)","v":540.48}]
["01719","MA","NEWE",{"$f":"VLOOKUP(C562,EMISSION_FACTORS!$A$7:$F$33,6,0)","v":540.48}]
["01720","MA","NEWE",{"$f":"VLOOKUP(C563,EMISSION_FACTORS!$A$7:$F$33,6,0)","v":540.48}]
["01721","MA","NEWE",{"$f":"VLOOKUP(C564,EMISSION_FACTORS!$A$7:$F$33,6,0)","v":540.48}]
["01730","MA","NEWE",{"$f":"VLOOKUP(C565,EMISSION_FACTORS!$A$7:$F$33,6,0)","v":540.48}]
["01731","MA","NEWE",{"$f":"VLOOKUP(C566,EMISSION_FACTORS!$A$7:$F$33,6,0)","v":540.48}]
["01740","MA","NEWE",{"$f":"VLOOKUP(C567,EMISSION_FACTORS!$A$7:$F$33,6,0)","v":540.48}]
["01741","MA","NEWE",{"$f":"VLOOKUP(C568,EMISSION_FACTORS!$A$7:$F$33,6,0)","v":540.48}]
["01742","MA","NEWE",{"$f":"VLOOKUP(C569,EMISSION_FACTORS!$A$7:$F$33,6,0)","v":540.48}]
["01745","MA","NEWE",{"$f":"VLOOKUP(C570,EMISSION_FACTORS!$A$7:$F$33,6,0)","v":540.48}]
["01746","MA","NEWE",{"$f":"VLOOKUP(C571,EMISSION_FACTORS!$A$7:$F$33,6,0)","v":540.48}]
["01747","MA","NEWE",{"$f":"VLOOKUP(C572,EMISSION_FACTORS!$A$7:$F$33,6,0)","v":540.48}]
["01748","MA","NEWE",{"$f":"VLOOKUP(C573,EMISSION_FACTORS!$A$7:$F$33,6,0)","v":540.48}]
["01749","MA","NEWE",{"$f":"VLOOKUP(C574,EMISSION_FACTORS!$A$7:$F$33,6,0)","v":540.48}]
["01752","MA","NEWE",{"$f":"VLOOKUP(C575,EMISSION_FACTORS!$A$7:$F$33,6,0)","v":540.48}]
["01754","MA","NEWE",{"$f":"VLOOKUP(C576,EMISSION_FACTORS!$A$7:$F$33,6,0)","v":540.48}]
["01756","MA","NEWE",{"$f":"VLOOKUP(C577,EMISSION_FACTORS!$A$7:$F$33,6,0)","v":540.48}]
["01757","MA","NEWE",{"$f":"VLOOKUP(C578,EMISSION_FACTORS!$A$7:$F$33,6,0)","v":540.48}]
["01760","MA","NEWE",{"$f":"VLOOKUP(C579,EMISSION_FACTORS!$A$7:$F$33,6,0)","v":540.48}]
["01770","MA","NEWE",{"$f":"VLOOKUP(C580,EMISSION_FACTORS!$A$7:$F$33,6,0)","v":540.48}]
["01772","MA","NEWE",{"$f":"VLOOKUP(C581,EMISSION_FACTORS!$A$7:$F$33,6,0)","v":540.48}]
["01773","MA","NEWE",{"$f":"VLOOKUP(C582,EMISSION_FACTORS!$A$7:$F$33,6,0)","v":540.48}]
["01775","MA","NEWE",{"$f":"VLOOKUP(C583,EMISSION_FACTORS!$A$7:$F$33,6,0)","v":540.48}]
["01776","MA","NEWE",{"$f":"VLOOKUP(C584,EMISSION_FACTORS!$A$7:$F$33,6,0)","v":540.48}]
["01778","MA","NEWE",{"$f":"VLOOKUP(C585,EMISSION_FACTORS!$A$7:$F$33,6,0)","v":540.48}]
["01784","MA","NEWE",{"$f":"VLOOKUP(C586,EMISSION_FACTORS!$A$7:$F$33,6,0)","v":540.48}]
["01801","MA","NEWE",{"$f":"VLOOKUP(C587,EMISSION_FACTORS!$A$7:$F$33,6,0)","v":540.48}]
["01803","MA","NEWE",{"$f":"VLOOKUP(C588,EMISSION_FACTORS!$A$7:$F$33,6,0)","v":540.48}]
["01805","MA","NEWE",{"$f":"VLOOKUP(C589,EMISSION_FACTORS!$A$7:$F$33,6,0)","v":540.48}]
["01807","MA","NEWE",{"$f":"VLOOKUP(C590,EMISSION_FACTORS!$A$7:$F$33,6,0)","v":540.48}]
["01810","MA","NEWE",{"$f":"VLOOKUP(C591,EMISSION_FACTORS!$A$7:$F$33,6,0)","v":540.48}]
["01812","MA","NEWE",{"$f":"VLOOKUP(C592,EMISSION_FACTORS!$A$7:$F$33,6,0)","v":540.48}]
["01813","MA","NEWE",{"$f":"VLOOKUP(C593,EMISSION_FACTORS!$A$7:$F$33,6,0)","v":540.48}]
["01815","MA","NEWE",{"$f":"VLOOKUP(C594,EMISSION_FACTORS!$A$7:$F$33,6,0)","v":540.48}]
["01821","MA","NEWE",{"$f":"VLOOKUP(C595,EMISSION_FACTORS!$A$7:$F$33,6,0)","v":540.48}]
["01822","MA","NEWE",{"$f":"VLOOKUP(C596,EMISSION_FACTORS!$A$7:$F$33,6,0)","v":540.48}]
["01824","MA","NEWE",{"$f":"VLOOKUP(C597,EMISSION_FACTORS!$A$7:$F$33,6,0)","v":540.48}]
["01826","MA","NEWE",{"$f":"VLOOKUP(C598,EMISSION_FACTORS!$A$7:$F$33,6,0)","v":540.48}]
["01827","MA","NEWE",{"$f":"VLOOKUP(C599,EMISSION_FACTORS!$A$7:$F$33,6,0)","v":540.48}]
["01830","MA","NEWE",{"$f":"VLOOKUP(C600,EMISSION_FACTORS!$A$7:$F$33,6,0)","v":540.48}]
["01831","MA","NEWE",{"$f":"VLOOKUP(C601,EMISSION_FACTORS!$A$7:$F$33,6,0)","v":540.48}]
["01832","MA","NEWE",{"$f":"VLOOKUP(C602,EMISSION_FACTORS!$A$7:$F$33,6,0)","v":540.48}]
["01833","MA","NEWE",{"$f":"VLOOKUP(C603,EMISSION_FACTORS!$A$7:$F$33,6,0)","v":540.48}]
["01834","MA","NEWE",{"$f":"VLOOKUP(C604,EMISSION_FACTORS!$A$7:$F$33,6,0)","v":540.48}]
["01835","MA","NEWE",{"$f":"VLOOKUP(C605,EMISSION_FACTORS!$A$7:$F$33,6,0)","v":540.48}]
["01840","MA","NEWE",{"$f":"VLOOKUP(C606,EMISSION_FACTORS!$A$7:$F$33,6,0)","v":540.48}]
["01841","MA","NEWE",{"$f":"VLOOKUP(C607,EMISSION_FACTORS!$A$7:$F$33,6,0)","v":540.48}]
["01842","MA","NEWE",{"$f":"VLOOKUP(C608,EMISSION_FACTORS!$A$7:$F$33,6,0)","v":540.48}]
["01843","MA","NEWE",{"$f":"VLOOKUP(C609,EMISSION_FACTORS!$A$7:$F$33,6,0)","v":540.48}]
["01844","MA","NEWE",{"$f":"VLOOKUP(C610,EMISSION_FACTORS!$A$7:$F$33,6,0)","v":540.48}]
["01845","MA","NEWE",{"$f":"VLOOKUP(C611,EMISSION_FACTORS!$A$7:$F$33,6,0)","v":540.48}]
["01850","MA","NEWE",{"$f":"VLOOKUP(C612,EMISSION_FACTORS!$A$7:$F$33,6,0)","v":540.48}]
["01851","MA","NEWE",{"$f":"VLOOKUP(C613,EMISSION_FACTORS!$A$7:$F$33,6,0)","v":540.48}]
["01852","MA","NEWE",{"$f":"VLOOKUP(C614,EMISSION_FACTORS!$A$7:$F$33,6,0)","v":540.48}]
["01853","MA","NEWE",{"$f":"VLOOKUP(C615,EMISSION_FACTORS!$A$7:$F$33,6,0)","v":540.48}]
["01854","MA","NEWE",{"$f":"VLOOKUP(C616,EMISSION_FACTORS!$A$7:$F$33,6,0)","v":540.48}]
["01860","MA","NEWE",{"$f":"VLOOKUP(C617,EMISSION_FACTORS!$A$7:$F$33,6,0)","v":540.48}]
["01862","MA","NEWE",{"$f":"VLOOKUP(C618,EMISSION_FACTORS!$A$7:$F$33,6,0)","v":540.48}]
["01863","MA","NEWE",{"$f":"VLOOKUP(C619,EMISSION_FACTORS!$A$7:$F$33,6,0)","v":540.48}]
["01864","MA","NEWE",{"$f":"VLOOKUP(C620,EMISSION_FACTORS!$A$7:$F$33,6,0)","v":540.48}]
["01865","MA","NEWE",{"$f":"VLOOKUP(C621,EMISSION_FACTORS!$A$7:$F$33,6,0)","v":540.48}]
["01866","MA","NEWE",{"$f":"VLOOKUP(C622,EMISSION_FACTORS!$A$7:$F$33,6,0)","v":540.48}]
["01867","MA","NEWE",{"$f":"VLOOKUP(C623,EMISSION_FACTORS!$A$7:$F$33,6,0)","v":540.48}]
["01876","MA","NEWE",{"$f":"VLOOKUP(C624,EMISSION_FACTORS!$A$7:$F$33,6,0)","v":540.48}]
["01879","MA","NEWE",{"$f":"VLOOKUP(C625,EMISSION_FACTORS!$A$7:$F$33,6,0)","v":540.48}]
["01880","MA","NEWE",{"$f":"VLOOKUP(C626,EMISSION_FACTORS!$A$7:$F$33,6,0)","v":540.48}]
["01885","MA","NEWE",{"$f":"VLOOKUP(C627,EMISSION_FACTORS!$A$7:$F$33,6,0)","v":540.48}]
["01886","MA","NEWE",{"$f":"VLOOKUP(C628,EMISSION_FACTORS!$A$7:$F$33,6,0)","v":540.48}]
["01887","MA","NEWE",{"$f":"VLOOKUP(C629,EMISSION_FACTORS!$A$7:$F$33,6,0)","v":540.48}]
["01888","MA","NEWE",{"$f":"VLOOKUP(C630,EMISSION_FACTORS!$A$7:$F$33,6,0)","v":540.48}]
["01889","MA","NEWE",{"$f":"VLOOKUP(C631,EMISSION_FACTORS!$A$7:$F$33,6,0)","v":540.48}]
["01890","MA","NEWE",{"$f":"VLOOKUP(C632,EMISSION_FACTORS!$A$7:$F$33,6,0)","v":540.48}]
["01899","MA","NEWE",{"$f":"VLOOKUP(C633,EMISSION_FACTORS!$A$7:$F$33,6,0)","v":540.48}]
["01901","MA","NEWE",{"$f":"VLOOKUP(C634,EMISSION_FACTORS!$A$7:$F$33,6,0)","v":540.48}]
["01902","MA","NEWE",{"$f":"VLOOKUP(C635,EMISSION_FACTORS!$A$7:$F$33,6,0)","v":540.48}]
["01903","MA","NEWE",{"$f":"VLOOKUP(C636,EMISSION_FACTORS!$A$7:$F$33,6,0)","v":540.48}]
["01904","MA","NEWE",{"$f":"VLOOKUP(C637,EMISSION_FACTORS!$A$7:$F$33,6,0)","v":540.48}]
["01905","MA","NEWE",{"$f":"VLOOKUP(C638,EMISSION_FACTORS!$A$7:$F$33,6,0)","v":540.48}]
["01906","MA","NEWE",{"$f":"VLOOKUP(C639,EMISSION_FACTORS!$A$7:$F$33,6,0)","v":540.48}]
["01907","MA","NEWE",{"$f":"VLOOKUP(C640,EMISSION_FACTORS!$A$7:$F$33,6,0)","v":540.48}]
["01908","MA","NEWE",{"$f":"VLOOKUP(C641,EMISSION_FACTORS!$A$7:$F$33,6,0)","v":540.48}]
["01910","MA","NEWE",{"$f":"VLOOKUP(C642,EMISSION_FACTORS!$A$7:$F$33,6,0)","v":540.48}]
["01913","MA","NEWE",{"$f":"VLOOKUP(C643,EMISSION_FACTORS!$A$7:$F$33,6,0)","v":540.48}]
["01915","MA","NEWE",{"$f":"VLOOKUP(C644,EMISSION_FACTORS!$A$7:$F$33,6,0)","v":540.48}]
["01921","MA","NEWE",{"$f":"VLOOKUP(C645,EMISSION_FACTORS!$A$7:$F$33,6,0)","v":540.48}]
["01922","MA","NEWE",{"$f":"VLOOKUP(C646,EMISSION_FACTORS!$A$7:$F$33,6,0)","v":540.48}]
["01923","MA","NEWE",{"$f":"VLOOKUP(C647,EMISSION_FACTORS!$A$7:$F$33,6,0)","v":540.48}]
["01929","MA","NEWE",{"$f":"VLOOKUP(C648,EMISSION_FACTORS!$A$7:$F$33,6,0)","v":540.48}]
["01930","MA","NEWE",{"$f":"VLOOKUP(C649,EMISSION_FACTORS!$A$7:$F$33,6,0)","v":540.48}]
["01931","MA","NEWE",{"$f":"VLOOKUP(C650,EMISSION_FACTORS!$A$7:$F$33,6,0)","v":540.48}]
["01936","MA","NEWE",{"$f":"VLOOKUP(C651,EMISSION_FACTORS!$A$7:$F$33,6,0)","v":540.48}]
["01937","MA","NEWE",{"$f":"VLOOKUP(C652,EMISSION_FACTORS!$A$7:$F$33,6,0)","v":540.48}]
["01938","MA","NEWE",{"$f":"VLOOKUP(C653,EMISSION_FACTORS!$A$7:$F$33,6,0)","v":540.48}]
["01940","MA","NEWE",{"$f":"VLOOKUP(C654,EMISSION_FACTORS!$A$7:$F$33,6,0)","v":540.48}]
["01944","MA","NEWE",{"$f":"VLOOKUP(C655,EMISSION_FACTORS!$A$7:$F$33,6,0)","v":540.48}]
["01945","MA","NEWE",{"$f":"VLOOKUP(C656,EMISSION_FACTORS!$A$7:$F$33,6,0)","v":540.48}]
["01949","MA","NEWE",{"$f":"VLOOKUP(C657,EMISSION_FACTORS!$A$7:$F$33,6,0)","v":540.48}]
["01950","MA","NEWE",{"$f":"VLOOKUP(C658,EMISSION_FACTORS!$A$7:$F$33,6,0)","v":540.48}]
["01951","MA","NEWE",{"$f":"VLOOKUP(C659,EMISSION_FACTORS!$A$7:$F$33,6,0)","v":540.48}]
["01952","MA","NEWE",{"$f":"VLOOKUP(C660,EMISSION_FACTORS!$A$7:$F$33,6,0)","v":540.48}]
["01960","MA","NEWE",{"$f":"VLOOKUP(C661,EMISSION_FACTORS!$A$7:$F$33,6,0)","v":540.48}]
["01961","MA","NEWE",{"$f":"VLOOKUP(C662,EMISSION_FACTORS!$A$7:$F$33,6,0)","v":540.48}]
["01965","MA","NEWE",{"$f":"VLOOKUP(C663,EMISSION_FACTORS!$A$7:$F$33,6,0)","v":540.48}]
["01966","MA","NEWE",{"$f":"VLOOKUP(C664,EMISSION_FACTORS!$A$7:$F$33,6,0)","v":540.48}]
["01969","MA","NEWE",{"$f":"VLOOKUP(C665,EMISSION_FACTORS!$A$7:$F$33,6,0)","v":540.48}]
["01970","MA","NEWE",{"$f":"VLOOKUP(C666,EMISSION_FACTORS!$A$7:$F$33,6,0)","v":540.48}]
["01971","MA","NEWE",{"$f":"VLOOKUP(C667,EMISSION_FACTORS!$A$7:$F$33,6,0)","v":540.48}]
["01982","MA","NEWE",{"$f":"VLOOKUP(C668,EMISSION_FACTORS!$A$7:$F$33,6,0)","v":540.48}]
["01983","MA","NEWE",{"$f":"VLOOKUP(C669,EMISSION_FACTORS!$A$7:$F$33,6,0)","v":540.48}]
["01984","MA","NEWE",{"$f":"VLOOKUP(C670,EMISSION_FACTORS!$A$7:$F$33,6,0)","v":540.48}]
["01985","MA","NEWE",{"$f":"VLOOKUP(C671,EMISSION_FACTORS!$A$7:$F$33,6,0)","v":540.48}]
["02018","MA","NEWE",{"$f":"VLOOKUP(C672,EMISSION_FACTORS!$A$7:$F$33,6,0)","v":540.48}]
["02019","MA","NEWE",{"$f":"VLOOKUP(C673,EMISSION_FACTORS!$A$7:$F$33,6,0)","v":540.48}]
["02020","MA","NEWE",{"$f":"VLOOKUP(C674,EMISSION_FACTORS!$A$7:$F$33,6,0)","v":540.48}]
["02021","MA","NEWE",{"$f":"VLOOKUP(C675,EMISSION_FACTORS!$A$7:$F$33,6,0)","v":540.48}]
["02025","MA","NEWE",{"$f":"VLOOKUP(C676,EMISSION_FACTORS!$A$7:$F$33,6,0)","v":540.48}]
["02026","MA","NEWE",{"$f":"VLOOKUP(C677,EMISSION_FACTORS!$A$7:$F$33,6,0)","v":540.48}]
["02027","MA","NEWE",{"$f":"VLOOKUP(C678,EMISSION_FACTORS!$A$7:$F$33,6,0)","v":540.48}]
["02030","MA","NEWE",{"$f":"VLOOKUP(C679,EMISSION_FACTORS!$A$7:$F$33,6,0)","v":540.48}]
["02032","MA","NEWE",{"$f":"VLOOKUP(C680,EMISSION_FACTORS!$A$7:$F$33,6,0)","v":540.48}]
["02035","MA","NEWE",{"$f":"VLOOKUP(C681,EMISSION_FACTORS!$A$7:$F$33,6,0)","v":540.48}]
["02038","MA","NEWE",{"$f":"VLOOKUP(C682,EMISSION_FACTORS!$A$7:$F$33,6,0)","v":540.48}]
["02040","MA","NEWE",{"$f":"VLOOKUP(C683,EMISSION_FACTORS!$A$7:$F$33,6,0)","v":540.48}]
["02041","MA","NEWE",{"$f":"VLOOKUP(C684,EMISSION_FACTORS!$A$7:$F$33,6,0)","v":540.48}]
["02043","MA","NEWE",{"$f":"VLOOKUP(C685,EMISSION_FACTORS!$A$7:$F$33,6,0)","v":540.48}]
["02044","MA","NEWE",{"$f":"VLOOKUP(C686,EMISSION_FACTORS!$A$7:$F$33,6,0)","v":540.48}]
["02045","MA","NEWE",{"$f":"VLOOKUP(C687,EMISSION_FACTORS!$A$7:$F$33,6,0)","v":540.48}]
["02047","MA","NEWE",{"$f":"VLOOKUP(C688,EMISSION_FACTORS!$A$7:$F$33,6,0)","v":540.48}]
["02048","MA","NEWE",{"$f":"VLOOKUP(C689,EMISSION_FACTORS!$A$7:$F$33,6,0)","v":540.48}]
["02050","MA","NEWE",{"$f":"VLOOKUP(C690,EMISSION_FACTORS!$A$7:$F$33,6,0)","v":540.48}]
["02051","MA","NEWE",{"$f":"VLOOKUP(C691,EMISSION_FACTORS!$A$7:$F$33,6,0)","v":540.48}]
["02052","MA","NEWE",{"$f":"VLOOKUP(C692,EMISSION_FACTORS!$A$7:$F$33,6,0)","v":540.48}]
["02053","MA","NEWE",{"$f":"VLOOKUP(C693,EMISSION_FACTORS!$A$7:$F$33,6,0)","v":540.48}]
["02054","MA","NEWE",{"$f":"VLOOKUP(C694,EMISSION_FACTORS!$A$7:$F$33,6,0)","v":540.48}]
["02055","MA","NEWE",{"$f":"VLOOKUP(C695,EMISSION_FACTORS!$A$7:$F$33,6,0)","v":540.48}]
["02056","MA","NEWE",{"$f":"VLOOKUP(C696,EMISSION_FACTORS!$A$7:$F$33,6,0)","v":540.48}]
["02059","MA","NEWE",{"$f":"VLOOKUP(C697,EMISSION_FACTORS!$A$7:$F$33,6,0)","v":540.48}]
["02060","MA","NEWE",{"$f":"VLOOKUP(C698,EMISSION_FACTORS!$A$7:$F$33,6,0)","v":540.48}]
["02061","MA","NEWE",{"$f":"VLOOKUP(C699,EMISSION_FACTORS!$A$7:$F$33,6,0)","v":540.48}]
["02062","MA","NEWE",{"$f":"VLOOKUP(C700,EMISSION_FACTORS!$A$7:$F$33,6,0)","v":540.48}]
["02065","MA","NEWE",{"$f":"VLOOKUP(C701,EMISSION_FACTORS!$A$7:$F$33,6,0)","v":540.48}]
["02066","MA","NEWE",{"$f":"VLOOKUP(C702,EMISSION_FACTORS!$A$7:$F$33,6,0)","v":540.48}]
["02067","MA","NEWE",{"$f":"VLOOKUP(C703,EMISSION_FACTORS!$A$7:$F$33,6,0)","v":540.48}]
["02070","MA","NEWE",{"$f":"VLOOKUP(C704,EMISSION_FACTORS!$A$7:$F$33,6,0)","v":540.48}]
["02071","MA","NEWE",{"$f":"VLOOKUP(C705,EMISSION_FACTORS!$A$7:$F$33,6,0)","v":540.48}]
["02072","MA","NEWE",{"$f":"VLOOKUP(C706,EMISSION_FACTORS!$A$7:$F$33,6,0)","v":540.48}]
["02081","MA","NEWE",{"$f":"VLOOKUP(C707,EMISSION_FACTORS!$A$7:$F$33,6,0)","v":540.48}]
["02090","MA","NEWE",{"$f":"VLOOKUP(C708,EMISSION_FACTORS!$A$7:$F$33,6,0)","v":540.48}]
["02093","MA","NEWE",{"$f":"VLOOKUP(C709,EMISSION_FACTORS!$A$7:$F$33,6,0)","v":540.48}]
["02101","MA","NEWE",{"$f":"VLOOKUP(C710,EMISSION_FACTORS!$A$7:$F$33,6,0)","v":540.48}]
["02108","MA","NEWE",{"$f":"VLOOKUP(C711,EMISSION_FACTORS!$A$7:$F$33,6,0)","v":540.48}]
["02109","MA","NEWE",{"$f":"VLOOKUP(C712,EMISSION_FACTORS!$A$7:$F$33,6,0)","v":540.48}]
["02110","MA","NEWE",{"$f":"VLOOKUP(C713,EMISSION_FACTORS!$A$7:$F$33,6,0)","v":540.48}]
["02111","MA","NEWE",{"$f":"VLOOKUP(C714,EMISSION_FACTORS!$A$7:$F$33,6,0)","v":540.48}]
["02112","MA","NEWE",{"$f":"VLOOKUP(C715,EMISSION_FACTORS!$A$7:$F$33,6,0)","v":540.48}]
["02113","MA","NEWE",{"$f":"VLOOKUP(C716,EMISSION_FACTORS!$A$7:$F$33,6,0)","v":540.48}]
["02114","MA","NEWE",{"$f":"VLOOKUP(C717,EMISSION_FACTORS!$A$7:$F$33,6,0)","v":540.48}]
["02115","MA","NEWE",{"$f":"VLOOKUP(C718,EMISSION_FACTORS!$A$7:$F$33,6,0)","v":540.48}]
["02116","MA","NEWE",{"$f":"VLOOKUP(C719,EMISSION_FACTORS!$A$7:$F$33,6,0)","v":540.48}]
["02117","MA","NEWE",{"$f":"VLOOKUP(C720,EMISSION_FACTORS!$A$7:$F$33,6,0)","v":540.48}]
["02118","MA","NEWE",{"$f":"VLOOKUP(C721,EMISSION_FACTORS!$A$7:$F$33,6,0)","v":540.48}]
["02119","MA","NEWE",{"$f":"VLOOKUP(C722,EMISSION_FACTORS!$A$7:$F$33,6,0)","v":540.48}]
["02120","MA","NEWE",{"$f":"VLOOKUP(C723,EMISSION_FACTORS!$A$7:$F$33,6,0)","v":540.48}]
["02121","MA","NEWE",{"$f":"VLOOKUP(C724,EMISSION_FACTORS!$A$7:$F$33,6,0)","v":540.48}]
["02122","MA","NEWE",{"$f":"VLOOKUP(C725,EMISSION_FACTORS!$A$7:$F$33,6,0)","v":540.48}]
["02123","MA","NEWE",{"$f":"VLOOKUP(C726,EMISSION_FACTORS!$A$7:$F$33,6,0)","v":540.48}]
["02124","MA","NEWE",{"$f":"VLOOKUP(C727,EMISSION_FACTORS!$A$7:$F$33,6,0)","v":540.48}]
["02125","MA","NEWE",{"$f":"VLOOKUP(C728,EMISSION_FACTORS!$A$7:$F$33,6,0)","v":540.48}]
["02126","MA","NEWE",{"$f":"VLOOKUP(C729,EMISSION_FACTORS!$A$7:$F$33,6,0)","v":540.48}]
["02127","MA","NEWE",{"$f":"VLOOKUP(C730,EMISSION_FACTORS!$A$7:$F$33,6,0)","v":540.48}]
["02128","MA","NEWE",{"$f":"VLOOKUP(C731,EMISSION_FACTORS!$A$7:$F$33,6,0)","v":540.48}]
["02129","MA","NEWE",{"$f":"VLOOKUP(C732,EMISSION_FACTORS!$A$7:$F$33,6,0)","v":540.48}]
["02130","MA","NEWE",{"$f":"VLOOKUP(C733,EMISSION_FACTORS!$A$7:$F$33,6,0)","v":540.48}]
["02131","MA","NEWE",{"$f":"VLOOKUP(C734,EMISSION_FACTORS!$A$7:$F$33,6,0)","v":540.48}]
["02132","MA","NEWE",{"$f":"VLOOKUP(C735,EMISSION_FACTORS!$A$7:$F$33,6,0)","v":540.48}]
["02133","MA","NEWE",{"$f":"VLOOKUP(C736,EMISSION_FACTORS!$A$7:$F$33,6,0)","v":540.48}]
["02134","MA","NEWE",{"$f":"VLOOKUP(C737,EMISSION_FACTORS!$A$7:$F$33,6,0)","v":540.48}]
["02135","MA","NEWE",{"$f":"VLOOKUP(C738,EMISSION_FACTORS!$A$7:$F$33,6,0)","v":540.48}]
["02136","MA","NEWE",{"$f":"VLOOKUP(C739,EMISSION_FACTORS!$A$7:$F$33,6,0)","v":540.48}]
["02137","MA","NEWE",{"$f":"VLOOKUP(C740,EMISSION_FACTORS!$A$7:$F$33,6,0)","v":540.48}]
["02138","MA","NEWE",{"$f":"VLOOKUP(C741,EMISSION_FACTORS!$A$7:$F$33,6,0)","v":540.48}]
["02139","MA","NEWE",{"$f":"VLOOKUP(C742,EMISSION_FACTORS!$A$7:$F$33,6,0)","v":540.48}]
["02140","MA","NEWE",{"$f":"VLOOKUP(C743,EMISSION_FACTORS!$A$7:$F$33,6,0)","v":540.48}]
["02141","MA","NEWE",{"$f":"VLOOKUP(C744,EMISSION_FACTORS!$A$7:$F$33,6,0)","v":540.48}]
["02142","MA","NEWE",{"$f":"VLOOKUP(C745,EMISSION_FACTORS!$A$7:$F$33,6,0)","v":540.48}]
["02143","MA","NEWE",{"$f":"VLOOKUP(C746,EMISSION_FACTORS!$A$7:$F$33,6,0)","v":540.48}]
["02144","MA","NEWE",{"$f":"VLOOKUP(C747,EMISSION_FACTORS!$A$7:$F$33,6,0)","v":540.48}]
["02145","MA","NEWE",{"$f":"VLOOKUP(C748,EMISSION_FACTORS!$A$7:$F$33,6,0)","v":540.48}]
["02148","MA","NEWE",{"$f":"VLOOKUP(C749,EMISSION_FACTORS!$A$7:$F$33,6,0)","v":540.48}]
["02149","MA","NEWE",{"$f":"VLOOKUP(C750,EMISSION_FACTORS!$A$7:$F$33,6,0)","v":540.48}]
["02150","MA","NEWE",{"$f":"VLOOKUP(C751,EMISSION_FACTORS!$A$7:$F$33,6,0)","v":540.48}]
["02151","MA","NEWE",{"$f":"VLOOKUP(C752,EMISSION_FACTORS!$A$7:$F$33,6,0)","v":540.48}]
["02152","MA","NEWE",{"$f":"VLOOKUP(C753,EMISSION_FACTORS!$A$7:$F$33,6,0)","v":540.48}]
["02153","MA","NEWE",{"$f":"VLOOKUP(C754,EMISSION_FACTORS!$A$7:$F$33,6,0)","v":540.48}]
["02155","MA","NEWE",{"$f":"VLOOKUP(C755,EMISSION_FACTORS!$A$7:$F$33,6,0)","v":540.48}]
["02156","MA","NEWE",{"$f":"VLOOKUP(C756,EMISSION_FACTORS!$A$7:$F$33,6,0)","v":540.48}]
["02163","MA","NEWE",{"$f":"VLOOKUP(C757,EMISSION_FACTORS!$A$7:$F$33,6,0)","v":540.48}]
["02169","MA","NEWE",{"$f":"VLOOKUP(C758,EMISSION_FACTORS!$A$7:$F$33,6,0)","v":540.48}]
["02170","MA","NEWE",{"$f":"VLOOKUP(C759,EMISSION_FACTORS!$A$7:$F$33,6,0)","v":540.48}]
["02171","MA","NEWE",{"$f":"VLOOKUP(C760,EMISSION_FACTORS!$A$7:$F$33,6,0)","v":540.48}]
["02176","MA","NEWE",{"$f":"VLOOKUP(C761,EMISSION_FACTORS!$A$7:$F$33,6,0)","v":540.48}]
["02180","MA","NEWE",{"$f":"VLOOKUP(C762,EMISSION_FACTORS!$A$7:$F$33,6,0)","v":540.48}]
["02184","MA","NEWE",{"$f":"VLOOKUP(C763,EMISSION_FACTORS!$A$7:$F$33,6,0)","v":540.48}]
["02185","MA","NEWE",{"$f":"VLOOKUP(C764,EMISSION_FACTORS!$A$7:$F$33,6,0)","v":540.48}]
["02186","MA","NEWE",{"$f":"VLOOKUP(C765,EMISSION_FACTORS!$A$7:$F$33,6,0)","v":540.48}]
["02187","MA","NEWE",{"$f":"VLOOKUP(C766,EMISSION_FACTORS!$A$7:$F$33,6,0)","v":540.48}]
["02188","MA","NEWE",{"$f":"VLOOKUP(C767,EMISSION_FACTORS!$A$7:$F$33,6,0)","v":540.48}]
["02189","MA","NEWE",{"$f":"VLOOKUP(C768,EMISSION_FACTORS!$A$7:$F$33,6,0)","v":540.48}]
["02190","MA","NEWE",{"$f":"VLOOKUP(C769,EMISSION_FACTORS!$A$7:$F$33,6,0)","v":540.48}]
["02191","MA","NEWE",{"$f":"VLOOKUP(C770,EMISSION_FACTORS!$A$7:$F$33,6,0)","v":540.48}]
["02196","MA","NEWE",{"$f":"VLOOKUP(C771,EMISSION_FACTORS!$A$7:$F$33,6,0)","v":540.48}]
["02199","MA","NEWE",{"$f":"VLOOKUP(C772,EMISSION_FACTORS!$A$7:$F$33,6,0)","v":540.48}]
["02201","MA","NEWE",{"$f":"VLOOKUP(C773,EMISSION_FACTORS!$A$7:$F$33,6,0)","v":540.48}]
["02203","MA","NEWE",{"$f":"VLOOKUP(C774,EMISSION_FACTORS!$A$7:$F$33,6,0)","v":540.48}]
["02204","MA","NEWE",{"$f":"VLOOKUP(C775,EMISSION_FACTORS!$A$7:$F$33,6,0)","v":540.48}]
["02205","MA","NEWE",{"$f":"VLOOKUP(C776,EMISSION_FACTORS!$A$7:$F$33,6,0)","v":540.48}]
["02206","MA","NEWE",{"$f":"VLOOKUP(C777,EMISSION_FACTORS!$A$7:$F$33,6,0)","v":540.48}]
["02210","MA","NEWE",{"$f":"VLOOKUP(C778,EMISSION_FACTORS!$A$7:$F$33,6,0)","v":540.48}]
["02211","MA","NEWE",{"$f":"VLOOKUP(C779,EMISSION_FACTORS!$A$7:$F$33,6,0)","v":540.48}]
["02212","MA","NEWE",{"$f":"VLOOKUP(C780,EMISSION_FACTORS!$A$7:$F$33,6,0)","v":540.48}]
["02215","MA","NEWE",{"$f":"VLOOKUP(C781,EMISSION_FACTORS!$A$7:$F$33,6,0)","v":540.48}]
["02217","MA","NEWE",{"$f":"VLOOKUP(C782,EMISSION_FACTORS!$A$7:$F$33,6,0)","v":540.48}]
["02222","MA","NEWE",{"$f":"VLOOKUP(C783,EMISSION_FACTORS!$A$7:$F$33,6,0)","v":540.48}]
["02228","MA","NEWE",{"$f":"VLOOKUP(C784,EMISSION_FACTORS!$A$7:$F$33,6,0)","v":540.48}]
["02238","MA","NEWE",{"$f":"VLOOKUP(C785,EMISSION_FACTORS!$A$7:$F$33,6,0)","v":540.48}]
["02241","MA","NEWE",{"$f":"VLOOKUP(C786,EMISSION_FACTORS!$A$7:$F$33,6,0)","v":540.48}]
["02266","MA","NEWE",{"$f":"VLOOKUP(C787,EMISSION_FACTORS!$A$7:$F$33,6,0)","v":540.48}]
["02269","MA","NEWE",{"$f":"VLOOKUP(C788,EMISSION_FACTORS!$A$7:$F$33,6,0)","v":540.48}]
["02283","MA","NEWE",{"$f":"VLOOKUP(C789,EMISSION_FACTORS!$A$7:$F$33,6,0)","v":540.48}]
["02284","MA","NEWE",{"$f":"VLOOKUP(C790,EMISSION_FACTORS!$A$7:$F$33,6,0)","v":540.48}]
["02293","MA","NEWE",{"$f":"VLOOKUP(C791,EMISSION_FACTORS!$A$7:$F$33,6,0)","v":540.48}]
["02295","MA","NEWE",{"$f":"VLOOKUP(C792,EMISSION_FACTORS!$A$7:$F$33,6,0)","v":540.48}]
["02297","MA","NEWE",{"$f":"VLOOKUP(C793,EMISSION_FACTORS!$A$7:$F$33,6,0)","v":540.48}]
["02298","MA","NEWE",{"$f":"VLOOKUP(C794,EMISSION_FACTORS!$A$7:$F$33,6,0)","v":540.48}]
["02301","MA","NEWE",{"$f":"VLOOKUP(C795,EMISSION_FACTORS!$A$7:$F$33,6,0)","v":540.48}]
["02302","MA","NEWE",{"$f":"VLOOKUP(C796,EMISSION_FACTORS!$A$7:$F$33,6,0)","v":540.48}]
["02303","MA","NEWE",{"$f":"VLOOKUP(C797,EMISSION_FACTORS!$A$7:$F$33,6,0)","v":540.48}]
["02304","MA","NEWE",{"$f":"VLOOKUP(C798,EMISSION_FACTORS!$A$7:$F$33,6,0)","v":540.48}]
["02305","MA","NEWE",{"$f":"VLOOKUP(C799,EMISSION_FACTORS!$A$7:$F$33,6,0)","v":540.48}]
["02322","MA","NEWE",{"$f":"VLOOKUP(C800,EMISSION_FACTORS!$A$7:$F$33,6,0)","v":540.48}]
["02324","MA","NEWE",{"$f":"VLOOKUP(C801,EMISSION_FACTORS!$A$7:$F$33,6,0)","v":540.48}]
["02325","MA","NEWE",{"$f":"VLOOKUP(C802,EMISSION_FACTORS!$A$7:$F$33,6,0)","v":540.48}]
["02327","MA","NEWE",{"$f":"VLOOKUP(C803,EMISSION_FACTORS!$A$7:$F$33,6,0)","v":540.48}]
["02330","MA","NEWE",{"$f":"VLOOKUP(C804,EMISSION_FACTORS!$A$7:$F$33,6,0)","v":540.48}]
["02331","MA","NEWE",{"$f":"VLOOKUP(C805,EMISSION_FACTORS!$A$7:$F$33,6,0)","v":540.48}]
["02332","MA","NEWE",{"$f":"VLOOKUP(C806,EMISSION_FACTORS!$A$7:$F$33,6,0)","v":540.48}]
["02333","MA","NEWE",{"$f":"VLOOKUP(C807,EMISSION_FACTORS!$A$7:$F$33,6,0)","v":540.48}]
["02334","MA","NEWE",{"$f":"VLOOKUP(C808,EMISSION_FACTORS!$A$7:$F$33,6,0)","v":540.48}]
["02337","MA","NEWE",{"$f":"VLOOKUP(C809,EMISSION_FACTORS!$A$7:$F$33,6,0)","v":540.48}]
["02338","MA","NEWE",{"$f":"VLOOKUP(C810,EMISSION_FACTORS!$A$7:$F$33,6,0)","v":540.48}]
["02339","MA","NEWE",{"$f":"VLOOKUP(C811,EMISSION_FACTORS!$A$7:$F$33,6,0)","v":540.48}]
["02340","MA","NEWE",{"$f":"VLOOKUP(C812,EMISSION_FACTORS!$A$7:$F$33,6,0)","v":540.48}]
["02341","MA","NEWE",{"$f":"VLOOKUP(C813,EMISSION_FACTORS!$A$7:$F$33,6,0)","v":540.48}]
["02343","MA","NEWE",{"$f":"VLOOKUP(C814,EMISSION_FACTORS!$A$7:$F$33,6,0)","v":540.48}]
["02344","MA","NEWE",{"$f":"VLOOKUP(C815,EMISSION_FACTORS!$A$7:$F$33,6,0)","v":540.48}]
["02345","MA","NEWE",{"$f":"VLOOKUP(C816,EMISSION_FACTORS!$A$7:$F$33,6,0)","v":540.48}]
["02346","MA","NEWE",{"$f":"VLOOKUP(C817,EMISSION_FACTORS!$A$7:$F$33,6,0)","v":540.48}]
["02347","MA","NEWE",{"$f":"VLOOKUP(C818,EMISSION_FACTORS!$A$7:$F$33,6,0)","v":540.48}]
["02348","MA","NEWE",{"$f":"VLOOKUP(C819,EMISSION_FACTORS!$A$7:$F$33,6,0)","v":540.48}]
["02349","MA","NEWE",{"$f":"VLOOKUP(C820,EMISSION_FACTORS!$A$7:$F$33,6,0)","v":540.48}]
["02350","MA","NEWE",{"$f":"VLOOKUP(C821,EMISSION_FACTORS!$A$7:$F$33,6,0)","v":540.48}]
["02351","MA","NEWE",{"$f":"VLOOKUP(C822,EMISSION_FACTORS!$A$7:$F$33,6,0)","v":540.48}]
["02355","MA","NEWE",{"$f":"VLOOKUP(C823,EMISSION_FACTORS!$A$7:$F$33,6,0)","v":540.48}]
["02356","MA","NEWE",{"$f":"VLOOKUP(C824,EMISSION_FACTORS!$A$7:$F$33,6,0)","v":540.48}]
["02357","MA","NEWE",{"$f":"VLOOKUP(C825,EMISSION_FACTORS!$A$7:$F$33,6,0)","v":540.48}]
["02358","MA","NEWE",{"$f":"VLOOKUP(C826,EMISSION_FACTORS!$A$7:$F$33,6,0)","v":540.48}]
["02359","MA","NEWE",{"$f":"VLOOKUP(C827,EMISSION_FACTORS!$A$7:$F$33,6,0)","v":540.48}]
["02360","MA","NEWE",{"$f":"VLOOKUP(C828,EMISSION_FACTORS!$A$7:$F$33,6,0)","v":540.48}]
["02361","MA","NEWE",{"$f":"VLOOKUP(C829,EMISSION_FACTORS!$A$7:$F$33,6,0)","v":540.48}]
["02362","MA","NEWE",{"$f":"VLOOKUP(C830,EMISSION_FACTORS!$A$7:$F$33,6,0)","v":540.48}]
["02364","MA","NEWE",{"$f":"VLOOKUP(C831,EMISSION_FACTORS!$A$7:$F$33,6,0)","v":540.48}]
["02366","MA","NEWE",{"$f":"VLOOKUP(C832,EMISSION_FACTORS!$A$7:$F$33,6,0)","v":540.48}]
["02367","MA","NEWE",{"$f":"VLOOKUP(C833,EMISSION_FACTORS!$A$7:$F$33,6,0)","v":540.48}]
["02368","MA","NEWE",{"$f":"VLOOKUP(C834,EMISSION_FACTORS!$A$7:$F$33,6,0)","v":540.48}]
["02370","MA","NEWE",{"$f":"VLOOKUP(C835,EMISSION_FACTORS!$A$7:$F$33,6,0)","v":540.48}]
["02375","MA","NEWE",{"$f":"VLOOKUP(C836,EMISSION_FACTORS!$A$7:$F$33,6,0)","v":540.48}]
["02379","MA","NEWE",{"$f":"VLOOKUP(C837,EMISSION_FACTORS!$A$7:$F$33,6,0)","v":540.48}]
["02381","MA","NEWE",{"$f":"VLOOKUP(C838,EMISSION_FACTORS!$A$7:$F$33,6,0)","v":540.48}]
["02382","MA","NEWE",{"$f":"VLOOKUP(C839,EMISSION_FACTORS!$A$7:$F$33,6,0)","v":540.48}]
["02420","MA","NEWE",{"$f":"VLOOKUP(C840,EMISSION_FACTORS!$A$7:$F$33,6,0)","v":540.48}]
["02421","MA","NEWE",{"$f":"VLOOKUP(C841,EMISSION_FACTORS!$A$7:$F$33,6,0)","v":540.48}]
["02445","MA","NEWE",{"$f":"VLOOKUP(C842,EMISSION_FACTORS!$A$7:$F$33,6,0)","v":540.48}]
["02446","MA","NEWE",{"$f":"VLOOKUP(C843,EMISSION_FACTORS!$A$7:$F$33,6,0)","v":540.48}]
["02447","MA","NEWE",{"$f":"VLOOKUP(C844,EMISSION_FACTORS!$A$7:$F$33,6,0)","v":540.48}]
["02451","MA","NEWE",{"$f":"VLOOKUP(C845,EMISSION_FACTORS!$A$7:$F$33,6,0)","v":540.48}]
["02452","MA","NEWE",{"$f":"VLOOKUP(C846,EMISSION_FACTORS!$A$7:$F$33,6,0)","v":540.48}]
["02453","MA","NEWE",{"$f":"VLOOKUP(C847,EMISSION_FACTORS!$A$7:$F$33,6,0)","v":540.48}]
["02454","MA","NEWE",{"$f":"VLOOKUP(C848,EMISSION_FACTORS!$A$7:$F$33,6,0)","v":540.48}]
["02455","MA","NEWE",{"$f":"VLOOKUP(C849,EMISSION_FACTORS!$A$7:$F$33,6,0)","v":540.48}]
["02456","MA","NEWE",{"$f":"VLOOKUP(C850,EMISSION_FACTORS!$A$7:$F$33,6,0)","v":540.48}]
["02457","MA","NEWE",{"$f":"VLOOKUP(C851,EMISSION_FACTORS!$A$7:$F$33,6,0)","v":540.48}]
["02458","MA","NEWE",{"$f":"VLOOKUP(C852,EMISSION_FACTORS!$A$7:$F$33,6,0)","v":540.48}]
["02459","MA","NEWE",{"$f":"VLOOKUP(C853,EMISSION_FACTORS!$A$7:$F$33,6,0)","v":540.48}]
["02460","MA","NEWE",{"$f":"VLOOKUP(C854,EMISSION_FACTORS!$A$7:$F$33,6,0)","v":540.48}]
["02461","MA","NEWE",{"$f":"VLOOKUP(C855,EMISSION_FACTORS!$A$7:$F$33,6,0)","v":540.48}]
["02462","MA","NEWE",{"$f":"VLOOKUP(C856,EMISSION_FACTORS!$A$7:$F$33,6,0)","v":540.48}]
["02464","MA","NEWE",{"$f":"VLOOKUP(C857,EMISSION_FACTORS!$A$7:$F$33,6,0)","v":540.48}]
["02465","MA","NEWE",{"$f":"VLOOKUP(C858,EMISSION_FACTORS!$A$7:$F$33,6,0)","v":540.48}]
["02466","MA","NEWE",{"$f":"VLOOKUP(C859,EMISSION_FACTORS!$A$7:$F$33,6,0)","v":540.48}]
["02467","MA","NEWE",{"$f":"VLOOKUP(C860,EMISSION_FACTORS!$A$7:$F$33,6,0)","v":540.48}]
["02468","MA","NEWE",{"$f":"VLOOKUP(C861,EMISSION_FACTORS!$A$7:$F$33,6,0)","v":540.48}]
["02471","MA","NEWE",{"$f":"VLOOKUP(C862,EMISSION_FACTORS!$A$7:$F$33,6,0)","v":540.48}]
["02472","MA","NEWE",{"$f":"VLOOKUP(C863,EMISSION_FACTORS!$A$7:$F$33,6,0)","v":540.48}]
["02474","MA","NEWE",{"$f":"VLOOKUP(C864,EMISSION_FACTORS!$A$7:$F$33,6,0)","v":540.48}]
["02475","MA","NEWE",{"$f":"VLOOKUP(C865,EMISSION_FACTORS!$A$7:$F$33,6,0)","v":540.48}]
["02476","MA","NEWE",{"$f":"VLOOKUP(C866,EMISSION_FACTORS!$A$7:$F$33,6,0)","v":540.48}]
["02477","MA","NEWE",{"$f":"VLOOKUP(C867,EMISSION_FACTORS!$A$7:$F$33,6,0)","v":540.48}]
["02478","MA","NEWE",{"$f":"VLOOKUP(C868,EMISSION_FACTORS!$A$7:$F$33,6,0)","v":540.48}]
["02479","MA","NEWE",{"$f":"VLOOKUP(C869,EMISSION_FACTORS!$A$7:$F$33,6,0)","v":540.48}]
["02481","MA","NEWE",{"$f":"VLOOKUP(C870,EMISSION_FACTORS!$A$7:$F$33,6,0)","v":540.48}]
["02482","MA","NEWE",{"$f":"VLOOKUP(C871,EMISSION_FACTORS!$A$7:$F$33,6,0)","v":540.48}]
["02492","MA","NEWE",{"$f":"VLOOKUP(C872,EMISSION_FACTORS!$A$7:$F$33,6,0)","v":540.48}]
["02493","MA","NEWE",{"$f":"VLOOKUP(C873,EMISSION_FACTORS!$A$7:$F$33,6,0)","v":540.48}]
["02494","MA","NEWE",{"$f":"VLOOKUP(C874,EMISSION_FACTORS!$A$7:$F$33,6,0)","v":540.48}]
["02495","MA","NEWE",{"$f":"VLOOKUP(C875,EMISSION_FACTORS!$A$7:$F$33,6,0)","v":540.48}]
["02532","MA","NEWE",{"$f":"VLOOKUP(C876,EMISSION_FACTORS!$A$7:$F$33,6,0)","v":540.48}]
["02534","MA","NEWE",{"$f":"VLOOKUP(C877,EMISSION_FACTORS!$A$7:$F$33,6,0)","v":540.48}]
["02535","MA","NEWE",{"$f":"VLOOKUP(C878,EMISSION_FACTORS!$A$7:$F$33,6,0)","v":540.48}]
["02536","MA","NEWE",{"$f":"VLOOKUP(C879,EMISSION_FACTORS!$A$7:$F$33,6,0)","v":540.48}]
["02537","MA","NEWE",{"$f":"VLOOKUP(C880,EMISSION_FACTORS!$A$7:$F$33,6,0)","v":540.48}]
["02538","MA","NEWE",{"$f":"VLOOKUP(C881,EMISSION_FACTORS!$A$7:$F$33,6,0)","v":540.48}]
["02539","MA","NEWE",{"$f":"VLOOKUP(C882,EMISSION_FACTORS!$A$7:$F$33,6,0)","v":540.48}]
["02540","MA","NEWE",{"$f":"VLOOKUP(C883,EMISSION_FACTORS!$A$7:$F$33,6,0)","v":540.48}]
["02541","MA","NEWE",{"$f":"VLOOKUP(C884,EMISSION_FACTORS!$A$7:$F$33,6,0)","v":540.48}]
["02542","MA","NEWE",{"$f":"VLOOKUP(C885,EMISSION_FACTORS!$A$7:$F$33,6,0)","v":540.48}]
["02543","MA","NEWE",{"$f":"VLOOKUP(C886,EMISSION_FACTORS!$A$7:$F$33,6,0)","v":540.48}]
["02552","MA","NEWE",{"$f":"VLOOKUP(C887,EMISSION_FACTORS!$A$7:$F$33,6,0)","v":540.48}]
["02553","MA","NEWE",{"$f":"VLOOKUP(C888,EMISSION_FACTORS!$A$7:$F$33,6,0)","v":540.48}]
["02554","MA","NEWE",{"$f":"VLOOKUP(C889,EMISSION_FACTORS!$A$7:$F$33,6,0)","v":540.48}]
["02556","MA","NEWE",{"$f":"VLOOKUP(C890,EMISSION_FACTORS!$A$7:$F$33,6,0)","v":540.48}]
["02557","MA","NEWE",{"$f":"VLOOKUP(C891,EMISSION_FACTORS!$A$7:$F$33,6,0)","v":540.48}]
["02558","MA","NEWE",{"$f":"VLOOKUP(C892,EMISSION_FACTORS!$A$7:$F$33,6,0)","v":540.48}]
["02559","MA","NEWE",{"$f":"VLOOKUP(C893,EMISSION_FACTORS!$A$7:$F$33,6,0)","v":540.48}]
["02561","MA","NEWE",{"$f":"VLOOKUP(C894,EMISSION_FACTORS!$A$7:$F$33,6,0)","v":540.48}]
["02562","MA","NEWE",{"$f":"VLOOKUP(C895,EMISSION_FACTORS!$A$7:$F$33,6,0)","v":540.48}]
["02563","MA","NEWE",{"$f":"VLOOKUP(C896,EMISSION_FACTORS!$A$7:$F$33,6,0)","v":540.48}]
["02564","MA","NEWE",{"$f":"VLOOKUP(C897,EMISSION_FACTORS!$A$7:$F$33,6,0)","v":540.48}]
["02565","MA","NEWE",{"$f":"VLOOKUP(C898,EMISSION_FACTORS!$A$7:$F$33,6,0)","v":540.48}]
["02568","MA","NEWE",{"$f":"VLOOKUP(C899,EMISSION_FACTORS!$A$7:$F$33,6,0)","v":540.48}]
["02571","MA","NEWE",{"$f":"VLOOKUP(C900,EMISSION_FACTORS!$A$7:$F$33,6,0)","v":540.48}]
["02573","MA","NEWE",{"$f":"VLOOKUP(C901,EMISSION_FACTORS!$A$7:$F$33,6,0)","v":540.48}]
["02574","MA","NEWE",{"$f":"VLOOKUP(C902,EMISSION_FACTORS!$A$7:$F$33,6,0)","v":540.48}]
["02575","MA","NEWE",{"$f":"VLOOKUP(C903,EMISSION_FACTORS!$A$7:$F$33,6,0)","v":540.48}]
["02576","MA","NEWE",{"$f":"VLOOKUP(C904,EMISSION_FACTORS!$A$7:$F$33,6,0)","v":540.48}]
["02584","MA","NEWE",{"$f":"VLOOKUP(C905,EMISSION_FACTORS!$A$7:$F$33,6,0)","v":540.48}]
["02601","MA","NEWE",{"$f":"VLOOKUP(C906,EMISSION_FACTORS!$A$7:$F$33,6,0)","v":540.48}]
["02630","MA","NEWE",{"$f":"VLOOKUP(C907,EMISSION_FACTORS!$A$7:$F$33,6,0)","v":540.48}]
["02631","MA","NEWE",{"$f":"VLOOKUP(C908,EMISSION_FACTORS!$A$7:$F$33,6,0)","v":540.48}]
["02632","MA","NEWE",{"$f":"VLOOKUP(C909,EMISSION_FACTORS!$A$7:$F$33,6,0)","v":540.48}]
["02633","MA","NEWE",{"$f":"VLOOKUP(C910,EMISSION_FACTORS!$A$7:$F$33,6,0)","v":540.48}]
["02634","MA","NEWE",{"$f":"VLOOKUP(C911,EMISSION_FACTORS!$A$7:$F$33,6,0)","v":540.48}]
["02635","MA","NEWE",{"$f":"VLOOKUP(C912,EMISSION_FACTORS!$A$7:$F$33,6,0)","v":540.48}]
["02637","MA","NEWE",{"$f":"VLOOKUP(C913,EMISSION_FACTORS!$A$7:$F$33,6,0)","v":540.48}]
["02638","MA","NEWE",{"$f":"VLOOKUP(C914,EMISSION_FACTORS!$A$7:$F$33,6,0)","v":540.48}]
["02639","MA","NEWE",{"$f":"VLOOKUP(C915,EMISSION_FACTORS!$A$7:$F$33,6,0)","v":540.48}]
["02641","MA","NEWE",{"$f":"VLOOKUP(C916,EMISSION_FACTORS!$A$7:$F$33,6,0)","v":540.48}]
["02642","MA","NEWE",{"$f":"VLOOKUP(C917,EMISSION_FACTORS!$A$7:$F$33,6,0)","v":540.48}]
["02643","MA","NEWE",{"$f":"VLOOKUP(C918,EMISSION_FACTORS!$A$7:$F$33,6,0)","v":540.48}]
["02644","MA","NEWE",{"$f":"VLOOKUP(C919,EMISSION_FACTORS!$A$7:$F$33,6,0)","v":540.48}]
["02645","MA","NEWE",{"$f":"VLOOKUP(C920,EMISSION_FACTORS!$A$7:$F$33,6,0)","v":540.48}]
["02646","MA","NEWE",{"$f":"VLOOKUP(C921,EMISSION_FACTORS!$A$7:$F$33,6,0)","v":540.48}]
["02647","MA","NEWE",{"$f":"VLOOKUP(C922,EMISSION_FACTORS!$A$7:$F$33,6,0)","v":540.48}]
["02648","MA","NEWE",{"$f":"VLOOKUP(C923,EMISSION_FACTORS!$A$7:$F$33,6,0)","v":540.48}]
["02649","MA","NEWE",{"$f":"VLOOKUP(C924,EMISSION_FACTORS!$A$7:$F$33,6,0)","v":540.48}]
["02650","MA","NEWE",{"$f":"VLOOKUP(C925,EMISSION_FACTORS!$A$7:$F$33,6,0)","v":540.48}]
["02651","MA","NEWE",{"$f":"VLOOKUP(C926,EMISSION_FACTORS!$A$7:$F$33,6,0)","v":540.48}]
["02652","MA","NEWE",{"$f":"VLOOKUP(C927,EMISSION_FACTORS!$A$7:$F$33,6,0)","v":540.48}]
["02653","MA","NEWE",{"$f":"VLOOKUP(C928,EMISSION_FACTORS!$A$7:$F$33,6,0)","v":540.48}]
["02655","MA","NEWE",{"$f":"VLOOKUP(C929,EMISSION_FACTORS!$A$7:$F$33,6,0)","v":540.48}]
["02657","MA","NEWE",{"$f":"VLOOKUP(C930,EMISSION_FACTORS!$A$7:$F$33,6,0)","v":540.48}]
["02659","MA","NEWE",{"$f":"VLOOKUP(C931,EMISSION_FACTORS!$A$7:$F$33,6,0)","v":540.48}]
["02660","MA","NEWE",{"$f":"VLOOKUP(C932,EMISSION_FACTORS!$A$7:$F$33,6,0)","v":540.48}]
["02661","MA","NEWE",{"$f":"VLOOKUP(C933,EMISSION_FACTORS!$A$7:$F$33,6,0)","v":540.48}]
["02662","MA","NEWE",{"$f":"VLOOKUP(C934,EMISSION_FACTORS!$A$7:$F$33,6,0)","v":540.48}]
["02663","MA","NEWE",{"$f":"VLOOKUP(C935,EMISSION_FACTORS!$A$7:$F$33,6,0)","v":540.48}]
["02664","MA","NEWE",{"$f":"VLOOKUP(C936,EMISSION_FACTORS!$A$7:$F$33,6,0)","v":540.48}]
["02666","MA","NEWE",{"$f":"VLOOKUP(C937,EMISSION_FACTORS!$A$7:$F$33,6,0)","v":540.48}]
["02667","MA","NEWE",{"$f":"VLOOKUP(C938,EMISSION_FACTORS!$A$7:$F$33,6,0)","v":540.48}]
["02668","MA","NEWE",{"$f":"VLOOKUP(C939,EMISSION_FACTORS!$A$7:$F$33,6,0)","v":540.48}]
["02669","MA","NEWE",{"$f":"VLOOKUP(C940,EMISSION_FACTORS!$A$7:$F$33,6,0)","v":540.48}]
["02670","MA","NEWE",{"$f":"VLOOKUP(C941,EMISSION_FACTORS!$A$7:$F$33,6,0)","v":540.48}]
["02671","MA","NEWE",{"$f":"VLOOKUP(C942,EMISSION_FACTORS!$A$7:$F$33,6,0)","v":540.48}]
["02672","MA","NEWE",{"$f":"VLOOKUP(C943,EMISSION_FACTORS!$A$7:$F$33,6,0)","v":540.48}]
["02673","MA","NEWE",{"$f":"VLOOKUP(C944,EMISSION_FACTORS!$A$7:$F$33,6,0)","v":540.48}]
["02675","MA","NEWE",{"$f":"VLOOKUP(C945,EMISSION_FACTORS!$A$7:$F$33,6,0)","v":540.48}]
["02702","MA","NEWE",{"$f":"VLOOKUP(C946,EMISSION_FACTORS!$A$7:$F$33,6,0)","v":540.48}]
["02703","MA","NEWE",{"$f":"VLOOKUP(C947,EMISSION_FACTORS!$A$7:$F$33,6,0)","v":540.48}]
["02712","MA","NEWE",{"$f":"VLOOKUP(C948,EMISSION_FACTORS!$A$7:$F$33,6,0)","v":540.48}]
["02713","MA","NEWE",{"$f":"VLOOKUP(C949,EMISSION_FACTORS!$A$7:$F$33,6,0)","v":540.48}]
["02714","MA","NEWE",{"$f":"VLOOKUP(C950,EMISSION_FACTORS!$A$7:$F$33,6,0)","v":540.48}]
["02715","MA","NEWE",{"$f":"VLOOKUP(C951,EMISSION_FACTORS!$A$7:$F$33,6,0)","v":540.48}]
["02717","MA","NEWE",{"$f":"VLOOKUP(C952,EMISSION_FACTORS!$A$7:$F$33,6,0)","v":540.48}]
["02718","MA","NEWE",{"$f":"VLOOKUP(C953,EMISSION_FACTORS!$A$7:$F$33,6,0)","v":540.48}]
["02719","MA","NEWE",{"$f":"VLOOKUP(C954,EMISSION_FACTORS!$A$7:$F$33,6,0)","v":540.48}]
["02720","MA","NEWE",{"$f":"VLOOKUP(C955,EMISSION_FACTORS!$A$7:$F$33,6,0)","v":540.48}]
["02721","MA","NEWE",{"$f":"VLOOKUP(C956,EMISSION_FACTORS!$A$7:$F$33,6,0)","v":540.48}]
["02722","MA","NEWE",{"$f":"VLOOKUP(C957,EMISSION_FACTORS!$A$7:$F$33,6,0)","v":540.48}]
["02723","MA","NEWE",{"$f":"VLOOKUP(C958,EMISSION_FACTORS!$A$7:$F$33,6,0)","v":540.48}]
["02724","MA","NEWE",{"$f":"VLOOKUP(C959,EMISSION_FACTORS!$A$7:$F$33,6,0)","v":540.48}]
["02725","MA","NEWE",{"$f":"VLOOKUP(C960,EMISSION_FACTORS!$A$7:$F$33,6,0)","v":540.48}]
["02726","MA","NEWE",{"$f":"VLOOKUP(C961,EMISSION_FACTORS!$A$7:$F$33,6,0)","v":540.48}]
["02738","MA","NEWE",{"$f":"VLOOKUP(C962,EMISSION_FACTORS!$A$7:$F$33,6,0)","v":540.48}]
["02739","MA","NEWE",{"$f":"VLOOKUP(C963,EMISSION_FACTORS!$A$7:$F$33,6,0)","v":540.48}]
["02740","MA","NEWE",{"$f":"VLOOKUP(C964,EMISSION_FACTORS!$A$7:$F$33,6,0)","v":540.48}]
["02741","MA","NEWE",{"$f":"VLOOKUP(C965,EMISSION_FACTORS!$A$7:$F$33,6,0)","v":540.48}]
["02742","MA","NEWE",{"$f":"VLOOKUP(C966,EMISSION_FACTORS!$A$7:$F$33,6,0)","v":540.48}]
["02743","MA","NEWE",{"$f":"VLOOKUP(C967,EMISSION_FACTORS!$A$7:$F$33,6,0)","v":540.48}]
["02744","MA","NEWE",{"$f":"VLOOKUP(C968,EMISSION_FACTORS!$A$7:$F$33,6,0)","v":540.48}]
["02745","MA","NEWE",{"$f":"VLOOKUP(C969,EMISSION_FACTORS!$A$7:$F$33,6,0)","v":540.48}]
["02746","MA","NEWE",{"$f":"VLOOKUP(C970,EMISSION_FACTORS!$A$7:$F$33,6,0)","v":540.48}]
["02747","MA","NEWE",{"$f":"VLOOKUP(C971,EMISSION_FACTORS!$A$7:$F$33,6,0)","v":540.48}]
["02748","MA","NEWE",{"$f":"VLOOKUP(C972,EMISSION_FACTORS!$A$7:$F$33,6,0)","v":540.48}]
["02760","MA","NEWE",{"$f":"VLOOKUP(C973,EMISSION_FACTORS!$A$7:$F$33,6,0)","v":540.48}]
["02761","MA","NEWE",{"$f":"VLOOKUP(C974,EMISSION_FACTORS!$A$7:$F$33,6,0)","v":540.48}]
["02762","MA","NEWE",{"$f":"VLOOKUP(C975,EMISSION_FACTORS!$A$7:$F$33,6,0)","v":540.48}]
["02763","MA","NEWE",{"$f":"VLOOKUP(C976,EMISSION_FACTORS!$A$7:$F$33,6,0)","v":540.48}]
["02764","MA","NEWE",{"$f":"VLOOKUP(C977,EMISSION_FACTORS!$A$7:$F$33,6,0)","v":540.48}]
["02766","MA","NEWE",{"$f":"VLOOKUP(C978,EMISSION_FACTORS!$A$7:$F$33,6,0)","v":540.48}]
["02767","MA","NEWE",{"$f":"VLOOKUP(C979,EMISSION_FACTORS!$A$7:$F$33,6,0)","v":540.48}]
["02768","MA","NEWE",{"$f":"VLOOKUP(C980,EMISSION_FACTORS!$A$7:$F$33,6,0)","v":540.48}]
["02769","MA","NEWE",{"$f":"VLOOKUP(C981,EMISSION_FACTORS!$A$7:$F$33,6,0)","v":540.48}]
["02770","MA","NEWE",{"$f":"VLOOKUP(C982,EMISSION_FACTORS!$A$7:$F$33,6,0)","v":540.48}]
["02771","MA","NEWE",{"$f":"VLOOKUP(C983,EMISSION_FACTORS!$A$7:$F$33,6,0)","v":540.48}]
["02777","MA","NEWE",{"$f":"VLOOKUP(C984,EMISSION_FACTORS!$A$7:$F$33,6,0)","v":540.48}]
["02779","MA","NEWE",{"$f":"VLOOKUP(C985,EMISSION_FACTORS!$A$7:$F$33,6,0)","v":540.48}]
["02780","MA","NEWE",{"$f":"VLOOKUP(C986,EMISSION_FACTORS!$A$7:$F$33,6,0)","v":540.48}]
["02783","MA","NEWE",{"$f":"VLOOKUP(C987,EMISSION_FACTORS!$A$7:$F$33,6,0)","v":540.48}]
["02790","MA","NEWE",{"$f":"VLOOKUP(C988,EMISSION_FACTORS!$A$7:$F$33,6,0)","v":540.48}]
["02791","MA","NEWE",{"$f":"VLOOKUP(C989,EMISSION_FACTORS!$A$7:$F$33,6,0)","v":540.48}]
["02801","RI","NEWE",{"$f":"VLOOKUP(C990,EMISSION_FACTORS!$A$7:$F$33,6,0)","v":540.48}]
["02802","RI","NEWE",{"$f":"VLOOKUP(C991,EMISSION_FACTORS!$A$7:$F$33,6,0)","v":540.48}]
["02804","RI","NEWE",{"$f":"VLOOKUP(C992,EMISSION_FACTORS!$A$7:$F$33,6,0)","v":540.48}]
["02806","RI","NEWE",{"$f":"VLOOKUP(C993,EMISSION_FACTORS!$A$7:$F$33,6,0)","v":540.48}]
["02807","RI","NEWE",{"$f":"VLOOKUP(C994,EMISSION_FACTORS!$A$7:$F$33,6,0)","v":540.48}]
["02808","RI","NEWE",{"$f":"VLOOKUP(C995,EMISSION_FACTORS!$A$7:$F$33,6,0)","v":540.48}]
["02809","RI","NEWE",{"$f":"VLOOKUP(C996,EMISSION_FACTORS!$A$7:$F$33,6,0)","v":540.48}]
["02812","RI","NEWE",{"$f":"VLOOKUP(C997,EMISSION_FACTORS!$A$7:$F$33,6,0)","v":540.48}]
["02813","RI","NEWE",{"$f":"VLOOKUP(C998,EMISSION_FACTORS!$A$7:$F$33,6,0)","v":540.48}]
["02814","RI","NEWE",{"$f":"VLOOKUP(C999,EMISSION_FACTORS!$A$7:$F$33,6,0)","v":540.48}]
["02815","RI","NEWE",{"$f":"VLOOKUP(C1000,EMISSION_FACTORS!$A$7:$F$33,6,0)","v":540.48}]
["02816","RI","NEWE",{"$f":"VLOOKUP(C1001,EMISSION_FACTORS!$A$7:$F$33,6,0)","v":540.48}]
["02817","RI","NEWE",{"$f":"VLOOKUP(C1002,EMISSION_FACTORS!$A$7:$F$33,6,0)","v":540.48}]
["02818","RI","NEWE",{"$f":"VLOOKUP(C1003,EMISSION_FACTORS!$A$7:$F$33,6,0)","v":540.48}]
["02822","RI","NEWE",{"$f":"VLOOKUP(C1004,EMISSION_FACTORS!$A$7:$F$33,6,0)","v":540.48}]
["02823","RI","NEWE",{"$f":"VLOOKUP(C1005,EMISSION_FACTORS!$A$7:$F$33,6,0)","v":540.48}]
["02824","RI","NEWE",{"$f":"VLOOKUP(C1006,EMISSION_FACTORS!$A$7:$F$33,6,0)","v":540.48}]
["02825","RI","NEWE",{"$f":"VLOOKUP(C1007,EMISSION_FACTORS!$A$7:$F$33,6,0)","v":540.48}]
["02826","RI","NEWE",{"$f":"VLOOKUP(C1008,EMISSION_FACTORS!$A$7:$F$33,6,0)","v":540.48}]
["02827","RI","NEWE",{"$f":"VLOOKUP(C1009,EMISSION_FACTORS!$A$7:$F$33,6,0)","v":540.48}]
["02828","RI","NEWE",{"$f":"VLOOKUP(C1010,EMISSION_FACTORS!$A$7:$F$33,6,0)","v":540.48}]
["02829","RI","NEWE",{"$f":"VLOOKUP(C1011,EMISSION_FACTORS!$A$7:$F$33,6,0)","v":540.48}]
["02830","RI","NEWE",{"$f":"VLOOKUP(C1012,EMISSION_FACTORS!$A$7:$F$33,6,0)","v":540.48}]
["02831","RI","NEWE",{"$f":"VLOOKUP(C1013,EMISSION_FACTORS!$A$7:$F$33,6,0)","v":540.48}]
["02832","RI","NEWE",{"$f":"VLOOKUP(C1014,EMISSION_FACTORS!$A$7:$F$33,6,0)","v":540.48}]
["02833","RI","NEWE",{"$f":"VLOOKUP(C1015,EMISSION_FACTORS!$A$7:$F$33,6,0)","v":540.48}]
["02835","RI","NEWE",{"$f":"VLOOKUP(C1016,EMISSION_FACTORS!$A$7:$F$33,6,0)","v":540.48}]
["02836","RI","NEWE",{"$f":"VLOOKUP(C1017,EMISSION_FACTORS!$A$7:$F$33,6,0)","v":540.48}]
["02837","RI","NEWE",{"$f":"VLOOKUP(C1018,EMISSION_FACTORS!$A$7:$F$33,6,0)","v":540.48}]
["02838","RI","NEWE",{"$f":"VLOOKUP(C1019,EMISSION_FACTORS!$A$7:$F$33,6,0)","v":540.48}]
["02839","RI","NEWE",{"$f":"VLOOKUP(C1020,EMISSION_FACTORS!$A$7:$F$33,6,0)","v":540.48}]
["02840","RI","NEWE",{"$f":"VLOOKUP(C1021,EMISSION_FACTORS!$A$7:$F$33,6,0)","v":540.48}]
["02841","RI","NEWE",{"$f":"VLOOKUP(C1022,EMISSION_FACTORS!$A$7:$F$33,6,0)","v":540.48}]
["02842","RI","NEWE",{"$f":"VLOOKUP(C1023,EMISSION_FACTORS!$A$7:$F$33,6,0)","v":540.48}]
["02852","RI","NEWE",{"$f":"VLOOKUP(C1024,EMISSION_FACTORS!$A$7:$F$33,6,0)","v":540.48}]
["02857","RI","NEWE",{"$f":"VLOOKUP(C1025,EMISSION_FACTORS!$A$7:$F$33,6,0)","v":540.48}]
["02858","RI","NEWE",{"$f":"VLOOKUP(C1026,EMISSION_FACTORS!$A$7:$F$33,6,0)","v":540.48}]
["02859","RI","NEWE",{"$f":"VLOOKUP(C1027,EMISSION_FACTORS!$A$7:$F$33,6,0)","v":540.48}]
["02860","RI","NEWE",{"$f":"VLOOKUP(C1028,EMISSION_FACTORS!$A$7:$F$33,6,0)","v":540.48}]
["02861","RI","NEWE",{"$f":"VLOOKUP(C1029,EMISSION_FACTORS!$A$7:$F$33,6,0)","v":540.48}]
["02862","RI","NEWE",{"$f":"VLOOKUP(C1030,EMISSION_FACTORS!$A$7:$F$33,6,0)","v":540.48}]
["02863","RI","NEWE",{"$f":"VLOOKUP(C1031,EMISSION_FACTORS!$A$7:$F$33,6,0)","v":540.48}]
["02864","RI","NEWE",{"$f":"VLOOKUP(C1032,EMISSION_FACTORS!$A$7:$F$33,6,0)","v":540.48}]
["02865","RI","NEWE",{"$f":"VLOOKUP(C1033,EMISSION_FACTORS!$A$7:$F$33,6,0)","v":540.48}]
["02871","RI","NEWE",{"$f":"VLOOKUP(C1034,EMISSION_FACTORS!$A$7:$F$33,6,0)","v":540.48}]
["02872","RI","NEWE",{"$f":"VLOOKUP(C1035,EMISSION_FACTORS!$A$7:$F$33,6,0)","v":540.48}]
["02873","RI","NEWE",{"$f":"VLOOKUP(C1036,EMISSION_FACTORS!$A$7:$F$33,6,0)","v":540.48}]
["02874","RI","NEWE",{"$f":"VLOOKUP(C1037,EMISSION_FACTORS!$A$7:$F$33,6,0)","v":540.48}]
["02875","RI","NEWE",{"$f":"VLOOKUP(C1038,EMISSION_FACTORS!$A$7:$F$33,6,0)","v":540.48}]
["02876","RI","NEWE",{"$f":"VLOOKUP(C1039,EMISSION_FACTORS!$A$7:$F$33,6,0)","v":540.48}]
["02877","RI","NEWE",{"$f":"VLOOKUP(C1040,EMISSION_FACTORS!$A$7:$F$33,6,0)","v":540.48}]
["02878","RI","NEWE",{"$f":"VLOOKUP(C1041,EMISSION_FACTORS!$A$7:$F$33,6,0)","v":540.48}]
["02879","RI","NEWE",{"$f":"VLOOKUP(C1042,EMISSION_FACTORS!$A$7:$F$33,6,0)","v":540.48}]
["02880","RI","NEWE",{"$f":"VLOOKUP(C1043,EMISSION_FACTORS!$A$7:$F$33,6,0)","v":540.48}]
["02881","RI","NEWE",{"$f":"VLOOKUP(C1044,EMISSION_FACTORS!$A$7:$F$33,6,0)","v":540.48}]
["02882","RI","NEWE",{"$f":"VLOOKUP(C1045,EMISSION_FACTORS!$A$7:$F$33,6,0)","v":540.48}]
["02883","RI","NEWE",{"$f":"VLOOKUP(C1046,EMISSION_FACTORS!$A$7:$F$33,6,0)","v":540.48}]
["02885","RI","NEWE",{"$f":"VLOOKUP(C1047,EMISSION_FACTORS!$A$7:$F$33,6,0)","v":540.48}]
["02886","RI","NEWE",{"$f":"VLOOKUP(C1048,EMISSION_FACTORS!$A$7:$F$33,6,0)","v":540.48}]
["02887","RI","NEWE",{"$f":"VLOOKUP(C1049,EMISSION_FACTORS!$A$7:$F$33,6,0)","v":540.48}]
["02888","RI","NEWE",{"$f":"VLOOKUP(C1050,EMISSION_FACTORS!$A$7:$F$33,6,0)","v":540.48}]
["02889","RI","NEWE",{"$f":"VLOOKUP(C1051,EMISSION_FACTORS!$A$7:$F$33,6,0)","v":540.48}]
["02891","RI","NEWE",{"$f":"VLOOKUP(C1052,EMISSION_FACTORS!$A$7:$F$33,6,0)","v":540.48}]
["02892","RI","NEWE",{"$f":"VLOOKUP(C1053,EMISSION_FACTORS!$A$7:$F$33,6,0)","v":540.48}]
["02893","RI","NEWE",{"$f":"VLOOKUP(C1054,EMISSION_FACTORS!$A$7:$F$33,6,0)","v":540.48}]
["02894","RI","NEWE",{"$f":"VLOOKUP(C1055,EMISSION_FACTORS!$A$7:$F$33,6,0)","v":540.48}]
["02895","RI","NEWE",{"$f":"VLOOKUP(C1056,EMISSION_FACTORS!$A$7:$F$33,6,0)","v":540.48}]
["02896","RI","NEWE",{"$f":"VLOOKUP(C1057,EMISSION_FACTORS!$A$7:$F$33,6,0)","v":540.48}]
["02898","RI","NEWE",{"$f":"VLOOKUP(C1058,EMISSION_FACTORS!$A$7:$F$33,6,0)","v":540.48}]
["02901","RI","NEWE",{"$f":"VLOOKUP(C1059,EMISSION_FACTORS!$A$7:$F$33,6,0)","v":540.48}]
["02902","RI","NEWE",{"$f":"VLOOKUP(C1060,EMISSION_FACTORS!$A$7:$F$33,6,0)","v":540.48}]
["02903","RI","NEWE",{"$f":"VLOOKUP(C1061,EMISSION_FACTORS!$A$7:$F$33,6,0)","v":540.48}]
["02904","RI","NEWE",{"$f":"VLOOKUP(C1062,EMISSION_FACTORS!$A$7:$F$33,6,0)","v":540.48}]
["02905","RI","NEWE",{"$f":"VLOOKUP(C1063,EMISSION_FACTORS!$A$7:$F$33,6,0)","v":540.48}]
["02906","RI","NEWE",{"$f":"VLOOKUP(C1064,EMISSION_FACTORS!$A$7:$F$33,6,0)","v":540.48}]
["02907","RI","NEWE",{"$f":"VLOOKUP(C1065,EMISSION_FACTORS!$A$7:$F$33,6,0)","v":540.48}]
["02908","RI","NEWE",{"$f":"VLOOKUP(C1066,EMISSION_FACTORS!$A$7:$F$33,6,0)","v":540.48}]
["02909","RI","NEWE",{"$f":"VLOOKUP(C1067,EMISSION_FACTORS!$A$7:$F$33,6,0)","v":540.48}]
["02910","RI","NEWE",{"$f":"VLOOKUP(C1068,EMISSION_FACTORS!$A$7:$F$33,6,0)","v":540.48}]
["02911","RI","NEWE",{"$f":"VLOOKUP(C1069,EMISSION_FACTORS!$A$7:$F$33,6,0)","v":540.48}]
["02912","RI","NEWE",{"$f":"VLOOKUP(C1070,EMISSION_FACTORS!$A$7:$F$33,6,0)","v":540.48}]
["02914","RI","NEWE",{"$f":"VLOOKUP(C1071,EMISSION_FACTORS!$A$7:$F$33,6,0)","v":540.48}]
["02915","RI","NEWE",{"$f":"VLOOKUP(C1072,EMISSION_FACTORS!$A$7:$F$33,6,0)","v":540.48}]
["02916","RI","NEWE",{"$f":"VLOOKUP(C1073,EMISSION_FACTORS!$A$7:$F$33,6,0)","v":540.48}]
["02917","RI","NEWE",{"$f":"VLOOKUP(C1074,EMISSION_FACTORS!$A$7:$F$33,6,0)","v":540.48}]
["02918","RI","NEWE",{"$f":"VLOOKUP(C1075,EMISSION_FACTORS!$A$7:$F$33,6,0)","v":540.48}]
["02919","RI","NEWE",{"$f":"VLOOKUP(C1076,EMISSION_FACTORS!$A$7:$F$33,6,0)","v":540.48}]
["02920","RI","NEWE",{"$f":"VLOOKUP(C1077,EMISSION_FACTORS!$A$7:$F$33,6,0)","v":540.48}]
["02921","RI","NEWE",{"$f":"VLOOKUP(C1078,EMISSION_FACTORS!$A$7:$F$33,6,0)","v":540.48}]
["02940","RI","NEWE",{"$f":"VLOOKUP(C1079,EMISSION_FACTORS!$A$7:$F$33,6,0)","v":540.48}]
["03031","NH","NEWE",{"$f":"VLOOKUP(C1080,EMISSION_FACTORS!$A$7:$F$33,6,0)","v":540.48}]
["03032","NH","NEWE",{"$f":"VLOOKUP(C1081,EMISSION_FACTORS!$A$7:$F$33,6,0)","v":540.48}]
["03033","NH","NEWE",{"$f":"VLOOKUP(C1082,EMISSION_FACTORS!$A$7:$F$33,6,0)","v":540.48}]
["03034","NH","NEWE",{"$f":"VLOOKUP(C1083,EMISSION_FACTORS!$A$7:$F$33,6,0)","v":540.48}]
["03036","NH","NEWE",{"$f":"VLOOKUP(C1084,EMISSION_FACTORS!$A$7:$F$33,6,0)","v":540.48}]
["03037","NH","NEWE",{"$f":"VLOOKUP(C1085,EMISSION_FACTORS!$A$7:$F$33,6,0)","v":540.48}]
["03038","NH","NEWE",{"$f":"VLOOKUP(C1086,EMISSION_FACTORS!$A$7:$F$33,6,0)","v":540.48}]
["03040","NH","NEWE",{"$f":"VLOOKUP(C1087,EMISSION_FACTORS!$A$7:$F$33,6,0)","v":540.48}]
["03041","NH","NEWE",{"$f":"VLOOKUP(C1088,EMISSION_FACTORS!$A$7:$F$33,6,0)","v":540.48}]
["03042","NH","NEWE",{"$f":"VLOOKUP(C1089,EMISSION_FACTORS!$A$7:$F$33,6,0)","v":540.48}]
["03043","NH","NEWE",{"$f":"VLOOKUP(C1090,EMISSION_FACTORS!$A$7:$F$33,6,0)","v":540.48}]
["03044","NH","NEWE",{"$f":"VLOOKUP(C1091,EMISSION_FACTORS!$A$7:$F$33,6,0)","v":540.48}]
["03045","NH","NEWE",{"$f":"VLOOKUP(C1092,EMISSION_FACTORS!$A$7:$F$33,6,0)","v":540.48}]
["03046","NH","NEWE",{"$f":"VLOOKUP(C1093,EMISSION_FACTORS!$A$7:$F$33,6,0)","v":540.48}]
["03047","NH","NEWE",{"$f":"VLOOKUP(C1094,EMISSION_FACTORS!$A$7:$F$33,6,0)","v":540.48}]
["03048","NH","NEWE",{"$f":"VLOOKUP(C1095,EMISSION_FACTORS!$A$7:$F$33,6,0)","v":540.48}]
["03049","NH","NEWE",{"$f":"VLOOKUP(C1096,EMISSION_FACTORS!$A$7:$F$33,6,0)","v":540.48}]
["03051","NH","NEWE",{"$f":"VLOOKUP(C1097,EMISSION_FACTORS!$A$7:$F$33,6,0)","v":540.48}]
["03052","NH","NEWE",{"$f":"VLOOKUP(C1098,EMISSION_FACTORS!$A$7:$F$33,6,0)","v":540.48}]
["03053","NH","NEWE",{"$f":"VLOOKUP(C1099,EMISSION_FACTORS!$A$7:$F$33,6,0)","v":540.48}]
["03054","NH","NEWE",{"$f":"VLOOKUP(C1100,EMISSION_FACTORS!$A$7:$F$33,6,0)","v":540.48}]
["03055","NH","NEWE",{"$f":"VLOOKUP(C1101,EMISSION_FACTORS!$A$7:$F$33,6,0)","v":540.48}]
["03057","NH","NEWE",{"$f":"VLOOKUP(C1102,EMISSION_FACTORS!$A$7:$F$33,6,0)","v":540.48}]
["03060","NH","NEWE",{"$f":"VLOOKUP(C1103,EMISSION_FACTORS!$A$7:$F$33,6,0)","v":540.48}]
["03061","NH","NEWE",{"$f":"VLOOKUP(C1104,EMISSION_FACTORS!$A$7:$F$33,6,0)","v":540.48}]
["03062","NH","NEWE",{"$f":"VLOOKUP(C1105,EMISSION_FACTORS!$A$7:$F$33,6,0)","v":540.48}]
["03063","NH","NEWE",{"$f":"VLOOKUP(C1106,EMISSION_FACTORS!$A$7:$F$33,6,0)","v":540.48}]
["03064","NH","NEWE",{"$f":"VLOOKUP(C1107,EMISSION_FACTORS!$A$7:$F$33,6,0)","v":540.48}]
["03070","NH","NEWE",{"$f":"VLOOKUP(C1108,EMISSION_FACTORS!$A$7:$F$33,6,0)","v":540.48}]
["03071","NH","NEWE",{"$f":"VLOOKUP(C1109,EMISSION_FACTORS!$A$7:$F$33,6,0)","v":540.48}]
["03073","NH","NEWE",{"$f":"VLOOKUP(C1110,EMISSION_FACTORS!$A$7:$F$33,6,0)","v":540.48}]
["03076","NH","NEWE",{"$f":"VLOOKUP(C1111,EMISSION_FACTORS!$A$7:$F$33,6,0)","v":540.48}]
["03077","NH","NEWE",{"$f":"VLOOKUP(C1112,EMISSION_FACTORS!$A$7:$F$33,6,0)","v":540.48}]
["03079","NH","NEWE",{"$f":"VLOOKUP(C1113,EMISSION_FACTORS!$A$7:$F$33,6,0)","v":540.48}]
["03082","NH","NEWE",{"$f":"VLOOKUP(C1114,EMISSION_FACTORS!$A$7:$F$33,6,0)","v":540.48}]
["03084","NH","NEWE",{"$f":"VLOOKUP(C1115,EMISSION_FACTORS!$A$7:$F$33,6,0)","v":540.48}]
["03086","NH","NEWE",{"$f":"VLOOKUP(C1116,EMISSION_FACTORS!$A$7:$F$33,6,0)","v":540.48}]
["03087","NH","NEWE",{"$f":"VLOOKUP(C1117,EMISSION_FACTORS!$A$7:$F$33,6,0)","v":540.48}]
["03101","NH","NEWE",{"$f":"VLOOKUP(C1118,EMISSION_FACTORS!$A$7:$F$33,6,0)","v":540.48}]
["03102","NH","NEWE",{"$f":"VLOOKUP(C1119,EMISSION_FACTORS!$A$7:$F$33,6,0)","v":540.48}]
["03103","NH","NEWE",{"$f":"VLOOKUP(C1120,EMISSION_FACTORS!$A$7:$F$33,6,0)","v":540.48}]
["03104","NH","NEWE",{"$f":"VLOOKUP(C1121,EMISSION_FACTORS!$A$7:$F$33,6,0)","v":540.48}]
["03105","NH","NEWE",{"$f":"VLOOKUP(C1122,EMISSION_FACTORS!$A$7:$F$33,6,0)","v":540.48}]
["03106","NH","NEWE",{"$f":"VLOOKUP(C1123,EMISSION_FACTORS!$A$7:$F$33,6,0)","v":540.48}]
["03107","NH","NEWE",{"$f":"VLOOKUP(C1124,EMISSION_FACTORS!$A$7:$F$33,6,0)","v":540.48}]
["03108","NH","NEWE",{"$f":"VLOOKUP(C1125,EMISSION_FACTORS!$A$7:$F$33,6,0)","v":540.48}]
["03109","NH","NEWE",{"$f":"VLOOKUP(C1126,EMISSION_FACTORS!$A$7:$F$33,6,0)","v":540.48}]
["03110","NH","NEWE",{"$f":"VLOOKUP(C1127,EMISSION_FACTORS!$A$7:$F$33,6,0)","v":540.48}]
["03111","NH","NEWE",{"$f":"VLOOKUP(C1128,EMISSION_FACTORS!$A$7:$F$33,6,0)","v":540.48}]
["03215","NH","NEWE",{"$f":"VLOOKUP(C1129,EMISSION_FACTORS!$A$7:$F$33,6,0)","v":540.48}]
["03216","NH","NEWE",{"$f":"VLOOKUP(C1130,EMISSION_FACTORS!$A$7:$F$33,6,0)","v":540.48}]
["03217","NH","NEWE",{"$f":"VLOOKUP(C1131,EMISSION_FACTORS!$A$7:$F$33,6,0)","v":540.48}]
["03218","NH","NEWE",{"$f":"VLOOKUP(C1132,EMISSION_FACTORS!$A$7:$F$33,6,0)","v":540.48}]
["03220","NH","NEWE",{"$f":"VLOOKUP(C1133,EMISSION_FACTORS!$A$7:$F$33,6,0)","v":540.48}]
["03221","NH","NEWE",{"$f":"VLOOKUP(C1134,EMISSION_FACTORS!$A$7:$F$33,6,0)","v":540.48}]
["03222","NH","NEWE",{"$f":"VLOOKUP(C1135,EMISSION_FACTORS!$A$7:$F$33,6,0)","v":540.48}]
["03223","NH","NEWE",{"$f":"VLOOKUP(C1136,EMISSION_FACTORS!$A$7:$F$33,6,0)","v":540.48}]
["03224","NH","NEWE",{"$f":"VLOOKUP(C1137,EMISSION_FACTORS!$A$7:$F$33,6,0)","v":540.48}]
["03225","NH","NEWE",{"$f":"VLOOKUP(C1138,EMISSION_FACTORS!$A$7:$F$33,6,0)","v":540.48}]
["03226","NH","NEWE",{"$f":"VLOOKUP(C1139,EMISSION_FACTORS!$A$7:$F$33,6,0)","v":540.48}]
["03227","NH","NEWE",{"$f":"VLOOKUP(C1140,EMISSION_FACTORS!$A$7:$F$33,6,0)","v":540.48}]
["03229","NH","NEWE",{"$f":"VLOOKUP(C1141,EMISSION_FACTORS!$A$7:$F$33,6,0)","v":540.48}]
["03230","NH","NEWE",{"$f":"VLOOKUP(C1142,EMISSION_FACTORS!$A$7:$F$33,6,0)","v":540.48}]
["03231","NH","NEWE",{"$f":"VLOOKUP(C1143,EMISSION_FACTORS!$A$7:$F$33,6,0)","v":540.48}]
["03233","NH","NEWE",{"$f":"VLOOKUP(C1144,EMISSION_FACTORS!$A$7:$F$33,6,0)","v":540.48}]
["03234","NH","NEWE",{"$f":"VLOOKUP(C1145,EMISSION_FACTORS!$A$7:$F$33,6,0)","v":540.48}]
["03235","NH","NEWE",{"$f":"VLOOKUP(C1146,EMISSION_FACTORS!$A$7:$F$33,6,0)","v":540.48}]
["03237","NH","NEWE",{"$f":"VLOOKUP(C1147,EMISSION_FACTORS!$A$7:$F$33,6,0)","v":540.48}]
["03238","NH","NEWE",{"$f":"VLOOKUP(C1148,EMISSION_FACTORS!$A$7:$F$33,6,0)","v":540.48}]
["03240","NH","NEWE",{"$f":"VLOOKUP(C1149,EMISSION_FACTORS!$A$7:$F$33,6,0)","v":540.48}]
["03241","NH","NEWE",{"$f":"VLOOKUP(C1150,EMISSION_FACTORS!$A$7:$F$33,6,0)","v":540.48}]
["03242","NH","NEWE",{"$f":"VLOOKUP(C1151,EMISSION_FACTORS!$A$7:$F$33,6,0)","v":540.48}]
["03243","NH","NEWE",{"$f":"VLOOKUP(C1152,EMISSION_FACTORS!$A$7:$F$33,6,0)","v":540.48}]
["03244","NH","NEWE",{"$f":"VLOOKUP(C1153,EMISSION_FACTORS!$A$7:$F$33,6,0)","v":540.48}]
["03245","NH","NEWE",{"$f":"VLOOKUP(C1154,EMISSION_FACTORS!$A$7:$F$33,6,0)","v":540.48}]
["03246","NH","NEWE",{"$f":"VLOOKUP(C1155,EMISSION_FACTORS!$A$7:$F$33,6,0)","v":540.48}]
["03247","NH","NEWE",{"$f":"VLOOKUP(C1156,EMISSION_FACTORS!$A$7:$F$33,6,0)","v":540.48}]
["03249","NH","NEWE",{"$f":"VLOOKUP(C1157,EMISSION_FACTORS!$A$7:$F$33,6,0)","v":540.48}]
["03251","NH","NEWE",{"$f":"VLOOKUP(C1158,EMISSION_FACTORS!$A$7:$F$33,6,0)","v":540.48}]
["03252","NH","NEWE",{"$f":"VLOOKUP(C1159,EMISSION_FACTORS!$A$7:$F$33,6,0)","v":540.48}]
["03253","NH","NEWE",{"$f":"VLOOKUP(C1160,EMISSION_FACTORS!$A$7:$F$33,6,0)","v":540.48}]
["03254","NH","NEWE",{"$f":"VLOOKUP(C1161,EMISSION_FACTORS!$A$7:$F$33,6,0)","v":540.48}]
["03255","NH","NEWE",{"$f":"VLOOKUP(C1162,EMISSION_FACTORS!$A$7:$F$33,6,0)","v":540.48}]
["03256","NH","NEWE",{"$f":"VLOOKUP(C1163,EMISSION_FACTORS!$A$7:$F$33,6,0)","v":540.48}]
["03257","NH","NEWE",{"$f":"VLOOKUP(C1164,EMISSION_FACTORS!$A$7:$F$33,6,0)","v":540.48}]
["03258","NH","NEWE",{"$f":"VLOOKUP(C1165,EMISSION_FACTORS!$A$7:$F$33,6,0)","v":540.48}]
["03259","NH","NEWE",{"$f":"VLOOKUP(C1166,EMISSION_FACTORS!$A$7:$F$33,6,0)","v":540.48}]
["03260","NH","NEWE",{"$f":"VLOOKUP(C1167,EMISSION_FACTORS!$A$7:$F$33,6,0)","v":540.48}]
["03261","NH","NEWE",{"$f":"VLOOKUP(C1168,EMISSION_FACTORS!$A$7:$F$33,6,0)","v":540.48}]
["03262","NH","NEWE",{"$f":"VLOOKUP(C1169,EMISSION_FACTORS!$A$7:$F$33,6,0)","v":540.48}]
["03263","NH","NEWE",{"$f":"VLOOKUP(C1170,EMISSION_FACTORS!$A$7:$F$33,6,0)","v":540.48}]
["03264","NH","NEWE",{"$f":"VLOOKUP(C1171,EMISSION_FACTORS!$A$7:$F$33,6,0)","v":540.48}]
["03266","NH","NEWE",{"$f":"VLOOKUP(C1172,EMISSION_FACTORS!$A$7:$F$33,6,0)","v":540.48}]
["03268","NH","NEWE",{"$f":"VLOOKUP(C1173,EMISSION_FACTORS!$A$7:$F$33,6,0)","v":540.48}]
["03269","NH","NEWE",{"$f":"VLOOKUP(C1174,EMISSION_FACTORS!$A$7:$F$33,6,0)","v":540.48}]
["03272","NH","NEWE",{"$f":"VLOOKUP(C1175,EMISSION_FACTORS!$A$7:$F$33,6,0)","v":540.48}]
["03273","NH","NEWE",{"$f":"VLOOKUP(C1176,EMISSION_FACTORS!$A$7:$F$33,6,0)","v":540.48}]
["03274","NH","NEWE",{"$f":"VLOOKUP(C1177,EMISSION_FACTORS!$A$7:$F$33,6,0)","v":540.48}]
["03275","NH","NEWE",{"$f":"VLOOKUP(C1178,EMISSION_FACTORS!$A$7:$F$33,6,0)","v":540.48}]
["03276","NH","NEWE",{"$f":"VLOOKUP(C1179,EMISSION_FACTORS!$A$7:$F$33,6,0)","v":540.48}]
["03278","NH","NEWE",{"$f":"VLOOKUP(C1180,EMISSION_FACTORS!$A$7:$F$33,6,0)","v":540.48}]
["03279","NH","NEWE",{"$f":"VLOOKUP(C1181,EMISSION_FACTORS!$A$7:$F$33,6,0)","v":540.48}]
["03280","NH","NEWE",{"$f":"VLOOKUP(C1182,EMISSION_FACTORS!$A$7:$F$33,6,0)","v":540.48}]
["03281","NH","NEWE",{"$f":"VLOOKUP(C1183,EMISSION_FACTORS!$A$7:$F$33,6,0)","v":540.48}]
["03282","NH","NEWE",{"$f":"VLOOKUP(C1184,EMISSION_FACTORS!$A$7:$F$33,6,0)","v":540.48}]
["03284","NH","NEWE",{"$f":"VLOOKUP(C1185,EMISSION_FACTORS!$A$7:$F$33,6,0)","v":540.48}]
["03285","NH","NEWE",{"$f":"VLOOKUP(C1186,EMISSION_FACTORS!$A$7:$F$33,6,0)","v":540.48}]
["03287","NH","NEWE",{"$f":"VLOOKUP(C1187,EMISSION_FACTORS!$A$7:$F$33,6,0)","v":540.48}]
["03289","NH","NEWE",{"$f":"VLOOKUP(C1188,EMISSION_FACTORS!$A$7:$F$33,6,0)","v":540.48}]
["03290","NH","NEWE",{"$f":"VLOOKUP(C1189,EMISSION_FACTORS!$A$7:$F$33,6,0)","v":540.48}]
["03291","NH","NEWE",{"$f":"VLOOKUP(C1190,EMISSION_FACTORS!$A$7:$F$33,6,0)","v":540.48}]
["03293","NH","NEWE",{"$f":"VLOOKUP(C1191,EMISSION_FACTORS!$A$7:$F$33,6,0)","v":540.48}]
["03298","NH","NEWE",{"$f":"VLOOKUP(C1192,EMISSION_FACTORS!$A$7:$F$33,6,0)","v":540.48}]
["03299","NH","NEWE",{"$f":"VLOOKUP(C1193,EMISSION_FACTORS!$A$7:$F$33,6,0)","v":540.48}]
["03301","NH","NEWE",{"$f":"VLOOKUP(C1194,EMISSION_FACTORS!$A$7:$F$33,6,0)","v":540.48}]
["03302","NH","NEWE",{"$f":"VLOOKUP(C1195,EMISSION_FACTORS!$A$7:$F$33,6,0)","v":540.48}]
["03303","NH","NEWE",{"$f":"VLOOKUP(C1196,EMISSION_FACTORS!$A$7:$F$33,6,0)","v":540.48}]
["03304","NH","NEWE",{"$f":"VLOOKUP(C1197,EMISSION_FACTORS!$A$7:$F$33,6,0)","v":540.48}]
["03305","NH","NEWE",{"$f":"VLOOKUP(C1198,EMISSION_FACTORS!$A$7:$F$33,6,0)","v":540.48}]
["03307","NH","NEWE",{"$f":"VLOOKUP(C1199,EMISSION_FACTORS!$A$7:$F$33,6,0)","v":540.48}]
["03431","NH","NEWE",{"$f":"VLOOKUP(C1200,EMISSION_FACTORS!$A$7:$F$33,6,0)","v":540.48}]
["03435","NH","NEWE",{"$f":"VLOOKUP(C1201,EMISSION_FACTORS!$A$7:$F$33,6,0)","v":540.48}]
["03440","NH","NEWE",{"$f":"VLOOKUP(C1202,EMISSION_FACTORS!$A$7:$F$33,6,0)","v":540.48}]
["03441","NH","NEWE",{"$f":"VLOOKUP(C1203,EMISSION_FACTORS!$A$7:$F$33,6,0)","v":540.48}]
["03442","NH","NEWE",{"$f":"VLOOKUP(C1204,EMISSION_FACTORS!$A$7:$F$33,6,0)","v":540.48}]
["03443","NH","NEWE",{"$f":"VLOOKUP(C1205,EMISSION_FACTORS!$A$7:$F$33,6,0)","v":540.48}]
["03444","NH","NEWE",{"$f":"VLOOKUP(C1206,EMISSION_FACTORS!$A$7:$F$33,6,0)","v":540.48}]
["03445","NH","NEWE",{"$f":"VLOOKUP(C1207,EMISSION_FACTORS!$A$7:$F$33,6,0)","v":540.48}]
["03446","NH","NEWE",{"$f":"VLOOKUP(C1208,EMISSION_FACTORS!$A$7:$F$33,6,0)","v":540.48}]
["03447","NH","NEWE",{"$f":"VLOOKUP(C1209,EMISSION_FACTORS!$A$7:$F$33,6,0)","v":540.48}]
["03448","NH","NEWE",{"$f":"VLOOKUP(C1210,EMISSION_FACTORS!$A$7:$F$33,6,0)","v":540.48}]
["03449","NH","NEWE",{"$f":"VLOOKUP(C1211,EMISSION_FACTORS!$A$7:$F$33,6,0)","v":540.48}]
["03450","NH","NEWE",{"$f":"VLOOKUP(C1212,EMISSION_FACTORS!$A$7:$F$33,6,0)","v":540.48}]
["03451","NH","NEWE",{"$f":"VLOOKUP(C1213,EMISSION_FACTORS!$A$7:$F$33,6,0)","v":540.48}]
["03452","NH","NEWE",{"$f":"VLOOKUP(C1214,EMISSION_FACTORS!$A$7:$F$33,6,0)","v":540.48}]
["03455","NH","NEWE",{"$f":"VLOOKUP(C1215,EMISSION_FACTORS!$A$7:$F$33,6,0)","v":540.48}]
["03456","NH","NEWE",{"$f":"VLOOKUP(C1216,EMISSION_FACTORS!$A$7:$F$33,6,0)","v":540.48}]
["03457","NH","NEWE",{"$f":"VLOOKUP(C1217,EMISSION_FACTORS!$A$7:$F$33,6,0)","v":540.48}]
["03458","NH","NEWE",{"$f":"VLOOKUP(C1218,EMISSION_FACTORS!$A$7:$F$33,6,0)","v":540.48}]
["03461","NH","NEWE",{"$f":"VLOOKUP(C1219,EMISSION_FACTORS!$A$7:$F$33,6,0)","v":540.48}]
["03462","NH","NEWE",{"$f":"VLOOKUP(C1220,EMISSION_FACTORS!$A$7:$F$33,6,0)","v":540.48}]
["03464","NH","NEWE",{"$f":"VLOOKUP(C1221,EMISSION_FACTORS!$A$7:$F$33,6,0)","v":540.48}]
["03465","NH","NEWE",{"$f":"VLOOKUP(C1222,EMISSION_FACTORS!$A$7:$F$33,6,0)","v":540.48}]
["03466","NH","NEWE",{"$f":"VLOOKUP(C1223,EMISSION_FACTORS!$A$7:$F$33,6,0)","v":540.48}]
["03467","NH","NEWE",{"$f":"VLOOKUP(C1224,EMISSION_FACTORS!$A$7:$F$33,6,0)","v":540.48}]
["03468","NH","NEWE",{"$f":"VLOOKUP(C1225,EMISSION_FACTORS!$A$7:$F$33,6,0)","v":540.48}]
["03469","NH","NEWE",{"$f":"VLOOKUP(C1226,EMISSION_FACTORS!$A$7:$F$33,6,0)","v":540.48}]
["03470","NH","NEWE",{"$f":"VLOOKUP(C1227,EMISSION_FACTORS!$A$7:$F$33,6,0)","v":540.48}]
["03561","NH","NEWE",{"$f":"VLOOKUP(C1228,EMISSION_FACTORS!$A$7:$F$33,6,0)","v":540.48}]
["03570","NH","NEWE",{"$f":"VLOOKUP(C1229,EMISSION_FACTORS!$A$7:$F$33,6,0)","v":540.48}]
["03574","NH","NEWE",{"$f":"VLOOKUP(C1230,EMISSION_FACTORS!$A$7:$F$33,6,0)","v":540.48}]
["03575","NH","NEWE",{"$f":"VLOOKUP(C1231,EMISSION_FACTORS!$A$7:$F$33,6,0)","v":540.48}]
["03576","NH","NEWE",{"$f":"VLOOKUP(C1232,EMISSION_FACTORS!$A$7:$F$33,6,0)","v":540.48}]
["03579","ME","NEWE",{"$f":"VLOOKUP(C1233,EMISSION_FACTORS!$A$7:$F$33,6,0)","v":540.48}]
["03580","NH","NEWE",{"$f":"VLOOKUP(C1234,EMISSION_FACTORS!$A$7:$F$33,6,0)","v":540.48}]
["03581","NH","NEWE",{"$f":"VLOOKUP(C1235,EMISSION_FACTORS!$A$7:$F$33,6,0)","v":540.48}]
["03582","NH","NEWE",{"$f":"VLOOKUP(C1236,EMISSION_FACTORS!$A$7:$F$33,6,0)","v":540.48}]
["03583","NH","NEWE",{"$f":"VLOOKUP(C1237,EMISSION_FACTORS!$A$7:$F$33,6,0)","v":540.48}]
["03584","NH","NEWE",{"$f":"VLOOKUP(C1238,EMISSION_FACTORS!$A$7:$F$33,6,0)","v":540.48}]
["03585","NH","NEWE",{"$f":"VLOOKUP(C1239,EMISSION_FACTORS!$A$7:$F$33,6,0)","v":540.48}]
["03586","NH","NEWE",{"$f":"VLOOKUP(C1240,EMISSION_FACTORS!$A$7:$F$33,6,0)","v":540.48}]
["03588","NH","NEWE",{"$f":"VLOOKUP(C1241,EMISSION_FACTORS!$A$7:$F$33,6,0)","v":540.48}]
["03589","NH","NEWE",{"$f":"VLOOKUP(C1242,EMISSION_FACTORS!$A$7:$F$33,6,0)","v":540.48}]
["03590","NH","NEWE",{"$f":"VLOOKUP(C1243,EMISSION_FACTORS!$A$7:$F$33,6,0)","v":540.48}]
["03592","NH","NEWE",{"$f":"VLOOKUP(C1244,EMISSION_FACTORS!$A$7:$F$33,6,0)","v":540.48}]
["03593","NH","NEWE",{"$f":"VLOOKUP(C1245,EMISSION_FACTORS!$A$7:$F$33,6,0)","v":540.48}]
["03595","NH","NEWE",{"$f":"VLOOKUP(C1246,EMISSION_FACTORS!$A$7:$F$33,6,0)","v":540.48}]
["03597","NH","NEWE",{"$f":"VLOOKUP(C1247,EMISSION_FACTORS!$A$7:$F$33,6,0)","v":540.48}]
["03598","NH","NEWE",{"$f":"VLOOKUP(C1248,EMISSION_FACTORS!$A$7:$F$33,6,0)","v":540.48}]
["03601","NH","NEWE",{"$f":"VLOOKUP(C1249,EMISSION_FACTORS!$A$7:$F$33,6,0)","v":540.48}]
["03602","NH","NEWE",{"$f":"VLOOKUP(C1250,EMISSION_FACTORS!$A$7:$F$33,6,0)","v":540.48}]
["03603","NH","NEWE",{"$f":"VLOOKUP(C1251,EMISSION_FACTORS!$A$7:$F$33,6,0)","v":540.48}]
["03604","NH","NEWE",{"$f":"VLOOKUP(C1252,EMISSION_FACTORS!$A$7:$F$33,6,0)","v":540.48}]
["03605","NH","NEWE",{"$f":"VLOOKUP(C1253,EMISSION_FACTORS!$A$7:$F$33,6,0)","v":540.48}]
["03607","NH","NEWE",{"$f":"VLOOKUP(C1254,EMISSION_FACTORS!$A$7:$F$33,6,0)","v":540.48}]
["03608","NH","NEWE",{"$f":"VLOOKUP(C1255,EMISSION_FACTORS!$A$7:$F$33,6,0)","v":540.48}]
["03609","NH","NEWE",{"$f":"VLOOKUP(C1256,EMISSION_FACTORS!$A$7:$F$33,6,0)","v":540.48}]
["03740","NH","NEWE",{"$f":"VLOOKUP(C1257,EMISSION_FACTORS!$A$7:$F$33,6,0)","v":540.48}]
["03741","NH","NEWE",{"$f":"VLOOKUP(C1258,EMISSION_FACTORS!$A$7:$F$33,6,0)","v":540.48}]
["03743","NH","NEWE",{"$f":"VLOOKUP(C1259,EMISSION_FACTORS!$A$7:$F$33,6,0)","v":540.48}]
["03745","NH","NEWE",{"$f":"VLOOKUP(C1260,EMISSION_FACTORS!$A$7:$F$33,6,0)","v":540.48}]
["03746","NH","NEWE",{"$f":"VLOOKUP(C1261,EMISSION_FACTORS!$A$7:$F$33,6,0)","v":540.48}]
["03748","NH","NEWE",{"$f":"VLOOKUP(C1262,EMISSION_FACTORS!$A$7:$F$33,6,0)","v":540.48}]
["03749","NH","NEWE",{"$f":"VLOOKUP(C1263,EMISSION_FACTORS!$A$7:$F$33,6,0)","v":540.48}]
["03750","NH","NEWE",{"$f":"VLOOKUP(C1264,EMISSION_FACTORS!$A$7:$F$33,6,0)","v":540.48}]
["03751","NH","NEWE",{"$f":"VLOOKUP(C1265,EMISSION_FACTORS!$A$7:$F$33,6,0)","v":540.48}]
["03752","NH","NEWE",{"$f":"VLOOKUP(C1266,EMISSION_FACTORS!$A$7:$F$33,6,0)","v":540.48}]
["03753","NH","NEWE",{"$f":"VLOOKUP(C1267,EMISSION_FACTORS!$A$7:$F$33,6,0)","v":540.48}]
["03754","NH","NEWE",{"$f":"VLOOKUP(C1268,EMISSION_FACTORS!$A$7:$F$33,6,0)","v":540.48}]
["03755","NH","NEWE",{"$f":"VLOOKUP(C1269,EMISSION_FACTORS!$A$7:$F$33,6,0)","v":540.48}]
["03756","NH","NEWE",{"$f":"VLOOKUP(C1270,EMISSION_FACTORS!$A$7:$F$33,6,0)","v":540.48}]
["03765","NH","NEWE",{"$f":"VLOOKUP(C1271,EMISSION_FACTORS!$A$7:$F$33,6,0)","v":540.48}]
["03766","NH","NEWE",{"$f":"VLOOKUP(C1272,EMISSION_FACTORS!$A$7:$F$33,6,0)","v":540.48}]
["03768","NH","NEWE",{"$f":"VLOOKUP(C1273,EMISSION_FACTORS!$A$7:$F$33,6,0)","v":540.48}]
["03769","NH","NEWE",{"$f":"VLOOKUP(C1274,EMISSION_FACTORS!$A$7:$F$33,6,0)","v":540.48}]
["03770","NH","NEWE",{"$f":"VLOOKUP(C1275,EMISSION_FACTORS!$A$7:$F$33,6,0)","v":540.48}]
["03771","NH","NEWE",{"$f":"VLOOKUP(C1276,EMISSION_FACTORS!$A$7:$F$33,6,0)","v":540.48}]
["03773","NH","NEWE",{"$f":"VLOOKUP(C1277,EMISSION_FACTORS!$A$7:$F$33,6,0)","v":540.48}]
["03774","NH","NEWE",{"$f":"VLOOKUP(C1278,EMISSION_FACTORS!$A$7:$F$33,6,0)","v":540.48}]
["03777","NH","NEWE",{"$f":"VLOOKUP(C1279,EMISSION_FACTORS!$A$7:$F$33,6,0)","v":540.48}]
["03779","NH","NEWE",{"$f":"VLOOKUP(C1280,EMISSION_FACTORS!$A$7:$F$33,6,0)","v":540.48}]
["03780","NH","NEWE",{"$f":"VLOOKUP(C1281,EMISSION_FACTORS!$A$7:$F$33,6,0)","v":540.48}]
["03781","NH","NEWE",{"$f":"VLOOKUP(C1282,EMISSION_FACTORS!$A$7:$F$33,6,0)","v":540.48}]
["03782","NH","NEWE",{"$f":"VLOOKUP(C1283,EMISSION_FACTORS!$A$7:$F$33,6,0)","v":540.48}]
["03784","NH","NEWE",{"$f":"VLOOKUP(C1284,EMISSION_FACTORS!$A$7:$F$33,6,0)","v":540.48}]
["03785","NH","NEWE",{"$f":"VLOOKUP(C1285,EMISSION_FACTORS!$A$7:$F$33,6,0)","v":540.48}]
["03801","NH","NEWE",{"$f":"VLOOKUP(C1286,EMISSION_FACTORS!$A$7:$F$33,6,0)","v":540.48}]
["03802","NH","NEWE",{"$f":"VLOOKUP(C1287,EMISSION_FACTORS!$A$7:$F$33,6,0)","v":540.48}]
["03803","NH","NEWE",{"$f":"VLOOKUP(C1288,EMISSION_FACTORS!$A$7:$F$33,6,0)","v":540.48}]
["03804","NH","NEWE",{"$f":"VLOOKUP(C1289,EMISSION_FACTORS!$A$7:$F$33,6,0)","v":540.48}]
["03805","NH","NEWE",{"$f":"VLOOKUP(C1290,EMISSION_FACTORS!$A$7:$F$33,6,0)","v":540.48}]
["03809","NH","NEWE",{"$f":"VLOOKUP(C1291,EMISSION_FACTORS!$A$7:$F$33,6,0)","v":540.48}]
["03810","NH","NEWE",{"$f":"VLOOKUP(C1292,EMISSION_FACTORS!$A$7:$F$33,6,0)","v":540.48}]
["03811","NH","NEWE",{"$f":"VLOOKUP(C1293,EMISSION_FACTORS!$A$7:$F$33,6,0)","v":540.48}]
["03812","NH","NEWE",{"$f":"VLOOKUP(C1294,EMISSION_FACTORS!$A$7:$F$33,6,0)","v":540.48}]
["03813","NH","NEWE",{"$f":"VLOOKUP(C1295,EMISSION_FACTORS!$A$7:$F$33,6,0)","v":540.48}]
["03814","NH","NEWE",{"$f":"VLOOKUP(C1296,EMISSION_FACTORS!$A$7:$F$33,6,0)","v":540.48}]
["03815","NH","NEWE",{"$f":"VLOOKUP(C1297,EMISSION_FACTORS!$A$7:$F$33,6,0)","v":540.48}]
["03816","NH","NEWE",{"$f":"VLOOKUP(C1298,EMISSION_FACTORS!$A$7:$F$33,6,0)","v":540.48}]
["03817","NH","NEWE",{"$f":"VLOOKUP(C1299,EMISSION_FACTORS!$A$7:$F$33,6,0)","v":540.48}]
["03818","NH","NEWE",{"$f":"VLOOKUP(C1300,EMISSION_FACTORS!$A$7:$F$33,6,0)","v":540.48}]
["03819","NH","NEWE",{"$f":"VLOOKUP(C1301,EMISSION_FACTORS!$A$7:$F$33,6,0)","v":540.48}]
["03820","NH","NEWE",{"$f":"VLOOKUP(C1302,EMISSION_FACTORS!$A$7:$F$33,6,0)","v":540.48}]
["03821","NH","NEWE",{"$f":"VLOOKUP(C1303,EMISSION_FACTORS!$A$7:$F$33,6,0)","v":540.48}]
["03822","NH","NEWE",{"$f":"VLOOKUP(C1304,EMISSION_FACTORS!$A$7:$F$33,6,0)","v":540.48}]
["03823","NH","NEWE",{"$f":"VLOOKUP(C1305,EMISSION_FACTORS!$A$7:$F$33,6,0)","v":540.48}]
["03824","NH","NEWE",{"$f":"VLOOKUP(C1306,EMISSION_FACTORS!$A$7:$F$33,6,0)","v":540.48}]
["03825","NH","NEWE",{"$f":"VLOOKUP(C1307,EMISSION_FACTORS!$A$7:$F$33,6,0)","v":540.48}]
["03826","NH","NEWE",{"$f":"VLOOKUP(C1308,EMISSION_FACTORS!$A$7:$F$33,6,0)","v":540.48}]
["03827","NH","NEWE",{"$f":"VLOOKUP(C1309,EMISSION_FACTORS!$A$7:$F$33,6,0)","v":540.48}]
["03830","NH","NEWE",{"$f":"VLOOKUP(C1310,EMISSION_FACTORS!$A$7:$F$33,6,0)","v":540.48}]
["03832","NH","NEWE",{"$f":"VLOOKUP(C1311,EMISSION_FACTORS!$A$7:$F$33,6,0)","v":540.48}]
["03833","NH","NEWE",{"$f":"VLOOKUP(C1312,EMISSION_FACTORS!$A$7:$F$33,6,0)","v":540.48}]
["03835","NH","NEWE",{"$f":"VLOOKUP(C1313,EMISSION_FACTORS!$A$7:$F$33,6,0)","v":540.48}]
["03836","NH","NEWE",{"$f":"VLOOKUP(C1314,EMISSION_FACTORS!$A$7:$F$33,6,0)","v":540.48}]
["03837","NH","NEWE",{"$f":"VLOOKUP(C1315,EMISSION_FACTORS!$A$7:$F$33,6,0)","v":540.48}]
["03838","NH","NEWE",{"$f":"VLOOKUP(C1316,EMISSION_FACTORS!$A$7:$F$33,6,0)","v":540.48}]
["03839","NH","NEWE",{"$f":"VLOOKUP(C1317,EMISSION_FACTORS!$A$7:$F$33,6,0)","v":540.48}]
["03840","NH","NEWE",{"$f":"VLOOKUP(C1318,EMISSION_FACTORS!$A$7:$F$33,6,0)","v":540.48}]
["03841","NH","NEWE",{"$f":"VLOOKUP(C1319,EMISSION_FACTORS!$A$7:$F$33,6,0)","v":540.48}]
["03842","NH","NEWE",{"$f":"VLOOKUP(C1320,EMISSION_FACTORS!$A$7:$F$33,6,0)","v":540.48}]
["03843","NH","NEWE",{"$f":"VLOOKUP(C1321,EMISSION_FACTORS!$A$7:$F$33,6,0)","v":540.48}]
["03844","NH","NEWE",{"$f":"VLOOKUP(C1322,EMISSION_FACTORS!$A$7:$F$33,6,0)","v":540.48}]
["03845","NH","NEWE",{"$f":"VLOOKUP(C1323,EMISSION_FACTORS!$A$7:$F$33,6,0)","v":540.48}]
["03846","NH","NEWE",{"$f":"VLOOKUP(C1324,EMISSION_FACTORS!$A$7:$F$33,6,0)","v":540.48}]
["03847","NH","NEWE",{"$f":"VLOOKUP(C1325,EMISSION_FACTORS!$A$7:$F$33,6,0)","v":540.48}]
["03848","NH","NEWE",{"$f":"VLOOKUP(C1326,EMISSION_FACTORS!$A$7:$F$33,6,0)","v":540.48}]
["03849","NH","NEWE",{"$f":"VLOOKUP(C1327,EMISSION_FACTORS!$A$7:$F$33,6,0)","v":540.48}]
["03850","NH","NEWE",{"$f":"VLOOKUP(C1328,EMISSION_FACTORS!$A$7:$F$33,6,0)","v":540.48}]
["03851","NH","NEWE",{"$f":"VLOOKUP(C1329,EMISSION_FACTORS!$A$7:$F$33,6,0)","v":540.48}]
["03852","NH","NEWE",{"$f":"VLOOKUP(C1330,EMISSION_FACTORS!$A$7:$F$33,6,0)","v":540.48}]
["03853","NH","NEWE",{"$f":"VLOOKUP(C1331,EMISSION_FACTORS!$A$7:$F$33,6,0)","v":540.48}]
["03854","NH","NEWE",{"$f":"VLOOKUP(C1332,EMISSION_FACTORS!$A$7:$F$33,6,0)","v":540.48}]
["03855","NH","NEWE",{"$f":"VLOOKUP(C1333,EMISSION_FACTORS!$A$7:$F$33,6,0)","v":540.48}]
["03856","NH","NEWE",{"$f":"VLOOKUP(C1334,EMISSION_FACTORS!$A$7:$F$33,6,0)","v":540.48}]
["03857","NH","NEWE",{"$f":"VLOOKUP(C1335,EMISSION_FACTORS!$A$7:$F$33,6,0)","v":540.48}]
["03858","NH","NEWE",{"$f":"VLOOKUP(C1336,EMISSION_FACTORS!$A$7:$F$33,6,0)","v":540.48}]
["03859","NH","NEWE",{"$f":"VLOOKUP(C1337,EMISSION_FACTORS!$A$7:$F$33,6,0)","v":540.48}]
["03860","NH","NEWE",{"$f":"VLOOKUP(C1338,EMISSION_FACTORS!$A$7:$F$33,6,0)","v":540.48}]
["03861","NH","NEWE",{"$f":"VLOOKUP(C1339,EMISSION_FACTORS!$A$7:$F$33,6,0)","v":540.48}]
["03862","NH","NEWE",{"$f":"VLOOKUP(C1340,EMISSION_FACTORS!$A$7:$F$33,6,0)","v":540.48}]
["03864","NH","NEWE",{"$f":"VLOOKUP(C1341,EMISSION_FACTORS!$A$7:$F$33,6,0)","v":540.48}]
["03865","NH","NEWE",{"$f":"VLOOKUP(C1342,EMISSION_FACTORS!$A$7:$F$33,6,0)","v":540.48}]
["03866","NH","NEWE",{"$f":"VLOOKUP(C1343,EMISSION_FACTORS!$A$7:$F$33,6,0)","v":540.48}]
["03867","NH","NEWE",{"$f":"VLOOKUP(C1344,EMISSION_FACTORS!$A$7:$F$33,6,0)","v":540.48}]
["03868","NH","NEWE",{"$f":"VLOOKUP(C1345,EMISSION_FACTORS!$A$7:$F$33,6,0)","v":540.48}]
["03869","NH","NEWE",{"$f":"VLOOKUP(C1346,EMISSION_FACTORS!$A$7:$F$33,6,0)","v":540.48}]
["03870","NH","NEWE",{"$f":"VLOOKUP(C1347,EMISSION_FACTORS!$A$7:$F$33,6,0)","v":540.48}]
["03871","NH","NEWE",{"$f":"VLOOKUP(C1348,EMISSION_FACTORS!$A$7:$F$33,6,0)","v":540.48}]
["03872","NH","NEWE",{"$f":"VLOOKUP(C1349,EMISSION_FACTORS!$A$7:$F$33,6,0)","v":540.48}]
["03873","NH","NEWE",{"$f":"VLOOKUP(C1350,EMISSION_FACTORS!$A$7:$F$33,6,0)","v":540.48}]
["03874","NH","NEWE",{"$f":"VLOOKUP(C1351,EMISSION_FACTORS!$A$7:$F$33,6,0)","v":540.48}]
["03875","NH","NEWE",{"$f":"VLOOKUP(C1352,EMISSION_FACTORS!$A$7:$F$33,6,0)","v":540.48}]
["03878","NH","NEWE",{"$f":"VLOOKUP(C1353,EMISSION_FACTORS!$A$7:$F$33,6,0)","v":540.48}]
["03882","NH","NEWE",{"$f":"VLOOKUP(C1354,EMISSION_FACTORS!$A$7:$F$33,6,0)","v":540.48}]
["03883","NH","NEWE",{"$f":"VLOOKUP(C1355,EMISSION_FACTORS!$A$7:$F$33,6,0)","v":540.48}]
["03884","NH","NEWE",{"$f":"VLOOKUP(C1356,EMISSION_FACTORS!$A$7:$F$33,6,0)","v":540.48}]
["03885","NH","NEWE",{"$f":"VLOOKUP(C1357,EMISSION_FACTORS!$A$7:$F$33,6,0)","v":540.48}]
["03886","NH","NEWE",{"$f":"VLOOKUP(C1358,EMISSION_FACTORS!$A$7:$F$33,6,0)","v":540.48}]
["03887","NH","NEWE",{"$f":"VLOOKUP(C1359,EMISSION_FACTORS!$A$7:$F$33,6,0)","v":540.48}]
["03890","NH","NEWE",{"$f":"VLOOKUP(C1360,EMISSION_FACTORS!$A$7:$F$33,6,0)","v":540.48}]
["03894","NH","NEWE",{"$f":"VLOOKUP(C1361,EMISSION_FACTORS!$A$7:$F$33,6,0)","v":540.48}]
["03896","NH","NEWE",{"$f":"VLOOKUP(C1362,EMISSION_FACTORS!$A$7:$F$33,6,0)","v":540.48}]
["03897","NH","NEWE",{"$f":"VLOOKUP(C1363,EMISSION_FACTORS!$A$7:$F$33,6,0)","v":540.48}]
["03901","ME","NEWE",{"$f":"VLOOKUP(C1364,EMISSION_FACTORS!$A$7:$F$33,6,0)","v":540.48}]
["03902","ME","NEWE",{"$f":"VLOOKUP(C1365,EMISSION_FACTORS!$A$7:$F$33,6,0)","v":540.48}]
["03903","ME","NEWE",{"$f":"VLOOKUP(C1366,EMISSION_FACTORS!$A$7:$F$33,6,0)","v":540.48}]
["03904","ME","NEWE",{"$f":"VLOOKUP(C1367,EMISSION_FACTORS!$A$7:$F$33,6,0)","v":540.48}]
["03905","ME","NEWE",{"$f":"VLOOKUP(C1368,EMISSION_FACTORS!$A$7:$F$33,6,0)","v":540.48}]
["03906","ME","NEWE",{"$f":"VLOOKUP(C1369,EMISSION_FACTORS!$A$7:$F$33,6,0)","v":540.48}]
["03907","ME","NEWE",{"$f":"VLOOKUP(C1370,EMISSION_FACTORS!$A$7:$F$33,6,0)","v":540.48}]
["03908","ME","NEWE",{"$f":"VLOOKUP(C1371,EMISSION_FACTORS!$A$7:$F$33,6,0)","v":540.48}]
["03909","ME","NEWE",{"$f":"VLOOKUP(C1372,EMISSION_FACTORS!$A$7:$F$33,6,0)","v":540.48}]
["03910","ME","NEWE",{"$f":"VLOOKUP(C1373,EMISSION_FACTORS!$A$7:$F$33,6,0)","v":540.48}]
["03911","ME","NEWE",{"$f":"VLOOKUP(C1374,EMISSION_FACTORS!$A$7:$F$33,6,0)","v":540.48}]
["04001","ME","NEWE",{"$f":"VLOOKUP(C1375,EMISSION_FACTORS!$A$7:$F$33,6,0)","v":540.48}]
["04002","ME","NEWE",{"$f":"VLOOKUP(C1376,EMISSION_FACTORS!$A$7:$F$33,6,0)","v":540.48}]
["04003","ME","NEWE",{"$f":"VLOOKUP(C1377,EMISSION_FACTORS!$A$7:$F$33,6,0)","v":540.48}]
["04004","ME","NEWE",{"$f":"VLOOKUP(C1378,EMISSION_FACTORS!$A$7:$F$33,6,0)","v":540.48}]
["04005","ME","NEWE",{"$f":"VLOOKUP(C1379,EMISSION_FACTORS!$A$7:$F$33,6,0)","v":540.48}]
["04006","ME","NEWE",{"$f":"VLOOKUP(C1380,EMISSION_FACTORS!$A$7:$F$33,6,0)","v":540.48}]
["04007","ME","NEWE",{"$f":"VLOOKUP(C1381,EMISSION_FACTORS!$A$7:$F$33,6,0)","v":540.48}]
["04008","ME","NEWE",{"$f":"VLOOKUP(C1382,EMISSION_FACTORS!$A$7:$F$33,6,0)","v":540.48}]
["04009","ME","NEWE",{"$f":"VLOOKUP(C1383,EMISSION_FACTORS!$A$7:$F$33,6,0)","v":540.48}]
["04010","ME","NEWE",{"$f":"VLOOKUP(C1384,EMISSION_FACTORS!$A$7:$F$33,6,0)","v":540.48}]
["04011","ME","NEWE",{"$f":"VLOOKUP(C1385,EMISSION_FACTORS!$A$7:$F$33,6,0)","v":540.48}]
["04013","ME","NEWE",{"$f":"VLOOKUP(C1386,EMISSION_FACTORS!$A$7:$F$33,6,0)","v":540.48}]
["04014","ME","NEWE",{"$f":"VLOOKUP(C1387,EMISSION_FACTORS!$A$7:$F$33,6,0)","v":540.48}]
["04015","ME","NEWE",{"$f":"VLOOKUP(C1388,EMISSION_FACTORS!$A$7:$F$33,6,0)","v":540.48}]
["04016","ME","NEWE",{"$f":"VLOOKUP(C1389,EMISSION_FACTORS!$A$7:$F$33,6,0)","v":540.48}]
["04017","ME","NEWE",{"$f":"VLOOKUP(C1390,EMISSION_FACTORS!$A$7:$F$33,6,0)","v":540.48}]
["04019","ME","NEWE",{"$f":"VLOOKUP(C1391,EMISSION_FACTORS!$A$7:$F$33,6,0)","v":540.48}]
["04020","ME","NEWE",{"$f":"VLOOKUP(C1392,EMISSION_FACTORS!$A$7:$F$33,6,0)","v":540.48}]
["04021","ME","NEWE",{"$f":"VLOOKUP(C1393,EMISSION_FACTORS!$A$7:$F$33,6,0)","v":540.48}]
["04022","ME","NEWE",{"$f":"VLOOKUP(C1394,EMISSION_FACTORS!$A$7:$F$33,6,0)","v":540.48}]
["04024","ME","NEWE",{"$f":"VLOOKUP(C1395,EMISSION_FACTORS!$A$7:$F$33,6,0)","v":540.48}]
["04027","ME","NEWE",{"$f":"VLOOKUP(C1396,EMISSION_FACTORS!$A$7:$F$33,6,0)","v":540.48}]
["04028","ME","NEWE",{"$f":"VLOOKUP(C1397,EMISSION_FACTORS!$A$7:$F$33,6,0)","v":540.48}]
["04029","ME","NEWE",{"$f":"VLOOKUP(C1398,EMISSION_FACTORS!$A$7:$F$33,6,0)","v":540.48}]
["04030","ME","NEWE",{"$f":"VLOOKUP(C1399,EMISSION_FACTORS!$A$7:$F$33,6,0)","v":540.48}]
["04032","ME","NEWE",{"$f":"VLOOKUP(C1400,EMISSION_FACTORS!$A$7:$F$33,6,0)","v":540.48}]
["04033","ME","NEWE",{"$f":"VLOOKUP(C1401,EMISSION_FACTORS!$A$7:$F$33,6,0)","v":540.48}]
["04034","ME","NEWE",{"$f":"VLOOKUP(C1402,EMISSION_FACTORS!$A$7:$F$33,6,0)","v":540.48}]
["04037","ME","NEWE",{"$f":"VLOOKUP(C1403,EMISSION_FACTORS!$A$7:$F$33,6,0)","v":540.48}]
["04038","ME","NEWE",{"$f":"VLOOKUP(C1404,EMISSION_FACTORS!$A$7:$F$33,6,0)","v":540.48}]
["04039","ME","NEWE",{"$f":"VLOOKUP(C1405,EMISSION_FACTORS!$A$7:$F$33,6,0)","v":540.48}]
["04040","ME","NEWE",{"$f":"VLOOKUP(C1406,EMISSION_FACTORS!$A$7:$F$33,6,0)","v":540.48}]
["04041","ME","NEWE",{"$f":"VLOOKUP(C1407,EMISSION_FACTORS!$A$7:$F$33,6,0)","v":540.48}]
["04042","ME","NEWE",{"$f":"VLOOKUP(C1408,EMISSION_FACTORS!$A$7:$F$33,6,0)","v":540.48}]
["04043","ME","NEWE",{"$f":"VLOOKUP(C1409,EMISSION_FACTORS!$A$7:$F$33,6,0)","v":540.48}]
["04046","ME","NEWE",{"$f":"VLOOKUP(C1410,EMISSION_FACTORS!$A$7:$F$33,6,0)","v":540.48}]
["04047","ME","NEWE",{"$f":"VLOOKUP(C1411,EMISSION_FACTORS!$A$7:$F$33,6,0)","v":540.48}]
["04048","ME","NEWE",{"$f":"VLOOKUP(C1412,EMISSION_FACTORS!$A$7:$F$33,6,0)","v":540.48}]
["04049","ME","NEWE",{"$f":"VLOOKUP(C1413,EMISSION_FACTORS!$A$7:$F$33,6,0)","v":540.48}]
["04050","ME","NEWE",{"$f":"VLOOKUP(C1414,EMISSION_FACTORS!$A$7:$F$33,6,0)","v":540.48}]
["04051","ME","NEWE",{"$f":"VLOOKUP(C1415,EMISSION_FACTORS!$A$7:$F$33,6,0)","v":540.48}]
["04054","ME","NEWE",{"$f":"VLOOKUP(C1416,EMISSION_FACTORS!$A$7:$F$33,6,0)","v":540.48}]
["04055","ME","NEWE",{"$f":"VLOOKUP(C1417,EMISSION_FACTORS!$A$7:$F$33,6,0)","v":540.48}]
["04056","ME","NEWE",{"$f":"VLOOKUP(C1418,EMISSION_FACTORS!$A$7:$F$33,6,0)","v":540.48}]
["04057","ME","NEWE",{"$f":"VLOOKUP(C1419,EMISSION_FACTORS!$A$7:$F$33,6,0)","v":540.48}]
["04061","ME","NEWE",{"$f":"VLOOKUP(C1420,EMISSION_FACTORS!$A$7:$F$33,6,0)","v":540.48}]
["04062","ME","NEWE",{"$f":"VLOOKUP(C1421,EMISSION_FACTORS!$A$7:$F$33,6,0)","v":540.48}]
["04063","ME","NEWE",{"$f":"VLOOKUP(C1422,EMISSION_FACTORS!$A$7:$F$33,6,0)","v":540.48}]
["04064","ME","NEWE",{"$f":"VLOOKUP(C1423,EMISSION_FACTORS!$A$7:$F$33,6,0)","v":540.48}]
["04066","ME","NEWE",{"$f":"VLOOKUP(C1424,EMISSION_FACTORS!$A$7:$F$33,6,0)","v":540.48}]
["04068","ME","NEWE",{"$f":"VLOOKUP(C1425,EMISSION_FACTORS!$A$7:$F$33,6,0)","v":540.48}]
["04069","ME","NEWE",{"$f":"VLOOKUP(C1426,EMISSION_FACTORS!$A$7:$F$33,6,0)","v":540.48}]
["04070","ME","NEWE",{"$f":"VLOOKUP(C1427,EMISSION_FACTORS!$A$7:$F$33,6,0)","v":540.48}]
["04071","ME","NEWE",{"$f":"VLOOKUP(C1428,EMISSION_FACTORS!$A$7:$F$33,6,0)","v":540.48}]
["04072","ME","NEWE",{"$f":"VLOOKUP(C1429,EMISSION_FACTORS!$A$7:$F$33,6,0)","v":540.48}]
["04073","ME","NEWE",{"$f":"VLOOKUP(C1430,EMISSION_FACTORS!$A$7:$F$33,6,0)","v":540.48}]
["04074","ME","NEWE",{"$f":"VLOOKUP(C1431,EMISSION_FACTORS!$A$7:$F$33,6,0)","v":540.48}]
["04076","ME","NEWE",{"$f":"VLOOKUP(C1432,EMISSION_FACTORS!$A$7:$F$33,6,0)","v":540.48}]
["04077","ME","NEWE",{"$f":"VLOOKUP(C1433,EMISSION_FACTORS!$A$7:$F$33,6,0)","v":540.48}]
["04078","ME","NEWE",{"$f":"VLOOKUP(C1434,EMISSION_FACTORS!$A$7:$F$33,6,0)","v":540.48}]
["04079","ME","NEWE",{"$f":"VLOOKUP(C1435,EMISSION_FACTORS!$A$7:$F$33,6,0)","v":540.48}]
["04082","ME","NEWE",{"$f":"VLOOKUP(C1436,EMISSION_FACTORS!$A$7:$F$33,6,0)","v":540.48}]
["04083","ME","NEWE",{"$f":"VLOOKUP(C1437,EMISSION_FACTORS!$A$7:$F$33,6,0)","v":540.48}]
["04084","ME","NEWE",{"$f":"VLOOKUP(C1438,EMISSION_FACTORS!$A$7:$F$33,6,0)","v":540.48}]
["04085","ME","NEWE",{"$f":"VLOOKUP(C1439,EMISSION_FACTORS!$A$7:$F$33,6,0)","v":540.48}]
["04086","ME","NEWE",{"$f":"VLOOKUP(C1440,EMISSION_FACTORS!$A$7:$F$33,6,0)","v":540.48}]
["04087","ME","NEWE",{"$f":"VLOOKUP(C1441,EMISSION_FACTORS!$A$7:$F$33,6,0)","v":540.48}]
["04088","ME","NEWE",{"$f":"VLOOKUP(C1442,EMISSION_FACTORS!$A$7:$F$33,6,0)","v":540.48}]
["04090","ME","NEWE",{"$f":"VLOOKUP(C1443,EMISSION_FACTORS!$A$7:$F$33,6,0)","v":540.48}]
["04091","ME","NEWE",{"$f":"VLOOKUP(C1444,EMISSION_FACTORS!$A$7:$F$33,6,0)","v":540.48}]
["04092","ME","NEWE",{"$f":"VLOOKUP(C1445,EMISSION_FACTORS!$A$7:$F$33,6,0)","v":540.48}]
["04093","ME","NEWE",{"$f":"VLOOKUP(C1446,EMISSION_FACTORS!$A$7:$F$33,6,0)","v":540.48}]
["04094","ME","NEWE",{"$f":"VLOOKUP(C1447,EMISSION_FACTORS!$A$7:$F$33,6,0)","v":540.48}]
["04095","ME","NEWE",{"$f":"VLOOKUP(C1448,EMISSION_FACTORS!$A$7:$F$33,6,0)","v":540.48}]
["04096","ME","NEWE",{"$f":"VLOOKUP(C1449,EMISSION_FACTORS!$A$7:$F$33,6,0)","v":540.48}]
["04097","ME","NEWE",{"$f":"VLOOKUP(C1450,EMISSION_FACTORS!$A$7:$F$33,6,0)","v":540.48}]
["04098","ME","NEWE",{"$f":"VLOOKUP(C1451,EMISSION_FACTORS!$A$7:$F$33,6,0)","v":540.48}]
["04101","ME","NEWE",{"$f":"VLOOKUP(C1452,EMISSION_FACTORS!$A$7:$F$33,6,0)","v":540.48}]
["04102","ME","NEWE",{"$f":"VLOOKUP(C1453,EMISSION_FACTORS!$A$7:$F$33,6,0)","v":540.48}]
["04103","ME","NEWE",{"$f":"VLOOKUP(C1454,EMISSION_FACTORS!$A$7:$F$33,6,0)","v":540.48}]
["04104","ME","NEWE",{"$f":"VLOOKUP(C1455,EMISSION_FACTORS!$A$7:$F$33,6,0)","v":540.48}]
["04105","ME","NEWE",{"$f":"VLOOKUP(C1456,EMISSION_FACTORS!$A$7:$F$33,6,0)","v":540.48}]
["04106","ME","NEWE",{"$f":"VLOOKUP(C1457,EMISSION_FACTORS!$A$7:$F$33,6,0)","v":540.48}]
["04107","ME","NEWE",{"$f":"VLOOKUP(C1458,EMISSION_FACTORS!$A$7:$F$33,6,0)","v":540.48}]
["04108","ME","NEWE",{"$f":"VLOOKUP(C1459,EMISSION_FACTORS!$A$7:$F$33,6,0)","v":540.48}]
["04109","ME","NEWE",{"$f":"VLOOKUP(C1460,EMISSION_FACTORS!$A$7:$F$33,6,0)","v":540.48}]
["04110","ME","NEWE",{"$f":"VLOOKUP(C1461,EMISSION_FACTORS!$A$7:$F$33,6,0)","v":540.48}]
["04112","ME","NEWE",{"$f":"VLOOKUP(C1462,EMISSION_FACTORS!$A$7:$F$33,6,0)","v":540.48}]
["04116","ME","NEWE",{"$f":"VLOOKUP(C1463,EMISSION_FACTORS!$A$7:$F$33,6,0)","v":540.48}]
["04122","ME","NEWE",{"$f":"VLOOKUP(C1464,EMISSION_FACTORS!$A$7:$F$33,6,0)","v":540.48}]
["04123","ME","NEWE",{"$f":"VLOOKUP(C1465,EMISSION_FACTORS!$A$7:$F$33,6,0)","v":540.48}]
["04124","ME","NEWE",{"$f":"VLOOKUP(C1466,EMISSION_FACTORS!$A$7:$F$33,6,0)","v":540.48}]
["04210","ME","NEWE",{"$f":"VLOOKUP(C1467,EMISSION_FACTORS!$A$7:$F$33,6,0)","v":540.48}]
["04211","ME","NEWE",{"$f":"VLOOKUP(C1468,EMISSION_FACTORS!$A$7:$F$33,6,0)","v":540.48}]
["04212","ME","NEWE",{"$f":"VLOOKUP(C1469,EMISSION_FACTORS!$A$7:$F$33,6,0)","v":540.48}]
["04216","ME","NEWE",{"$f":"VLOOKUP(C1470,EMISSION_FACTORS!$A$7:$F$33,6,0)","v":540.48}]
["04217","ME","NEWE",{"$f":"VLOOKUP(C1471,EMISSION_FACTORS!$A$7:$F$33,6,0)","v":540.48}]
["04219","ME","NEWE",{"$f":"VLOOKUP(C1472,EMISSION_FACTORS!$A$7:$F$33,6,0)","v":540.48}]
["04220","ME","NEWE",{"$f":"VLOOKUP(C1473,EMISSION_FACTORS!$A$7:$F$33,6,0)","v":540.48}]
["04221","ME","NEWE",{"$f":"VLOOKUP(C1474,EMISSION_FACTORS!$A$7:$F$33,6,0)","v":540.48}]
["04222","ME","NEWE",{"$f":"VLOOKUP(C1475,EMISSION_FACTORS!$A$7:$F$33,6,0)","v":540.48}]
["04223","ME","NEWE",{"$f":"VLOOKUP(C1476,EMISSION_FACTORS!$A$7:$F$33,6,0)","v":540.48}]
["04224","ME","NEWE",{"$f":"VLOOKUP(C1477,EMISSION_FACTORS!$A$7:$F$33,6,0)","v":540.48}]
["04225","ME","NEWE",{"$f":"VLOOKUP(C1478,EMISSION_FACTORS!$A$7:$F$33,6,0)","v":540.48}]
["04226","ME","NEWE",{"$f":"VLOOKUP(C1479,EMISSION_FACTORS!$A$7:$F$33,6,0)","v":540.48}]
["04227","ME","NEWE",{"$f":"VLOOKUP(C1480,EMISSION_FACTORS!$A$7:$F$33,6,0)","v":540.48}]
["04228","ME","NEWE",{"$f":"VLOOKUP(C1481,EMISSION_FACTORS!$A$7:$F$33,6,0)","v":540.48}]
["04230","ME","NEWE",{"$f":"VLOOKUP(C1482,EMISSION_FACTORS!$A$7:$F$33,6,0)","v":540.48}]
["04231","ME","NEWE",{"$f":"VLOOKUP(C1483,EMISSION_FACTORS!$A$7:$F$33,6,0)","v":540.48}]
["04234","ME","NEWE",{"$f":"VLOOKUP(C1484,EMISSION_FACTORS!$A$7:$F$33,6,0)","v":540.48}]
["04236","ME","NEWE",{"$f":"VLOOKUP(C1485,EMISSION_FACTORS!$A$7:$F$33,6,0)","v":540.48}]
["04237","ME","NEWE",{"$f":"VLOOKUP(C1486,EMISSION_FACTORS!$A$7:$F$33,6,0)","v":540.48}]
["04238","ME","NEWE",{"$f":"VLOOKUP(C1487,EMISSION_FACTORS!$A$7:$F$33,6,0)","v":540.48}]
["04239","ME","NEWE",{"$f":"VLOOKUP(C1488,EMISSION_FACTORS!$A$7:$F$33,6,0)","v":540.48}]
["04240","ME","NEWE",{"$f":"VLOOKUP(C1489,EMISSION_FACTORS!$A$7:$F$33,6,0)","v":540.48}]
["04241","ME","NEWE",{"$f":"VLOOKUP(C1490,EMISSION_FACTORS!$A$7:$F$33,6,0)","v":540.48}]
["04243","ME","NEWE",{"$f":"VLOOKUP(C1491,EMISSION_FACTORS!$A$7:$F$33,6,0)","v":540.48}]
["04250","ME","NEWE",{"$f":"VLOOKUP(C1492,EMISSION_FACTORS!$A$7:$F$33,6,0)","v":540.48}]
["04252","ME","NEWE",{"$f":"VLOOKUP(C1493,EMISSION_FACTORS!$A$7:$F$33,6,0)","v":540.48}]
["04253","ME","NEWE",{"$f":"VLOOKUP(C1494,EMISSION_FACTORS!$A$7:$F$33,6,0)","v":540.48}]
["04254","ME","NEWE",{"$f":"VLOOKUP(C1495,EMISSION_FACTORS!$A$7:$F$33,6,0)","v":540.48}]
["04255","ME","NEWE",{"$f":"VLOOKUP(C1496,EMISSION_FACTORS!$A$7:$F$33,6,0)","v":540.48}]
["04256","ME","NEWE",{"$f":"VLOOKUP(C1497,EMISSION_FACTORS!$A$7:$F$33,6,0)","v":540.48}]
["04257","ME","NEWE",{"$f":"VLOOKUP(C1498,EMISSION_FACTORS!$A$7:$F$33,6,0)","v":540.48}]
["04258","ME","NEWE",{"$f":"VLOOKUP(C1499,EMISSION_FACTORS!$A$7:$F$33,6,0)","v":540.48}]
["04259","ME","NEWE",{"$f":"VLOOKUP(C1500,EMISSION_FACTORS!$A$7:$F$33,6,0)","v":540.48}]
["04260","ME","NEWE",{"$f":"VLOOKUP(C1501,EMISSION_FACTORS!$A$7:$F$33,6,0)","v":540.48}]
["04261","ME","NEWE",{"$f":"VLOOKUP(C1502,EMISSION_FACTORS!$A$7:$F$33,6,0)","v":540.48}]
["04262","ME","NEWE",{"$f":"VLOOKUP(C1503,EMISSION_FACTORS!$A$7:$F$33,6,0)","v":540.48}]
["04263","ME","NEWE",{"$f":"VLOOKUP(C1504,EMISSION_FACTORS!$A$7:$F$33,6,0)","v":540.48}]
["04265","ME","NEWE",{"$f":"VLOOKUP(C1505,EMISSION_FACTORS!$A$7:$F$33,6,0)","v":540.48}]
["04266","ME","NEWE",{"$f":"VLOOKUP(C1506,EMISSION_FACTORS!$A$7:$F$33,6,0)","v":540.48}]
["04267","ME","NEWE",{"$f":"VLOOKUP(C1507,EMISSION_FACTORS!$A$7:$F$33,6,0)","v":540.48}]
["04268","ME","NEWE",{"$f":"VLOOKUP(C1508,EMISSION_FACTORS!$A$7:$F$33,6,0)","v":540.48}]
["04270","ME","NEWE",{"$f":"VLOOKUP(C1509,EMISSION_FACTORS!$A$7:$F$33,6,0)","v":540.48}]
["04271","ME","NEWE",{"$f":"VLOOKUP(C1510,EMISSION_FACTORS!$A$7:$F$33,6,0)","v":540.48}]
["04274","ME","NEWE",{"$f":"VLOOKUP(C1511,EMISSION_FACTORS!$A$7:$F$33,6,0)","v":540.48}]
["04275","ME","NEWE",{"$f":"VLOOKUP(C1512,EMISSION_FACTORS!$A$7:$F$33,6,0)","v":540.48}]
["04276","ME","NEWE",{"$f":"VLOOKUP(C1513,EMISSION_FACTORS!$A$7:$F$33,6,0)","v":540.48}]
["04280","ME","NEWE",{"$f":"VLOOKUP(C1514,EMISSION_FACTORS!$A$7:$F$33,6,0)","v":540.48}]
["04281","ME","NEWE",{"$f":"VLOOKUP(C1515,EMISSION_FACTORS!$A$7:$F$33,6,0)","v":540.48}]
["04282","ME","NEWE",{"$f":"VLOOKUP(C1516,EMISSION_FACTORS!$A$7:$F$33,6,0)","v":540.48}]
["04284","ME","NEWE",{"$f":"VLOOKUP(C1517,EMISSION_FACTORS!$A$7:$F$33,6,0)","v":540.48}]
["04285","ME","NEWE",{"$f":"VLOOKUP(C1518,EMISSION_FACTORS!$A$7:$F$33,6,0)","v":540.48}]
["04286","ME","NEWE",{"$f":"VLOOKUP(C1519,EMISSION_FACTORS!$A$7:$F$33,6,0)","v":540.48}]
["04287","ME","NEWE",{"$f":"VLOOKUP(C1520,EMISSION_FACTORS!$A$7:$F$33,6,0)","v":540.48}]
["04288","ME","NEWE",{"$f":"VLOOKUP(C1521,EMISSION_FACTORS!$A$7:$F$33,6,0)","v":540.48}]
["04289","ME","NEWE",{"$f":"VLOOKUP(C1522,EMISSION_FACTORS!$A$7:$F$33,6,0)","v":540.48}]
["04290","ME","NEWE",{"$f":"VLOOKUP(C1523,EMISSION_FACTORS!$A$7:$F$33,6,0)","v":540.48}]
["04291","ME","NEWE",{"$f":"VLOOKUP(C1524,EMISSION_FACTORS!$A$7:$F$33,6,0)","v":540.48}]
["04292","ME","NEWE",{"$f":"VLOOKUP(C1525,EMISSION_FACTORS!$A$7:$F$33,6,0)","v":540.48}]
["04294","ME","NEWE",{"$f":"VLOOKUP(C1526,EMISSION_FACTORS!$A$7:$F$33,6,0)","v":540.48}]
["04330","ME","NEWE",{"$f":"VLOOKUP(C1527,EMISSION_FACTORS!$A$7:$F$33,6,0)","v":540.48}]
["04332","ME","NEWE",{"$f":"VLOOKUP(C1528,EMISSION_FACTORS!$A$7:$F$33,6,0)","v":540.48}]
["04333","ME","NEWE",{"$f":"VLOOKUP(C1529,EMISSION_FACTORS!$A$7:$F$33,6,0)","v":540.48}]
["04336","ME","NEWE",{"$f":"VLOOKUP(C1530,EMISSION_FACTORS!$A$7:$F$33,6,0)","v":540.48}]
["04338","ME","NEWE",{"$f":"VLOOKUP(C1531,EMISSION_FACTORS!$A$7:$F$33,6,0)","v":540.48}]
["04341","ME","NEWE",{"$f":"VLOOKUP(C1532,EMISSION_FACTORS!$A$7:$F$33,6,0)","v":540.48}]
["04342","ME","NEWE",{"$f":"VLOOKUP(C1533,EMISSION_FACTORS!$A$7:$F$33,6,0)","v":540.48}]
["04343","ME","NEWE",{"$f":"VLOOKUP(C1534,EMISSION_FACTORS!$A$7:$F$33,6,0)","v":540.48}]
["04344","ME","NEWE",{"$f":"VLOOKUP(C1535,EMISSION_FACTORS!$A$7:$F$33,6,0)","v":540.48}]
["04345","ME","NEWE",{"$f":"VLOOKUP(C1536,EMISSION_FACTORS!$A$7:$F$33,6,0)","v":540.48}]
["04346","ME","NEWE",{"$f":"VLOOKUP(C1537,EMISSION_FACTORS!$A$7:$F$33,6,0)","v":540.48}]
["04347","ME","NEWE",{"$f":"VLOOKUP(C1538,EMISSION_FACTORS!$A$7:$F$33,6,0)","v":540.48}]
["04348","ME","NEWE",{"$f":"VLOOKUP(C1539,EMISSION_FACTORS!$A$7:$F$33,6,0)","v":540.48}]
["04349","ME","NEWE",{"$f":"VLOOKUP(C1540,EMISSION_FACTORS!$A$7:$F$33,6,0)","v":540.48}]
["04350","ME","NEWE",{"$f":"VLOOKUP(C1541,EMISSION_FACTORS!$A$7:$F$33,6,0)","v":540.48}]
["04351","ME","NEWE",{"$f":"VLOOKUP(C1542,EMISSION_FACTORS!$A$7:$F$33,6,0)","v":540.48}]
["04352","ME","NEWE",{"$f":"VLOOKUP(C1543,EMISSION_FACTORS!$A$7:$F$33,6,0)","v":540.48}]
["04353","ME","NEWE",{"$f":"VLOOKUP(C1544,EMISSION_FACTORS!$A$7:$F$33,6,0)","v":540.48}]
["04354","ME","NEWE",{"$f":"VLOOKUP(C1545,EMISSION_FACTORS!$A$7:$F$33,6,0)","v":540.48}]
["04355","ME","NEWE",{"$f":"VLOOKUP(C1546,EMISSION_FACTORS!$A$7:$F$33,6,0)","v":540.48}]
["04357","ME","NEWE",{"$f":"VLOOKUP(C1547,EMISSION_FACTORS!$A$7:$F$33,6,0)","v":540.48}]
["04358","ME","NEWE",{"$f":"VLOOKUP(C1548,EMISSION_FACTORS!$A$7:$F$33,6,0)","v":540.48}]
["04359","ME","NEWE",{"$f":"VLOOKUP(C1549,EMISSION_FACTORS!$A$7:$F$33,6,0)","v":540.48}]
["04360","ME","NEWE",{"$f":"VLOOKUP(C1550,EMISSION_FACTORS!$A$7:$F$33,6,0)","v":540.48}]
["04363","ME","NEWE",{"$f":"VLOOKUP(C1551,EMISSION_FACTORS!$A$7:$F$33,6,0)","v":540.48}]
["04364","ME","NEWE",{"$f":"VLOOKUP(C1552,EMISSION_FACTORS!$A$7:$F$33,6,0)","v":540.48}]
["04401","ME","NEWE",{"$f":"VLOOKUP(C1553,EMISSION_FACTORS!$A$7:$F$33,6,0)","v":540.48}]
["04402","ME","NEWE",{"$f":"VLOOKUP(C1554,EMISSION_FACTORS!$A$7:$F$33,6,0)","v":540.48}]
["04406","ME","NEWE",{"$f":"VLOOKUP(C1555,EMISSION_FACTORS!$A$7:$F$33,6,0)","v":540.48}]
["04408","ME","NEWE",{"$f":"VLOOKUP(C1556,EMISSION_FACTORS!$A$7:$F$33,6,0)","v":540.48}]
["04410","ME","NEWE",{"$f":"VLOOKUP(C1557,EMISSION_FACTORS!$A$7:$F$33,6,0)","v":540.48}]
["04411","ME","NEWE",{"$f":"VLOOKUP(C1558,EMISSION_FACTORS!$A$7:$F$33,6,0)","v":540.48}]
["04412","ME","NEWE",{"$f":"VLOOKUP(C1559,EMISSION_FACTORS!$A$7:$F$33,6,0)","v":540.48}]
["04413","ME","NEWE",{"$f":"VLOOKUP(C1560,EMISSION_FACTORS!$A$7:$F$33,6,0)","v":540.48}]
["04414","ME","NEWE",{"$f":"VLOOKUP(C1561,EMISSION_FACTORS!$A$7:$F$33,6,0)","v":540.48}]
["04415","ME","NEWE",{"$f":"VLOOKUP(C1562,EMISSION_FACTORS!$A$7:$F$33,6,0)","v":540.48}]
["04416","ME","NEWE",{"$f":"VLOOKUP(C1563,EMISSION_FACTORS!$A$7:$F$33,6,0)","v":540.48}]
["04417","ME","NEWE",{"$f":"VLOOKUP(C1564,EMISSION_FACTORS!$A$7:$F$33,6,0)","v":540.48}]
["04418","ME","NEWE",{"$f":"VLOOKUP(C1565,EMISSION_FACTORS!$A$7:$F$33,6,0)","v":540.48}]
["04419","ME","NEWE",{"$f":"VLOOKUP(C1566,EMISSION_FACTORS!$A$7:$F$33,6,0)","v":540.48}]
["04420","ME","NEWE",{"$f":"VLOOKUP(C1567,EMISSION_FACTORS!$A$7:$F$33,6,0)","v":540.48}]
["04421","ME","NEWE",{"$f":"VLOOKUP(C1568,EMISSION_FACTORS!$A$7:$F$33,6,0)","v":540.48}]
["04422","ME","NEWE",{"$f":"VLOOKUP(C1569,EMISSION_FACTORS!$A$7:$F$33,6,0)","v":540.48}]
["04424","ME","NEWE",{"$f":"VLOOKUP(C1570,EMISSION_FACTORS!$A$7:$F$33,6,0)","v":540.48}]
["04426","ME","NEWE",{"$f":"VLOOKUP(C1571,EMISSION_FACTORS!$A$7:$F$33,6,0)","v":540.48}]
["04427","ME","NEWE",{"$f":"VLOOKUP(C1572,EMISSION_FACTORS!$A$7:$F$33,6,0)","v":540.48}]
["04428","ME","NEWE",{"$f":"VLOOKUP(C1573,EMISSION_FACTORS!$A$7:$F$33,6,0)","v":540.48}]
["04429","ME","NEWE",{"$f":"VLOOKUP(C1574,EMISSION_FACTORS!$A$7:$F$33,6,0)","v":540.48}]
["04430","ME","NEWE",{"$f":"VLOOKUP(C1575,EMISSION_FACTORS!$A$7:$F$33,6,0)","v":540.48}]
["04431","ME","NEWE",{"$f":"VLOOKUP(C1576,EMISSION_FACTORS!$A$7:$F$33,6,0)","v":540.48}]
["04434","ME","NEWE",{"$f":"VLOOKUP(C1577,EMISSION_FACTORS!$A$7:$F$33,6,0)","v":540.48}]
["04435","ME","NEWE",{"$f":"VLOOKUP(C1578,EMISSION_FACTORS!$A$7:$F$33,6,0)","v":540.48}]
["04438","ME","NEWE",{"$f":"VLOOKUP(C1579,EMISSION_FACTORS!$A$7:$F$33,6,0)","v":540.48}]
["04441","ME","NEWE",{"$f":"VLOOKUP(C1580,EMISSION_FACTORS!$A$7:$F$33,6,0)","v":540.48}]
["04442","ME","NEWE",{"$f":"VLOOKUP(C1581,EMISSION_FACTORS!$A$7:$F$33,6,0)","v":540.48}]
["04443","ME","NEWE",{"$f":"VLOOKUP(C1582,EMISSION_FACTORS!$A$7:$F$33,6,0)","v":540.48}]
["04444","ME","NEWE",{"$f":"VLOOKUP(C1583,EMISSION_FACTORS!$A$7:$F$33,6,0)","v":540.48}]
["04448","ME","NEWE",{"$f":"VLOOKUP(C1584,EMISSION_FACTORS!$A$7:$F$33,6,0)","v":540.48}]
["04449","ME","NEWE",{"$f":"VLOOKUP(C1585,EMISSION_FACTORS!$A$7:$F$33,6,0)","v":540.48}]
["04450","ME","NEWE",{"$f":"VLOOKUP(C1586,EMISSION_FACTORS!$A$7:$F$33,6,0)","v":540.48}]
["04451","ME","NEWE",{"$f":"VLOOKUP(C1587,EMISSION_FACTORS!$A$7:$F$33,6,0)","v":540.48}]
["04453","ME","NEWE",{"$f":"VLOOKUP(C1588,EMISSION_FACTORS!$A$7:$F$33,6,0)","v":540.48}]
["04454","ME","NEWE",{"$f":"VLOOKUP(C1589,EMISSION_FACTORS!$A$7:$F$33,6,0)","v":540.48}]
["04455","ME","NEWE",{"$f":"VLOOKUP(C1590,EMISSION_FACTORS!$A$7:$F$33,6,0)","v":540.48}]
["04456","ME","NEWE",{"$f":"VLOOKUP(C1591,EMISSION_FACTORS!$A$7:$F$33,6,0)","v":540.48}]
["04457","ME","NEWE",{"$f":"VLOOKUP(C1592,EMISSION_FACTORS!$A$7:$F$33,6,0)","v":540.48}]
["04459","ME","NEWE",{"$f":"VLOOKUP(C1593,EMISSION_FACTORS!$A$7:$F$33,6,0)","v":540.48}]
["04460","ME","NEWE",{"$f":"VLOOKUP(C1594,EMISSION_FACTORS!$A$7:$F$33,6,0)","v":540.48}]
["04461","ME","NEWE",{"$f":"VLOOKUP(C1595,EMISSION_FACTORS!$A$7:$F$33,6,0)","v":540.48}]
["04462","ME","NEWE",{"$f":"VLOOKUP(C1596,EMISSION_FACTORS!$A$7:$F$33,6,0)","v":540.48}]
["04463","ME","NEWE",{"$f":"VLOOKUP(C1597,EMISSION_FACTORS!$A$7:$F$33,6,0)","v":540.48}]
["04464","ME","NEWE",{"$f":"VLOOKUP(C1598,EMISSION_FACTORS!$A$7:$F$33,6,0)","v":540.48}]
["04468","ME","NEWE",{"$f":"VLOOKUP(C1599,EMISSION_FACTORS!$A$7:$F$33,6,0)","v":540.48}]
["04469","ME","NEWE",{"$f":"VLOOKUP(C1600,EMISSION_FACTORS!$A$7:$F$33,6,0)","v":540.48}]
["04471","ME","NEWE",{"$f":"VLOOKUP(C1601,EMISSION_FACTORS!$A$7:$F$33,6,0)","v":540.48}]
["04472","ME","NEWE",{"$f":"VLOOKUP(C1602,EMISSION_FACTORS!$A$7:$F$33,6,0)","v":540.48}]
["04473","ME","NEWE",{"$f":"VLOOKUP(C1603,EMISSION_FACTORS!$A$7:$F$33,6,0)","v":540.48}]
["04474","ME","NEWE",{"$f":"VLOOKUP(C1604,EMISSION_FACTORS!$A$7:$F$33,6,0)","v":540.48}]
["04475","ME","NEWE",{"$f":"VLOOKUP(C1605,EMISSION_FACTORS!$A$7:$F$33,6,0)","v":540.48}]
["04476","ME","NEWE",{"$f":"VLOOKUP(C1606,EMISSION_FACTORS!$A$7:$F$33,6,0)","v":540.48}]
["04478","ME","NEWE",{"$f":"VLOOKUP(C1607,EMISSION_FACTORS!$A$7:$F$33,6,0)","v":540.48}]
["04479","ME","NEWE",{"$f":"VLOOKUP(C1608,EMISSION_FACTORS!$A$7:$F$33,6,0)","v":540.48}]
["04481","ME","NEWE",{"$f":"VLOOKUP(C1609,EMISSION_FACTORS!$A$7:$F$33,6,0)","v":540.48}]
["04485","ME","NEWE",{"$f":"VLOOKUP(C1610,EMISSION_FACTORS!$A$7:$F$33,6,0)","v":540.48}]
["04487","ME","NEWE",{"$f":"VLOOKUP(C1611,EMISSION_FACTORS!$A$7:$F$33,6,0)","v":540.48}]
["04488","ME","NEWE",{"$f":"VLOOKUP(C1612,EMISSION_FACTORS!$A$7:$F$33,6,0)","v":540.48}]
["04489","ME","NEWE",{"$f":"VLOOKUP(C1613,EMISSION_FACTORS!$A$7:$F$33,6,0)","v":540.48}]
["04490","ME","NEWE",{"$f":"VLOOKUP(C1614,EMISSION_FACTORS!$A$7:$F$33,6,0)","v":540.48}]
["04491","ME","NEWE",{"$f":"VLOOKUP(C1615,EMISSION_FACTORS!$A$7:$F$33,6,0)","v":540.48}]
["04492","ME","NEWE",{"$f":"VLOOKUP(C1616,EMISSION_FACTORS!$A$7:$F$33,6,0)","v":540.48}]
["04493","ME","NEWE",{"$f":"VLOOKUP(C1617,EMISSION_FACTORS!$A$7:$F$33,6,0)","v":540.48}]
["04495","ME","NEWE",{"$f":"VLOOKUP(C1618,EMISSION_FACTORS!$A$7:$F$33,6,0)","v":540.48}]
["04496","ME","NEWE",{"$f":"VLOOKUP(C1619,EMISSION_FACTORS!$A$7:$F$33,6,0)","v":540.48}]
["04497","ME","NEWE",{"$f":"VLOOKUP(C1620,EMISSION_FACTORS!$A$7:$F$33,6,0)","v":540.48}]
["04530","ME","NEWE",{"$f":"VLOOKUP(C1621,EMISSION_FACTORS!$A$7:$F$33,6,0)","v":540.48}]
["04535","ME","NEWE",{"$f":"VLOOKUP(C1622,EMISSION_FACTORS!$A$7:$F$33,6,0)","v":540.48}]
["04537","ME","NEWE",{"$f":"VLOOKUP(C1623,EMISSION_FACTORS!$A$7:$F$33,6,0)","v":540.48}]
["04538","ME","NEWE",{"$f":"VLOOKUP(C1624,EMISSION_FACTORS!$A$7:$F$33,6,0)","v":540.48}]
["04539","ME","NEWE",{"$f":"VLOOKUP(C1625,EMISSION_FACTORS!$A$7:$F$33,6,0)","v":540.48}]
["04541","ME","NEWE",{"$f":"VLOOKUP(C1626,EMISSION_FACTORS!$A$7:$F$33,6,0)","v":540.48}]
["04543","ME","NEWE",{"$f":"VLOOKUP(C1627,EMISSION_FACTORS!$A$7:$F$33,6,0)","v":540.48}]
["04544","ME","NEWE",{"$f":"VLOOKUP(C1628,EMISSION_FACTORS!$A$7:$F$33,6,0)","v":540.48}]
["04547","ME","NEWE",{"$f":"VLOOKUP(C1629,EMISSION_FACTORS!$A$7:$F$33,6,0)","v":540.48}]
["04548","ME","NEWE",{"$f":"VLOOKUP(C1630,EMISSION_FACTORS!$A$7:$F$33,6,0)","v":540.48}]
["04549","ME","NEWE",{"$f":"VLOOKUP(C1631,EMISSION_FACTORS!$A$7:$F$33,6,0)","v":540.48}]
["04551","ME","NEWE",{"$f":"VLOOKUP(C1632,EMISSION_FACTORS!$A$7:$F$33,6,0)","v":540.48}]
["04553","ME","NEWE",{"$f":"VLOOKUP(C1633,EMISSION_FACTORS!$A$7:$F$33,6,0)","v":540.48}]
["04554","ME","NEWE",{"$f":"VLOOKUP(C1634,EMISSION_FACTORS!$A$7:$F$33,6,0)","v":540.48}]
["04555","ME","NEWE",{"$f":"VLOOKUP(C1635,EMISSION_FACTORS!$A$7:$F$33,6,0)","v":540.48}]
["04556","ME","NEWE",{"$f":"VLOOKUP(C1636,EMISSION_FACTORS!$A$7:$F$33,6,0)","v":540.48}]
["04558","ME","NEWE",{"$f":"VLOOKUP(C1637,EMISSION_FACTORS!$A$7:$F$33,6,0)","v":540.48}]
["04562","ME","NEWE",{"$f":"VLOOKUP(C1638,EMISSION_FACTORS!$A$7:$F$33,6,0)","v":540.48}]
["04563","ME","NEWE",{"$f":"VLOOKUP(C1639,EMISSION_FACTORS!$A$7:$F$33,6,0)","v":540.48}]
["04564","ME","NEWE",{"$f":"VLOOKUP(C1640,EMISSION_FACTORS!$A$7:$F$33,6,0)","v":540.48}]
["04565","ME","NEWE",{"$f":"VLOOKUP(C1641,EMISSION_FACTORS!$A$7:$F$33,6,0)","v":540.48}]
["04568","ME","NEWE",{"$f":"VLOOKUP(C1642,EMISSION_FACTORS!$A$7:$F$33,6,0)","v":540.48}]
["04570","ME","NEWE",{"$f":"VLOOKUP(C1643,EMISSION_FACTORS!$A$7:$F$33,6,0)","v":540.48}]
["04571","ME","NEWE",{"$f":"VLOOKUP(C1644,EMISSION_FACTORS!$A$7:$F$33,6,0)","v":540.48}]
["04572","ME","NEWE",{"$f":"VLOOKUP(C1645,EMISSION_FACTORS!$A$7:$F$33,6,0)","v":540.48}]
["04573","ME","NEWE",{"$f":"VLOOKUP(C1646,EMISSION_FACTORS!$A$7:$F$33,6,0)","v":540.48}]
["04574","ME","NEWE",{"$f":"VLOOKUP(C1647,EMISSION_FACTORS!$A$7:$F$33,6,0)","v":540.48}]
["04575","ME","NEWE",{"$f":"VLOOKUP(C1648,EMISSION_FACTORS!$A$7:$F$33,6,0)","v":540.48}]
["04576","ME","NEWE",{"$f":"VLOOKUP(C1649,EMISSION_FACTORS!$A$7:$F$33,6,0)","v":540.48}]
["04578","ME","NEWE",{"$f":"VLOOKUP(C1650,EMISSION_FACTORS!$A$7:$F$33,6,0)","v":540.48}]
["04579","ME","NEWE",{"$f":"VLOOKUP(C1651,EMISSION_FACTORS!$A$7:$F$33,6,0)","v":540.48}]
["04605","ME","NEWE",{"$f":"VLOOKUP(C1652,EMISSION_FACTORS!$A$7:$F$33,6,0)","v":540.48}]
["04606","ME","NEWE",{"$f":"VLOOKUP(C1653,EMISSION_FACTORS!$A$7:$F$33,6,0)","v":540.48}]
["04607","ME","NEWE",{"$f":"VLOOKUP(C1654,EMISSION_FACTORS!$A$7:$F$33,6,0)","v":540.48}]
["04609","ME","NEWE",{"$f":"VLOOKUP(C1655,EMISSION_FACTORS!$A$7:$F$33,6,0)","v":540.48}]
["04611","ME","NEWE",{"$f":"VLOOKUP(C1656,EMISSION_FACTORS!$A$7:$F$33,6,0)","v":540.48}]
["04612","ME","NEWE",{"$f":"VLOOKUP(C1657,EMISSION_FACTORS!$A$7:$F$33,6,0)","v":540.48}]
["04613","ME","NEWE",{"$f":"VLOOKUP(C1658,EMISSION_FACTORS!$A$7:$F$33,6,0)","v":540.48}]
["04614","ME","NEWE",{"$f":"VLOOKUP(C1659,EMISSION_FACTORS!$A$7:$F$33,6,0)","v":540.48}]
["04616","ME","NEWE",{"$f":"VLOOKUP(C1660,EMISSION_FACTORS!$A$7:$F$33,6,0)","v":540.48}]
["04617","ME","NEWE",{"$f":"VLOOKUP(C1661,EMISSION_FACTORS!$A$7:$F$33,6,0)","v":540.48}]
["04619","ME","NEWE",{"$f":"VLOOKUP(C1662,EMISSION_FACTORS!$A$7:$F$33,6,0)","v":540.48}]
["04622","ME","NEWE",{"$f":"VLOOKUP(C1663,EMISSION_FACTORS!$A$7:$F$33,6,0)","v":540.48}]
["04623","ME","NEWE",{"$f":"VLOOKUP(C1664,EMISSION_FACTORS!$A$7:$F$33,6,0)","v":540.48}]
["04624","ME","NEWE",{"$f":"VLOOKUP(C1665,EMISSION_FACTORS!$A$7:$F$33,6,0)","v":540.48}]
["04625","ME","NEWE",{"$f":"VLOOKUP(C1666,EMISSION_FACTORS!$A$7:$F$33,6,0)","v":540.48}]
["04626","ME","NEWE",{"$f":"VLOOKUP(C1667,EMISSION_FACTORS!$A$7:$F$33,6,0)","v":540.48}]
["04627","ME","NEWE",{"$f":"VLOOKUP(C1668,EMISSION_FACTORS!$A$7:$F$33,6,0)","v":540.48}]
["04628","ME","NEWE",{"$f":"VLOOKUP(C1669,EMISSION_FACTORS!$A$7:$F$33,6,0)","v":540.48}]
["04629","ME","NEWE",{"$f":"VLOOKUP(C1670,EMISSION_FACTORS!$A$7:$F$33,6,0)","v":540.48}]
["04630","ME","NEWE",{"$f":"VLOOKUP(C1671,EMISSION_FACTORS!$A$7:$F$33,6,0)","v":540.48}]
["04631","ME","NEWE",{"$f":"VLOOKUP(C1672,EMISSION_FACTORS!$A$7:$F$33,6,0)","v":540.48}]
["04634","ME","NEWE",{"$f":"VLOOKUP(C1673,EMISSION_FACTORS!$A$7:$F$33,6,0)","v":540.48}]
["04635","ME","NEWE",{"$f":"VLOOKUP(C1674,EMISSION_FACTORS!$A$7:$F$33,6,0)","v":540.48}]
["04637","ME","NEWE",{"$f":"VLOOKUP(C1675,EMISSION_FACTORS!$A$7:$F$33,6,0)","v":540.48}]
["04640","ME","NEWE",{"$f":"VLOOKUP(C1676,EMISSION_FACTORS!$A$7:$F$33,6,0)","v":540.48}]
["04642","ME","NEWE",{"$f":"VLOOKUP(C1677,EMISSION_FACTORS!$A$7:$F$33,6,0)","v":540.48}]
["04643","ME","NEWE",{"$f":"VLOOKUP(C1678,EMISSION_FACTORS!$A$7:$F$33,6,0)","v":540.48}]
["04644","ME","NEWE",{"$f":"VLOOKUP(C1679,EMISSION_FACTORS!$A$7:$F$33,6,0)","v":540.48}]
["04645","ME","NEWE",{"$f":"VLOOKUP(C1680,EMISSION_FACTORS!$A$7:$F$33,6,0)","v":540.48}]
["04646","ME","NEWE",{"$f":"VLOOKUP(C1681,EMISSION_FACTORS!$A$7:$F$33,6,0)","v":540.48}]
["04648","ME","NEWE",{"$f":"VLOOKUP(C1682,EMISSION_FACTORS!$A$7:$F$33,6,0)","v":540.48}]
["04649","ME","NEWE",{"$f":"VLOOKUP(C1683,EMISSION_FACTORS!$A$7:$F$33,6,0)","v":540.48}]
["04650","ME","NEWE",{"$f":"VLOOKUP(C1684,EMISSION_FACTORS!$A$7:$F$33,6,0)","v":540.48}]
["04652","ME","NEWE",{"$f":"VLOOKUP(C1685,EMISSION_FACTORS!$A$7:$F$33,6,0)","v":540.48}]
["04653","ME","NEWE",{"$f":"VLOOKUP(C1686,EMISSION_FACTORS!$A$7:$F$33,6,0)","v":540.48}]
["04654","ME","NEWE",{"$f":"VLOOKUP(C1687,EMISSION_FACTORS!$A$7:$F$33,6,0)","v":540.48}]
["04655","ME","NEWE",{"$f":"VLOOKUP(C1688,EMISSION_FACTORS!$A$7:$F$33,6,0)","v":540.48}]
["04657","ME","NEWE",{"$f":"VLOOKUP(C1689,EMISSION_FACTORS!$A$7:$F$33,6,0)","v":540.48}]
["04658","ME","NEWE",{"$f":"VLOOKUP(C1690,EMISSION_FACTORS!$A$7:$F$33,6,0)","v":540.48}]
["04660","ME","NEWE",{"$f":"VLOOKUP(C1691,EMISSION_FACTORS!$A$7:$F$33,6,0)","v":540.48}]
["04662","ME","NEWE",{"$f":"VLOOKUP(C1692,EMISSION_FACTORS!$A$7:$F$33,6,0)","v":540.48}]
["04664","ME","NEWE",{"$f":"VLOOKUP(C1693,EMISSION_FACTORS!$A$7:$F$33,6,0)","v":540.48}]
["04666","ME","NEWE",{"$f":"VLOOKUP(C1694,EMISSION_FACTORS!$A$7:$F$33,6,0)","v":540.48}]
["04667","ME","NEWE",{"$f":"VLOOKUP(C1695,EMISSION_FACTORS!$A$7:$F$33,6,0)","v":540.48}]
["04668","ME","NEWE",{"$f":"VLOOKUP(C1696,EMISSION_FACTORS!$A$7:$F$33,6,0)","v":540.48}]
["04669","ME","NEWE",{"$f":"VLOOKUP(C1697,EMISSION_FACTORS!$A$7:$F$33,6,0)","v":540.48}]
["04671","ME","NEWE",{"$f":"VLOOKUP(C1698,EMISSION_FACTORS!$A$7:$F$33,6,0)","v":540.48}]
["04672","ME","NEWE",{"$f":"VLOOKUP(C1699,EMISSION_FACTORS!$A$7:$F$33,6,0)","v":540.48}]
["04673","ME","NEWE",{"$f":"VLOOKUP(C1700,EMISSION_FACTORS!$A$7:$F$33,6,0)","v":540.48}]
["04674","ME","NEWE",{"$f":"VLOOKUP(C1701,EMISSION_FACTORS!$A$7:$F$33,6,0)","v":540.48}]
["04675","ME","NEWE",{"$f":"VLOOKUP(C1702,EMISSION_FACTORS!$A$7:$F$33,6,0)","v":540.48}]
["04676","ME","NEWE",{"$f":"VLOOKUP(C1703,EMISSION_FACTORS!$A$7:$F$33,6,0)","v":540.48}]
["04677","ME","NEWE",{"$f":"VLOOKUP(C1704,EMISSION_FACTORS!$A$7:$F$33,6,0)","v":540.48}]
["04679","ME","NEWE",{"$f":"VLOOKUP(C1705,EMISSION_FACTORS!$A$7:$F$33,6,0)","v":540.48}]
["04680","ME","NEWE",{"$f":"VLOOKUP(C1706,EMISSION_FACTORS!$A$7:$F$33,6,0)","v":540.48}]
["04681","ME","NEWE",{"$f":"VLOOKUP(C1707,EMISSION_FACTORS!$A$7:$F$33,6,0)","v":540.48}]
["04683","ME","NEWE",{"$f":"VLOOKUP(C1708,EMISSION_FACTORS!$A$7:$F$33,6,0)","v":540.48}]
["04684","ME","NEWE",{"$f":"VLOOKUP(C1709,EMISSION_FACTORS!$A$7:$F$33,6,0)","v":540.48}]
["04685","ME","NEWE",{"$f":"VLOOKUP(C1710,EMISSION_FACTORS!$A$7:$F$33,6,0)","v":540.48}]
["04686","ME","NEWE",{"$f":"VLOOKUP(C1711,EMISSION_FACTORS!$A$7:$F$33,6,0)","v":540.48}]
["04691","ME","NEWE",{"$f":"VLOOKUP(C1712,EMISSION_FACTORS!$A$7:$F$33,6,0)","v":540.48}]
["04693","ME","NEWE",{"$f":"VLOOKUP(C1713,EMISSION_FACTORS!$A$7:$F$33,6,0)","v":540.48}]
["04694","ME","NEWE",{"$f":"VLOOKUP(C1714,EMISSION_FACTORS!$A$7:$F$33,6,0)","v":540.48}]
["04730","ME","NEWE",{"$f":"VLOOKUP(C1715,EMISSION_FACTORS!$A$7:$F$33,6,0)","v":540.48}]
["04732","ME","NEWE",{"$f":"VLOOKUP(C1716,EMISSION_FACTORS!$A$7:$F$33,6,0)","v":540.48}]
["04733","ME","NEWE",{"$f":"VLOOKUP(C1717,EMISSION_FACTORS!$A$7:$F$33,6,0)","v":540.48}]
["04734","ME","NEWE",{"$f":"VLOOKUP(C1718,EMISSION_FACTORS!$A$7:$F$33,6,0)","v":540.48}]
["04735","ME","NEWE",{"$f":"VLOOKUP(C1719,EMISSION_FACTORS!$A$7:$F$33,6,0)","v":540.48}]
["04736","ME","NEWE",{"$f":"VLOOKUP(C1720,EMISSION_FACTORS!$A$7:$F$33,6,0)","v":540.48}]
["04737","ME","NEWE",{"$f":"VLOOKUP(C1721,EMISSION_FACTORS!$A$7:$F$33,6,0)","v":540.48}]
["04738","ME","NEWE",{"$f":"VLOOKUP(C1722,EMISSION_FACTORS!$A$7:$F$33,6,0)","v":540.48}]
["04739","ME","NEWE",{"$f":"VLOOKUP(C1723,EMISSION_FACTORS!$A$7:$F$33,6,0)","v":540.48}]
["04740","ME","NEWE",{"$f":"VLOOKUP(C1724,EMISSION_FACTORS!$A$7:$F$33,6,0)","v":540.48}]
["04741","ME","NEWE",{"$f":"VLOOKUP(C1725,EMISSION_FACTORS!$A$7:$F$33,6,0)","v":540.48}]
["04742","ME","NEWE",{"$f":"VLOOKUP(C1726,EMISSION_FACTORS!$A$7:$F$33,6,0)","v":540.48}]
["04743","ME","NEWE",{"$f":"VLOOKUP(C1727,EMISSION_FACTORS!$A$7:$F$33,6,0)","v":540.48}]
["04744","ME","NEWE",{"$f":"VLOOKUP(C1728,EMISSION_FACTORS!$A$7:$F$33,6,0)","v":540.48}]
["04745","ME","NEWE",{"$f":"VLOOKUP(C1729,EMISSION_FACTORS!$A$7:$F$33,6,0)","v":540.48}]
["04746","ME","NEWE",{"$f":"VLOOKUP(C1730,EMISSION_FACTORS!$A$7:$F$33,6,0)","v":540.48}]
["04747","ME","NEWE",{"$f":"VLOOKUP(C1731,EMISSION_FACTORS!$A$7:$F$33,6,0)","v":540.48}]
["04750","ME","NEWE",{"$f":"VLOOKUP(C1732,EMISSION_FACTORS!$A$7:$F$33,6,0)","v":540.48}]
["04751","ME","NEWE",{"$f":"VLOOKUP(C1733,EMISSION_FACTORS!$A$7:$F$33,6,0)","v":540.48}]
["04756","ME","NEWE",{"$f":"VLOOKUP(C1734,EMISSION_FACTORS!$A$7:$F$33,6,0)","v":540.48}]
["04757","ME","NEWE",{"$f":"VLOOKUP(C1735,EMISSION_FACTORS!$A$7:$F$33,6,0)","v":540.48}]
["04758","ME","NEWE",{"$f":"VLOOKUP(C1736,EMISSION_FACTORS!$A$7:$F$33,6,0)","v":540.48}]
["04760","ME","NEWE",{"$f":"VLOOKUP(C1737,EMISSION_FACTORS!$A$7:$F$33,6,0)","v":540.48}]
["04761","ME","NEWE",{"$f":"VLOOKUP(C1738,EMISSION_FACTORS!$A$7:$F$33,6,0)","v":540.48}]
["04762","ME","NEWE",{"$f":"VLOOKUP(C1739,EMISSION_FACTORS!$A$7:$F$33,6,0)","v":540.48}]
["04763","ME","NEWE",{"$f":"VLOOKUP(C1740,EMISSION_FACTORS!$A$7:$F$33,6,0)","v":540.48}]
["04764","ME","NEWE",{"$f":"VLOOKUP(C1741,EMISSION_FACTORS!$A$7:$F$33,6,0)","v":540.48}]
["04765","ME","NEWE",{"$f":"VLOOKUP(C1742,EMISSION_FACTORS!$A$7:$F$33,6,0)","v":540.48}]
["04766","ME","NEWE",{"$f":"VLOOKUP(C1743,EMISSION_FACTORS!$A$7:$F$33,6,0)","v":540.48}]
["04768","ME","NEWE",{"$f":"VLOOKUP(C1744,EMISSION_FACTORS!$A$7:$F$33,6,0)","v":540.48}]
["04769","ME","NEWE",{"$f":"VLOOKUP(C1745,EMISSION_FACTORS!$A$7:$F$33,6,0)","v":540.48}]
["04772","ME","NEWE",{"$f":"VLOOKUP(C1746,EMISSION_FACTORS!$A$7:$F$33,6,0)","v":540.48}]
["04773","ME","NEWE",{"$f":"VLOOKUP(C1747,EMISSION_FACTORS!$A$7:$F$33,6,0)","v":540.48}]
["04774","ME","NEWE",{"$f":"VLOOKUP(C1748,EMISSION_FACTORS!$A$7:$F$33,6,0)","v":540.48}]
["04775","ME","NEWE",{"$f":"VLOOKUP(C1749,EMISSION_FACTORS!$A$7:$F$33,6,0)","v":540.48}]
["04776","ME","NEWE",{"$f":"VLOOKUP(C1750,EMISSION_FACTORS!$A$7:$F$33,6,0)","v":540.48}]
["04777","ME","NEWE",{"$f":"VLOOKUP(C1751,EMISSION_FACTORS!$A$7:$F$33,6,0)","v":540.48}]
["04779","ME","NEWE",{"$f":"VLOOKUP(C1752,EMISSION_FACTORS!$A$7:$F$33,6,0)","v":540.48}]
["04780","ME","NEWE",{"$f":"VLOOKUP(C1753,EMISSION_FACTORS!$A$7:$F$33,6,0)","v":540.48}]
["04781","ME","NEWE",{"$f":"VLOOKUP(C1754,EMISSION_FACTORS!$A$7:$F$33,6,0)","v":540.48}]
["04783","ME","NEWE",{"$f":"VLOOKUP(C1755,EMISSION_FACTORS!$A$7:$F$33,6,0)","v":540.48}]
["04785","ME","NEWE",{"$f":"VLOOKUP(C1756,EMISSION_FACTORS!$A$7:$F$33,6,0)","v":540.48}]
["04786","ME","NEWE",{"$f":"VLOOKUP(C1757,EMISSION_FACTORS!$A$7:$F$33,6,0)","v":540.48}]
["04787","ME","NEWE",{"$f":"VLOOKUP(C1758,EMISSION_FACTORS!$A$7:$F$33,6,0)","v":540.48}]
["04841","ME","NEWE",{"$f":"VLOOKUP(C1759,EMISSION_FACTORS!$A$7:$F$33,6,0)","v":540.48}]
["04843","ME","NEWE",{"$f":"VLOOKUP(C1760,EMISSION_FACTORS!$A$7:$F$33,6,0)","v":540.48}]
["04846","ME","NEWE",{"$f":"VLOOKUP(C1761,EMISSION_FACTORS!$A$7:$F$33,6,0)","v":540.48}]
["04847","ME","NEWE",{"$f":"VLOOKUP(C1762,EMISSION_FACTORS!$A$7:$F$33,6,0)","v":540.48}]
["04848","ME","NEWE",{"$f":"VLOOKUP(C1763,EMISSION_FACTORS!$A$7:$F$33,6,0)","v":540.48}]
["04849","ME","NEWE",{"$f":"VLOOKUP(C1764,EMISSION_FACTORS!$A$7:$F$33,6,0)","v":540.48}]
["04850","ME","NEWE",{"$f":"VLOOKUP(C1765,EMISSION_FACTORS!$A$7:$F$33,6,0)","v":540.48}]
["04851","ME","NEWE",{"$f":"VLOOKUP(C1766,EMISSION_FACTORS!$A$7:$F$33,6,0)","v":540.48}]
["04852","ME","NEWE",{"$f":"VLOOKUP(C1767,EMISSION_FACTORS!$A$7:$F$33,6,0)","v":540.48}]
["04853","ME","NEWE",{"$f":"VLOOKUP(C1768,EMISSION_FACTORS!$A$7:$F$33,6,0)","v":540.48}]
["04854","ME","NEWE",{"$f":"VLOOKUP(C1769,EMISSION_FACTORS!$A$7:$F$33,6,0)","v":540.48}]
["04855","ME","NEWE",{"$f":"VLOOKUP(C1770,EMISSION_FACTORS!$A$7:$F$33,6,0)","v":540.48}]
["04856","ME","NEWE",{"$f":"VLOOKUP(C1771,EMISSION_FACTORS!$A$7:$F$33,6,0)","v":540.48}]
["04858","ME","NEWE",{"$f":"VLOOKUP(C1772,EMISSION_FACTORS!$A$7:$F$33,6,0)","v":540.48}]
["04859","ME","NEWE",{"$f":"VLOOKUP(C1773,EMISSION_FACTORS!$A$7:$F$33,6,0)","v":540.48}]
["04860","ME","NEWE",{"$f":"VLOOKUP(C1774,EMISSION_FACTORS!$A$7:$F$33,6,0)","v":540.48}]
["04861","ME","NEWE",{"$f":"VLOOKUP(C1775,EMISSION_FACTORS!$A$7:$F$33,6,0)","v":540.48}]
["04862","ME","NEWE",{"$f":"VLOOKUP(C1776,EMISSION_FACTORS!$A$7:$F$33,6,0)","v":540.48}]
["04863","ME","NEWE",{"$f":"VLOOKUP(C1777,EMISSION_FACTORS!$A$7:$F$33,6,0)","v":540.48}]
["04864","ME","NEWE",{"$f":"VLOOKUP(C1778,EMISSION_FACTORS!$A$7:$F$33,6,0)","v":540.48}]
["04865","ME","NEWE",{"$f":"VLOOKUP(C1779,EMISSION_FACTORS!$A$7:$F$33,6,0)","v":540.48}]
["04901","ME","NEWE",{"$f":"VLOOKUP(C1780,EMISSION_FACTORS!$A$7:$F$33,6,0)","v":540.48}]
["04903","ME","NEWE",{"$f":"VLOOKUP(C1781,EMISSION_FACTORS!$A$7:$F$33,6,0)","v":540.48}]
["04910","ME","NEWE",{"$f":"VLOOKUP(C1782,EMISSION_FACTORS!$A$7:$F$33,6,0)","v":540.48}]
["04911","ME","NEWE",{"$f":"VLOOKUP(C1783,EMISSION_FACTORS!$A$7:$F$33,6,0)","v":540.48}]
["04912","ME","NEWE",{"$f":"VLOOKUP(C1784,EMISSION_FACTORS!$A$7:$F$33,6,0)","v":540.48}]
["04915","ME","NEWE",{"$f":"VLOOKUP(C1785,EMISSION_FACTORS!$A$7:$F$33,6,0)","v":540.48}]
["04917","ME","NEWE",{"$f":"VLOOKUP(C1786,EMISSION_FACTORS!$A$7:$F$33,6,0)","v":540.48}]
["04918","ME","NEWE",{"$f":"VLOOKUP(C1787,EMISSION_FACTORS!$A$7:$F$33,6,0)","v":540.48}]
["04920","ME","NEWE",{"$f":"VLOOKUP(C1788,EMISSION_FACTORS!$A$7:$F$33,6,0)","v":540.48}]
["04921","ME","NEWE",{"$f":"VLOOKUP(C1789,EMISSION_FACTORS!$A$7:$F$33,6,0)","v":540.48}]
["04922","ME","NEWE",{"$f":"VLOOKUP(C1790,EMISSION_FACTORS!$A$7:$F$33,6,0)","v":540.48}]
["04923","ME","NEWE",{"$f":"VLOOKUP(C1791,EMISSION_FACTORS!$A$7:$F$33,6,0)","v":540.48}]
["04924","ME","NEWE",{"$f":"VLOOKUP(C1792,EMISSION_FACTORS!$A$7:$F$33,6,0)","v":540.48}]
["04925","ME","NEWE",{"$f":"VLOOKUP(C1793,EMISSION_FACTORS!$A$7:$F$33,6,0)","v":540.48}]
["04926","ME","NEWE",{"$f":"VLOOKUP(C1794,EMISSION_FACTORS!$A$7:$F$33,6,0)","v":540.48}]
["04927","ME","NEWE",{"$f":"VLOOKUP(C1795,EMISSION_FACTORS!$A$7:$F$33,6,0)","v":540.48}]
["04928","ME","NEWE",{"$f":"VLOOKUP(C1796,EMISSION_FACTORS!$A$7:$F$33,6,0)","v":540.48}]
["04929","ME","NEWE",{"$f":"VLOOKUP(C1797,EMISSION_FACTORS!$A$7:$F$33,6,0)","v":540.48}]
["04930","ME","NEWE",{"$f":"VLOOKUP(C1798,EMISSION_FACTORS!$A$7:$F$33,6,0)","v":540.48}]
["04932","ME","NEWE",{"$f":"VLOOKUP(C1799,EMISSION_FACTORS!$A$7:$F$33,6,0)","v":540.48}]
["04933","ME","NEWE",{"$f":"VLOOKUP(C1800,EMISSION_FACTORS!$A$7:$F$33,6,0)","v":540.48}]
["04935","ME","NEWE",{"$f":"VLOOKUP(C1801,EMISSION_FACTORS!$A$7:$F$33,6,0)","v":540.48}]
["04936","ME","NEWE",{"$f":"VLOOKUP(C1802,EMISSION_FACTORS!$A$7:$F$33,6,0)","v":540.48}]
["04937","ME","NEWE",{"$f":"VLOOKUP(C1803,EMISSION_FACTORS!$A$7:$F$33,6,0)","v":540.48}]
["04938","ME","NEWE",{"$f":"VLOOKUP(C1804,EMISSION_FACTORS!$A$7:$F$33,6,0)","v":540.48}]
["04939","ME","NEWE",{"$f":"VLOOKUP(C1805,EMISSION_FACTORS!$A$7:$F$33,6,0)","v":540.48}]
["04940","ME","NEWE",{"$f":"VLOOKUP(C1806,EMISSION_FACTORS!$A$7:$F$33,6,0)","v":540.48}]
["04941","ME","NEWE",{"$f":"VLOOKUP(C1807,EMISSION_FACTORS!$A$7:$F$33,6,0)","v":540.48}]
["04942","ME","NEWE",{"$f":"VLOOKUP(C1808,EMISSION_FACTORS!$A$7:$F$33,6,0)","v":540.48}]
["04943","ME","NEWE",{"$f":"VLOOKUP(C1809,EMISSION_FACTORS!$A$7:$F$33,6,0)","v":540.48}]
["04944","ME","NEWE",{"$f":"VLOOKUP(C1810,EMISSION_FACTORS!$A$7:$F$33,6,0)","v":540.48}]
["04945","ME","NEWE",{"$f":"VLOOKUP(C1811,EMISSION_FACTORS!$A$7:$F$33,6,0)","v":540.48}]
["04947","ME","NEWE",{"$f":"VLOOKUP(C1812,EMISSION_FACTORS!$A$7:$F$33,6,0)","v":540.48}]
["04949","ME","NEWE",{"$f":"VLOOKUP(C1813,EMISSION_FACTORS!$A$7:$F$33,6,0)","v":540.48}]
["04950","ME","NEWE",{"$f":"VLOOKUP(C1814,EMISSION_FACTORS!$A$7:$F$33,6,0)","v":540.48}]
["04951","ME","NEWE",{"$f":"VLOOKUP(C1815,EMISSION_FACTORS!$A$7:$F$33,6,0)","v":540.48}]
["04952","ME","NEWE",{"$f":"VLOOKUP(C1816,EMISSION_FACTORS!$A$7:$F$33,6,0)","v":540.48}]
["04953","ME","NEWE",{"$f":"VLOOKUP(C1817,EMISSION_FACTORS!$A$7:$F$33,6,0)","v":540.48}]
["04954","ME","NEWE",{"$f":"VLOOKUP(C1818,EMISSION_FACTORS!$A$7:$F$33,6,0)","v":540.48}]
["04955","ME","NEWE",{"$f":"VLOOKUP(C1819,EMISSION_FACTORS!$A$7:$F$33,6,0)","v":540.48}]
["04956","ME","NEWE",{"$f":"VLOOKUP(C1820,EMISSION_FACTORS!$A$7:$F$33,6,0)","v":540.48}]
["04957","ME","NEWE",{"$f":"VLOOKUP(C1821,EMISSION_FACTORS!$A$7:$F$33,6,0)","v":540.48}]
["04958","ME","NEWE",{"$f":"VLOOKUP(C1822,EMISSION_FACTORS!$A$7:$F$33,6,0)","v":540.48}]
["04961","ME","NEWE",{"$f":"VLOOKUP(C1823,EMISSION_FACTORS!$A$7:$F$33,6,0)","v":540.48}]
["04962","ME","NEWE",{"$f":"VLOOKUP(C1824,EMISSION_FACTORS!$A$7:$F$33,6,0)","v":540.48}]
["04963","ME","NEWE",{"$f":"VLOOKUP(C1825,EMISSION_FACTORS!$A$7:$F$33,6,0)","v":540.48}]
["04964","ME","NEWE",{"$f":"VLOOKUP(C1826,EMISSION_FACTORS!$A$7:$F$33,6,0)","v":540.48}]
["04965","ME","NEWE",{"$f":"VLOOKUP(C1827,EMISSION_FACTORS!$A$7:$F$33,6,0)","v":540.48}]
["04966","ME","NEWE",{"$f":"VLOOKUP(C1828,EMISSION_FACTORS!$A$7:$F$33,6,0)","v":540.48}]
["04967","ME","NEWE",{"$f":"VLOOKUP(C1829,EMISSION_FACTORS!$A$7:$F$33,6,0)","v":540.48}]
["04969","ME","NEWE",{"$f":"VLOOKUP(C1830,EMISSION_FACTORS!$A$7:$F$33,6,0)","v":540.48}]
["04970","ME","NEWE",{"$f":"VLOOKUP(C1831,EMISSION_FACTORS!$A$7:$F$33,6,0)","v":540.48}]
["04971","ME","NEWE",{"$f":"VLOOKUP(C1832,EMISSION_FACTORS!$A$7:$F$33,6,0)","v":540.48}]
["04972","ME","NEWE",{"$f":"VLOOKUP(C1833,EMISSION_FACTORS!$A$7:$F$33,6,0)","v":540.48}]
["04973","ME","NEWE",{"$f":"VLOOKUP(C1834,EMISSION_FACTORS!$A$7:$F$33,6,0)","v":540.48}]
["04974","ME","NEWE",{"$f":"VLOOKUP(C1835,EMISSION_FACTORS!$A$7:$F$33,6,0)","v":540.48}]
["04975","ME","NEWE",{"$f":"VLOOKUP(C1836,EMISSION_FACTORS!$A$7:$F$33,6,0)","v":540.48}]
["04976","ME","NEWE",{"$f":"VLOOKUP(C1837,EMISSION_FACTORS!$A$7:$F$33,6,0)","v":540.48}]
["04978","ME","NEWE",{"$f":"VLOOKUP(C1838,EMISSION_FACTORS!$A$7:$F$33,6,0)","v":540.48}]
["04979","ME","NEWE",{"$f":"VLOOKUP(C1839,EMISSION_FACTORS!$A$7:$F$33,6,0)","v":540.48}]
["04981","ME","NEWE",{"$f":"VLOOKUP(C1840,EMISSION_FACTORS!$A$7:$F$33,6,0)","v":540.48}]
["04982","ME","NEWE",{"$f":"VLOOKUP(C1841,EMISSION_FACTORS!$A$7:$F$33,6,0)","v":540.48}]
["04983","ME","NEWE",{"$f":"VLOOKUP(C1842,EMISSION_FACTORS!$A$7:$F$33,6,0)","v":540.48}]
["04984","ME","NEWE",{"$f":"VLOOKUP(C1843,EMISSION_FACTORS!$A$7:$F$33,6,0)","v":540.48}]
["04985","ME","NEWE",{"$f":"VLOOKUP(C1844,EMISSION_FACTORS!$A$7:$F$33,6,0)","v":540.48}]
["04986","ME","NEWE",{"$f":"VLOOKUP(C1845,EMISSION_FACTORS!$A$7:$F$33,6,0)","v":540.48}]
["04987","ME","NEWE",{"$f":"VLOOKUP(C1846,EMISSION_FACTORS!$A$7:$F$33,6,0)","v":540.48}]
["04988","ME","NEWE",{"$f":"VLOOKUP(C1847,EMISSION_FACTORS!$A$7:$F$33,6,0)","v":540.48}]
["04989","ME","NEWE",{"$f":"VLOOKUP(C1848,EMISSION_FACTORS!$A$7:$F$33,6,0)","v":540.48}]
["04992","ME","NEWE",{"$f":"VLOOKUP(C1849,EMISSION_FACTORS!$A$7:$F$33,6,0)","v":540.48}]
["05001","VT","NEWE",{"$f":"VLOOKUP(C1850,EMISSION_FACTORS!$A$7:$F$33,6,0)","v":540.48}]
["05009","VT","NEWE",{"$f":"VLOOKUP(C1851,EMISSION_FACTORS!$A$7:$F$33,6,0)","v":540.48}]
["05030","VT","NEWE",{"$f":"VLOOKUP(C1852,EMISSION_FACTORS!$A$7:$F$33,6,0)","v":540.48}]
["05031","VT","NEWE",{"$f":"VLOOKUP(C1853,EMISSION_FACTORS!$A$7:$F$33,6,0)","v":540.48}]
["05032","VT","NEWE",{"$f":"VLOOKUP(C1854,EMISSION_FACTORS!$A$7:$F$33,6,0)","v":540.48}]
["05033","VT","NEWE",{"$f":"VLOOKUP(C1855,EMISSION_FACTORS!$A$7:$F$33,6,0)","v":540.48}]
["05034","VT","NEWE",{"$f":"VLOOKUP(C1856,EMISSION_FACTORS!$A$7:$F$33,6,0)","v":540.48}]
["05035","VT","NEWE",{"$f":"VLOOKUP(C1857,EMISSION_FACTORS!$A$7:$F$33,6,0)","v":540.48}]
["05036","VT","NEWE",{"$f":"VLOOKUP(C1858,EMISSION_FACTORS!$A$7:$F$33,6,0)","v":540.48}]
["05037","VT","NEWE",{"$f":"VLOOKUP(C1859,EMISSION_FACTORS!$A$7:$F$33,6,0)","v":540.48}]
["05038","VT","NEWE",{"$f":"VLOOKUP(C1860,EMISSION_FACTORS!$A$7:$F$33,6,0)","v":540.48}]
["05039","VT","NEWE",{"$f":"VLOOKUP(C1861,EMISSION_FACTORS!$A$7:$F$33,6,0)","v":540.48}]
["05040","VT","NEWE",{"$f":"VLOOKUP(C1862,EMISSION_FACTORS!$A$7:$F$33,6,0)","v":540.48}]
["05041","VT","NEWE",{"$f":"VLOOKUP(C1863,EMISSION_FACTORS!$A$7:$F$33,6,0)","v":540.48}]
["05042","VT","NEWE",{"$f":"VLOOKUP(C1864,EMISSION_FACTORS!$A$7:$F$33,6,0)","v":540.48}]
["05043","VT","NEWE",{"$f":"VLOOKUP(C1865,EMISSION_FACTORS!$A$7:$F$33,6,0)","v":540.48}]
["05045","VT","NEWE",{"$f":"VLOOKUP(C1866,EMISSION_FACTORS!$A$7:$F$33,6,0)","v":540.48}]
["05046","VT","NEWE",{"$f":"VLOOKUP(C1867,EMISSION_FACTORS!$A$7:$F$33,6,0)","v":540.48}]
["05047","VT","NEWE",{"$f":"VLOOKUP(C1868,EMISSION_FACTORS!$A$7:$F$33,6,0)","v":540.48}]
["05048","VT","NEWE",{"$f":"VLOOKUP(C1869,EMISSION_FACTORS!$A$7:$F$33,6,0)","v":540.48}]
["05049","VT","NEWE",{"$f":"VLOOKUP(C1870,EMISSION_FACTORS!$A$7:$F$33,6,0)","v":540.48}]
["05050","VT","NEWE",{"$f":"VLOOKUP(C1871,EMISSION_FACTORS!$A$7:$F$33,6,0)","v":540.48}]
["05051","VT","NEWE",{"$f":"VLOOKUP(C1872,EMISSION_FACTORS!$A$7:$F$33,6,0)","v":540.48}]
["05052","VT","NEWE",{"$f":"VLOOKUP(C1873,EMISSION_FACTORS!$A$7:$F$33,6,0)","v":540.48}]
["05053","VT","NEWE",{"$f":"VLOOKUP(C1874,EMISSION_FACTORS!$A$7:$F$33,6,0)","v":540.48}]
["05054","VT","NEWE",{"$f":"VLOOKUP(C1875,EMISSION_FACTORS!$A$7:$F$33,6,0)","v":540.48}]
["05055","VT","NEWE",{"$f":"VLOOKUP(C1876,EMISSION_FACTORS!$A$7:$F$33,6,0)","v":540.48}]
["05056","VT","NEWE",{"$f":"VLOOKUP(C1877,EMISSION_FACTORS!$A$7:$F$33,6,0)","v":540.48}]
["05058","VT","NEWE",{"$f":"VLOOKUP(C1878,EMISSION_FACTORS!$A$7:$F$33,6,0)","v":540.48}]
["05059","VT","NEWE",{"$f":"VLOOKUP(C1879,EMISSION_FACTORS!$A$7:$F$33,6,0)","v":540.48}]
["05060","VT","NEWE",{"$f":"VLOOKUP(C1880,EMISSION_FACTORS!$A$7:$F$33,6,0)","v":540.48}]
["05061","VT","NEWE",{"$f":"VLOOKUP(C1881,EMISSION_FACTORS!$A$7:$F$33,6,0)","v":540.48}]
["05062","VT","NEWE",{"$f":"VLOOKUP(C1882,EMISSION_FACTORS!$A$7:$F$33,6,0)","v":540.48}]
["05065","VT","NEWE",{"$f":"VLOOKUP(C1883,EMISSION_FACTORS!$A$7:$F$33,6,0)","v":540.48}]
["05067","VT","NEWE",{"$f":"VLOOKUP(C1884,EMISSION_FACTORS!$A$7:$F$33,6,0)","v":540.48}]
["05068","VT","NEWE",{"$f":"VLOOKUP(C1885,EMISSION_FACTORS!$A$7:$F$33,6,0)","v":540.48}]
["05069","VT","NEWE",{"$f":"VLOOKUP(C1886,EMISSION_FACTORS!$A$7:$F$33,6,0)","v":540.48}]
["05070","VT","NEWE",{"$f":"VLOOKUP(C1887,EMISSION_FACTORS!$A$7:$F$33,6,0)","v":540.48}]
["05071","VT","NEWE",{"$f":"VLOOKUP(C1888,EMISSION_FACTORS!$A$7:$F$33,6,0)","v":540.48}]
["05072","VT","NEWE",{"$f":"VLOOKUP(C1889,EMISSION_FACTORS!$A$7:$F$33,6,0)","v":540.48}]
["05073","VT","NEWE",{"$f":"VLOOKUP(C1890,EMISSION_FACTORS!$A$7:$F$33,6,0)","v":540.48}]
["05074","VT","NEWE",{"$f":"VLOOKUP(C1891,EMISSION_FACTORS!$A$7:$F$33,6,0)","v":540.48}]
["05075","VT","NEWE",{"$f":"VLOOKUP(C1892,EMISSION_FACTORS!$A$7:$F$33,6,0)","v":540.48}]
["05076","VT","NEWE",{"$f":"VLOOKUP(C1893,EMISSION_FACTORS!$A$7:$F$33,6,0)","v":540.48}]
["05077","VT","NEWE",{"$f":"VLOOKUP(C1894,EMISSION_FACTORS!$A$7:$F$33,6,0)","v":540.48}]
["05079","VT","NEWE",{"$f":"VLOOKUP(C1895,EMISSION_FACTORS!$A$7:$F$33,6,0)","v":540.48}]
["05081","VT","NEWE",{"$f":"VLOOKUP(C1896,EMISSION_FACTORS!$A$7:$F$33,6,0)","v":540.48}]
["05083","VT","NEWE",{"$f":"VLOOKUP(C1897,EMISSION_FACTORS!$A$7:$F$33,6,0)","v":540.48}]
["05084","VT","NEWE",{"$f":"VLOOKUP(C1898,EMISSION_FACTORS!$A$7:$F$33,6,0)","v":540.48}]
["05085","VT","NEWE",{"$f":"VLOOKUP(C1899,EMISSION_FACTORS!$A$7:$F$33,6,0)","v":540.48}]
["05086","VT","NEWE",{"$f":"VLOOKUP(C1900,EMISSION_FACTORS!$A$7:$F$33,6,0)","v":540.48}]
["05088","VT","NEWE",{"$f":"VLOOKUP(C1901,EMISSION_FACTORS!$A$7:$F$33,6,0)","v":540.48}]
["05089","VT","NEWE",{"$f":"VLOOKUP(C1902,EMISSION_FACTORS!$A$7:$F$33,6,0)","v":540.48}]
["05091","VT","NEWE",{"$f":"VLOOKUP(C1903,EMISSION_FACTORS!$A$7:$F$33,6,0)","v":540.48}]
["05101","VT","NEWE",{"$f":"VLOOKUP(C1904,EMISSION_FACTORS!$A$7:$F$33,6,0)","v":540.48}]
["05141","VT","NEWE",{"$f":"VLOOKUP(C1905,EMISSION_FACTORS!$A$7:$F$33,6,0)","v":540.48}]
["05142","VT","NEWE",{"$f":"VLOOKUP(C1906,EMISSION_FACTORS!$A$7:$F$33,6,0)","v":540.48}]
["05143","VT","NEWE",{"$f":"VLOOKUP(C1907,EMISSION_FACTORS!$A$7:$F$33,6,0)","v":540.48}]
["05144","VT","NEWE",{"$f":"VLOOKUP(C1908,EMISSION_FACTORS!$A$7:$F$33,6,0)","v":540.48}]
["05146","VT","NEWE",{"$f":"VLOOKUP(C1909,EMISSION_FACTORS!$A$7:$F$33,6,0)","v":540.48}]
["05148","VT","NEWE",{"$f":"VLOOKUP(C1910,EMISSION_FACTORS!$A$7:$F$33,6,0)","v":540.48}]
["05149","VT","NEWE",{"$f":"VLOOKUP(C1911,EMISSION_FACTORS!$A$7:$F$33,6,0)","v":540.48}]
["05150","VT","NEWE",{"$f":"VLOOKUP(C1912,EMISSION_FACTORS!$A$7:$F$33,6,0)","v":540.48}]
["05151","VT","NEWE",{"$f":"VLOOKUP(C1913,EMISSION_FACTORS!$A$7:$F$33,6,0)","v":540.48}]
["05152","VT","NEWE",{"$f":"VLOOKUP(C1914,EMISSION_FACTORS!$A$7:$F$33,6,0)","v":540.48}]
["05153","VT","NEWE",{"$f":"VLOOKUP(C1915,EMISSION_FACTORS!$A$7:$F$33,6,0)","v":540.48}]
["05154","VT","NEWE",{"$f":"VLOOKUP(C1916,EMISSION_FACTORS!$A$7:$F$33,6,0)","v":540.48}]
["05155","VT","NEWE",{"$f":"VLOOKUP(C1917,EMISSION_FACTORS!$A$7:$F$33,6,0)","v":540.48}]
["05156","VT","NEWE",{"$f":"VLOOKUP(C1918,EMISSION_FACTORS!$A$7:$F$33,6,0)","v":540.48}]
["05158","VT","NEWE",{"$f":"VLOOKUP(C1919,EMISSION_FACTORS!$A$7:$F$33,6,0)","v":540.48}]
["05159","VT","NEWE",{"$f":"VLOOKUP(C1920,EMISSION_FACTORS!$A$7:$F$33,6,0)","v":540.48}]
["05161","VT","NEWE",{"$f":"VLOOKUP(C1921,EMISSION_FACTORS!$A$7:$F$33,6,0)","v":540.48}]
["05201","VT","NEWE",{"$f":"VLOOKUP(C1922,EMISSION_FACTORS!$A$7:$F$33,6,0)","v":540.48}]
["05250","VT","NEWE",{"$f":"VLOOKUP(C1923,EMISSION_FACTORS!$A$7:$F$33,6,0)","v":540.48}]
["05251","VT","NEWE",{"$f":"VLOOKUP(C1924,EMISSION_FACTORS!$A$7:$F$33,6,0)","v":540.48}]
["05252","VT","NEWE",{"$f":"VLOOKUP(C1925,EMISSION_FACTORS!$A$7:$F$33,6,0)","v":540.48}]
["05253","VT","NEWE",{"$f":"VLOOKUP(C1926,EMISSION_FACTORS!$A$7:$F$33,6,0)","v":540.48}]
["05254","VT","NEWE",{"$f":"VLOOKUP(C1927,EMISSION_FACTORS!$A$7:$F$33,6,0)","v":540.48}]
["05255","VT","NEWE",{"$f":"VLOOKUP(C1928,EMISSION_FACTORS!$A$7:$F$33,6,0)","v":540.48}]
["05257","VT","NEWE",{"$f":"VLOOKUP(C1929,EMISSION_FACTORS!$A$7:$F$33,6,0)","v":540.48}]
["05260","VT","NEWE",{"$f":"VLOOKUP(C1930,EMISSION_FACTORS!$A$7:$F$33,6,0)","v":540.48}]
["05261","VT","NEWE",{"$f":"VLOOKUP(C1931,EMISSION_FACTORS!$A$7:$F$33,6,0)","v":540.48}]
["05262","VT","NEWE",{"$f":"VLOOKUP(C1932,EMISSION_FACTORS!$A$7:$F$33,6,0)","v":540.48}]
["05301","VT","NEWE",{"$f":"VLOOKUP(C1933,EMISSION_FACTORS!$A$7:$F$33,6,0)","v":540.48}]
["05302","VT","NEWE",{"$f":"VLOOKUP(C1934,EMISSION_FACTORS!$A$7:$F$33,6,0)","v":540.48}]
["05303","VT","NEWE",{"$f":"VLOOKUP(C1935,EMISSION_FACTORS!$A$7:$F$33,6,0)","v":540.48}]
["05304","VT","NEWE",{"$f":"VLOOKUP(C1936,EMISSION_FACTORS!$A$7:$F$33,6,0)","v":540.48}]
["05340","VT","NEWE",{"$f":"VLOOKUP(C1937,EMISSION_FACTORS!$A$7:$F$33,6,0)","v":540.48}]
["05341","VT","NEWE",{"$f":"VLOOKUP(C1938,EMISSION_FACTORS!$A$7:$F$33,6,0)","v":540.48}]
["05342","VT","NEWE",{"$f":"VLOOKUP(C1939,EMISSION_FACTORS!$A$7:$F$33,6,0)","v":540.48}]
["05343","VT","NEWE",{"$f":"VLOOKUP(C1940,EMISSION_FACTORS!$A$7:$F$33,6,0)","v":540.48}]
["05344","VT","NEWE",{"$f":"VLOOKUP(C1941,EMISSION_FACTORS!$A$7:$F$33,6,0)","v":540.48}]
["05345","VT","NEWE",{"$f":"VLOOKUP(C1942,EMISSION_FACTORS!$A$7:$F$33,6,0)","v":540.48}]
["05346","VT","NEWE",{"$f":"VLOOKUP(C1943,EMISSION_FACTORS!$A$7:$F$33,6,0)","v":540.48}]
["05350","VT","NEWE",{"$f":"VLOOKUP(C1944,EMISSION_FACTORS!$A$7:$F$33,6,0)","v":540.48}]
["05351","VT","NEWE",{"$f":"VLOOKUP(C1945,EMISSION_FACTORS!$A$7:$F$33,6,0)","v":540.48}]
["05352","VT","NEWE",{"$f":"VLOOKUP(C1946,EMISSION_FACTORS!$A$7:$F$33,6,0)","v":540.48}]
["05353","VT","NEWE",{"$f":"VLOOKUP(C1947,EMISSION_FACTORS!$A$7:$F$33,6,0)","v":540.48}]
["05354","VT","NEWE",{"$f":"VLOOKUP(C1948,EMISSION_FACTORS!$A$7:$F$33,6,0)","v":540.48}]
["05355","VT","NEWE",{"$f":"VLOOKUP(C1949,EMISSION_FACTORS!$A$7:$F$33,6,0)","v":540.48}]
["05356","VT","NEWE",{"$f":"VLOOKUP(C1950,EMISSION_FACTORS!$A$7:$F$33,6,0)","v":540.48}]
["05357","VT","NEWE",{"$f":"VLOOKUP(C1951,EMISSION_FACTORS!$A$7:$F$33,6,0)","v":540.48}]
["05358","VT","NEWE",{"$f":"VLOOKUP(C1952,EMISSION_FACTORS!$A$7:$F$33,6,0)","v":540.48}]
["05359","VT","NEWE",{"$f":"VLOOKUP(C1953,EMISSION_FACTORS!$A$7:$F$33,6,0)","v":540.48}]
["05360","VT","NEWE",{"$f":"VLOOKUP(C1954,EMISSION_FACTORS!$A$7:$F$33,6,0)","v":540.48}]
["05361","VT","NEWE",{"$f":"VLOOKUP(C1955,EMISSION_FACTORS!$A$7:$F$33,6,0)","v":540.48}]
["05362","VT","NEWE",{"$f":"VLOOKUP(C1956,EMISSION_FACTORS!$A$7:$F$33,6,0)","v":540.48}]
["05363","VT","NEWE",{"$f":"VLOOKUP(C1957,EMISSION_FACTORS!$A$7:$F$33,6,0)","v":540.48}]
["05401","VT","NEWE",{"$f":"VLOOKUP(C1958,EMISSION_FACTORS!$A$7:$F$33,6,0)","v":540.48}]
["05402","VT","NEWE",{"$f":"VLOOKUP(C1959,EMISSION_FACTORS!$A$7:$F$33,6,0)","v":540.48}]
["05403","VT","NEWE",{"$f":"VLOOKUP(C1960,EMISSION_FACTORS!$A$7:$F$33,6,0)","v":540.48}]
["05404","VT","NEWE",{"$f":"VLOOKUP(C1961,EMISSION_FACTORS!$A$7:$F$33,6,0)","v":540.48}]
["05405","VT","NEWE",{"$f":"VLOOKUP(C1962,EMISSION_FACTORS!$A$7:$F$33,6,0)","v":540.48}]
["05406","VT","NEWE",{"$f":"VLOOKUP(C1963,EMISSION_FACTORS!$A$7:$F$33,6,0)","v":540.48}]
["05407","VT","NEWE",{"$f":"VLOOKUP(C1964,EMISSION_FACTORS!$A$7:$F$33,6,0)","v":540.48}]
["05408","VT","NEWE",{"$f":"VLOOKUP(C1965,EMISSION_FACTORS!$A$7:$F$33,6,0)","v":540.48}]
["05439","VT","NEWE",{"$f":"VLOOKUP(C1966,EMISSION_FACTORS!$A$7:$F$33,6,0)","v":540.48}]
["05440","VT","NEWE",{"$f":"VLOOKUP(C1967,EMISSION_FACTORS!$A$7:$F$33,6,0)","v":540.48}]
["05441","VT","NEWE",{"$f":"VLOOKUP(C1968,EMISSION_FACTORS!$A$7:$F$33,6,0)","v":540.48}]
["05442","VT","NEWE",{"$f":"VLOOKUP(C1969,EMISSION_FACTORS!$A$7:$F$33,6,0)","v":540.48}]
["05443","VT","NEWE",{"$f":"VLOOKUP(C1970,EMISSION_FACTORS!$A$7:$F$33,6,0)","v":540.48}]
["05444","VT","NEWE",{"$f":"VLOOKUP(C1971,EMISSION_FACTORS!$A$7:$F$33,6,0)","v":540.48}]
["05445","VT","NEWE",{"$f":"VLOOKUP(C1972,EMISSION_FACTORS!$A$7:$F$33,6,0)","v":540.48}]
["05446","VT","NEWE",{"$f":"VLOOKUP(C1973,EMISSION_FACTORS!$A$7:$F$33,6,0)","v":540.48}]
["05447","VT","NEWE",{"$f":"VLOOKUP(C1974,EMISSION_FACTORS!$A$7:$F$33,6,0)","v":540.48}]
["05448","VT","NEWE",{"$f":"VLOOKUP(C1975,EMISSION_FACTORS!$A$7:$F$33,6,0)","v":540.48}]
["05449","VT","NEWE",{"$f":"VLOOKUP(C1976,EMISSION_FACTORS!$A$7:$F$33,6,0)","v":540.48}]
["05450","VT","NEWE",{"$f":"VLOOKUP(C1977,EMISSION_FACTORS!$A$7:$F$33,6,0)","v":540.48}]
["05451","VT","NEWE",{"$f":"VLOOKUP(C1978,EMISSION_FACTORS!$A$7:$F$33,6,0)","v":540.48}]
["05452","VT","NEWE",{"$f":"VLOOKUP(C1979,EMISSION_FACTORS!$A$7:$F$33,6,0)","v":540.48}]
["05453","VT","NEWE",{"$f":"VLOOKUP(C1980,EMISSION_FACTORS!$A$7:$F$33,6,0)","v":540.48}]
["05454","VT","NEWE",{"$f":"VLOOKUP(C1981,EMISSION_FACTORS!$A$7:$F$33,6,0)","v":540.48}]
["05455","VT","NEWE",{"$f":"VLOOKUP(C1982,EMISSION_FACTORS!$A$7:$F$33,6,0)","v":540.48}]
["05456","VT","NEWE",{"$f":"VLOOKUP(C1983,EMISSION_FACTORS!$A$7:$F$33,6,0)","v":540.48}]
["05457","VT","NEWE",{"$f":"VLOOKUP(C1984,EMISSION_FACTORS!$A$7:$F$33,6,0)","v":540.48}]
["05458","VT","NEWE",{"$f":"VLOOKUP(C1985,EMISSION_FACTORS!$A$7:$F$33,6,0)","v":540.48}]
["05459","VT","NEWE",{"$f":"VLOOKUP(C1986,EMISSION_FACTORS!$A$7:$F$33,6,0)","v":540.48}]
["05460","VT","NEWE",{"$f":"VLOOKUP(C1987,EMISSION_FACTORS!$A$7:$F$33,6,0)","v":540.48}]
["05461","VT","NEWE",{"$f":"VLOOKUP(C1988,EMISSION_FACTORS!$A$7:$F$33,6,0)","v":540.48}]
["05462","VT","NEWE",{"$f":"VLOOKUP(C1989,EMISSION_FACTORS!$A$7:$F$33,6,0)","v":540.48}]
["05463","VT","NEWE",{"$f":"VLOOKUP(C1990,EMISSION_FACTORS!$A$7:$F$33,6,0)","v":540.48}]
["05464","VT","NEWE",{"$f":"VLOOKUP(C1991,EMISSION_FACTORS!$A$7:$F$33,6,0)","v":540.48}]
["05465","VT","NEWE",{"$f":"VLOOKUP(C1992,EMISSION_FACTORS!$A$7:$F$33,6,0)","v":540.48}]
["05466","VT","NEWE",{"$f":"VLOOKUP(C1993,EMISSION_FACTORS!$A$7:$F$33,6,0)","v":540.48}]
["05468","VT","NEWE",{"$f":"VLOOKUP(C1994,EMISSION_FACTORS!$A$7:$F$33,6,0)","v":540.48}]
["05469","VT","NEWE",{"$f":"VLOOKUP(C1995,EMISSION_FACTORS!$A$7:$F$33,6,0)","v":540.48}]
["05470","VT","NEWE",{"$f":"VLOOKUP(C1996,EMISSION_FACTORS!$A$7:$F$33,6,0)","v":540.48}]
["05471","VT","NEWE",{"$f":"VLOOKUP(C1997,EMISSION_FACTORS!$A$7:$F$33,6,0)","v":540.48}]
["05472","VT","NEWE",{"$f":"VLOOKUP(C1998,EMISSION_FACTORS!$A$7:$F$33,6,0)","v":540.48}]
["05473","VT","NEWE",{"$f":"VLOOKUP(C1999,EMISSION_FACTORS!$A$7:$F$33,6,0)","v":540.48}]
["05474","VT","NEWE",{"$f":"VLOOKUP(C2000,EMISSION_FACTORS!$A$7:$F$33,6,0)","v":540.48}]
["05492","VT","NEWE",{"$f":"VLOOKUP(C2015,EMISSION_FACTORS!$A$7:$F$33,6,0)","v":540.48}]
["05633","VT","NEWE",{"$f":"VLOOKUP(C2026,EMISSION_FACTORS!$A$7:$F$33,6,0)","v":540.48}]
["05660","VT","NEWE",{"$f":"VLOOKUP(C2041,EMISSION_FACTORS!$A$7:$F$33,6,0)","v":540.48}]
["05736","VT","NEWE",{"$f":"VLOOKUP(C2071,EMISSION_FACTORS!$A$7:$F$33,6,0)","v":540.48}]
["05753","VT","NEWE",{"$f":"VLOOKUP(C2086,EMISSION_FACTORS!$A$7:$F$33,6,0)","v":540.48}]
["05770","VT","NEWE",{"$f":"VLOOKUP(C2100,EMISSION_FACTORS!$A$7:$F$33,6,0)","v":540.48}]
["05846","VT","NEWE",{"$f":"VLOOKUP(C2131,EMISSION_FACTORS!$A$7:$F$33,6,0)","v":540.48}]
["05863","VT","NEWE",{"$f":"VLOOKUP(C2145,EMISSION_FACTORS!$A$7:$F$33,6,0)","v":540.48}]
["05904","VT","NEWE",{"$f":"VLOOKUP(C2157,EMISSION_FACTORS!$A$7:$F$33,6,0)","v":540.48}]
["06042","CT","NEWE",{"$f":"VLOOKUP(C2190,EMISSION_FACTORS!$A$7:$F$33,6,0)","v":540.48}]
["06053","CT","NEWE",{"$f":"VLOOKUP(C2196,EMISSION_FACTORS!$A$7:$F$33,6,0)","v":540.48}]
["06075","CT","NEWE",{"$f":"VLOOKUP(C2215,EMISSION_FACTORS!$A$7:$F$33,6,0)","v":540.48}]
["06104","CT","NEWE",{"$f":"VLOOKUP(C2240,EMISSION_FACTORS!$A$7:$F$33,6,0)","v":540.48}]
["06132","CT","NEWE",{"$f":"VLOOKUP(C2261,EMISSION_FACTORS!$A$7:$F$33,6,0)","v":540.48}]
["06180","CT","NEWE",{"$f":"VLOOKUP(C2285,EMISSION_FACTORS!$A$7:$F$33,6,0)","v":540.48}]
["06249","CT","NEWE",{"$f":"VLOOKUP(C2306,EMISSION_FACTORS!$A$7:$F$33,6,0)","v":540.48}]
["06330","CT","NEWE",{"$f":"VLOOKUP(C2330,EMISSION_FACTORS!$A$7:$F$33,6,0)","v":540.48}]
["06371","CT","NEWE",{"$f":"VLOOKUP(C2351,EMISSION_FACTORS!$A$7:$F$33,6,0)","v":540.48}]
["06379","CT","NEWE",{"$f":"VLOOKUP(C2359,EMISSION_FACTORS!$A$7:$F$33,6,0)","v":540.48}]
["06412","CT","NEWE",{"$f":"VLOOKUP(C2377,EMISSION_FACTORS!$A$7:$F$33,6,0)","v":540.48}]
["06459","CT","NEWE",{"$f":"VLOOKUP(C2404,EMISSION_FACTORS!$A$7:$F$33,6,0)","v":540.48}]
["06483","CT","NEWE",{"$f":"VLOOKUP(C2422,EMISSION_FACTORS!$A$7:$F$33,6,0)","v":540.48}]
["06517","CT","NEWE",{"$f":"VLOOKUP(C2449,EMISSION_FACTORS!$A$7:$F$33,6,0)","v":540.48}]
["06524","CT","NEWE",{"$f":"VLOOKUP(C2454,EMISSION_FACTORS!$A$7:$F$33,6,0)","v":540.48}]
["06708","CT","NEWE",{"$f":"VLOOKUP(C2487,EMISSION_FACTORS!$A$7:$F$33,6,0)","v":540.48}]
["06750","CT","NEWE",{"$f":"VLOOKUP(C2499,EMISSION_FACTORS!$A$7:$F$33,6,0)","v":540.48}]
["06793","CT","NEWE",{"$f":"VLOOKUP(C2526,EMISSION_FACTORS!$A$7:$F$33,6,0)","v":540.48}]
["06828","CT","NEWE",{"$f":"VLOOKUP(C2544,EMISSION_FACTORS!$A$7:$F$33,6,0)","v":540.48}]
["06851","CT","NEWE",{"$f":"VLOOKUP(C2552,EMISSION_FACTORS!$A$7:$F$33,6,0)","v":540.48}]
["06881","CT","NEWE",{"$f":"VLOOKUP(C2569,EMISSION_FACTORS!$A$7:$F$33,6,0)","v":540.48}]
["07003","NJ","RFCE",{"$f":"VLOOKUP(C2597,EMISSION_FACTORS!$A$7:$F$33,6,0)","v":660.31100000000004}]
["07024","NJ","RFCE",{"$f":"VLOOKUP(C2618,EMISSION_FACTORS!$A$7:$F$33,6,0)","v":660.31100000000004}]
["07054","NJ","RFCE",{"$f":"VLOOKUP(C2642,EMISSION_FACTORS!$A$7:$F$33,6,0)","v":660.31100000000004}]
["07076","NJ","RFCE",{"$f":"VLOOKUP(C2663,EMISSION_FACTORS!$A$7:$F$33,6,0)","v":660.31100000000004}]
["07081","NJ","RFCE",{"$f":"VLOOKUP(C2668,EMISSION_FACTORS!$A$7:$F$33,6,0)","v":660.31100000000004}]
["07106","NJ","RFCE",{"$f":"VLOOKUP(C2688,EMISSION_FACTORS!$A$7:$F$33,6,0)","v":660.31100000000004}]
["07208","NJ","RFCE",{"$f":"VLOOKUP(C2713,EMISSION_FACTORS!$A$7:$F$33,6,0)","v":660.31100000000004}]
["07418","NJ","RFCE",{"$f":"VLOOKUP(C2733,EMISSION_FACTORS!$A$7:$F$33,6,0)","v":660.31100000000004}]
["07461","NJ","RFCE",{"$f":"VLOOKUP(C2758,EMISSION_FACTORS!$A$7:$F$33,6,0)","v":660.31100000000004}]
["07506","NJ","RFCE",{"$f":"VLOOKUP(C2772,EMISSION_FACTORS!$A$7:$F$33,6,0)","v":660.31100000000004}]
["07533","NJ","RFCE",{"$f":"VLOOKUP(C2783,EMISSION_FACTORS!$A$7:$F$33,6,0)","v":660.31100000000004}]
["07656","NJ","RFCE",{"$f":"VLOOKUP(C2817,EMISSION_FACTORS!$A$7:$F$33,6,0)","v":660.31100000000004}]
["07699","NJ","RFCE",{"$f":"VLOOKUP(C2828,EMISSION_FACTORS!$A$7:$F$33,6,0)","v":660.31100000000004}]
["07721","NJ","RFCE",{"$f":"VLOOKUP(C2843,EMISSION_FACTORS!$A$7:$F$33,6,0)","v":660.31100000000004}]
["07799","NJ","RFCE",{"$f":"VLOOKUP(C2877,EMISSION_FACTORS!$A$7:$F$33,6,0)","v":660.31100000000004}]
["07838","NJ","RFCE",{"$f":"VLOOKUP(C2898,EMISSION_FACTORS!$A$7:$F$33,6,0)","v":660.31100000000004}]
["07849","NJ","RFCE",{"$f":"VLOOKUP(C2908,EMISSION_FACTORS!$A$7:$F$33,6,0)","v":660.31100000000004}]
["07878","NJ","RFCE",{"$f":"VLOOKUP(C2927,EMISSION_FACTORS!$A$7:$F$33,6,0)","v":660.31100000000004}]
["07945","NJ","RFCE",{"$f":"VLOOKUP(C2953,EMISSION_FACTORS!$A$7:$F$33,6,0)","v":660.31100000000004}]
["08004","NJ","RFCE",{"$f":"VLOOKUP(C2972,EMISSION_FACTORS!$A$7:$F$33,6,0)","v":660.31100000000004}]
["08011","NJ","RFCE",{"$f":"VLOOKUP(C2979,EMISSION_FACTORS!$A$7:$F$33,6,0)","v":660.31100000000004}]
["08032","NJ","RFCE",{"$f":"VLOOKUP(C2997,EMISSION_FACTORS!$A$7:$F$33,6,0)","v":660.31100000000004}]
["08056","NJ","RFCE",{"$f":"VLOOKUP(C3018,EMISSION_FACTORS!$A$7:$F$33,6,0)","v":660.31100000000004}]
["08081","NJ","RFCE",{"$f":"VLOOKUP(C3042,EMISSION_FACTORS!$A$7:$F$33,6,0)","v":660.31100000000004}]
["08104","NJ","RFCE",{"$f":"VLOOKUP(C3063,EMISSION_FACTORS!$A$7:$F$33,6,0)","v":660.31100000000004}]
["08225","NJ","RFCE",{"$f":"VLOOKUP(C3087,EMISSION_FACTORS!$A$7:$F$33,6,0)","v":660.31100000000004}]
["08314","NJ","RFCE",{"$f":"VLOOKUP(C3112,EMISSION_FACTORS!$A$7:$F$33,6,0)","v":660.31100000000004}]
["08332","NJ","RFCE",{"$f":"VLOOKUP(C3128,EMISSION_FACTORS!$A$7:$F$33,6,0)","v":660.31100000000004}]
["08348","NJ","RFCE",{"$f":"VLOOKUP(C3137,EMISSION_FACTORS!$A$7:$F$33,6,0)","v":660.31100000000004}]
["08505","NJ","RFCE",{"$f":"VLOOKUP(C3154,EMISSION_FACTORS!$A$7:$F$33,6,0)","v":660.31100000000004}]
["08561","NJ","RFCE",{"$f":"VLOOKUP(C3186,EMISSION_FACTORS!$A$7:$F$33,6,0)","v":660.31100000000004}]
["08618","NJ","RFCE",{"$f":"VLOOKUP(C3199,EMISSION_FACTORS!$A$7:$F$33,6,0)","v":660.31100000000004}]
["08739","NJ","RFCE",{"$f":"VLOOKUP(C3231,EMISSION_FACTORS!$A$7:$F$33,6,0)","v":660.31100000000004}]
["08759","NJ","RFCE",{"$f":"VLOOKUP(C3244,EMISSION_FACTORS!$A$7:$F$33,6,0)","v":660.31100000000004}]
["08817","NJ","RFCE",{"$f":"VLOOKUP(C3256,EMISSION_FACTORS!$A$7:$F$33,6,0)","v":660.31100000000004}]
["08854","NJ","RFCE",{"$f":"VLOOKUP(C3283,EMISSION_FACTORS!$A$7:$F$33,6,0)","v":660.31100000000004}]
["08879","NJ","RFCE",{"$f":"VLOOKUP(C3301,EMISSION_FACTORS!$A$7:$F$33,6,0)","v":660.31100000000004}]
["10007","NY","NYCW",{"$f":"VLOOKUP(C3326,EMISSION_FACTORS!$A$7:$F$33,6,0)","v":886.58}]
["10030","NY","NYCW",{"$f":"VLOOKUP(C3348,EMISSION_FACTORS!$A$7:$F$33,6,0)","v":886.58}]
["10033","NY","NYCW",{"$f":"VLOOKUP(C3351,EMISSION_FACTORS!$A$7:$F$33,6,0)","v":886.58}]
["10095","NY","NYCW",{"$f":"VLOOKUP(C3374,EMISSION_FACTORS!$A$7:$F$33,6,0)","v":886.58}]
["10122","NY","NYCW",{"$f":"VLOOKUP(C3396,EMISSION_FACTORS!$A$7:$F$33,6,0)","v":886.58}]
["10160","NY","NYCW",{"$f":"VLOOKUP(C3419,EMISSION_FACTORS!$A$7:$F$33,6,0)","v":886.58}]
["10213","NY","NYCW",{"$f":"VLOOKUP(C3445,EMISSION_FACTORS!$A$7:$F$33,6,0)","v":886.58}]
["10277","NY","NYCW",{"$f":"VLOOKUP(C3464,EMISSION_FACTORS!$A$7:$F$33,6,0)","v":886.58}]
["10285","NY","NYCW",{"$f":"VLOOKUP(C3470,EMISSION_FACTORS!$A$7:$F$33,6,0)","v":886.58}]
["10454","NY","NYCW",{"$f":"VLOOKUP(C3490,EMISSION_FACTORS!$A$7:$F$33,6,0)","v":886.58}]
["10503","NY","NYCW",{"$f":"VLOOKUP(C3515,EMISSION_FACTORS!$A$7:$F$33,6,0)","v":886.58}]
["10535","NY","NYCW",{"$f":"VLOOKUP(C3540,EMISSION_FACTORS!$A$7:$F$33,6,0)","v":886.58}]
["10552","NY","NYCW",{"$f":"VLOOKUP(C3555,EMISSION_FACTORS!$A$7:$F$33,6,0)","v":886.58}]
["10578","NY","NYUP",{"$f":"VLOOKUP(C3565,EMISSION_FACTORS!$A$7:$F$33,6,0)","v":275.38900000000001}]
["10708","NY","NYCW",{"$f":"VLOOKUP(C3594,EMISSION_FACTORS!$A$7:$F$33,6,0)","v":886.58}]
["10917","NY","NYUP",{"$f":"VLOOKUP(C3610,EMISSION_FACTORS!$A$7:$F$33,6,0)","v":275.38900000000001}]
["10964","NY","NYUP",{"$f":"VLOOKUP(C3639,EMISSION_FACTORS!$A$7:$F$33,6,0)","v":275.38900000000001}]
["10985","NY","NYUP",{"$f":"VLOOKUP(C3655,EMISSION_FACTORS!$A$7:$F$33,6,0)","v":275.38900000000001}]
["10997","NY","NYUP",{"$f":"VLOOKUP(C3665,EMISSION_FACTORS!$A$7:$F$33,6,0)","v":275.38900000000001}]
["11051","NY","NYLI",{"$f":"VLOOKUP(C3684,EMISSION_FACTORS!$A$7:$F$33,6,0)","v":1209.3109999999999}]
["11213","NY","NYCW",{"$f":"VLOOKUP(C3710,EMISSION_FACTORS!$A$7:$F$33,6,0)","v":886.58}]
["11233","NY","NYCW",{"$f":"VLOOKUP(C3729,EMISSION_FACTORS!$A$7:$F$33,6,0)","v":886.58}]
["11361","NY","NYCW",{"$f":"VLOOKUP(C3754,EMISSION_FACTORS!$A$7:$F$33,6,0)","v":886.58}]
["11386","NY","NYCW",{"$f":"VLOOKUP(C3775,EMISSION_FACTORS!$A$7:$F$33,6,0)","v":886.58}]
["11412","NY","NYCW",{"$f":"VLOOKUP(C3779,EMISSION_FACTORS!$A$7:$F$33,6,0)","v":886.58}]
["11434","NY","NYCW",{"$f":"VLOOKUP(C3801,EMISSION_FACTORS!$A$7:$F$33,6,0)","v":886.58}]
["11550","NY","NYLI",{"$f":"VLOOKUP(C3824,EMISSION_FACTORS!$A$7:$F$33,6,0)","v":1209.3109999999999}]
["11569","NY","NYLI",{"$f":"VLOOKUP(C3840,EMISSION_FACTORS!$A$7:$F$33,6,0)","v":1209.3109999999999}]
["11709","NY","NYLI",{"$f":"VLOOKUP(C3869,EMISSION_FACTORS!$A$7:$F$33,6,0)","v":1209.3109999999999}]
["11729","NY","NYLI",{"$f":"VLOOKUP(C3885,EMISSION_FACTORS!$A$7:$F$33,6,0)","v":1209.3109999999999}]
["11765","NY","NYLI",{"$f":"VLOOKUP(C3914,EMISSION_FACTORS!$A$7:$F$33,6,0)","v":1209.3109999999999}]
["11782","NY","NYLI",{"$f":"VLOOKUP(C3930,EMISSION_FACTORS!$A$7:$F$33,6,0)","v":1209.3109999999999}]
["11796","NY","NYLI",{"$f":"VLOOKUP(C3943,EMISSION_FACTORS!$A$7:$F$33,6,0)","v":1209.3109999999999}]
["11931","NY","NYLI",{"$f":"VLOOKUP(C3956,EMISSION_FACTORS!$A$7:$F$33,6,0)","v":1209.3109999999999}]
["11968","NY","NYLI",{"$f":"VLOOKUP(C3988,EMISSION_FACTORS!$A$7:$F$33,6,0)","v":1209.3109999999999}]
["12027","NY","NYUP",{"$f":"VLOOKUP(C4013,EMISSION_FACTORS!$A$7:$F$33,6,0)","v":275.38900000000001}]
["12037","NY","NYUP",{"$f":"VLOOKUP(C4021,EMISSION_FACTORS!$A$7:$F$33,6,0)","v":275.38900000000001}]
["12059","NY","NYUP",{"$f":"VLOOKUP(C4038,EMISSION_FACTORS!$A$7:$F$33,6,0)","v":275.38900000000001}]
["12092","NY","NYUP",{"$f":"VLOOKUP(C4066,EMISSION_FACTORS!$A$7:$F$33,6,0)","v":275.38900000000001}]
["12125","NY","NYUP",{"$f":"VLOOKUP(C4083,EMISSION_FACTORS!$A$7:$F$33,6,0)","v":275.38900000000001}]
["12155","NY","NYUP",{"$f":"VLOOKUP(C4105,EMISSION_FACTORS!$A$7:$F$33,6,0)","v":275.38900000000001}]
["12183","NY","NYUP",{"$f":"VLOOKUP(C4128,EMISSION_FACTORS!$A$7:$F$33,6,0)","v":275.38900000000001}]
["12186","NY","NYUP",{"$f":"VLOOKUP(C4131,EMISSION_FACTORS!$A$7:$F$33,6,0)","v":275.38900000000001}]
["12211","NY","NYUP",{"$f":"VLOOKUP(C4153,EMISSION_FACTORS!$A$7:$F$33,6,0)","v":275.38900000000001}]
["12241","NY","NYUP",{"$f":"VLOOKUP(C4176,EMISSION_FACTORS!$A$7:$F$33,6,0)","v":275.38900000000001}]
["12325","NY","NYUP",{"$f":"VLOOKUP(C4202,EMISSION_FACTORS!$A$7:$F$33,6,0)","v":275.38900000000001}]
["12423","NY","NYUP",{"$f":"VLOOKUP(C4223,EMISSION_FACTORS!$A$7:$F$33,6,0)","v":275.38900000000001}]
["12444","NY","NYUP",{"$f":"VLOOKUP(C4241,EMISSION_FACTORS!$A$7:$F$33,6,0)","v":275.38900000000001}]
["12457","NY","NYUP",{"$f":"VLOOKUP(C4252,EMISSION_FACTORS!$A$7:$F$33,6,0)","v":275.38900000000001}]
["12498","NY","NYUP",{"$f":"VLOOKUP(C4286,EMISSION_FACTORS!$A$7:$F$33,6,0)","v":275.38900000000001}]
["12513","NY","NYUP",{"$f":"VLOOKUP(C4297,EMISSION_FACTORS!$A$7:$F$33,6,0)","v":275.38900000000001}]
["12529","NY","NYUP",{"$f":"VLOOKUP(C4312,EMISSION_FACTORS!$A$7:$F$33,6,0)","v":275.38900000000001}]
["12570","NY","NYUP",{"$f":"VLOOKUP(C4342,EMISSION_FACTORS!$A$7:$F$33,6,0)","v":275.38900000000001}]
["12582","NY","NYUP",{"$f":"VLOOKUP(C4351,EMISSION_FACTORS!$A$7:$F$33,6,0)","v":275.38900000000001}]
["12720","NY","NYUP",{"$f":"VLOOKUP(C4367,EMISSION_FACTORS!$A$7:$F$33,6,0)","v":275.38900000000001}]
["12759","NY","NYUP",{"$f":"VLOOKUP(C4396,EMISSION_FACTORS!$A$7:$F$33,6,0)","v":275.38900000000001}]
["12784","NY","NYUP",{"$f":"VLOOKUP(C4416,EMISSION_FACTORS!$A$7:$F$33,6,0)","v":275.38900000000001}]
["12819","NY","NYUP",{"$f":"VLOOKUP(C4437,EMISSION_FACTORS!$A$7:$F$33,6,0)","v":275.38900000000001}]
["12848","NY","NYUP",{"$f":"VLOOKUP(C4461,EMISSION_FACTORS!$A$7:$F$33,6,0)","v":275.38900000000001}]
["12872","NY","NYUP",{"$f":"VLOOKUP(C4482,EMISSION_FACTORS!$A$7:$F$33,6,0)","v":275.38900000000001}]
["12883","NY","NYUP",{"$f":"VLOOKUP(C4487,EMISSION_FACTORS!$A$7:$F$33,6,0)","v":275.38900000000001}]
["12928","NY","NYUP",{"$f":"VLOOKUP(C4511,EMISSION_FACTORS!$A$7:$F$33,6,0)","v":275.38900000000001}]
["12956","NY","NYUP",{"$f":"VLOOKUP(C4532,EMISSION_FACTORS!$A$7:$F$33,6,0)","v":275.38900000000001}]
["12985","NY","NYUP",{"$f":"VLOOKUP(C4556,EMISSION_FACTORS!$A$7:$F$33,6,0)","v":275.38900000000001}]
["13033","NY","NYUP",{"$f":"VLOOKUP(C4577,EMISSION_FACTORS!$A$7:$F$33,6,0)","v":275.38900000000001}]
["13037","NY","NYUP",{"$f":"VLOOKUP(C4581,EMISSION_FACTORS!$A$7:$F$33,6,0)","v":275.38900000000001}]
["13087","NY","NYUP",{"$f":"VLOOKUP(C4616,EMISSION_FACTORS!$A$7:$F$33,6,0)","v":275.38900000000001}]
["13107","NY","NYUP",{"$f":"VLOOKUP(C4626,EMISSION_FACTORS!$A$7:$F$33,6,0)","v":275.38900000000001}]
["13139","NY","NYUP",{"$f":"VLOOKUP(C4651,EMISSION_FACTORS!$A$7:$F$33,6,0)","v":275.38900000000001}]
["13153","NY","NYUP",{"$f":"VLOOKUP(C4662,EMISSION_FACTORS!$A$7:$F$33,6,0)","v":275.38900000000001}]
["13225","NY","NYUP",{"$f":"VLOOKUP(C4696,EMISSION_FACTORS!$A$7:$F$33,6,0)","v":275.38900000000001}]
["13304","NY","NYUP",{"$f":"VLOOKUP(C4707,EMISSION_FACTORS!$A$7:$F$33,6,0)","v":275.38900000000001}]
["13321","NY","NYUP",{"$f":"VLOOKUP(C4721,EMISSION_FACTORS!$A$7:$F$33,6,0)","v":275.38900000000001}]
["13361","NY","NYUP",{"$f":"VLOOKUP(C4752,EMISSION_FACTORS!$A$7:$F$33,6,0)","v":275.38900000000001}]
["13415","NY","NYUP",{"$f":"VLOOKUP(C4770,EMISSION_FACTORS!$A$7:$F$33,6,0)","v":275.38900000000001}]
["13426","NY","NYUP",{"$f":"VLOOKUP(C4778,EMISSION_FACTORS!$A$7:$F$33,6,0)","v":275.38900000000001}]
["13456","NY","NYUP",{"$f":"VLOOKUP(C4795,EMISSION_FACTORS!$A$7:$F$33,6,0)","v":275.38900000000001}]
["13492","NY","NYUP",{"$f":"VLOOKUP(C4823,EMISSION_FACTORS!$A$7:$F$33,6,0)","v":275.38900000000001}]
["13611","NY","NYUP",{"$f":"VLOOKUP(C4840,EMISSION_FACTORS!$A$7:$F$33,6,0)","v":275.38900000000001}]
["13637","NY","NYUP",{"$f":"VLOOKUP(C4865,EMISSION_FACTORS!$A$7:$F$33,6,0)","v":275.38900000000001}]
["13662","NY","NYUP",{"$f":"VLOOKUP(C4888,EMISSION_FACTORS!$A$7:$F$33,6,0)","v":275.38900000000001}]
["13685","NY","NYUP",{"$f":"VLOOKUP(C4910,EMISSION_FACTORS!$A$7:$F$33,6,0)","v":275.38900000000001}]
["13737","NY","NYUP",{"$f":"VLOOKUP(C4927,EMISSION_FACTORS!$A$7:$F$33,6,0)","v":275.38900000000001}]
["13747","NY","NYUP",{"$f":"VLOOKUP(C4935,EMISSION_FACTORS!$A$7:$F$33,6,0)","v":275.38900000000001}]
["13776","NY","NYUP",{"$f":"VLOOKUP(C4953,EMISSION_FACTORS!$A$7:$F$33,6,0)","v":275.38900000000001}]
["13814","NY","NYUP",{"$f":"VLOOKUP(C4980,EMISSION_FACTORS!$A$7:$F$33,6,0)","v":275.38900000000001}]
["13845","NY","NYUP",{"$f":"VLOOKUP(C4998,EMISSION_FACTORS!$A$7:$F$33,6,0)","v":275.38900000000001}]
["14021","NY","NYUP",{"$f":"VLOOKUP(C5029,EMISSION_FACTORS!$A$7:$F$33,6,0)","v":275.38900000000001}]
["14037","NY","NYUP",{"$f":"VLOOKUP(C5043,EMISSION_FACTORS!$A$7:$F$33,6,0)","v":275.38900000000001}]
["14054","NY","NYUP",{"$f":"VLOOKUP(C5054,EMISSION_FACTORS!$A$7:$F$33,6,0)","v":275.38900000000001}]
["14092","NY","NYUP",{"$f":"VLOOKUP(C5079,EMISSION_FACTORS!$A$7:$F$33,6,0)","v":275.38900000000001}]
["14109","NY","NYUP",{"$f":"VLOOKUP(C5089,EMISSION_FACTORS!$A$7:$F$33,6,0)","v":275.38900000000001}]
["14201","NY","NYUP",{"$f":"VLOOKUP(C5124,EMISSION_FACTORS!$A$7:$F$33,6,0)","v":275.38900000000001}]
["14211","NY","NYUP",{"$f":"VLOOKUP(C5134,EMISSION_FACTORS!$A$7:$F$33,6,0)","v":275.38900000000001}]
["14226","NY","NYUP",{"$f":"VLOOKUP(C5149,EMISSION_FACTORS!$A$7:$F$33,6,0)","v":275.38900000000001}]
["14410","NY","NYUP",{"$f":"VLOOKUP(C5173,EMISSION_FACTORS!$A$7:$F$33,6,0)","v":275.38900000000001}]
["14443","NY","NYUP",{"$f":"VLOOKUP(C5194,EMISSION_FACTORS!$A$7:$F$33,6,0)","v":275.38900000000001}]
["14480","NY","NYUP",{"$f":"VLOOKUP(C5218,EMISSION_FACTORS!$A$7:$F$33,6,0)","v":275.38900000000001}]
["14517","NY","NYUP",{"$f":"VLOOKUP(C5239,EMISSION_FACTORS!$A$7:$F$33,6,0)","v":275.38900000000001}]
["14547","NY","NYUP",{"$f":"VLOOKUP(C5263,EMISSION_FACTORS!$A$7:$F$33,6,0)","v":275.38900000000001}]
["14555","NY","NYUP",{"$f":"VLOOKUP(C5268,EMISSION_FACTORS!$A$7:$F$33,6,0)","v":275.38900000000001}]
["14602","NY","NYUP",{"$f":"VLOOKUP(C5289,EMISSION_FACTORS!$A$7:$F$33,6,0)","v":275.38900000000001}]
["14622","NY","NYUP",{"$f":"VLOOKUP(C5309,EMISSION_FACTORS!$A$7:$F$33,6,0)","v":275.38900000000001}]
["14714","NY","NYUP",{"$f":"VLOOKUP(C5338,EMISSION_FACTORS!$A$7:$F$33,6,0)","v":275.38900000000001}]
["14731","NY","NYUP",{"$f":"VLOOKUP(C5354,EMISSION_FACTORS!$A$7:$F$33,6,0)","v":275.38900000000001}]
["14741","NY","NYUP",{"$f":"VLOOKUP(C5363,EMISSION_FACTORS!$A$7:$F$33,6,0)","v":275.38900000000001}]
["14802","NY","NYUP",{"$f":"VLOOKUP(C5399,EMISSION_FACTORS!$A$7:$F$33,6,0)","v":275.38900000000001}]
["14812","NY","NYUP",{"$f":"VLOOKUP(C5408,EMISSION_FACTORS!$A$7:$F$33,6,0)","v":275.38900000000001}]
["14851","NY","NYUP",{"$f":"VLOOKUP(C5438,EMISSION_FACTORS!$A$7:$F$33,6,0)","v":275.38900000000001}]
["14869","NY","NYUP",{"$f":"VLOOKUP(C5453,EMISSION_FACTORS!$A$7:$F$33,6,0)","v":275.38900000000001}]
["14881","NY","NYUP",{"$f":"VLOOKUP(C5464,EMISSION_FACTORS!$A$7:$F$33,6,0)","v":275.38900000000001}]
["14904","NY","NYUP",{"$f":"VLOOKUP(C5482,EMISSION_FACTORS!$A$7:$F$33,6,0)","v":275.38900000000001}]
["15025","PA","RFCW",{"$f":"VLOOKUP(C5503,EMISSION_FACTORS!$A$7:$F$33,6,0)","v":1005.904}]
["15057","PA","RFCW",{"$f":"VLOOKUP(C5529,EMISSION_FACTORS!$A$7:$F$33,6,0)","v":1005.904}]
["15081","PA","RFCW",{"$f":"VLOOKUP(C5548,EMISSION_FACTORS!$A$7:$F$33,6,0)","v":1005.904}]
["15129","PA","RFCW",{"$f":"VLOOKUP(C5574,EMISSION_FACTORS!$A$7:$F$33,6,0)","v":1005.904}]
["15133","PA","RFCW",{"$f":"VLOOKUP(C5577,EMISSION_FACTORS!$A$7:$F$33,6,0)","v":1005.904}]
["15210","PA","RFCW",{"$f":"VLOOKUP(C5600,EMISSION_FACTORS!$A$7:$F$33,6,0)","v":1005.904}]
["15232","PA","RFCW",{"$f":"VLOOKUP(C5622,EMISSION_FACTORS!$A$7:$F$33,6,0)","v":1005.904}]
["15261","PA","RFCW",{"$f":"VLOOKUP(C5645,EMISSION_FACTORS!$A$7:$F$33,6,0)","v":1005.904}]
["15310","PA","RFCW",{"$f":"VLOOKUP(C5667,EMISSION_FACTORS!$A$7:$F$33,6,0)","v":1005.904}]
["15331","PA","RFCW",{"$f":"VLOOKUP(C5684,EMISSION_FACTORS!$A$7:$F$33,6,0)","v":1005.904}]
["15364","PA","RFCW",{"$f":"VLOOKUP(C5712,EMISSION_FACTORS!$A$7:$F$33,6,0)","v":1005.904}]
["15416","PA","RFCW",{"$f":"VLOOKUP(C5729,EMISSION_FACTORS!$A$7:$F$33,6,0)","v":1005.904}]
["15430","PA","RFCW",{"$f":"VLOOKUP(C5741,EMISSION_FACTORS!$A$7:$F$33,6,0)","v":1005.904}]
["15454","PA","RFCW",{"$f":"VLOOKUP(C5762,EMISSION_FACTORS!$A$7:$F$33,6,0)","v":1005.904}]
["15468","PA","RFCW",{"$f":"VLOOKUP(C5775,EMISSION_FACTORS!$A$7:$F$33,6,0)","v":1005.904}]
["15535","PA","RFCE",{"$f":"VLOOKUP(C5807,EMISSION_FACTORS!$A$7:$F$33,6,0)","v":660.31100000000004}]
["15549","PA","RFCE",{"$f":"VLOOKUP(C5820,EMISSION_FACTORS!$A$7:$F$33,6,0)","v":660.31100000000004}]
["15601","PA","RFCW",{"$f":"VLOOKUP(C5836,EMISSION_FACTORS!$A$7:$F$33,6,0)","v":1005.904}]
["15638","PA","RFCW",{"$f":"VLOOKUP(C5865,EMISSION_FACTORS!$A$7:$F$33,6,0)","v":1005.904}]
["15664","PA","RFCW",{"$f":"VLOOKUP(C5881,EMISSION_FACTORS!$A$7:$F$33,6,0)","v":1005.904}]
["15676","PA","RFCW",{"$f":"VLOOKUP(C5891,EMISSION_FACTORS!$A$7:$F$33,6,0)","v":1005.904}]
["15723","PA","RFCE",{"$f":"VLOOKUP(C5926,EMISSION_FACTORS!$A$7:$F$33,6,0)","v":660.31100000000004}]
["15728","PA","RFCE",{"$f":"VLOOKUP(C5930,EMISSION_FACTORS!$A$7:$F$33,6,0)","v":660.31100000000004}]
["15754","PA","RFCE",{"$f":"VLOOKUP(C5951,EMISSION_FACTORS!$A$7:$F$33,6,0)","v":660.31100000000004}]
["15784","PA","RFCE",{"$f":"VLOOKUP(C5976,EMISSION_FACTORS!$A$7:$F$33,6,0)","v":660.31100000000004}]
["15849","PA","RFCE",{"$f":"VLOOKUP(C5995,EMISSION_FACTORS!$A$7:$F$33,6,0)","v":660.31100000000004}]
["15925","PA","RFCE",{"$f":"VLOOKUP(C6021,EMISSION_FACTORS!$A$7:$F$33,6,0)","v":660.31100000000004}]
["15949","PA","RFCE",{"$f":"VLOOKUP(C6040,EMISSION_FACTORS!$A$7:$F$33,6,0)","v":660.31100000000004}]
["15956","PA","RFCE",{"$f":"VLOOKUP(C6046,EMISSION_FACTORS!$A$7:$F$33,6,0)","v":660.31100000000004}]
["16027","PA","RFCW",{"$f":"VLOOKUP(C6066,EMISSION_FACTORS!$A$7:$F$33,6,0)","v":1005.904}]
["16066","PA","RFCW",{"$f":"VLOOKUP(C6095,EMISSION_FACTORS!$A$7:$F$33,6,0)","v":1005.904}]
["16121","PA","RFCW",{"$f":"VLOOKUP(C6111,EMISSION_FACTORS!$A$7:$F$33,6,0)","v":1005.904}]
["16172","PA","RFCW",{"$f":"VLOOKUP(C6140,EMISSION_FACTORS!$A$7:$F$33,6,0)","v":1005.904}]
["16221","PA","RFCE",{"$f":"VLOOKUP(C6150,EMISSION_FACTORS!$A$7:$F$33,6,0)","v":660.31100000000004}]
["16239","PA","RFCE",{"$f":"VLOOKUP(C6165,EMISSION_FACTORS!$A$7:$F$33,6,0)","v":660.31100000000004}]
["16316","PA","RFCE",{"$f":"VLOOKUP(C6190,EMISSION_FACTORS!$A$7:$F$33,6,0)","v":660.31100000000004}]
["16364","PA","RFCE",{"$f":"VLOOKUP(C6221,EMISSION_FACTORS!$A$7:$F$33,6,0)","v":660.31100000000004}]
["16402","PA","RFCE",{"$f":"VLOOKUP(C6235,EMISSION_FACTORS!$A$7:$F$33,6,0)","v":660.31100000000004}]
["16435","PA","RFCE",{"$f":"VLOOKUP(C6260,EMISSION_FACTORS!$A$7:$F$33,6,0)","v":660.31100000000004}]
["16512","PA","RFCE",{"$f":"VLOOKUP(C6280,EMISSION_FACTORS!$A$7:$F$33,6,0)","v":660.31100000000004}]
["16534","PA","RFCE",{"$f":"VLOOKUP(C6286,EMISSION_FACTORS!$A$7:$F$33,6,0)","v":660.31100000000004}]
["16622","PA","RFCE",{"$f":"VLOOKUP(C6305,EMISSION_FACTORS!$A$7:$F$33,6,0)","v":660.31100000000004}]
["16655","PA","RFCE",{"$f":"VLOOKUP(C6331,EMISSION_FACTORS!$A$7:$F$33,6,0)","v":660.31100000000004}]
["16680","PA","RFCE",{"$f":"VLOOKUP(C6354,EMISSION_FACTORS!$A$7:$F$33,6,0)","v":660.31100000000004}]
["16729","PA","RFCE",{"$f":"VLOOKUP(C6376,EMISSION_FACTORS!$A$7:$F$33,6,0)","v":660.31100000000004}]
["16732","PA","RFCE",{"$f":"VLOOKUP(C6379,EMISSION_FACTORS!$A$7:$F$33,6,0)","v":660.31100000000004}]
["16828","PA","RFCE",{"$f":"VLOOKUP(C6404,EMISSION_FACTORS!$A$7:$F$33,6,0)","v":660.31100000000004}]
["16849","PA","RFCE",{"$f":"VLOOKUP(C6422,EMISSION_FACTORS!$A$7:$F$33,6,0)","v":660.31100000000004}]
["16881","PA","RFCE",{"$f":"VLOOKUP(C6449,EMISSION_FACTORS!$A$7:$F$33,6,0)","v":660.31100000000004}]
["16930","PA","RFCE",{"$f":"VLOOKUP(C6467,EMISSION_FACTORS!$A$7:$F$33,6,0)","v":660.31100000000004}]
["17012","PA","RFCE",{"$f":"VLOOKUP(C6494,EMISSION_FACTORS!$A$7:$F$33,6,0)","v":660.31100000000004}]
["17024","PA","RFCE",{"$f":"VLOOKUP(C6506,EMISSION_FACTORS!$A$7:$F$33,6,0)","v":660.31100000000004}]
["17038","PA","RFCE",{"$f":"VLOOKUP(C6519,EMISSION_FACTORS!$A$7:$F$33,6,0)","v":660.31100000000004}]
["17070","PA","RFCE",{"$f":"VLOOKUP(C6551,EMISSION_FACTORS!$A$7:$F$33,6,0)","v":660.31100000000004}]
["17088","PA","RFCE",{"$f":"VLOOKUP(C6568,EMISSION_FACTORS!$A$7:$F$33,6,0)","v":660.31100000000004}]
["17102","PA","RFCE",{"$f":"VLOOKUP(C6577,EMISSION_FACTORS!$A$7:$F$33,6,0)","v":660.31100000000004}]
["17124","PA","RFCE",{"$f":"VLOOKUP(C6593,EMISSION_FACTORS!$A$7:$F$33,6,0)","v":660.31100000000004}]
["17222","PA","RFCE",{"$f":"VLOOKUP(C6614,EMISSION_FACTORS!$A$7:$F$33,6,0)","v":660.31100000000004}]
["17257","PA","RFCE",{"$f":"VLOOKUP(C6642,EMISSION_FACTORS!$A$7:$F$33,6,0)","v":660.31100000000004}]
["17311","PA","RFCE",{"$f":"VLOOKUP(C6663,EMISSION_FACTORS!$A$7:$F$33,6,0)","v":660.31100000000004}]
["17340","PA","RFCE",{"$f":"VLOOKUP(C6687,EMISSION_FACTORS!$A$7:$F$33,6,0)","v":660.31100000000004}]
["17368","PA","RFCE",{"$f":"VLOOKUP(C6708,EMISSION_FACTORS!$A$7:$F$33,6,0)","v":660.31100000000004}]
["17401","PA","RFCE",{"$f":"VLOOKUP(C6713,EMISSION_FACTORS!$A$7:$F$33,6,0)","v":660.31100000000004}]
["17517","PA","RFCE",{"$f":"VLOOKUP(C6733,EMISSION_FACTORS!$A$7:$F$33,6,0)","v":660.31100000000004}]
["17547","PA","RFCE",{"$f":"VLOOKUP(C6752,EMISSION_FACTORS!$A$7:$F$33,6,0)","v":660.31100000000004}]
["17582","PA","RFCE",{"$f":"VLOOKUP(C6778,EMISSION_FACTORS!$A$7:$F$33,6,0)","v":660.31100000000004}]
["17720","PA","RFCE",{"$f":"VLOOKUP(C6797,EMISSION_FACTORS!$A$7:$F$33,6,0)","v":660.31100000000004}]
["17764","PA","RFCE",{"$f":"VLOOKUP(C6827,EMISSION_FACTORS!$A$7:$F$33,6,0)","v":660.31100000000004}]
["17765","PA","RFCE",{"$f":"VLOOKUP(C6828,EMISSION_FACTORS!$A$7:$F$33,6,0)","v":660.31100000000004}]
["17840","PA","RFCE",{"$f":"VLOOKUP(C6862,EMISSION_FACTORS!$A$7:$F$33,6,0)","v":660.31100000000004}]
["17855","PA","RFCE",{"$f":"VLOOKUP(C6873,EMISSION_FACTORS!$A$7:$F$33,6,0)","v":660.31100000000004}]
["17876","PA","RFCE",{"$f":"VLOOKUP(C6888,EMISSION_FACTORS!$A$7:$F$33,6,0)","v":660.31100000000004}]
["17948","PA","RFCE",{"$f":"VLOOKUP(C6922,EMISSION_FACTORS!$A$7:$F$33,6,0)","v":660.31100000000004}]
["17964","PA","RFCE",{"$f":"VLOOKUP(C6933,EMISSION_FACTORS!$A$7:$F$33,6,0)","v":660.31100000000004}]
["17983","PA","RFCE",{"$f":"VLOOKUP(C6947,EMISSION_FACTORS!$A$7:$F$33,6,0)","v":660.31100000000004}]
["18046","PA","RFCE",{"$f":"VLOOKUP(C6978,EMISSION_FACTORS!$A$7:$F$33,6,0)","v":660.31100000000004}]
["18064","PA","RFCE",{"$f":"VLOOKUP(C6992,EMISSION_FACTORS!$A$7:$F$33,6,0)","v":660.31100000000004}]
["18098","PA","RFCE",{"$f":"VLOOKUP(C7017,EMISSION_FACTORS!$A$7:$F$33,6,0)","v":660.31100000000004}]
["18221","PA","RFCE",{"$f":"VLOOKUP(C7037,EMISSION_FACTORS!$A$7:$F$33,6,0)","v":660.31100000000004}]
["18254","PA","RFCE",{"$f":"VLOOKUP(C7062,EMISSION_FACTORS!$A$7:$F$33,6,0)","v":660.31100000000004}]
["18255","PA","RFCE",{"$f":"VLOOKUP(C7063,EMISSION_FACTORS!$A$7:$F$33,6,0)","v":660.31100000000004}]
["18343","PA","RFCE",{"$f":"VLOOKUP(C7087,EMISSION_FACTORS!$A$7:$F$33,6,0)","v":660.31100000000004}]
["18407","PA","RFCE",{"$f":"VLOOKUP(C7108,EMISSION_FACTORS!$A$7:$F$33,6,0)","v":660.31100000000004}]
["18439","PA","RFCE",{"$f":"VLOOKUP(C7132,EMISSION_FACTORS!$A$7:$F$33,6,0)","v":660.31100000000004}]
["18462","PA","RFCE",{"$f":"VLOOKUP(C7153,EMISSION_FACTORS!$A$7:$F$33,6,0)","v":660.31100000000004}]
["18472","PA","RFCE",{"$f":"VLOOKUP(C7161,EMISSION_FACTORS!$A$7:$F$33,6,0)","v":660.31100000000004}]
["18628","PA","RFCE",{"$f":"VLOOKUP(C7198,EMISSION_FACTORS!$A$7:$F$33,6,0)","v":660.31100000000004}]
["18640","PA","RFCE",{"$f":"VLOOKUP(C7206,EMISSION_FACTORS!$A$7:$F$33,6,0)","v":660.31100000000004}]
["18773","PA","RFCE",{"$f":"VLOOKUP(C7237,EMISSION_FACTORS!$A$7:$F$33,6,0)","v":660.31100000000004}]
["18824","PA","RFCE",{"$f":"VLOOKUP(C7251,EMISSION_FACTORS!$A$7:$F$33,6,0)","v":660.31100000000004}]
["18902","PA","RFCE",{"$f":"VLOOKUP(C7276,EMISSION_FACTORS!$A$7:$F$33,6,0)","v":660.31100000000004}]
["18923","PA","RFCE",{"$f":"VLOOKUP(C7289,EMISSION_FACTORS!$A$7:$F$33,6,0)","v":660.31100000000004}]
["18935","PA","RFCE",{"$f":"VLOOKUP(C7301,EMISSION_FACTORS!$A$7:$F$33,6,0)","v":660.31100000000004}]
["18972","PA","RFCE",{"$f":"VLOOKUP(C7328,EMISSION_FACTORS!$A$7:$F$33,6,0)","v":660.31100000000004}]
["19013","PA","RFCE",{"$f":"VLOOKUP(C7346,EMISSION_FACTORS!$A$7:$F$33,6,0)","v":660.31100000000004}]
["19041","PA","RFCE",{"$f":"VLOOKUP(C7373,EMISSION_FACTORS!$A$7:$F$33,6,0)","v":660.31100000000004}]
["19064","PA","RFCE",{"$f":"VLOOKUP(C7391,EMISSION_FACTORS!$A$7:$F$33,6,0)","v":660.31100000000004}]
["19075","PA","RFCE",{"$f":"VLOOKUP(C7399,EMISSION_FACTORS!$A$7:$F$33,6,0)","v":660.31100000000004}]
["19099","PA","RFCE",{"$f":"VLOOKUP(C7420,EMISSION_FACTORS!$A$7:$F$33,6,0)","v":660.31100000000004}]
["19125","PA","RFCE",{"$f":"VLOOKUP(C7444,EMISSION_FACTORS!$A$7:$F$33,6,0)","v":660.31100000000004}]
["19146","PA","RFCE",{"$f":"VLOOKUP(C7465,EMISSION_FACTORS!$A$7:$F$33,6,0)","v":660.31100000000004}]
["19184","PA","RFCE",{"$f":"VLOOKUP(C7490,EMISSION_FACTORS!$A$7:$F$33,6,0)","v":660.31100000000004}]
["19317","PA","RFCE",{"$f":"VLOOKUP(C7509,EMISSION_FACTORS!$A$7:$F$33,6,0)","v":660.31100000000004}]
["19333","PA","RFCE",{"$f":"VLOOKUP(C7515,EMISSION_FACTORS!$A$7:$F$33,6,0)","v":660.31100000000004}]
["19360","PA","RFCE",{"$f":"VLOOKUP(C7535,EMISSION_FACTORS!$A$7:$F$33,6,0)","v":660.31100000000004}]
["19404","PA","RFCE",{"$f":"VLOOKUP(C7560,EMISSION_FACTORS!$A$7:$F$33,6,0)","v":660.31100000000004}]
["19428","PA","RFCE",{"$f":"VLOOKUP(C7574,EMISSION_FACTORS!$A$7:$F$33,6,0)","v":660.31100000000004}]
["19477","PA","RFCE",{"$f":"VLOOKUP(C7605,EMISSION_FACTORS!$A$7:$F$33,6,0)","v":660.31100000000004}]
["19501","PA","RFCE",{"$f":"VLOOKUP(C7619,EMISSION_FACTORS!$A$7:$F$33,6,0)","v":660.31100000000004}]
["19518","PA","RFCE",{"$f":"VLOOKUP(C7630,EMISSION_FACTORS!$A$7:$F$33,6,0)","v":660.31100000000004}]
["19601","PA","RFCE",{"$f":"VLOOKUP(C7664,EMISSION_FACTORS!$A$7:$F$33,6,0)","v":660.31100000000004}]
["19706","DE","RFCE",{"$f":"VLOOKUP(C7679,EMISSION_FACTORS!$A$7:$F$33,6,0)","v":660.31100000000004}]
["19717","DE","RFCE",{"$f":"VLOOKUP(C7690,EMISSION_FACTORS!$A$7:$F$33,6,0)","v":660.31100000000004}]
["19896","DE","RFCE",{"$f":"VLOOKUP(C7724,EMISSION_FACTORS!$A$7:$F$33,6,0)","v":660.31100000000004}]
["19902","DE","RFCE",{"$f":"VLOOKUP(C7729,EMISSION_FACTORS!$A$7:$F$33,6,0)","v":660.31100000000004}]
["19958","DE","RFCE",{"$f":"VLOOKUP(C7755,EMISSION_FACTORS!$A$7:$F$33,6,0)","v":660.31100000000004}]
["20003","DC","RFCE",{"$f":"VLOOKUP(C7774,EMISSION_FACTORS!$A$7:$F$33,6,0)","v":660.31100000000004}]
["20035","DC","RFCE",{"$f":"VLOOKUP(C7800,EMISSION_FACTORS!$A$7:$F$33,6,0)","v":660.31100000000004}]
["20056","DC","RFCE",{"$f":"VLOOKUP(C7819,EMISSION_FACTORS!$A$7:$F$33,6,0)","v":660.31100000000004}]
["20077","DC","RFCE",{"$f":"VLOOKUP(C7839,EMISSION_FACTORS!$A$7:$F$33,6,0)","v":660.31100000000004}]
["20088","DC","RFCE",{"$f":"VLOOKUP(C7844,EMISSION_FACTORS!$A$7:$F$33,6,0)","v":660.31100000000004}]
["20119","VA","SRVC",{"$f":"VLOOKUP(C7865,EMISSION_FACTORS!$A$7:$F$33,6,0)","v":625.87400000000002}]
["20155","VA","SRVC",{"$f":"VLOOKUP(C7893,EMISSION_FACTORS!$A$7:$F$33,6,0)","v":625.87400000000002}]
["20177","VA","SRVC",{"$f":"VLOOKUP(C7910,EMISSION_FACTORS!$A$7:$F$33,6,0)","v":625.87400000000002}]
["20212","DC","RFCE",{"$f":"VLOOKUP(C7938,EMISSION_FACTORS!$A$7:$F$33,6,0)","v":660.31100000000004}]
["20237","DC","RFCE",{"$f":"VLOOKUP(C7959,EMISSION_FACTORS!$A$7:$F$33,6,0)","v":660.31100000000004}]
["20268","DC","RFCE",{"$f":"VLOOKUP(C7975,EMISSION_FACTORS!$A$7:$F$33,6,0)","v":660.31100000000004}]
["20319","DC","RFCE",{"$f":"VLOOKUP(C7988,EMISSION_FACTORS!$A$7:$F$33,6,0)","v":660.31100000000004}]
["20389","DC","RFCE",{"$f":"VLOOKUP(C8001,EMISSION_FACTORS!$A$7:$F$33,6,0)","v":660.31100000000004}]
["20425","DC","RFCE",{"$f":"VLOOKUP(C8033,EMISSION_FACTORS!$A$7:$F$33,6,0)","v":660.31100000000004}]
["20441","DC","RFCE",{"$f":"VLOOKUP(C8046,EMISSION_FACTORS!$A$7:$F$33,6,0)","v":660.31100000000004}]
["20526","DC","RFCE",{"$f":"VLOOKUP(C8078,EMISSION_FACTORS!$A$7:$F$33,6,0)","v":660.31100000000004}]
["20533","DC","RFCE",{"$f":"VLOOKUP(C8085,EMISSION_FACTORS!$A$7:$F$33,6,0)","v":660.31100000000004}]
["20553","DC","RFCE",{"$f":"VLOOKUP(C8103,EMISSION_FACTORS!$A$7:$F$33,6,0)","v":660.31100000000004}]
["20597","DC","RFCE",{"$f":"VLOOKUP(C8130,EMISSION_FACTORS!$A$7:$F$33,6,0)","v":660.31100000000004}]
["20622","MD","RFCE",{"$f":"VLOOKUP(C8152,EMISSION_FACTORS!$A$7:$F$33,6,0)","v":660.31100000000004}]
["20656","MD","RFCE",{"$f":"VLOOKUP(C8173,EMISSION_FACTORS!$A$7:$F$33,6,0)","v":660.31100000000004}]
["20689","MD","RFCE",{"$f":"VLOOKUP(C8195,EMISSION_FACTORS!$A$7:$F$33,6,0)","v":660.31100000000004}]
["20693","MD","RFCE",{"$f":"VLOOKUP(C8198,EMISSION_FACTORS!$A$7:$F$33,6,0)","v":660.31100000000004}]
["20723","MD","RFCE",{"$f":"VLOOKUP(C8221,EMISSION_FACTORS!$A$7:$F$33,6,0)","v":660.31100000000004}]
["20755","MD","RFCE",{"$f":"VLOOKUP(C8247,EMISSION_FACTORS!$A$7:$F$33,6,0)","v":660.31100000000004}]
["20779","MD","RFCE",{"$f":"VLOOKUP(C8266,EMISSION_FACTORS!$A$7:$F$33,6,0)","v":660.31100000000004}]
["20830","MD","RFCE",{"$f":"VLOOKUP(C8292,EMISSION_FACTORS!$A$7:$F$33,6,0)","v":660.31100000000004}]
["20852","MD","RFCE",{"$f":"VLOOKUP(C8305,EMISSION_FACTORS!$A$7:$F$33,6,0)","v":660.31100000000004}]
["20872","MD","RFCW",{"$f":"VLOOKUP(C8317,EMISSION_FACTORS!$A$7:$F$33,6,0)","v":1005.904}]
["20913","MD","RFCE",{"$f":"VLOOKUP(C8350,EMISSION_FACTORS!$A$7:$F$33,6,0)","v":660.31100000000004}]
["21013","MD","RFCE",{"$f":"VLOOKUP(C8362,EMISSION_FACTORS!$A$7:$F$33,6,0)","v":660.31100000000004}]
["21047","MD","RFCE",{"$f":"VLOOKUP(C8387,EMISSION_FACTORS!$A$7:$F$33,6,0)","v":660.31100000000004}]
["21060","MD","RFCE",{"$f":"VLOOKUP(C8396,EMISSION_FACTORS!$A$7:$F$33,6,0)","v":660.31100000000004}]
["21092","MD","RFCE",{"$f":"VLOOKUP(C8412,EMISSION_FACTORS!$A$7:$F$33,6,0)","v":660.31100000000004}]
["21155","MD","RFCE",{"$f":"VLOOKUP(C8441,EMISSION_FACTORS!$A$7:$F$33,6,0)","v":660.31100000000004}]
["21209","MD","RFCE",{"$f":"VLOOKUP(C8457,EMISSION_FACTORS!$A$7:$F$33,6,0)","v":660.31100000000004}]
["21240","MD","RFCE",{"$f":"VLOOKUP(C8486,EMISSION_FACTORS!$A$7:$F$33,6,0)","v":660.31100000000004}]
["21283","MD","RFCE",{"$f":"VLOOKUP(C8506,EMISSION_FACTORS!$A$7:$F$33,6,0)","v":660.31100000000004}]
["21289","MD","RFCE",{"$f":"VLOOKUP(C8512,EMISSION_FACTORS!$A$7:$F$33,6,0)","v":660.31100000000004}]
["21522","MD","RFCW",{"$f":"VLOOKUP(C8531,EMISSION_FACTORS!$A$7:$F$33,6,0)","v":1005.904}]
["21560","MD","RFCW",{"$f":"VLOOKUP(C8551,EMISSION_FACTORS!$A$7:$F$33,6,0)","v":1005.904}]
["21638","MD","RFCE",{"$f":"VLOOKUP(C8576,EMISSION_FACTORS!$A$7:$F$33,6,0)","v":660.31100000000004}]
["21665","MD","RFCE",{"$f":"VLOOKUP(C8601,EMISSION_FACTORS!$A$7:$F$33,6,0)","v":660.31100000000004}]
["21710","MD","RFCW",{"$f":"VLOOKUP(C8622,EMISSION_FACTORS!$A$7:$F$33,6,0)","v":1005.904}]
["21715","MD","RFCW",{"$f":"VLOOKUP(C8626,EMISSION_FACTORS!$A$7:$F$33,6,0)","v":1005.904}]
["21773","MD","RFCW",{"$f":"VLOOKUP(C8661,EMISSION_FACTORS!$A$7:$F$33,6,0)","v":1005.904}]
["21783","MD","RFCW",{"$f":"VLOOKUP(C8671,EMISSION_FACTORS!$A$7:$F$33,6,0)","v":1005.904}]
["21810","MD","RFCE",{"$f":"VLOOKUP(C8687,EMISSION_FACTORS!$A$7:$F$33,6,0)","v":660.31100000000004}]
["21864","MD","RFCE",{"$f":"VLOOKUP(C8716,EMISSION_FACTORS!$A$7:$F$33,6,0)","v":660.31100000000004}]
["21913","MD","RFCE",{"$f":"VLOOKUP(C8732,EMISSION_FACTORS!$A$7:$F$33,6,0)","v":660.31100000000004}]
["22015","VA","SRVC",{"$f":"VLOOKUP(C8745,EMISSION_FACTORS!$A$7:$F$33,6,0)","v":625.87400000000002}]
["22107","VA","SRVC",{"$f":"VLOOKUP(C8777,EMISSION_FACTORS!$A$7:$F$33,6,0)","v":625.87400000000002}]
["22151","VA","SRVC",{"$f":"VLOOKUP(C8790,EMISSION_FACTORS!$A$7:$F$33,6,0)","v":625.87400000000002}]
["22206","VA","SRVC",{"$f":"VLOOKUP(C8815,EMISSION_FACTORS!$A$7:$F$33,6,0)","v":625.87400000000002}]
["22215","VA","SRVC",{"$f":"VLOOKUP(C8823,EMISSION_FACTORS!$A$7:$F$33,6,0)","v":625.87400000000002}]
["22401","VA","SRVC",{"$f":"VLOOKUP(C8860,EMISSION_FACTORS!$A$7:$F$33,6,0)","v":625.87400000000002}]
["22412","VA","SRVC",{"$f":"VLOOKUP(C8868,EMISSION_FACTORS!$A$7:$F$33,6,0)","v":625.87400000000002}]
["22460","VA","SRVC",{"$f":"VLOOKUP(C8885,EMISSION_FACTORS!$A$7:$F$33,6,0)","v":625.87400000000002}]
["22520","VA","SRVC",{"$f":"VLOOKUP(C8907,EMISSION_FACTORS!$A$7:$F$33,6,0)","v":625.87400000000002}]
["22558","VA","SRVC",{"$f":"VLOOKUP(C8930,EMISSION_FACTORS!$A$7:$F$33,6,0)","v":625.87400000000002}]
["22625","VA","RFCW",{"$f":"VLOOKUP(C8952,EMISSION_FACTORS!$A$7:$F$33,6,0)","v":1005.904}]
["22641","VA","SRVC",{"$f":"VLOOKUP(C8959,EMISSION_FACTORS!$A$7:$F$33,6,0)","v":625.87400000000002}]
["22712","VA","SRVC",{"$f":"VLOOKUP(C8978,EMISSION_FACTORS!$A$7:$F$33,6,0)","v":625.87400000000002}]
["22739","VA","SRVC",{"$f":"VLOOKUP(C9004,EMISSION_FACTORS!$A$7:$F$33,6,0)","v":625.87400000000002}]
["22830","VA","RFCW",{"$f":"VLOOKUP(C9025,EMISSION_FACTORS!$A$7:$F$33,6,0)","v":1005.904}]
["22853","VA","RFCW",{"$f":"VLOOKUP(C9043,EMISSION_FACTORS!$A$7:$F$33,6,0)","v":1005.904}]
["22952","VA","SRVC",{"$f":"VLOOKUP(C9074,EMISSION_FACTORS!$A$7:$F$33,6,0)","v":625.87400000000002}]
["22974","VA","SRVC",{"$f":"VLOOKUP(C9088,EMISSION_FACTORS!$A$7:$F$33,6,0)","v":625.87400000000002}]
["23011","VA","SRVC",{"$f":"VLOOKUP(C9099,EMISSION_FACTORS!$A$7:$F$33,6,0)","v":625.87400000000002}]
["23069","VA","SRVC",{"$f":"VLOOKUP(C9133,EMISSION_FACTORS!$A$7:$F$33,6,0)","v":625.87400000000002}]
["23086","VA","SRVC",{"$f":"VLOOKUP(C9144,EMISSION_FACTORS!$A$7:$F$33,6,0)","v":625.87400000000002}]
["23127","VA","SRVC",{"$f":"VLOOKUP(C9172,EMISSION_FACTORS!$A$7:$F$33,6,0)","v":625.87400000000002}]
["23156","VA","SRVC",{"$f":"VLOOKUP(C9189,EMISSION_FACTORS!$A$7:$F$33,6,0)","v":625.87400000000002}]
["23175","VA","SRVC",{"$f":"VLOOKUP(C9198,EMISSION_FACTORS!$A$7:$F$33,6,0)","v":625.87400000000002}]
["23224","VA","SRVC",{"$f":"VLOOKUP(C9218,EMISSION_FACTORS!$A$7:$F$33,6,0)","v":625.87400000000002}]
["23261","VA","SRVC",{"$f":"VLOOKUP(C9239,EMISSION_FACTORS!$A$7:$F$33,6,0)","v":625.87400000000002}]
["23304","VA","SRVC",{"$f":"VLOOKUP(C9263,EMISSION_FACTORS!$A$7:$F$33,6,0)","v":625.87400000000002}]
["23345","VA","RFCE",{"$f":"VLOOKUP(C9284,EMISSION_FACTORS!$A$7:$F$33,6,0)","v":660.31100000000004}]
["23415","VA","RFCE",{"$f":"VLOOKUP(C9308,EMISSION_FACTORS!$A$7:$F$33,6,0)","v":660.31100000000004}]
["23420","VA","RFCE",{"$f":"VLOOKUP(C9313,EMISSION_FACTORS!$A$7:$F$33,6,0)","v":660.31100000000004}]
["23443","VA","RFCE",{"$f":"VLOOKUP(C9334,EMISSION_FACTORS!$A$7:$F$33,6,0)","v":660.31100000000004}]
["23486","VA","RFCE",{"$f":"VLOOKUP(C9358,EMISSION_FACTORS!$A$7:$F$33,6,0)","v":660.31100000000004}]
["23520","VA","SRVC",{"$f":"VLOOKUP(C9379,EMISSION_FACTORS!$A$7:$F$33,6,0)","v":625.87400000000002}]
["23666","VA","SRVC",{"$f":"VLOOKUP(C9403,EMISSION_FACTORS!$A$7:$F$33,6,0)","v":625.87400000000002}]
["23704","VA","SRVC",{"$f":"VLOOKUP(C9418,EMISSION_FACTORS!$A$7:$F$33,6,0)","v":625.87400000000002}]
["23821","VA","SRVC",{"$f":"VLOOKUP(C9428,EMISSION_FACTORS!$A$7:$F$33,6,0)","v":625.87400000000002}]
["23875","VA","SRVC",{"$f":"VLOOKUP(C9463,EMISSION_FACTORS!$A$7:$F$33,6,0)","v":625.87400000000002}]
["23893","VA","SRVC",{"$f":"VLOOKUP(C9477,EMISSION_FACTORS!$A$7:$F$33,6,0)","v":625.87400000000002}]
["23939","VA","SRVC",{"$f":"VLOOKUP(C9498,EMISSION_FACTORS!$A$7:$F$33,6,0)","v":625.87400000000002}]
["23959","VA","SRVC",{"$f":"VLOOKUP(C9509,EMISSION_FACTORS!$A$7:$F$33,6,0)","v":625.87400000000002}]
["24025","VA","RFCW",{"$f":"VLOOKUP(C9543,EMISSION_FACTORS!$A$7:$F$33,6,0)","v":1005.904}]
["24036","VA","RFCW",{"$f":"VLOOKUP(C9554,EMISSION_FACTORS!$A$7:$F$33,6,0)","v":1005.904}]
["24066","VA","RFCW",{"$f":"VLOOKUP(C9572,EMISSION_FACTORS!$A$7:$F$33,6,0)","v":1005.904}]
["24105","VA","RFCW",{"$f":"VLOOKUP(C9599,EMISSION_FACTORS!$A$7:$F$33,6,0)","v":1005.904}]
["24134","VA","RFCW",{"$f":"VLOOKUP(C9617,EMISSION_FACTORS!$A$7:$F$33,6,0)","v":1005.904}]
["24168","VA","RFCW",{"$f":"VLOOKUP(C9638,EMISSION_FACTORS!$A$7:$F$33,6,0)","v":1005.904}]
["24176","VA","RFCW",{"$f":"VLOOKUP(C9642,EMISSION_FACTORS!$A$7:$F$33,6,0)","v":1005.904}]
["24225","VA","RFCW",{"$f":"VLOOKUP(C9664,EMISSION_FACTORS!$A$7:$F$33,6,0)","v":1005.904}]
["24272","VA","RFCW",{"$f":"VLOOKUP(C9687,EMISSION_FACTORS!$A$7:$F$33,6,0)","v":1005.904}]
["24326","VA","RFCW",{"$f":"VLOOKUP(C9712,EMISSION_FACTORS!$A$7:$F$33,6,0)","v":1005.904}]
["24368","VA","RFCW",{"$f":"VLOOKUP(C9729,EMISSION_FACTORS!$A$7:$F$33,6,0)","v":1005.904}]
["24441","VA","SRVC",{"$f":"VLOOKUP(C9757,EMISSION_FACTORS!$A$7:$F$33,6,0)","v":625.87400000000002}]
["24473","VA","SRVC",{"$f":"VLOOKUP(C9774,EMISSION_FACTORS!$A$7:$F$33,6,0)","v":625.87400000000002}]
["24485","VA","RFCW",{"$f":"VLOOKUP(C9782,EMISSION_FACTORS!$A$7:$F$33,6,0)","v":1005.904}]
["24527","VA","RFCW",{"$f":"VLOOKUP(C9800,EMISSION_FACTORS!$A$7:$F$33,6,0)","v":1005.904}]
["24574","VA","RFCW",{"$f":"VLOOKUP(C9831,EMISSION_FACTORS!$A$7:$F$33,6,0)","v":1005.904}]
["24595","VA","RFCW",{"$f":"VLOOKUP(C9845,EMISSION_FACTORS!$A$7:$F$33,6,0)","v":1005.904}]
["24647","VA","RFCW",{"$f":"VLOOKUP(C9876,EMISSION_FACTORS!$A$7:$F$33,6,0)","v":1005.904}]
["24714","WV","RFCW",{"$f":"VLOOKUP(C9884,EMISSION_FACTORS!$A$7:$F$33,6,0)","v":1005.904}]
["24801","WV","RFCW",{"$f":"VLOOKUP(C9901,EMISSION_FACTORS!$A$7:$F$33,6,0)","v":1005.904}]
["24849","WV","RFCW",{"$f":"VLOOKUP(C9926,EMISSION_FACTORS!$A$7:$F$33,6,0)","v":1005.904}]
["24862","WV","RFCW",{"$f":"VLOOKUP(C9936,EMISSION_FACTORS!$A$7:$F$33,6,0)","v":1005.904}]
["24938","WV","RFCW",{"$f":"VLOOKUP(C9971,EMISSION_FACTORS!$A$7:$F$33,6,0)","v":1005.904}]
["24945","WV","RFCW",{"$f":"VLOOKUP(C9975,EMISSION_FACTORS!$A$7:$F$33,6,0)","v":1005.904}]
["25005","WV","RFCW",{"$f":"VLOOKUP(C9996,EMISSION_FACTORS!$A$7:$F$33,6,0)","v":1005.904}]
["25048","WV","RFCW",{"$f":"VLOOKUP(C10020,EMISSION_FACTORS!$A$7:$F$33,6,0)","v":1005.904}]
["25093","WV","RFCW",{"$f":"VLOOKUP(C10045,EMISSION_FACTORS!$A$7:$F$33,6,0)","v":1005.904}]
["25130","WV","RFCW",{"$f":"VLOOKUP(C10065,EMISSION_FACTORS!$A$7:$F$33,6,0)","v":1005.904}]
["25177","WV","RFCW",{"$f":"VLOOKUP(C10090,EMISSION_FACTORS!$A$7:$F$33,6,0)","v":1005.904}]
["25234","WV","RFCW",{"$f":"VLOOKUP(C10110,EMISSION_FACTORS!$A$7:$F$33,6,0)","v":1005.904}]
["25244","WV","RFCW",{"$f":"VLOOKUP(C10115,EMISSION_FACTORS!$A$7:$F$33,6,0)","v":1005.904}]
["25303","WV","RFCW",{"$f":"VLOOKUP(C10140,EMISSION_FACTORS!$A$7:$F$33,6,0)","v":1005.904}]
["25325","WV","RFCW",{"$f":"VLOOKUP(C10156,EMISSION_FACTORS!$A$7:$F$33,6,0)","v":1005.904}]
["25401","WV","RFCW",{"$f":"VLOOKUP(C10185,EMISSION_FACTORS!$A$7:$F$33,6,0)","v":1005.904}]
["25428","WV","RFCW",{"$f":"VLOOKUP(C10201,EMISSION_FACTORS!$A$7:$F$33,6,0)","v":1005.904}]
["25442","WV","RFCW",{"$f":"VLOOKUP(C10210,EMISSION_FACTORS!$A$7:$F$33,6,0)","v":1005.904}]
["25544","WV","RFCW",{"$f":"VLOOKUP(C10240,EMISSION_FACTORS!$A$7:$F$33,6,0)","v":1005.904}]
["25572","WV","RFCW",{"$f":"VLOOKUP(C10255,EMISSION_FACTORS!$A$7:$F$33,6,0)","v":1005.904}]
["25661","WV","RFCW",{"$f":"VLOOKUP(C10285,EMISSION_FACTORS!$A$7:$F$33,6,0)","v":1005.904}]
["25701","WV","RFCW",{"$f":"VLOOKUP(C10304,EMISSION_FACTORS!$A$7:$F$33,6,0)","v":1005.904}]
["25708","WV","RFCW",{"$f":"VLOOKUP(C10311,EMISSION_FACTORS!$A$7:$F$33,6,0)","v":1005.904}]
["25726","WV","RFCW",{"$f":"VLOOKUP(C10329,EMISSION_FACTORS!$A$7:$F$33,6,0)","v":1005.904}]
["25817","WV","RFCW",{"$f":"VLOOKUP(C10350,EMISSION_FACTORS!$A$7:$F$33,6,0)","v":1005.904}]
["25860","WV","RFCW",{"$f":"VLOOKUP(C10376,EMISSION_FACTORS!$A$7:$F$33,6,0)","v":1005.904}]
["25913","WV","RFCW",{"$f":"VLOOKUP(C10399,EMISSION_FACTORS!$A$7:$F$33,6,0)","v":1005.904}]
["25972","WV","RFCW",{"$f":"VLOOKUP(C10421,EMISSION_FACTORS!$A$7:$F$33,6,0)","v":1005.904}]
["25978","WV","RFCW",{"$f":"VLOOKUP(C10424,EMISSION_FACTORS!$A$7:$F$33,6,0)","v":1005.904}]
["26056","WV","RFCW",{"$f":"VLOOKUP(C10447,EMISSION_FACTORS!$A$7:$F$33,6,0)","v":1005.904}]
["26142","WV","RFCW",{"$f":"VLOOKUP(C10469,EMISSION_FACTORS!$A$7:$F$33,6,0)","v":1005.904}]
["26170","WV","RFCW",{"$f":"VLOOKUP(C10486,EMISSION_FACTORS!$A$7:$F$33,6,0)","v":1005.904}]
["26241","WV","RFCW",{"$f":"VLOOKUP(C10514,EMISSION_FACTORS!$A$7:$F$33,6,0)","v":1005.904}]
["26275","WV","RFCW",{"$f":"VLOOKUP(C10531,EMISSION_FACTORS!$A$7:$F$33,6,0)","v":1005.904}]
["26293","WV","RFCW",{"$f":"VLOOKUP(C10543,EMISSION_FACTORS!$A$7:$F$33,6,0)","v":1005.904}]
["26348","WV","RFCW",{"$f":"VLOOKUP(C10564,EMISSION_FACTORS!$A$7:$F$33,6,0)","v":1005.904}]
["26434","WV","RFCW",{"$f":"VLOOKUP(C10596,EMISSION_FACTORS!$A$7:$F$33,6,0)","v":1005.904}]
["26463","WV","RFCW",{"$f":"VLOOKUP(C10609,EMISSION_FACTORS!$A$7:$F$33,6,0)","v":1005.904}]
["26527","WV","RFCW",{"$f":"VLOOKUP(C10622,EMISSION_FACTORS!$A$7:$F$33,6,0)","v":1005.904}]
["26611","WV","RFCW",{"$f":"VLOOKUP(C10658,EMISSION_FACTORS!$A$7:$F$33,6,0)","v":1005.904}]
["26631","WV","RFCW",{"$f":"VLOOKUP(C10667,EMISSION_FACTORS!$A$7:$F$33,6,0)","v":1005.904}]
["26690","WV","RFCW",{"$f":"VLOOKUP(C10683,EMISSION_FACTORS!$A$7:$F$33,6,0)","v":1005.904}]
["26764","WV","RFCW",{"$f":"VLOOKUP(C10706,EMISSION_FACTORS!$A$7:$F$33,6,0)","v":1005.904}]
["26865","WV","RFCW",{"$f":"VLOOKUP(C10728,EMISSION_FACTORS!$A$7:$F$33,6,0)","v":1005.904}]
["27028","NC","SRVC",{"$f":"VLOOKUP(C10751,EMISSION_FACTORS!$A$7:$F$33,6,0)","v":625.87400000000002}]
["27102","NC","SRVC",{"$f":"VLOOKUP(C10773,EMISSION_FACTORS!$A$7:$F$33,6,0)","v":625.87400000000002}]
["27107","NC","SRVC",{"$f":"VLOOKUP(C10778,EMISSION_FACTORS!$A$7:$F$33,6,0)","v":625.87400000000002}]
["27201","NC","SRVC",{"$f":"VLOOKUP(C10797,EMISSION_FACTORS!$A$7:$F$33,6,0)","v":625.87400000000002}]
["27248","NC","SRVC",{"$f":"VLOOKUP(C10823,EMISSION_FACTORS!$A$7:$F$33,6,0)","v":625.87400000000002}]
["27288","NC","SRVC",{"$f":"VLOOKUP(C10842,EMISSION_FACTORS!$A$7:$F$33,6,0)","v":625.87400000000002}]
["27331","NC","SRVC",{"$f":"VLOOKUP(C10868,EMISSION_FACTORS!$A$7:$F$33,6,0)","v":625.87400000000002}]
["27373","NC","SRVC",{"$f":"VLOOKUP(C10887,EMISSION_FACTORS!$A$7:$F$33,6,0)","v":625.87400000000002}]
["27405","NC","SRVC",{"$f":"VLOOKUP(C10897,EMISSION_FACTORS!$A$7:$F$33,6,0)","v":625.87400000000002}]
["27429","NC","SRVC",{"$f":"VLOOKUP(C10913,EMISSION_FACTORS!$A$7:$F$33,6,0)","v":625.87400000000002}]
["27522","NC","SRVC",{"$f":"VLOOKUP(C10942,EMISSION_FACTORS!$A$7:$F$33,6,0)","v":625.87400000000002}]
["27532","NC","SRVC",{"$f":"VLOOKUP(C10952,EMISSION_FACTORS!$A$7:$F$33,6,0)","v":625.87400000000002}]
["27581","NC","SRVC",{"$f":"VLOOKUP(C10987,EMISSION_FACTORS!$A$7:$F$33,6,0)","v":625.87400000000002}]
["27587","NC","SRVC",{"$f":"VLOOKUP(C10992,EMISSION_FACTORS!$A$7:$F$33,6,0)","v":625.87400000000002}]
["27623","NC","SRVC",{"$f":"VLOOKUP(C11023,EMISSION_FACTORS!$A$7:$F$33,6,0)","v":625.87400000000002}]
["27661","NC","SRVC",{"$f":"VLOOKUP(C11037,EMISSION_FACTORS!$A$7:$F$33,6,0)","v":625.87400000000002}]
["27801","NC","SRVC",{"$f":"VLOOKUP(C11062,EMISSION_FACTORS!$A$7:$F$33,6,0)","v":625.87400000000002}]
["27821","NC","SRVC",{"$f":"VLOOKUP(C11082,EMISSION_FACTORS!$A$7:$F$33,6,0)","v":625.87400000000002}]
["27847","NC","SRVC",{"$f":"VLOOKUP(C11107,EMISSION_FACTORS!$A$7:$F$33,6,0)","v":625.87400000000002}]
["27852","NC","SRVC",{"$f":"VLOOKUP(C11111,EMISSION_FACTORS!$A$7:$F$33,6,0)","v":625.87400000000002}]
["27876","NC","SRVC",{"$f":"VLOOKUP(C11133,EMISSION_FACTORS!$A$7:$F$33,6,0)","v":625.87400000000002}]
["27907","NC","SRVC",{"$f":"VLOOKUP(C11156,EMISSION_FACTORS!$A$7:$F$33,6,0)","v":625.87400000000002}]
["27938","NC","SRVC",{"$f":"VLOOKUP(C11178,EMISSION_FACTORS!$A$7:$F$33,6,0)","v":625.87400000000002}]
["27968","NC","SRVC",{"$f":"VLOOKUP(C11201,EMISSION_FACTORS!$A$7:$F$33,6,0)","v":625.87400000000002}]
["27974","NC","SRVC",{"$f":"VLOOKUP(C11206,EMISSION_FACTORS!$A$7:$F$33,6,0)","v":625.87400000000002}]
["28040","NC","SRVC",{"$f":"VLOOKUP(C11243,EMISSION_FACTORS!$A$7:$F$33,6,0)","v":625.87400000000002}]
["28056","NC","SRVC",{"$f":"VLOOKUP(C11251,EMISSION_FACTORS!$A$7:$F$33,6,0)","v":625.87400000000002}]
["28090","NC","SRVC",{"$f":"VLOOKUP(C11269,EMISSION_FACTORS!$A$7:$F$33,6,0)","v":625.87400000000002}]
["28127","NC","SRVC",{"$f":"VLOOKUP(C11296,EMISSION_FACTORS!$A$7:$F$33,6,0)","v":625.87400000000002}]
["28145","NC","SRVC",{"$f":"VLOOKUP(C11308,EMISSION_FACTORS!$A$7:$F$33,6,0)","v":625.87400000000002}]
["28217","NC","SRVC",{"$f":"VLOOKUP(C11341,EMISSION_FACTORS!$A$7:$F$33,6,0)","v":625.87400000000002}]
["28230","NC","SRVC",{"$f":"VLOOKUP(C11353,EMISSION_FACTORS!$A$7:$F$33,6,0)","v":625.87400000000002}]
["28255","NC","SRVC",{"$f":"VLOOKUP(C11370,EMISSION_FACTORS!$A$7:$F$33,6,0)","v":625.87400000000002}]
["28299","NC","SRVC",{"$f":"VLOOKUP(C11398,EMISSION_FACTORS!$A$7:$F$33,6,0)","v":625.87400000000002}]
["28320","NC","SRVC",{"$f":"VLOOKUP(C11415,EMISSION_FACTORS!$A$7:$F$33,6,0)","v":625.87400000000002}]
["28332","NC","SRVC",{"$f":"VLOOKUP(C11424,EMISSION_FACTORS!$A$7:$F$33,6,0)","v":625.87400000000002}]
["28350","NC","SRVC",{"$f":"VLOOKUP(C11440,EMISSION_FACTORS!$A$7:$F$33,6,0)","v":625.87400000000002}]
["28377","NC","SRVC",{"$f":"VLOOKUP(C11465,EMISSION_FACTORS!$A$7:$F$33,6,0)","v":625.87400000000002}]
["28405","NC","SRVC",{"$f":"VLOOKUP(C11489,EMISSION_FACTORS!$A$7:$F$33,6,0)","v":625.87400000000002}]
["28435","NC","SRVC",{"$f":"VLOOKUP(C11510,EMISSION_FACTORS!$A$7:$F$33,6,0)","v":625.87400000000002}]
["28462","NC","SRVC",{"$f":"VLOOKUP(C11534,EMISSION_FACTORS!$A$7:$F$33,6,0)","v":625.87400000000002}]
["28512","NC","SRVC",{"$f":"VLOOKUP(C11555,EMISSION_FACTORS!$A$7:$F$33,6,0)","v":625.87400000000002}]
["28532","NC","SRVC",{"$f":"VLOOKUP(C11573,EMISSION_FACTORS!$A$7:$F$33,6,0)","v":625.87400000000002}]
["28542","NC","SRVC",{"$f":"VLOOKUP(C11580,EMISSION_FACTORS!$A$7:$F$33,6,0)","v":625.87400000000002}]
["28571","NC","SRVC",{"$f":"VLOOKUP(C11599,EMISSION_FACTORS!$A$7:$F$33,6,0)","v":625.87400000000002}]
["28612","NC","SRVC",{"$f":"VLOOKUP(C11629,EMISSION_FACTORS!$A$7:$F$33,6,0)","v":625.87400000000002}]
["28629","NC","SRVC",{"$f":"VLOOKUP(C11644,EMISSION_FACTORS!$A$7:$F$33,6,0)","v":625.87400000000002}]
["28662","NC","SRTV",{"$f":"VLOOKUP(C11674,EMISSION_FACTORS!$A$7:$F$33,6,0)","v":938.625}]
["28663","NC","SRVC",{"$f":"VLOOKUP(C11675,EMISSION_FACTORS!$A$7:$F$33,6,0)","v":625.87400000000002}]
["28702","NC","SRTV",{"$f":"VLOOKUP(C11709,EMISSION_FACTORS!$A$7:$F$33,6,0)","v":938.625}]
["28719","NC","SRVC",{"$f":"VLOOKUP(C11724,EMISSION_FACTORS!$A$7:$F$33,6,0)","v":625.87400000000002}]
["28730","NC","SRVC",{"$f":"VLOOKUP(C11735,EMISSION_FACTORS!$A$7:$F$33,6,0)","v":625.87400000000002}]
["28765","NC","SRTV",{"$f":"VLOOKUP(C11769,EMISSION_FACTORS!$A$7:$F$33,6,0)","v":938.625}]
["28772","NC","SRVC",{"$f":"VLOOKUP(C11774,EMISSION_FACTORS!$A$7:$F$33,6,0)","v":625.87400000000002}]
["28793","NC","SRVC",{"$f":"VLOOKUP(C11794,EMISSION_FACTORS!$A$7:$F$33,6,0)","v":625.87400000000002}]
["29014","SC","SRVC",{"$f":"VLOOKUP(C11819,EMISSION_FACTORS!$A$7:$F$33,6,0)","v":625.87400000000002}]
["29047","SC","SRVC",{"$f":"VLOOKUP(C11839,EMISSION_FACTORS!$A$7:$F$33,6,0)","v":625.87400000000002}]
["29081","SC","SRVC",{"$f":"VLOOKUP(C11864,EMISSION_FACTORS!$A$7:$F$33,6,0)","v":625.87400000000002}]
["29132","SC","SRVC",{"$f":"VLOOKUP(C11888,EMISSION_FACTORS!$A$7:$F$33,6,0)","v":625.87400000000002}]
["29166","SC","SRVC",{"$f":"VLOOKUP(C11909,EMISSION_FACTORS!$A$7:$F$33,6,0)","v":625.87400000000002}]
["29168","SC","SRVC",{"$f":"VLOOKUP(C11910,EMISSION_FACTORS!$A$7:$F$33,6,0)","v":625.87400000000002}]
["29217","SC","SRVC",{"$f":"VLOOKUP(C11934,EMISSION_FACTORS!$A$7:$F$33,6,0)","v":625.87400000000002}]
["29303","SC","SRVC",{"$f":"VLOOKUP(C11955,EMISSION_FACTORS!$A$7:$F$33,6,0)","v":625.87400000000002}]
["29349","SC","SRVC",{"$f":"VLOOKUP(C11983,EMISSION_FACTORS!$A$7:$F$33,6,0)","v":625.87400000000002}]
["29378","SC","SRVC",{"$f":"VLOOKUP(C12000,EMISSION_FACTORS!$A$7:$F$33,6,0)","v":625.87400000000002}]
["29395","SC","SRVC",{"$f":"VLOOKUP(C12008,EMISSION_FACTORS!$A$7:$F$33,6,0)","v":625.87400000000002}]
["29436","SC","SRVC",{"$f":"VLOOKUP(C12039,EMISSION_FACTORS!$A$7:$F$33,6,0)","v":625.87400000000002}]
["29453","SC","SRVC",{"$f":"VLOOKUP(C12053,EMISSION_FACTORS!$A$7:$F$33,6,0)","v":625.87400000000002}]
["29503","SC","SRVC",{"$f":"VLOOKUP(C12084,EMISSION_FACTORS!$A$7:$F$33,6,0)","v":625.87400000000002}]
["29528","SC","SRVC",{"$f":"VLOOKUP(C12098,EMISSION_FACTORS!$A$7:$F$33,6,0)","v":625.87400000000002}]
["29571","SC","SRVC",{"$f":"VLOOKUP(C12123,EMISSION_FACTORS!$A$7:$F$33,6,0)","v":625.87400000000002}]
["29578","SC","SRVC",{"$f":"VLOOKUP(C12130,EMISSION_FACTORS!$A$7:$F$33,6,0)","v":625.87400000000002}]
["29598","SC","SRVC",{"$f":"VLOOKUP(C12148,EMISSION_FACTORS!$A$7:$F$33,6,0)","v":625.87400000000002}]
["29630","SC","SRVC",{"$f":"VLOOKUP(C12175,EMISSION_FACTORS!$A$7:$F$33,6,0)","v":625.87400000000002}]
["29649","SC","SRVC",{"$f":"VLOOKUP(C12193,EMISSION_FACTORS!$A$7:$F$33,6,0)","v":625.87400000000002}]
["29680","SC","SRVC",{"$f":"VLOOKUP(C12220,EMISSION_FACTORS!$A$7:$F$33,6,0)","v":625.87400000000002}]
["29682","SC","SRVC",{"$f":"VLOOKUP(C12222,EMISSION_FACTORS!$A$7:$F$33,6,0)","v":625.87400000000002}]
["29712","SC","SRVC",{"$f":"VLOOKUP(C12246,EMISSION_FACTORS!$A$7:$F$33,6,0)","v":625.87400000000002}]
["29743","SC","SRVC",{"$f":"VLOOKUP(C12267,EMISSION_FACTORS!$A$7:$F$33,6,0)","v":625.87400000000002}]
["29824","SC","SRVC",{"$f":"VLOOKUP(C12285,EMISSION_FACTORS!$A$7:$F$33,6,0)","v":625.87400000000002}]
["29861","SC","SRVC",{"$f":"VLOOKUP(C12312,EMISSION_FACTORS!$A$7:$F$33,6,0)","v":625.87400000000002}]
["29927","SC","SRVC",{"$f":"VLOOKUP(C12337,EMISSION_FACTORS!$A$7:$F$33,6,0)","v":625.87400000000002}]
["30005","GA","SRSO",{"$f":"VLOOKUP(C12356,EMISSION_FACTORS!$A$7:$F$33,6,0)","v":897.65899999999999}]
["30011","GA","SRSO",{"$f":"VLOOKUP(C12362,EMISSION_FACTORS!$A$7:$F$33,6,0)","v":897.65899999999999}]
["30046","GA","SRSO",{"$f":"VLOOKUP(C12395,EMISSION_FACTORS!$A$7:$F$33,6,0)","v":897.65899999999999}]
["30063","GA","SRSO",{"$f":"VLOOKUP(C12407,EMISSION_FACTORS!$A$7:$F$33,6,0)","v":897.65899999999999}]
["30078","GA","SRSO",{"$f":"VLOOKUP(C12421,EMISSION_FACTORS!$A$7:$F$33,6,0)","v":897.65899999999999}]
["30115","GA","SRSO",{"$f":"VLOOKUP(C12456,EMISSION_FACTORS!$A$7:$F$33,6,0)","v":897.65899999999999}]
["30125","GA","SRSO",{"$f":"VLOOKUP(C12466,EMISSION_FACTORS!$A$7:$F$33,6,0)","v":897.65899999999999}]
["30144","GA","SRSO",{"$f":"VLOOKUP(C12481,EMISSION_FACTORS!$A$7:$F$33,6,0)","v":897.65899999999999}]
["30180","GA","SRSO",{"$f":"VLOOKUP(C12511,EMISSION_FACTORS!$A$7:$F$33,6,0)","v":897.65899999999999}]
["30216","GA","SRSO",{"$f":"VLOOKUP(C12526,EMISSION_FACTORS!$A$7:$F$33,6,0)","v":897.65899999999999}]
["30258","GA","SRSO",{"$f":"VLOOKUP(C12551,EMISSION_FACTORS!$A$7:$F$33,6,0)","v":897.65899999999999}]
["30265","GA","SRSO",{"$f":"VLOOKUP(C12557,EMISSION_FACTORS!$A$7:$F$33,6,0)","v":897.65899999999999}]
["30290","GA","SRSO",{"$f":"VLOOKUP(C12576,EMISSION_FACTORS!$A$7:$F$33,6,0)","v":897.65899999999999}]
["30318","GA","SRSO",{"$f":"VLOOKUP(C12602,EMISSION_FACTORS!$A$7:$F$33,6,0)","v":897.65899999999999}]
["30339","GA","SRSO",{"$f":"VLOOKUP(C12621,EMISSION_FACTORS!$A$7:$F$33,6,0)","v":897.65899999999999}]
["30361","GA","SRSO",{"$f":"VLOOKUP(C12641,EMISSION_FACTORS!$A$7:$F$33,6,0)","v":897.65899999999999}]
["30410","GA","SRSO",{"$f":"VLOOKUP(C12666,EMISSION_FACTORS!$A$7:$F$33,6,0)","v":897.65899999999999}]
["30441","GA","SRSO",{"$f":"VLOOKUP(C12686,EMISSION_FACTORS!$A$7:$F$33,6,0)","v":897.65899999999999}]
["30452","GA","SRSO",{"$f":"VLOOKUP(C12695,EMISSION_FACTORS!$A$7:$F$33,6,0)","v":897.65899999999999}]
["30477","GA","SRSO",{"$f":"VLOOKUP(C12712,EMISSION_FACTORS!$A$7:$F$33,6,0)","v":897.65899999999999}]
["30533","GA","SRSO",{"$f":"VLOOKUP(C12740,EMISSION_FACTORS!$A$7:$F$33,6,0)","v":897.65899999999999}]
["30557","GA","SRSO",{"$f":"VLOOKUP(C12761,EMISSION_FACTORS!$A$7:$F$33,6,0)","v":897.65899999999999}]
["30577","GA","SRSO",{"$f":"VLOOKUP(C12777,EMISSION_FACTORS!$A$7:$F$33,6,0)","v":897.65899999999999}]
["30607","GA","SRSO",{"$f":"VLOOKUP(C12790,EMISSION_FACTORS!$A$7:$F$33,6,0)","v":897.65899999999999}]
["30662","GA","SRSO",{"$f":"VLOOKUP(C12822,EMISSION_FACTORS!$A$7:$F$33,6,0)","v":897.65899999999999}]
["30683","GA","SRSO",{"$f":"VLOOKUP(C12835,EMISSION_FACTORS!$A$7:$F$33,6,0)","v":897.65899999999999}]
["30741","GA","SRTV",{"$f":"VLOOKUP(C12861,EMISSION_FACTORS!$A$7:$F$33,6,0)","v":938.625}]
["30811","GA","SRSO",{"$f":"VLOOKUP(C12880,EMISSION_FACTORS!$A$7:$F$33,6,0)","v":897.65899999999999}]
["30818","GA","SRSO",{"$f":"VLOOKUP(C12887,EMISSION_FACTORS!$A$7:$F$33,6,0)","v":897.65899999999999}]
["31016","GA","SRSO",{"$f":"VLOOKUP(C12925,EMISSION_FACTORS!$A$7:$F$33,6,0)","v":897.65899999999999}]
["31023","GA","SRSO",{"$f":"VLOOKUP(C12932,EMISSION_FACTORS!$A$7:$F$33,6,0)","v":897.65899999999999}]
["31046","GA","SRSO",{"$f":"VLOOKUP(C12954,EMISSION_FACTORS!$A$7:$F$33,6,0)","v":897.65899999999999}]
["31070","GA","SRSO",{"$f":"VLOOKUP(C12975,EMISSION_FACTORS!$A$7:$F$33,6,0)","v":897.65899999999999}]
["31095","GA","SRSO",{"$f":"VLOOKUP(C12997,EMISSION_FACTORS!$A$7:$F$33,6,0)","v":897.65899999999999}]
["31201","GA","SRSO",{"$f":"VLOOKUP(C13020,EMISSION_FACTORS!$A$7:$F$33,6,0)","v":897.65899999999999}]
["31302","GA","SRSO",{"$f":"VLOOKUP(C13042,EMISSION_FACTORS!$A$7:$F$33,6,0)","v":897.65899999999999}]
["31310","GA","SRSO",{"$f":"VLOOKUP(C13049,EMISSION_FACTORS!$A$7:$F$33,6,0)","v":897.65899999999999}]
["31401","GA","SRSO",{"$f":"VLOOKUP(C13068,EMISSION_FACTORS!$A$7:$F$33,6,0)","v":897.65899999999999}]
["31516","GA","SRSO",{"$f":"VLOOKUP(C13094,EMISSION_FACTORS!$A$7:$F$33,6,0)","v":897.65899999999999}]
["31535","GA","SRSO",{"$f":"VLOOKUP(C13107,EMISSION_FACTORS!$A$7:$F$33,6,0)","v":897.65899999999999}]
["31601","GA","SRSO",{"$f":"VLOOKUP(C13139,EMISSION_FACTORS!$A$7:$F$33,6,0)","v":897.65899999999999}]
["31629","GA","SRSO",{"$f":"VLOOKUP(C13152,EMISSION_FACTORS!$A$7:$F$33,6,0)","v":897.65899999999999}]
["31643","GA","SRSO",{"$f":"VLOOKUP(C13164,EMISSION_FACTORS!$A$7:$F$33,6,0)","v":897.65899999999999}]
["31747","GA","SRSO",{"$f":"VLOOKUP(C13197,EMISSION_FACTORS!$A$7:$F$33,6,0)","v":897.65899999999999}]
["31774","GA","SRSO",{"$f":"VLOOKUP(C13213,EMISSION_FACTORS!$A$7:$F$33,6,0)","v":897.65899999999999}]
["31799","GA","SRSO",{"$f":"VLOOKUP(C13234,EMISSION_FACTORS!$A$7:$F$33,6,0)","v":897.65899999999999}]
["31811","GA","SRSO",{"$f":"VLOOKUP(C13243,EMISSION_FACTORS!$A$7:$F$33,6,0)","v":897.65899999999999}]
["31832","GA","SRSO",{"$f":"VLOOKUP(C13259,EMISSION_FACTORS!$A$7:$F$33,6,0)","v":897.65899999999999}]
["32026","FL","FRCC",{"$f":"VLOOKUP(C13288,EMISSION_FACTORS!$A$7:$F$33,6,0)","v":816.89300000000003}]
["32060","FL","FRCC",{"$f":"VLOOKUP(C13308,EMISSION_FACTORS!$A$7:$F$33,6,0)","v":816.89300000000003}]
["32096","FL","FRCC",{"$f":"VLOOKUP(C13333,EMISSION_FACTORS!$A$7:$F$33,6,0)","v":816.89300000000003}]
["32125","FL","FRCC",{"$f":"VLOOKUP(C13353,EMISSION_FACTORS!$A$7:$F$33,6,0)","v":816.89300000000003}]
["32145","FL","FRCC",{"$f":"VLOOKUP(C13372,EMISSION_FACTORS!$A$7:$F$33,6,0)","v":816.89300000000003}]
["32159","FL","FRCC",{"$f":"VLOOKUP(C13378,EMISSION_FACTORS!$A$7:$F$33,6,0)","v":816.89300000000003}]
["32187","FL","FRCC",{"$f":"VLOOKUP(C13398,EMISSION_FACTORS!$A$7:$F$33,6,0)","v":816.89300000000003}]
["32220","FL","FRCC",{"$f":"VLOOKUP(C13423,EMISSION_FACTORS!$A$7:$F$33,6,0)","v":816.89300000000003}]
["32247","FL","FRCC",{"$f":"VLOOKUP(C13448,EMISSION_FACTORS!$A$7:$F$33,6,0)","v":816.89300000000003}]
["32305","FL","FRCC",{"$f":"VLOOKUP(C13463,EMISSION_FACTORS!$A$7:$F$33,6,0)","v":816.89300000000003}]
["32315","FL","FRCC",{"$f":"VLOOKUP(C13473,EMISSION_FACTORS!$A$7:$F$33,6,0)","v":816.89300000000003}]
["32357","FL","FRCC",{"$f":"VLOOKUP(C13508,EMISSION_FACTORS!$A$7:$F$33,6,0)","v":816.89300000000003}]
["32407","FL","SRSO",{"$f":"VLOOKUP(C13522,EMISSION_FACTORS!$A$7:$F$33,6,0)","v":897.65899999999999}]
["32424","FL","FRCC",{"$f":"VLOOKUP(C13534,EMISSION_FACTORS!$A$7:$F$33,6,0)","v":816.89300000000003}]
["32465","FL","FRCC",{"$f":"VLOOKUP(C13567,EMISSION_FACTORS!$A$7:$F$33,6,0)","v":816.89300000000003}]
["32512","FL","SRSO",{"$f":"VLOOKUP(C13579,EMISSION_FACTORS!$A$7:$F$33,6,0)","v":897.65899999999999}]
["32534","FL","SRSO",{"$f":"VLOOKUP(C13592,EMISSION_FACTORS!$A$7:$F$33,6,0)","v":897.65899999999999}]
["32571","FL","SRSO",{"$f":"VLOOKUP(C13618,EMISSION_FACTORS!$A$7:$F$33,6,0)","v":897.65899999999999}]
["32609","FL","FRCC",{"$f":"VLOOKUP(C13637,EMISSION_FACTORS!$A$7:$F$33,6,0)","v":816.89300000000003}]
["32644","FL","FRCC",{"$f":"VLOOKUP(C13662,EMISSION_FACTORS!$A$7:$F$33,6,0)","v":816.89300000000003}]
["32663","FL","FRCC",{"$f":"VLOOKUP(C13670,EMISSION_FACTORS!$A$7:$F$33,6,0)","v":816.89300000000003}]
["32726","FL","FRCC",{"$f":"VLOOKUP(C13707,EMISSION_FACTORS!$A$7:$F$33,6,0)","v":816.89300000000003}]
["32728","FL","FRCC",{"$f":"VLOOKUP(C13709,EMISSION_FACTORS!$A$7:$F$33,6,0)","v":816.89300000000003}]
["32765","FL","FRCC",{"$f":"VLOOKUP(C13732,EMISSION_FACTORS!$A$7:$F$33,6,0)","v":816.89300000000003}]
["32793","FL","FRCC",{"$f":"VLOOKUP(C13754,EMISSION_FACTORS!$A$7:$F$33,6,0)","v":816.89300000000003}]
["32824","FL","FRCC",{"$f":"VLOOKUP(C13781,EMISSION_FACTORS!$A$7:$F$33,6,0)","v":816.89300000000003}]
["32856","FL","FRCC",{"$f":"VLOOKUP(C13799,EMISSION_FACTORS!$A$7:$F$33,6,0)","v":816.89300000000003}]
["32867","FL","FRCC",{"$f":"VLOOKUP(C13806,EMISSION_FACTORS!$A$7:$F$33,6,0)","v":816.89300000000003}]
["32907","FL","FRCC",{"$f":"VLOOKUP(C13825,EMISSION_FACTORS!$A$7:$F$33,6,0)","v":816.89300000000003}]
["32952","FL","FRCC",{"$f":"VLOOKUP(C13851,EMISSION_FACTORS!$A$7:$F$33,6,0)","v":816.89300000000003}]
["33008","FL","FRCC",{"$f":"VLOOKUP(C13876,EMISSION_FACTORS!$A$7:$F$33,6,0)","v":816.89300000000003}]
["33022","FL","FRCC",{"$f":"VLOOKUP(C13890,EMISSION_FACTORS!$A$7:$F$33,6,0)","v":816.89300000000003}]
["33063","FL","FRCC",{"$f":"VLOOKUP(C13921,EMISSION_FACTORS!$A$7:$F$33,6,0)","v":816.89300000000003}]
["33071","FL","FRCC",{"$f":"VLOOKUP(C13929,EMISSION_FACTORS!$A$7:$F$33,6,0)","v":816.89300000000003}]
["33106","FL","FRCC",{"$f":"VLOOKUP(C13946,EMISSION_FACTORS!$A$7:$F$33,6,0)","v":816.89300000000003}]
["33144","FL","FRCC",{"$f":"VLOOKUP(C13974,EMISSION_FACTORS!$A$7:$F$33,6,0)","v":816.89300000000003}]
["33162","FL","FRCC",{"$f":"VLOOKUP(C13991,EMISSION_FACTORS!$A$7:$F$33,6,0)","v":816.89300000000003}]
["33193","FL","FRCC",{"$f":"VLOOKUP(C14019,EMISSION_FACTORS!$A$7:$F$33,6,0)","v":816.89300000000003}]
["33194","FL","FRCC",{"$f":"VLOOKUP(C14020,EMISSION_FACTORS!$A$7:$F$33,6,0)","v":816.89300000000003}]
["33296","FL","FRCC",{"$f":"VLOOKUP(C14045,EMISSION_FACTORS!$A$7:$F$33,6,0)","v":816.89300000000003}]
["33319","FL","FRCC",{"$f":"VLOOKUP(C14065,EMISSION_FACTORS!$A$7:$F$33,6,0)","v":816.89300000000003}]
["33345","FL","FRCC",{"$f":"VLOOKUP(C14086,EMISSION_FACTORS!$A$7:$F$33,6,0)","v":816.89300000000003}]
["33416","FL","FRCC",{"$f":"VLOOKUP(C14110,EMISSION_FACTORS!$A$7:$F$33,6,0)","v":816.89300000000003}]
["33442","FL","FRCC",{"$f":"VLOOKUP(C14135,EMISSION_FACTORS!$A$7:$F$33,6,0)","v":816.89300000000003}]
["33469","FL","FRCC",{"$f":"VLOOKUP(C14155,EMISSION_FACTORS!$A$7:$F$33,6,0)","v":816.89300000000003}]
["33474","FL","FRCC",{"$f":"VLOOKUP(C14160,EMISSION_FACTORS!$A$7:$F$33,6,0)","v":816.89300000000003}]
["33538","FL","FRCC",{"$f":"VLOOKUP(C14194,EMISSION_FACTORS!$A$7:$F$33,6,0)","v":816.89300000000003}]
["33550","FL","FRCC",{"$f":"VLOOKUP(C14205,EMISSION_FACTORS!$A$7:$F$33,6,0)","v":816.89300000000003}]
["33574","FL","FRCC",{"$f":"VLOOKUP(C14220,EMISSION_FACTORS!$A$7:$F$33,6,0)","v":816.89300000000003}]
["33614","FL","FRCC",{"$f":"VLOOKUP(C14250,EMISSION_FACTORS!$A$7:$F$33,6,0)","v":816.89300000000003}]
["33631","FL","FRCC",{"$f":"VLOOKUP(C14265,EMISSION_FACTORS!$A$7:$F$33,6,0)","v":816.89300000000003}]
["33672","FL","FRCC",{"$f":"VLOOKUP(C14279,EMISSION_FACTORS!$A$7:$F$33,6,0)","v":816.89300000000003}]
["33705","FL","FRCC",{"$f":"VLOOKUP(C14300,EMISSION_FACTORS!$A$7:$F$33,6,0)","v":816.89300000000003}]
["33758","FL","FRCC",{"$f":"VLOOKUP(C14330,EMISSION_FACTORS!$A$7:$F$33,6,0)","v":816.89300000000003}]
["33774","FL","FRCC",{"$f":"VLOOKUP(C14345,EMISSION_FACTORS!$A$7:$F$33,6,0)","v":816.89300000000003}]
["33786","FL","FRCC",{"$f":"VLOOKUP(C14356,EMISSION_FACTORS!$A$7:$F$33,6,0)","v":816.89300000000003}]
["33827","FL","FRCC",{"$f":"VLOOKUP(C14374,EMISSION_FACTORS!$A$7:$F$33,6,0)","v":816.89300000000003}]
["33859","FL","FRCC",{"$f":"VLOOKUP(C14401,EMISSION_FACTORS!$A$7:$F$33,6,0)","v":816.89300000000003}]
["33884","FL","FRCC",{"$f":"VLOOKUP(C14419,EMISSION_FACTORS!$A$7:$F$33,6,0)","v":816.89300000000003}]
["33914","FL","FRCC",{"$f":"VLOOKUP(C14440,EMISSION_FACTORS!$A$7:$F$33,6,0)","v":816.89300000000003}]
["33949","FL","FRCC",{"$f":"VLOOKUP(C14464,EMISSION_FACTORS!$A$7:$F$33,6,0)","v":816.89300000000003}]
["33981","FL","FRCC",{"$f":"VLOOKUP(C14485,EMISSION_FACTORS!$A$7:$F$33,6,0)","v":816.89300000000003}]
["33991","FL","FRCC",{"$f":"VLOOKUP(C14489,EMISSION_FACTORS!$A$7:$F$33,6,0)","v":816.89300000000003}]
["34138","FL","FRCC",{"$f":"VLOOKUP(C14514,EMISSION_FACTORS!$A$7:$F$33,6,0)","v":816.89300000000003}]
["34210","FL","FRCC",{"$f":"VLOOKUP(C14531,EMISSION_FACTORS!$A$7:$F$33,6,0)","v":816.89300000000003}]
["34243","FL","FRCC",{"$f":"VLOOKUP(C14559,EMISSION_FACTORS!$A$7:$F$33,6,0)","v":816.89300000000003}]
["34280","FL","FRCC",{"$f":"VLOOKUP(C14576,EMISSION_FACTORS!$A$7:$F$33,6,0)","v":816.89300000000003}]
["34293","FL","FRCC",{"$f":"VLOOKUP(C14588,EMISSION_FACTORS!$A$7:$F$33,6,0)","v":816.89300000000003}]
["34476","FL","FRCC",{"$f":"VLOOKUP(C14621,EMISSION_FACTORS!$A$7:$F$33,6,0)","v":816.89300000000003}]
["34491","FL","FRCC",{"$f":"VLOOKUP(C14633,EMISSION_FACTORS!$A$7:$F$33,6,0)","v":816.89300000000003}]
["34613","FL","FRCC",{"$f":"VLOOKUP(C14647,EMISSION_FACTORS!$A$7:$F$33,6,0)","v":816.89300000000003}]
["34695","FL","FRCC",{"$f":"VLOOKUP(C14678,EMISSION_FACTORS!$A$7:$F$33,6,0)","v":816.89300000000003}]
["34715","FL","FRCC",{"$f":"VLOOKUP(C14686,EMISSION_FACTORS!$A$7:$F$33,6,0)","v":816.89300000000003}]
["34797","FL","FRCC",{"$f":"VLOOKUP(C14723,EMISSION_FACTORS!$A$7:$F$33,6,0)","v":816.89300000000003}]
["34949","FL","FRCC",{"$f":"VLOOKUP(C14728,EMISSION_FACTORS!$A$7:$F$33,6,0)","v":816.89300000000003}]
["35005","AL","SRSO",{"$f":"VLOOKUP(C14757,EMISSION_FACTORS!$A$7:$F$33,6,0)","v":897.65899999999999}]
["35033","AL","SRSO",{"$f":"VLOOKUP(C14773,EMISSION_FACTORS!$A$7:$F$33,6,0)","v":897.65899999999999}]
["35061","AL","SRSO",{"$f":"VLOOKUP(C14796,EMISSION_FACTORS!$A$7:$F$33,6,0)","v":897.65899999999999}]
["35097","AL","SRSO",{"$f":"VLOOKUP(C14818,EMISSION_FACTORS!$A$7:$F$33,6,0)","v":897.65899999999999}]
["35114","AL","SRSO",{"$f":"VLOOKUP(C14822,EMISSION_FACTORS!$A$7:$F$33,6,0)","v":897.65899999999999}]
["35147","AL","SRSO",{"$f":"VLOOKUP(C14847,EMISSION_FACTORS!$A$7:$F$33,6,0)","v":897.65899999999999}]
["35186","AL","SRSO",{"$f":"VLOOKUP(C14867,EMISSION_FACTORS!$A$7:$F$33,6,0)","v":897.65899999999999}]
["35223","AL","SRSO",{"$f":"VLOOKUP(C14892,EMISSION_FACTORS!$A$7:$F$33,6,0)","v":897.65899999999999}]
["35255","AL","SRSO",{"$f":"VLOOKUP(C14912,EMISSION_FACTORS!$A$7:$F$33,6,0)","v":897.65899999999999}]
["35407","AL","SRSO",{"$f":"VLOOKUP(C14937,EMISSION_FACTORS!$A$7:$F$33,6,0)","v":897.65899999999999}]
["35444","AL","SRSO",{"$f":"VLOOKUP(C14942,EMISSION_FACTORS!$A$7:$F$33,6,0)","v":897.65899999999999}]
["35501","AL","SRSO",{"$f":"VLOOKUP(C14977,EMISSION_FACTORS!$A$7:$F$33,6,0)","v":897.65899999999999}]
["35546","AL","SRSO",{"$f":"VLOOKUP(C14987,EMISSION_FACTORS!$A$7:$F$33,6,0)","v":897.65899999999999}]
["35572","AL","SRSO",{"$f":"VLOOKUP(C15003,EMISSION_FACTORS!$A$7:$F$33,6,0)","v":897.65899999999999}]
["35617","AL","SRTV",{"$f":"VLOOKUP(C15032,EMISSION_FACTORS!$A$7:$F$33,6,0)","v":938.625}]
["35634","AL","SRTV",{"$f":"VLOOKUP(C15042,EMISSION_FACTORS!$A$7:$F$33,6,0)","v":938.625}]
["35662","AL","SRTV",{"$f":"VLOOKUP(C15057,EMISSION_FACTORS!$A$7:$F$33,6,0)","v":938.625}]
["35763","AL","SRTV",{"$f":"VLOOKUP(C15087,EMISSION_FACTORS!$A$7:$F$33,6,0)","v":938.625}]
["35807","AL","SRTV",{"$f":"VLOOKUP(C15106,EMISSION_FACTORS!$A$7:$F$33,6,0)","v":938.625}]
["35951","AL","SRTV",{"$f":"VLOOKUP(C15132,EMISSION_FACTORS!$A$7:$F$33,6,0)","v":938.625}]
["35974","AL","SRTV",{"$f":"VLOOKUP(C15151,EMISSION_FACTORS!$A$7:$F$33,6,0)","v":938.625}]
["35983","AL","SRSO",{"$f":"VLOOKUP(C15158,EMISSION_FACTORS!$A$7:$F$33,6,0)","v":897.65899999999999}]
["36022","AL","SRSO",{"$f":"VLOOKUP(C15176,EMISSION_FACTORS!$A$7:$F$33,6,0)","v":897.65899999999999}]
["36048","AL","SRSO",{"$f":"VLOOKUP(C15201,EMISSION_FACTORS!$A$7:$F$33,6,0)","v":897.65899999999999}]
["36082","AL","SRSO",{"$f":"VLOOKUP(C15223,EMISSION_FACTORS!$A$7:$F$33,6,0)","v":897.65899999999999}]
["36116","AL","SRSO",{"$f":"VLOOKUP(C15246,EMISSION_FACTORS!$A$7:$F$33,6,0)","v":897.65899999999999}]
["36141","AL","SRSO",{"$f":"VLOOKUP(C15262,EMISSION_FACTORS!$A$7:$F$33,6,0)","v":897.65899999999999}]
["36206","AL","SRSO",{"$f":"VLOOKUP(C15271,EMISSION_FACTORS!$A$7:$F$33,6,0)","v":897.65899999999999}]
["36310","AL","SRSO",{"$f":"VLOOKUP(C15307,EMISSION_FACTORS!$A$7:$F$33,6,0)","v":897.65899999999999}]
["36320","AL","SRSO",{"$f":"VLOOKUP(C15316,EMISSION_FACTORS!$A$7:$F$33,6,0)","v":897.65899999999999}]
["36361","AL","SRSO",{"$f":"VLOOKUP(C15333,EMISSION_FACTORS!$A$7:$F$33,6,0)","v":897.65899999999999}]
["36460","AL","SRSO",{"$f":"VLOOKUP(C15365,EMISSION_FACTORS!$A$7:$F$33,6,0)","v":897.65899999999999}]
["36482","AL","SRSO",{"$f":"VLOOKUP(C15378,EMISSION_FACTORS!$A$7:$F$33,6,0)","v":897.65899999999999}]
["36518","AL","SRSO",{"$f":"VLOOKUP(C15390,EMISSION_FACTORS!$A$7:$F$33,6,0)","v":897.65899999999999}]
["36544","AL","SRSO",{"$f":"VLOOKUP(C15411,EMISSION_FACTORS!$A$7:$F$33,6,0)","v":897.65899999999999}]
["36585","AL","SRSO",{"$f":"VLOOKUP(C15443,EMISSION_FACTORS!$A$7:$F$33,6,0)","v":897.65899999999999}]
["36616","AL","SRSO",{"$f":"VLOOKUP(C15460,EMISSION_FACTORS!$A$7:$F$33,6,0)","v":897.65899999999999}]
["36641","AL","SRSO",{"$f":"VLOOKUP(C15469,EMISSION_FACTORS!$A$7:$F$33,6,0)","v":897.65899999999999}]
["36752","AL","SRSO",{"$f":"VLOOKUP(C15505,EMISSION_FACTORS!$A$7:$F$33,6,0)","v":897.65899999999999}]
["36756","AL","SRSO",{"$f":"VLOOKUP(C15508,EMISSION_FACTORS!$A$7:$F$33,6,0)","v":897.65899999999999}]
["36793","AL","SRSO",{"$f":"VLOOKUP(C15530,EMISSION_FACTORS!$A$7:$F$33,6,0)","v":897.65899999999999}]
["36866","AL","SRSO",{"$f":"VLOOKUP(C15553,EMISSION_FACTORS!$A$7:$F$33,6,0)","v":897.65899999999999}]
["36922","AL","SRSO",{"$f":"VLOOKUP(C15575,EMISSION_FACTORS!$A$7:$F$33,6,0)","v":897.65899999999999}]
["37033","TN","SRTV",{"$f":"VLOOKUP(C15598,EMISSION_FACTORS!$A$7:$F$33,6,0)","v":938.625}]
["37041","TN","SRTV",{"$f":"VLOOKUP(C15604,EMISSION_FACTORS!$A$7:$F$33,6,0)","v":938.625}]
["37065","TN","SRTV",{"$f":"VLOOKUP(C15625,EMISSION_FACTORS!$A$7:$F$33,6,0)","v":938.625}]
["37086","TN","SRTV",{"$f":"VLOOKUP(C15644,EMISSION_FACTORS!$A$7:$F$33,6,0)","v":938.625}]
["37138","TN","SRTV",{"$f":"VLOOKUP(C15674,EMISSION_FACTORS!$A$7:$F$33,6,0)","v":938.625}]
["37161","TN","SRTV",{"$f":"VLOOKUP(C15689,EMISSION_FACTORS!$A$7:$F$33,6,0)","v":938.625}]
["37209","TN","SRTV",{"$f":"VLOOKUP(C15719,EMISSION_FACTORS!$A$7:$F$33,6,0)","v":938.625}]
["37227","TN","SRTV",{"$f":"VLOOKUP(C15734,EMISSION_FACTORS!$A$7:$F$33,6,0)","v":938.625}]
["37241","TN","SRTV",{"$f":"VLOOKUP(C15744,EMISSION_FACTORS!$A$7:$F$33,6,0)","v":938.625}]
["37324","TN","SRTV",{"$f":"VLOOKUP(C15773,EMISSION_FACTORS!$A$7:$F$33,6,0)","v":938.625}]
["37340","TN","SRTV",{"$f":"VLOOKUP(C15789,EMISSION_FACTORS!$A$7:$F$33,6,0)","v":938.625}]
["37352","TN","SRTV",{"$f":"VLOOKUP(C15799,EMISSION_FACTORS!$A$7:$F$33,6,0)","v":938.625}]
["37394","TN","SRTV",{"$f":"VLOOKUP(C15834,EMISSION_FACTORS!$A$7:$F$33,6,0)","v":938.625}]
["37402","TN","SRTV",{"$f":"VLOOKUP(C15839,EMISSION_FACTORS!$A$7:$F$33,6,0)","v":938.625}]
["37614","TN","SRTV",{"$f":"VLOOKUP(C15864,EMISSION_FACTORS!$A$7:$F$33,6,0)","v":938.625}]
["37662","TN","SRTV",{"$f":"VLOOKUP(C15884,EMISSION_FACTORS!$A$7:$F$33,6,0)","v":938.625}]
["37713","TN","SRTV",{"$f":"VLOOKUP(C15909,EMISSION_FACTORS!$A$7:$F$33,6,0)","v":938.625}]
["37748","TN","SRTV",{"$f":"VLOOKUP(C15933,EMISSION_FACTORS!$A$7:$F$33,6,0)","v":938.625}]
["37779","TN","SRTV",{"$f":"VLOOKUP(C15954,EMISSION_FACTORS!$A$7:$F$33,6,0)","v":938.625}]
["37804","TN","SRTV",{"$f":"VLOOKUP(C15958,EMISSION_FACTORS!$A$7:$F$33,6,0)","v":938.625}]
["37840","TN","SRTV",{"$f":"VLOOKUP(C15980,EMISSION_FACTORS!$A$7:$F$33,6,0)","v":938.625}]
["37870","TN","SRTV",{"$f":"VLOOKUP(C16003,EMISSION_FACTORS!$A$7:$F$33,6,0)","v":938.625}]
["37890","TN","SRTV",{"$f":"VLOOKUP(C16019,EMISSION_FACTORS!$A$7:$F$33,6,0)","v":938.625}]
["37950","TN","SRTV",{"$f":"VLOOKUP(C16048,EMISSION_FACTORS!$A$7:$F$33,6,0)","v":938.625}]
["38001","TN","SRTV",{"$f":"VLOOKUP(C16053,EMISSION_FACTORS!$A$7:$F$33,6,0)","v":938.625}]
["38052","TN","SRTV",{"$f":"VLOOKUP(C16090,EMISSION_FACTORS!$A$7:$F$33,6,0)","v":938.625}]
["38061","TN","SRTV",{"$f":"VLOOKUP(C16098,EMISSION_FACTORS!$A$7:$F$33,6,0)","v":938.625}]
["38119","TN","SRTV",{"$f":"VLOOKUP(C16129,EMISSION_FACTORS!$A$7:$F$33,6,0)","v":938.625}]
["38136","TN","SRTV",{"$f":"VLOOKUP(C16143,EMISSION_FACTORS!$A$7:$F$33,6,0)","v":938.625}]
["38159","TN","SRTV",{"$f":"VLOOKUP(C16155,EMISSION_FACTORS!$A$7:$F$33,6,0)","v":938.625}]
["38190","TN","SRTV",{"$f":"VLOOKUP(C16172,EMISSION_FACTORS!$A$7:$F$33,6,0)","v":938.625}]
["38256","TN","SRTV",{"$f":"VLOOKUP(C16200,EMISSION_FACTORS!$A$7:$F$33,6,0)","v":938.625}]
["38315","TN","SRTV",{"$f":"VLOOKUP(C16217,EMISSION_FACTORS!$A$7:$F$33,6,0)","v":938.625}]
["38348","TN","SRTV",{"$f":"VLOOKUP(C16245,EMISSION_FACTORS!$A$7:$F$33,6,0)","v":938.625}]
["38371","TN","SRTV",{"$f":"VLOOKUP(C16262,EMISSION_FACTORS!$A$7:$F$33,6,0)","v":938.625}]
["38453","TN","SRTV",{"$f":"VLOOKUP(C16287,EMISSION_FACTORS!$A$7:$F$33,6,0)","v":938.625}]
["38457","TN","SRTV",{"$f":"VLOOKUP(C16291,EMISSION_FACTORS!$A$7:$F$33,6,0)","v":938.625}]
["38486","TN","SRTV",{"$f":"VLOOKUP(C16312,EMISSION_FACTORS!$A$7:$F$33,6,0)","v":938.625}]
["38551","TN","SRTV",{"$f":"VLOOKUP(C16330,EMISSION_FACTORS!$A$7:$F$33,6,0)","v":938.625}]
["38581","TN","SRTV",{"$f":"VLOOKUP(C16357,EMISSION_FACTORS!$A$7:$F$33,6,0)","v":938.625}]
["38620","MS","SRMV",{"$f":"VLOOKUP(C16375,EMISSION_FACTORS!$A$7:$F$33,6,0)","v":803.65800000000002}]
["38651","MS","SRMV",{"$f":"VLOOKUP(C16402,EMISSION_FACTORS!$A$7:$F$33,6,0)","v":803.65800000000002}]
["38675","MS","SRTV",{"$f":"VLOOKUP(C16420,EMISSION_FACTORS!$A$7:$F$33,6,0)","v":938.625}]
["38704","MS","SRMV",{"$f":"VLOOKUP(C16431,EMISSION_FACTORS!$A$7:$F$33,6,0)","v":803.65800000000002}]
["38740","MS","SRMV",{"$f":"VLOOKUP(C16446,EMISSION_FACTORS!$A$7:$F$33,6,0)","v":803.65800000000002}]
["38803","MS","SRTV",{"$f":"VLOOKUP(C16476,EMISSION_FACTORS!$A$7:$F$33,6,0)","v":938.625}]
["38849","MS","SRTV",{"$f":"VLOOKUP(C16497,EMISSION_FACTORS!$A$7:$F$33,6,0)","v":938.625}]
["38866","MS","SRTV",{"$f":"VLOOKUP(C16511,EMISSION_FACTORS!$A$7:$F$33,6,0)","v":938.625}]
["38913","MS","SRTV",{"$f":"VLOOKUP(C16526,EMISSION_FACTORS!$A$7:$F$33,6,0)","v":938.625}]
["38954","MS","SRMV",{"$f":"VLOOKUP(C16556,EMISSION_FACTORS!$A$7:$F$33,6,0)","v":803.65800000000002}]
["39040","MS","SRMV",{"$f":"VLOOKUP(C16571,EMISSION_FACTORS!$A$7:$F$33,6,0)","v":803.65800000000002}]
["39074","MS","SRTV",{"$f":"VLOOKUP(C16595,EMISSION_FACTORS!$A$7:$F$33,6,0)","v":938.625}]
["39110","MS","SRMV",{"$f":"VLOOKUP(C16616,EMISSION_FACTORS!$A$7:$F$33,6,0)","v":803.65800000000002}]
["39116","MS","SRMV",{"$f":"VLOOKUP(C16621,EMISSION_FACTORS!$A$7:$F$33,6,0)","v":803.65800000000002}]
["39158","MS","SRMV",{"$f":"VLOOKUP(C16641,EMISSION_FACTORS!$A$7:$F$33,6,0)","v":803.65800000000002}]
["39191","MS","SRMV",{"$f":"VLOOKUP(C16666,EMISSION_FACTORS!$A$7:$F$33,6,0)","v":803.65800000000002}]
["39250","MS","SRMV",{"$f":"VLOOKUP(C16690,EMISSION_FACTORS!$A$7:$F$33,6,0)","v":803.65800000000002}]
["39323","MS","SRTV",{"$f":"VLOOKUP(C16711,EMISSION_FACTORS!$A$7:$F$33,6,0)","v":938.625}]
["39352","MS","SRTV",{"$f":"VLOOKUP(C16731,EMISSION_FACTORS!$A$7:$F$33,6,0)","v":938.625}]
["39427","MS","SRSO",{"$f":"VLOOKUP(C16756,EMISSION_FACTORS!$A$7:$F$33,6,0)","v":897.65899999999999}]
["39428","MS","SRSO",{"$f":"VLOOKUP(C16757,EMISSION_FACTORS!$A$7:$F$33,6,0)","v":897.65899999999999}]
["39479","MS","SRSO",{"$f":"VLOOKUP(C16785,EMISSION_FACTORS!$A$7:$F$33,6,0)","v":897.65899999999999}]
["39531","MS","SRSO",{"$f":"VLOOKUP(C16802,EMISSION_FACTORS!$A$7:$F$33,6,0)","v":897.65899999999999}]
["39595","MS","SRSO",{"$f":"VLOOKUP(C16830,EMISSION_FACTORS!$A$7:$F$33,6,0)","v":897.65899999999999}]
["39641","MS","SRSO",{"$f":"VLOOKUP(C16841,EMISSION_FACTORS!$A$7:$F$33,6,0)","v":897.65899999999999}]
["39664","MS","SRSO",{"$f":"VLOOKUP(C16855,EMISSION_FACTORS!$A$7:$F$33,6,0)","v":897.65899999999999}]
["39759","MS","SRTV",{"$f":"VLOOKUP(C16886,EMISSION_FACTORS!$A$7:$F$33,6,0)","v":938.625}]
["39819","GA","SRSO",{"$f":"VLOOKUP(C16900,EMISSION_FACTORS!$A$7:$F$33,6,0)","v":897.65899999999999}]
["40003","KY","SRTV",{"$f":"VLOOKUP(C16931,EMISSION_FACTORS!$A$7:$F$33,6,0)","v":938.625}]
["40027","KY","SRTV",{"$f":"VLOOKUP(C16949,EMISSION_FACTORS!$A$7:$F$33,6,0)","v":938.625}]
["40060","KY","SRTV",{"$f":"VLOOKUP(C16970,EMISSION_FACTORS!$A$7:$F$33,6,0)","v":938.625}]
["40068","KY","SRTV",{"$f":"VLOOKUP(C16977,EMISSION_FACTORS!$A$7:$F$33,6,0)","v":938.625}]
["40142","KY","SRTV",{"$f":"VLOOKUP(C16999,EMISSION_FACTORS!$A$7:$F$33,6,0)","v":938.625}]
["40203","KY","SRTV",{"$f":"VLOOKUP(C17022,EMISSION_FACTORS!$A$7:$F$33,6,0)","v":938.625}]
["40225","KY","SRTV",{"$f":"VLOOKUP(C17044,EMISSION_FACTORS!$A$7:$F$33,6,0)","v":938.625}]
["40270","KY","SRTV",{"$f":"VLOOKUP(C17067,EMISSION_FACTORS!$A$7:$F$33,6,0)","v":938.625}]
["40280","KY","SRTV",{"$f":"VLOOKUP(C17069,EMISSION_FACTORS!$A$7:$F$33,6,0)","v":938.625}]
["40350","KY","SRTV",{"$f":"VLOOKUP(C17106,EMISSION_FACTORS!$A$7:$F$33,6,0)","v":938.625}]
["40360","KY","SRTV",{"$f":"VLOOKUP(C17114,EMISSION_FACTORS!$A$7:$F$33,6,0)","v":938.625}]
["40392","KY","SRTV",{"$f":"VLOOKUP(C17132,EMISSION_FACTORS!$A$7:$F$33,6,0)","v":938.625}]
["40475","KY","SRTV",{"$f":"VLOOKUP(C17159,EMISSION_FACTORS!$A$7:$F$33,6,0)","v":938.625}]
["40523","KY","SRTV",{"$f":"VLOOKUP(C17184,EMISSION_FACTORS!$A$7:$F$33,6,0)","v":938.625}]
["40578","KY","SRTV",{"$f":"VLOOKUP(C17197,EMISSION_FACTORS!$A$7:$F$33,6,0)","v":938.625}]
["40604","KY","SRTV",{"$f":"VLOOKUP(C17209,EMISSION_FACTORS!$A$7:$F$33,6,0)","v":938.625}]
["40818","KY","SRTV",{"$f":"VLOOKUP(C17242,EMISSION_FACTORS!$A$7:$F$33,6,0)","v":938.625}]
["40849","KY","SRTV",{"$f":"VLOOKUP(C17258,EMISSION_FACTORS!$A$7:$F$33,6,0)","v":938.625}]
["40873","KY","SRTV",{"$f":"VLOOKUP(C17268,EMISSION_FACTORS!$A$7:$F$33,6,0)","v":938.625}]
["40995","KY","SRTV",{"$f":"VLOOKUP(C17303,EMISSION_FACTORS!$A$7:$F$33,6,0)","v":938.625}]
["41010","KY","SRTV",{"$f":"VLOOKUP(C17313,EMISSION_FACTORS!$A$7:$F$33,6,0)","v":938.625}]
["41037","KY","SRTV",{"$f":"VLOOKUP(C17328,EMISSION_FACTORS!$A$7:$F$33,6,0)","v":938.625}]
["41072","KY","SRTV",{"$f":"VLOOKUP(C17352,EMISSION_FACTORS!$A$7:$F$33,6,0)","v":938.625}]
["41105","KY","RFCW",{"$f":"VLOOKUP(C17373,EMISSION_FACTORS!$A$7:$F$33,6,0)","v":1005.904}]
["41179","KY","SRTV",{"$f":"VLOOKUP(C17398,EMISSION_FACTORS!$A$7:$F$33,6,0)","v":938.625}]
["41240","KY","SRTV",{"$f":"VLOOKUP(C17417,EMISSION_FACTORS!$A$7:$F$33,6,0)","v":938.625}]
["41260","KY","SRTV",{"$f":"VLOOKUP(C17423,EMISSION_FACTORS!$A$7:$F$33,6,0)","v":938.625}]
["41347","KY","SRTV",{"$f":"VLOOKUP(C17443,EMISSION_FACTORS!$A$7:$F$33,6,0)","v":938.625}]
["41477","KY","RFCW",{"$f":"VLOOKUP(C17468,EMISSION_FACTORS!$A$7:$F$33,6,0)","v":1005.904}]
["41539","KY","RFCW",{"$f":"VLOOKUP(C17488,EMISSION_FACTORS!$A$7:$F$33,6,0)","v":1005.904}]
["41606","KY","RFCW",{"$f":"VLOOKUP(C17517,EMISSION_FACTORS!$A$7:$F$33,6,0)","v":1005.904}]
["41645","KY","SRTV",{"$f":"VLOOKUP(C17533,EMISSION_FACTORS!$A$7:$F$33,6,0)","v":938.625}]
["41663","KY","RFCW",{"$f":"VLOOKUP(C17542,EMISSION_FACTORS!$A$7:$F$33,6,0)","v":1005.904}]
["41735","KY","SRTV",{"$f":"VLOOKUP(C17559,EMISSION_FACTORS!$A$7:$F$33,6,0)","v":938.625}]
["41817","KY","RFCW",{"$f":"VLOOKUP(C17587,EMISSION_FACTORS!$A$7:$F$33,6,0)","v":1005.904}]
["41858","KY","RFCW",{"$f":"VLOOKUP(C17612,EMISSION_FACTORS!$A$7:$F$33,6,0)","v":1005.904}]
["42025","KY","SRTV",{"$f":"VLOOKUP(C17624,EMISSION_FACTORS!$A$7:$F$33,6,0)","v":938.625}]
["42041","KY","SRTV",{"$f":"VLOOKUP(C17637,EMISSION_FACTORS!$A$7:$F$33,6,0)","v":938.625}]
["42083","KY","SRTV",{"$f":"VLOOKUP(C17663,EMISSION_FACTORS!$A$7:$F$33,6,0)","v":938.625}]
["42133","KY","SRTV",{"$f":"VLOOKUP(C17682,EMISSION_FACTORS!$A$7:$F$33,6,0)","v":938.625}]
["42211","KY","SRTV",{"$f":"VLOOKUP(C17708,EMISSION_FACTORS!$A$7:$F$33,6,0)","v":938.625}]
["42262","KY","SRTV",{"$f":"VLOOKUP(C17727,EMISSION_FACTORS!$A$7:$F$33,6,0)","v":938.625}]
["42280","KY","SRTV",{"$f":"VLOOKUP(C17734,EMISSION_FACTORS!$A$7:$F$33,6,0)","v":938.625}]
["42337","KY","SRTV",{"$f":"VLOOKUP(C17756,EMISSION_FACTORS!$A$7:$F$33,6,0)","v":938.625}]
["42372","KY","SRTV",{"$f":"VLOOKUP(C17779,EMISSION_FACTORS!$A$7:$F$33,6,0)","v":938.625}]
["42444","KY","SRTV",{"$f":"VLOOKUP(C17801,EMISSION_FACTORS!$A$7:$F$33,6,0)","v":938.625}]
["42519","KY","SRTV",{"$f":"VLOOKUP(C17822,EMISSION_FACTORS!$A$7:$F$33,6,0)","v":938.625}]
["42649","KY","SRTV",{"$f":"VLOOKUP(C17844,EMISSION_FACTORS!$A$7:$F$33,6,0)","v":938.625}]
["42716","KY","SRTV",{"$f":"VLOOKUP(C17851,EMISSION_FACTORS!$A$7:$F$33,6,0)","v":938.625}]
["43005","OH","RFCW",{"$f":"VLOOKUP(C17889,EMISSION_FACTORS!$A$7:$F$33,6,0)","v":1005.904}]
["43013","OH","RFCW",{"$f":"VLOOKUP(C17896,EMISSION_FACTORS!$A$7:$F$33,6,0)","v":1005.904}]
["43056","OH","RFCW",{"$f":"VLOOKUP(C17928,EMISSION_FACTORS!$A$7:$F$33,6,0)","v":1005.904}]
["43072","OH","RFCW",{"$f":"VLOOKUP(C17941,EMISSION_FACTORS!$A$7:$F$33,6,0)","v":1005.904}]
["43093","OH","RFCW",{"$f":"VLOOKUP(C17954,EMISSION_FACTORS!$A$7:$F$33,6,0)","v":1005.904}]
["43147","OH","RFCW",{"$f":"VLOOKUP(C17986,EMISSION_FACTORS!$A$7:$F$33,6,0)","v":1005.904}]
["43162","OH","RFCW",{"$f":"VLOOKUP(C17999,EMISSION_FACTORS!$A$7:$F$33,6,0)","v":1005.904}]
["43212","OH","RFCW",{"$f":"VLOOKUP(C18015,EMISSION_FACTORS!$A$7:$F$33,6,0)","v":1005.904}]
["43235","OH","RFCW",{"$f":"VLOOKUP(C18036,EMISSION_FACTORS!$A$7:$F$33,6,0)","v":1005.904}]
["43324","OH","RFCW",{"$f":"VLOOKUP(C18064,EMISSION_FACTORS!$A$7:$F$33,6,0)","v":1005.904}]
["43349","OH","RFCW",{"$f":"VLOOKUP(C18085,EMISSION_FACTORS!$A$7:$F$33,6,0)","v":1005.904}]
["43358","OH","RFCW",{"$f":"VLOOKUP(C18090,EMISSION_FACTORS!$A$7:$F$33,6,0)","v":1005.904}]
["43436","OH","RFCW",{"$f":"VLOOKUP(C18110,EMISSION_FACTORS!$A$7:$F$33,6,0)","v":1005.904}]
["43468","OH","RFCW",{"$f":"VLOOKUP(C18135,EMISSION_FACTORS!$A$7:$F$33,6,0)","v":1005.904}]
["43525","OH","RFCW",{"$f":"VLOOKUP(C18155,EMISSION_FACTORS!$A$7:$F$33,6,0)","v":1005.904}]
["43548","OH","RFCW",{"$f":"VLOOKUP(C18174,EMISSION_FACTORS!$A$7:$F$33,6,0)","v":1005.904}]
["43610","OH","RFCW",{"$f":"VLOOKUP(C18200,EMISSION_FACTORS!$A$7:$F$33,6,0)","v":1005.904}]
["43661","OH","RFCW",{"$f":"VLOOKUP(C18219,EMISSION_FACTORS!$A$7:$F$33,6,0)","v":1005.904}]
["43699","OH","RFCW",{"$f":"VLOOKUP(C18225,EMISSION_FACTORS!$A$7:$F$33,6,0)","v":1005.904}]
["43739","OH","RFCW",{"$f":"VLOOKUP(C18250,EMISSION_FACTORS!$A$7:$F$33,6,0)","v":1005.904}]
["43761","OH","RFCW",{"$f":"VLOOKUP(C18265,EMISSION_FACTORS!$A$7:$F$33,6,0)","v":1005.904}]
["43830","OH","RFCW",{"$f":"VLOOKUP(C18295,EMISSION_FACTORS!$A$7:$F$33,6,0)","v":1005.904}]
["43908","OH","RFCW",{"$f":"VLOOKUP(C18310,EMISSION_FACTORS!$A$7:$F$33,6,0)","v":1005.904}]
["43930","OH","RFCW",{"$f":"VLOOKUP(C18324,EMISSION_FACTORS!$A$7:$F$33,6,0)","v":1005.904}]
["43973","OH","RFCW",{"$f":"VLOOKUP(C18355,EMISSION_FACTORS!$A$7:$F$33,6,0)","v":1005.904}]
["44010","OH","RFCW",{"$f":"VLOOKUP(C18369,EMISSION_FACTORS!$A$7:$F$33,6,0)","v":1005.904}]
["44033","OH","RFCW",{"$f":"VLOOKUP(C18381,EMISSION_FACTORS!$A$7:$F$33,6,0)","v":1005.904}]
["44081","OH","RFCW",{"$f":"VLOOKUP(C18414,EMISSION_FACTORS!$A$7:$F$33,6,0)","v":1005.904}]
["44088","OH","RFCW",{"$f":"VLOOKUP(C18420,EMISSION_FACTORS!$A$7:$F$33,6,0)","v":1005.904}]
["44110","OH","RFCW",{"$f":"VLOOKUP(C18439,EMISSION_FACTORS!$A$7:$F$33,6,0)","v":1005.904}]
["44135","OH","RFCW",{"$f":"VLOOKUP(C18464,EMISSION_FACTORS!$A$7:$F$33,6,0)","v":1005.904}]
["44195","OH","RFCW",{"$f":"VLOOKUP(C18485,EMISSION_FACTORS!$A$7:$F$33,6,0)","v":1005.904}]
["44236","OH","RFCW",{"$f":"VLOOKUP(C18509,EMISSION_FACTORS!$A$7:$F$33,6,0)","v":1005.904}]
["44274","OH","RFCW",{"$f":"VLOOKUP(C18530,EMISSION_FACTORS!$A$7:$F$33,6,0)","v":1005.904}]
["44314","OH","RFCW",{"$f":"VLOOKUP(C18554,EMISSION_FACTORS!$A$7:$F$33,6,0)","v":1005.904}]
["44316","OH","RFCW",{"$f":"VLOOKUP(C18556,EMISSION_FACTORS!$A$7:$F$33,6,0)","v":1005.904}]
["44416","OH","RFCW",{"$f":"VLOOKUP(C18583,EMISSION_FACTORS!$A$7:$F$33,6,0)","v":1005.904}]
["44440","OH","RFCW",{"$f":"VLOOKUP(C18601,EMISSION_FACTORS!$A$7:$F$33,6,0)","v":1005.904}]
["44492","OH","RFCW",{"$f":"VLOOKUP(C18628,EMISSION_FACTORS!$A$7:$F$33,6,0)","v":1005.904}]
["44606","OH","RFCW",{"$f":"VLOOKUP(C18646,EMISSION_FACTORS!$A$7:$F$33,6,0)","v":1005.904}]
["44613","OH","RFCW",{"$f":"VLOOKUP(C18653,EMISSION_FACTORS!$A$7:$F$33,6,0)","v":1005.904}]
["44641","OH","RFCW",{"$f":"VLOOKUP(C18678,EMISSION_FACTORS!$A$7:$F$33,6,0)","v":1005.904}]
["44659","OH","RFCW",{"$f":"VLOOKUP(C18692,EMISSION_FACTORS!$A$7:$F$33,6,0)","v":1005.904}]
["44701","OH","RFCW",{"$f":"VLOOKUP(C18723,EMISSION_FACTORS!$A$7:$F$33,6,0)","v":1005.904}]
["44709","OH","RFCW",{"$f":"VLOOKUP(C18731,EMISSION_FACTORS!$A$7:$F$33,6,0)","v":1005.904}]
["44840","OH","RFCW",{"$f":"VLOOKUP(C18768,EMISSION_FACTORS!$A$7:$F$33,6,0)","v":1005.904}]
["44848","OH","RFCW",{"$f":"VLOOKUP(C18776,EMISSION_FACTORS!$A$7:$F$33,6,0)","v":1005.904}]
["44870","OH","RFCW",{"$f":"VLOOKUP(C18793,EMISSION_FACTORS!$A$7:$F$33,6,0)","v":1005.904}]
["45014","OH","RFCW",{"$f":"VLOOKUP(C18821,EMISSION_FACTORS!$A$7:$F$33,6,0)","v":1005.904}]
["45055","OH","RFCW",{"$f":"VLOOKUP(C18842,EMISSION_FACTORS!$A$7:$F$33,6,0)","v":1005.904}]
["45115","OH","RFCW",{"$f":"VLOOKUP(C18866,EMISSION_FACTORS!$A$7:$F$33,6,0)","v":1005.904}]
["45118","OH","RFCW",{"$f":"VLOOKUP(C18867,EMISSION_FACTORS!$A$7:$F$33,6,0)","v":1005.904}]
["45157","OH","RFCW",{"$f":"VLOOKUP(C18892,EMISSION_FACTORS!$A$7:$F$33,6,0)","v":1005.904}]
["45206","OH","RFCW",{"$f":"VLOOKUP(C18912,EMISSION_FACTORS!$A$7:$F$33,6,0)","v":1005.904}]
["45232","OH","RFCW",{"$f":"VLOOKUP(C18937,EMISSION_FACTORS!$A$7:$F$33,6,0)","v":1005.904}]
["45252","OH","RFCW",{"$f":"VLOOKUP(C18957,EMISSION_FACTORS!$A$7:$F$33,6,0)","v":1005.904}]
["45305","OH","RFCW",{"$f":"VLOOKUP(C18982,EMISSION_FACTORS!$A$7:$F$33,6,0)","v":1005.904}]
["45320","OH","RFCW",{"$f":"VLOOKUP(C18996,EMISSION_FACTORS!$A$7:$F$33,6,0)","v":1005.904}]
["45332","OH","RFCW",{"$f":"VLOOKUP(C19007,EMISSION_FACTORS!$A$7:$F$33,6,0)","v":1005.904}]
["45370","OH","RFCW",{"$f":"VLOOKUP(C19041,EMISSION_FACTORS!$A$7:$F$33,6,0)","v":1005.904}]
["45384","OH","RFCW",{"$f":"VLOOKUP(C19052,EMISSION_FACTORS!$A$7:$F$33,6,0)","v":1005.904}]
["45410","OH","RFCW",{"$f":"VLOOKUP(C19067,EMISSION_FACTORS!$A$7:$F$33,6,0)","v":1005.904}]
["45475","OH","RFCW",{"$f":"VLOOKUP(C19101,EMISSION_FACTORS!$A$7:$F$33,6,0)","v":1005.904}]
["45601","OH","RFCW",{"$f":"VLOOKUP(C19112,EMISSION_FACTORS!$A$7:$F$33,6,0)","v":1005.904}]
["45629","OH","RFCW",{"$f":"VLOOKUP(C19126,EMISSION_FACTORS!$A$7:$F$33,6,0)","v":1005.904}]
["45661","OH","RFCW",{"$f":"VLOOKUP(C19151,EMISSION_FACTORS!$A$7:$F$33,6,0)","v":1005.904}]
["45696","OH","RFCW",{"$f":"VLOOKUP(C19177,EMISSION_FACTORS!$A$7:$F$33,6,0)","v":1005.904}]
["45729","OH","RFCW",{"$f":"VLOOKUP(C19196,EMISSION_FACTORS!$A$7:$F$33,6,0)","v":1005.904}]
["45742","OH","RFCW",{"$f":"VLOOKUP(C19203,EMISSION_FACTORS!$A$7:$F$33,6,0)","v":1005.904}]
["45776","OH","RFCW",{"$f":"VLOOKUP(C19221,EMISSION_FACTORS!$A$7:$F$33,6,0)","v":1005.904}]
["45812","OH","RFCW",{"$f":"VLOOKUP(C19242,EMISSION_FACTORS!$A$7:$F$33,6,0)","v":1005.904}]
["45843","OH","RFCW",{"$f":"VLOOKUP(C19266,EMISSION_FACTORS!$A$7:$F$33,6,0)","v":1005.904}]
["45867","OH","RFCW",{"$f":"VLOOKUP(C19287,EMISSION_FACTORS!$A$7:$F$33,6,0)","v":1005.904}]
["45893","OH","RFCW",{"$f":"VLOOKUP(C19311,EMISSION_FACTORS!$A$7:$F$33,6,0)","v":1005.904}]
["46034","IN","RFCW",{"$f":"VLOOKUP(C19332,EMISSION_FACTORS!$A$7:$F$33,6,0)","v":1005.904}]
["46044","IN","RFCW",{"$f":"VLOOKUP(C19340,EMISSION_FACTORS!$A$7:$F$33,6,0)","v":1005.904}]
["46070","IN","RFCW",{"$f":"VLOOKUP(C19361,EMISSION_FACTORS!$A$7:$F$33,6,0)","v":1005.904}]
["46112","IN","RFCW",{"$f":"VLOOKUP(C19378,EMISSION_FACTORS!$A$7:$F$33,6,0)","v":1005.904}]
["46157","IN","RFCW",{"$f":"VLOOKUP(C19410,EMISSION_FACTORS!$A$7:$F$33,6,0)","v":1005.904}]
["46172","IN","RFCW",{"$f":"VLOOKUP(C19423,EMISSION_FACTORS!$A$7:$F$33,6,0)","v":1005.904}]
["46203","IN","RFCW",{"$f":"VLOOKUP(C19435,EMISSION_FACTORS!$A$7:$F$33,6,0)","v":1005.904}]
["46244","IN","RFCW",{"$f":"VLOOKUP(C19468,EMISSION_FACTORS!$A$7:$F$33,6,0)","v":1005.904}]
["46266","IN","RFCW",{"$f":"VLOOKUP(C19480,EMISSION_FACTORS!$A$7:$F$33,6,0)","v":1005.904}]
["46322","IN","RFCW",{"$f":"VLOOKUP(C19507,EMISSION_FACTORS!$A$7:$F$33,6,0)","v":1005.904}]
["46361","IN","RFCW",{"$f":"VLOOKUP(C19525,EMISSION_FACTORS!$A$7:$F$33,6,0)","v":1005.904}]
["46375","IN","RFCW",{"$f":"VLOOKUP(C19533,EMISSION_FACTORS!$A$7:$F$33,6,0)","v":1005.904}]
["46516","IN","RFCW",{"$f":"VLOOKUP(C19570,EMISSION_FACTORS!$A$7:$F$33,6,0)","v":1005.904}]
["46528","IN","RFCW",{"$f":"VLOOKUP(C19575,EMISSION_FACTORS!$A$7:$F$33,6,0)","v":1005.904}]
["46563","IN","RFCW",{"$f":"VLOOKUP(C19598,EMISSION_FACTORS!$A$7:$F$33,6,0)","v":1005.904}]
["46628","IN","RFCW",{"$f":"VLOOKUP(C19620,EMISSION_FACTORS!$A$7:$F$33,6,0)","v":1005.904}]
["46733","IN","RFCW",{"$f":"VLOOKUP(C19643,EMISSION_FACTORS!$A$7:$F$33,6,0)","v":1005.904}]
["46743","IN","RFCW",{"$f":"VLOOKUP(C19649,EMISSION_FACTORS!$A$7:$F$33,6,0)","v":1005.904}]
["46774","IN","RFCW",{"$f":"VLOOKUP(C19669,EMISSION_FACTORS!$A$7:$F$33,6,0)","v":1005.904}]
["46802","IN","RFCW",{"$f":"VLOOKUP(C19694,EMISSION_FACTORS!$A$7:$F$33,6,0)","v":1005.904}]
["46854","IN","RFCW",{"$f":"VLOOKUP(C19714,EMISSION_FACTORS!$A$7:$F$33,6,0)","v":1005.904}]
["46904","IN","RFCW",{"$f":"VLOOKUP(C19739,EMISSION_FACTORS!$A$7:$F$33,6,0)","v":1005.904}]
["46926","IN","RFCW",{"$f":"VLOOKUP(C19753,EMISSION_FACTORS!$A$7:$F$33,6,0)","v":1005.904}]
["46968","IN","RFCW",{"$f":"VLOOKUP(C19784,EMISSION_FACTORS!$A$7:$F$33,6,0)","v":1005.904}]
["46977","IN","RFCW",{"$f":"VLOOKUP(C19789,EMISSION_FACTORS!$A$7:$F$33,6,0)","v":1005.904}]
["47021","IN","RFCW",{"$f":"VLOOKUP(C19818,EMISSION_FACTORS!$A$7:$F$33,6,0)","v":1005.904}]
["47041","IN","RFCW",{"$f":"VLOOKUP(C19834,EMISSION_FACTORS!$A$7:$F$33,6,0)","v":1005.904}]
["47134","IN","RFCW",{"$f":"VLOOKUP(C19863,EMISSION_FACTORS!$A$7:$F$33,6,0)","v":1005.904}]
["47160","IN","RFCW",{"$f":"VLOOKUP(C19879,EMISSION_FACTORS!$A$7:$F$33,6,0)","v":1005.904}]
["47174","IN","RFCW",{"$f":"VLOOKUP(C19889,EMISSION_FACTORS!$A$7:$F$33,6,0)","v":1005.904}]
["47234","IN","RFCW",{"$f":"VLOOKUP(C19908,EMISSION_FACTORS!$A$7:$F$33,6,0)","v":1005.904}]
["47304","IN","RFCW",{"$f":"VLOOKUP(C19934,EMISSION_FACTORS!$A$7:$F$33,6,0)","v":1005.904}]
["47340","IN","RFCW",{"$f":"VLOOKUP(C19953,EMISSION_FACTORS!$A$7:$F$33,6,0)","v":1005.904}]
["47374","IN","RFCW",{"$f":"VLOOKUP(C19979,EMISSION_FACTORS!$A$7:$F$33,6,0)","v":1005.904}]
["47404","IN","RFCW",{"$f":"VLOOKUP(C19998,EMISSION_FACTORS!$A$7:$F$33,6,0)","v":1005.904}]
["47420","IN","RFCW",{"$f":"VLOOKUP(C20003,EMISSION_FACTORS!$A$7:$F$33,6,0)","v":1005.904}]
["47452","IN","RFCW",{"$f":"VLOOKUP(C20025,EMISSION_FACTORS!$A$7:$F$33,6,0)","v":1005.904}]
["47516","IN","RFCW",{"$f":"VLOOKUP(C20048,EMISSION_FACTORS!$A$7:$F$33,6,0)","v":1005.904}]
["47541","IN","RFCW",{"$f":"VLOOKUP(C20064,EMISSION_FACTORS!$A$7:$F$33,6,0)","v":1005.904}]
["47586","IN","RFCW",{"$f":"VLOOKUP(C20093,EMISSION_FACTORS!$A$7:$F$33,6,0)","v":1005.904}]
["47618","IN","RFCW",{"$f":"VLOOKUP(C20109,EMISSION_FACTORS!$A$7:$F$33,6,0)","v":1005.904}]
["47637","IN","RFCW",{"$f":"VLOOKUP(C20118,EMISSION_FACTORS!$A$7:$F$33,6,0)","v":1005.904}]
["47731","IN","RFCW",{"$f":"VLOOKUP(C20154,EMISSION_FACTORS!$A$7:$F$33,6,0)","v":1005.904}]
["47803","IN","RFCW",{"$f":"VLOOKUP(C20167,EMISSION_FACTORS!$A$7:$F$33,6,0)","v":1005.904}]
["47836","IN","RFCW",{"$f":"VLOOKUP(C20180,EMISSION_FACTORS!$A$7:$F$33,6,0)","v":1005.904}]
["47875","IN","RFCW",{"$f":"VLOOKUP(C20212,EMISSION_FACTORS!$A$7:$F$33,6,0)","v":1005.904}]
["47881","IN","RFCW",{"$f":"VLOOKUP(C20217,EMISSION_FACTORS!$A$7:$F$33,6,0)","v":1005.904}]
["47935","IN","RFCW",{"$f":"VLOOKUP(C20245,EMISSION_FACTORS!$A$7:$F$33,6,0)","v":1005.904}]
["47955","IN","RFCW",{"$f":"VLOOKUP(C20262,EMISSION_FACTORS!$A$7:$F$33,6,0)","v":1005.904}]
["47990","IN","RFCW",{"$f":"VLOOKUP(C20290,EMISSION_FACTORS!$A$7:$F$33,6,0)","v":1005.904}]
["48014","MI","RFCM",{"$f":"VLOOKUP(C20307,EMISSION_FACTORS!$A$7:$F$33,6,0)","v":1224.1869999999999}]
["48043","MI","RFCM",{"$f":"VLOOKUP(C20329,EMISSION_FACTORS!$A$7:$F$33,6,0)","v":1224.1869999999999}]
["48072","MI","RFCM",{"$f":"VLOOKUP(C20352,EMISSION_FACTORS!$A$7:$F$33,6,0)","v":1224.1869999999999}]
["48075","MI","RFCM",{"$f":"VLOOKUP(C20355,EMISSION_FACTORS!$A$7:$F$33,6,0)","v":1224.1869999999999}]
["48101","MI","RFCM",{"$f":"VLOOKUP(C20377,EMISSION_FACTORS!$A$7:$F$33,6,0)","v":1224.1869999999999}]
["48126","MI","RFCM",{"$f":"VLOOKUP(C20400,EMISSION_FACTORS!$A$7:$F$33,6,0)","v":1224.1869999999999}]
["48160","MI","RFCM",{"$f":"VLOOKUP(C20426,EMISSION_FACTORS!$A$7:$F$33,6,0)","v":1224.1869999999999}]
["48185","MI","RFCM",{"$f":"VLOOKUP(C20447,EMISSION_FACTORS!$A$7:$F$33,6,0)","v":1224.1869999999999}]
["48207","MI","RFCM",{"$f":"VLOOKUP(C20465,EMISSION_FACTORS!$A$7:$F$33,6,0)","v":1224.1869999999999}]
["48218","MI","RFCM",{"$f":"VLOOKUP(C20476,EMISSION_FACTORS!$A$7:$F$33,6,0)","v":1224.1869999999999}]
["48233","MI","RFCM",{"$f":"VLOOKUP(C20491,EMISSION_FACTORS!$A$7:$F$33,6,0)","v":1224.1869999999999}]
["48307","MI","RFCM",{"$f":"VLOOKUP(C20521,EMISSION_FACTORS!$A$7:$F$33,6,0)","v":1224.1869999999999}]
["48323","MI","RFCM",{"$f":"VLOOKUP(C20536,EMISSION_FACTORS!$A$7:$F$33,6,0)","v":1224.1869999999999}]
["48366","MI","RFCM",{"$f":"VLOOKUP(C20566,EMISSION_FACTORS!$A$7:$F$33,6,0)","v":1224.1869999999999}]
["48381","MI","RFCM",{"$f":"VLOOKUP(C20575,EMISSION_FACTORS!$A$7:$F$33,6,0)","v":1224.1869999999999}]
["48416","MI","RFCM",{"$f":"VLOOKUP(C20591,EMISSION_FACTORS!$A$7:$F$33,6,0)","v":1224.1869999999999}]
["48451","MI","RFCM",{"$f":"VLOOKUP(C20620,EMISSION_FACTORS!$A$7:$F$33,6,0)","v":1224.1869999999999}]
["48469","MI","RFCM",{"$f":"VLOOKUP(C20636,EMISSION_FACTORS!$A$7:$F$33,6,0)","v":1224.1869999999999}]
["48503","MI","RFCM",{"$f":"VLOOKUP(C20646,EMISSION_FACTORS!$A$7:$F$33,6,0)","v":1224.1869999999999}]
["48602","MI","RFCM",{"$f":"VLOOKUP(C20665,EMISSION_FACTORS!$A$7:$F$33,6,0)","v":1224.1869999999999}]
["48623","MI","RFCM",{"$f":"VLOOKUP(C20686,EMISSION_FACTORS!$A$7:$F$33,6,0)","v":1224.1869999999999}]
["48654","MI","RFCM",{"$f":"VLOOKUP(C20711,EMISSION_FACTORS!$A$7:$F$33,6,0)","v":1224.1869999999999}]
["48724","MI","RFCM",{"$f":"VLOOKUP(C20735,EMISSION_FACTORS!$A$7:$F$33,6,0)","v":1224.1869999999999}]
["48745","MI","RFCM",{"$f":"VLOOKUP(C20756,EMISSION_FACTORS!$A$7:$F$33,6,0)","v":1224.1869999999999}]
["48801","MI","RFCM",{"$f":"VLOOKUP(C20780,EMISSION_FACTORS!$A$7:$F$33,6,0)","v":1224.1869999999999}]
["48825","MI","RFCM",{"$f":"VLOOKUP(C20801,EMISSION_FACTORS!$A$7:$F$33,6,0)","v":1224.1869999999999}]
["48830","MI","RFCM",{"$f":"VLOOKUP(C20805,EMISSION_FACTORS!$A$7:$F$33,6,0)","v":1224.1869999999999}]
["48866","MI","RFCM",{"$f":"VLOOKUP(C20840,EMISSION_FACTORS!$A$7:$F$33,6,0)","v":1224.1869999999999}]
["48878","MI","RFCM",{"$f":"VLOOKUP(C20850,EMISSION_FACTORS!$A$7:$F$33,6,0)","v":1224.1869999999999}]
["48894","MI","RFCM",{"$f":"VLOOKUP(C20866,EMISSION_FACTORS!$A$7:$F$33,6,0)","v":1224.1869999999999}]
["49006","MI","RFCM",{"$f":"VLOOKUP(C20899,EMISSION_FACTORS!$A$7:$F$33,6,0)","v":1224.1869999999999}]
["49007","MI","RFCM",{"$f":"VLOOKUP(C20900,EMISSION_FACTORS!$A$7:$F$33,6,0)","v":1224.1869999999999}]
["49039","MI","RFCW",{"$f":"VLOOKUP(C20931,EMISSION_FACTORS!$A$7:$F$33,6,0)","v":1005.904}]
["49056","MI","RFCM",{"$f":"VLOOKUP(C20945,EMISSION_FACTORS!$A$7:$F$33,6,0)","v":1224.1869999999999}]
["49089","MI","RFCM",{"$f":"VLOOKUP(C20976,EMISSION_FACTORS!$A$7:$F$33,6,0)","v":1224.1869999999999}]
["49112","MI","RFCW",{"$f":"VLOOKUP(C20994,EMISSION_FACTORS!$A$7:$F$33,6,0)","v":1005.904}]
["49125","MI","RFCW",{"$f":"VLOOKUP(C21002,EMISSION_FACTORS!$A$7:$F$33,6,0)","v":1005.904}]
["49232","MI","RFCM",{"$f":"VLOOKUP(C21019,EMISSION_FACTORS!$A$7:$F$33,6,0)","v":1224.1869999999999}]
["49263","MI","RFCM",{"$f":"VLOOKUP(C21047,EMISSION_FACTORS!$A$7:$F$33,6,0)","v":1224.1869999999999}]
["49284","MI","RFCM",{"$f":"VLOOKUP(C21064,EMISSION_FACTORS!$A$7:$F$33,6,0)","v":1224.1869999999999}]
["49319","MI","RFCM",{"$f":"VLOOKUP(C21086,EMISSION_FACTORS!$A$7:$F$33,6,0)","v":1224.1869999999999}]
["49344","MI","RFCM",{"$f":"VLOOKUP(C21109,EMISSION_FACTORS!$A$7:$F$33,6,0)","v":1224.1869999999999}]
["49418","MI","RFCM",{"$f":"VLOOKUP(C21134,EMISSION_FACTORS!$A$7:$F$33,6,0)","v":1224.1869999999999}]
["49437","MI","RFCM",{"$f":"VLOOKUP(C21151,EMISSION_FACTORS!$A$7:$F$33,6,0)","v":1224.1869999999999}]
["49448","MI","RFCM",{"$f":"VLOOKUP(C21159,EMISSION_FACTORS!$A$7:$F$33,6,0)","v":1224.1869999999999}]
["49502","MI","RFCM",{"$f":"VLOOKUP(C21177,EMISSION_FACTORS!$A$7:$F$33,6,0)","v":1224.1869999999999}]
["49599","MI","RFCM",{"$f":"VLOOKUP(C21204,EMISSION_FACTORS!$A$7:$F$33,6,0)","v":1224.1869999999999}]
["49627","MI","RFCM",{"$f":"VLOOKUP(C21222,EMISSION_FACTORS!$A$7:$F$33,6,0)","v":1224.1869999999999}]
["49638","MI","RFCM",{"$f":"VLOOKUP(C21233,EMISSION_FACTORS!$A$7:$F$33,6,0)","v":1224.1869999999999}]
["49683","MI","RFCM",{"$f":"VLOOKUP(C21267,EMISSION_FACTORS!$A$7:$F$33,6,0)","v":1224.1869999999999}]
["49707","MI","RFCM",{"$f":"VLOOKUP(C21278,EMISSION_FACTORS!$A$7:$F$33,6,0)","v":1224.1869999999999}]
["49724","MI","RFCW",{"$f":"VLOOKUP(C21293,EMISSION_FACTORS!$A$7:$F$33,6,0)","v":1005.904}]
["49761","MI","RFCM",{"$f":"VLOOKUP(C21323,EMISSION_FACTORS!$A$7:$F$33,6,0)","v":1224.1869999999999}]
["49796","MI","RFCM",{"$f":"VLOOKUP(C21348,EMISSION_FACTORS!$A$7:$F$33,6,0)","v":1224.1869999999999}]
["49814","MI","MROE",{"$f":"VLOOKUP(C21358,EMISSION_FACTORS!$A$7:$F$33,6,0)","v":1488.6880000000001}]
["49834","MI","MROE",{"$f":"VLOOKUP(C21373,EMISSION_FACTORS!$A$7:$F$33,6,0)","v":1488.6880000000001}]
["49870","MI","RFCW",{"$f":"VLOOKUP(C21397,EMISSION_FACTORS!$A$7:$F$33,6,0)","v":1005.904}]
["49896","MI","MROE",{"$f":"VLOOKUP(C21418,EMISSION_FACTORS!$A$7:$F$33,6,0)","v":1488.6880000000001}]
["49935","MI","MROE",{"$f":"VLOOKUP(C21442,EMISSION_FACTORS!$A$7:$F$33,6,0)","v":1488.6880000000001}]
["49969","MI","MROW",{"$f":"VLOOKUP(C21463,EMISSION_FACTORS!$A$7:$F$33,6,0)","v":943.41800000000001}]
["50003","IA","MROW",{"$f":"VLOOKUP(C21468,EMISSION_FACTORS!$A$7:$F$33,6,0)","v":943.41800000000001}]
["50035","IA","MROW",{"$f":"VLOOKUP(C21492,EMISSION_FACTORS!$A$7:$F$33,6,0)","v":943.41800000000001}]
["50058","IA","MROW",{"$f":"VLOOKUP(C21513,EMISSION_FACTORS!$A$7:$F$33,6,0)","v":943.41800000000001}]
["50104","IA","MROW",{"$f":"VLOOKUP(C21537,EMISSION_FACTORS!$A$7:$F$33,6,0)","v":943.41800000000001}]
["50132","IA","MROW",{"$f":"VLOOKUP(C21562,EMISSION_FACTORS!$A$7:$F$33,6,0)","v":943.41800000000001}]
["50148","IA","MROW",{"$f":"VLOOKUP(C21578,EMISSION_FACTORS!$A$7:$F$33,6,0)","v":943.41800000000001}]
["50157","IA","MROW",{"$f":"VLOOKUP(C21587,EMISSION_FACTORS!$A$7:$F$33,6,0)","v":943.41800000000001}]
["50206","IA","MROW",{"$f":"VLOOKUP(C21604,EMISSION_FACTORS!$A$7:$F$33,6,0)","v":943.41800000000001}]
["50238","IA","MROW",{"$f":"VLOOKUP(C21632,EMISSION_FACTORS!$A$7:$F$33,6,0)","v":943.41800000000001}]
["50250","IA","MROW",{"$f":"VLOOKUP(C21643,EMISSION_FACTORS!$A$7:$F$33,6,0)","v":943.41800000000001}]
["50310","IA","MROW",{"$f":"VLOOKUP(C21677,EMISSION_FACTORS!$A$7:$F$33,6,0)","v":943.41800000000001}]
["50321","IA","MROW",{"$f":"VLOOKUP(C21688,EMISSION_FACTORS!$A$7:$F$33,6,0)","v":943.41800000000001}]
["50336","IA","MROW",{"$f":"VLOOKUP(C21702,EMISSION_FACTORS!$A$7:$F$33,6,0)","v":943.41800000000001}]
["50431","IA","MROW",{"$f":"VLOOKUP(C21733,EMISSION_FACTORS!$A$7:$F$33,6,0)","v":943.41800000000001}]
["50453","IA","MROW",{"$f":"VLOOKUP(C21751,EMISSION_FACTORS!$A$7:$F$33,6,0)","v":943.41800000000001}]
["50477","IA","MROW",{"$f":"VLOOKUP(C21772,EMISSION_FACTORS!$A$7:$F$33,6,0)","v":943.41800000000001}]
["50529","IA","MROW",{"$f":"VLOOKUP(C21798,EMISSION_FACTORS!$A$7:$F$33,6,0)","v":943.41800000000001}]
["50532","IA","MROW",{"$f":"VLOOKUP(C21801,EMISSION_FACTORS!$A$7:$F$33,6,0)","v":943.41800000000001}]
["50562","IA","MROW",{"$f":"VLOOKUP(C21824,EMISSION_FACTORS!$A$7:$F$33,6,0)","v":943.41800000000001}]
["50590","IA","MROW",{"$f":"VLOOKUP(C21846,EMISSION_FACTORS!$A$7:$F$33,6,0)","v":943.41800000000001}]
["50619","IA","MROW",{"$f":"VLOOKUP(C21869,EMISSION_FACTORS!$A$7:$F$33,6,0)","v":943.41800000000001}]
["50644","IA","MROW",{"$f":"VLOOKUP(C21891,EMISSION_FACTORS!$A$7:$F$33,6,0)","v":943.41800000000001}]
["50664","IA","MROW",{"$f":"VLOOKUP(C21908,EMISSION_FACTORS!$A$7:$F$33,6,0)","v":943.41800000000001}]
["50672","IA","MROW",{"$f":"VLOOKUP(C21916,EMISSION_FACTORS!$A$7:$F$33,6,0)","v":943.41800000000001}]
["50860","IA","MROW",{"$f":"VLOOKUP(C21953,EMISSION_FACTORS!$A$7:$F$33,6,0)","v":943.41800000000001}]
["50983","IA","MROW",{"$f":"VLOOKUP(C21965,EMISSION_FACTORS!$A$7:$F$33,6,0)","v":943.41800000000001}]
["51024","IA","MROW",{"$f":"VLOOKUP(C21986,EMISSION_FACTORS!$A$7:$F$33,6,0)","v":943.41800000000001}]
["51038","IA","MROW",{"$f":"VLOOKUP(C21999,EMISSION_FACTORS!$A$7:$F$33,6,0)","v":943.41800000000001}]
["51230","IA","MROW",{"$f":"VLOOKUP(C22031,EMISSION_FACTORS!$A$7:$F$33,6,0)","v":943.41800000000001}]
["51245","IA","MROW",{"$f":"VLOOKUP(C22044,EMISSION_FACTORS!$A$7:$F$33,6,0)","v":943.41800000000001}]
["51346","IA","MROW",{"$f":"VLOOKUP(C22060,EMISSION_FACTORS!$A$7:$F$33,6,0)","v":943.41800000000001}]
["51449","IA","MROW",{"$f":"VLOOKUP(C22089,EMISSION_FACTORS!$A$7:$F$33,6,0)","v":943.41800000000001}]
["51501","IA","MROW",{"$f":"VLOOKUP(C22105,EMISSION_FACTORS!$A$7:$F$33,6,0)","v":943.41800000000001}]
["51528","IA","MROW",{"$f":"VLOOKUP(C22115,EMISSION_FACTORS!$A$7:$F$33,6,0)","v":943.41800000000001}]
["51566","IA","MROW",{"$f":"VLOOKUP(C22150,EMISSION_FACTORS!$A$7:$F$33,6,0)","v":943.41800000000001}]
["51573","IA","MROW",{"$f":"VLOOKUP(C22154,EMISSION_FACTORS!$A$7:$F$33,6,0)","v":943.41800000000001}]
["51647","IA","SRMW",{"$f":"VLOOKUP(C22175,EMISSION_FACTORS!$A$7:$F$33,6,0)","v":1380.154}]
["52043","IA","MROW",{"$f":"VLOOKUP(C22200,EMISSION_FACTORS!$A$7:$F$33,6,0)","v":943.41800000000001}]
["52070","IA","MROW",{"$f":"VLOOKUP(C22219,EMISSION_FACTORS!$A$7:$F$33,6,0)","v":943.41800000000001}]
["52155","IA","MROW",{"$f":"VLOOKUP(C22245,EMISSION_FACTORS!$A$7:$F$33,6,0)","v":943.41800000000001}]
["52202","IA","MROW",{"$f":"VLOOKUP(C22264,EMISSION_FACTORS!$A$7:$F$33,6,0)","v":943.41800000000001}]
["52208","IA","MROW",{"$f":"VLOOKUP(C22270,EMISSION_FACTORS!$A$7:$F$33,6,0)","v":943.41800000000001}]
["52229","IA","MROW",{"$f":"VLOOKUP(C22290,EMISSION_FACTORS!$A$7:$F$33,6,0)","v":943.41800000000001}]
["52309","IA","MROW",{"$f":"VLOOKUP(C22319,EMISSION_FACTORS!$A$7:$F$33,6,0)","v":943.41800000000001}]
["52326","IA","MROW",{"$f":"VLOOKUP(C22335,EMISSION_FACTORS!$A$7:$F$33,6,0)","v":943.41800000000001}]
["52358","IA","MROW",{"$f":"VLOOKUP(C22364,EMISSION_FACTORS!$A$7:$F$33,6,0)","v":943.41800000000001}]
["52498","IA","MROW",{"$f":"VLOOKUP(C22380,EMISSION_FACTORS!$A$7:$F$33,6,0)","v":943.41800000000001}]
["52537","IA","MROW",{"$f":"VLOOKUP(C22389,EMISSION_FACTORS!$A$7:$F$33,6,0)","v":943.41800000000001}]
["52571","IA","MROW",{"$f":"VLOOKUP(C22414,EMISSION_FACTORS!$A$7:$F$33,6,0)","v":943.41800000000001}]
["52588","IA","SRMW",{"$f":"VLOOKUP(C22426,EMISSION_FACTORS!$A$7:$F$33,6,0)","v":1380.154}]
["52652","IA","MROW",{"$f":"VLOOKUP(C22459,EMISSION_FACTORS!$A$7:$F$33,6,0)","v":943.41800000000001}]
["52658","IA","SRMW",{"$f":"VLOOKUP(C22465,EMISSION_FACTORS!$A$7:$F$33,6,0)","v":1380.154}]
["52739","IA","MROW",{"$f":"VLOOKUP(C22484,EMISSION_FACTORS!$A$7:$F$33,6,0)","v":943.41800000000001}]
["52773","IA","MROW",{"$f":"VLOOKUP(C22510,EMISSION_FACTORS!$A$7:$F$33,6,0)","v":943.41800000000001}]
["53006","WI","RFCW",{"$f":"VLOOKUP(C22529,EMISSION_FACTORS!$A$7:$F$33,6,0)","v":1005.904}]
["53036","WI","RFCW",{"$f":"VLOOKUP(C22555,EMISSION_FACTORS!$A$7:$F$33,6,0)","v":1005.904}]
["53064","WI","RFCW",{"$f":"VLOOKUP(C22578,EMISSION_FACTORS!$A$7:$F$33,6,0)","v":1005.904}]
["53069","WI","RFCW",{"$f":"VLOOKUP(C22581,EMISSION_FACTORS!$A$7:$F$33,6,0)","v":1005.904}]
["53095","WI","RFCW",{"$f":"VLOOKUP(C22603,EMISSION_FACTORS!$A$7:$F$33,6,0)","v":1005.904}]
["53121","WI","MROE",{"$f":"VLOOKUP(C22620,EMISSION_FACTORS!$A$7:$F$33,6,0)","v":1488.6880000000001}]
["53158","WI","RFCW",{"$f":"VLOOKUP(C22648,EMISSION_FACTORS!$A$7:$F$33,6,0)","v":1005.904}]
["53199","WI","RFCW",{"$f":"VLOOKUP(C22673,EMISSION_FACTORS!$A$7:$F$33,6,0)","v":1005.904}]
["53218","WI","RFCW",{"$f":"VLOOKUP(C22691,EMISSION_FACTORS!$A$7:$F$33,6,0)","v":1005.904}]
["53225","WI","RFCW",{"$f":"VLOOKUP(C22698,EMISSION_FACTORS!$A$7:$F$33,6,0)","v":1005.904}]
["53506","WI","MROE",{"$f":"VLOOKUP(C22730,EMISSION_FACTORS!$A$7:$F$33,6,0)","v":1488.6880000000001}]
["53523","WI","MROE",{"$f":"VLOOKUP(C22743,EMISSION_FACTORS!$A$7:$F$33,6,0)","v":1488.6880000000001}]
["53558","WI","MROE",{"$f":"VLOOKUP(C22775,EMISSION_FACTORS!$A$7:$F$33,6,0)","v":1488.6880000000001}]
["53574","WI","MROE",{"$f":"VLOOKUP(C22788,EMISSION_FACTORS!$A$7:$F$33,6,0)","v":1488.6880000000001}]
["53587","WI","MROE",{"$f":"VLOOKUP(C22801,EMISSION_FACTORS!$A$7:$F$33,6,0)","v":1488.6880000000001}]
["53706","WI","MROE",{"$f":"VLOOKUP(C22817,EMISSION_FACTORS!$A$7:$F$33,6,0)","v":1488.6880000000001}]
["53794","WI","MROE",{"$f":"VLOOKUP(C22846,EMISSION_FACTORS!$A$7:$F$33,6,0)","v":1488.6880000000001}]
["53818","WI","MROE",{"$f":"VLOOKUP(C22862,EMISSION_FACTORS!$A$7:$F$33,6,0)","v":1488.6880000000001}]
["53933","WI","MROE",{"$f":"VLOOKUP(C22887,EMISSION_FACTORS!$A$7:$F$33,6,0)","v":1488.6880000000001}]
["53959","WI","MROE",{"$f":"VLOOKUP(C22911,EMISSION_FACTORS!$A$7:$F$33,6,0)","v":1488.6880000000001}]
["54015","WI","MROW",{"$f":"VLOOKUP(C22932,EMISSION_FACTORS!$A$7:$F$33,6,0)","v":943.41800000000001}]
["54022","WI","MROW",{"$f":"VLOOKUP(C22937,EMISSION_FACTORS!$A$7:$F$33,6,0)","v":943.41800000000001}]
["54119","WI","MROE",{"$f":"VLOOKUP(C22957,EMISSION_FACTORS!$A$7:$F$33,6,0)","v":1488.6880000000001}]
["54143","WI","MROE",{"$f":"VLOOKUP(C22976,EMISSION_FACTORS!$A$7:$F$33,6,0)","v":1488.6880000000001}]
["54202","WI","MROE",{"$f":"VLOOKUP(C23002,EMISSION_FACTORS!$A$7:$F$33,6,0)","v":1488.6880000000001}]
["54229","WI","MROE",{"$f":"VLOOKUP(C23021,EMISSION_FACTORS!$A$7:$F$33,6,0)","v":1488.6880000000001}]
["54301","WI","MROE",{"$f":"VLOOKUP(C23031,EMISSION_FACTORS!$A$7:$F$33,6,0)","v":1488.6880000000001}]
["54425","WI","MROW",{"$f":"VLOOKUP(C23066,EMISSION_FACTORS!$A$7:$F$33,6,0)","v":943.41800000000001}]
["54436","WI","MROW",{"$f":"VLOOKUP(C23076,EMISSION_FACTORS!$A$7:$F$33,6,0)","v":943.41800000000001}]
["54462","WI","MROE",{"$f":"VLOOKUP(C23097,EMISSION_FACTORS!$A$7:$F$33,6,0)","v":1488.6880000000001}]
["54480","WI","MROW",{"$f":"VLOOKUP(C23112,EMISSION_FACTORS!$A$7:$F$33,6,0)","v":943.41800000000001}]
["54532","WI","MROE",{"$f":"VLOOKUP(C23146,EMISSION_FACTORS!$A$7:$F$33,6,0)","v":1488.6880000000001}]
["54546","WI","MROW",{"$f":"VLOOKUP(C23157,EMISSION_FACTORS!$A$7:$F$33,6,0)","v":943.41800000000001}]
["54563","WI","MROW",{"$f":"VLOOKUP(C23171,EMISSION_FACTORS!$A$7:$F$33,6,0)","v":943.41800000000001}]
["54635","WI","MROW",{"$f":"VLOOKUP(C23202,EMISSION_FACTORS!$A$7:$F$33,6,0)","v":943.41800000000001}]
["54650","WI","MROW",{"$f":"VLOOKUP(C23216,EMISSION_FACTORS!$A$7:$F$33,6,0)","v":943.41800000000001}]
["54723","WI","MROW",{"$f":"VLOOKUP(C23241,EMISSION_FACTORS!$A$7:$F$33,6,0)","v":943.41800000000001}]
["54743","WI","MROW",{"$f":"VLOOKUP(C23261,EMISSION_FACTORS!$A$7:$F$33,6,0)","v":943.41800000000001}]
["54750","WI","MROW",{"$f":"VLOOKUP(C23267,EMISSION_FACTORS!$A$7:$F$33,6,0)","v":943.41800000000001}]
["54801","WI","MROW",{"$f":"VLOOKUP(C23290,EMISSION_FACTORS!$A$7:$F$33,6,0)","v":943.41800000000001}]
["54834","WI","MROW",{"$f":"VLOOKUP(C23311,EMISSION_FACTORS!$A$7:$F$33,6,0)","v":943.41800000000001}]
["54857","WI","MROW",{"$f":"VLOOKUP(C23332,EMISSION_FACTORS!$A$7:$F$33,6,0)","v":943.41800000000001}]
["54901","WI","MROE",{"$f":"VLOOKUP(C23356,EMISSION_FACTORS!$A$7:$F$33,6,0)","v":1488.6880000000001}]
["54932","WI","MROE",{"$f":"VLOOKUP(C23377,EMISSION_FACTORS!$A$7:$F$33,6,0)","v":1488.6880000000001}]
["54942","WI","RFCW",{"$f":"VLOOKUP(C23385,EMISSION_FACTORS!$A$7:$F$33,6,0)","v":1005.904}]
["54966","WI","MROE",{"$f":"VLOOKUP(C23403,EMISSION_FACTORS!$A$7:$F$33,6,0)","v":1488.6880000000001}]
["55010","MN","MROW",{"$f":"VLOOKUP(C23430,EMISSION_FACTORS!$A$7:$F$33,6,0)","v":943.41800000000001}]
["55032","MN","MROW",{"$f":"VLOOKUP(C23448,EMISSION_FACTORS!$A$7:$F$33,6,0)","v":943.41800000000001}]
["55069","MN","MROW",{"$f":"VLOOKUP(C23475,EMISSION_FACTORS!$A$7:$F$33,6,0)","v":943.41800000000001}]
["55082","MN","MROW",{"$f":"VLOOKUP(C23487,EMISSION_FACTORS!$A$7:$F$33,6,0)","v":943.41800000000001}]
["55105","MN","MROW",{"$f":"VLOOKUP(C23500,EMISSION_FACTORS!$A$7:$F$33,6,0)","v":943.41800000000001}]
["55130","MN","MROW",{"$f":"VLOOKUP(C23525,EMISSION_FACTORS!$A$7:$F$33,6,0)","v":943.41800000000001}]
["55310","MN","MROW",{"$f":"VLOOKUP(C23552,EMISSION_FACTORS!$A$7:$F$33,6,0)","v":943.41800000000001}]
["55329","MN","MROW",{"$f":"VLOOKUP(C23570,EMISSION_FACTORS!$A$7:$F$33,6,0)","v":943.41800000000001}]
["55337","MN","MROW",{"$f":"VLOOKUP(C23578,EMISSION_FACTORS!$A$7:$F$33,6,0)","v":943.41800000000001}]
["55375","MN","MROW",{"$f":"VLOOKUP(C23615,EMISSION_FACTORS!$A$7:$F$33,6,0)","v":943.41800000000001}]
["55383","MN","MROW",{"$f":"VLOOKUP(C23623,EMISSION_FACTORS!$A$7:$F$33,6,0)","v":943.41800000000001}]
["55405","MN","MROW",{"$f":"VLOOKUP(C23644,EMISSION_FACTORS!$A$7:$F$33,6,0)","v":943.41800000000001}]
["55429","MN","MROW",{"$f":"VLOOKUP(C23668,EMISSION_FACTORS!$A$7:$F$33,6,0)","v":943.41800000000001}]
["55450","MN","MROW",{"$f":"VLOOKUP(C23689,EMISSION_FACTORS!$A$7:$F$33,6,0)","v":943.41800000000001}]
["55487","MN","MROW",{"$f":"VLOOKUP(C23707,EMISSION_FACTORS!$A$7:$F$33,6,0)","v":943.41800000000001}]
["55555","MN","MROW",{"$f":"VLOOKUP(C23714,EMISSION_FACTORS!$A$7:$F$33,6,0)","v":943.41800000000001}]
["55580","MN","MROW",{"$f":"VLOOKUP(C23739,EMISSION_FACTORS!$A$7:$F$33,6,0)","v":943.41800000000001}]
["55601","MN","MROW",{"$f":"VLOOKUP(C23759,EMISSION_FACTORS!$A$7:$F$33,6,0)","v":943.41800000000001}]
["55713","MN","MROW",{"$f":"VLOOKUP(C23784,EMISSION_FACTORS!$A$7:$F$33,6,0)","v":943.41800000000001}]
["55732","MN","MROW",{"$f":"VLOOKUP(C23798,EMISSION_FACTORS!$A$7:$F$33,6,0)","v":943.41800000000001}]
["55775","MN","MROW",{"$f":"VLOOKUP(C23829,EMISSION_FACTORS!$A$7:$F$33,6,0)","v":943.41800000000001}]
["55793","MN","MROW",{"$f":"VLOOKUP(C23843,EMISSION_FACTORS!$A$7:$F$33,6,0)","v":943.41800000000001}]
["55807","MN","MROW",{"$f":"VLOOKUP(C23854,EMISSION_FACTORS!$A$7:$F$33,6,0)","v":943.41800000000001}]
["55936","MN","MROW",{"$f":"VLOOKUP(C23888,EMISSION_FACTORS!$A$7:$F$33,6,0)","v":943.41800000000001}]
["55954","MN","MROW",{"$f":"VLOOKUP(C23903,EMISSION_FACTORS!$A$7:$F$33,6,0)","v":943.41800000000001}]
["55967","MN","MROW",{"$f":"VLOOKUP(C23914,EMISSION_FACTORS!$A$7:$F$33,6,0)","v":943.41800000000001}]
["56020","MN","MROW",{"$f":"VLOOKUP(C23948,EMISSION_FACTORS!$A$7:$F$33,6,0)","v":943.41800000000001}]
["56025","MN","MROW",{"$f":"VLOOKUP(C23953,EMISSION_FACTORS!$A$7:$F$33,6,0)","v":943.41800000000001}]
["56055","MN","MROW",{"$f":"VLOOKUP(C23979,EMISSION_FACTORS!$A$7:$F$33,6,0)","v":943.41800000000001}]
["56083","MN","MROW",{"$f":"VLOOKUP(C23998,EMISSION_FACTORS!$A$7:$F$33,6,0)","v":943.41800000000001}]
["56125","MN","MROW",{"$f":"VLOOKUP(C24024,EMISSION_FACTORS!$A$7:$F$33,6,0)","v":943.41800000000001}]
["56149","MN","MROW",{"$f":"VLOOKUP(C24043,EMISSION_FACTORS!$A$7:$F$33,6,0)","v":943.41800000000001}]
["56171","MN","MROW",{"$f":"VLOOKUP(C24063,EMISSION_FACTORS!$A$7:$F$33,6,0)","v":943.41800000000001}]
["56176","MN","MROW",{"$f":"VLOOKUP(C24068,EMISSION_FACTORS!$A$7:$F$33,6,0)","v":943.41800000000001}]
["56220","MN","MROW",{"$f":"VLOOKUP(C24089,EMISSION_FACTORS!$A$7:$F$33,6,0)","v":943.41800000000001}]
["56251","MN","MROW",{"$f":"VLOOKUP(C24113,EMISSION_FACTORS!$A$7:$F$33,6,0)","v":943.41800000000001}]
["56279","MN","MROW",{"$f":"VLOOKUP(C24134,EMISSION_FACTORS!$A$7:$F$33,6,0)","v":943.41800000000001}]
["56314","MN","MROW",{"$f":"VLOOKUP(C24162,EMISSION_FACTORS!$A$7:$F$33,6,0)","v":943.41800000000001}]
["56336","MN","MROW",{"$f":"VLOOKUP(C24183,EMISSION_FACTORS!$A$7:$F$33,6,0)","v":943.41800000000001}]
["56356","MN","MROW",{"$f":"VLOOKUP(C24199,EMISSION_FACTORS!$A$7:$F$33,6,0)","v":943.41800000000001}]
["56372","MN","MROW",{"$f":"VLOOKUP(C24212,EMISSION_FACTORS!$A$7:$F$33,6,0)","v":943.41800000000001}]
["56387","MN","MROW",{"$f":"VLOOKUP(C24225,EMISSION_FACTORS!$A$7:$F$33,6,0)","v":943.41800000000001}]
["56456","MN","MROW",{"$f":"VLOOKUP(C24257,EMISSION_FACTORS!$A$7:$F$33,6,0)","v":943.41800000000001}]
["56474","MN","MROW",{"$f":"VLOOKUP(C24270,EMISSION_FACTORS!$A$7:$F$33,6,0)","v":943.41800000000001}]
["56514","MN","MROW",{"$f":"VLOOKUP(C24282,EMISSION_FACTORS!$A$7:$F$33,6,0)","v":943.41800000000001}]
["56545","MN","MROW",{"$f":"VLOOKUP(C24309,EMISSION_FACTORS!$A$7:$F$33,6,0)","v":943.41800000000001}]
["56567","MN","MROW",{"$f":"VLOOKUP(C24327,EMISSION_FACTORS!$A$7:$F$33,6,0)","v":943.41800000000001}]
["56601","MN","MROW",{"$f":"VLOOKUP(C24354,EMISSION_FACTORS!$A$7:$F$33,6,0)","v":943.41800000000001}]
["56652","MN","MROW",{"$f":"VLOOKUP(C24376,EMISSION_FACTORS!$A$7:$F$33,6,0)","v":943.41800000000001}]
["56657","MN","MROW",{"$f":"VLOOKUP(C24380,EMISSION_FACTORS!$A$7:$F$33,6,0)","v":943.41800000000001}]
["56683","MN","MROW",{"$f":"VLOOKUP(C24401,EMISSION_FACTORS!$A$7:$F$33,6,0)","v":943.41800000000001}]
["56728","MN","MROW",{"$f":"VLOOKUP(C24422,EMISSION_FACTORS!$A$7:$F$33,6,0)","v":943.41800000000001}]
["56760","MN","MROW",{"$f":"VLOOKUP(C24445,EMISSION_FACTORS!$A$7:$F$33,6,0)","v":943.41800000000001}]
["57015","SD","MROW",{"$f":"VLOOKUP(C24471,EMISSION_FACTORS!$A$7:$F$33,6,0)","v":943.41800000000001}]
["57036","SD","MROW",{"$f":"VLOOKUP(C24490,EMISSION_FACTORS!$A$7:$F$33,6,0)","v":943.41800000000001}]
["57042","SD","MROW",{"$f":"VLOOKUP(C24496,EMISSION_FACTORS!$A$7:$F$33,6,0)","v":943.41800000000001}]
["57065","SD","MROW",{"$f":"VLOOKUP(C24516,EMISSION_FACTORS!$A$7:$F$33,6,0)","v":943.41800000000001}]
["57193","SD","MROW",{"$f":"VLOOKUP(C24541,EMISSION_FACTORS!$A$7:$F$33,6,0)","v":943.41800000000001}]
["57224","SD","MROW",{"$f":"VLOOKUP(C24555,EMISSION_FACTORS!$A$7:$F$33,6,0)","v":943.41800000000001}]
["57262","SD","MROW",{"$f":"VLOOKUP(C24586,EMISSION_FACTORS!$A$7:$F$33,6,0)","v":943.41800000000001}]
["57279","SD","MROW",{"$f":"VLOOKUP(C24600,EMISSION_FACTORS!$A$7:$F$33,6,0)","v":943.41800000000001}]
["57328","SD","MROW",{"$f":"VLOOKUP(C24615,EMISSION_FACTORS!$A$7:$F$33,6,0)","v":943.41800000000001}]
["57356","SD","MROW",{"$f":"VLOOKUP(C24636,EMISSION_FACTORS!$A$7:$F$33,6,0)","v":943.41800000000001}]
["57420","SD","MROW",{"$f":"VLOOKUP(C24665,EMISSION_FACTORS!$A$7:$F$33,6,0)","v":943.41800000000001}]
["57439","SD","MROW",{"$f":"VLOOKUP(C24681,EMISSION_FACTORS!$A$7:$F$33,6,0)","v":943.41800000000001}]
["57477","SD","MROW",{"$f":"VLOOKUP(C24710,EMISSION_FACTORS!$A$7:$F$33,6,0)","v":943.41800000000001}]
["57544","SD","MROW",{"$f":"VLOOKUP(C24730,EMISSION_FACTORS!$A$7:$F$33,6,0)","v":943.41800000000001}]
["57555","SD","MROW",{"$f":"VLOOKUP(C24736,EMISSION_FACTORS!$A$7:$F$33,6,0)","v":943.41800000000001}]
["57585","SD","MROW",{"$f":"VLOOKUP(C24755,EMISSION_FACTORS!$A$7:$F$33,6,0)","v":943.41800000000001}]
["57645","SD","MROW",{"$f":"VLOOKUP(C24775,EMISSION_FACTORS!$A$7:$F$33,6,0)","v":943.41800000000001}]
["57724","SD","MROW",{"$f":"VLOOKUP(C24800,EMISSION_FACTORS!$A$7:$F$33,6,0)","v":943.41800000000001}]
["57760","SD","RMPA",{"$f":"VLOOKUP(C24820,EMISSION_FACTORS!$A$7:$F$33,6,0)","v":1131.7329999999999}]
["57799","SD","RMPA",{"$f":"VLOOKUP(C24845,EMISSION_FACTORS!$A$7:$F$33,6,0)","v":1131.7329999999999}]
["58006","ND","MROW",{"$f":"VLOOKUP(C24850,EMISSION_FACTORS!$A$7:$F$33,6,0)","v":943.41800000000001}]
["58057","ND","MROW",{"$f":"VLOOKUP(C24885,EMISSION_FACTORS!$A$7:$F$33,6,0)","v":943.41800000000001}]
["58068","ND","MROW",{"$f":"VLOOKUP(C24895,EMISSION_FACTORS!$A$7:$F$33,6,0)","v":943.41800000000001}]
["58107","ND","MROW",{"$f":"VLOOKUP(C24911,EMISSION_FACTORS!$A$7:$F$33,6,0)","v":943.41800000000001}]
["58229","ND","MROW",{"$f":"VLOOKUP(C24940,EMISSION_FACTORS!$A$7:$F$33,6,0)","v":943.41800000000001}]
["58254","ND","MROW",{"$f":"VLOOKUP(C24956,EMISSION_FACTORS!$A$7:$F$33,6,0)","v":943.41800000000001}]
["58270","ND","MROW",{"$f":"VLOOKUP(C24969,EMISSION_FACTORS!$A$7:$F$33,6,0)","v":943.41800000000001}]
["58344","ND","MROW",{"$f":"VLOOKUP(C25001,EMISSION_FACTORS!$A$7:$F$33,6,0)","v":943.41800000000001}]
["58365","ND","MROW",{"$f":"VLOOKUP(C25014,EMISSION_FACTORS!$A$7:$F$33,6,0)","v":943.41800000000001}]
["58423","ND","MROW",{"$f":"VLOOKUP(C25040,EMISSION_FACTORS!$A$7:$F$33,6,0)","v":943.41800000000001}]
["58451","ND","MROW",{"$f":"VLOOKUP(C25059,EMISSION_FACTORS!$A$7:$F$33,6,0)","v":943.41800000000001}]
["58458","ND","MROW",{"$f":"VLOOKUP(C25064,EMISSION_FACTORS!$A$7:$F$33,6,0)","v":943.41800000000001}]
["58501","ND","MROW",{"$f":"VLOOKUP(C25092,EMISSION_FACTORS!$A$7:$F$33,6,0)","v":943.41800000000001}]
["58535","ND","MROW",{"$f":"VLOOKUP(C25109,EMISSION_FACTORS!$A$7:$F$33,6,0)","v":943.41800000000001}]
["58571","ND","MROW",{"$f":"VLOOKUP(C25131,EMISSION_FACTORS!$A$7:$F$33,6,0)","v":943.41800000000001}]
["58638","ND","MROW",{"$f":"VLOOKUP(C25154,EMISSION_FACTORS!$A$7:$F$33,6,0)","v":943.41800000000001}]
["58705","ND","MROW",{"$f":"VLOOKUP(C25176,EMISSION_FACTORS!$A$7:$F$33,6,0)","v":943.41800000000001}]
["58746","ND","MROW",{"$f":"VLOOKUP(C25199,EMISSION_FACTORS!$A$7:$F$33,6,0)","v":943.41800000000001}]
["58752","ND","MROW",{"$f":"VLOOKUP(C25202,EMISSION_FACTORS!$A$7:$F$33,6,0)","v":943.41800000000001}]
["58787","ND","MROW",{"$f":"VLOOKUP(C25228,EMISSION_FACTORS!$A$7:$F$33,6,0)","v":943.41800000000001}]
["58849","ND","MROW",{"$f":"VLOOKUP(C25247,EMISSION_FACTORS!$A$7:$F$33,6,0)","v":943.41800000000001}]
["59027","MT","NWPP",{"$f":"VLOOKUP(C25273,EMISSION_FACTORS!$A$7:$F$33,6,0)","v":605.87199999999996}]
["59032","MT","NWPP",{"$f":"VLOOKUP(C25278,EMISSION_FACTORS!$A$7:$F$33,6,0)","v":605.87199999999996}]
["59074","MT","NWPP",{"$f":"VLOOKUP(C25312,EMISSION_FACTORS!$A$7:$F$33,6,0)","v":605.87199999999996}]
["59086","MT","NWPP",{"$f":"VLOOKUP(C25323,EMISSION_FACTORS!$A$7:$F$33,6,0)","v":605.87199999999996}]
["59115","MT","NWPP",{"$f":"VLOOKUP(C25338,EMISSION_FACTORS!$A$7:$F$33,6,0)","v":605.87199999999996}]
["59255","MT","MROW",{"$f":"VLOOKUP(C25368,EMISSION_FACTORS!$A$7:$F$33,6,0)","v":943.41800000000001}]
["59270","MT","NWPP",{"$f":"VLOOKUP(C25377,EMISSION_FACTORS!$A$7:$F$33,6,0)","v":605.87199999999996}]
["59401","MT","NWPP",{"$f":"VLOOKUP(C25413,EMISSION_FACTORS!$A$7:$F$33,6,0)","v":605.87199999999996}]
["59414","MT","NWPP",{"$f":"VLOOKUP(C25422,EMISSION_FACTORS!$A$7:$F$33,6,0)","v":605.87199999999996}]
["59443","MT","NWPP",{"$f":"VLOOKUP(C25442,EMISSION_FACTORS!$A$7:$F$33,6,0)","v":605.87199999999996}]
["59477","MT","NWPP",{"$f":"VLOOKUP(C25467,EMISSION_FACTORS!$A$7:$F$33,6,0)","v":605.87199999999996}]
["59529","MT","NWPP",{"$f":"VLOOKUP(C25487,EMISSION_FACTORS!$A$7:$F$33,6,0)","v":605.87199999999996}]
["59631","MT","NWPP",{"$f":"VLOOKUP(C25508,EMISSION_FACTORS!$A$7:$F$33,6,0)","v":605.87199999999996}]
["59636","MT","NWPP",{"$f":"VLOOKUP(C25513,EMISSION_FACTORS!$A$7:$F$33,6,0)","v":605.87199999999996}]
["59720","MT","NWPP",{"$f":"VLOOKUP(C25537,EMISSION_FACTORS!$A$7:$F$33,6,0)","v":605.87199999999996}]
["59748","MT","NWPP",{"$f":"VLOOKUP(C25558,EMISSION_FACTORS!$A$7:$F$33,6,0)","v":605.87199999999996}]
["59821","MT","NWPP",{"$f":"VLOOKUP(C25582,EMISSION_FACTORS!$A$7:$F$33,6,0)","v":605.87199999999996}]
["59846","MT","NWPP",{"$f":"VLOOKUP(C25603,EMISSION_FACTORS!$A$7:$F$33,6,0)","v":605.87199999999996}]
["59903","MT","NWPP",{"$f":"VLOOKUP(C25627,EMISSION_FACTORS!$A$7:$F$33,6,0)","v":605.87199999999996}]
["59923","MT","NWPP",{"$f":"VLOOKUP(C25642,EMISSION_FACTORS!$A$7:$F$33,6,0)","v":605.87199999999996}]
["59934","MT","NWPP",{"$f":"VLOOKUP(C25652,EMISSION_FACTORS!$A$7:$F$33,6,0)","v":605.87199999999996}]
["60039","IL","RFCW",{"$f":"VLOOKUP(C25687,EMISSION_FACTORS!$A$7:$F$33,6,0)","v":1005.904}]
["60055","IL","RFCW",{"$f":"VLOOKUP(C25701,EMISSION_FACTORS!$A$7:$F$33,6,0)","v":1005.904}]
["60082","IL","RFCW",{"$f":"VLOOKUP(C25722,EMISSION_FACTORS!$A$7:$F$33,6,0)","v":1005.904}]
["60093","IL","RFCW",{"$f":"VLOOKUP(C25733,EMISSION_FACTORS!$A$7:$F$33,6,0)","v":1005.904}]
["60108","IL","RFCW",{"$f":"VLOOKUP(C25747,EMISSION_FACTORS!$A$7:$F$33,6,0)","v":1005.904}]
["60142","IL","RFCW",{"$f":"VLOOKUP(C25778,EMISSION_FACTORS!$A$7:$F$33,6,0)","v":1005.904}]
["60162","IL","RFCW",{"$f":"VLOOKUP(C25796,EMISSION_FACTORS!$A$7:$F$33,6,0)","v":1005.904}]
["60192","IL","RFCW",{"$f":"VLOOKUP(C25823,EMISSION_FACTORS!$A$7:$F$33,6,0)","v":1005.904}]
["60305","IL","RFCW",{"$f":"VLOOKUP(C25841,EMISSION_FACTORS!$A$7:$F$33,6,0)","v":1005.904}]
["60423","IL","RFCW",{"$f":"VLOOKUP(C25862,EMISSION_FACTORS!$A$7:$F$33,6,0)","v":1005.904}]
["60428","IL","RFCW",{"$f":"VLOOKUP(C25866,EMISSION_FACTORS!$A$7:$F$33,6,0)","v":1005.904}]
["60450","IL","RFCW",{"$f":"VLOOKUP(C25888,EMISSION_FACTORS!$A$7:$F$33,6,0)","v":1005.904}]
["60473","IL","RFCW",{"$f":"VLOOKUP(C25911,EMISSION_FACTORS!$A$7:$F$33,6,0)","v":1005.904}]
["60513","IL","RFCW",{"$f":"VLOOKUP(C25936,EMISSION_FACTORS!$A$7:$F$33,6,0)","v":1005.904}]
["60534","IL","RFCW",{"$f":"VLOOKUP(C25953,EMISSION_FACTORS!$A$7:$F$33,6,0)","v":1005.904}]
["60565","IL","RFCW",{"$f":"VLOOKUP(C25981,EMISSION_FACTORS!$A$7:$F$33,6,0)","v":1005.904}]
["60609","IL","RFCW",{"$f":"VLOOKUP(C25998,EMISSION_FACTORS!$A$7:$F$33,6,0)","v":1005.904}]
["60617","IL","RFCW",{"$f":"VLOOKUP(C26006,EMISSION_FACTORS!$A$7:$F$33,6,0)","v":1005.904}]
["60637","IL","RFCW",{"$f":"VLOOKUP(C26024,EMISSION_FACTORS!$A$7:$F$33,6,0)","v":1005.904}]
["60678","IL","RFCW",{"$f":"VLOOKUP(C26055,EMISSION_FACTORS!$A$7:$F$33,6,0)","v":1005.904}]
["60695","IL","RFCW",{"$f":"VLOOKUP(C26069,EMISSION_FACTORS!$A$7:$F$33,6,0)","v":1005.904}]
["60805","IL","RFCW",{"$f":"VLOOKUP(C26080,EMISSION_FACTORS!$A$7:$F$33,6,0)","v":1005.904}]
["60939","IL","SRMW",{"$f":"VLOOKUP(C26108,EMISSION_FACTORS!$A$7:$F$33,6,0)","v":1380.154}]
["60958","IL","SRMW",{"$f":"VLOOKUP(C26125,EMISSION_FACTORS!$A$7:$F$33,6,0)","v":1380.154}]
["61018","IL","RFCW",{"$f":"VLOOKUP(C26150,EMISSION_FACTORS!$A$7:$F$33,6,0)","v":1005.904}]
["61032","IL","RFCW",{"$f":"VLOOKUP(C26160,EMISSION_FACTORS!$A$7:$F$33,6,0)","v":1005.904}]
["61078","IL","RFCW",{"$f":"VLOOKUP(C26195,EMISSION_FACTORS!$A$7:$F$33,6,0)","v":1005.904}]
["61084","IL","RFCW",{"$f":"VLOOKUP(C26199,EMISSION_FACTORS!$A$7:$F$33,6,0)","v":1005.904}]
["61126","IL","RFCW",{"$f":"VLOOKUP(C26220,EMISSION_FACTORS!$A$7:$F$33,6,0)","v":1005.904}]
["61254","IL","SRMW",{"$f":"VLOOKUP(C26244,EMISSION_FACTORS!$A$7:$F$33,6,0)","v":1380.154}]
["61281","IL","SRMW",{"$f":"VLOOKUP(C26265,EMISSION_FACTORS!$A$7:$F$33,6,0)","v":1380.154}]
["61327","IL","SRMW",{"$f":"VLOOKUP(C26289,EMISSION_FACTORS!$A$7:$F$33,6,0)","v":1380.154}]
["61332","IL","RFCW",{"$f":"VLOOKUP(C26294,EMISSION_FACTORS!$A$7:$F$33,6,0)","v":1005.904}]
["61360","IL","RFCW",{"$f":"VLOOKUP(C26315,EMISSION_FACTORS!$A$7:$F$33,6,0)","v":1005.904}]
["61414","IL","SRMW",{"$f":"VLOOKUP(C26339,EMISSION_FACTORS!$A$7:$F$33,6,0)","v":1380.154}]
["61430","IL","SRMW",{"$f":"VLOOKUP(C26354,EMISSION_FACTORS!$A$7:$F$33,6,0)","v":1380.154}]
["61468","IL","MROW",{"$f":"VLOOKUP(C26384,EMISSION_FACTORS!$A$7:$F$33,6,0)","v":943.41800000000001}]
["61519","IL","SRMW",{"$f":"VLOOKUP(C26409,EMISSION_FACTORS!$A$7:$F$33,6,0)","v":1380.154}]
["61539","IL","SRMW",{"$f":"VLOOKUP(C26425,EMISSION_FACTORS!$A$7:$F$33,6,0)","v":1380.154}]
["61548","IL","SRMW",{"$f":"VLOOKUP(C26434,EMISSION_FACTORS!$A$7:$F$33,6,0)","v":1380.154}]
["61613","IL","SRMW",{"$f":"VLOOKUP(C26464,EMISSION_FACTORS!$A$7:$F$33,6,0)","v":1380.154}]
["61643","IL","SRMW",{"$f":"VLOOKUP(C26479,EMISSION_FACTORS!$A$7:$F$33,6,0)","v":1380.154}]
["61705","IL","SRMW",{"$f":"VLOOKUP(C26490,EMISSION_FACTORS!$A$7:$F$33,6,0)","v":1380.154}]
["61756","IL","SRMW",{"$f":"VLOOKUP(C26528,EMISSION_FACTORS!$A$7:$F$33,6,0)","v":1380.154}]
["61770","IL","SRMW",{"$f":"VLOOKUP(C26535,EMISSION_FACTORS!$A$7:$F$33,6,0)","v":1380.154}]
["61813","IL","SRMW",{"$f":"VLOOKUP(C26553,EMISSION_FACTORS!$A$7:$F$33,6,0)","v":1380.154}]
["61849","IL","SRMW",{"$f":"VLOOKUP(C26580,EMISSION_FACTORS!$A$7:$F$33,6,0)","v":1380.154}]
["61872","IL","SRMW",{"$f":"VLOOKUP(C26598,EMISSION_FACTORS!$A$7:$F$33,6,0)","v":1380.154}]
["61932","IL","SRMW",{"$f":"VLOOKUP(C26623,EMISSION_FACTORS!$A$7:$F$33,6,0)","v":1380.154}]
["62012","IL","SRMW",{"$f":"VLOOKUP(C26645,EMISSION_FACTORS!$A$7:$F$33,6,0)","v":1380.154}]
["62015","IL","SRMW",{"$f":"VLOOKUP(C26648,EMISSION_FACTORS!$A$7:$F$33,6,0)","v":1380.154}]
["62045","IL","SRMW",{"$f":"VLOOKUP(C26671,EMISSION_FACTORS!$A$7:$F$33,6,0)","v":1380.154}]
["62074","IL","SRMW",{"$f":"VLOOKUP(C26693,EMISSION_FACTORS!$A$7:$F$33,6,0)","v":1380.154}]
["62091","IL","SRMW",{"$f":"VLOOKUP(C26710,EMISSION_FACTORS!$A$7:$F$33,6,0)","v":1380.154}]
["62231","IL","SRMW",{"$f":"VLOOKUP(C26738,EMISSION_FACTORS!$A$7:$F$33,6,0)","v":1380.154}]
["62249","IL","SRMW",{"$f":"VLOOKUP(C26755,EMISSION_FACTORS!$A$7:$F$33,6,0)","v":1380.154}]
["62262","IL","SRMW",{"$f":"VLOOKUP(C26767,EMISSION_FACTORS!$A$7:$F$33,6,0)","v":1380.154}]
["62312","IL","SRMW",{"$f":"VLOOKUP(C26800,EMISSION_FACTORS!$A$7:$F$33,6,0)","v":1380.154}]
["62330","IL","SRMW",{"$f":"VLOOKUP(C26812,EMISSION_FACTORS!$A$7:$F$33,6,0)","v":1380.154}]
["62358","IL","SRMW",{"$f":"VLOOKUP(C26833,EMISSION_FACTORS!$A$7:$F$33,6,0)","v":1380.154}]
["62376","IL","SRMW",{"$f":"VLOOKUP(C26846,EMISSION_FACTORS!$A$7:$F$33,6,0)","v":1380.154}]
["62424","IL","SRMW",{"$f":"VLOOKUP(C26862,EMISSION_FACTORS!$A$7:$F$33,6,0)","v":1380.154}]
["62460","IL","SRMW",{"$f":"VLOOKUP(C26891,EMISSION_FACTORS!$A$7:$F$33,6,0)","v":1380.154}]
["62478","IL","SRMW",{"$f":"VLOOKUP(C26907,EMISSION_FACTORS!$A$7:$F$33,6,0)","v":1380.154}]
["62539","IL","SRMW",{"$f":"VLOOKUP(C26936,EMISSION_FACTORS!$A$7:$F$33,6,0)","v":1380.154}]
["62557","IL","SRMW",{"$f":"VLOOKUP(C26952,EMISSION_FACTORS!$A$7:$F$33,6,0)","v":1380.154}]
["62625","IL","SRMW",{"$f":"VLOOKUP(C26975,EMISSION_FACTORS!$A$7:$F$33,6,0)","v":1380.154}]
["62660","IL","SRMW",{"$f":"VLOOKUP(C26997,EMISSION_FACTORS!$A$7:$F$33,6,0)","v":1380.154}]
["62664","IL","SRMW",{"$f":"VLOOKUP(C27001,EMISSION_FACTORS!$A$7:$F$33,6,0)","v":1380.154}]
["62701","IL","SRMW",{"$f":"VLOOKUP(C27026,EMISSION_FACTORS!$A$7:$F$33,6,0)","v":1380.154}]
["62757","IL","SRMW",{"$f":"VLOOKUP(C27047,EMISSION_FACTORS!$A$7:$F$33,6,0)","v":1380.154}]
["62806","IL","SRMW",{"$f":"VLOOKUP(C27066,EMISSION_FACTORS!$A$7:$F$33,6,0)","v":1380.154}]
["62834","IL","SRMW",{"$f":"VLOOKUP(C27092,EMISSION_FACTORS!$A$7:$F$33,6,0)","v":1380.154}]
["62855","IL","SRMW",{"$f":"VLOOKUP(C27111,EMISSION_FACTORS!$A$7:$F$33,6,0)","v":1380.154}]
["62865","IL","SRMW",{"$f":"VLOOKUP(C27121,EMISSION_FACTORS!$A$7:$F$33,6,0)","v":1380.154}]
["62882","IL","SRMW",{"$f":"VLOOKUP(C27137,EMISSION_FACTORS!$A$7:$F$33,6,0)","v":1380.154}]
["62915","IL","SRMW",{"$f":"VLOOKUP(C27166,EMISSION_FACTORS!$A$7:$F$33,6,0)","v":1380.154}]
["62926","IL","SRMW",{"$f":"VLOOKUP(C27176,EMISSION_FACTORS!$A$7:$F$33,6,0)","v":1380.154}]
["62966","IL","SRMW",{"$f":"VLOOKUP(C27211,EMISSION_FACTORS!$A$7:$F$33,6,0)","v":1380.154}]
["62977","IL","SRMW",{"$f":"VLOOKUP(C27221,EMISSION_FACTORS!$A$7:$F$33,6,0)","v":1380.154}]
["62998","IL","SRMW",{"$f":"VLOOKUP(C27236,EMISSION_FACTORS!$A$7:$F$33,6,0)","v":1380.154}]
["63033","MO","SRMW",{"$f":"VLOOKUP(C27261,EMISSION_FACTORS!$A$7:$F$33,6,0)","v":1380.154}]
["63066","MO","SRMW",{"$f":"VLOOKUP(C27286,EMISSION_FACTORS!$A$7:$F$33,6,0)","v":1380.154}]
["63103","MO","SRMW",{"$f":"VLOOKUP(C27306,EMISSION_FACTORS!$A$7:$F$33,6,0)","v":1380.154}]
["63109","MO","SRMW",{"$f":"VLOOKUP(C27312,EMISSION_FACTORS!$A$7:$F$33,6,0)","v":1380.154}]
["63128","MO","SRMW",{"$f":"VLOOKUP(C27331,EMISSION_FACTORS!$A$7:$F$33,6,0)","v":1380.154}]
["63163","MO","SRMW",{"$f":"VLOOKUP(C27357,EMISSION_FACTORS!$A$7:$F$33,6,0)","v":1380.154}]
["63333","MO","SRMW",{"$f":"VLOOKUP(C27380,EMISSION_FACTORS!$A$7:$F$33,6,0)","v":1380.154}]
["63363","MO","SRMW",{"$f":"VLOOKUP(C27402,EMISSION_FACTORS!$A$7:$F$33,6,0)","v":1380.154}]
["63401","MO","SRMW",{"$f":"VLOOKUP(C27425,EMISSION_FACTORS!$A$7:$F$33,6,0)","v":1380.154}]
["63446","MO","SRMW",{"$f":"VLOOKUP(C27441,EMISSION_FACTORS!$A$7:$F$33,6,0)","v":1380.154}]
["63457","MO","SRMW",{"$f":"VLOOKUP(C27450,EMISSION_FACTORS!$A$7:$F$33,6,0)","v":1380.154}]
["63537","MO","SRMW",{"$f":"VLOOKUP(C27475,EMISSION_FACTORS!$A$7:$F$33,6,0)","v":1380.154}]
["63559","MO","SRMW",{"$f":"VLOOKUP(C27493,EMISSION_FACTORS!$A$7:$F$33,6,0)","v":1380.154}]
["63648","MO","SRMW",{"$f":"VLOOKUP(C27520,EMISSION_FACTORS!$A$7:$F$33,6,0)","v":1380.154}]
["63666","MO","SRMW",{"$f":"VLOOKUP(C27532,EMISSION_FACTORS!$A$7:$F$33,6,0)","v":1380.154}]
["63738","MO","SRMW",{"$f":"VLOOKUP(C27545,EMISSION_FACTORS!$A$7:$F$33,6,0)","v":1380.154}]
["63785","MO","SRMW",{"$f":"VLOOKUP(C27577,EMISSION_FACTORS!$A$7:$F$33,6,0)","v":1380.154}]
["63839","MO","SRMW",{"$f":"VLOOKUP(C27594,EMISSION_FACTORS!$A$7:$F$33,6,0)","v":1380.154}]
["63879","MO","SRMW",{"$f":"VLOOKUP(C27622,EMISSION_FACTORS!$A$7:$F$33,6,0)","v":1380.154}]
["63942","MO","SRMV",{"$f":"VLOOKUP(C27639,EMISSION_FACTORS!$A$7:$F$33,6,0)","v":803.65800000000002}]
["63955","MO","SRMW",{"$f":"VLOOKUP(C27648,EMISSION_FACTORS!$A$7:$F$33,6,0)","v":1380.154}]
["64014","MO","SPNO",{"$f":"VLOOKUP(C27664,EMISSION_FACTORS!$A$7:$F$33,6,0)","v":959.38099999999997}]
["64056","MO","SPNO",{"$f":"VLOOKUP(C27689,EMISSION_FACTORS!$A$7:$F$33,6,0)","v":959.38099999999997}]
["64081","MO","SPNO",{"$f":"VLOOKUP(C27713,EMISSION_FACTORS!$A$7:$F$33,6,0)","v":959.38099999999997}]
["64111","MO","SPNO",{"$f":"VLOOKUP(C27734,EMISSION_FACTORS!$A$7:$F$33,6,0)","v":959.38099999999997}]
["64138","MO","SPNO",{"$f":"VLOOKUP(C27758,EMISSION_FACTORS!$A$7:$F$33,6,0)","v":959.38099999999997}]
["64165","MO","SRMW",{"$f":"VLOOKUP(C27779,EMISSION_FACTORS!$A$7:$F$33,6,0)","v":1380.154}]
["64198","MO","SPNO",{"$f":"VLOOKUP(C27797,EMISSION_FACTORS!$A$7:$F$33,6,0)","v":959.38099999999997}]
["64423","MO","SPNO",{"$f":"VLOOKUP(C27804,EMISSION_FACTORS!$A$7:$F$33,6,0)","v":959.38099999999997}]
["64444","MO","SPNO",{"$f":"VLOOKUP(C27823,EMISSION_FACTORS!$A$7:$F$33,6,0)","v":959.38099999999997}]
["64482","MO","MROW",{"$f":"VLOOKUP(C27853,EMISSION_FACTORS!$A$7:$F$33,6,0)","v":943.41800000000001}]
["64499","MO","SPNO",{"$f":"VLOOKUP(C27868,EMISSION_FACTORS!$A$7:$F$33,6,0)","v":959.38099999999997}]
["64620","MO","SRMW",{"$f":"VLOOKUP(C27878,EMISSION_FACTORS!$A$7:$F$33,6,0)","v":1380.154}]
["64646","MO","SRMW",{"$f":"VLOOKUP(C27899,EMISSION_FACTORS!$A$7:$F$33,6,0)","v":1380.154}]
["64720","MO","SPNO",{"$f":"VLOOKUP(C27933,EMISSION_FACTORS!$A$7:$F$33,6,0)","v":959.38099999999997}]
["64742","MO","SPNO",{"$f":"VLOOKUP(C27948,EMISSION_FACTORS!$A$7:$F$33,6,0)","v":959.38099999999997}]
["64759","MO","SPNO",{"$f":"VLOOKUP(C27959,EMISSION_FACTORS!$A$7:$F$33,6,0)","v":959.38099999999997}]
["64843","MO","SPNO",{"$f":"VLOOKUP(C27993,EMISSION_FACTORS!$A$7:$F$33,6,0)","v":959.38099999999997}]
["64858","MO","SRMW",{"$f":"VLOOKUP(C28004,EMISSION_FACTORS!$A$7:$F$33,6,0)","v":1380.154}]
["64999","MO","SPNO",{"$f":"VLOOKUP(C28018,EMISSION_FACTORS!$A$7:$F$33,6,0)","v":959.38099999999997}]
["65046","MO","SRMW",{"$f":"VLOOKUP(C28043,EMISSION_FACTORS!$A$7:$F$33,6,0)","v":1380.154}]
["65069","MO","SRMW",{"$f":"VLOOKUP(C28063,EMISSION_FACTORS!$A$7:$F$33,6,0)","v":1380.154}]
["65201","MO","SRMW",{"$f":"VLOOKUP(C28088,EMISSION_FACTORS!$A$7:$F$33,6,0)","v":1380.154}]
["65211","MO","SRMW",{"$f":"VLOOKUP(C28092,EMISSION_FACTORS!$A$7:$F$33,6,0)","v":1380.154}]
["65255","MO","SRMW",{"$f":"VLOOKUP(C28114,EMISSION_FACTORS!$A$7:$F$33,6,0)","v":1380.154}]
["65286","MO","SPNO",{"$f":"VLOOKUP(C28137,EMISSION_FACTORS!$A$7:$F$33,6,0)","v":959.38099999999997}]
["65337","MO","SRMW",{"$f":"VLOOKUP(C28158,EMISSION_FACTORS!$A$7:$F$33,6,0)","v":1380.154}]
["65441","MO","SRMW",{"$f":"VLOOKUP(C28179,EMISSION_FACTORS!$A$7:$F$33,6,0)","v":1380.154}]
["65541","MO","SRMW",{"$f":"VLOOKUP(C28207,EMISSION_FACTORS!$A$7:$F$33,6,0)","v":1380.154}]
["65571","MO","SRMW",{"$f":"VLOOKUP(C28224,EMISSION_FACTORS!$A$7:$F$33,6,0)","v":1380.154}]
["65590","MO","SRMW",{"$f":"VLOOKUP(C28232,EMISSION_FACTORS!$A$7:$F$33,6,0)","v":1380.154}]
["65633","MO","SPNO",{"$f":"VLOOKUP(C28263,EMISSION_FACTORS!$A$7:$F$33,6,0)","v":959.38099999999997}]
["65650","MO","SPNO",{"$f":"VLOOKUP(C28277,EMISSION_FACTORS!$A$7:$F$33,6,0)","v":959.38099999999997}]
["65664","MO","SPNO",{"$f":"VLOOKUP(C28289,EMISSION_FACTORS!$A$7:$F$33,6,0)","v":959.38099999999997}]
["65717","MO","SRMW",{"$f":"VLOOKUP(C28322,EMISSION_FACTORS!$A$7:$F$33,6,0)","v":1380.154}]
["65731","MO","SRMW",{"$f":"VLOOKUP(C28334,EMISSION_FACTORS!$A$7:$F$33,6,0)","v":1380.154}]
["65754","MO","SRMW",{"$f":"VLOOKUP(C28351,EMISSION_FACTORS!$A$7:$F$33,6,0)","v":1380.154}]
["65777","MO","SRMW",{"$f":"VLOOKUP(C28372,EMISSION_FACTORS!$A$7:$F$33,6,0)","v":1380.154}]
["65897","MO","SPSO",{"$f":"VLOOKUP(C28399,EMISSION_FACTORS!$A$7:$F$33,6,0)","v":975.25300000000004}]
["66023","KS","SPNO",{"$f":"VLOOKUP(C28417,EMISSION_FACTORS!$A$7:$F$33,6,0)","v":959.38099999999997}]
["66033","KS","SPNO",{"$f":"VLOOKUP(C28425,EMISSION_FACTORS!$A$7:$F$33,6,0)","v":959.38099999999997}]
["66060","KS","SPNO",{"$f":"VLOOKUP(C28446,EMISSION_FACTORS!$A$7:$F$33,6,0)","v":959.38099999999997}]
["66093","KS","SPNO",{"$f":"VLOOKUP(C28470,EMISSION_FACTORS!$A$7:$F$33,6,0)","v":959.38099999999997}]
["66202","KS","SPNO",{"$f":"VLOOKUP(C28491,EMISSION_FACTORS!$A$7:$F$33,6,0)","v":959.38099999999997}]
["66220","KS","SPNO",{"$f":"VLOOKUP(C28509,EMISSION_FACTORS!$A$7:$F$33,6,0)","v":959.38099999999997}]
["66415","KS","SPNO",{"$f":"VLOOKUP(C28536,EMISSION_FACTORS!$A$7:$F$33,6,0)","v":959.38099999999997}]
["66438","KS","SPNO",{"$f":"VLOOKUP(C28554,EMISSION_FACTORS!$A$7:$F$33,6,0)","v":959.38099999999997}]
["66501","KS","SPNO",{"$f":"VLOOKUP(C28561,EMISSION_FACTORS!$A$7:$F$33,6,0)","v":959.38099999999997}]
["66533","KS","SPNO",{"$f":"VLOOKUP(C28586,EMISSION_FACTORS!$A$7:$F$33,6,0)","v":959.38099999999997}]
["66617","KS","SPNO",{"$f":"VLOOKUP(C28619,EMISSION_FACTORS!$A$7:$F$33,6,0)","v":959.38099999999997}]
["66647","KS","SPNO",{"$f":"VLOOKUP(C28631,EMISSION_FACTORS!$A$7:$F$33,6,0)","v":959.38099999999997}]
["66724","KS","SPNO",{"$f":"VLOOKUP(C28645,EMISSION_FACTORS!$A$7:$F$33,6,0)","v":959.38099999999997}]
["66770","KS","SPNO",{"$f":"VLOOKUP(C28676,EMISSION_FACTORS!$A$7:$F$33,6,0)","v":959.38099999999997}]
["66830","KS","SPNO",{"$f":"VLOOKUP(C28690,EMISSION_FACTORS!$A$7:$F$33,6,0)","v":959.38099999999997}]
["66853","KS","SPNO",{"$f":"VLOOKUP(C28705,EMISSION_FACTORS!$A$7:$F$33,6,0)","v":959.38099999999997}]
["66941","KS","SPNO",{"$f":"VLOOKUP(C28735,EMISSION_FACTORS!$A$7:$F$33,6,0)","v":959.38099999999997}]
["66960","KS","SPNO",{"$f":"VLOOKUP(C28750,EMISSION_FACTORS!$A$7:$F$33,6,0)","v":959.38099999999997}]
["67021","KS","SPNO",{"$f":"VLOOKUP(C28774,EMISSION_FACTORS!$A$7:$F$33,6,0)","v":959.38099999999997}]
["67051","KS","SPNO",{"$f":"VLOOKUP(C28795,EMISSION_FACTORS!$A$7:$F$33,6,0)","v":959.38099999999997}]
["67056","KS","SPNO",{"$f":"VLOOKUP(C28800,EMISSION_FACTORS!$A$7:$F$33,6,0)","v":959.38099999999997}]
["67110","KS","SPNO",{"$f":"VLOOKUP(C28826,EMISSION_FACTORS!$A$7:$F$33,6,0)","v":959.38099999999997}]
["67140","KS","SPNO",{"$f":"VLOOKUP(C28845,EMISSION_FACTORS!$A$7:$F$33,6,0)","v":959.38099999999997}]
["67207","KS","SPNO",{"$f":"VLOOKUP(C28865,EMISSION_FACTORS!$A$7:$F$33,6,0)","v":959.38099999999997}]
["67277","KS","SPNO",{"$f":"VLOOKUP(C28890,EMISSION_FACTORS!$A$7:$F$33,6,0)","v":959.38099999999997}]
["67353","KS","SPNO",{"$f":"VLOOKUP(C28910,EMISSION_FACTORS!$A$7:$F$33,6,0)","v":959.38099999999997}]
["67401","KS","SPNO",{"$f":"VLOOKUP(C28919,EMISSION_FACTORS!$A$7:$F$33,6,0)","v":959.38099999999997}]
["67438","KS","SPNO",{"$f":"VLOOKUP(C28936,EMISSION_FACTORS!$A$7:$F$33,6,0)","v":959.38099999999997}]
["67475","KS","SPNO",{"$f":"VLOOKUP(C28964,EMISSION_FACTORS!$A$7:$F$33,6,0)","v":959.38099999999997}]
["67510","KS","SPNO",{"$f":"VLOOKUP(C28981,EMISSION_FACTORS!$A$7:$F$33,6,0)","v":959.38099999999997}]
["67556","KS","SPNO",{"$f":"VLOOKUP(C29009,EMISSION_FACTORS!$A$7:$F$33,6,0)","v":959.38099999999997}]
["67563","KS","SPNO",{"$f":"VLOOKUP(C29014,EMISSION_FACTORS!$A$7:$F$33,6,0)","v":959.38099999999997}]
["67638","KS","SPNO",{"$f":"VLOOKUP(C29046,EMISSION_FACTORS!$A$7:$F$33,6,0)","v":959.38099999999997}]
["67653","KS","SPNO",{"$f":"VLOOKUP(C29059,EMISSION_FACTORS!$A$7:$F$33,6,0)","v":959.38099999999997}]
["67671","KS","SPNO",{"$f":"VLOOKUP(C29072,EMISSION_FACTORS!$A$7:$F$33,6,0)","v":959.38099999999997}]
["67764","KS","SPNO",{"$f":"VLOOKUP(C29104,EMISSION_FACTORS!$A$7:$F$33,6,0)","v":959.38099999999997}]
["67838","KS","SPNO",{"$f":"VLOOKUP(C29111,EMISSION_FACTORS!$A$7:$F$33,6,0)","v":959.38099999999997}]
["67862","KS","SPNO",{"$f":"VLOOKUP(C29129,EMISSION_FACTORS!$A$7:$F$33,6,0)","v":959.38099999999997}]
["68007","NE","MROW",{"$f":"VLOOKUP(C29156,EMISSION_FACTORS!$A$7:$F$33,6,0)","v":943.41800000000001}]
["68037","NE","MROW",{"$f":"VLOOKUP(C29178,EMISSION_FACTORS!$A$7:$F$33,6,0)","v":943.41800000000001}]
["68067","NE","MROW",{"$f":"VLOOKUP(C29201,EMISSION_FACTORS!$A$7:$F$33,6,0)","v":943.41800000000001}]
["68117","NE","MROW",{"$f":"VLOOKUP(C29223,EMISSION_FACTORS!$A$7:$F$33,6,0)","v":943.41800000000001}]
["68145","NE","MROW",{"$f":"VLOOKUP(C29244,EMISSION_FACTORS!$A$7:$F$33,6,0)","v":943.41800000000001}]
["68154","NE","MROW",{"$f":"VLOOKUP(C29247,EMISSION_FACTORS!$A$7:$F$33,6,0)","v":943.41800000000001}]
["68318","NE","MROW",{"$f":"VLOOKUP(C29273,EMISSION_FACTORS!$A$7:$F$33,6,0)","v":943.41800000000001}]
["68338","NE","MROW",{"$f":"VLOOKUP(C29292,EMISSION_FACTORS!$A$7:$F$33,6,0)","v":943.41800000000001}]
["68367","NE","MROW",{"$f":"VLOOKUP(C29318,EMISSION_FACTORS!$A$7:$F$33,6,0)","v":943.41800000000001}]
["68401","NE","MROW",{"$f":"VLOOKUP(C29331,EMISSION_FACTORS!$A$7:$F$33,6,0)","v":943.41800000000001}]
["68416","NE","MROW",{"$f":"VLOOKUP(C29343,EMISSION_FACTORS!$A$7:$F$33,6,0)","v":943.41800000000001}]
["68456","NE","MROW",{"$f":"VLOOKUP(C29376,EMISSION_FACTORS!$A$7:$F$33,6,0)","v":943.41800000000001}]
["68502","NE","MROW",{"$f":"VLOOKUP(C29388,EMISSION_FACTORS!$A$7:$F$33,6,0)","v":943.41800000000001}]
["68521","NE","MROW",{"$f":"VLOOKUP(C29402,EMISSION_FACTORS!$A$7:$F$33,6,0)","v":943.41800000000001}]
["68642","NE","MROW",{"$f":"VLOOKUP(C29437,EMISSION_FACTORS!$A$7:$F$33,6,0)","v":943.41800000000001}]
["68669","NE","MROW",{"$f":"VLOOKUP(C29458,EMISSION_FACTORS!$A$7:$F$33,6,0)","v":943.41800000000001}]
["68717","NE","MROW",{"$f":"VLOOKUP(C29467,EMISSION_FACTORS!$A$7:$F$33,6,0)","v":943.41800000000001}]
["68734","NE","MROW",{"$f":"VLOOKUP(C29483,EMISSION_FACTORS!$A$7:$F$33,6,0)","v":943.41800000000001}]
["68768","NE","MROW",{"$f":"VLOOKUP(C29512,EMISSION_FACTORS!$A$7:$F$33,6,0)","v":943.41800000000001}]
["68791","NE","MROW",{"$f":"VLOOKUP(C29532,EMISSION_FACTORS!$A$7:$F$33,6,0)","v":943.41800000000001}]
["68834","NE","MROW",{"$f":"VLOOKUP(C29557,EMISSION_FACTORS!$A$7:$F$33,6,0)","v":943.41800000000001}]
["68856","NE","MROW",{"$f":"VLOOKUP(C29577,EMISSION_FACTORS!$A$7:$F$33,6,0)","v":943.41800000000001}]
["68879","NE","MROW",{"$f":"VLOOKUP(C29596,EMISSION_FACTORS!$A$7:$F$33,6,0)","v":943.41800000000001}]
["68920","NE","MROW",{"$f":"VLOOKUP(C29602,EMISSION_FACTORS!$A$7:$F$33,6,0)","v":943.41800000000001}]
["68942","NE","MROW",{"$f":"VLOOKUP(C29622,EMISSION_FACTORS!$A$7:$F$33,6,0)","v":943.41800000000001}]
["68973","NE","MROW",{"$f":"VLOOKUP(C29647,EMISSION_FACTORS!$A$7:$F$33,6,0)","v":943.41800000000001}]
["69036","NE","MROW",{"$f":"VLOOKUP(C29672,EMISSION_FACTORS!$A$7:$F$33,6,0)","v":943.41800000000001}]
["69122","NE","RMPA",{"$f":"VLOOKUP(C29687,EMISSION_FACTORS!$A$7:$F$33,6,0)","v":1131.7329999999999}]
["69134","NE","MROW",{"$f":"VLOOKUP(C29697,EMISSION_FACTORS!$A$7:$F$33,6,0)","v":943.41800000000001}]
["69211","NE","MROW",{"$f":"VLOOKUP(C29732,EMISSION_FACTORS!$A$7:$F$33,6,0)","v":943.41800000000001}]
["69331","NE","RMPA",{"$f":"VLOOKUP(C29742,EMISSION_FACTORS!$A$7:$F$33,6,0)","v":1131.7329999999999}]
["69352","NE","RMPA",{"$f":"VLOOKUP(C29758,EMISSION_FACTORS!$A$7:$F$33,6,0)","v":1131.7329999999999}]
["70044","LA","SRMV",{"$f":"VLOOKUP(C29791,EMISSION_FACTORS!$A$7:$F$33,6,0)","v":803.65800000000002}]
["70059","LA","SRMV",{"$f":"VLOOKUP(C29803,EMISSION_FACTORS!$A$7:$F$33,6,0)","v":803.65800000000002}]
["70075","LA","SRMV",{"$f":"VLOOKUP(C29816,EMISSION_FACTORS!$A$7:$F$33,6,0)","v":803.65800000000002}]
["70119","LA","SRMV",{"$f":"VLOOKUP(C29842,EMISSION_FACTORS!$A$7:$F$33,6,0)","v":803.65800000000002}]
["70148","LA","SRMV",{"$f":"VLOOKUP(C29861,EMISSION_FACTORS!$A$7:$F$33,6,0)","v":803.65800000000002}]
["70178","LA","SRMV",{"$f":"VLOOKUP(C29886,EMISSION_FACTORS!$A$7:$F$33,6,0)","v":803.65800000000002}]
["70187","LA","SRMV",{"$f":"VLOOKUP(C29894,EMISSION_FACTORS!$A$7:$F$33,6,0)","v":803.65800000000002}]
["70354","LA","SRMV",{"$f":"VLOOKUP(C29911,EMISSION_FACTORS!$A$7:$F$33,6,0)","v":803.65800000000002}]
["70394","LA","SRMV",{"$f":"VLOOKUP(C29933,EMISSION_FACTORS!$A$7:$F$33,6,0)","v":803.65800000000002}]
["70444","LA","SRMV",{"$f":"VLOOKUP(C29956,EMISSION_FACTORS!$A$7:$F$33,6,0)","v":803.65800000000002}]
["70466","LA","SRMV",{"$f":"VLOOKUP(C29978,EMISSION_FACTORS!$A$7:$F$33,6,0)","v":803.65800000000002}]
["70522","LA","SPSO",{"$f":"VLOOKUP(C30005,EMISSION_FACTORS!$A$7:$F$33,6,0)","v":975.25300000000004}]
["70543","LA","SPSO",{"$f":"VLOOKUP(C30023,EMISSION_FACTORS!$A$7:$F$33,6,0)","v":975.25300000000004}]
["70552","LA","SPSO",{"$f":"VLOOKUP(C30030,EMISSION_FACTORS!$A$7:$F$33,6,0)","v":975.25300000000004}]
["70583","LA","SPSO",{"$f":"VLOOKUP(C30049,EMISSION_FACTORS!$A$7:$F$33,6,0)","v":975.25300000000004}]
["70634","LA","SRMV",{"$f":"VLOOKUP(C30075,EMISSION_FACTORS!$A$7:$F$33,6,0)","v":803.65800000000002}]
["70652","LA","SRMV",{"$f":"VLOOKUP(C30088,EMISSION_FACTORS!$A$7:$F$33,6,0)","v":803.65800000000002}]
["70728","LA","SRMV",{"$f":"VLOOKUP(C30120,EMISSION_FACTORS!$A$7:$F$33,6,0)","v":803.65800000000002}]
["70734","LA","SRMV",{"$f":"VLOOKUP(C30125,EMISSION_FACTORS!$A$7:$F$33,6,0)","v":803.65800000000002}]
["70778","LA","SRMV",{"$f":"VLOOKUP(C30159,EMISSION_FACTORS!$A$7:$F$33,6,0)","v":803.65800000000002}]
["70792","LA","SRMV",{"$f":"VLOOKUP(C30170,EMISSION_FACTORS!$A$7:$F$33,6,0)","v":803.65800000000002}]
["70833","LA","SRMV",{"$f":"VLOOKUP(C30198,EMISSION_FACTORS!$A$7:$F$33,6,0)","v":803.65800000000002}]
["71003","LA","SRMV",{"$f":"VLOOKUP(C30215,EMISSION_FACTORS!$A$7:$F$33,6,0)","v":803.65800000000002}]
["71021","LA","SRMV",{"$f":"VLOOKUP(C30224,EMISSION_FACTORS!$A$7:$F$33,6,0)","v":803.65800000000002}]
["71048","LA","SRMV",{"$f":"VLOOKUP(C30244,EMISSION_FACTORS!$A$7:$F$33,6,0)","v":803.65800000000002}]
["71101","LA","SPSO",{"$f":"VLOOKUP(C30269,EMISSION_FACTORS!$A$7:$F$33,6,0)","v":975.25300000000004}]
["71134","LA","SPSO",{"$f":"VLOOKUP(C30289,EMISSION_FACTORS!$A$7:$F$33,6,0)","v":975.25300000000004}]
["71209","LA","SRMV",{"$f":"VLOOKUP(C30314,EMISSION_FACTORS!$A$7:$F$33,6,0)","v":803.65800000000002}]
["71235","LA","SRMV",{"$f":"VLOOKUP(C30334,EMISSION_FACTORS!$A$7:$F$33,6,0)","v":803.65800000000002}]
["71273","LA","SRMV",{"$f":"VLOOKUP(C30359,EMISSION_FACTORS!$A$7:$F$33,6,0)","v":803.65800000000002}]
["71275","LA","SRMV",{"$f":"VLOOKUP(C30360,EMISSION_FACTORS!$A$7:$F$33,6,0)","v":803.65800000000002}]
["71324","LA","SRMV",{"$f":"VLOOKUP(C30384,EMISSION_FACTORS!$A$7:$F$33,6,0)","v":803.65800000000002}]
["71343","LA","SPSO",{"$f":"VLOOKUP(C30399,EMISSION_FACTORS!$A$7:$F$33,6,0)","v":975.25300000000004}]
["71405","LA","SPSO",{"$f":"VLOOKUP(C30429,EMISSION_FACTORS!$A$7:$F$33,6,0)","v":975.25300000000004}]
["71425","LA","SRMV",{"$f":"VLOOKUP(C30444,EMISSION_FACTORS!$A$7:$F$33,6,0)","v":803.65800000000002}]
["71462","LA","SPSO",{"$f":"VLOOKUP(C30474,EMISSION_FACTORS!$A$7:$F$33,6,0)","v":975.25300000000004}]
["71483","LA","SPSO",{"$f":"VLOOKUP(C30489,EMISSION_FACTORS!$A$7:$F$33,6,0)","v":975.25300000000004}]
["71638","AR","SRMV",{"$f":"VLOOKUP(C30503,EMISSION_FACTORS!$A$7:$F$33,6,0)","v":803.65800000000002}]
["71701","AR","SRMV",{"$f":"VLOOKUP(C30534,EMISSION_FACTORS!$A$7:$F$33,6,0)","v":803.65800000000002}]
["71744","AR","SRMV",{"$f":"VLOOKUP(C30548,EMISSION_FACTORS!$A$7:$F$33,6,0)","v":803.65800000000002}]
["71802","AR","SPSO",{"$f":"VLOOKUP(C30569,EMISSION_FACTORS!$A$7:$F$33,6,0)","v":975.25300000000004}]
["71834","AR","SRMV",{"$f":"VLOOKUP(C30580,EMISSION_FACTORS!$A$7:$F$33,6,0)","v":803.65800000000002}]
["71858","AR","SRMV",{"$f":"VLOOKUP(C30598,EMISSION_FACTORS!$A$7:$F$33,6,0)","v":803.65800000000002}]
["71943","AR","SRMV",{"$f":"VLOOKUP(C30625,EMISSION_FACTORS!$A$7:$F$33,6,0)","v":803.65800000000002}]
["71969","AR","SRMV",{"$f":"VLOOKUP(C30643,EMISSION_FACTORS!$A$7:$F$33,6,0)","v":803.65800000000002}]
["72017","AR","SRMV",{"$f":"VLOOKUP(C30664,EMISSION_FACTORS!$A$7:$F$33,6,0)","v":803.65800000000002}]
["72041","AR","SRMV",{"$f":"VLOOKUP(C30688,EMISSION_FACTORS!$A$7:$F$33,6,0)","v":803.65800000000002}]
["72067","AR","SRMV",{"$f":"VLOOKUP(C30709,EMISSION_FACTORS!$A$7:$F$33,6,0)","v":803.65800000000002}]
["72072","AR","SRMV",{"$f":"VLOOKUP(C30713,EMISSION_FACTORS!$A$7:$F$33,6,0)","v":803.65800000000002}]
["72105","AR","SRMV",{"$f":"VLOOKUP(C30735,EMISSION_FACTORS!$A$7:$F$33,6,0)","v":803.65800000000002}]
["72133","AR","SRMV",{"$f":"VLOOKUP(C30762,EMISSION_FACTORS!$A$7:$F$33,6,0)","v":803.65800000000002}]
["72166","AR","SRMV",{"$f":"VLOOKUP(C30783,EMISSION_FACTORS!$A$7:$F$33,6,0)","v":803.65800000000002}]
["72201","AR","SRMV",{"$f":"VLOOKUP(C30800,EMISSION_FACTORS!$A$7:$F$33,6,0)","v":803.65800000000002}]
["72312","AR","SRMV",{"$f":"VLOOKUP(C30828,EMISSION_FACTORS!$A$7:$F$33,6,0)","v":803.65800000000002}]
["72333","AR","SRMV",{"$f":"VLOOKUP(C30845,EMISSION_FACTORS!$A$7:$F$33,6,0)","v":803.65800000000002}]
["72351","AR","SRMV",{"$f":"VLOOKUP(C30857,EMISSION_FACTORS!$A$7:$F$33,6,0)","v":803.65800000000002}]
["72370","AR","SRMV",{"$f":"VLOOKUP(C30871,EMISSION_FACTORS!$A$7:$F$33,6,0)","v":803.65800000000002}]
["72419","AR","SRMV",{"$f":"VLOOKUP(C30902,EMISSION_FACTORS!$A$7:$F$33,6,0)","v":803.65800000000002}]
["72429","AR","SRMV",{"$f":"VLOOKUP(C30910,EMISSION_FACTORS!$A$7:$F$33,6,0)","v":803.65800000000002}]
["72447","AR","SRMV",{"$f":"VLOOKUP(C30927,EMISSION_FACTORS!$A$7:$F$33,6,0)","v":803.65800000000002}]
["72482","AR","SRMV",{"$f":"VLOOKUP(C30955,EMISSION_FACTORS!$A$7:$F$33,6,0)","v":803.65800000000002}]
["72529","AR","SRMV",{"$f":"VLOOKUP(C30972,EMISSION_FACTORS!$A$7:$F$33,6,0)","v":803.65800000000002}]
["72565","AR","SRMV",{"$f":"VLOOKUP(C30997,EMISSION_FACTORS!$A$7:$F$33,6,0)","v":803.65800000000002}]
["72616","AR","SPSO",{"$f":"VLOOKUP(C31020,EMISSION_FACTORS!$A$7:$F$33,6,0)","v":975.25300000000004}]
["72648","AR","SPSO",{"$f":"VLOOKUP(C31042,EMISSION_FACTORS!$A$7:$F$33,6,0)","v":975.25300000000004}]
["72654","AR","SRMV",{"$f":"VLOOKUP(C31046,EMISSION_FACTORS!$A$7:$F$33,6,0)","v":803.65800000000002}]
["72703","AR","SPSO",{"$f":"VLOOKUP(C31071,EMISSION_FACTORS!$A$7:$F$33,6,0)","v":975.25300000000004}]
["72735","AR","SPSO",{"$f":"VLOOKUP(C31091,EMISSION_FACTORS!$A$7:$F$33,6,0)","v":975.25300000000004}]
["72769","AR","SPSO",{"$f":"VLOOKUP(C31116,EMISSION_FACTORS!$A$7:$F$33,6,0)","v":975.25300000000004}]
["72834","AR","SRMV",{"$f":"VLOOKUP(C31136,EMISSION_FACTORS!$A$7:$F$33,6,0)","v":803.65800000000002}]
["72840","AR","SRMV",{"$f":"VLOOKUP(C31141,EMISSION_FACTORS!$A$7:$F$33,6,0)","v":803.65800000000002}]
["72927","AR","SRMV",{"$f":"VLOOKUP(C31175,EMISSION_FACTORS!$A$7:$F$33,6,0)","v":803.65800000000002}]
["72941","AR","SRMV",{"$f":"VLOOKUP(C31186,EMISSION_FACTORS!$A$7:$F$33,6,0)","v":803.65800000000002}]
["73010","OK","SPSO",{"$f":"VLOOKUP(C31211,EMISSION_FACTORS!$A$7:$F$33,6,0)","v":975.25300000000004}]
["73026","OK","SPSO",{"$f":"VLOOKUP(C31227,EMISSION_FACTORS!$A$7:$F$33,6,0)","v":975.25300000000004}]
["73058","OK","SPSO",{"$f":"VLOOKUP(C31256,EMISSION_FACTORS!$A$7:$F$33,6,0)","v":975.25300000000004}]
["73069","OK","SPSO",{"$f":"VLOOKUP(C31266,EMISSION_FACTORS!$A$7:$F$33,6,0)","v":975.25300000000004}]
["73086","OK","SPSO",{"$f":"VLOOKUP(C31281,EMISSION_FACTORS!$A$7:$F$33,6,0)","v":975.25300000000004}]
["73121","OK","SPSO",{"$f":"VLOOKUP(C31311,EMISSION_FACTORS!$A$7:$F$33,6,0)","v":975.25300000000004}]
["73142","OK","SPSO",{"$f":"VLOOKUP(C31330,EMISSION_FACTORS!$A$7:$F$33,6,0)","v":975.25300000000004}]
["73149","OK","SPSO",{"$f":"VLOOKUP(C31337,EMISSION_FACTORS!$A$7:$F$33,6,0)","v":975.25300000000004}]
["73433","OK","SPSO",{"$f":"VLOOKUP(C31375,EMISSION_FACTORS!$A$7:$F$33,6,0)","v":975.25300000000004}]
["73440","OK","SPSO",{"$f":"VLOOKUP(C31382,EMISSION_FACTORS!$A$7:$F$33,6,0)","v":975.25300000000004}]
["73481","OK","SPSO",{"$f":"VLOOKUP(C31400,EMISSION_FACTORS!$A$7:$F$33,6,0)","v":975.25300000000004}]
["73538","OK","SPSO",{"$f":"VLOOKUP(C31425,EMISSION_FACTORS!$A$7:$F$33,6,0)","v":975.25300000000004}]
["73561","OK","SPSO",{"$f":"VLOOKUP(C31447,EMISSION_FACTORS!$A$7:$F$33,6,0)","v":975.25300000000004}]
["73641","OK","SPSO",{"$f":"VLOOKUP(C31470,EMISSION_FACTORS!$A$7:$F$33,6,0)","v":975.25300000000004}]
["73673","OK","SPSO",{"$f":"VLOOKUP(C31492,EMISSION_FACTORS!$A$7:$F$33,6,0)","v":975.25300000000004}]
["73703","OK","SPSO",{"$f":"VLOOKUP(C31495,EMISSION_FACTORS!$A$7:$F$33,6,0)","v":975.25300000000004}]
["73758","OK","SPSO",{"$f":"VLOOKUP(C31531,EMISSION_FACTORS!$A$7:$F$33,6,0)","v":975.25300000000004}]
["73770","OK","SPSO",{"$f":"VLOOKUP(C31540,EMISSION_FACTORS!$A$7:$F$33,6,0)","v":975.25300000000004}]
["73852","OK","SPSO",{"$f":"VLOOKUP(C31557,EMISSION_FACTORS!$A$7:$F$33,6,0)","v":975.25300000000004}]
["74012","OK","SPSO",{"$f":"VLOOKUP(C31589,EMISSION_FACTORS!$A$7:$F$33,6,0)","v":975.25300000000004}]
["74027","OK","SPSO",{"$f":"VLOOKUP(C31602,EMISSION_FACTORS!$A$7:$F$33,6,0)","v":975.25300000000004}]
["74039","OK","SPSO",{"$f":"VLOOKUP(C31614,EMISSION_FACTORS!$A$7:$F$33,6,0)","v":975.25300000000004}]
["74063","OK","SPSO",{"$f":"VLOOKUP(C31635,EMISSION_FACTORS!$A$7:$F$33,6,0)","v":975.25300000000004}]
["74116","OK","SPSO",{"$f":"VLOOKUP(C31667,EMISSION_FACTORS!$A$7:$F$33,6,0)","v":975.25300000000004}]
["74141","OK","SPSO",{"$f":"VLOOKUP(C31684,EMISSION_FACTORS!$A$7:$F$33,6,0)","v":975.25300000000004}]
["74155","OK","SPSO",{"$f":"VLOOKUP(C31693,EMISSION_FACTORS!$A$7:$F$33,6,0)","v":975.25300000000004}]
["74331","OK","SPSO",{"$f":"VLOOKUP(C31709,EMISSION_FACTORS!$A$7:$F$33,6,0)","v":975.25300000000004}]
["74362","OK","SPSO",{"$f":"VLOOKUP(C31732,EMISSION_FACTORS!$A$7:$F$33,6,0)","v":975.25300000000004}]
["74432","OK","SPSO",{"$f":"VLOOKUP(C31754,EMISSION_FACTORS!$A$7:$F$33,6,0)","v":975.25300000000004}]
["74460","OK","SPSO",{"$f":"VLOOKUP(C31777,EMISSION_FACTORS!$A$7:$F$33,6,0)","v":975.25300000000004}]
["74531","OK","SPSO",{"$f":"VLOOKUP(C31799,EMISSION_FACTORS!$A$7:$F$33,6,0)","v":975.25300000000004}]
["74563","OK","SPSO",{"$f":"VLOOKUP(C31822,EMISSION_FACTORS!$A$7:$F$33,6,0)","v":975.25300000000004}]
["74572","OK","SPSO",{"$f":"VLOOKUP(C31828,EMISSION_FACTORS!$A$7:$F$33,6,0)","v":975.25300000000004}]
["74650","OK","SPSO",{"$f":"VLOOKUP(C31848,EMISSION_FACTORS!$A$7:$F$33,6,0)","v":975.25300000000004}]
["74743","OK","SPSO",{"$f":"VLOOKUP(C31873,EMISSION_FACTORS!$A$7:$F$33,6,0)","v":975.25300000000004}]
["74824","OK","SPSO",{"$f":"VLOOKUP(C31894,EMISSION_FACTORS!$A$7:$F$33,6,0)","v":975.25300000000004}]
["74849","OK","SPSO",{"$f":"VLOOKUP(C31913,EMISSION_FACTORS!$A$7:$F$33,6,0)","v":975.25300000000004}]
["74864","OK","SPSO",{"$f":"VLOOKUP(C31923,EMISSION_FACTORS!$A$7:$F$33,6,0)","v":975.25300000000004}]
["74953","OK","SPSO",{"$f":"VLOOKUP(C31958,EMISSION_FACTORS!$A$7:$F$33,6,0)","v":975.25300000000004}]
["74965","OK","SPSO",{"$f":"VLOOKUP(C31968,EMISSION_FACTORS!$A$7:$F$33,6,0)","v":975.25300000000004}]
["75035","TX","ERCT",{"$f":"VLOOKUP(C31997,EMISSION_FACTORS!$A$7:$F$33,6,0)","v":774.298}]
["75051","TX","ERCT",{"$f":"VLOOKUP(C32013,EMISSION_FACTORS!$A$7:$F$33,6,0)","v":774.298}]
["75063","TX","ERCT",{"$f":"VLOOKUP(C32023,EMISSION_FACTORS!$A$7:$F$33,6,0)","v":774.298}]
["75106","TX","ERCT",{"$f":"VLOOKUP(C32058,EMISSION_FACTORS!$A$7:$F$33,6,0)","v":774.298}]
["75121","TX","ERCT",{"$f":"VLOOKUP(C32068,EMISSION_FACTORS!$A$7:$F$33,6,0)","v":774.298}]
["75149","TX","ERCT",{"$f":"VLOOKUP(C32087,EMISSION_FACTORS!$A$7:$F$33,6,0)","v":774.298}]
["75173","TX","ERCT",{"$f":"VLOOKUP(C32108,EMISSION_FACTORS!$A$7:$F$33,6,0)","v":774.298}]
["75220","TX","ERCT",{"$f":"VLOOKUP(C32133,EMISSION_FACTORS!$A$7:$F$33,6,0)","v":774.298}]
["75245","TX","ERCT",{"$f":"VLOOKUP(C32157,EMISSION_FACTORS!$A$7:$F$33,6,0)","v":774.298}]
["75247","TX","ERCT",{"$f":"VLOOKUP(C32159,EMISSION_FACTORS!$A$7:$F$33,6,0)","v":774.298}]
["75287","TX","ERCT",{"$f":"VLOOKUP(C32182,EMISSION_FACTORS!$A$7:$F$33,6,0)","v":774.298}]
["75359","TX","ERCT",{"$f":"VLOOKUP(C32204,EMISSION_FACTORS!$A$7:$F$33,6,0)","v":774.298}]
["75397","TX","ERCT",{"$f":"VLOOKUP(C32227,EMISSION_FACTORS!$A$7:$F$33,6,0)","v":774.298}]
["75418","TX","ERCT",{"$f":"VLOOKUP(C32243,EMISSION_FACTORS!$A$7:$F$33,6,0)","v":774.298}]
["75451","TX","SPSO",{"$f":"VLOOKUP(C32272,EMISSION_FACTORS!$A$7:$F$33,6,0)","v":975.25300000000004}]
["75472","TX","ERCT",{"$f":"VLOOKUP(C32288,EMISSION_FACTORS!$A$7:$F$33,6,0)","v":774.298}]
["75481","TX","ERCT",{"$f":"VLOOKUP(C32297,EMISSION_FACTORS!$A$7:$F$33,6,0)","v":774.298}]
["75556","TX","SPSO",{"$f":"VLOOKUP(C32322,EMISSION_FACTORS!$A$7:$F$33,6,0)","v":975.25300000000004}]
["75569","TX","SPSO",{"$f":"VLOOKUP(C32334,EMISSION_FACTORS!$A$7:$F$33,6,0)","v":975.25300000000004}]
["75653","TX","SPSO",{"$f":"VLOOKUP(C32367,EMISSION_FACTORS!$A$7:$F$33,6,0)","v":975.25300000000004}]
["75668","TX","SPSO",{"$f":"VLOOKUP(C32379,EMISSION_FACTORS!$A$7:$F$33,6,0)","v":975.25300000000004}]
["75693","TX","SPSO",{"$f":"VLOOKUP(C32396,EMISSION_FACTORS!$A$7:$F$33,6,0)","v":975.25300000000004}]
["75765","TX","SPSO",{"$f":"VLOOKUP(C32424,EMISSION_FACTORS!$A$7:$F$33,6,0)","v":975.25300000000004}]
["75792","TX","SPSO",{"$f":"VLOOKUP(C32441,EMISSION_FACTORS!$A$7:$F$33,6,0)","v":975.25300000000004}]
["75859","TX","ERCT",{"$f":"VLOOKUP(C32469,EMISSION_FACTORS!$A$7:$F$33,6,0)","v":774.298}]
["75929","TX","ERCT",{"$f":"VLOOKUP(C32486,EMISSION_FACTORS!$A$7:$F$33,6,0)","v":774.298}]
["75959","TX","ERCT",{"$f":"VLOOKUP(C32508,EMISSION_FACTORS!$A$7:$F$33,6,0)","v":774.298}]
["75962","TX","ERCT",{"$f":"VLOOKUP(C32511,EMISSION_FACTORS!$A$7:$F$33,6,0)","v":774.298}]
["76009","TX","ERCT",{"$f":"VLOOKUP(C32536,EMISSION_FACTORS!$A$7:$F$33,6,0)","v":774.298}]
["76043","TX","ERCT",{"$f":"VLOOKUP(C32560,EMISSION_FACTORS!$A$7:$F$33,6,0)","v":774.298}]
["76071","TX","ERCT",{"$f":"VLOOKUP(C32581,EMISSION_FACTORS!$A$7:$F$33,6,0)","v":774.298}]
["76101","TX","ERCT",{"$f":"VLOOKUP(C32599,EMISSION_FACTORS!$A$7:$F$33,6,0)","v":774.298}]
["76130","TX","ERCT",{"$f":"VLOOKUP(C32626,EMISSION_FACTORS!$A$7:$F$33,6,0)","v":774.298}]
["76177","TX","ERCT",{"$f":"VLOOKUP(C32644,EMISSION_FACTORS!$A$7:$F$33,6,0)","v":774.298}]
["76197","TX","ERCT",{"$f":"VLOOKUP(C32655,EMISSION_FACTORS!$A$7:$F$33,6,0)","v":774.298}]
["76227","TX","ERCT",{"$f":"VLOOKUP(C32670,EMISSION_FACTORS!$A$7:$F$33,6,0)","v":774.298}]
["76270","TX","ERCT",{"$f":"VLOOKUP(C32700,EMISSION_FACTORS!$A$7:$F$33,6,0)","v":774.298}]
["76354","TX","ERCT",{"$f":"VLOOKUP(C32715,EMISSION_FACTORS!$A$7:$F$33,6,0)","v":774.298}]
["76371","TX","ERCT",{"$f":"VLOOKUP(C32725,EMISSION_FACTORS!$A$7:$F$33,6,0)","v":774.298}]
["76442","TX","ERCT",{"$f":"VLOOKUP(C32750,EMISSION_FACTORS!$A$7:$F$33,6,0)","v":774.298}]
["76476","TX","ERCT",{"$f":"VLOOKUP(C32780,EMISSION_FACTORS!$A$7:$F$33,6,0)","v":774.298}]
["76511","TX","ERCT",{"$f":"VLOOKUP(C32795,EMISSION_FACTORS!$A$7:$F$33,6,0)","v":774.298}]
["76547","TX","ERCT",{"$f":"VLOOKUP(C32819,EMISSION_FACTORS!$A$7:$F$33,6,0)","v":774.298}]
["76579","TX","ERCT",{"$f":"VLOOKUP(C32840,EMISSION_FACTORS!$A$7:$F$33,6,0)","v":774.298}]
["76621","TX","ERCT",{"$f":"VLOOKUP(C32845,EMISSION_FACTORS!$A$7:$F$33,6,0)","v":774.298}]
["76642","TX","ERCT",{"$f":"VLOOKUP(C32865,EMISSION_FACTORS!$A$7:$F$33,6,0)","v":774.298}]
["76679","TX","ERCT",{"$f":"VLOOKUP(C32890,EMISSION_FACTORS!$A$7:$F$33,6,0)","v":774.298}]
["76714","TX","ERCT",{"$f":"VLOOKUP(C32914,EMISSION_FACTORS!$A$7:$F$33,6,0)","v":774.298}]
["76837","TX","ERCT",{"$f":"VLOOKUP(C32935,EMISSION_FACTORS!$A$7:$F$33,6,0)","v":774.298}]
["76845","TX","ERCT",{"$f":"VLOOKUP(C32939,EMISSION_FACTORS!$A$7:$F$33,6,0)","v":774.298}]
["76874","TX","ERCT",{"$f":"VLOOKUP(C32960,EMISSION_FACTORS!$A$7:$F$33,6,0)","v":774.298}]
["76930","TX","ERCT",{"$f":"VLOOKUP(C32981,EMISSION_FACTORS!$A$7:$F$33,6,0)","v":774.298}]
["77010","TX","ERCT",{"$f":"VLOOKUP(C33009,EMISSION_FACTORS!$A$7:$F$33,6,0)","v":774.298}]
["77027","TX","ERCT",{"$f":"VLOOKUP(C33026,EMISSION_FACTORS!$A$7:$F$33,6,0)","v":774.298}]
["77055","TX","ERCT",{"$f":"VLOOKUP(C33054,EMISSION_FACTORS!$A$7:$F$33,6,0)","v":774.298}]
["77066","TX","ERCT",{"$f":"VLOOKUP(C33065,EMISSION_FACTORS!$A$7:$F$33,6,0)","v":774.298}]
["77080","TX","ERCT",{"$f":"VLOOKUP(C33079,EMISSION_FACTORS!$A$7:$F$33,6,0)","v":774.298}]
["77215","TX","ERCT",{"$f":"VLOOKUP(C33110,EMISSION_FACTORS!$A$7:$F$33,6,0)","v":774.298}]
["77229","TX","ERCT",{"$f":"VLOOKUP(C33124,EMISSION_FACTORS!$A$7:$F$33,6,0)","v":774.298}]
["77243","TX","ERCT",{"$f":"VLOOKUP(C33136,EMISSION_FACTORS!$A$7:$F$33,6,0)","v":774.298}]
["77282","TX","ERCT",{"$f":"VLOOKUP(C33173,EMISSION_FACTORS!$A$7:$F$33,6,0)","v":774.298}]
["77284","TX","ERCT",{"$f":"VLOOKUP(C33174,EMISSION_FACTORS!$A$7:$F$33,6,0)","v":774.298}]
["77328","TX","SRMV",{"$f":"VLOOKUP(C33201,EMISSION_FACTORS!$A$7:$F$33,6,0)","v":803.65800000000002}]
["77353","TX","SRMV",{"$f":"VLOOKUP(C33223,EMISSION_FACTORS!$A$7:$F$33,6,0)","v":803.65800000000002}]
["77379","TX","ERCT",{"$f":"VLOOKUP(C33246,EMISSION_FACTORS!$A$7:$F$33,6,0)","v":774.298}]
["77412","TX","ERCT",{"$f":"VLOOKUP(C33268,EMISSION_FACTORS!$A$7:$F$33,6,0)","v":774.298}]
["77417","TX","ERCT",{"$f":"VLOOKUP(C33272,EMISSION_FACTORS!$A$7:$F$33,6,0)","v":774.298}]
["77444","TX","ERCT",{"$f":"VLOOKUP(C33293,EMISSION_FACTORS!$A$7:$F$33,6,0)","v":774.298}]
["77463","TX","ERCT",{"$f":"VLOOKUP(C33311,EMISSION_FACTORS!$A$7:$F$33,6,0)","v":774.298}]
["77492","TX","ERCT",{"$f":"VLOOKUP(C33338,EMISSION_FACTORS!$A$7:$F$33,6,0)","v":774.298}]
["77515","TX","ERCT",{"$f":"VLOOKUP(C33356,EMISSION_FACTORS!$A$7:$F$33,6,0)","v":774.298}]
["77553","TX","ERCT",{"$f":"VLOOKUP(C33383,EMISSION_FACTORS!$A$7:$F$33,6,0)","v":774.298}]
["77587","TX","ERCT",{"$f":"VLOOKUP(C33408,EMISSION_FACTORS!$A$7:$F$33,6,0)","v":774.298}]
["77617","TX","SRMV",{"$f":"VLOOKUP(C33421,EMISSION_FACTORS!$A$7:$F$33,6,0)","v":803.65800000000002}]
["77639","TX","SRMV",{"$f":"VLOOKUP(C33433,EMISSION_FACTORS!$A$7:$F$33,6,0)","v":803.65800000000002}]
["77802","TX","ERCT",{"$f":"VLOOKUP(C33466,EMISSION_FACTORS!$A$7:$F$33,6,0)","v":774.298}]
["77842","TX","ERCT",{"$f":"VLOOKUP(C33482,EMISSION_FACTORS!$A$7:$F$33,6,0)","v":774.298}]
["77859","TX","ERCT",{"$f":"VLOOKUP(C33492,EMISSION_FACTORS!$A$7:$F$33,6,0)","v":774.298}]
["77878","TX","ERCT",{"$f":"VLOOKUP(C33507,EMISSION_FACTORS!$A$7:$F$33,6,0)","v":774.298}]
["77979","TX","ERCT",{"$f":"VLOOKUP(C33537,EMISSION_FACTORS!$A$7:$F$33,6,0)","v":774.298}]
["78003","TX","ERCT",{"$f":"VLOOKUP(C33552,EMISSION_FACTORS!$A$7:$F$33,6,0)","v":774.298}]
["78029","TX","ERCT",{"$f":"VLOOKUP(C33576,EMISSION_FACTORS!$A$7:$F$33,6,0)","v":774.298}]
["78063","TX","ERCT",{"$f":"VLOOKUP(C33597,EMISSION_FACTORS!$A$7:$F$33,6,0)","v":774.298}]
["78117","TX","ERCT",{"$f":"VLOOKUP(C33622,EMISSION_FACTORS!$A$7:$F$33,6,0)","v":774.298}]
["78124","TX","ERCT",{"$f":"VLOOKUP(C33628,EMISSION_FACTORS!$A$7:$F$33,6,0)","v":774.298}]
["78154","TX","ERCT",{"$f":"VLOOKUP(C33647,EMISSION_FACTORS!$A$7:$F$33,6,0)","v":774.298}]
["78212","TX","ERCT",{"$f":"VLOOKUP(C33667,EMISSION_FACTORS!$A$7:$F$33,6,0)","v":774.298}]
["78237","TX","ERCT",{"$f":"VLOOKUP(C33692,EMISSION_FACTORS!$A$7:$F$33,6,0)","v":774.298}]
["78257","TX","ERCT",{"$f":"VLOOKUP(C33712,EMISSION_FACTORS!$A$7:$F$33,6,0)","v":774.298}]
["78268","TX","ERCT",{"$f":"VLOOKUP(C33721,EMISSION_FACTORS!$A$7:$F$33,6,0)","v":774.298}]
["78351","TX","ERCT",{"$f":"VLOOKUP(C33757,EMISSION_FACTORS!$A$7:$F$33,6,0)","v":774.298}]
["78362","TX","ERCT",{"$f":"VLOOKUP(C33766,EMISSION_FACTORS!$A$7:$F$33,6,0)","v":774.298}]
["78383","TX","ERCT",{"$f":"VLOOKUP(C33783,EMISSION_FACTORS!$A$7:$F$33,6,0)","v":774.298}]
["78427","TX","ERCT",{"$f":"VLOOKUP(C33811,EMISSION_FACTORS!$A$7:$F$33,6,0)","v":774.298}]
["78473","TX","ERCT",{"$f":"VLOOKUP(C33822,EMISSION_FACTORS!$A$7:$F$33,6,0)","v":774.298}]
["78553","TX","ERCT",{"$f":"VLOOKUP(C33856,EMISSION_FACTORS!$A$7:$F$33,6,0)","v":774.298}]
["78561","TX","ERCT",{"$f":"VLOOKUP(C33861,EMISSION_FACTORS!$A$7:$F$33,6,0)","v":774.298}]
["78590","TX","ERCT",{"$f":"VLOOKUP(C33887,EMISSION_FACTORS!$A$7:$F$33,6,0)","v":774.298}]
["78612","TX","ERCT",{"$f":"VLOOKUP(C33906,EMISSION_FACTORS!$A$7:$F$33,6,0)","v":774.298}]
["78640","TX","ERCT",{"$f":"VLOOKUP(C33932,EMISSION_FACTORS!$A$7:$F$33,6,0)","v":774.298}]
["78661","TX","ERCT",{"$f":"VLOOKUP(C33951,EMISSION_FACTORS!$A$7:$F$33,6,0)","v":774.298}]
["78669","TX","ERCT",{"$f":"VLOOKUP(C33958,EMISSION_FACTORS!$A$7:$F$33,6,0)","v":774.298}]
["78711","TX","ERCT",{"$f":"VLOOKUP(C33980,EMISSION_FACTORS!$A$7:$F$33,6,0)","v":774.298}]
["78734","TX","ERCT",{"$f":"VLOOKUP(C34003,EMISSION_FACTORS!$A$7:$F$33,6,0)","v":774.298}]
["78758","TX","ERCT",{"$f":"VLOOKUP(C34025,EMISSION_FACTORS!$A$7:$F$33,6,0)","v":774.298}]
["78801","TX","ERCT",{"$f":"VLOOKUP(C34048,EMISSION_FACTORS!$A$7:$F$33,6,0)","v":774.298}]
["78860","TX","ERCT",{"$f":"VLOOKUP(C34070,EMISSION_FACTORS!$A$7:$F$33,6,0)","v":774.298}]
["78873","TX","ERCT",{"$f":"VLOOKUP(C34075,EMISSION_FACTORS!$A$7:$F$33,6,0)","v":774.298}]
["78944","TX","ERCT",{"$f":"VLOOKUP(C34094,EMISSION_FACTORS!$A$7:$F$33,6,0)","v":774.298}]
["79011","TX","SPSO",{"$f":"VLOOKUP(C34120,EMISSION_FACTORS!$A$7:$F$33,6,0)","v":975.25300000000004}]
["79029","TX","SPSO",{"$f":"VLOOKUP(C34133,EMISSION_FACTORS!$A$7:$F$33,6,0)","v":975.25300000000004}]
["79073","TX","SPSO",{"$f":"VLOOKUP(C34165,EMISSION_FACTORS!$A$7:$F$33,6,0)","v":975.25300000000004}]
["79091","TX","SPSO",{"$f":"VLOOKUP(C34178,EMISSION_FACTORS!$A$7:$F$33,6,0)","v":975.25300000000004}]
["79105","TX","SPSO",{"$f":"VLOOKUP(C34190,EMISSION_FACTORS!$A$7:$F$33,6,0)","v":975.25300000000004}]
["79233","TX","ERCT",{"$f":"VLOOKUP(C34223,EMISSION_FACTORS!$A$7:$F$33,6,0)","v":774.298}]
["79255","TX","ERCT",{"$f":"VLOOKUP(C34239,EMISSION_FACTORS!$A$7:$F$33,6,0)","v":774.298}]
["79316","TX","SPSO",{"$f":"VLOOKUP(C34249,EMISSION_FACTORS!$A$7:$F$33,6,0)","v":975.25300000000004}]
["79373","TX","ERCT",{"$f":"VLOOKUP(C34284,EMISSION_FACTORS!$A$7:$F$33,6,0)","v":774.298}]
["79414","TX","ERCT",{"$f":"VLOOKUP(C34305,EMISSION_FACTORS!$A$7:$F$33,6,0)","v":774.298}]
["79464","TX","ERCT",{"$f":"VLOOKUP(C34314,EMISSION_FACTORS!$A$7:$F$33,6,0)","v":774.298}]
["79521","TX","ERCT",{"$f":"VLOOKUP(C34334,EMISSION_FACTORS!$A$7:$F$33,6,0)","v":774.298}]
["79553","TX","ERCT",{"$f":"VLOOKUP(C34359,EMISSION_FACTORS!$A$7:$F$33,6,0)","v":774.298}]
["79701","TX","ERCT",{"$f":"VLOOKUP(C34379,EMISSION_FACTORS!$A$7:$F$33,6,0)","v":774.298}]
["79733","TX","ERCT",{"$f":"VLOOKUP(C34398,EMISSION_FACTORS!$A$7:$F$33,6,0)","v":774.298}]
["79768","TX","ERCT",{"$f":"VLOOKUP(C34424,EMISSION_FACTORS!$A$7:$F$33,6,0)","v":774.298}]
["79834","TX","ERCT",{"$f":"VLOOKUP(C34443,EMISSION_FACTORS!$A$7:$F$33,6,0)","v":774.298}]
["79842","TX","ERCT",{"$f":"VLOOKUP(C34449,EMISSION_FACTORS!$A$7:$F$33,6,0)","v":774.298}]
["79910","TX","AZNM",{"$f":"VLOOKUP(C34469,EMISSION_FACTORS!$A$7:$F$33,6,0)","v":779.38199999999995}]
["79943","TX","AZNM",{"$f":"VLOOKUP(C34498,EMISSION_FACTORS!$A$7:$F$33,6,0)","v":779.38199999999995}]
["79995","TX","AZNM",{"$f":"VLOOKUP(C34519,EMISSION_FACTORS!$A$7:$F$33,6,0)","v":779.38199999999995}]
["80013","CO","RMPA",{"$f":"VLOOKUP(C34534,EMISSION_FACTORS!$A$7:$F$33,6,0)","v":1131.7329999999999}]
["80027","CO","RMPA",{"$f":"VLOOKUP(C34548,EMISSION_FACTORS!$A$7:$F$33,6,0)","v":1131.7329999999999}]
["80118","CO","RMPA",{"$f":"VLOOKUP(C34579,EMISSION_FACTORS!$A$7:$F$33,6,0)","v":1131.7329999999999}]
["80133","CO","RMPA",{"$f":"VLOOKUP(C34593,EMISSION_FACTORS!$A$7:$F$33,6,0)","v":1131.7329999999999}]
["80163","CO","RMPA",{"$f":"VLOOKUP(C34605,EMISSION_FACTORS!$A$7:$F$33,6,0)","v":1131.7329999999999}]
["80232","CO","RMPA",{"$f":"VLOOKUP(C34638,EMISSION_FACTORS!$A$7:$F$33,6,0)","v":1131.7329999999999}]
["80238","CO","RMPA",{"$f":"VLOOKUP(C34644,EMISSION_FACTORS!$A$7:$F$33,6,0)","v":1131.7329999999999}]
["80264","CO","RMPA",{"$f":"VLOOKUP(C34663,EMISSION_FACTORS!$A$7:$F$33,6,0)","v":1131.7329999999999}]
["80321","CO","RMPA",{"$f":"VLOOKUP(C34689,EMISSION_FACTORS!$A$7:$F$33,6,0)","v":1131.7329999999999}]
["80430","CO","RMPA",{"$f":"VLOOKUP(C34708,EMISSION_FACTORS!$A$7:$F$33,6,0)","v":1131.7329999999999}]
["80461","CO","RMPA",{"$f":"VLOOKUP(C34733,EMISSION_FACTORS!$A$7:$F$33,6,0)","v":1131.7329999999999}]
["80488","CO","RMPA",{"$f":"VLOOKUP(C34754,EMISSION_FACTORS!$A$7:$F$33,6,0)","v":1131.7329999999999}]
["80502","CO","RMPA",{"$f":"VLOOKUP(C34758,EMISSION_FACTORS!$A$7:$F$33,6,0)","v":1131.7329999999999}]
["80533","CO","RMPA",{"$f":"VLOOKUP(C34780,EMISSION_FACTORS!$A$7:$F$33,6,0)","v":1131.7329999999999}]
["80620","CO","RMPA",{"$f":"VLOOKUP(C34807,EMISSION_FACTORS!$A$7:$F$33,6,0)","v":1131.7329999999999}]
["80649","CO","RMPA",{"$f":"VLOOKUP(C34825,EMISSION_FACTORS!$A$7:$F$33,6,0)","v":1131.7329999999999}]
["80744","CO","RMPA",{"$f":"VLOOKUP(C34852,EMISSION_FACTORS!$A$7:$F$33,6,0)","v":1131.7329999999999}]
["80809","CO","RMPA",{"$f":"VLOOKUP(C34870,EMISSION_FACTORS!$A$7:$F$33,6,0)","v":1131.7329999999999}]
["80817","CO","RMPA",{"$f":"VLOOKUP(C34877,EMISSION_FACTORS!$A$7:$F$33,6,0)","v":1131.7329999999999}]
["80905","CO","RMPA",{"$f":"VLOOKUP(C34909,EMISSION_FACTORS!$A$7:$F$33,6,0)","v":1131.7329999999999}]
["80918","CO","RMPA",{"$f":"VLOOKUP(C34922,EMISSION_FACTORS!$A$7:$F$33,6,0)","v":1131.7329999999999}]
["80944","CO","RMPA",{"$f":"VLOOKUP(C34947,EMISSION_FACTORS!$A$7:$F$33,6,0)","v":1131.7329999999999}]
["80962","CO","RMPA",{"$f":"VLOOKUP(C34955,EMISSION_FACTORS!$A$7:$F$33,6,0)","v":1131.7329999999999}]
["81019","CO","RMPA",{"$f":"VLOOKUP(C34972,EMISSION_FACTORS!$A$7:$F$33,6,0)","v":1131.7329999999999}]
["81058","CO","RMPA",{"$f":"VLOOKUP(C35000,EMISSION_FACTORS!$A$7:$F$33,6,0)","v":1131.7329999999999}]
["81091","CO","RMPA",{"$f":"VLOOKUP(C35017,EMISSION_FACTORS!$A$7:$F$33,6,0)","v":1131.7329999999999}]
["81148","CO","RMPA",{"$f":"VLOOKUP(C35045,EMISSION_FACTORS!$A$7:$F$33,6,0)","v":1131.7329999999999}]
["81230","CO","RMPA",{"$f":"VLOOKUP(C35066,EMISSION_FACTORS!$A$7:$F$33,6,0)","v":1131.7329999999999}]
["81236","CO","RMPA",{"$f":"VLOOKUP(C35071,EMISSION_FACTORS!$A$7:$F$33,6,0)","v":1131.7329999999999}]
["81324","CO","RMPA",{"$f":"VLOOKUP(C35091,EMISSION_FACTORS!$A$7:$F$33,6,0)","v":1131.7329999999999}]
["81424","CO","RMPA",{"$f":"VLOOKUP(C35116,EMISSION_FACTORS!$A$7:$F$33,6,0)","v":1131.7329999999999}]
["81521","CO","RMPA",{"$f":"VLOOKUP(C35136,EMISSION_FACTORS!$A$7:$F$33,6,0)","v":1131.7329999999999}]
["81637","CO","RMPA",{"$f":"VLOOKUP(C35161,EMISSION_FACTORS!$A$7:$F$33,6,0)","v":1131.7329999999999}]
["82001","WY","RMPA",{"$f":"VLOOKUP(C35181,EMISSION_FACTORS!$A$7:$F$33,6,0)","v":1131.7329999999999}]
["82082","WY","RMPA",{"$f":"VLOOKUP(C35206,EMISSION_FACTORS!$A$7:$F$33,6,0)","v":1131.7329999999999}]
["82222","WY","RMPA",{"$f":"VLOOKUP(C35220,EMISSION_FACTORS!$A$7:$F$33,6,0)","v":1131.7329999999999}]
["82310","WY","RMPA",{"$f":"VLOOKUP(C35231,EMISSION_FACTORS!$A$7:$F$33,6,0)","v":1131.7329999999999}]
["82411","WY","NWPP",{"$f":"VLOOKUP(C35246,EMISSION_FACTORS!$A$7:$F$33,6,0)","v":605.87199999999996}]
["82601","WY","RMPA",{"$f":"VLOOKUP(C35276,EMISSION_FACTORS!$A$7:$F$33,6,0)","v":1131.7329999999999}]
["82642","WY","RMPA",{"$f":"VLOOKUP(C35291,EMISSION_FACTORS!$A$7:$F$33,6,0)","v":1131.7329999999999}]
["82718","WY","NWPP",{"$f":"VLOOKUP(C35305,EMISSION_FACTORS!$A$7:$F$33,6,0)","v":605.87199999999996}]
["82931","WY","RMPA",{"$f":"VLOOKUP(C35336,EMISSION_FACTORS!$A$7:$F$33,6,0)","v":1131.7329999999999}]
["83001","WY","RMPA",{"$f":"VLOOKUP(C35350,EMISSION_FACTORS!$A$7:$F$33,6,0)","v":1131.7329999999999}]
["83124","WY","NWPP",{"$f":"VLOOKUP(C35371,EMISSION_FACTORS!$A$7:$F$33,6,0)","v":605.87199999999996}]
["83235","ID","NWPP",{"$f":"VLOOKUP(C35401,EMISSION_FACTORS!$A$7:$F$33,6,0)","v":605.87199999999996}]
["83263","ID","NWPP",{"$f":"VLOOKUP(C35420,EMISSION_FACTORS!$A$7:$F$33,6,0)","v":605.87199999999996}]
["83281","ID","NWPP",{"$f":"VLOOKUP(C35427,EMISSION_FACTORS!$A$7:$F$33,6,0)","v":605.87199999999996}]
["83324","ID","NWPP",{"$f":"VLOOKUP(C35445,EMISSION_FACTORS!$A$7:$F$33,6,0)","v":605.87199999999996}]
["83350","ID","NWPP",{"$f":"VLOOKUP(C35466,EMISSION_FACTORS!$A$7:$F$33,6,0)","v":605.87199999999996}]
["83434","ID","NWPP",{"$f":"VLOOKUP(C35490,EMISSION_FACTORS!$A$7:$F$33,6,0)","v":605.87199999999996}]
["83464","ID","NWPP",{"$f":"VLOOKUP(C35511,EMISSION_FACTORS!$A$7:$F$33,6,0)","v":605.87199999999996}]
["83544","ID","NWPP",{"$f":"VLOOKUP(C35535,EMISSION_FACTORS!$A$7:$F$33,6,0)","v":605.87199999999996}]
["83617","ID","NWPP",{"$f":"VLOOKUP(C35556,EMISSION_FACTORS!$A$7:$F$33,6,0)","v":605.87199999999996}]
["83629","ID","NWPP",{"$f":"VLOOKUP(C35564,EMISSION_FACTORS!$A$7:$F$33,6,0)","v":605.87199999999996}]
["83648","ID","NWPP",{"$f":"VLOOKUP(C35582,EMISSION_FACTORS!$A$7:$F$33,6,0)","v":605.87199999999996}]
["83707","ID","NWPP",{"$f":"VLOOKUP(C35609,EMISSION_FACTORS!$A$7:$F$33,6,0)","v":605.87199999999996}]
["83803","ID","NWPP",{"$f":"VLOOKUP(C35634,EMISSION_FACTORS!$A$7:$F$33,6,0)","v":605.87199999999996}]
["83821","ID","NWPP",{"$f":"VLOOKUP(C35647,EMISSION_FACTORS!$A$7:$F$33,6,0)","v":605.87199999999996}]
["83836","ID","NWPP",{"$f":"VLOOKUP(C35659,EMISSION_FACTORS!$A$7:$F$33,6,0)","v":605.87199999999996}]
["83873","ID","NWPP",{"$f":"VLOOKUP(C35692,EMISSION_FACTORS!$A$7:$F$33,6,0)","v":605.87199999999996}]
["84009","UT","NWPP",{"$f":"VLOOKUP(C35704,EMISSION_FACTORS!$A$7:$F$33,6,0)","v":605.87199999999996}]
["84039","UT","NWPP",{"$f":"VLOOKUP(C35731,EMISSION_FACTORS!$A$7:$F$33,6,0)","v":605.87199999999996}]
["84058","UT","NWPP",{"$f":"VLOOKUP(C35749,EMISSION_FACTORS!$A$7:$F$33,6,0)","v":605.87199999999996}]
["84066","UT","NWPP",{"$f":"VLOOKUP(C35757,EMISSION_FACTORS!$A$7:$F$33,6,0)","v":605.87199999999996}]
["84084","UT","NWPP",{"$f":"VLOOKUP(C35774,EMISSION_FACTORS!$A$7:$F$33,6,0)","v":605.87199999999996}]
["84114","UT","NWPP",{"$f":"VLOOKUP(C35802,EMISSION_FACTORS!$A$7:$F$33,6,0)","v":605.87199999999996}]
["84136","UT","NWPP",{"$f":"VLOOKUP(C35823,EMISSION_FACTORS!$A$7:$F$33,6,0)","v":605.87199999999996}]
["84199","UT","NWPP",{"$f":"VLOOKUP(C35844,EMISSION_FACTORS!$A$7:$F$33,6,0)","v":605.87199999999996}]
["84322","UT","NWPP",{"$f":"VLOOKUP(C35867,EMISSION_FACTORS!$A$7:$F$33,6,0)","v":605.87199999999996}]
["84328","UT","NWPP",{"$f":"VLOOKUP(C35873,EMISSION_FACTORS!$A$7:$F$33,6,0)","v":605.87199999999996}]
["84408","UT","NWPP",{"$f":"VLOOKUP(C35893,EMISSION_FACTORS!$A$7:$F$33,6,0)","v":605.87199999999996}]
["84534","UT","RMPA",{"$f":"VLOOKUP(C35918,EMISSION_FACTORS!$A$7:$F$33,6,0)","v":1131.7329999999999}]
["84628","UT","NWPP",{"$f":"VLOOKUP(C35938,EMISSION_FACTORS!$A$7:$F$33,6,0)","v":605.87199999999996}]
["84655","UT","NWPP",{"$f":"VLOOKUP(C35963,EMISSION_FACTORS!$A$7:$F$33,6,0)","v":605.87199999999996}]
["84714","UT","NWPP",{"$f":"VLOOKUP(C35977,EMISSION_FACTORS!$A$7:$F$33,6,0)","v":605.87199999999996}]
["84726","UT","NWPP",{"$f":"VLOOKUP(C35988,EMISSION_FACTORS!$A$7:$F$33,6,0)","v":605.87199999999996}]
["84762","UT","NWPP",{"$f":"VLOOKUP(C36022,EMISSION_FACTORS!$A$7:$F$33,6,0)","v":605.87199999999996}]
["84775","UT","NWPP",{"$f":"VLOOKUP(C36033,EMISSION_FACTORS!$A$7:$F$33,6,0)","v":605.87199999999996}]
["85016","AZ","AZNM",{"$f":"VLOOKUP(C36058,EMISSION_FACTORS!$A$7:$F$33,6,0)","v":779.38199999999995}]
["85026","AZ","AZNM",{"$f":"VLOOKUP(C36068,EMISSION_FACTORS!$A$7:$F$33,6,0)","v":779.38199999999995}]
["85068","AZ","AZNM",{"$f":"VLOOKUP(C36103,EMISSION_FACTORS!$A$7:$F$33,6,0)","v":779.38199999999995}]
["85079","AZ","AZNM",{"$f":"VLOOKUP(C36113,EMISSION_FACTORS!$A$7:$F$33,6,0)","v":779.38199999999995}]
["85130","AZ","AZNM",{"$f":"VLOOKUP(C36132,EMISSION_FACTORS!$A$7:$F$33,6,0)","v":779.38199999999995}]
["85206","AZ","AZNM",{"$f":"VLOOKUP(C36158,EMISSION_FACTORS!$A$7:$F$33,6,0)","v":779.38199999999995}]
["85225","AZ","AZNM",{"$f":"VLOOKUP(C36177,EMISSION_FACTORS!$A$7:$F$33,6,0)","v":779.38199999999995}]
["85233","AZ","AZNM",{"$f":"VLOOKUP(C36184,EMISSION_FACTORS!$A$7:$F$33,6,0)","v":779.38199999999995}]
["85273","AZ","AZNM",{"$f":"VLOOKUP(C36222,EMISSION_FACTORS!$A$7:$F$33,6,0)","v":779.38199999999995}]
["85274","AZ","AZNM",{"$f":"VLOOKUP(C36223,EMISSION_FACTORS!$A$7:$F$33,6,0)","v":779.38199999999995}]
["85303","AZ","AZNM",{"$f":"VLOOKUP(C36247,EMISSION_FACTORS!$A$7:$F$33,6,0)","v":779.38199999999995}]
["85335","AZ","AZNM",{"$f":"VLOOKUP(C36272,EMISSION_FACTORS!$A$7:$F$33,6,0)","v":779.38199999999995}]
["85351","AZ","AZNM",{"$f":"VLOOKUP(C36288,EMISSION_FACTORS!$A$7:$F$33,6,0)","v":779.38199999999995}]
["85382","AZ","AZNM",{"$f":"VLOOKUP(C36317,EMISSION_FACTORS!$A$7:$F$33,6,0)","v":779.38199999999995}]
["85535","AZ","AZNM",{"$f":"VLOOKUP(C36333,EMISSION_FACTORS!$A$7:$F$33,6,0)","v":779.38199999999995}]
["85546","AZ","AZNM",{"$f":"VLOOKUP(C36342,EMISSION_FACTORS!$A$7:$F$33,6,0)","v":779.38199999999995}]
["85631","AZ","AZNM",{"$f":"VLOOKUP(C36378,EMISSION_FACTORS!$A$7:$F$33,6,0)","v":779.38199999999995}]
["85645","AZ","AZNM",{"$f":"VLOOKUP(C36391,EMISSION_FACTORS!$A$7:$F$33,6,0)","v":779.38199999999995}]
["85702","AZ","AZNM",{"$f":"VLOOKUP(C36404,EMISSION_FACTORS!$A$7:$F$33,6,0)","v":779.38199999999995}]
["85736","AZ","AZNM",{"$f":"VLOOKUP(C36436,EMISSION_FACTORS!$A$7:$F$33,6,0)","v":779.38199999999995}]
["85749","AZ","AZNM",{"$f":"VLOOKUP(C36449,EMISSION_FACTORS!$A$7:$F$33,6,0)","v":779.38199999999995}]
["85912","AZ","AZNM",{"$f":"VLOOKUP(C36461,EMISSION_FACTORS!$A$7:$F$33,6,0)","v":779.38199999999995}]
["86003","AZ","AZNM",{"$f":"VLOOKUP(C36486,EMISSION_FACTORS!$A$7:$F$33,6,0)","v":779.38199999999995}]
["86044","AZ","AZNM",{"$f":"VLOOKUP(C36514,EMISSION_FACTORS!$A$7:$F$33,6,0)","v":779.38199999999995}]
["86321","AZ","AZNM",{"$f":"VLOOKUP(C36531,EMISSION_FACTORS!$A$7:$F$33,6,0)","v":779.38199999999995}]
["86401","AZ","AZNM",{"$f":"VLOOKUP(C36553,EMISSION_FACTORS!$A$7:$F$33,6,0)","v":779.38199999999995}]
["86404","AZ","AZNM",{"$f":"VLOOKUP(C36556,EMISSION_FACTORS!$A$7:$F$33,6,0)","v":779.38199999999995}]
["86443","AZ","AZNM",{"$f":"VLOOKUP(C36579,EMISSION_FACTORS!$A$7:$F$33,6,0)","v":779.38199999999995}]
["86547","AZ","NWPP",{"$f":"VLOOKUP(C36601,EMISSION_FACTORS!$A$7:$F$33,6,0)","v":605.87199999999996}]
["87023","NM","AZNM",{"$f":"VLOOKUP(C36624,EMISSION_FACTORS!$A$7:$F$33,6,0)","v":779.38199999999995}]
["87053","NM","AZNM",{"$f":"VLOOKUP(C36650,EMISSION_FACTORS!$A$7:$F$33,6,0)","v":779.38199999999995}]
["87108","NM","AZNM",{"$f":"VLOOKUP(C36669,EMISSION_FACTORS!$A$7:$F$33,6,0)","v":779.38199999999995}]
["87114","NM","AZNM",{"$f":"VLOOKUP(C36675,EMISSION_FACTORS!$A$7:$F$33,6,0)","v":779.38199999999995}]
["87192","NM","AZNM",{"$f":"VLOOKUP(C36700,EMISSION_FACTORS!$A$7:$F$33,6,0)","v":779.38199999999995}]
["87315","NM","AZNM",{"$f":"VLOOKUP(C36715,EMISSION_FACTORS!$A$7:$F$33,6,0)","v":779.38199999999995}]
["87461","NM","NWPP",{"$f":"VLOOKUP(C36745,EMISSION_FACTORS!$A$7:$F$33,6,0)","v":605.87199999999996}]
["87514","NM","AZNM",{"$f":"VLOOKUP(C36760,EMISSION_FACTORS!$A$7:$F$33,6,0)","v":779.38199999999995}]
["87524","NM","AZNM",{"$f":"VLOOKUP(C36770,EMISSION_FACTORS!$A$7:$F$33,6,0)","v":779.38199999999995}]
["87564","NM","AZNM",{"$f":"VLOOKUP(C36799,EMISSION_FACTORS!$A$7:$F$33,6,0)","v":779.38199999999995}]
["87583","NM","AZNM",{"$f":"VLOOKUP(C36815,EMISSION_FACTORS!$A$7:$F$33,6,0)","v":779.38199999999995}]
["87749","NM","AZNM",{"$f":"VLOOKUP(C36844,EMISSION_FACTORS!$A$7:$F$33,6,0)","v":779.38199999999995}]
["87901","NM","AZNM",{"$f":"VLOOKUP(C36860,EMISSION_FACTORS!$A$7:$F$33,6,0)","v":779.38199999999995}]
["87942","NM","AZNM",{"$f":"VLOOKUP(C36870,EMISSION_FACTORS!$A$7:$F$33,6,0)","v":779.38199999999995}]
["88025","NM","AZNM",{"$f":"VLOOKUP(C36889,EMISSION_FACTORS!$A$7:$F$33,6,0)","v":779.38199999999995}]
["88048","NM","AZNM",{"$f":"VLOOKUP(C36910,EMISSION_FACTORS!$A$7:$F$33,6,0)","v":779.38199999999995}]
["88120","NM","SPSO",{"$f":"VLOOKUP(C36935,EMISSION_FACTORS!$A$7:$F$33,6,0)","v":975.25300000000004}]
["88240","NM","SPSO",{"$f":"VLOOKUP(C36959,EMISSION_FACTORS!$A$7:$F$33,6,0)","v":975.25300000000004}]
["88314","NM","AZNM",{"$f":"VLOOKUP(C36980,EMISSION_FACTORS!$A$7:$F$33,6,0)","v":779.38199999999995}]
["88351","NM","AZNM",{"$f":"VLOOKUP(C37004,EMISSION_FACTORS!$A$7:$F$33,6,0)","v":779.38199999999995}]
["88353","NM","AZNM",{"$f":"VLOOKUP(C37006,EMISSION_FACTORS!$A$7:$F$33,6,0)","v":779.38199999999995}]
["88439","NM","SPSO",{"$f":"VLOOKUP(C37029,EMISSION_FACTORS!$A$7:$F$33,6,0)","v":975.25300000000004}]
["88526","TX","AZNM",{"$f":"VLOOKUP(C37045,EMISSION_FACTORS!$A$7:$F$33,6,0)","v":779.38199999999995}]
["88558","TX","AZNM",{"$f":"VLOOKUP(C37074,EMISSION_FACTORS!$A$7:$F$33,6,0)","v":779.38199999999995}]
["88575","TX","AZNM",{"$f":"VLOOKUP(C37090,EMISSION_FACTORS!$A$7:$F$33,6,0)","v":779.38199999999995}]
["89011","NV","AZNM",{"$f":"VLOOKUP(C37119,EMISSION_FACTORS!$A$7:$F$33,6,0)","v":779.38199999999995}]
["89016","NV","AZNM",{"$f":"VLOOKUP(C37124,EMISSION_FACTORS!$A$7:$F$33,6,0)","v":779.38199999999995}]
["89049","NV","NWPP",{"$f":"VLOOKUP(C37155,EMISSION_FACTORS!$A$7:$F$33,6,0)","v":605.87199999999996}]
["89087","NV","AZNM",{"$f":"VLOOKUP(C37169,EMISSION_FACTORS!$A$7:$F$33,6,0)","v":779.38199999999995}]
["89112","NV","AZNM",{"$f":"VLOOKUP(C37181,EMISSION_FACTORS!$A$7:$F$33,6,0)","v":779.38199999999995}]
["89149","NV","AZNM",{"$f":"VLOOKUP(C37218,EMISSION_FACTORS!$A$7:$F$33,6,0)","v":779.38199999999995}]
["89157","NV","AZNM",{"$f":"VLOOKUP(C37226,EMISSION_FACTORS!$A$7:$F$33,6,0)","v":779.38199999999995}]
["89183","NV","AZNM",{"$f":"VLOOKUP(C37243,EMISSION_FACTORS!$A$7:$F$33,6,0)","v":779.38199999999995}]
["89415","NV","NWPP",{"$f":"VLOOKUP(C37271,EMISSION_FACTORS!$A$7:$F$33,6,0)","v":605.87199999999996}]
["89434","NV","NWPP",{"$f":"VLOOKUP(C37288,EMISSION_FACTORS!$A$7:$F$33,6,0)","v":605.87199999999996}]
["89503","NV","NWPP",{"$f":"VLOOKUP(C37310,EMISSION_FACTORS!$A$7:$F$33,6,0)","v":605.87199999999996}]
["89702","NV","NWPP",{"$f":"VLOOKUP(C37333,EMISSION_FACTORS!$A$7:$F$33,6,0)","v":605.87199999999996}]
["89711","NV","NWPP",{"$f":"VLOOKUP(C37338,EMISSION_FACTORS!$A$7:$F$33,6,0)","v":605.87199999999996}]
["90015","CA","CAMX",{"$f":"VLOOKUP(C37375,EMISSION_FACTORS!$A$7:$F$33,6,0)","v":499.27800000000002}]
["90023","CA","CAMX",{"$f":"VLOOKUP(C37383,EMISSION_FACTORS!$A$7:$F$33,6,0)","v":499.27800000000002}]
["90041","CA","CAMX",{"$f":"VLOOKUP(C37401,EMISSION_FACTORS!$A$7:$F$33,6,0)","v":499.27800000000002}]
["90068","CA","CAMX",{"$f":"VLOOKUP(C37428,EMISSION_FACTORS!$A$7:$F$33,6,0)","v":499.27800000000002}]
["90087","CA","CAMX",{"$f":"VLOOKUP(C37446,EMISSION_FACTORS!$A$7:$F$33,6,0)","v":499.27800000000002}]
["90103","CA","CAMX",{"$f":"VLOOKUP(C37457,EMISSION_FACTORS!$A$7:$F$33,6,0)","v":499.27800000000002}]
["90264","CA","CAMX",{"$f":"VLOOKUP(C37491,EMISSION_FACTORS!$A$7:$F$33,6,0)","v":499.27800000000002}]
["90290","CA","CAMX",{"$f":"VLOOKUP(C37502,EMISSION_FACTORS!$A$7:$F$33,6,0)","v":499.27800000000002}]
["90309","CA","CAMX",{"$f":"VLOOKUP(C37517,EMISSION_FACTORS!$A$7:$F$33,6,0)","v":499.27800000000002}]
["90606","CA","CAMX",{"$f":"VLOOKUP(C37547,EMISSION_FACTORS!$A$7:$F$33,6,0)","v":499.27800000000002}]
["90624","CA","CAMX",{"$f":"VLOOKUP(C37556,EMISSION_FACTORS!$A$7:$F$33,6,0)","v":499.27800000000002}]
["90671","CA","CAMX",{"$f":"VLOOKUP(C37572,EMISSION_FACTORS!$A$7:$F$33,6,0)","v":499.27800000000002}]
["90743","CA","CAMX",{"$f":"VLOOKUP(C37597,EMISSION_FACTORS!$A$7:$F$33,6,0)","v":499.27800000000002}]
["90833","CA","CAMX",{"$f":"VLOOKUP(C37621,EMISSION_FACTORS!$A$7:$F$33,6,0)","v":499.27800000000002}]
["91016","CA","CAMX",{"$f":"VLOOKUP(C37642,EMISSION_FACTORS!$A$7:$F$33,6,0)","v":499.27800000000002}]
["91109","CA","CAMX",{"$f":"VLOOKUP(C37666,EMISSION_FACTORS!$A$7:$F$33,6,0)","v":499.27800000000002}]
["91203","CA","CAMX",{"$f":"VLOOKUP(C37687,EMISSION_FACTORS!$A$7:$F$33,6,0)","v":499.27800000000002}]
["91208","CA","CAMX",{"$f":"VLOOKUP(C37692,EMISSION_FACTORS!$A$7:$F$33,6,0)","v":499.27800000000002}]
["91321","CA","CAMX",{"$f":"VLOOKUP(C37716,EMISSION_FACTORS!$A$7:$F$33,6,0)","v":499.27800000000002}]
["91350","CA","CAMX",{"$f":"VLOOKUP(C37737,EMISSION_FACTORS!$A$7:$F$33,6,0)","v":499.27800000000002}]
["91384","CA","CAMX",{"$f":"VLOOKUP(C37761,EMISSION_FACTORS!$A$7:$F$33,6,0)","v":499.27800000000002}]
["91406","CA","CAMX",{"$f":"VLOOKUP(C37776,EMISSION_FACTORS!$A$7:$F$33,6,0)","v":499.27800000000002}]
["91426","CA","CAMX",{"$f":"VLOOKUP(C37786,EMISSION_FACTORS!$A$7:$F$33,6,0)","v":499.27800000000002}]
["91606","CA","CAMX",{"$f":"VLOOKUP(C37811,EMISSION_FACTORS!$A$7:$F$33,6,0)","v":499.27800000000002}]
["91710","CA","CAMX",{"$f":"VLOOKUP(C37828,EMISSION_FACTORS!$A$7:$F$33,6,0)","v":499.27800000000002}]
["91754","CA","CAMX",{"$f":"VLOOKUP(C37856,EMISSION_FACTORS!$A$7:$F$33,6,0)","v":499.27800000000002}]
["91767","CA","CAMX",{"$f":"VLOOKUP(C37867,EMISSION_FACTORS!$A$7:$F$33,6,0)","v":499.27800000000002}]
["91910","CA","CAMX",{"$f":"VLOOKUP(C37901,EMISSION_FACTORS!$A$7:$F$33,6,0)","v":499.27800000000002}]
["91933","CA","CAMX",{"$f":"VLOOKUP(C37912,EMISSION_FACTORS!$A$7:$F$33,6,0)","v":499.27800000000002}]
["91963","CA","CAMX",{"$f":"VLOOKUP(C37926,EMISSION_FACTORS!$A$7:$F$33,6,0)","v":499.27800000000002}]
["92037","CA","CAMX",{"$f":"VLOOKUP(C37957,EMISSION_FACTORS!$A$7:$F$33,6,0)","v":499.27800000000002}]
["92066","CA","CAMX",{"$f":"VLOOKUP(C37975,EMISSION_FACTORS!$A$7:$F$33,6,0)","v":499.27800000000002}]
["92075","CA","CAMX",{"$f":"VLOOKUP(C37983,EMISSION_FACTORS!$A$7:$F$33,6,0)","v":499.27800000000002}]
["92124","CA","CAMX",{"$f":"VLOOKUP(C38020,EMISSION_FACTORS!$A$7:$F$33,6,0)","v":499.27800000000002}]
["92130","CA","CAMX",{"$f":"VLOOKUP(C38025,EMISSION_FACTORS!$A$7:$F$33,6,0)","v":499.27800000000002}]
["92161","CA","CAMX",{"$f":"VLOOKUP(C38048,EMISSION_FACTORS!$A$7:$F$33,6,0)","v":499.27800000000002}]
["92187","CA","CAMX",{"$f":"VLOOKUP(C38070,EMISSION_FACTORS!$A$7:$F$33,6,0)","v":499.27800000000002}]
["92231","CA","AZNM",{"$f":"VLOOKUP(C38093,EMISSION_FACTORS!$A$7:$F$33,6,0)","v":779.38199999999995}]
["92257","CA","AZNM",{"$f":"VLOOKUP(C38115,EMISSION_FACTORS!$A$7:$F$33,6,0)","v":779.38199999999995}]
["92278","CA","CAMX",{"$f":"VLOOKUP(C38132,EMISSION_FACTORS!$A$7:$F$33,6,0)","v":499.27800000000002}]
["92292","CA","CAMX",{"$f":"VLOOKUP(C38140,EMISSION_FACTORS!$A$7:$F$33,6,0)","v":499.27800000000002}]
["92322","CA","CAMX",{"$f":"VLOOKUP(C38158,EMISSION_FACTORS!$A$7:$F$33,6,0)","v":499.27800000000002}]
["92356","CA","CAMX",{"$f":"VLOOKUP(C38185,EMISSION_FACTORS!$A$7:$F$33,6,0)","v":499.27800000000002}]
["92382","CA","CAMX",{"$f":"VLOOKUP(C38203,EMISSION_FACTORS!$A$7:$F$33,6,0)","v":499.27800000000002}]
["92501","CA","CAMX",{"$f":"VLOOKUP(C38234,EMISSION_FACTORS!$A$7:$F$33,6,0)","v":499.27800000000002}]
["92536","CA","CAMX",{"$f":"VLOOKUP(C38255,EMISSION_FACTORS!$A$7:$F$33,6,0)","v":499.27800000000002}]
["92556","CA","CAMX",{"$f":"VLOOKUP(C38268,EMISSION_FACTORS!$A$7:$F$33,6,0)","v":499.27800000000002}]
["92587","CA","CAMX",{"$f":"VLOOKUP(C38284,EMISSION_FACTORS!$A$7:$F$33,6,0)","v":499.27800000000002}]
["92627","CA","CAMX",{"$f":"VLOOKUP(C38313,EMISSION_FACTORS!$A$7:$F$33,6,0)","v":499.27800000000002}]
["92657","CA","CAMX",{"$f":"VLOOKUP(C38329,EMISSION_FACTORS!$A$7:$F$33,6,0)","v":499.27800000000002}]
["92675","CA","CAMX",{"$f":"VLOOKUP(C38339,EMISSION_FACTORS!$A$7:$F$33,6,0)","v":499.27800000000002}]
["92698","CA","CAMX",{"$f":"VLOOKUP(C38354,EMISSION_FACTORS!$A$7:$F$33,6,0)","v":499.27800000000002}]
["92807","CA","CAMX",{"$f":"VLOOKUP(C38378,EMISSION_FACTORS!$A$7:$F$33,6,0)","v":499.27800000000002}]
["92840","CA","CAMX",{"$f":"VLOOKUP(C38399,EMISSION_FACTORS!$A$7:$F$33,6,0)","v":499.27800000000002}]
["92878","CA","CAMX",{"$f":"VLOOKUP(C38423,EMISSION_FACTORS!$A$7:$F$33,6,0)","v":499.27800000000002}]
["93020","CA","CAMX",{"$f":"VLOOKUP(C38448,EMISSION_FACTORS!$A$7:$F$33,6,0)","v":499.27800000000002}]
["93064","CA","CAMX",{"$f":"VLOOKUP(C38469,EMISSION_FACTORS!$A$7:$F$33,6,0)","v":499.27800000000002}]
["93120","CA","CAMX",{"$f":"VLOOKUP(C38488,EMISSION_FACTORS!$A$7:$F$33,6,0)","v":499.27800000000002}]
["93190","CA","CAMX",{"$f":"VLOOKUP(C38494,EMISSION_FACTORS!$A$7:$F$33,6,0)","v":499.27800000000002}]
["93224","CA","CAMX",{"$f":"VLOOKUP(C38514,EMISSION_FACTORS!$A$7:$F$33,6,0)","v":499.27800000000002}]
["93261","CA","CAMX",{"$f":"VLOOKUP(C38543,EMISSION_FACTORS!$A$7:$F$33,6,0)","v":499.27800000000002}]
["93280","CA","CAMX",{"$f":"VLOOKUP(C38559,EMISSION_FACTORS!$A$7:$F$33,6,0)","v":499.27800000000002}]
["93301","CA","CAMX",{"$f":"VLOOKUP(C38568,EMISSION_FACTORS!$A$7:$F$33,6,0)","v":499.27800000000002}]
["93424","CA","CAMX",{"$f":"VLOOKUP(C38604,EMISSION_FACTORS!$A$7:$F$33,6,0)","v":499.27800000000002}]
["93435","CA","CAMX",{"$f":"VLOOKUP(C38613,EMISSION_FACTORS!$A$7:$F$33,6,0)","v":499.27800000000002}]
["93501","CA","CAMX",{"$f":"VLOOKUP(C38643,EMISSION_FACTORS!$A$7:$F$33,6,0)","v":499.27800000000002}]
["93524","CA","CAMX",{"$f":"VLOOKUP(C38658,EMISSION_FACTORS!$A$7:$F$33,6,0)","v":499.27800000000002}]
["93556","CA","CAMX",{"$f":"VLOOKUP(C38683,EMISSION_FACTORS!$A$7:$F$33,6,0)","v":499.27800000000002}]
["93581","CA","CAMX",{"$f":"VLOOKUP(C38689,EMISSION_FACTORS!$A$7:$F$33,6,0)","v":499.27800000000002}]
["93612","CA","CAMX",{"$f":"VLOOKUP(C38708,EMISSION_FACTORS!$A$7:$F$33,6,0)","v":499.27800000000002}]
["93641","CA","CAMX",{"$f":"VLOOKUP(C38734,EMISSION_FACTORS!$A$7:$F$33,6,0)","v":499.27800000000002}]
["93664","CA","CAMX",{"$f":"VLOOKUP(C38753,EMISSION_FACTORS!$A$7:$F$33,6,0)","v":499.27800000000002}]
["93720","CA","CAMX",{"$f":"VLOOKUP(C38779,EMISSION_FACTORS!$A$7:$F$33,6,0)","v":499.27800000000002}]
["93771","CA","CAMX",{"$f":"VLOOKUP(C38802,EMISSION_FACTORS!$A$7:$F$33,6,0)","v":499.27800000000002}]
["93774","CA","CAMX",{"$f":"VLOOKUP(C38805,EMISSION_FACTORS!$A$7:$F$33,6,0)","v":499.27800000000002}]
["93920","CA","CAMX",{"$f":"VLOOKUP(C38827,EMISSION_FACTORS!$A$7:$F$33,6,0)","v":499.27800000000002}]
["94005","CA","CAMX",{"$f":"VLOOKUP(C38850,EMISSION_FACTORS!$A$7:$F$33,6,0)","v":499.27800000000002}]
["94038","CA","CAMX",{"$f":"VLOOKUP(C38872,EMISSION_FACTORS!$A$7:$F$33,6,0)","v":499.27800000000002}]
["94103","CA","CAMX",{"$f":"VLOOKUP(C38897,EMISSION_FACTORS!$A$7:$F$33,6,0)","v":499.27800000000002}]
["94123","CA","CAMX",{"$f":"VLOOKUP(C38915,EMISSION_FACTORS!$A$7:$F$33,6,0)","v":499.27800000000002}]
["94130","CA","CAMX",{"$f":"VLOOKUP(C38922,EMISSION_FACTORS!$A$7:$F$33,6,0)","v":499.27800000000002}]
["94204","CA","CAMX",{"$f":"VLOOKUP(C38954,EMISSION_FACTORS!$A$7:$F$33,6,0)","v":499.27800000000002}]
["94237","CA","CAMX",{"$f":"VLOOKUP(C38967,EMISSION_FACTORS!$A$7:$F$33,6,0)","v":499.27800000000002}]
["94257","CA","CAMX",{"$f":"VLOOKUP(C38980,EMISSION_FACTORS!$A$7:$F$33,6,0)","v":499.27800000000002}]
["94299","CA","CAMX",{"$f":"VLOOKUP(C39012,EMISSION_FACTORS!$A$7:$F$33,6,0)","v":499.27800000000002}]
["94501","CA","CAMX",{"$f":"VLOOKUP(C39025,EMISSION_FACTORS!$A$7:$F$33,6,0)","v":499.27800000000002}]
["94518","CA","CAMX",{"$f":"VLOOKUP(C39041,EMISSION_FACTORS!$A$7:$F$33,6,0)","v":499.27800000000002}]
["94548","CA","CAMX",{"$f":"VLOOKUP(C39070,EMISSION_FACTORS!$A$7:$F$33,6,0)","v":499.27800000000002}]
["94565","CA","CAMX",{"$f":"VLOOKUP(C39086,EMISSION_FACTORS!$A$7:$F$33,6,0)","v":499.27800000000002}]
["94591","CA","CAMX",{"$f":"VLOOKUP(C39111,EMISSION_FACTORS!$A$7:$F$33,6,0)","v":499.27800000000002}]
["94598","CA","CAMX",{"$f":"VLOOKUP(C39116,EMISSION_FACTORS!$A$7:$F$33,6,0)","v":499.27800000000002}]
["94620","CA","CAMX",{"$f":"VLOOKUP(C39136,EMISSION_FACTORS!$A$7:$F$33,6,0)","v":499.27800000000002}]
["94803","CA","CAMX",{"$f":"VLOOKUP(C39161,EMISSION_FACTORS!$A$7:$F$33,6,0)","v":499.27800000000002}]
["94926","CA","CAMX",{"$f":"VLOOKUP(C39181,EMISSION_FACTORS!$A$7:$F$33,6,0)","v":499.27800000000002}]
["94951","CA","CAMX",{"$f":"VLOOKUP(C39200,EMISSION_FACTORS!$A$7:$F$33,6,0)","v":499.27800000000002}]
["95003","CA","CAMX",{"$f":"VLOOKUP(C39226,EMISSION_FACTORS!$A$7:$F$33,6,0)","v":499.27800000000002}]
["95024","CA","CAMX",{"$f":"VLOOKUP(C39245,EMISSION_FACTORS!$A$7:$F$33,6,0)","v":499.27800000000002}]
["95062","CA","CAMX",{"$f":"VLOOKUP(C39271,EMISSION_FACTORS!$A$7:$F$33,6,0)","v":499.27800000000002}]
["95112","CA","CAMX",{"$f":"VLOOKUP(C39290,EMISSION_FACTORS!$A$7:$F$33,6,0)","v":499.27800000000002}]
["95123","CA","CAMX",{"$f":"VLOOKUP(C39300,EMISSION_FACTORS!$A$7:$F$33,6,0)","v":499.27800000000002}]
["95140","CA","CAMX",{"$f":"VLOOKUP(C39316,EMISSION_FACTORS!$A$7:$F$33,6,0)","v":499.27800000000002}]
["95205","CA","CAMX",{"$f":"VLOOKUP(C39345,EMISSION_FACTORS!$A$7:$F$33,6,0)","v":499.27800000000002}]
["95210","CA","CAMX",{"$f":"VLOOKUP(C39350,EMISSION_FACTORS!$A$7:$F$33,6,0)","v":499.27800000000002}]
["95250","CA","CAMX",{"$f":"VLOOKUP(C39381,EMISSION_FACTORS!$A$7:$F$33,6,0)","v":499.27800000000002}]
["95304","CA","CAMX",{"$f":"VLOOKUP(C39395,EMISSION_FACTORS!$A$7:$F$33,6,0)","v":499.27800000000002}]
["95338","CA","CAMX",{"$f":"VLOOKUP(C39426,EMISSION_FACTORS!$A$7:$F$33,6,0)","v":499.27800000000002}]
["95355","CA","CAMX",{"$f":"VLOOKUP(C39440,EMISSION_FACTORS!$A$7:$F$33,6,0)","v":499.27800000000002}]
["95383","CA","CAMX",{"$f":"VLOOKUP(C39465,EMISSION_FACTORS!$A$7:$F$33,6,0)","v":499.27800000000002}]
["95417","CA","CAMX",{"$f":"VLOOKUP(C39485,EMISSION_FACTORS!$A$7:$F$33,6,0)","v":499.27800000000002}]
["95423","CA","CAMX",{"$f":"VLOOKUP(C39491,EMISSION_FACTORS!$A$7:$F$33,6,0)","v":499.27800000000002}]
["95450","CA","CAMX",{"$f":"VLOOKUP(C39514,EMISSION_FACTORS!$A$7:$F$33,6,0)","v":499.27800000000002}]
["95473","CA","CAMX",{"$f":"VLOOKUP(C39536,EMISSION_FACTORS!$A$7:$F$33,6,0)","v":499.27800000000002}]
["95525","CA","CAMX",{"$f":"VLOOKUP(C39559,EMISSION_FACTORS!$A$7:$F$33,6,0)","v":499.27800000000002}]
["95553","CA","CAMX",{"$f":"VLOOKUP(C39580,EMISSION_FACTORS!$A$7:$F$33,6,0)","v":499.27800000000002}]
["95601","CA","CAMX",{"$f":"VLOOKUP(C39601,EMISSION_FACTORS!$A$7:$F$33,6,0)","v":499.27800000000002}]
["95609","CA","CAMX",{"$f":"VLOOKUP(C39609,EMISSION_FACTORS!$A$7:$F$33,6,0)","v":499.27800000000002}]
["95628","CA","CAMX",{"$f":"VLOOKUP(C39627,EMISSION_FACTORS!$A$7:$F$33,6,0)","v":499.27800000000002}]
["95659","CA","CAMX",{"$f":"VLOOKUP(C39654,EMISSION_FACTORS!$A$7:$F$33,6,0)","v":499.27800000000002}]
["95677","CA","CAMX",{"$f":"VLOOKUP(C39672,EMISSION_FACTORS!$A$7:$F$33,6,0)","v":499.27800000000002}]
["95713","CA","CAMX",{"$f":"VLOOKUP(C39699,EMISSION_FACTORS!$A$7:$F$33,6,0)","v":499.27800000000002}]
["95741","CA","CAMX",{"$f":"VLOOKUP(C39711,EMISSION_FACTORS!$A$7:$F$33,6,0)","v":499.27800000000002}]
["95811","CA","CAMX",{"$f":"VLOOKUP(C39724,EMISSION_FACTORS!$A$7:$F$33,6,0)","v":499.27800000000002}]
["95851","CA","CAMX",{"$f":"VLOOKUP(C39756,EMISSION_FACTORS!$A$7:$F$33,6,0)","v":499.27800000000002}]
["95915","CA","CAMX",{"$f":"VLOOKUP(C39773,EMISSION_FACTORS!$A$7:$F$33,6,0)","v":499.27800000000002}]
["95939","CA","CAMX",{"$f":"VLOOKUP(C39794,EMISSION_FACTORS!$A$7:$F$33,6,0)","v":499.27800000000002}]
["95947","CA","CAMX",{"$f":"VLOOKUP(C39802,EMISSION_FACTORS!$A$7:$F$33,6,0)","v":499.27800000000002}]
["95966","CA","CAMX",{"$f":"VLOOKUP(C39819,EMISSION_FACTORS!$A$7:$F$33,6,0)","v":499.27800000000002}]
["96006","CA","NWPP",{"$f":"VLOOKUP(C39847,EMISSION_FACTORS!$A$7:$F$33,6,0)","v":605.87199999999996}]
["96031","CA","CAMX",{"$f":"VLOOKUP(C39868,EMISSION_FACTORS!$A$7:$F$33,6,0)","v":499.27800000000002}]
["96061","CA","CAMX",{"$f":"VLOOKUP(C39892,EMISSION_FACTORS!$A$7:$F$33,6,0)","v":499.27800000000002}]
["96088","CA","CAMX",{"$f":"VLOOKUP(C39913,EMISSION_FACTORS!$A$7:$F$33,6,0)","v":499.27800000000002}]
["96093","CA","CAMX",{"$f":"VLOOKUP(C39918,EMISSION_FACTORS!$A$7:$F$33,6,0)","v":499.27800000000002}]
["96116","CA","NWPP",{"$f":"VLOOKUP(C39938,EMISSION_FACTORS!$A$7:$F$33,6,0)","v":605.87199999999996}]
["96136","CA","CAMX",{"$f":"VLOOKUP(C39957,EMISSION_FACTORS!$A$7:$F$33,6,0)","v":499.27800000000002}]
["96708","HI","HIMS",{"$f":"VLOOKUP(C39983,EMISSION_FACTORS!$A$7:$F$33,6,0)","v":1163.0650000000001}]
["96738","HI","HIMS",{"$f":"VLOOKUP(C40008,EMISSION_FACTORS!$A$7:$F$33,6,0)","v":1163.0650000000001}]
["96752","HI","HIMS",{"$f":"VLOOKUP(C40022,EMISSION_FACTORS!$A$7:$F$33,6,0)","v":1163.0650000000001}]
["96785","HI","HIMS",{"$f":"VLOOKUP(C40053,EMISSION_FACTORS!$A$7:$F$33,6,0)","v":1163.0650000000001}]
["96804","HI","HIOA",{"$f":"VLOOKUP(C40067,EMISSION_FACTORS!$A$7:$F$33,6,0)","v":1586.9469999999999}]
["96815","HI","HIOA",{"$f":"VLOOKUP(C40078,EMISSION_FACTORS!$A$7:$F$33,6,0)","v":1586.9469999999999}]
["96836","HI","HIOA",{"$f":"VLOOKUP(C40093,EMISSION_FACTORS!$A$7:$F$33,6,0)","v":1586.9469999999999}]
["97014","OR","NWPP",{"$f":"VLOOKUP(C40127,EMISSION_FACTORS!$A$7:$F$33,6,0)","v":605.87199999999996}]
["97026","OR","NWPP",{"$f":"VLOOKUP(C40138,EMISSION_FACTORS!$A$7:$F$33,6,0)","v":605.87199999999996}]
["97040","OR","NWPP",{"$f":"VLOOKUP(C40152,EMISSION_FACTORS!$A$7:$F$33,6,0)","v":605.87199999999996}]
["97076","OR","NWPP",{"$f":"VLOOKUP(C40177,EMISSION_FACTORS!$A$7:$F$33,6,0)","v":605.87199999999996}]
["97117","OR","NWPP",{"$f":"VLOOKUP(C40197,EMISSION_FACTORS!$A$7:$F$33,6,0)","v":605.87199999999996}]
["97147","OR","NWPP",{"$f":"VLOOKUP(C40222,EMISSION_FACTORS!$A$7:$F$33,6,0)","v":605.87199999999996}]
["97224","OR","NWPP",{"$f":"VLOOKUP(C40248,EMISSION_FACTORS!$A$7:$F$33,6,0)","v":605.87199999999996}]
["97269","OR","NWPP",{"$f":"VLOOKUP(C40267,EMISSION_FACTORS!$A$7:$F$33,6,0)","v":605.87199999999996}]
["97307","OR","NWPP",{"$f":"VLOOKUP(C40287,EMISSION_FACTORS!$A$7:$F$33,6,0)","v":605.87199999999996}]
["97312","OR","NWPP",{"$f":"VLOOKUP(C40292,EMISSION_FACTORS!$A$7:$F$33,6,0)","v":605.87199999999996}]
["97345","OR","NWPP",{"$f":"VLOOKUP(C40313,EMISSION_FACTORS!$A$7:$F$33,6,0)","v":605.87199999999996}]
["97376","OR","NWPP",{"$f":"VLOOKUP(C40337,EMISSION_FACTORS!$A$7:$F$33,6,0)","v":605.87199999999996}]
["97406","OR","NWPP",{"$f":"VLOOKUP(C40358,EMISSION_FACTORS!$A$7:$F$33,6,0)","v":605.87199999999996}]
["97414","OR","NWPP",{"$f":"VLOOKUP(C40366,EMISSION_FACTORS!$A$7:$F$33,6,0)","v":605.87199999999996}]
["97458","OR","NWPP",{"$f":"VLOOKUP(C40403,EMISSION_FACTORS!$A$7:$F$33,6,0)","v":605.87199999999996}]
["97467","OR","NWPP",{"$f":"VLOOKUP(C40411,EMISSION_FACTORS!$A$7:$F$33,6,0)","v":605.87199999999996}]
["97497","OR","NWPP",{"$f":"VLOOKUP(C40436,EMISSION_FACTORS!$A$7:$F$33,6,0)","v":605.87199999999996}]
["97527","OR","NWPP",{"$f":"VLOOKUP(C40449,EMISSION_FACTORS!$A$7:$F$33,6,0)","v":605.87199999999996}]
["97635","CA","NWPP",{"$f":"VLOOKUP(C40481,EMISSION_FACTORS!$A$7:$F$33,6,0)","v":605.87199999999996}]
["97710","OR","NWPP",{"$f":"VLOOKUP(C40494,EMISSION_FACTORS!$A$7:$F$33,6,0)","v":605.87199999999996}]
["97736","OR","NWPP",{"$f":"VLOOKUP(C40506,EMISSION_FACTORS!$A$7:$F$33,6,0)","v":605.87199999999996}]
["97826","OR","NWPP",{"$f":"VLOOKUP(C40533,EMISSION_FACTORS!$A$7:$F$33,6,0)","v":605.87199999999996}]
["97848","OR","NWPP",{"$f":"VLOOKUP(C40551,EMISSION_FACTORS!$A$7:$F$33,6,0)","v":605.87199999999996}]
["97904","OR","NWPP",{"$f":"VLOOKUP(C40578,EMISSION_FACTORS!$A$7:$F$33,6,0)","v":605.87199999999996}]
["98006","WA","NWPP",{"$f":"VLOOKUP(C40596,EMISSION_FACTORS!$A$7:$F$33,6,0)","v":605.87199999999996}]
["98014","WA","NWPP",{"$f":"VLOOKUP(C40604,EMISSION_FACTORS!$A$7:$F$33,6,0)","v":605.87199999999996}]
["98038","WA","NWPP",{"$f":"VLOOKUP(C40625,EMISSION_FACTORS!$A$7:$F$33,6,0)","v":605.87199999999996}]
["98063","WA","NWPP",{"$f":"VLOOKUP(C40646,EMISSION_FACTORS!$A$7:$F$33,6,0)","v":605.87199999999996}]
["98107","WA","NWPP",{"$f":"VLOOKUP(C40669,EMISSION_FACTORS!$A$7:$F$33,6,0)","v":605.87199999999996}]
["98139","WA","NWPP",{"$f":"VLOOKUP(C40695,EMISSION_FACTORS!$A$7:$F$33,6,0)","v":605.87199999999996}]
["98177","WA","NWPP",{"$f":"VLOOKUP(C40714,EMISSION_FACTORS!$A$7:$F$33,6,0)","v":605.87199999999996}]
["98189","WA","NWPP",{"$f":"VLOOKUP(C40720,EMISSION_FACTORS!$A$7:$F$33,6,0)","v":605.87199999999996}]
["98225","WA","NWPP",{"$f":"VLOOKUP(C40740,EMISSION_FACTORS!$A$7:$F$33,6,0)","v":605.87199999999996}]
["98253","WA","NWPP",{"$f":"VLOOKUP(C40765,EMISSION_FACTORS!$A$7:$F$33,6,0)","v":605.87199999999996}]
["98271","WA","NWPP",{"$f":"VLOOKUP(C40779,EMISSION_FACTORS!$A$7:$F$33,6,0)","v":605.87199999999996}]
["98314","WA","NWPP",{"$f":"VLOOKUP(C40810,EMISSION_FACTORS!$A$7:$F$33,6,0)","v":605.87199999999996}]
["98332","WA","NWPP",{"$f":"VLOOKUP(C40824,EMISSION_FACTORS!$A$7:$F$33,6,0)","v":605.87199999999996}]
["98350","WA","NWPP",{"$f":"VLOOKUP(C40839,EMISSION_FACTORS!$A$7:$F$33,6,0)","v":605.87199999999996}]
["98372","WA","NWPP",{"$f":"VLOOKUP(C40860,EMISSION_FACTORS!$A$7:$F$33,6,0)","v":605.87199999999996}]
["98405","WA","NWPP",{"$f":"VLOOKUP(C40889,EMISSION_FACTORS!$A$7:$F$33,6,0)","v":605.87199999999996}]
["98430","WA","NWPP",{"$f":"VLOOKUP(C40905,EMISSION_FACTORS!$A$7:$F$33,6,0)","v":605.87199999999996}]
["98447","WA","NWPP",{"$f":"VLOOKUP(C40915,EMISSION_FACTORS!$A$7:$F$33,6,0)","v":605.87199999999996}]
["98505","WA","NWPP",{"$f":"VLOOKUP(C40934,EMISSION_FACTORS!$A$7:$F$33,6,0)","v":605.87199999999996}]
["98542","WA","NWPP",{"$f":"VLOOKUP(C40960,EMISSION_FACTORS!$A$7:$F$33,6,0)","v":605.87199999999996}]
["98566","WA","NWPP",{"$f":"VLOOKUP(C40979,EMISSION_FACTORS!$A$7:$F$33,6,0)","v":605.87199999999996}]
["98597","WA","NWPP",{"$f":"VLOOKUP(C41005,EMISSION_FACTORS!$A$7:$F$33,6,0)","v":605.87199999999996}]
["98621","WA","NWPP",{"$f":"VLOOKUP(C41024,EMISSION_FACTORS!$A$7:$F$33,6,0)","v":605.87199999999996}]
["98647","WA","NWPP",{"$f":"VLOOKUP(C41044,EMISSION_FACTORS!$A$7:$F$33,6,0)","v":605.87199999999996}]
["98801","WA","NWPP",{"$f":"VLOOKUP(C41069,EMISSION_FACTORS!$A$7:$F$33,6,0)","v":605.87199999999996}]
["98813","WA","NWPP",{"$f":"VLOOKUP(C41074,EMISSION_FACTORS!$A$7:$F$33,6,0)","v":605.87199999999996}]
["98832","WA","NWPP",{"$f":"VLOOKUP(C41090,EMISSION_FACTORS!$A$7:$F$33,6,0)","v":605.87199999999996}]
["98833","WA","NWPP",{"$f":"VLOOKUP(C41091,EMISSION_FACTORS!$A$7:$F$33,6,0)","v":605.87199999999996}]
["98834","WA","NWPP",{"$f":"VLOOKUP(C41092,EMISSION_FACTORS!$A$7:$F$33,6,0)","v":605.87199999999996}]
["98836","WA","NWPP",{"$f":"VLOOKUP(C41093,EMISSION_FACTORS!$A$7:$F$33,6,0)","v":605.87199999999996}]
["98837","WA","NWPP",{"$f":"VLOOKUP(C41094,EMISSION_FACTORS!$A$7:$F$33,6,0)","v":605.87199999999996}]
["98840","WA","NWPP",{"$f":"VLOOKUP(C41095,EMISSION_FACTORS!$A$7:$F$33,6,0)","v":605.87199999999996}]
["98841","WA","NWPP",{"$f":"VLOOKUP(C41096,EMISSION_FACTORS!$A$7:$F$33,6,0)","v":605.87199999999996}]
["98843","WA","NWPP",{"$f":"VLOOKUP(C41097,EMISSION_FACTORS!$A$7:$F$33,6,0)","v":605.87199999999996}]
["98844","WA","NWPP",{"$f":"VLOOKUP(C41098,EMISSION_FACTORS!$A$7:$F$33,6,0)","v":605.87199999999996}]
["98845","WA","NWPP",{"$f":"VLOOKUP(C41099,EMISSION_FACTORS!$A$7:$F$33,6,0)","v":605.87199999999996}]
["98846","WA","NWPP",{"$f":"VLOOKUP(C41100,EMISSION_FACTORS!$A$7:$F$33,6,0)","v":605.87199999999996}]
["98847","WA","NWPP",{"$f":"VLOOKUP(C41101,EMISSION_FACTORS!$A$7:$F$33,6,0)","v":605.87199999999996}]
["98848","WA","NWPP",{"$f":"VLOOKUP(C41102,EMISSION_FACTORS!$A$7:$F$33,6,0)","v":605.87199999999996}]
["98849","WA","NWPP",{"$f":"VLOOKUP(C41103,EMISSION_FACTORS!$A$7:$F$33,6,0)","v":605.87199999999996}]
["98850","WA","NWPP",{"$f":"VLOOKUP(C41104,EMISSION_FACTORS!$A$7:$F$33,6,0)","v":605.87199999999996}]
["98851","WA","NWPP",{"$f":"VLOOKUP(C41105,EMISSION_FACTORS!$A$7:$F$33,6,0)","v":605.87199999999996}]
["98852","WA","NWPP",{"$f":"VLOOKUP(C41106,EMISSION_FACTORS!$A$7:$F$33,6,0)","v":605.87199999999996}]
["98853","WA","NWPP",{"$f":"VLOOKUP(C41107,EMISSION_FACTORS!$A$7:$F$33,6,0)","v":605.87199999999996}]
["98855","WA","NWPP",{"$f":"VLOOKUP(C41108,EMISSION_FACTORS!$A$7:$F$33,6,0)","v":605.87199999999996}]
["98856","WA","NWPP",{"$f":"VLOOKUP(C41109,EMISSION_FACTORS!$A$7:$F$33,6,0)","v":605.87199999999996}]
["98857","WA","NWPP",{"$f":"VLOOKUP(C41110,EMISSION_FACTORS!$A$7:$F$33,6,0)","v":605.87199999999996}]
["98858","WA","NWPP",{"$f":"VLOOKUP(C41111,EMISSION_FACTORS!$A$7:$F$33,6,0)","v":605.87199999999996}]
["98859","WA","NWPP",{"$f":"VLOOKUP(C41112,EMISSION_FACTORS!$A$7:$F$33,6,0)","v":605.87199999999996}]
["98860","WA","NWPP",{"$f":"VLOOKUP(C41113,EMISSION_FACTORS!$A$7:$F$33,6,0)","v":605.87199999999996}]
["98862","WA","NWPP",{"$f":"VLOOKUP(C41114,EMISSION_FACTORS!$A$7:$F$33,6,0)","v":605.87199999999996}]
["98901","WA","NWPP",{"$f":"VLOOKUP(C41115,EMISSION_FACTORS!$A$7:$F$33,6,0)","v":605.87199999999996}]
["98902","WA","NWPP",{"$f":"VLOOKUP(C41116,EMISSION_FACTORS!$A$7:$F$33,6,0)","v":605.87199999999996}]
["98903","WA","NWPP",{"$f":"VLOOKUP(C41117,EMISSION_FACTORS!$A$7:$F$33,6,0)","v":605.87199999999996}]
["98904","WA","NWPP",{"$f":"VLOOKUP(C41118,EMISSION_FACTORS!$A$7:$F$33,6,0)","v":605.87199999999996}]
["98907","WA","NWPP",{"$f":"VLOOKUP(C41119,EMISSION_FACTORS!$A$7:$F$33,6,0)","v":605.87199999999996}]
["98908","WA","NWPP",{"$f":"VLOOKUP(C41120,EMISSION_FACTORS!$A$7:$F$33,6,0)","v":605.87199999999996}]
["98909","WA","NWPP",{"$f":"VLOOKUP(C41121,EMISSION_FACTORS!$A$7:$F$33,6,0)","v":605.87199999999996}]
["98920","WA","NWPP",{"$f":"VLOOKUP(C41122,EMISSION_FACTORS!$A$7:$F$33,6,0)","v":605.87199999999996}]
["98921","WA","NWPP",{"$f":"VLOOKUP(C41123,EMISSION_FACTORS!$A$7:$F$33,6,0)","v":605.87199999999996}]
["98922","WA","NWPP",{"$f":"VLOOKUP(C41124,EMISSION_FACTORS!$A$7:$F$33,6,0)","v":605.87199999999996}]
["98923","WA","NWPP",{"$f":"VLOOKUP(C41125,EMISSION_FACTORS!$A$7:$F$33,6,0)","v":605.87199999999996}]
["98925","WA","NWPP",{"$f":"VLOOKUP(C41126,EMISSION_FACTORS!$A$7:$F$33,6,0)","v":605.87199999999996}]
["98926","WA","NWPP",{"$f":"VLOOKUP(C41127,EMISSION_FACTORS!$A$7:$F$33,6,0)","v":605.87199999999996}]
["98929","WA","NWPP",{"$f":"VLOOKUP(C41128,EMISSION_FACTORS!$A$7:$F$33,6,0)","v":605.87199999999996}]
["98930","WA","NWPP",{"$f":"VLOOKUP(C41129,EMISSION_FACTORS!$A$7:$F$33,6,0)","v":605.87199999999996}]
["98932","WA","NWPP",{"$f":"VLOOKUP(C41130,EMISSION_FACTORS!$A$7:$F$33,6,0)","v":605.87199999999996}]
["98933","WA","NWPP",{"$f":"VLOOKUP(C41131,EMISSION_FACTORS!$A$7:$F$33,6,0)","v":605.87199999999996}]
["98934","WA","NWPP",{"$f":"VLOOKUP(C41132,EMISSION_FACTORS!$A$7:$F$33,6,0)","v":605.87199999999996}]
["98935","WA","NWPP",{"$f":"VLOOKUP(C41133,EMISSION_FACTORS!$A$7:$F$33,6,0)","v":605.87199999999996}]
["98936","WA","NWPP",{"$f":"VLOOKUP(C41134,EMISSION_FACTORS!$A$7:$F$33,6,0)","v":605.87199999999996}]
["98937","WA","NWPP",{"$f":"VLOOKUP(C41135,EMISSION_FACTORS!$A$7:$F$33,6,0)","v":605.87199999999996}]
["98938","WA","NWPP",{"$f":"VLOOKUP(C41136,EMISSION_FACTORS!$A$7:$F$33,6,0)","v":605.87199999999996}]
["98939","WA","NWPP",{"$f":"VLOOKUP(C41137,EMISSION_FACTORS!$A$7:$F$33,6,0)","v":605.87199999999996}]
["98940","WA","NWPP",{"$f":"VLOOKUP(C41138,EMISSION_FACTORS!$A$7:$F$33,6,0)","v":605.87199999999996}]
["98941","WA","NWPP",{"$f":"VLOOKUP(C41139,EMISSION_FACTORS!$A$7:$F$33,6,0)","v":605.87199999999996}]
["98942","WA","NWPP",{"$f":"VLOOKUP(C41140,EMISSION_FACTORS!$A$7:$F$33,6,0)","v":605.87199999999996}]
["98943","WA","NWPP",{"$f":"VLOOKUP(C41141,EMISSION_FACTORS!$A$7:$F$33,6,0)","v":605.87199999999996}]
["98944","WA","NWPP",{"$f":"VLOOKUP(C41142,EMISSION_FACTORS!$A$7:$F$33,6,0)","v":605.87199999999996}]
["98946","WA","NWPP",{"$f":"VLOOKUP(C41143,EMISSION_FACTORS!$A$7:$F$33,6,0)","v":605.87199999999996}]
["98947","WA","NWPP",{"$f":"VLOOKUP(C41144,EMISSION_FACTORS!$A$7:$F$33,6,0)","v":605.87199999999996}]
["98948","WA","NWPP",{"$f":"VLOOKUP(C41145,EMISSION_FACTORS!$A$7:$F$33,6,0)","v":605.87199999999996}]
["98950","WA","NWPP",{"$f":"VLOOKUP(C41146,EMISSION_FACTORS!$A$7:$F$33,6,0)","v":605.87199999999996}]
["98951","WA","NWPP",{"$f":"VLOOKUP(C41147,EMISSION_FACTORS!$A$7:$F$33,6,0)","v":605.87199999999996}]
["98952","WA","NWPP",{"$f":"VLOOKUP(C41148,EMISSION_FACTORS!$A$7:$F$33,6,0)","v":605.87199999999996}]
["98953","WA","NWPP",{"$f":"VLOOKUP(C41149,EMISSION_FACTORS!$A$7:$F$33,6,0)","v":605.87199999999996}]
["99001","WA","NWPP",{"$f":"VLOOKUP(C41150,EMISSION_FACTORS!$A$7:$F$33,6,0)","v":605.87199999999996}]
["99003","WA","NWPP",{"$f":"VLOOKUP(C41151,EMISSION_FACTORS!$A$7:$F$33,6,0)","v":605.87199999999996}]
["99004","WA","NWPP",{"$f":"VLOOKUP(C41152,EMISSION_FACTORS!$A$7:$F$33,6,0)","v":605.87199999999996}]
["99005","WA","NWPP",{"$f":"VLOOKUP(C41153,EMISSION_FACTORS!$A$7:$F$33,6,0)","v":605.87199999999996}]
["99006","WA","NWPP",{"$f":"VLOOKUP(C41154,EMISSION_FACTORS!$A$7:$F$33,6,0)","v":605.87199999999996}]
["99008","WA","NWPP",{"$f":"VLOOKUP(C41155,EMISSION_FACTORS!$A$7:$F$33,6,0)","v":605.87199999999996}]
["99009","WA","NWPP",{"$f":"VLOOKUP(C41156,EMISSION_FACTORS!$A$7:$F$33,6,0)","v":605.87199999999996}]
["99011","WA","NWPP",{"$f":"VLOOKUP(C41157,EMISSION_FACTORS!$A$7:$F$33,6,0)","v":605.87199999999996}]
["99012","WA","NWPP",{"$f":"VLOOKUP(C41158,EMISSION_FACTORS!$A$7:$F$33,6,0)","v":605.87199999999996}]
["99013","WA","NWPP",{"$f":"VLOOKUP(C41159,EMISSION_FACTORS!$A$7:$F$33,6,0)","v":605.87199999999996}]
["99014","WA","NWPP",{"$f":"VLOOKUP(C41160,EMISSION_FACTORS!$A$7:$F$33,6,0)","v":605.87199999999996}]
["99016","WA","NWPP",{"$f":"VLOOKUP(C41161,EMISSION_FACTORS!$A$7:$F$33,6,0)","v":605.87199999999996}]
["99017","WA","NWPP",{"$f":"VLOOKUP(C41162,EMISSION_FACTORS!$A$7:$F$33,6,0)","v":605.87199999999996}]
["99018","WA","NWPP",{"$f":"VLOOKUP(C41163,EMISSION_FACTORS!$A$7:$F$33,6,0)","v":605.87199999999996}]
["99019","WA","NWPP",{"$f":"VLOOKUP(C41164,EMISSION_FACTORS!$A$7:$F$33,6,0)","v":605.87199999999996}]
["99020","WA","NWPP",{"$f":"VLOOKUP(C41165,EMISSION_FACTORS!$A$7:$F$33,6,0)","v":605.87199999999996}]
["99021","WA","NWPP",{"$f":"VLOOKUP(C41166,EMISSION_FACTORS!$A$7:$F$33,6,0)","v":605.87199999999996}]
["99022","WA","NWPP",{"$f":"VLOOKUP(C41167,EMISSION_FACTORS!$A$7:$F$33,6,0)","v":605.87199999999996}]
["99023","WA","NWPP",{"$f":"VLOOKUP(C41168,EMISSION_FACTORS!$A$7:$F$33,6,0)","v":605.87199999999996}]
["99025","WA","NWPP",{"$f":"VLOOKUP(C41169,EMISSION_FACTORS!$A$7:$F$33,6,0)","v":605.87199999999996}]
["99026","WA","NWPP",{"$f":"VLOOKUP(C41170,EMISSION_FACTORS!$A$7:$F$33,6,0)","v":605.87199999999996}]
["99027","WA","NWPP",{"$f":"VLOOKUP(C41171,EMISSION_FACTORS!$A$7:$F$33,6,0)","v":605.87199999999996}]
["99029","WA","NWPP",{"$f":"VLOOKUP(C41172,EMISSION_FACTORS!$A$7:$F$33,6,0)","v":605.87199999999996}]
["99030","WA","NWPP",{"$f":"VLOOKUP(C41173,EMISSION_FACTORS!$A$7:$F$33,6,0)","v":605.87199999999996}]
["99031","WA","NWPP",{"$f":"VLOOKUP(C41174,EMISSION_FACTORS!$A$7:$F$33,6,0)","v":605.87199999999996}]
["99032","WA","NWPP",{"$f":"VLOOKUP(C41175,EMISSION_FACTORS!$A$7:$F$33,6,0)","v":605.87199999999996}]
["99033","WA","NWPP",{"$f":"VLOOKUP(C41176,EMISSION_FACTORS!$A$7:$F$33,6,0)","v":605.87199999999996}]
["99034","WA","NWPP",{"$f":"VLOOKUP(C41177,EMISSION_FACTORS!$A$7:$F$33,6,0)","v":605.87199999999996}]
["99036","WA","NWPP",{"$f":"VLOOKUP(C41178,EMISSION_FACTORS!$A$7:$F$33,6,0)","v":605.87199999999996}]
["99037","WA","NWPP",{"$f":"VLOOKUP(C41179,EMISSION_FACTORS!$A$7:$F$33,6,0)","v":605.87199999999996}]
["99039","WA","NWPP",{"$f":"VLOOKUP(C41180,EMISSION_FACTORS!$A$7:$F$33,6,0)","v":605.87199999999996}]
["99040","WA","NWPP",{"$f":"VLOOKUP(C41181,EMISSION_FACTORS!$A$7:$F$33,6,0)","v":605.87199999999996}]
["99101","WA","NWPP",{"$f":"VLOOKUP(C41182,EMISSION_FACTORS!$A$7:$F$33,6,0)","v":605.87199999999996}]
["99102","WA","NWPP",{"$f":"VLOOKUP(C41183,EMISSION_FACTORS!$A$7:$F$33,6,0)","v":605.87199999999996}]
["99103","WA","NWPP",{"$f":"VLOOKUP(C41184,EMISSION_FACTORS!$A$7:$F$33,6,0)","v":605.87199999999996}]
["99104","WA","NWPP",{"$f":"VLOOKUP(C41185,EMISSION_FACTORS!$A$7:$F$33,6,0)","v":605.87199999999996}]
["99105","WA","NWPP",{"$f":"VLOOKUP(C41186,EMISSION_FACTORS!$A$7:$F$33,6,0)","v":605.87199999999996}]
["99107","WA","NWPP",{"$f":"VLOOKUP(C41187,EMISSION_FACTORS!$A$7:$F$33,6,0)","v":605.87199999999996}]
["99109","WA","NWPP",{"$f":"VLOOKUP(C41188,EMISSION_FACTORS!$A$7:$F$33,6,0)","v":605.87199999999996}]
["99110","WA","NWPP",{"$f":"VLOOKUP(C41189,EMISSION_FACTORS!$A$7:$F$33,6,0)","v":605.87199999999996}]
["99111","WA","NWPP",{"$f":"VLOOKUP(C41190,EMISSION_FACTORS!$A$7:$F$33,6,0)","v":605.87199999999996}]
["99113","WA","NWPP",{"$f":"VLOOKUP(C41191,EMISSION_FACTORS!$A$7:$F$33,6,0)","v":605.87199999999996}]
["99114","WA","NWPP",{"$f":"VLOOKUP(C41192,EMISSION_FACTORS!$A$7:$F$33,6,0)","v":605.87199999999996}]
["99115","WA","NWPP",{"$f":"VLOOKUP(C41193,EMISSION_FACTORS!$A$7:$F$33,6,0)","v":605.87199999999996}]
["99116","WA","NWPP",{"$f":"VLOOKUP(C41194,EMISSION_FACTORS!$A$7:$F$33,6,0)","v":605.87199999999996}]
["99117","WA","NWPP",{"$f":"VLOOKUP(C41195,EMISSION_FACTORS!$A$7:$F$33,6,0)","v":605.87199999999996}]
["99118","WA","NWPP",{"$f":"VLOOKUP(C41196,EMISSION_FACTORS!$A$7:$F$33,6,0)","v":605.87199999999996}]
["99119","WA","NWPP",{"$f":"VLOOKUP(C41197,EMISSION_FACTORS!$A$7:$F$33,6,0)","v":605.87199999999996}]
["99121","WA","NWPP",{"$f":"VLOOKUP(C41198,EMISSION_FACTORS!$A$7:$F$33,6,0)","v":605.87199999999996}]
["99122","WA","NWPP",{"$f":"VLOOKUP(C41199,EMISSION_FACTORS!$A$7:$F$33,6,0)","v":605.87199999999996}]
["99123","WA","NWPP",{"$f":"VLOOKUP(C41200,EMISSION_FACTORS!$A$7:$F$33,6,0)","v":605.87199999999996}]
["99124","WA","NWPP",{"$f":"VLOOKUP(C41201,EMISSION_FACTORS!$A$7:$F$33,6,0)","v":605.87199999999996}]
["99125","WA","NWPP",{"$f":"VLOOKUP(C41202,EMISSION_FACTORS!$A$7:$F$33,6,0)","v":605.87199999999996}]
["99126","WA","NWPP",{"$f":"VLOOKUP(C41203,EMISSION_FACTORS!$A$7:$F$33,6,0)","v":605.87199999999996}]
["99128","WA","NWPP",{"$f":"VLOOKUP(C41204,EMISSION_FACTORS!$A$7:$F$33,6,0)","v":605.87199999999996}]
["99129","WA","NWPP",{"$f":"VLOOKUP(C41205,EMISSION_FACTORS!$A$7:$F$33,6,0)","v":605.87199999999996}]
["99130","WA","NWPP",{"$f":"VLOOKUP(C41206,EMISSION_FACTORS!$A$7:$F$33,6,0)","v":605.87199999999996}]
["99131","WA","NWPP",{"$f":"VLOOKUP(C41207,EMISSION_FACTORS!$A$7:$F$33,6,0)","v":605.87199999999996}]
["99133","WA","NWPP",{"$f":"VLOOKUP(C41208,EMISSION_FACTORS!$A$7:$F$33,6,0)","v":605.87199999999996}]
["99134","WA","NWPP",{"$f":"VLOOKUP(C41209,EMISSION_FACTORS!$A$7:$F$33,6,0)","v":605.87199999999996}]
["99135","WA","NWPP",{"$f":"VLOOKUP(C41210,EMISSION_FACTORS!$A$7:$F$33,6,0)","v":605.87199999999996}]
["99136","WA","NWPP",{"$f":"VLOOKUP(C41211,EMISSION_FACTORS!$A$7:$F$33,6,0)","v":605.87199999999996}]
["99137","WA","NWPP",{"$f":"VLOOKUP(C41212,EMISSION_FACTORS!$A$7:$F$33,6,0)","v":605.87199999999996}]
["99138","WA","NWPP",{"$f":"VLOOKUP(C41213,EMISSION_FACTORS!$A$7:$F$33,6,0)","v":605.87199999999996}]
["99139","WA","NWPP",{"$f":"VLOOKUP(C41214,EMISSION_FACTORS!$A$7:$F$33,6,0)","v":605.87199999999996}]
["99140","WA","NWPP",{"$f":"VLOOKUP(C41215,EMISSION_FACTORS!$A$7:$F$33,6,0)","v":605.87199999999996}]
["99141","WA","NWPP",{"$f":"VLOOKUP(C41216,EMISSION_FACTORS!$A$7:$F$33,6,0)","v":605.87199999999996}]
["99143","WA","NWPP",{"$f":"VLOOKUP(C41217,EMISSION_FACTORS!$A$7:$F$33,6,0)","v":605.87199999999996}]
["99144","WA","NWPP",{"$f":"VLOOKUP(C41218,EMISSION_FACTORS!$A$7:$F$33,6,0)","v":605.87199999999996}]
["99146","WA","NWPP",{"$f":"VLOOKUP(C41219,EMISSION_FACTORS!$A$7:$F$33,6,0)","v":605.87199999999996}]
["99147","WA","NWPP",{"$f":"VLOOKUP(C41220,EMISSION_FACTORS!$A$7:$F$33,6,0)","v":605.87199999999996}]
["99148","WA","NWPP",{"$f":"VLOOKUP(C41221,EMISSION_FACTORS!$A$7:$F$33,6,0)","v":605.87199999999996}]
["99149","WA","NWPP",{"$f":"VLOOKUP(C41222,EMISSION_FACTORS!$A$7:$F$33,6,0)","v":605.87199999999996}]
["99150","WA","NWPP",{"$f":"VLOOKUP(C41223,EMISSION_FACTORS!$A$7:$F$33,6,0)","v":605.87199999999996}]
["99151","WA","NWPP",{"$f":"VLOOKUP(C41224,EMISSION_FACTORS!$A$7:$F$33,6,0)","v":605.87199999999996}]
["99152","WA","NWPP",{"$f":"VLOOKUP(C41225,EMISSION_FACTORS!$A$7:$F$33,6,0)","v":605.87199999999996}]
["99153","WA","NWPP",{"$f":"VLOOKUP(C41226,EMISSION_FACTORS!$A$7:$F$33,6,0)","v":605.87199999999996}]
["99154","WA","NWPP",{"$f":"VLOOKUP(C41227,EMISSION_FACTORS!$A$7:$F$33,6,0)","v":605.87199999999996}]
["99155","WA","NWPP",{"$f":"VLOOKUP(C41228,EMISSION_FACTORS!$A$7:$F$33,6,0)","v":605.87199999999996}]
["99156","WA","NWPP",{"$f":"VLOOKUP(C41229,EMISSION_FACTORS!$A$7:$F$33,6,0)","v":605.87199999999996}]
["99157","WA","NWPP",{"$f":"VLOOKUP(C41230,EMISSION_FACTORS!$A$7:$F$33,6,0)","v":605.87199999999996}]
["99158","WA","NWPP",{"$f":"VLOOKUP(C41231,EMISSION_FACTORS!$A$7:$F$33,6,0)","v":605.87199999999996}]
["99159","WA","NWPP",{"$f":"VLOOKUP(C41232,EMISSION_FACTORS!$A$7:$F$33,6,0)","v":605.87199999999996}]
["99160","WA","NWPP",{"$f":"VLOOKUP(C41233,EMISSION_FACTORS!$A$7:$F$33,6,0)","v":605.87199999999996}]
["99161","WA","NWPP",{"$f":"VLOOKUP(C41234,EMISSION_FACTORS!$A$7:$F$33,6,0)","v":605.87199999999996}]
["99163","WA","NWPP",{"$f":"VLOOKUP(C41235,EMISSION_FACTORS!$A$7:$F$33,6,0)","v":605.87199999999996}]
["99164","WA","NWPP",{"$f":"VLOOKUP(C41236,EMISSION_FACTORS!$A$7:$F$33,6,0)","v":605.87199999999996}]
["99166","WA","NWPP",{"$f":"VLOOKUP(C41237,EMISSION_FACTORS!$A$7:$F$33,6,0)","v":605.87199999999996}]
["99167","WA","NWPP",{"$f":"VLOOKUP(C41238,EMISSION_FACTORS!$A$7:$F$33,6,0)","v":605.87199999999996}]
["99169","WA","NWPP",{"$f":"VLOOKUP(C41239,EMISSION_FACTORS!$A$7:$F$33,6,0)","v":605.87199999999996}]
["99170","WA","NWPP",{"$f":"VLOOKUP(C41240,EMISSION_FACTORS!$A$7:$F$33,6,0)","v":605.87199999999996}]
["99171","WA","NWPP",{"$f":"VLOOKUP(C41241,EMISSION_FACTORS!$A$7:$F$33,6,0)","v":605.87199999999996}]
["99173","WA","NWPP",{"$f":"VLOOKUP(C41242,EMISSION_FACTORS!$A$7:$F$33,6,0)","v":605.87199999999996}]
["99174","WA","NWPP",{"$f":"VLOOKUP(C41243,EMISSION_FACTORS!$A$7:$F$33,6,0)","v":605.87199999999996}]
["99176","WA","NWPP",{"$f":"VLOOKUP(C41244,EMISSION_FACTORS!$A$7:$F$33,6,0)","v":605.87199999999996}]
["99179","WA","NWPP",{"$f":"VLOOKUP(C41245,EMISSION_FACTORS!$A$7:$F$33,6,0)","v":605.87199999999996}]
["99180","WA","NWPP",{"$f":"VLOOKUP(C41246,EMISSION_FACTORS!$A$7:$F$33,6,0)","v":605.87199999999996}]
["99181","WA","NWPP",{"$f":"VLOOKUP(C41247,EMISSION_FACTORS!$A$7:$F$33,6,0)","v":605.87199999999996}]
["99185","WA","NWPP",{"$f":"VLOOKUP(C41248,EMISSION_FACTORS!$A$7:$F$33,6,0)","v":605.87199999999996}]
["99201","WA","NWPP",{"$f":"VLOOKUP(C41249,EMISSION_FACTORS!$A$7:$F$33,6,0)","v":605.87199999999996}]
["99202","WA","NWPP",{"$f":"VLOOKUP(C41250,EMISSION_FACTORS!$A$7:$F$33,6,0)","v":605.87199999999996}]
["99203","WA","NWPP",{"$f":"VLOOKUP(C41251,EMISSION_FACTORS!$A$7:$F$33,6,0)","v":605.87199999999996}]
["99204","WA","NWPP",{"$f":"VLOOKUP(C41252,EMISSION_FACTORS!$A$7:$F$33,6,0)","v":605.87199999999996}]
["99205","WA","NWPP",{"$f":"VLOOKUP(C41253,EMISSION_FACTORS!$A$7:$F$33,6,0)","v":605.87199999999996}]
["99206","WA","NWPP",{"$f":"VLOOKUP(C41254,EMISSION_FACTORS!$A$7:$F$33,6,0)","v":605.87199999999996}]
["99207","WA","NWPP",{"$f":"VLOOKUP(C41255,EMISSION_FACTORS!$A$7:$F$33,6,0)","v":605.87199999999996}]
["99208","WA","NWPP",{"$f":"VLOOKUP(C41256,EMISSION_FACTORS!$A$7:$F$33,6,0)","v":605.87199999999996}]
["99209","WA","NWPP",{"$f":"VLOOKUP(C41257,EMISSION_FACTORS!$A$7:$F$33,6,0)","v":605.87199999999996}]
["99210","WA","NWPP",{"$f":"VLOOKUP(C41258,EMISSION_FACTORS!$A$7:$F$33,6,0)","v":605.87199999999996}]
["99211","WA","NWPP",{"$f":"VLOOKUP(C41259,EMISSION_FACTORS!$A$7:$F$33,6,0)","v":605.87199999999996}]
["99212","WA","NWPP",{"$f":"VLOOKUP(C41260,EMISSION_FACTORS!$A$7:$F$33,6,0)","v":605.87199999999996}]
["99213","WA","NWPP",{"$f":"VLOOKUP(C41261,EMISSION_FACTORS!$A$7:$F$33,6,0)","v":605.87199999999996}]
["99214","WA","NWPP",{"$f":"VLOOKUP(C41262,EMISSION_FACTORS!$A$7:$F$33,6,0)","v":605.87199999999996}]
["99215","WA","NWPP",{"$f":"VLOOKUP(C41263,EMISSION_FACTORS!$A$7:$F$33,6,0)","v":605.87199999999996}]
["99216","WA","NWPP",{"$f":"VLOOKUP(C41264,EMISSION_FACTORS!$A$7:$F$33,6,0)","v":605.87199999999996}]
["99217","WA","NWPP",{"$f":"VLOOKUP(C41265,EMISSION_FACTORS!$A$7:$F$33,6,0)","v":605.87199999999996}]
["99218","WA","NWPP",{"$f":"VLOOKUP(C41266,EMISSION_FACTORS!$A$7:$F$33,6,0)","v":605.87199999999996}]
["99219","WA","NWPP",{"$f":"VLOOKUP(C41267,EMISSION_FACTORS!$A$7:$F$33,6,0)","v":605.87199999999996}]
["99220","WA","NWPP",{"$f":"VLOOKUP(C41268,EMISSION_FACTORS!$A$7:$F$33,6,0)","v":605.87199999999996}]
["99223","WA","NWPP",{"$f":"VLOOKUP(C41269,EMISSION_FACTORS!$A$7:$F$33,6,0)","v":605.87199999999996}]
["99224","WA","NWPP",{"$f":"VLOOKUP(C41270,EMISSION_FACTORS!$A$7:$F$33,6,0)","v":605.87199999999996}]
["99228","WA","NWPP",{"$f":"VLOOKUP(C41271,EMISSION_FACTORS!$A$7:$F$33,6,0)","v":605.87199999999996}]
["99251","WA","NWPP",{"$f":"VLOOKUP(C41272,EMISSION_FACTORS!$A$7:$F$33,6,0)","v":605.87199999999996}]
["99252","WA","NWPP",{"$f":"VLOOKUP(C41273,EMISSION_FACTORS!$A$7:$F$33,6,0)","v":605.87199999999996}]
["99256","WA","NWPP",{"$f":"VLOOKUP(C41274,EMISSION_FACTORS!$A$7:$F$33,6,0)","v":605.87199999999996}]
["99258","WA","NWPP",{"$f":"VLOOKUP(C41275,EMISSION_FACTORS!$A$7:$F$33,6,0)","v":605.87199999999996}]
["99260","WA","NWPP",{"$f":"VLOOKUP(C41276,EMISSION_FACTORS!$A$7:$F$33,6,0)","v":605.87199999999996}]
["99299","WA","NWPP",{"$f":"VLOOKUP(C41277,EMISSION_FACTORS!$A$7:$F$33,6,0)","v":605.87199999999996}]
["99301","WA","NWPP",{"$f":"VLOOKUP(C41278,EMISSION_FACTORS!$A$7:$F$33,6,0)","v":605.87199999999996}]
["99302","WA","NWPP",{"$f":"VLOOKUP(C41279,EMISSION_FACTORS!$A$7:$F$33,6,0)","v":605.87199999999996}]
["99320","WA","NWPP",{"$f":"VLOOKUP(C41280,EMISSION_FACTORS!$A$7:$F$33,6,0)","v":605.87199999999996}]
["99321","WA","NWPP",{"$f":"VLOOKUP(C41281,EMISSION_FACTORS!$A$7:$F$33,6,0)","v":605.87199999999996}]
["99322","WA","NWPP",{"$f":"VLOOKUP(C41282,EMISSION_FACTORS!$A$7:$F$33,6,0)","v":605.87199999999996}]
["99323","WA","NWPP",{"$f":"VLOOKUP(C41283,EMISSION_FACTORS!$A$7:$F$33,6,0)","v":605.87199999999996}]
["99324","WA","NWPP",{"$f":"VLOOKUP(C41284,EMISSION_FACTORS!$A$7:$F$33,6,0)","v":605.87199999999996}]
["99326","WA","NWPP",{"$f":"VLOOKUP(C41285,EMISSION_FACTORS!$A$7:$F$33,6,0)","v":605.87199999999996}]
["99328","WA","NWPP",{"$f":"VLOOKUP(C41286,EMISSION_FACTORS!$A$7:$F$33,6,0)","v":605.87199999999996}]
["99329","WA","NWPP",{"$f":"VLOOKUP(C41287,EMISSION_FACTORS!$A$7:$F$33,6,0)","v":605.87199999999996}]
["99330","WA","NWPP",{"$f":"VLOOKUP(C41288,EMISSION_FACTORS!$A$7:$F$33,6,0)","v":605.87199999999996}]
["99333","WA","NWPP",{"$f":"VLOOKUP(C41289,EMISSION_FACTORS!$A$7:$F$33,6,0)","v":605.87199999999996}]
["99335","WA","NWPP",{"$f":"VLOOKUP(C41290,EMISSION_FACTORS!$A$7:$F$33,6,0)","v":605.87199999999996}]
["99336","WA","NWPP",{"$f":"VLOOKUP(C41291,EMISSION_FACTORS!$A$7:$F$33,6,0)","v":605.87199999999996}]
["99337","WA","NWPP",{"$f":"VLOOKUP(C41292,EMISSION_FACTORS!$A$7:$F$33,6,0)","v":605.87199999999996}]
["99338","WA","NWPP",{"$f":"VLOOKUP(C41293,EMISSION_FACTORS!$A$7:$F$33,6,0)","v":605.87199999999996}]
["99341","WA","NWPP",{"$f":"VLOOKUP(C41294,EMISSION_FACTORS!$A$7:$F$33,6,0)","v":605.87199999999996}]
["99343","WA","NWPP",{"$f":"VLOOKUP(C41295,EMISSION_FACTORS!$A$7:$F$33,6,0)","v":605.87199999999996}]
["99344","WA","NWPP",{"$f":"VLOOKUP(C41296,EMISSION_FACTORS!$A$7:$F$33,6,0)","v":605.87199999999996}]
["99345","WA","NWPP",{"$f":"VLOOKUP(C41297,EMISSION_FACTORS!$A$7:$F$33,6,0)","v":605.87199999999996}]
["99346","WA","NWPP",{"$f":"VLOOKUP(C41298,EMISSION_FACTORS!$A$7:$F$33,6,0)","v":605.87199999999996}]
["99347","WA","NWPP",{"$f":"VLOOKUP(C41299,EMISSION_FACTORS!$A$7:$F$33,6,0)","v":605.87199999999996}]
["99348","WA","NWPP",{"$f":"VLOOKUP(C41300,EMISSION_FACTORS!$A$7:$F$33,6,0)","v":605.87199999999996}]
["99349","WA","NWPP",{"$f":"VLOOKUP(C41301,EMISSION_FACTORS!$A$7:$F$33,6,0)","v":605.87199999999996}]
["99350","WA","NWPP",{"$f":"VLOOKUP(C41302,EMISSION_FACTORS!$A$7:$F$33,6,0)","v":605.87199999999996}]
["99352","WA","NWPP",{"$f":"VLOOKUP(C41303,EMISSION_FACTORS!$A$7:$F$33,6,0)","v":605.87199999999996}]
["99353","WA","NWPP",{"$f":"VLOOKUP(C41304,EMISSION_FACTORS!$A$7:$F$33,6,0)","v":605.87199999999996}]
["99354","WA","NWPP",{"$f":"VLOOKUP(C41305,EMISSION_FACTORS!$A$7:$F$33,6,0)","v":605.87199999999996}]
["99356","WA","NWPP",{"$f":"VLOOKUP(C41306,EMISSION_FACTORS!$A$7:$F$33,6,0)","v":605.87199999999996}]
["99357","WA","NWPP",{"$f":"VLOOKUP(C41307,EMISSION_FACTORS!$A$7:$F$33,6,0)","v":605.87199999999996}]
["99359","WA","NWPP",{"$f":"VLOOKUP(C41308,EMISSION_FACTORS!$A$7:$F$33,6,0)","v":605.87199999999996}]
["99360","WA","NWPP",{"$f":"VLOOKUP(C41309,EMISSION_FACTORS!$A$7:$F$33,6,0)","v":605.87199999999996}]
["99361","WA","NWPP",{"$f":"VLOOKUP(C41310,EMISSION_FACTORS!$A$7:$F$33,6,0)","v":605.87199999999996}]
["99362","WA","NWPP",{"$f":"VLOOKUP(C41311,EMISSION_FACTORS!$A$7:$F$33,6,0)","v":605.87199999999996}]
["99363","WA","NWPP",{"$f":"VLOOKUP(C41312,EMISSION_FACTORS!$A$7:$F$33,6,0)","v":605.87199999999996}]
["99371","WA","NWPP",{"$f":"VLOOKUP(C41313,EMISSION_FACTORS!$A$7:$F$33,6,0)","v":605.87199999999996}]
["99401","WA","NWPP",{"$f":"VLOOKUP(C41314,EMISSION_FACTORS!$A$7:$F$33,6,0)","v":605.87199999999996}]
["99402","WA","NWPP",{"$f":"VLOOKUP(C41315,EMISSION_FACTORS!$A$7:$F$33,6,0)","v":605.87199999999996}]
["99403","WA","NWPP",{"$f":"VLOOKUP(C41316,EMISSION_FACTORS!$A$7:$F$33,6,0)","v":605.87199999999996}]
["99501","AK","AKGD",{"$f":"VLOOKUP(C41317,EMISSION_FACTORS!$A$7:$F$33,6,0)","v":1057.8409999999999}]
["99502","AK","AKGD",{"$f":"VLOOKUP(C41318,EMISSION_FACTORS!$A$7:$F$33,6,0)","v":1057.8409999999999}]
["99503","AK","AKGD",{"$f":"VLOOKUP(C41319,EMISSION_FACTORS!$A$7:$F$33,6,0)","v":1057.8409999999999}]
["99504","AK","AKGD",{"$f":"VLOOKUP(C41320,EMISSION_FACTORS!$A$7:$F$33,6,0)","v":1057.8409999999999}]
["99505","AK","AKGD",{"$f":"VLOOKUP(C41321,EMISSION_FACTORS!$A$7:$F$33,6,0)","v":1057.8409999999999}]
["99506","AK","AKGD",{"$f":"VLOOKUP(C41322,EMISSION_FACTORS!$A$7:$F$33,6,0)","v":1057.8409999999999}]
["99507","AK","AKGD",{"$f":"VLOOKUP(C41323,EMISSION_FACTORS!$A$7:$F$33,6,0)","v":1057.8409999999999}]
["99508","AK","AKGD",{"$f":"VLOOKUP(C41324,EMISSION_FACTORS!$A$7:$F$33,6,0)","v":1057.8409999999999}]
["99509","AK","AKGD",{"$f":"VLOOKUP(C41325,EMISSION_FACTORS!$A$7:$F$33,6,0)","v":1057.8409999999999}]
["99510","AK","AKGD",{"$f":"VLOOKUP(C41326,EMISSION_FACTORS!$A$7:$F$33,6,0)","v":1057.8409999999999}]
["99511","AK","AKGD",{"$f":"VLOOKUP(C41327,EMISSION_FACTORS!$A$7:$F$33,6,0)","v":1057.8409999999999}]
["99513","AK","AKGD",{"$f":"VLOOKUP(C41328,EMISSION_FACTORS!$A$7:$F$33,6,0)","v":1057.8409999999999}]
["99514","AK","AKGD",{"$f":"VLOOKUP(C41329,EMISSION_FACTORS!$A$7:$F$33,6,0)","v":1057.8409999999999}]
["99515","AK","AKGD",{"$f":"VLOOKUP(C41330,EMISSION_FACTORS!$A$7:$F$33,6,0)","v":1057.8409999999999}]
["99516","AK","AKGD",{"$f":"VLOOKUP(C41331,EMISSION_FACTORS!$A$7:$F$33,6,0)","v":1057.8409999999999}]
["99517","AK","AKGD",{"$f":"VLOOKUP(C41332,EMISSION_FACTORS!$A$7:$F$33,6,0)","v":1057.8409999999999}]
["99518","AK","AKGD",{"$f":"VLOOKUP(C41333,EMISSION_FACTORS!$A$7:$F$33,6,0)","v":1057.8409999999999}]
["99519","AK","AKGD",{"$f":"VLOOKUP(C41334,EMISSION_FACTORS!$A$7:$F$33,6,0)","v":1057.8409999999999}]
["99520","AK","AKGD",{"$f":"VLOOKUP(C41335,EMISSION_FACTORS!$A$7:$F$33,6,0)","v":1057.8409999999999}]
["99521","AK","AKGD",{"$f":"VLOOKUP(C41336,EMISSION_FACTORS!$A$7:$F$33,6,0)","v":1057.8409999999999}]
["99522","AK","AKGD",{"$f":"VLOOKUP(C41337,EMISSION_FACTORS!$A$7:$F$33,6,0)","v":1057.8409999999999}]
["99523","AK","AKGD",{"$f":"VLOOKUP(C41338,EMISSION_FACTORS!$A$7:$F$33,6,0)","v":1057.8409999999999}]
["99524","AK","AKGD",{"$f":"VLOOKUP(C41339,EMISSION_FACTORS!$A$7:$F$33,6,0)","v":1057.8409999999999}]
["99529","AK","AKGD",{"$f":"VLOOKUP(C41340,EMISSION_FACTORS!$A$7:$F$33,6,0)","v":1057.8409999999999}]
["99530","AK","AKGD",{"$f":"VLOOKUP(C41341,EMISSION_FACTORS!$A$7:$F$33,6,0)","v":1057.8409999999999}]
["99540","AK","AKGD",{"$f":"VLOOKUP(C41342,EMISSION_FACTORS!$A$7:$F$33,6,0)","v":1057.8409999999999}]
["99545","AK","AKMS",{"$f":"VLOOKUP(C41343,EMISSION_FACTORS!$A$7:$F$33,6,0)","v":497.55700000000002}]
["99546","AK","AKMS",{"$f":"VLOOKUP(C41344,EMISSION_FACTORS!$A$7:$F$33,6,0)","v":497.55700000000002}]
["99547","AK","AKMS",{"$f":"VLOOKUP(C41345,EMISSION_FACTORS!$A$7:$F$33,6,0)","v":497.55700000000002}]
["99548","AK","AKMS",{"$f":"VLOOKUP(C41346,EMISSION_FACTORS!$A$7:$F$33,6,0)","v":497.55700000000002}]
["99549","AK","AKMS",{"$f":"VLOOKUP(C41347,EMISSION_FACTORS!$A$7:$F$33,6,0)","v":497.55700000000002}]
["99550","AK","AKMS",{"$f":"VLOOKUP(C41348,EMISSION_FACTORS!$A$7:$F$33,6,0)","v":497.55700000000002}]
["99551","AK","AKMS",{"$f":"VLOOKUP(C41349,EMISSION_FACTORS!$A$7:$F$33,6,0)","v":497.55700000000002}]
["99552","AK","AKMS",{"$f":"VLOOKUP(C41350,EMISSION_FACTORS!$A$7:$F$33,6,0)","v":497.55700000000002}]
["99553","AK","AKMS",{"$f":"VLOOKUP(C41351,EMISSION_FACTORS!$A$7:$F$33,6,0)","v":497.55700000000002}]
["99554","AK","AKMS",{"$f":"VLOOKUP(C41352,EMISSION_FACTORS!$A$7:$F$33,6,0)","v":497.55700000000002}]
["99555","AK","AKMS",{"$f":"VLOOKUP(C41353,EMISSION_FACTORS!$A$7:$F$33,6,0)","v":497.55700000000002}]
["99556","AK","AKGD",{"$f":"VLOOKUP(C41354,EMISSION_FACTORS!$A$7:$F$33,6,0)","v":1057.8409999999999}]
["99557","AK","AKMS",{"$f":"VLOOKUP(C41355,EMISSION_FACTORS!$A$7:$F$33,6,0)","v":497.55700000000002}]
["99558","AK","AKMS",{"$f":"VLOOKUP(C41356,EMISSION_FACTORS!$A$7:$F$33,6,0)","v":497.55700000000002}]
["99559","AK","AKMS",{"$f":"VLOOKUP(C41357,EMISSION_FACTORS!$A$7:$F$33,6,0)","v":497.55700000000002}]
["99561","AK","AKMS",{"$f":"VLOOKUP(C41358,EMISSION_FACTORS!$A$7:$F$33,6,0)","v":497.55700000000002}]
["99563","AK","AKMS",{"$f":"VLOOKUP(C41359,EMISSION_FACTORS!$A$7:$F$33,6,0)","v":497.55700000000002}]
["99564","AK","AKMS",{"$f":"VLOOKUP(C41360,EMISSION_FACTORS!$A$7:$F$33,6,0)","v":497.55700000000002}]
["99565","AK","AKMS",{"$f":"VLOOKUP(C41361,EMISSION_FACTORS!$A$7:$F$33,6,0)","v":497.55700000000002}]
["99566","AK","AKMS",{"$f":"VLOOKUP(C41362,EMISSION_FACTORS!$A$7:$F$33,6,0)","v":497.55700000000002}]
["99567","AK","AKGD",{"$f":"VLOOKUP(C41363,EMISSION_FACTORS!$A$7:$F$33,6,0)","v":1057.8409999999999}]
["99568","AK","AKGD",{"$f":"VLOOKUP(C41364,EMISSION_FACTORS!$A$7:$F$33,6,0)","v":1057.8409999999999}]
["99569","AK","AKMS",{"$f":"VLOOKUP(C41365,EMISSION_FACTORS!$A$7:$F$33,6,0)","v":497.55700000000002}]
["99571","AK","AKMS",{"$f":"VLOOKUP(C41366,EMISSION_FACTORS!$A$7:$F$33,6,0)","v":497.55700000000002}]
["99572","AK","AKGD",{"$f":"VLOOKUP(C41367,EMISSION_FACTORS!$A$7:$F$33,6,0)","v":1057.8409999999999}]
["99573","AK","AKMS",{"$f":"VLOOKUP(C41368,EMISSION_FACTORS!$A$7:$F$33,6,0)","v":497.55700000000002}]
["99574","AK","AKGD",{"$f":"VLOOKUP(C41369,EMISSION_FACTORS!$A$7:$F$33,6,0)","v":1057.8409999999999}]
["99575","AK","AKMS",{"$f":"VLOOKUP(C41370,EMISSION_FACTORS!$A$7:$F$33,6,0)","v":497.55700000000002}]
["99576","AK","AKMS",{"$f":"VLOOKUP(C41371,EMISSION_FACTORS!$A$7:$F$33,6,0)","v":497.55700000000002}]
["99577","AK","AKGD",{"$f":"VLOOKUP(C41372,EMISSION_FACTORS!$A$7:$F$33,6,0)","v":1057.8409999999999}]
["99578","AK","AKMS",{"$f":"VLOOKUP(C41373,EMISSION_FACTORS!$A$7:$F$33,6,0)","v":497.55700000000002}]
["99579","AK","AKMS",{"$f":"VLOOKUP(C41374,EMISSION_FACTORS!$A$7:$F$33,6,0)","v":497.55700000000002}]
["99580","AK","AKMS",{"$f":"VLOOKUP(C41375,EMISSION_FACTORS!$A$7:$F$33,6,0)","v":497.55700000000002}]
["99581","AK","AKMS",{"$f":"VLOOKUP(C41376,EMISSION_FACTORS!$A$7:$F$33,6,0)","v":497.55700000000002}]
["99583","AK","AKMS",{"$f":"VLOOKUP(C41377,EMISSION_FACTORS!$A$7:$F$33,6,0)","v":497.55700000000002}]
["99585","AK","AKMS",{"$f":"VLOOKUP(C41378,EMISSION_FACTORS!$A$7:$F$33,6,0)","v":497.55700000000002}]
["99586","AK","AKGD",{"$f":"VLOOKUP(C41379,EMISSION_FACTORS!$A$7:$F$33,6,0)","v":1057.8409999999999}]
["99587","AK","AKGD",{"$f":"VLOOKUP(C41380,EMISSION_FACTORS!$A$7:$F$33,6,0)","v":1057.8409999999999}]
["99588","AK","AKGD",{"$f":"VLOOKUP(C41381,EMISSION_FACTORS!$A$7:$F$33,6,0)","v":1057.8409999999999}]
["99589","AK","AKMS",{"$f":"VLOOKUP(C41382,EMISSION_FACTORS!$A$7:$F$33,6,0)","v":497.55700000000002}]
["99590","AK","AKMS",{"$f":"VLOOKUP(C41383,EMISSION_FACTORS!$A$7:$F$33,6,0)","v":497.55700000000002}]
["99591","AK","AKMS",{"$f":"VLOOKUP(C41384,EMISSION_FACTORS!$A$7:$F$33,6,0)","v":497.55700000000002}]
["99599","AK","AKGD",{"$f":"VLOOKUP(C41385,EMISSION_FACTORS!$A$7:$F$33,6,0)","v":1057.8409999999999}]
["99602","AK","AKMS",{"$f":"VLOOKUP(C41386,EMISSION_FACTORS!$A$7:$F$33,6,0)","v":497.55700000000002}]
["99603","AK","AKGD",{"$f":"VLOOKUP(C41387,EMISSION_FACTORS!$A$7:$F$33,6,0)","v":1057.8409999999999}]
["99604","AK","AKMS",{"$f":"VLOOKUP(C41388,EMISSION_FACTORS!$A$7:$F$33,6,0)","v":497.55700000000002}]
["99605","AK","AKGD",{"$f":"VLOOKUP(C41389,EMISSION_FACTORS!$A$7:$F$33,6,0)","v":1057.8409999999999}]
["99606","AK","AKMS",{"$f":"VLOOKUP(C41390,EMISSION_FACTORS!$A$7:$F$33,6,0)","v":497.55700000000002}]
["99607","AK","AKMS",{"$f":"VLOOKUP(C41391,EMISSION_FACTORS!$A$7:$F$33,6,0)","v":497.55700000000002}]
["99608","AK","AKMS",{"$f":"VLOOKUP(C41392,EMISSION_FACTORS!$A$7:$F$33,6,0)","v":497.55700000000002}]
["99609","AK","AKMS",{"$f":"VLOOKUP(C41393,EMISSION_FACTORS!$A$7:$F$33,6,0)","v":497.55700000000002}]
["99610","AK","AKGD",{"$f":"VLOOKUP(C41394,EMISSION_FACTORS!$A$7:$F$33,6,0)","v":1057.8409999999999}]
["99611","AK","AKGD",{"$f":"VLOOKUP(C41395,EMISSION_FACTORS!$A$7:$F$33,6,0)","v":1057.8409999999999}]
["99612","AK","AKMS",{"$f":"VLOOKUP(C41396,EMISSION_FACTORS!$A$7:$F$33,6,0)","v":497.55700000000002}]
["99613","AK","AKMS",{"$f":"VLOOKUP(C41397,EMISSION_FACTORS!$A$7:$F$33,6,0)","v":497.55700000000002}]
["99614","AK","AKMS",{"$f":"VLOOKUP(C41398,EMISSION_FACTORS!$A$7:$F$33,6,0)","v":497.55700000000002}]
["99615","AK","AKMS",{"$f":"VLOOKUP(C41399,EMISSION_FACTORS!$A$7:$F$33,6,0)","v":497.55700000000002}]
["99619","AK","AKMS",{"$f":"VLOOKUP(C41400,EMISSION_FACTORS!$A$7:$F$33,6,0)","v":497.55700000000002}]
["99620","AK","AKMS",{"$f":"VLOOKUP(C41401,EMISSION_FACTORS!$A$7:$F$33,6,0)","v":497.55700000000002}]
["99621","AK","AKMS",{"$f":"VLOOKUP(C41402,EMISSION_FACTORS!$A$7:$F$33,6,0)","v":497.55700000000002}]
["99622","AK","AKMS",{"$f":"VLOOKUP(C41403,EMISSION_FACTORS!$A$7:$F$33,6,0)","v":497.55700000000002}]
["99623","AK","AKGD",{"$f":"VLOOKUP(C41404,EMISSION_FACTORS!$A$7:$F$33,6,0)","v":1057.8409999999999}]
["99624","AK","AKMS",{"$f":"VLOOKUP(C41405,EMISSION_FACTORS!$A$7:$F$33,6,0)","v":497.55700000000002}]
["99625","AK","AKMS",{"$f":"VLOOKUP(C41406,EMISSION_FACTORS!$A$7:$F$33,6,0)","v":497.55700000000002}]
["99626","AK","AKMS",{"$f":"VLOOKUP(C41407,EMISSION_FACTORS!$A$7:$F$33,6,0)","v":497.55700000000002}]
["99627","AK","AKMS",{"$f":"VLOOKUP(C41408,EMISSION_FACTORS!$A$7:$F$33,6,0)","v":497.55700000000002}]
["99628","AK","AKMS",{"$f":"VLOOKUP(C41409,EMISSION_FACTORS!$A$7:$F$33,6,0)","v":497.55700000000002}]
["99629","AK","AKGD",{"$f":"VLOOKUP(C41410,EMISSION_FACTORS!$A$7:$F$33,6,0)","v":1057.8409999999999}]
["99630","AK","AKMS",{"$f":"VLOOKUP(C41411,EMISSION_FACTORS!$A$7:$F$33,6,0)","v":497.55700000000002}]
["99631","AK","AKGD",{"$f":"VLOOKUP(C41412,EMISSION_FACTORS!$A$7:$F$33,6,0)","v":1057.8409999999999}]
["99632","AK","AKMS",{"$f":"VLOOKUP(C41413,EMISSION_FACTORS!$A$7:$F$33,6,0)","v":497.55700000000002}]
["99633","AK","AKMS",{"$f":"VLOOKUP(C41414,EMISSION_FACTORS!$A$7:$F$33,6,0)","v":497.55700000000002}]
["99634","AK","AKMS",{"$f":"VLOOKUP(C41415,EMISSION_FACTORS!$A$7:$F$33,6,0)","v":497.55700000000002}]
["99635","AK","AKGD",{"$f":"VLOOKUP(C41416,EMISSION_FACTORS!$A$7:$F$33,6,0)","v":1057.8409999999999}]
["99636","AK","AKMS",{"$f":"VLOOKUP(C41417,EMISSION_FACTORS!$A$7:$F$33,6,0)","v":497.55700000000002}]
["99637","AK","AKMS",{"$f":"VLOOKUP(C41418,EMISSION_FACTORS!$A$7:$F$33,6,0)","v":497.55700000000002}]
["99638","AK","AKMS",{"$f":"VLOOKUP(C41419,EMISSION_FACTORS!$A$7:$F$33,6,0)","v":497.55700000000002}]
["99639","AK","AKGD",{"$f":"VLOOKUP(C41420,EMISSION_FACTORS!$A$7:$F$33,6,0)","v":1057.8409999999999}]
["99640","AK","AKMS",{"$f":"VLOOKUP(C41421,EMISSION_FACTORS!$A$7:$F$33,6,0)","v":497.55700000000002}]
["99641","AK","AKMS",{"$f":"VLOOKUP(C41422,EMISSION_FACTORS!$A$7:$F$33,6,0)","v":497.55700000000002}]
["99643","AK","AKMS",{"$f":"VLOOKUP(C41423,EMISSION_FACTORS!$A$7:$F$33,6,0)","v":497.55700000000002}]
["99644","AK","AKMS",{"$f":"VLOOKUP(C41424,EMISSION_FACTORS!$A$7:$F$33,6,0)","v":497.55700000000002}]
["99645","AK","AKGD",{"$f":"VLOOKUP(C41425,EMISSION_FACTORS!$A$7:$F$33,6,0)","v":1057.8409999999999}]
["99647","AK","AKMS",{"$f":"VLOOKUP(C41426,EMISSION_FACTORS!$A$7:$F$33,6,0)","v":497.55700000000002}]
["99648","AK","AKMS",{"$f":"VLOOKUP(C41427,EMISSION_FACTORS!$A$7:$F$33,6,0)","v":497.55700000000002}]
["99649","AK","AKMS",{"$f":"VLOOKUP(C41428,EMISSION_FACTORS!$A$7:$F$33,6,0)","v":497.55700000000002}]
["99650","AK","AKMS",{"$f":"VLOOKUP(C41429,EMISSION_FACTORS!$A$7:$F$33,6,0)","v":497.55700000000002}]
["99651","AK","AKMS",{"$f":"VLOOKUP(C41430,EMISSION_FACTORS!$A$7:$F$33,6,0)","v":497.55700000000002}]
["99652","AK","AKGD",{"$f":"VLOOKUP(C41431,EMISSION_FACTORS!$A$7:$F$33,6,0)","v":1057.8409999999999}]
["99653","AK","AKMS",{"$f":"VLOOKUP(C41432,EMISSION_FACTORS!$A$7:$F$33,6,0)","v":497.55700000000002}]
["99654","AK","AKGD",{"$f":"VLOOKUP(C41433,EMISSION_FACTORS!$A$7:$F$33,6,0)","v":1057.8409999999999}]
["99655","AK","AKMS",{"$f":"VLOOKUP(C41434,EMISSION_FACTORS!$A$7:$F$33,6,0)","v":497.55700000000002}]
["99656","AK","AKMS",{"$f":"VLOOKUP(C41435,EMISSION_FACTORS!$A$7:$F$33,6,0)","v":497.55700000000002}]
["99657","AK","AKMS",{"$f":"VLOOKUP(C41436,EMISSION_FACTORS!$A$7:$F$33,6,0)","v":497.55700000000002}]
["99658","AK","AKMS",{"$f":"VLOOKUP(C41437,EMISSION_FACTORS!$A$7:$F$33,6,0)","v":497.55700000000002}]
["99659","AK","AKMS",{"$f":"VLOOKUP(C41438,EMISSION_FACTORS!$A$7:$F$33,6,0)","v":497.55700000000002}]
["99660","AK","AKMS",{"$f":"VLOOKUP(C41439,EMISSION_FACTORS!$A$7:$F$33,6,0)","v":497.55700000000002}]
["99661","AK","AKMS",{"$f":"VLOOKUP(C41440,EMISSION_FACTORS!$A$7:$F$33,6,0)","v":497.55700000000002}]
["99662","AK","AKMS",{"$f":"VLOOKUP(C41441,EMISSION_FACTORS!$A$7:$F$33,6,0)","v":497.55700000000002}]
["99663","AK","AKGD",{"$f":"VLOOKUP(C41442,EMISSION_FACTORS!$A$7:$F$33,6,0)","v":1057.8409999999999}]
["99664","AK","AKGD",{"$f":"VLOOKUP(C41443,EMISSION_FACTORS!$A$7:$F$33,6,0)","v":1057.8409999999999}]
["99665","AK","AKMS",{"$f":"VLOOKUP(C41444,EMISSION_FACTORS!$A$7:$F$33,6,0)","v":497.55700000000002}]
["99666","AK","AKMS",{"$f":"VLOOKUP(C41445,EMISSION_FACTORS!$A$7:$F$33,6,0)","v":497.55700000000002}]
["99667","AK","AKGD",{"$f":"VLOOKUP(C41446,EMISSION_FACTORS!$A$7:$F$33,6,0)","v":1057.8409999999999}]
["99668","AK","AKMS",{"$f":"VLOOKUP(C41447,EMISSION_FACTORS!$A$7:$F$33,6,0)","v":497.55700000000002}]
["99669","AK","AKGD",{"$f":"VLOOKUP(C41448,EMISSION_FACTORS!$A$7:$F$33,6,0)","v":1057.8409999999999}]
["99670","AK","AKMS",{"$f":"VLOOKUP(C41449,EMISSION_FACTORS!$A$7:$F$33,6,0)","v":497.55700000000002}]
["99671","AK","AKMS",{"$f":"VLOOKUP(C41450,EMISSION_FACTORS!$A$7:$F$33,6,0)","v":497.55700000000002}]
["99672","AK","AKGD",{"$f":"VLOOKUP(C41451,EMISSION_FACTORS!$A$7:$F$33,6,0)","v":1057.8409999999999}]
["99674","AK","AKGD",{"$f":"VLOOKUP(C41452,EMISSION_FACTORS!$A$7:$F$33,6,0)","v":1057.8409999999999}]
["99675","AK","AKMS",{"$f":"VLOOKUP(C41453,EMISSION_FACTORS!$A$7:$F$33,6,0)","v":497.55700000000002}]
["99676","AK","AKGD",{"$f":"VLOOKUP(C41454,EMISSION_FACTORS!$A$7:$F$33,6,0)","v":1057.8409999999999}]
["99677","AK","AKMS",{"$f":"VLOOKUP(C41455,EMISSION_FACTORS!$A$7:$F$33,6,0)","v":497.55700000000002}]
["99678","AK","AKMS",{"$f":"VLOOKUP(C41456,EMISSION_FACTORS!$A$7:$F$33,6,0)","v":497.55700000000002}]
["99679","AK","AKMS",{"$f":"VLOOKUP(C41457,EMISSION_FACTORS!$A$7:$F$33,6,0)","v":497.55700000000002}]
["99680","AK","AKMS",{"$f":"VLOOKUP(C41458,EMISSION_FACTORS!$A$7:$F$33,6,0)","v":497.55700000000002}]
["99681","AK","AKMS",{"$f":"VLOOKUP(C41459,EMISSION_FACTORS!$A$7:$F$33,6,0)","v":497.55700000000002}]
["99682","AK","AKGD",{"$f":"VLOOKUP(C41460,EMISSION_FACTORS!$A$7:$F$33,6,0)","v":1057.8409999999999}]
["99683","AK","AKGD",{"$f":"VLOOKUP(C41461,EMISSION_FACTORS!$A$7:$F$33,6,0)","v":1057.8409999999999}]
["99684","AK","AKMS",{"$f":"VLOOKUP(C41462,EMISSION_FACTORS!$A$7:$F$33,6,0)","v":497.55700000000002}]
["99685","AK","AKMS",{"$f":"VLOOKUP(C41463,EMISSION_FACTORS!$A$7:$F$33,6,0)","v":497.55700000000002}]
["99686","AK","AKGD",{"$f":"VLOOKUP(C41464,EMISSION_FACTORS!$A$7:$F$33,6,0)","v":1057.8409999999999}]
["99687","AK","AKGD",{"$f":"VLOOKUP(C41465,EMISSION_FACTORS!$A$7:$F$33,6,0)","v":1057.8409999999999}]
["99688","AK","AKGD",{"$f":"VLOOKUP(C41466,EMISSION_FACTORS!$A$7:$F$33,6,0)","v":1057.8409999999999}]
["99689","AK","AKMS",{"$f":"VLOOKUP(C41467,EMISSION_FACTORS!$A$7:$F$33,6,0)","v":497.55700000000002}]
["99690","AK","AKMS",{"$f":"VLOOKUP(C41468,EMISSION_FACTORS!$A$7:$F$33,6,0)","v":497.55700000000002}]
["99691","AK","AKMS",{"$f":"VLOOKUP(C41469,EMISSION_FACTORS!$A$7:$F$33,6,0)","v":497.55700000000002}]
["99692","AK","AKMS",{"$f":"VLOOKUP(C41470,EMISSION_FACTORS!$A$7:$F$33,6,0)","v":497.55700000000002}]
["99693","AK","AKMS",{"$f":"VLOOKUP(C41471,EMISSION_FACTORS!$A$7:$F$33,6,0)","v":497.55700000000002}]
["99694","AK","AKGD",{"$f":"VLOOKUP(C41472,EMISSION_FACTORS!$A$7:$F$33,6,0)","v":1057.8409999999999}]
["99695","AK","AKGD",{"$f":"VLOOKUP(C41473,EMISSION_FACTORS!$A$7:$F$33,6,0)","v":1057.8409999999999}]
["99697","AK","AKMS",{"$f":"VLOOKUP(C41474,EMISSION_FACTORS!$A$7:$F$33,6,0)","v":497.55700000000002}]
["99701","AK","AKGD",{"$f":"VLOOKUP(C41475,EMISSION_FACTORS!$A$7:$F$33,6,0)","v":1057.8409999999999}]
["99702","AK","AKGD",{"$f":"VLOOKUP(C41476,EMISSION_FACTORS!$A$7:$F$33,6,0)","v":1057.8409999999999}]
["99703","AK","AKGD",{"$f":"VLOOKUP(C41477,EMISSION_FACTORS!$A$7:$F$33,6,0)","v":1057.8409999999999}]
["99704","AK","AKGD",{"$f":"VLOOKUP(C41478,EMISSION_FACTORS!$A$7:$F$33,6,0)","v":1057.8409999999999}]
["99705","AK","AKGD",{"$f":"VLOOKUP(C41479,EMISSION_FACTORS!$A$7:$F$33,6,0)","v":1057.8409999999999}]
["99706","AK","AKGD",{"$f":"VLOOKUP(C41480,EMISSION_FACTORS!$A$7:$F$33,6,0)","v":1057.8409999999999}]
["99707","AK","AKGD",{"$f":"VLOOKUP(C41481,EMISSION_FACTORS!$A$7:$F$33,6,0)","v":1057.8409999999999}]
["99708","AK","AKGD",{"$f":"VLOOKUP(C41482,EMISSION_FACTORS!$A$7:$F$33,6,0)","v":1057.8409999999999}]
["99709","AK","AKGD",{"$f":"VLOOKUP(C41483,EMISSION_FACTORS!$A$7:$F$33,6,0)","v":1057.8409999999999}]
["99710","AK","AKGD",{"$f":"VLOOKUP(C41484,EMISSION_FACTORS!$A$7:$F$33,6,0)","v":1057.8409999999999}]
["99711","AK","AKGD",{"$f":"VLOOKUP(C41485,EMISSION_FACTORS!$A$7:$F$33,6,0)","v":1057.8409999999999}]
["99712","AK","AKGD",{"$f":"VLOOKUP(C41486,EMISSION_FACTORS!$A$7:$F$33,6,0)","v":1057.8409999999999}]
["99714","AK","AKGD",{"$f":"VLOOKUP(C41487,EMISSION_FACTORS!$A$7:$F$33,6,0)","v":1057.8409999999999}]
["99716","AK","AKGD",{"$f":"VLOOKUP(C41488,EMISSION_FACTORS!$A$7:$F$33,6,0)","v":1057.8409999999999}]
["99720","AK","AKMS",{"$f":"VLOOKUP(C41489,EMISSION_FACTORS!$A$7:$F$33,6,0)","v":497.55700000000002}]
["99721","AK","AKMS",{"$f":"VLOOKUP(C41490,EMISSION_FACTORS!$A$7:$F$33,6,0)","v":497.55700000000002}]
["99722","AK","AKMS",{"$f":"VLOOKUP(C41491,EMISSION_FACTORS!$A$7:$F$33,6,0)","v":497.55700000000002}]
["99723","AK","AKMS",{"$f":"VLOOKUP(C41492,EMISSION_FACTORS!$A$7:$F$33,6,0)","v":497.55700000000002}]
["99724","AK","AKGD",{"$f":"VLOOKUP(C41493,EMISSION_FACTORS!$A$7:$F$33,6,0)","v":1057.8409999999999}]
["99725","AK","AKGD",{"$f":"VLOOKUP(C41494,EMISSION_FACTORS!$A$7:$F$33,6,0)","v":1057.8409999999999}]
["99726","AK","AKMS",{"$f":"VLOOKUP(C41495,EMISSION_FACTORS!$A$7:$F$33,6,0)","v":497.55700000000002}]
["99727","AK","AKMS",{"$f":"VLOOKUP(C41496,EMISSION_FACTORS!$A$7:$F$33,6,0)","v":497.55700000000002}]
["99729","AK","AKGD",{"$f":"VLOOKUP(C41497,EMISSION_FACTORS!$A$7:$F$33,6,0)","v":1057.8409999999999}]
["99730","AK","AKMS",{"$f":"VLOOKUP(C41498,EMISSION_FACTORS!$A$7:$F$33,6,0)","v":497.55700000000002}]
["99731","AK","AKGD",{"$f":"VLOOKUP(C41499,EMISSION_FACTORS!$A$7:$F$33,6,0)","v":1057.8409999999999}]
["99732","AK","AKGD",{"$f":"VLOOKUP(C41500,EMISSION_FACTORS!$A$7:$F$33,6,0)","v":1057.8409999999999}]
["99733","AK","AKGD",{"$f":"VLOOKUP(C41501,EMISSION_FACTORS!$A$7:$F$33,6,0)","v":1057.8409999999999}]
["99734","AK","AKMS",{"$f":"VLOOKUP(C41502,EMISSION_FACTORS!$A$7:$F$33,6,0)","v":497.55700000000002}]
["99736","AK","AKMS",{"$f":"VLOOKUP(C41503,EMISSION_FACTORS!$A$7:$F$33,6,0)","v":497.55700000000002}]
["99737","AK","AKMS",{"$f":"VLOOKUP(C41504,EMISSION_FACTORS!$A$7:$F$33,6,0)","v":497.55700000000002}]
["99738","AK","AKMS",{"$f":"VLOOKUP(C41505,EMISSION_FACTORS!$A$7:$F$33,6,0)","v":497.55700000000002}]
["99739","AK","AKMS",{"$f":"VLOOKUP(C41506,EMISSION_FACTORS!$A$7:$F$33,6,0)","v":497.55700000000002}]
["99740","AK","AKGD",{"$f":"VLOOKUP(C41507,EMISSION_FACTORS!$A$7:$F$33,6,0)","v":1057.8409999999999}]
["99741","AK","AKMS",{"$f":"VLOOKUP(C41508,EMISSION_FACTORS!$A$7:$F$33,6,0)","v":497.55700000000002}]
["99742","AK","AKMS",{"$f":"VLOOKUP(C41509,EMISSION_FACTORS!$A$7:$F$33,6,0)","v":497.55700000000002}]
["99743","AK","AKGD",{"$f":"VLOOKUP(C41510,EMISSION_FACTORS!$A$7:$F$33,6,0)","v":1057.8409999999999}]
["99744","AK","AKGD",{"$f":"VLOOKUP(C41511,EMISSION_FACTORS!$A$7:$F$33,6,0)","v":1057.8409999999999}]
["99745","AK","AKMS",{"$f":"VLOOKUP(C41512,EMISSION_FACTORS!$A$7:$F$33,6,0)","v":497.55700000000002}]
["99746","AK","AKMS",{"$f":"VLOOKUP(C41513,EMISSION_FACTORS!$A$7:$F$33,6,0)","v":497.55700000000002}]
["99747","AK","AKMS",{"$f":"VLOOKUP(C41514,EMISSION_FACTORS!$A$7:$F$33,6,0)","v":497.55700000000002}]
["99748","AK","AKMS",{"$f":"VLOOKUP(C41515,EMISSION_FACTORS!$A$7:$F$33,6,0)","v":497.55700000000002}]
["99749","AK","AKMS",{"$f":"VLOOKUP(C41516,EMISSION_FACTORS!$A$7:$F$33,6,0)","v":497.55700000000002}]
["99750","AK","AKMS",{"$f":"VLOOKUP(C41517,EMISSION_FACTORS!$A$7:$F$33,6,0)","v":497.55700000000002}]
["99751","AK","AKMS",{"$f":"VLOOKUP(C41518,EMISSION_FACTORS!$A$7:$F$33,6,0)","v":497.55700000000002}]
["99752","AK","AKMS",{"$f":"VLOOKUP(C41519,EMISSION_FACTORS!$A$7:$F$33,6,0)","v":497.55700000000002}]
["99753","AK","AKMS",{"$f":"VLOOKUP(C41520,EMISSION_FACTORS!$A$7:$F$33,6,0)","v":497.55700000000002}]
["99754","AK","AKMS",{"$f":"VLOOKUP(C41521,EMISSION_FACTORS!$A$7:$F$33,6,0)","v":497.55700000000002}]
["99755","AK","AKGD",{"$f":"VLOOKUP(C41522,EMISSION_FACTORS!$A$7:$F$33,6,0)","v":1057.8409999999999}]
["99756","AK","AKMS",{"$f":"VLOOKUP(C41523,EMISSION_FACTORS!$A$7:$F$33,6,0)","v":497.55700000000002}]
["99757","AK","AKGD",{"$f":"VLOOKUP(C41524,EMISSION_FACTORS!$A$7:$F$33,6,0)","v":1057.8409999999999}]
["99758","AK","AKMS",{"$f":"VLOOKUP(C41525,EMISSION_FACTORS!$A$7:$F$33,6,0)","v":497.55700000000002}]
["99759","AK","AKMS",{"$f":"VLOOKUP(C41526,EMISSION_FACTORS!$A$7:$F$33,6,0)","v":497.55700000000002}]
["99760","AK","AKMS",{"$f":"VLOOKUP(C41527,EMISSION_FACTORS!$A$7:$F$33,6,0)","v":497.55700000000002}]
["99761","AK","AKMS",{"$f":"VLOOKUP(C41528,EMISSION_FACTORS!$A$7:$F$33,6,0)","v":497.55700000000002}]
["99762","AK","AKMS",{"$f":"VLOOKUP(C41529,EMISSION_FACTORS!$A$7:$F$33,6,0)","v":497.55700000000002}]
["99763","AK","AKMS",{"$f":"VLOOKUP(C41530,EMISSION_FACTORS!$A$7:$F$33,6,0)","v":497.55700000000002}]
["99764","AK","AKMS",{"$f":"VLOOKUP(C41531,EMISSION_FACTORS!$A$7:$F$33,6,0)","v":497.55700000000002}]
["99765","AK","AKMS",{"$f":"VLOOKUP(C41532,EMISSION_FACTORS!$A$7:$F$33,6,0)","v":497.55700000000002}]
["99766","AK","AKMS",{"$f":"VLOOKUP(C41533,EMISSION_FACTORS!$A$7:$F$33,6,0)","v":497.55700000000002}]
["99767","AK","AKMS",{"$f":"VLOOKUP(C41534,EMISSION_FACTORS!$A$7:$F$33,6,0)","v":497.55700000000002}]
["99768","AK","AKMS",{"$f":"VLOOKUP(C41535,EMISSION_FACTORS!$A$7:$F$33,6,0)","v":497.55700000000002}]
["99769","AK","AKMS",{"$f":"VLOOKUP(C41536,EMISSION_FACTORS!$A$7:$F$33,6,0)","v":497.55700000000002}]
["99770","AK","AKMS",{"$f":"VLOOKUP(C41537,EMISSION_FACTORS!$A$7:$F$33,6,0)","v":497.55700000000002}]
["99771","AK","AKMS",{"$f":"VLOOKUP(C41538,EMISSION_FACTORS!$A$7:$F$33,6,0)","v":497.55700000000002}]
["99772","AK","AKMS",{"$f":"VLOOKUP(C41539,EMISSION_FACTORS!$A$7:$F$33,6,0)","v":497.55700000000002}]
["99773","AK","AKMS",{"$f":"VLOOKUP(C41540,EMISSION_FACTORS!$A$7:$F$33,6,0)","v":497.55700000000002}]
["99774","AK","AKMS",{"$f":"VLOOKUP(C41541,EMISSION_FACTORS!$A$7:$F$33,6,0)","v":497.55700000000002}]
["99775","AK","AKGD",{"$f":"VLOOKUP(C41542,EMISSION_FACTORS!$A$7:$F$33,6,0)","v":1057.8409999999999}]
["99776","AK","AKMS",{"$f":"VLOOKUP(C41543,EMISSION_FACTORS!$A$7:$F$33,6,0)","v":497.55700000000002}]
["99777","AK","AKMS",{"$f":"VLOOKUP(C41544,EMISSION_FACTORS!$A$7:$F$33,6,0)","v":497.55700000000002}]
["99778","AK","AKMS",{"$f":"VLOOKUP(C41545,EMISSION_FACTORS!$A$7:$F$33,6,0)","v":497.55700000000002}]
["99780","AK","AKMS",{"$f":"VLOOKUP(C41546,EMISSION_FACTORS!$A$7:$F$33,6,0)","v":497.55700000000002}]
["99781","AK","AKMS",{"$f":"VLOOKUP(C41547,EMISSION_FACTORS!$A$7:$F$33,6,0)","v":497.55700000000002}]
["99782","AK","AKMS",{"$f":"VLOOKUP(C41548,EMISSION_FACTORS!$A$7:$F$33,6,0)","v":497.55700000000002}]
["99783","AK","AKMS",{"$f":"VLOOKUP(C41549,EMISSION_FACTORS!$A$7:$F$33,6,0)","v":497.55700000000002}]
["99784","AK","AKMS",{"$f":"VLOOKUP(C41550,EMISSION_FACTORS!$A$7:$F$33,6,0)","v":497.55700000000002}]
["99785","AK","AKMS",{"$f":"VLOOKUP(C41551,EMISSION_FACTORS!$A$7:$F$33,6,0)","v":497.55700000000002}]
["99786","AK","AKMS",{"$f":"VLOOKUP(C41552,EMISSION_FACTORS!$A$7:$F$33,6,0)","v":497.55700000000002}]
["99788","AK","AKMS",{"$f":"VLOOKUP(C41553,EMISSION_FACTORS!$A$7:$F$33,6,0)","v":497.55700000000002}]
["99789","AK","AKMS",{"$f":"VLOOKUP(C41554,EMISSION_FACTORS!$A$7:$F$33,6,0)","v":497.55700000000002}]
["99790","AK","AKGD",{"$f":"VLOOKUP(C41555,EMISSION_FACTORS!$A$7:$F$33,6,0)","v":1057.8409999999999}]
["99791","AK","AKMS",{"$f":"VLOOKUP(C41556,EMISSION_FACTORS!$A$7:$F$33,6,0)","v":497.55700000000002}]
["99801","AK","AKMS",{"$f":"VLOOKUP(C41557,EMISSION_FACTORS!$A$7:$F$33,6,0)","v":497.55700000000002}]
["99802","AK","AKMS",{"$f":"VLOOKUP(C41558,EMISSION_FACTORS!$A$7:$F$33,6,0)","v":497.55700000000002}]
["99803","AK","AKMS",{"$f":"VLOOKUP(C41559,EMISSION_FACTORS!$A$7:$F$33,6,0)","v":497.55700000000002}]
["99811","AK","AKMS",{"$f":"VLOOKUP(C41560,EMISSION_FACTORS!$A$7:$F$33,6,0)","v":497.55700000000002}]
["99812","AK","AKMS",{"$f":"VLOOKUP(C41561,EMISSION_FACTORS!$A$7:$F$33,6,0)","v":497.55700000000002}]
["99820","AK","AKMS",{"$f":"VLOOKUP(C41562,EMISSION_FACTORS!$A$7:$F$33,6,0)","v":497.55700000000002}]
["99821","AK","AKMS",{"$f":"VLOOKUP(C41563,EMISSION_FACTORS!$A$7:$F$33,6,0)","v":497.55700000000002}]
["99824","AK","AKMS",{"$f":"VLOOKUP(C41564,EMISSION_FACTORS!$A$7:$F$33,6,0)","v":497.55700000000002}]
["99825","AK","AKMS",{"$f":"VLOOKUP(C41565,EMISSION_FACTORS!$A$7:$F$33,6,0)","v":497.55700000000002}]
["99826","AK","AKMS",{"$f":"VLOOKUP(C41566,EMISSION_FACTORS!$A$7:$F$33,6,0)","v":497.55700000000002}]
["99827","AK","AKMS",{"$f":"VLOOKUP(C41567,EMISSION_FACTORS!$A$7:$F$33,6,0)","v":497.55700000000002}]
["99829","AK","AKMS",{"$f":"VLOOKUP(C41568,EMISSION_FACTORS!$A$7:$F$33,6,0)","v":497.55700000000002}]
["99830","AK","AKMS",{"$f":"VLOOKUP(C41569,EMISSION_FACTORS!$A$7:$F$33,6,0)","v":497.55700000000002}]
["99832","AK","AKMS",{"$f":"VLOOKUP(C41570,EMISSION_FACTORS!$A$7:$F$33,6,0)","v":497.55700000000002}]
["99833","AK","AKMS",{"$f":"VLOOKUP(C41571,EMISSION_FACTORS!$A$7:$F$33,6,0)","v":497.55700000000002}]
["99835","AK","AKMS",{"$f":"VLOOKUP(C41572,EMISSION_FACTORS!$A$7:$F$33,6,0)","v":497.55700000000002}]
["99836","AK","AKMS",{"$f":"VLOOKUP(C41573,EMISSION_FACTORS!$A$7:$F$33,6,0)","v":497.55700000000002}]
["99840","AK","AKMS",{"$f":"VLOOKUP(C41574,EMISSION_FACTORS!$A$7:$F$33,6,0)","v":497.55700000000002}]
["99841","AK","AKMS",{"$f":"VLOOKUP(C41575,EMISSION_FACTORS!$A$7:$F$33,6,0)","v":497.55700000000002}]
["99850","AK","AKMS",{"$f":"VLOOKUP(C41576,EMISSION_FACTORS!$A$7:$F$33,6,0)","v":497.55700000000002}]
["99901","AK","AKMS",{"$f":"VLOOKUP(C41577,EMISSION_FACTORS!$A$7:$F$33,6,0)","v":497.55700000000002}]
["99903","AK","AKMS",{"$f":"VLOOKUP(C41578,EMISSION_FACTORS!$A$7:$F$33,6,0)","v":497.55700000000002}]
["99918","AK","AKMS",{"$f":"VLOOKUP(C41579,EMISSION_FACTORS!$A$7:$F$33,6,0)","v":497.55700000000002}]
["99919","AK","AKMS",{"$f":"VLOOKUP(C41580,EMISSION_FACTORS!$A$7:$F$33,6,0)","v":497.55700000000002}]
["99921","AK","AKMS",{"$f":"VLOOKUP(C41581,EMISSION_FACTORS!$A$7:$F$33,6,0)","v":497.55700000000002}]
["99922","AK","AKMS",{"$f":"VLOOKUP(C41582,EMISSION_FACTORS!$A$7:$F$33,6,0)","v":497.55700000000002}]
["99923","AK","AKMS",{"$f":"VLOOKUP(C41583,EMISSION_FACTORS!$A$7:$F$33,6,0)","v":497.55700000000002}]
["99925","AK","AKMS",{"$f":"VLOOKUP(C41584,EMISSION_FACTORS!$A$7:$F$33,6,0)","v":497.55700000000002}]
["99926","AK","AKMS",{"$f":"VLOOKUP(C41585,EMISSION_FACTORS!$A$7:$F$33,6,0)","v":497.55700000000002}]
["99927","AK","AKMS",{"$f":"VLOOKUP(C41586,EMISSION_FACTORS!$A$7:$F$33,6,0)","v":497.55700000000002}]
["99928","AK","AKMS",{"$f":"VLOOKUP(C41587,EMISSION_FACTORS!$A$7:$F$33,6,0)","v":497.55700000000002}]
["99929","AK","AKMS",{"$f":"VLOOKUP(C41588,EMISSION_FACTORS!$A$7:$F$33,6,0)","v":497.55700000000002}]
["99950","AK","AKMS",{"$f":"VLOOKUP(C41589,EMISSION_FACTORS!$A$7:$F$33,6,0)","v":497.55700000000002}]

{"sheet":"EMISSION_FACTORS","index":3,"n_rows":37,"n_cols":17,"rows_kept":37,"cut":false,"hidden":false,"merged":[[33,0,33,1],[2,0,2,23],[3,0,5,0],[3,1,5,1],[3,9,3,15],[4,9,4,15],[3,2,3,8],[4,2,4,8],[3,16,5,16]]}
[]
[]
["1. Subregion Output Emission Rates (eGRID2020)"]
["eGRID subregion acronym","eGRID subregion name","Total output emission rates",null,null,null,null,null,null,"Non-baseload output emission rates",null,null,null,null,null,null,"Grid Gross Loss (%)"]
[null,null,"lb/MWh",null,null,null,null,null,null,"lb/MWh"]
[null,null,"CO2","CH4","N2O","CO2e","Annual NOX","Ozone Season NOX","SO2","CO2","CH4","N2O","CO2e","Annual NOX","Ozone Season NOX","SO2"]
["AKGD","ASCC Alaska Grid",1052.114,8.7999999999999995E-2,1.2E-2,1057.8409999999999,5.0529999999999999,5.4340000000000002,0.42299999999999999,1224.5,0.123,1.7000000000000001E-2,1232.5,7,7.6,0.58299999999999996,0.05]
["AKMS","ASCC Miscellaneous",495.77199999999999,2.3E-2,4.0000000000000001E-3,497.55700000000002,7.85,7.2569999999999997,0.68,1587.9,6.9000000000000006E-2,1.2E-2,1593.3,25.4,24.6,2.1850000000000001,0.05]
["AZNM","WECC Southwest",776.03599999999994,5.0999999999999997E-2,7.0000000000000001E-3,779.38199999999995,0.41899999999999998,0.441,0.121,1205.2,6.5000000000000002E-2,8.9999999999999993E-3,1209.5,0.7,0.7,0.16200000000000001,5.0999999999999997E-2]
["CAMX","WECC California",497.44299999999998,0.03,4.0000000000000001E-3,499.27800000000002,0.46700000000000003,0.42599999999999999,0.03,1055,4.9000000000000002E-2,6.0000000000000001E-3,1058,0.8,0.7,5.5E-2,5.0999999999999997E-2]
["ERCT","ERCOT All",771.08299999999997,4.9000000000000002E-2,7.0000000000000001E-3,774.298,0.46800000000000003,0.48699999999999999,0.40699999999999997,1194.9000000000001,6.7000000000000004E-2,8.9999999999999993E-3,1199.2,0.9,0.9,0.66500000000000004,5.0999999999999997E-2]
["FRCC","FRCC All",813.846,4.8000000000000001E-2,6.0000000000000001E-3,816.89300000000003,0.29799999999999999,0.30599999999999999,0.14199999999999999,1044.4000000000001,5.6000000000000001E-2,7.0000000000000001E-3,1048,0.4,0.4,0.20799999999999999,5.0999999999999997E-2]
["HIMS","HICC Miscellaneous",1155.4860000000001,0.124,1.9E-2,1163.0650000000001,7.1870000000000003,7.2519999999999998,3.069,1619.2,0.157,2.5000000000000001E-2,1629.6,11.4,11.9,4.0739999999999998,5.4000000000000006E-2]
["HIOA","HICC Oahu",1575.4069999999999,0.16300000000000001,2.5000000000000001E-2,1586.9469999999999,3.8740000000000001,3.7080000000000002,6.3529999999999998,1810.3,0.17699999999999999,2.8000000000000001E-2,1822.9,4.4000000000000004,4.2,7.33,5.4000000000000006E-2]
["MROE","MRO East",1479.6210000000001,0.13300000000000001,1.9E-2,1488.6880000000001,0.97799999999999998,1.012,0.30599999999999999,1672.9,0.14699999999999999,2.1000000000000001E-2,1682.8,1.1000000000000001,1.2,0.33400000000000002,5.0999999999999997E-2]
["MROW","MRO West",936.48500000000001,0.10199999999999999,1.4999999999999999E-2,943.41800000000001,0.75800000000000001,0.86,0.90700000000000003,1794.7,0.183,2.5999999999999999E-2,1807,1.6,1.6,1.64,5.0999999999999997E-2]
["NEWE","NPCC New England",536.428,6.3E-2,8.0000000000000002E-3,540.48,0.309,0.28299999999999997,0.122,923.3,7.2999999999999995E-2,0.01,928.1,0.5,0.3,0.249,5.0999999999999997E-2]
["NWPP","WECC Northwest",602.08799999999997,5.6000000000000001E-2,8.0000000000000002E-3,605.87199999999996,0.53100000000000003,0.51900000000000002,0.318,1515.7,0.13400000000000001,1.9E-2,1524.7,1.5,1.5,0.79,5.0999999999999997E-2]
["NYCW","NPCC NYC/Westchester",885.23299999999995,2.3E-2,3.0000000000000001E-3,886.58,0.248,0.248,2.8000000000000001E-2,971.8,2.1000000000000001E-2,2E-3,973,0.3,0.3,2.1000000000000001E-2,5.0999999999999997E-2]
["NYLI","NPCC Long Island",1200.7080000000001,0.13500000000000001,1.7999999999999999E-2,1209.3109999999999,0.91900000000000004,0.85699999999999998,0.47399999999999998,1316.7,3.9E-2,5.0000000000000001E-3,1319.1,0.9,0.8,0.65400000000000003,5.0999999999999997E-2]
["NYUP","NPCC Upstate NY",274.55900000000003,1.4999999999999999E-2,2E-3,275.38900000000001,0.113,9.5000000000000001E-2,4.2999999999999997E-2,920.1,4.2999999999999997E-2,5.0000000000000001E-3,922.5,0.5,0.3,0.189,5.0999999999999997E-2]
["PRMS","Puerto Rico Miscellaneous",1593.481,8.6999999999999994E-2,1.4E-2,1599.922,3.0640000000000001,3.0619999999999998,4.2619999999999996,1670.9,7.3999999999999996E-2,1.2999999999999999E-2,1676.7,3.5,3.5,5.5780000000000003,5.0999999999999997E-2]
["RFCE","RFC East",657.38599999999997,4.4999999999999998E-2,6.0000000000000001E-3,660.31100000000004,0.27500000000000002,0.223,0.30199999999999999,1278.7,9.7000000000000003E-2,1.2999999999999999E-2,1285.0999999999999,0.7,0.6,0.77300000000000002,5.0999999999999997E-2]
["RFCM","RFC Michigan",1216.404,0.11600000000000001,1.6E-2,1224.1869999999999,0.63800000000000001,0.63200000000000001,0.93100000000000005,1597.3,0.14899999999999999,2.1000000000000001E-2,1607.4,0.9,0.8,1.413,5.0999999999999997E-2]
["RFCW","RFC West",1000.053,8.6999999999999994E-2,1.2E-2,1005.904,0.51900000000000002,0.42399999999999999,0.62,1843.6,0.17799999999999999,2.5999999999999999E-2,1855.7,1.1000000000000001,0.9,1.18,5.0999999999999997E-2]
["RMPA","WECC Rockies",1124.8869999999999,0.10100000000000001,1.4E-2,1131.7329999999999,0.61299999999999999,0.64,0.34799999999999998,1676.4,0.129,1.7999999999999999E-2,1685.1,0.9,0.9,0.43,5.0999999999999997E-2]
["SPNO","SPP North",952.57500000000005,0.1,1.4E-2,959.38099999999997,0.53600000000000003,0.59899999999999998,0.16,1943,0.19800000000000001,2.9000000000000001E-2,1956.5,1.2,1.2,0.32500000000000001,5.0999999999999997E-2]
["SPSO","SPP South",970.39800000000002,7.1999999999999995E-2,0.01,975.25300000000004,0.75600000000000001,0.83599999999999997,0.86199999999999999,1528.2,0.105,1.4999999999999999E-2,1535.2,1.3,1.3,1.2909999999999999,5.0999999999999997E-2]
["SRMV","SERC Mississippi Valley",801.01499999999999,0.04,6.0000000000000001E-3,803.65800000000002,0.49199999999999999,0.52500000000000002,0.60199999999999998,1220.7,7.2999999999999995E-2,0.01,1225.5999999999999,0.9,0.9,1.407,5.0999999999999997E-2]
["SRMW","SERC Midwest",1369.8869999999999,0.151,2.1999999999999999E-2,1380.154,1.002,0.746,2.41,1808.6,0.186,2.7E-2,1821.2,1.4,1.1000000000000001,3.2440000000000002,5.0999999999999997E-2]
["SRSO","SERC South",893.29,6.4000000000000001E-2,8.9999999999999993E-3,897.65899999999999,0.38900000000000001,0.35199999999999998,0.151,1354.8,9.1999999999999998E-2,1.2999999999999999E-2,1361.1,0.8,0.6,0.309,5.0999999999999997E-2]
["SRTV","SERC Tennessee Valley",933.06700000000001,8.2000000000000003E-2,1.2E-2,938.625,0.39400000000000002,0.36599999999999999,0.53700000000000003,1671,0.152,2.1999999999999999E-2,1681.3,0.7,0.6,0.96799999999999997,5.0999999999999997E-2]
["SRVC","SERC Virginia/Carolina",622.98699999999997,4.7E-2,7.0000000000000001E-3,625.87400000000002,0.308,0.313,0.157,1308.8,9.9000000000000005E-2,1.4E-2,1315.1,0.7,0.7,0.35099999999999998,5.0999999999999997E-2]
["U.S.",null,823.149,6.6000000000000003E-2,8.9999999999999993E-3,827.52,0.504,0.48499999999999999,0.47299999999999998,1405.3,0.107,1.4999999999999999E-2,1412.5,1,0.9,0.83799999999999997,5.0999999999999997E-2]
[]
[]
["US Total",null,null,null,null,{"$f":"F34","v":827.52}]

{"sheet":"WASTE","index":4,"n_rows":62,"n_cols":7,"rows_kept":62,"cut":false,"hidden":false,"merged":[]}
["Waste Assumption Calculations "]
[]
["Source: EPA, Documentation for Greenhouse Gas Emission and Energy Factors Used in the Waste Reduction Model (WARM) 16, Containers, Packaging, and Non-Durable Good Materials Chapters, (Dec 2023) https://www.epa.gov/system/files/documents/2023-12/warm_containers_packaging_and_non-durable_goods_materials_v16_dec.pdf"]
["ERG notes:","WARM model has been updated since the last version of this calculator. Below data is from v16. Data from WARM v16 was reported to the second decimal, which is how new data was entered. "]
["Material","GHG Emissions per Short Ton of Material Recycled (MTCO2E)","GHG Emissions per Ton of Material Landfilled (MTCO2E)"]
["Glass",-0.2760901764592596,2.0254519141196047E-2,"Exhibit 1-4: Net Emissions for Glass under Each Materials Management Option (MTCO2E/Short Ton)"]
["Newspaper",-2.70827152821093,-0.85,"Exhibit 3-7: Net Emissions for Paper Products under Each Materials Management Option (MTCO2E/Short Ton)"]
["Magazines/third-class mail",-3.0696999395965698,-0.43,"Exhibit 3-7: Net Emissions for Paper Products under Each Materials Management Option (MTCO2E/Short Ton)"]
["Mixed Metals",-4.3911606737930704,2.0254519141196047E-2,"Exhibit 2-7: Net Emissions for Metals under Each Materials Management Option (MTCO2E/Short Ton)"]
["Mixed Plastics",-0.93,2.0254519141196047E-2,"Exhibit 5-3: Net Emissions for Plastics under Each Materials Management Option (MTCO2E/Short Ton)"]
[]
["Source: EPA, Advancing Sustainable Materials Management: 2018 Tables and Figures (December 2020) https://www.epa.gov/facts-and-figures-about-materials-waste-and-recycling/advancing-sustainable-materials-management"]
["ERG notes:","EPA has not released a new Advancing Sustainable Materials Management: Fact and Figures Fact Sheet since 2020, which is based on 2018 data. "]
["Material","Amount of Waste Generated in 2018 (thousand tons)","Amount of Waste Generated in 2018 (tons)"]
["Total Aluminum Packaging",1920,{"$f":"B15*$B$26","v":1920000},"Table 7. Metal Products in MSW, 2018"]
["Total Steel Packaging",2210,2210000,"Table 7. Metal Products in MSW, 2018"]
["Total Metals in Containers and Packaging",{"$f":"B15+B16","v":4130},4130000,"Calculation based on Table 7. Metal Products in MSW, 2018"]
["PET (Total Plastics in MSW, by resin)",5290,5290000,"Table 8. Plastics in Products In MSW, 2018"]
["HDPE",6300,6300000,"Table 8. Plastics in Products In MSW, 2018"]
["Total Plastics in MSW (PET and HDPE)",{"$f":"B18+B19","v":11590},11590000,"Calculation based on Table 8. Plastics in Products In MSW, 2018"]
["Total Glass Containers (exclude durable goods)",9790,9790000,"Table 6. Glass Products in MSW, 2018"]
["Newspapers/Mechanical Papers",5050,5050000,"Table 5. Paper and Paperboard Products In MSW, 2018"]
["Magazines",980,980000,"Table 5. Paper and Paperboard Products In MSW, 2018"]
["Marketing Mail",3670,3670000,"Table 5. Paper and Paperboard Products In MSW, 2018"]
[]
["thousand tons to tons",1000]
["lbs/metric ton",2204.6]
["Population (rounded), 2022",333000000]
[]
["Source: EPA Inventory of U.S. Greenhouse Gas Emissions and Sinks: 1990-2022, Chapter 7 (Waste), Table 7-1: Emissions from Waste (MMT CO2 eq), CH4 and N2O emissions from Landfills and Composting (excludes wastewater treatment), https://www.epa.gov/ghgemissions/inventory-us-greenhouse-gas-emissions-and-sinks and U.S. Census Bureau, accessed July 26, 2022, https://www.census.gov/popclock/"]
["Average lbs CO2 equivalent generated from waste per person per year"]
["ERG notes:","Updated data from the 1990-2022 report. "]
["emissions from waste, U.S. total",{"$f":"SUM(B34:B36)","v":124.19999999999999},"MMT CO2e"]
["CH4 from landfills",119.8,"MMT CO2e"]
["CH4 from composting",2.6,"MMT CO2e"]
["N2O from composting",1.8,"MMT CO2e"]
["emissions from waste per capita, U.S. total",{"$f":"(B33*10^6*B27)/B28","v":822.2562162162161},"Ibs CO2E/person/year","Calculation"]
[]
["Average number of pounds of CO2 equivalent per person per year that could be saved by recycling metal"]
["emissions saved by recycling ",{"$f":"C17*B9","v":-18135493.582765382},"MTCO2E/yr"]
["emissions avoided by recycling instead of landfilling ",{"$f":"C17*C9","v":83651.16405313967},"MTCO2E/yr"]
["net emissions savings",{"$f":"((B40-B41)*$B$27)/$B$28","v":-120.61839792443274},"Ibs CO2E/yr/person"]
[]
["Average number of pounds of CO2 equivalent per person per year that could be saved by recycling plastic"]
["emissions saved by recycling ",{"$f":"C20*B10","v":-10778700},"MTCO2E/yr"]
["emissions avoided by recycling instead of landfilling ",{"$f":"C20*C10","v":234749.87684646217},"MTCO2E/yr"]
["net emissions savings",{"$f":"((B45-B46)*$B$27)/$B$28","v":-72.913668463951083},"Ibs CO2E/yr/person",null,null,null," "]
[]
["Average number of pounds of CO2 equivalent per person per year that could be saved by recycling glass"]
["emissions saved by recycling ",{"$f":"C21*B6","v":-2702922.8275361513},"MTCO2E/yr"]
["emissions avoided by recycling instead of landfilling ",{"$f":"C21*C6","v":198291.7423923093},"MTCO2E/yr"]
["net emissions savings",{"$f":"((B50-B51)*$B$27)/$B$28","v":-19.207260182775631},"Ibs CO2E/yr/person"]
[]
["Average number of pounds of CO2 equivalent per person per year that could be saved by recycling newspaper"]
["emissions saved by recycling ",{"$f":"C22*B7","v":-13676771.217465196},"MTCO2E/yr"]
["emissions avoided by recycling instead of landfilling ",{"$f":"C22*C7","v":-4292500},"MTCO2E/yr"]
["net emissions savings",{"$f":"((B55+B56)*$B$27)/$B$28","v":-118.96413010817948},"Ibs CO2E/yr/person"]
[]
["Average number of pounds of CO2 equivalent per person per year that could be saved by recycling magazines"]
["emissions saved by recycling ",{"$f":"C24*B8","v":-11265798.778319411},"MTCO2E/yr"]
["emissions avoided by recycling instead of landfilling ",{"$f":"C24*C8","v":-1578100},"MTCO2E/yr"]
["net emissions savings",{"$f":"((B60+B61)*$B$27)/$B$28","v":-85.032009749798718},"Ibs CO2E/yr/person"]

{"sheet":"Heating Equip Upgrade","index":5,"n_rows":18,"n_cols":11,"rows_kept":18,"cut":false,"hidden":false,"merged":[[17,1,17,5],[9,2,9,3],[9,4,9,6],[12,2,12,3],[12,4,12,6],[8,1,8,7],[1,1,1,6],[2,2,2,3],[2,4,2,6],[5,2,5,3],[5,4,5,6]]}
[]
[null,"Emission & cost savings from replacing boiler/furnace - Natural Gas",null,null,null,null,null,null,"Natural gas emission factor",{"$f":"EF_natural_gas_therm","v":11.66465828242},"lbs CO2 / therm"]
[null,"Gas Furnace","Mbtu per year",null,"Savings per year",null,null,null,null,{"$f":"EF_natural_gas_therm*'Heating Equip Upgrade'!$J$11","v":116.6465828242},"lbs CO2 / MBtu"]
[null,"Replacing a 15 year old standard 80 AFUE boiler or 78 AFUE furnace with current ENERGY STAR boiler at 90 AFUE or Furnace at 95 AFUE in the North and 90 AFUE in the South","Conventional","ENERGY STAR","Difference in Mbtu","pounds CO2","$",null,"Residential Natural Gas Rate",{"$f":"Natural_gas_cost_1000CF","v":15.23},"$/1000 cubic feet"]
[null,null,34.799999999999997,30,{"$f":"C5-D5","v":4.7999999999999972},{"$f":"E5*$J$3","v":559.90359755615964},{"$f":"E5*$J$5","v":70.427745664739845},null,null,{"$f":"Natural_gas_cost_1000CF/'Heating Equip Upgrade'!$J$12*1000","v":14.672447013487476},"$/MMBtu"]
[null,"Gas Boiler",null,null,null,null,null,null,"Fuel oil emission factor",{"$f":"EF_fuel_oil_MMBtu","v":163.45072104679994}," lbs CO2/MMBtu"]
[null,"Replacing a 15 year old standard 80 AFUE boiler or 78 AFUE furnace with current ENERGY STAR boiler at 90 AFUE or Furnace at 95 AFUE in the North and 90 AFUE in the South","Conventional","ENERGY STAR","Difference in Mbtu","pounds CO2","$",null,"Fuel oil cost",{"$f":"fuel_oil_cost","v":4.2699999999999996},"dollars/gallon"]
[null,null,74.8,68.599999999999994,{"$f":"C8-D8","v":6.2000000000000028},{"$f":"E8*$J$3","v":723.20881351004027},{"$f":"E8*$J$5","v":90.969171483622389},null,null,{"$f":"J7/$J$14","v":31.078553329468026}," $/MMBtu"]
[null,"Emission & cost savings from replacing boiler/furnace - Fuel Oil"]
[null,"Oil Furnace","Mbtu per year",null,"Savings per year"]
[null,"Replacing a 20 year old standard 80 AFUE boiler or 78 AFUE furnace with current ENERGY STAR boiler at 87 AFUE or Furnace at 85 AFUE","Conventional","ENERGY STAR","Difference in Mbtu","pounds CO2","$",null,null,10,"therm to MBtu"]
[null,null,67.3,64.900000000000006,{"$f":"C12-D12","v":2.3999999999999915},{"$f":"E12*$J$6","v":392.28173051231846},{"$f":"E12*OilFuelRate","v":74.588527990722994},null,null,{"$f":"BTU_per_1000cf_NG/1000","v":1038},"heat content of natural gas (MBtu per 1000 cf)"]
[null,"Oil Boiler",null,null,null,null,null,null,null,{"$f":"BTU_per_gallon_FO","v":137393.78261057203},"heat content of fuel oil (Btu/gallon fuel oil)"]
[null,"Replacing a 20 year old standard 80 AFUE boiler or 78 AFUE furnace with current ENERGY STAR boiler at 87 AFUE or Furnace at 85 AFUE","Conventional","ENERGY STAR","Difference in Mbtu","pounds CO2","$",null,null,{"$f":"J13/1000000","v":0.13739378261057203},"heat content of fuel oil (MMBtu/gallon fuel oil)"]
[null,null,78.900000000000006,76.400000000000006,{"$f":"C15-D15","v":2.5},{"$f":"E15*$J$6","v":408.62680261699984},{"$f":"E15*OilFuelRate","v":77.696383323670062}]
[]
[]
[null,"Source: 2024 ENERGY STAR Data Book, Annual & Lifetime Savings from ENERGY STAR Certified Products"]

{"sheet":"Clothes Washer","index":6,"n_rows":2,"n_cols":1,"rows_kept":2,"cut":false,"hidden":true,"merged":[]}
[]
["Source: Department of Energy Technical Support Document, developed for the current clothes washer federal standard (2012)"]

{"sheet":"Sheet1","index":7,"n_rows":69,"n_cols":2,"rows_kept":69,"cut":false,"hidden":true,"merged":[]}
["AC_electricity_percent",{"$f":"Assumptions!$C$66","v":0.19447563440377275}]
["Average_elec_CO2_emissions",{"$f":"Assumptions!$C$26","v":8743.5763200000001}]
["Average_FO_CO2_emissions",{"$f":"Assumptions!$C$35","v":11385.756207367958}]
["average_mpg",{"$f":"Assumptions!$C$7","v":24.8}]
["average_waste_emissions",{"$f":"Assumptions!$C$47","v":822.2562162162161}]
["boiler_replacement_cost_savings",{"$f":"Assumptions!$C$83","v":78.420457115688833}]
["boiler_replacement_savings_FO",{"$f":"Assumptions!$C$82","v":400.45426656465918}]
["boiler_replacement_savings_NG",{"$f":"Assumptions!$C$81","v":641.55620553309996}]
["BTU_per_1000cf_NG",{"$f":"Assumptions!$C$95","v":1038000}]
["BTU_per_gallon_FO",{"$f":"Assumptions!$C$99","v":137393.78261057203}]
["BTU_per_gallon_propane",{"$f":"Assumptions!$C$102","v":91445.073472051139}]
["BTU_per_kWh",{"$f":"Assumptions!$C$96","v":3412}]
["CO2_C_ratio",{"$f":"Assumptions!$C$89","v":3.6666666666666665}]
["computer_energy_monitor_off",{"$f":"Assumptions!$C$72","v":34}]
["computer_energy_off",{"$f":"Assumptions!$CV70","v":0}]
["computer_energy_sleep_monitor_off",{"$f":"Assumptions!$C$71","v":16}]
["computer_energy_sleep_off",{"$f":"Assumptions!$C$69","v":27}]
["computer_sleep_savings",{"$f":"Assumptions!$C$68","v":43}]
["conventional_fridge_kWh",{"$f":"Assumptions!$C$79","v":617.39099999999996}]
["conversion_1000cf_to_therm",{"$f":"Assumptions!$C$93","v":10.38}]
["conversion_QBtu_to_Btu",{"$f":"Assumptions!$C$90","v":1000000000000000}]
["conversion_Tg_to_lb",{"$f":"Assumptions!$C$91","v":2204622620}]
["cost_per_kWh",{"$f":"Assumptions!$C$24","v":0.16089999999999999}]
["cost_per_mile",{"$f":"Assumptions!$C$57","v":0.1792}]
["dryer_energy",{"$f":"Assumptions!$C$74","v":769}]
["e_factor"]
["e_factor_value"]
["EF_fuel_oil_gallon",{"$f":"Assumptions!$C$33","v":22.457112835045283}]
["EF_fuel_oil_MMBtu",{"$f":"Assumptions!C34","v":163.45072104679994}]
["EF_natural_gas",{"$f":"Assumptions!$C$18","v":121.0791529715196}]
["EF_natural_gas_therm",{"$f":"Assumptions!$C$17","v":11.66465828242}]
["EF_passenger_vehicle",{"$f":"Assumptions!$C$5","v":19.37}]
["EF_propane",{"$f":"Assumptions!$C$42","v":12.677398061197419}]
["ENERGYSTAR_fridge_kWh",{"$f":"Assumptions!$C$78","v":488}]
["fridge_replacement_kWh_savings",{"$f":"Assumptions!$C$80","v":129.39099999999996}]
["fuel_oil_cost",{"$f":"Assumptions!$C$31","v":4.2699999999999996}]
["gas_cost_gallon",{"$f":"Assumptions!$C$59","v":3.6850000000000001}]
["glass_recycling_avoided_emissions",{"$f":"Assumptions!$C$50","v":-19.207260182775631}]
["green_power_premium",{"$f":"Assumptions!$C$75","v":1.5800000000000002E-2}]
["heating_percent_electricity",{"$f":"Assumptions!$C$63","v":0.12351223894004042}]
["heating_percent_fuel_oil",{"$f":"Assumptions!$C$64","v":0.79545454545454541}]
["heating_percent_NG",{"$f":"Assumptions!$C$62","v":0.68073567554821979}]
["heating_percent_propane",{"$f":"Assumptions!$C$65","v":0.70076726342710993}]
["HH_size",{"$f":"Assumptions!$C$103","v":2.5099999999999998}]
["HHV_fuel_oil",{"$f":"Assumptions!$C$99","v":137393.78261057203}]
["HHV_natural_gas",{"$f":"Assumptions!$C$95","v":1038000}]
["HHV_propane",{"$f":"Assumptions!$C$102","v":91445.073472051139}]
["kWh_per_load_laundry",{"$f":"Assumptions!$C$73","v":0.96}]
["lamp_cost_savings",{"$f":"Assumptions!$C$77","v":5}]
["lamp_kWh_savings",{"$f":"Assumptions!$C$76","v":37}]
["mag_recycling_avoided_emissions",{"$f":"Assumptions!$C$52","v":-85.032009749798718}]
["metal_recycling_avoided_emissions",{"$f":"Assumptions!$C$48","v":-120.61839792443274}]
["monthly_elec_consumption",{"$f":"Assumptions!$C$23","v":880.5}]
["monthly_FO_consumption",{"$f":"Assumptions!$C$30","v":42.25}]
["monthly_NG_Consumption",{"$f":"Assumptions!$C$13","v":4716.666666666667}]
["monthly_propane_consumption",{"$f":"Assumptions!$C$39","v":32.25}]
["Natural_gas_cost_1000CF",{"$f":"Assumptions!$C$14","v":15.23}]
["Natural_gas_cost_therm",{"$f":"Assumptions!$C$15","v":1.4672447013487475}]
["newspaper_recycling_avoided_emissions",{"$f":"Assumptions!$C$51","v":-118.96413010817948}]
["NG_CO2_annual_emissions",{"$f":"Assumptions!$C$19","v":6853.0800581880103}]
["nonCO2_vehicle_emissions_ratio",{"$f":"Assumptions!$C$6","v":1.013684744044602}]
["OilFuelRate",{"$f":"'Heating Equip Upgrade'!J6","v":163.45072104679994}]
["plastic_recycling_avoided_emissions",{"$f":"Assumptions!$C$49","v":-72.913668463951083}]
["propane_cost",{"$f":"Assumptions!$C$40","v":2.5590000000000002}]
["thermostat_cooling_savings",{"$f":"Assumptions!$C$67","v":0.06}]
["thermostat_heating_savings",{"$f":"Assumptions!$C$61","v":0.03}]
["vehicle_efficiency_improvements",{"$f":"Assumptions!$C$58","v":1.6E-2}]
["window_replacement_cost_savings",{"$f":"Assumptions!$C$87","v":311}]
["window_replacement_energy_savings",{"$f":"Assumptions!$C$86","v":25210000}]