Workbook

Sheet Instructions and Summary
A1: Instructions and Summary
A2: EPA has provided this optional budget spreadsheet as a resource for REO applicants. Use of this spreadsheet is optional. Applicants that do not use this resource will not be penalized.
A3: Project Title: | D3: Date of Submission:
A4: Applicant Name:
A6: Please read the instructions on each worksheet tab before starting. If you have any questions, please email RecyclingEd@epa.gov!
A7: 1. On each tab, fill in the descriptive/comments sections next to each line item and the "Additional Explanation" section at the bottom with narrative descriptions of each budget item and how they support the
A8: proposed project.
A9: 2. Fill out the blank white cells in workbook tabs a. through h. with total project costs.
A10: 3. Blue colored cells contain instructions, headers, or summary calculations and should not be modified. Only blank white cells should be populated.
A11: 4. Enter detailed support for the project costs identified for each Category line item within each worksheet tab to autopopulate the summary tab.
A12: 5. Ensure all entered costs are allowable, allocable, and reasonable in accordance with the administrative requirements prescribed in 2 CFR 200.
A13: 6. Add rows as needed throughout tabs a. through h. If rows are added, formulas/calculations may need to be adjusted by the preparer. Do not add rows to the Instructions and summary tab.
A14: 7. ALL budget period cost categories are rounded to the nearest dollar.
A15: 8. Below the Summary table, describe the approach, procedures, and controls for ensuring that awarded grant funds will be expended in a timely and efficient manner. (See Section V.A.5.d. of the NOFO.)
A16: 9. Voluntary committed cost share will not be accepted by EPA or evaluated. Please do not include any cost share amounts in your proposed project.
... A20: Only blank white cells require data entry.
A21: CATEGORY | B21: Year 1 | C21: Year 2 | D21: Year 3 | E21: Year 4 | F21: Year 5 | G21: Total Costs | H21: Comments (as needed)
A22: Project 1
A23: a. Personnel | B23: ='a. Personnel'!E28 -> 0 | C23: ='a. Personnel'!H28 -> 0 | D23: ='a. Personnel'!K28 -> 0 | E23: ='a. Personnel'!N28 -> 0 | F23: ='a. Personnel'!Q28 -> 0 | G23: =SUM(B23:F23) -> 0
A24: b. Fringe Benefits | B24: ='b. Fringe'!D19 -> 0 | C24: ='b. Fringe'!G19 -> 0 | D24: ='b. Fringe'!J19 -> 0 | E24: ='b. Fringe'!M19 -> 0 | F24: ='b. Fringe'!P19 -> 0 | G24: =SUM(B24:F24) -> 0
A25: c. Travel | B25: ='c. Travel'!K22 -> 0 | C25: ='c. Travel'!K42 -> 0 | D25: ='c. Travel'!K62 -> 0 | E25: ='c. Travel'!K82 -> 0 | F25: ='c. Travel'!K102 -> 0 | G25: =SUM(B25:F25) -> 0
A26: d. Equipment | B26: ='d. Equipment'!D22 -> 0 | C26: ='d. Equipment'!D48 -> 0 | D26: ='d. Equipment'!D74 -> 0 | E26: ='d. Equipment'!D100 -> 0 | F26: ='d. Equipment'!D126 -> 0 | G26: =SUM(B26:F26) -> 0
A27: e. Supplies | B27: ='e. Supplies'!D24 -> 0 | C27: ='e. Supplies'!D50 -> 0 | D27: ='e. Supplies'!D76 -> 0 | E27: ='e. Supplies'!D102 -> 0 | F27: ='e. Supplies'!D128 -> 0 | G27: =SUM(B27:F27) -> 0
A28: f. Contractual | B28: ='f. Contractual'!C28 -> 0 | C28: ='f. Contractual'!D28 -> 0 | D28: ='f. Contractual'!E28 -> 0 | E28: ='f. Contractual'!F28 -> 0 | F28: ='f. Contractual'!G28 -> 0 | G28: =SUM(B28:F28) -> 0
A29: g. Other Direct Costs | B29: ='g. Other'!D25 -> 0 | C29: ='g. Other'!D51 -> 0 | D29: ='g. Other'!D77 -> 0 | E29: ='g. Other'!D103 -> 0 | F29: ='g. Other'!D129 -> 0 | G29: =SUM(B29:F29) -> 0
A30: TOTAL DIRECT COSTS | B30: =B23+B24+B25+B26+B27+B28+B29 -> 0 | C30: =C23+C24+C25+C26+C27+C28+C29 -> 0 | D30: =D23+D24+D25+D26+D27+D28+D29 -> 0 | E30: =E23+E24+E25+E26+E27+E28+E29 -> 0 | F30: =F23+F24+F25+F26+F27+F28+F29 -> 0 | G30: =SUM(G23:G29) -> 0
A31: h. Indirect Charges | B31: ='h. Indirect'!B16 -> 0 | C31: ='h. Indirect'!C16 -> 0 | D31: ='h. Indirect'!D16 -> 0 | E31: ='h. Indirect'!E16 -> 0 | F31: ='h. Indirect'!F16 -> 0 | G31: =SUM(B31:F31) -> 0
A32: P1 TOTAL COST | B32: =B30+B31 -> 0 | C32: =C30+C31 -> 0 | D32: =D30+D31 -> 0 | E32: =E30+E31 -> 0 | F32: =F30+F31 -> 0 | G32: =G30+G31 -> 0
A33: Project 2
A34: CATEGORY | B34: Year 1 | C34: Year 2 | D34: Year 3 | E34: Year 4 | F34: Year 5 | G34: Total Costs | H34: Comments (as needed)
A35: a. Personnel | B35: ='a. Personnel'!E40 -> 0 | C35: ='a. Personnel'!H40 -> 0 | D35: ='a. Personnel'!K40 -> 0 | E35: ='a. Personnel'!N40 -> 0 | F35: ='a. Personnel'!Q40 -> 0 | G35: =SUM(B35:F35) -> 0
A36: b. Fringe Benefits | B36: ='b. Fringe'!D27 -> 0 | C36: ='b. Fringe'!G27 -> 0 | D36: ='b. Fringe'!J27 -> 0 | E36: ='b. Fringe'!M27 -> 0 | F36: ='b. Fringe'!P27 -> 0 | G36: =SUM(B36:F36) -> 0
A37: c. Travel | B37: ='c. Travel'!K28 -> 0 | C37: ='c. Travel'!K48 -> 0 | D37: ='c. Travel'!K68 -> 0 | E37: ='c. Travel'!K88 -> 0 | F37: ='c. Travel'!K108 -> 0 | G37: =SUM(B37:F37) -> 0
A38: d. Equipment | B38: ='d. Equipment'!D30 -> 0 | C38: ='d. Equipment'!D56 -> 0 | D38: ='d. Equipment'!D82 -> 0 | E38: ='d. Equipment'!D108 -> 0 | F38: ='d. Equipment'!D134 -> 0 | G38: =SUM(B38:F38) -> 0
A39: e. Supplies | B39: ='e. Supplies'!D32 -> 0 | C39: ='e. Supplies'!D58 -> 0 | D39: ='e. Supplies'!D84 -> 0 | E39: ='e. Supplies'!D110 -> 0 | F39: ='e. Supplies'!D136 -> 0 | G39: =SUM(B39:F39) -> 0
A40: f. Contractual | B40: ='f. Contractual'!C36 -> 0 | C40: ='f. Contractual'!D36 -> 0 | D40: ='f. Contractual'!E36 -> 0 | E40: ='f. Contractual'!F36 -> 0 | F40: ='f. Contractual'!G36 -> 0 | G40: =SUM(B40:F40) -> 0
A41: g. Other Direct Costs | B41: ='g. Other'!D33 -> 0 | C41: ='g. Other'!D59 -> 0 | D41: ='g. Other'!D85 -> 0 | E41: ='g. Other'!D111 -> 0 | F41: ='g. Other'!D137 -> 0 | G41: =SUM(B41:F41) -> 0
A42: TOTAL DIRECT COSTS | B42: =B35+B36+B37+B38+B39+B40+B41 -> 0 | C42: =C35+C36+C37+C38+C39+C40+C41 -> 0 | D42: =D35+D36+D37+D38+D39+D40+D41 -> 0 | E42: =E35+E36+E37+E38+E39+E40+E41 -> 0 | F42: =F35+F36+F37+F38+F39+F40+F41 -> 0 | G42: =SUM(G35:G41) -> 0
A43: h. Indirect Charges | B43: ='h. Indirect'!B22 -> 0 | C43: ='h. Indirect'!C22 -> 0 | D43: ='h. Indirect'!D22 -> 0 | E43: ='h. Indirect'!E22 -> 0 | F43: ='h. Indirect'!F22 -> 0 | G43: =SUM(B43:F43) -> 0
A44: P2 TOTAL COST | B44: =B42+B43 -> 0 | C44: =C42+C43 -> 0 | D44: =D42+D43 -> 0 | E44: =E42+E43 -> 0 | F44: =F42+F43 -> 0 | G44: =G42+G43 -> 0
...

Sheet a. Personnel
A1: Detailed Budget Justification
A2: EPA has provided this optional budget spreadsheet as a resource for REO applicants. Use of this spreadsheet is optional. Applicants that do not use this resource will not be penalized.
A3: a. Personnel
A4: INSTRUCTIONS - PLEASE READ!!!
A5: 1. List project costs solely for employees of the entity completing this form. All costs for subrecipients should be included under g. Other. All costs for contractors (including consultants) must be included under f. Contractual.
A6: 2. All personnel should be identified by position title and not employee name. Identify the personnel category type by Full Time Equivalent (FTE; i.e., percentage of time), including percentage of FTE for part-time employees, base pay rate, and the estimated funding amounts.
A7: The total estimated funding amounts will automatically calculate. [For reference: One full-time employee would be 1 FTE. One half-time (20 hrs/wk) employee would be .5 FTE.]
A8: 3. Applicants are encouraged to account for anticipated cost increases between project years, such as cost-of-living increases.
A9: 4. If more than one employee has the same position title (e.g., “Technician”), list each employee on a separate line with their corresponding hours.
A10: 5. Please fill out the "Description" column with roles and responsibilities for each position. Describe whether each position is intended to be temporary or permanent. If temporary, describe the anticipated timeframe for the position.
A11: 6. Each budget period is rounded to the nearest dollar.
A13: Position Title | B13: Description | C13: Year 1 FTE | D13: Year 1 Pay Rate ($/Hr) | E13: Year 1 Total Budget Period 1 | F13: Year 2 FTE | G13: Year 2 Pay Rate ($/Hr) | H13: Year 2 Total Budget Period 2 | I13: Year 3 FTE | J13: Year 3 Pay Rate ($/Hr) | K13: Year 3 Total Budget Period 2 | L13: Year 4 FTE | M13: Year 4 Pay Rate ($/Hr) | N13: Year 4 Total Budget Period 2 | O13: Year 5 FTE | P13: Year 5 Pay Rate ($/Hr) | Q13: Year 5 Total Budget Period 3 | R13: Project Total FTE | S13: Project Total Dollars
A14: Sr. Engineer (EXAMPLE!!!) | B14: [Briefly describe the roles and responsibilities for each position] | C14: 0.5 | D14: 85 | E14: =C14*D14*40*52 -> 88400 | F14: 0.5 | G14: 90 | H14: =F14*G14*40*52 -> 93600 | I14: 0.5 | J14: 90 | K14: =I14*J14*40*52 -> 93600 | L14: 0.5 | M14: 90 | N14: =L14*M14*40*52 -> 93600 | O14: 0.5 | P14: 95 | Q14: =O14*P14*40*52 -> 98800 | R14: =C14+L14+O14 -> 1.5 | S14: =E14+N14+Q14 -> 280800
A15: Technician 1 (EXAMPLE!!!) | C15: 1 | D15: 20 | E15: =C15*D15*40*52 -> 41600 | F15: 1 | G15: 22 | H15: =F15*G15*40*52 -> 45760 | I15: 1 | J15: 22 | K15: =I15*J15*40*52 -> 45760 | L15: 1 | M15: 22 | N15: =L15*M15*40*52 -> 45760 | O15: 1 | P15: 24 | Q15: =O15*P15*40*52 -> 49920 | R15: =C15+L15+O15 -> 3 | S15: =E15+N15+Q15 -> 137280
A16: Technician 2 (EXAMPLE!!!) | C16: 1 | D16: 20 | E16: =C16*D16*40*52 -> 41600 | F16: 0.75 | G16: 22 | H16: =F16*G16*40*52 -> 34320 | I16: 0.75 | J16: 22 | K16: =I16*J16*40*52 -> 34320 | L16: 0.75 | M16: 22 | N16: =L16*M16*40*52 -> 34320 | O16: 0.5 | P16: 24 | Q16: =O16*P16*40*52 -> 24960 | R16: =C16+L16+O16 -> 2.25 | S16: =E16+N16+Q16 -> 100880
A17: Project 1
E18: =C18*D18*40*52 -> 0 | H18: =F18*G18*40*52 -> 0 | K18: =I18*J18*40*52 -> 0 | N18: =L18*M18*40*52 -> 0 | Q18: =O18*P18*40*52 -> 0 | R18: =C18+F18+I18+L18+O18 -> 0 | S18: =E18+H18+K18+N18+Q18 -> 0
E19: =C19*D19*40*52 -> 0 | H19: =F19*G19*40*52 -> 0 | K19: =I19*J19*40*52 -> 0 | N19: =L19*M19*40*52 -> 0 | Q19: =O19*P19*40*52 -> 0 | R19: =C19+F19+I19+L19+O19 -> 0 | S19: =E19+H19+K19+N19+Q19 -> 0
E20: =C20*D20*40*52 -> 0 | H20: =F20*G20*40*52 -> 0 | K20: =I20*J20*40*52 -> 0 | N20: =L20*M20*40*52 -> 0 | Q20: =O20*P20*40*52 -> 0 | R20: =C20+F20+I20+L20+O20 -> 0 | S20: =E20+H20+K20+N20+Q20 -> 0
E21: =C21*D21*40*52 -> 0 | H21: =F21*G21*40*52 -> 0 | K21: =I21*J21*40*52 -> 0 | N21: =L21*M21*40*52 -> 0 | Q21: =O21*P21*40*52 -> 0 | R21: =C21+F21+I21+L21+O21 -> 0 | S21: =E21+H21+K21+N21+Q21 -> 0
E22: =C22*D22*40*52 -> 0 | H22: =F22*G22*40*52 -> 0 | K22: =I22*J22*40*52 -> 0 | N22: =L22*M22*40*52 -> 0 | Q22: =O22*P22*40*52 -> 0 | R22: =C22+F22+I22+L22+O22 -> 0 | S22: =E22+H22+K22+N22+Q22 -> 0
E23: =C23*D23*40*52 -> 0 | H23: =F23*G23*40*52 -> 0 | K23: =I23*J23*40*52 -> 0 | N23: =L23*M23*40*52 -> 0 | Q23: =O23*P23*40*52 -> 0 | R23: =C23+F23+I23+L23+O23 -> 0 | S23: =E23+H23+K23+N23+Q23 -> 0
E24: =C24*D24*40*52 -> 0 | H24: =F24*G24*40*52 -> 0 | K24: =I24*J24*40*52 -> 0 | N24: =L24*M24*40*52 -> 0 | Q24: =O24*P24*40*52 -> 0 | R24: =C24+F24+I24+L24+O24 -> 0 | S24: =E24+H24+K24+N24+Q24 -> 0
E25: =C25*D25*40*52 -> 0 | H25: =F25*G25*40*52 -> 0 | K25: =I25*J25*40*52 -> 0 | N25: =L25*M25*40*52 -> 0 | Q25: =O25*P25*40*52 -> 0 | R25: =C25+F25+I25+L25+O25 -> 0 | S25: =E25+H25+K25+N25+Q25 -> 0
E26: =C26*D26*40*52 -> 0 | H26: =F26*G26*40*52 -> 0 | K26: =I26*J26*40*52 -> 0 | N26: =L26*M26*40*52 -> 0 | Q26: =O26*P26*40*52 -> 0 | R26: =C26+F26+I26+L26+O26 -> 0 | S26: =E26+H26+K26+N26+Q26 -> 0
E27: =C27*D27*40*52 -> 0 | H27: =F27*G27*40*52 -> 0 | K27: =I27*J27*40*52 -> 0 | N27: =L27*M27*40*52 -> 0 | Q27: =O27*P27*40*52 -> 0 | R27: =C27+F27+I27+L27+O27 -> 0 | S27: =E27+H27+K27+N27+Q27 -> 0
A28: P1 Total Costs | C28: =SUM(C18:C27) -> 0 | E28: =SUM(E18:E27) -> 0 | F28: =SUM(F18:F27) -> 0 | H28: =SUM(H18:H27) -> 0 | I28: =SUM(I18:I27) -> 0 | K28: =SUM(K18:K27) -> 0 | L28: =SUM(L18:L27) -> 0 | N28: =SUM(N18:N27) -> 0 | O28: =SUM(O18:O27) -> 0 | Q28: =SUM(Q18:Q27) -> 0 | R28: =SUM(R18:R27) -> 0 | S28: =SUM(S18:S27) -> 0
A29: Project 2
E30: =C30*D30*40*52 -> 0 | H30: =F30*G30*40*52 -> 0 | K30: =I30*J30*40*52 -> 0 | N30: =L30*M30*40*52 -> 0 | Q30: =O30*P30*40*52 -> 0 | R30: =C30+F30+I30+L30+O30 -> 0 | S30: =E30+H30+K30+N30+Q30 -> 0
E31: =C31*D31*40*52 -> 0 | H31: =F31*G31*40*52 -> 0 | K31: =I31*J31*40*52 -> 0 | N31: =L31*M31*40*52 -> 0 | Q31: =O31*P31*40*52 -> 0 | R31: =C31+F31+I31+L31+O31 -> 0 | S31: =E31+H31+K31+N31+Q31 -> 0
E32: =C32*D32*40*52 -> 0 | H32: =F32*G32*40*52 -> 0 | K32: =I32*J32*40*52 -> 0 | N32: =L32*M32*40*52 -> 0 | Q32: =O32*P32*40*52 -> 0 | R32: =C32+F32+I32+L32+O32 -> 0 | S32: =E32+H32+K32+N32+Q32 -> 0
E33: =C33*D33*40*52 -> 0 | H33: =F33*G33*40*52 -> 0 | K33: =I33*J33*40*52 -> 0 | N33: =L33*M33*40*52 -> 0 | Q33: =O33*P33*40*52 -> 0 | R33: =C33+F33+I33+L33+O33 -> 0 | S33: =E33+H33+K33+N33+Q33 -> 0
E34: =C34*D34*40*52 -> 0 | H34: =F34*G34*40*52 -> 0 | K34: =I34*J34*40*52 -> 0 | N34: =L34*M34*40*52 -> 0 | Q34: =O34*P34*40*52 -> 0 | R34: =C34+F34+I34+L34+O34 -> 0 | S34: =E34+H34+K34+N34+Q34 -> 0
E35: =C35*D35*40*52 -> 0 | H35: =F35*G35*40*52 -> 0 | K35: =I35*J35*40*52 -> 0 | N35: =L35*M35*40*52 -> 0 | Q35: =O35*P35*40*52 -> 0 | R35: =C35+F35+I35+L35+O35 -> 0 | S35: =E35+H35+K35+N35+Q35 -> 0
E36: =C36*D36*40*52 -> 0 | H36: =F36*G36*40*52 -> 0 | K36: =I36*J36*40*52 -> 0 | N36: =L36*M36*40*52 -> 0 | Q36: =O36*P36*40*52 -> 0 | R36: =C36+F36+I36+L36+O36 -> 0 | S36: =E36+H36+K36+N36+Q36 -> 0
E37: =C37*D37*40*52 -> 0 | H37: =F37*G37*40*52 -> 0 | K37: =I37*J37*40*52 -> 0 | N37: =L37*M37*40*52 -> 0 | Q37: =O37*P37*40*52 -> 0 | R37: =C37+F37+I37+L37+O37 -> 0 | S37: =E37+H37+K37+N37+Q37 -> 0
E38: =C38*D38*40*52 -> 0 | H38: =F38*G38*40*52 -> 0 | K38: =I38*J38*40*52 -> 0 | N38: =L38*M38*40*52 -> 0 | Q38: =O38*P38*40*52 -> 0 | R38: =C38+F38+I38+L38+O38 -> 0 | S38: =E38+H38+K38+N38+Q38 -> 0
E39: =C39*D39*40*52 -> 0 | H39: =F39*G39*40*52 -> 0 | K39: =I39*J39*40*52 -> 0 | N39: =L39*M39*40*52 -> 0 | Q39: =O39*P39*40*52 -> 0 | R39: =C39+F39+I39+L39+O39 -> 0 | S39: =E39+H39+K39+N39+Q39 -> 0
A40: P2 Total Costs | C40: =SUM(C30:C39) -> 0 | E40: =SUM(E30:E39) -> 0 | F40: =SUM(F30:F39) -> 0 | H40: =SUM(H30:H39) -> 0 | I40: =SUM(I30:I39) -> 0 | K40: =SUM(K30:K39) -> 0 | L40: =SUM(L30:L39) -> 0 | N40: =SUM(N30:N39) -> 0 | O40: =SUM(O30:O39) -> 0 | Q40: =SUM(Q30:Q39) -> 0 | R40: =SUM(R30:R39) -> 0 | S40: =SUM(S30:S39) -> 0
A41: Project 3
...

Sheet b. Fringe
A1: Detailed Budget Justification
A2: EPA has provided this optional budget spreadsheet as a resource for REO applicants. Use of this spreadsheet is optional. Applicants that do not use this resource will not be penalized.
A3: b. Fringe Benefits
A4: INSTRUCTIONS - PLEASE READ!!!
A5: 1. Fill out the table below, with each position listed in a separate line. Add additional lines if needed. If all employees receive the same fringe benefits, you can show "Total Personnel" in the Labor Type column instead of listing out all position titles.
A6: 2. The rates and how they are applied should not be averaged to get one fringe cost percentage. Complex calculations should be described/provided in the Additional Explanation section below.
A7: 3. Fringe benefit charges must comply with 2 CFR 200.431.
A8: 4. Describe the elements that comprise your fringe benefits and how they are applied to your base (e.g., Personnel) in the Additional Explanation box at the bottom.
A9: 5. Each budget period is rounded to the nearest dollar.
A11: Labor Type | B11: Year 1 Personnel Costs | C11: Year 1 Fringe Rate | D11: Year 1 Total | E11: Year 2 Personnel Costs | F11: Year 2 Fringe Rate | G11: Year 2 Total | H11: Year 3 Personnel Costs | I11: Year 3 Fringe Rate | J11: Year 3 Total | K11: Year 4 Personnel Costs | L11: Year 4 Fringe Rate | M11: Year 4 Total | N11: Year 5 Personnel Costs | O11: Year 5 Fringe Rate | P11: Year 5 Total | Q11: Total Project
A12: Project 1
A13: EXAMPLE!!! Sr. Engineer | B13: 88400 | C13: 0.2 | D13: =B13*C13 -> 17680 | E13: 93600 | F13: 0.2 | G13: =E13*F13 -> 18720 | H13: 93600 | I13: 0.2 | J13: =H13*I13 -> 18720 | K13: 93600 | L13: 0.2 | M13: =K13*L13 -> 18720 | N13: 98800 | O13: 0.2 | P13: =N13*O13 -> 19760 | Q13: =D13+G13+P13 -> 56160
D14: =C14*B14 -> 0 | G14: =E14*F14 -> 0 | J14: =H14*I14 -> 0 | M14: =K14*L14 -> 0 | P14: =N14*O14 -> 0 | Q14: =D14+G14+P14 -> 0
D15: =C15*B15 -> 0 | G15: =E15*F15 -> 0 | J15: =H15*I15 -> 0 | M15: =K15*L15 -> 0 | P15: =N15*O15 -> 0 | Q15: =D15+G15+P15 -> 0
D16: =C16*B16 -> 0 | G16: =E16*F16 -> 0 | J16: =H16*I16 -> 0 | M16: =K16*L16 -> 0 | P16: =N16*O16 -> 0 | Q16: =D16+G16+P16 -> 0
D17: =C17*B17 -> 0 | G17: =E17*F17 -> 0 | J17: =H17*I17 -> 0 | M17: =K17*L17 -> 0 | P17: =N17*O17 -> 0 | Q17: =D17+G17+P17 -> 0
D18: =C18*B18 -> 0 | G18: =E18*F18 -> 0 | J18: =H18*I18 -> 0 | M18: =K18*L18 -> 0 | P18: =N18*O18 -> 0 | Q18: =D18+G18+P18 -> 0
A19: P1 Total: | B19: =SUM(B14:B18) -> 0 | D19: =SUM(D14:D18) -> 0 | E19: =SUM(E14:E18) -> 0 | G19: =SUM(G14:G18) -> 0 | H19: =SUM(H14:H18) -> 0 | J19: =SUM(J14:J18) -> 0 | K19: =SUM(K14:K18) -> 0 | M19: =SUM(M14:M18) -> 0 | N19: =SUM(N14:N18) -> 0 | P19: =SUM(P14:P18) -> 0 | Q19: =D19+G19+P19 -> 0
A20: Project 2
A21: EXAMPLE!!! Sr. Engineer | B21: 88400 | C21: 0.2 | D21: =B21*C21 -> 17680 | E21: 93600 | F21: 0.2 | G21: =E21*F21 -> 18720 | H21: 93600 | I21: 0.2 | J21: =H21*I21 -> 18720 | K21: 93600 | L21: 0.2 | M21: =K21*L21 -> 18720 | N21: 98800 | O21: 0.2 | P21: =N21*O21 -> 19760 | Q21: =D21+G21+P21 -> 56160
D22: =C22*B22 -> 0 | G22: =E22*F22 -> 0 | J22: =H22*I22 -> 0 | M22: =K22*L22 -> 0 | P22: =N22*O22 -> 0 | Q22: =D22+G22+P22 -> 0
D23: =C23*B23 -> 0 | G23: =E23*F23 -> 0 | J23: =H23*I23 -> 0 | M23: =K23*L23 -> 0 | P23: =N23*O23 -> 0 | Q23: =D23+G23+P23 -> 0
D24: =C24*B24 -> 0 | G24: =E24*F24 -> 0 | J24: =H24*I24 -> 0 | M24: =K24*L24 -> 0 | P24: =N24*O24 -> 0 | Q24: =D24+G24+P24 -> 0
D25: =C25*B25 -> 0 | G25: =E25*F25 -> 0 | J25: =H25*I25 -> 0 | M25: =K25*L25 -> 0 | P25: =N25*O25 -> 0 | Q25: =D25+G25+P25 -> 0
D26: =C26*B26 -> 0 | G26: =E26*F26 -> 0 | J26: =H26*I26 -> 0 | M26: =K26*L26 -> 0 | P26: =N26*O26 -> 0 | Q26: =D26+G26+P26 -> 0
A27: P2 Total: | B27: =SUM(B22:B26) -> 0 | D27: =SUM(D22:D26) -> 0 | E27: =SUM(E22:E26) -> 0 | G27: =SUM(G22:G26) -> 0 | H27: =SUM(H22:H26) -> 0 | J27: =SUM(J22:J26) -> 0 | K27: =SUM(K22:K26) -> 0 | M27: =SUM(M22:M26) -> 0 | N27: =SUM(N22:N26) -> 0 | P27: =SUM(P22:P26) -> 0 | Q27: =D27+G27+P27 -> 0
A28: Project 3
A29: EXAMPLE!!! Sr. Engineer | B29: 88400 | C29: 0.2 | D29: =B29*C29 -> 17680 | E29: 93600 | F29: 0.2 | G29: =E29*F29 -> 18720 | H29: 93600 | I29: 0.2 | J29: =H29*I29 -> 18720 | K29: 93600 | L29: 0.2 | M29: =K29*L29 -> 18720 | N29: 98800 | O29: 0.2 | P29: =N29*O29 -> 19760 | Q29: =D29+G29+P29 -> 56160
D30: =C30*B30 -> 0 | G30: =E30*F30 -> 0 | J30: =H30*I30 -> 0 | M30: =K30*L30 -> 0 | P30: =N30*O30 -> 0 | Q30: =D30+G30+P30 -> 0
D31: =C31*B31 -> 0 | G31: =E31*F31 -> 0 | J31: =H31*I31 -> 0 | M31: =K31*L31 -> 0 | P31: =N31*O31 -> 0 | Q31: =D31+G31+P31 -> 0
D32: =C32*B32 -> 0 | G32: =E32*F32 -> 0 | J32: =H32*I32 -> 0 | M32: =K32*L32 -> 0 | P32: =N32*O32 -> 0 | Q32: =D32+G32+P32 -> 0
D33: =C33*B33 -> 0 | G33: =E33*F33 -> 0 | J33: =H33*I33 -> 0 | M33: =K33*L33 -> 0 | P33: =N33*O33 -> 0 | Q33: =D33+G33+P33 -> 0
D34: =C34*B34 -> 0 | G34: =E34*F34 -> 0 | J34: =H34*I34 -> 0 | M34: =K34*L34 -> 0 | P34: =N34*O34 -> 0 | Q34: =D34+G34+P34 -> 0
A35: P3 Total: | B35: =SUM(B30:B34) -> 0 | D35: =SUM(D30:D34) -> 0 | E35: =SUM(E30:E34) -> 0 | G35: =SUM(G30:G34) -> 0 | H35: =SUM(H30:H34) -> 0 | J35: =SUM(J30:J34) -> 0 | K35: =SUM(K30:K34) -> 0 | M35: =SUM(M30:M34) -> 0 | N35: =SUM(N30:N34) -> 0 | P35: =SUM(P30:P34) -> 0 | Q35: =D35+G35+P35 -> 0
A36: Cumulative Total Cost: | B36: =B19+B27+B35 -> 0 | D36: =D19+D27+D35 -> 0 | E36: =E19+E27+E35 -> 0 | G36: =G19+G27+G35 -> 0 | H36: =H19+H27+H35 -> 0 | J36: =J19+J27+J35 -> 0 | K36: =K19+K27+K35 -> 0 | M36: =M19+M27+M35 -> 0 | N36: =N19+N27+N35 -> 0 | P36: =P19+P27+P35 -> 0 | Q36: =Q19+Q27+Q35 -> 0
A38: Additional Explanation: Please use this box to list the elements that comprise your fringe benefits and how they are applied to your base (e.g. Personnel) to arrive at your fringe benefit rate.

Sheet c. Travel
A1: Detailed Budget Justification
A2: EPA has provided this optional budget spreadsheet as a resource for REO applicants. Use of this spreadsheet is optional. Applicants that do not use this resource will not be penalized.
A3: c. Travel
A4: INSTRUCTIONS - PLEASE READ!!!
A5: 1. Specify the mileage, per diem, estimated number of trips, number of travelers, and other costs for each type of travel. Examples of Purpose of Travel are off-site trainings and events, subrecipient site visits, EPA meetings, project mgmt. meetings, etc. Examples of Basis for
A6: Estimating Costs are past trips, travel quotes, GSA rates, etc.
A7: 2. All listed travel must be necessary to achieve project goals and objectives and should also be described in the Narrative Proposal.
A8: 3. Travel costs are governed by 2 CFR 200.475. Travel costs should remain consistent with travel costs incurred by an organization during normal business operations as a result of the organizations written travel policy. In absence of a written travel policy, organizations must
A9: follow the regulations prescribed by the General Services Administration. (See https://www.gsa.gov/travel/plan-book/per-diem-rates for GSA per diem rates.)
A10: 4. Calculate the "Total Vehicle Cost" based on the appropriate mode(s) of transportation required for each trip. See 41 CFR 301-10 for general GSA guidance on allowable transportation expenses.
A11: 5. If foreign travel is proposed, be sure to note it in the "Purpose of Travel" and/or "Additional Explanation" sections. Any foreign travel will require the proper documentation and approvals from the EPA Office of International and Tribal Affairs (OITA).
A12: 6. Each budget period is rounded to the nearest dollar.
A14: Purpose of Travel | B14: Depart From | C14: Destination | D14: No. of Travelers | E14: No. of Days | F14: No. of Nights | G14: Lodging per night per Traveler | H14: Flight per Traveler | I14: Total Vehicle Costs | J14: Per Diem per day per Traveler | K14: Cost per Trip | L14: Basis for Estimating Costs
A15: Year 1
A16: Project 1
A17: EXAMPLE!!! Attending the Tribal Lands and Environment Forum (TLEF) | D17: 2 | E17: 4 | F17: 3 | G17: 250 | H17: 500 | I17: 100 | J17: 160 | K17: =(E17*J17*D17)+(F17*G17*D17)+(H17*D17)+I17 -> 3880 | L17: Current GSA rates
K18: =(E18*J18*D18)+(F18*G18*D18)+(H18*D18)+I18 -> 0
K19: =(E19*J19*D19)+(F19*G19*D19)+(H19*D19)+I19 -> 0
K20: =(E20*J20*D20)+(F20*G20*D20)+(H20*D20)+I20 -> 0
K21: =(E21*J21*D21)+(F21*G21*D21)+(H21*D21)+I21 -> 0
A22: P1 Year 1 Total | K22: =SUM(K18:K21) -> 0
A23: Project 2
K24: =(E24*J24*D24)+(F24*G24*D24)+(H24*D24)+I24 -> 0
K25: =(E25*J25*D25)+(F25*G25*D25)+(H25*D25)+I25 -> 0
K26: =(E26*J26*D26)+(F26*G26*D26)+(H26*D26)+I26 -> 0
K27: =(E27*J27*D27)+(F27*G27*D27)+(H27*D27)+I27 -> 0
A28: P2 Year 1 Total | K28: =SUM(K24:K27) -> 0
A29: Project 3
K30: =(E30*J30*D30)+(F30*G30*D30)+(H30*D30)+I30 -> 0
K31: =(E31*J31*D31)+(F31*G31*D31)+(H31*D31)+I31 -> 0
K32: =(E32*J32*D32)+(F32*G32*D32)+(H32*D32)+I32 -> 0
K33: =(E33*J33*D33)+(F33*G33*D33)+(H33*D33)+I33 -> 0
A34: P3 Year 1 Total | K34: =SUM(K30:K33) -> 0
A35: Cumulative Year 1 Total | K35: =K22+K28+K34 -> 0
A36: Year 2
A37: Project 1
K38: =(E38*J38*D38)+(F38*G38*D38)+(H38*D38)+I38 -> 0
K39: =(E39*J39*D39)+(F39*G39*D39)+(H39*D39)+I39 -> 0
K40: =(E40*J40*D40)+(F40*G40*D40)+(H40*D40)+I40 -> 0
K41: =(E41*J41*D41)+(F41*G41*D41)+(H41*D41)+I41 -> 0
...

Sheet d. Equipment
A1: Detailed Budget Justification
A2: EPA has provided this optional budget spreadsheet as a resource for REO applicants. Use of this spreadsheet is optional. Applicants that do not use this resource will not be penalized.
A3: d. Equipment
A4: INSTRUCTIONS - PLEASE READ!!!
A5: 1. Equipment is generally defined as an item with an acquisition cost equal to or greater than $10,000 per unit, and a useful life expectancy of more than one year. Please refer to the applicable Federal
A6: regulations in 2 CFR 200 for specific equipment definitions and treatment. Equipment also includes accessories necessary to make the equipment operational. Note: If your organization has written
A7: procurement procedures that define a threshold for equipment costs that is lower than $10,000, then that threshold takes precedence. Please refer to the EPA’s Best Practice Guide for Procuring
A8: Services, Supplies, and Equipment Under EPA Assistance Agreements [https://www.epa.gov/grants/best-practice-guide-procuring-services-supplies-and-equipment-under-epa-assistance-agreements]
A9: 2. List all equipment below, providing a basis of cost (e.g. vendor quotes, catalog prices, prior invoices, etc.). In the "Description" column, briefly justify items as they relate to the Narrative Proposal.
A10: 3. Each budget period is rounded to the nearest dollar.
A12: Equipment Item | B12: Qty | C12: Unit Cost | D12: Total Cost | E12: Basis of Cost | F12: Description
A13: Year 1
A14: EXAMPLE!!! Signmaker | B14: 2 | C14: 12000 | D14: =B14*C14 -> 24000 | E14: Vendor Quote | F14: Signmaker to create large signs
A15: Project 1
D16: =B16*C16 -> 0
D17: =B17*C17 -> 0
D18: =B18*C18 -> 0
D19: =B19*C19 -> 0
D20: =B20*C20 -> 0
D21: =B21*C21 -> 0
A22: P1 Year 1 Total | D22: =SUM(D16:D21) -> 0
A23: Project 2
D24: =B24*C24 -> 0
D25: =B25*C25 -> 0
D26: =B26*C26 -> 0
D27: =B27*C27 -> 0
D28: =B28*C28 -> 0
D29: =B29*C29 -> 0
A30: P2 Year 1 Total | D30: =SUM(D24:D29) -> 0
A31: Project 3
D32: =B32*C32 -> 0
D33: =B33*C33 -> 0
D34: =B34*C34 -> 0
D35: =B35*C35 -> 0
D36: =B36*C36 -> 0
D37: =B37*C37 -> 0
A38: P3 Year 1 Total | D38: =SUM(D32:D37) -> 0
A39: Cumulative Year 1 Total | D39: =D22+D30+D38 -> 0
A40: Year 2
A41: Project 1
...

Sheet e. Supplies
A1: Detailed Budget Justification
A2: EPA has provided this optional budget spreadsheet as a resource for REO applicants. Use of this spreadsheet is optional. Applicants that do not use this resource will not be penalized.
A3: e. Supplies
A4: INSTRUCTIONS - PLEASE READ!!!
A5: 1. Supplies means all tangible personal property other than “equipment.” Supplies are generally defined as an item with an acquisition cost of less than $10,000 per unit and a useful
A6: life expectancy of less than one year. Supplies are generally consumed during the project performance. The budget detail should identify categories of supplies to be procured
A7: (e.g., laboratory supplies or office supplies). Non-tangible goods and services associated with supplies, such as occasional photocopy services and rental costs should be included in the
A8: “Other” category. Please refer to the applicable Federal regulations in 2 CFR 200 for specific supplies definitions and treatment.
A9: 2. List all proposed supplies below, providing a basis of costs (e.g. vendor quotes, catalog prices, prior invoices, etc.). Briefly justify the need for the Supplies as they apply to the Narrative Proposal.
A10: 3. Multiple supply items valued at under $10,000 used to assemble an equipment item with a value greater than $10,000 with a useful life of more than one year should be included under d. Equipment.
A11: 4. Add rows as needed. If rows are added, formulas/calculations may need to be adjusted by the preparer.
A12: 5. Each budget period is rounded to the nearest dollar.
A14: Supply Item | B14: Qty | C14: Unit Cost | D14: Total Cost | E14: Basis of Cost | F14: Description
A15: Year 1
A16: EXAMPLE!!! Large posters | B16: 150 | C16: 50 | D16: =B16*C16 -> 7500 | E16: Printer quote | F16: [Insert description of purpose, as it applies to the Narrative Proposal activities.]
A17: Project 1
D18: =B18*C18 -> 0
D19: =B19*C19 -> 0
D20: =B20*C20 -> 0
D21: =B21*C21 -> 0
D22: =B22*C22 -> 0
D23: =B23*C23 -> 0
A24: P1 Year 1 Total | D24: =SUM(D18:D23) -> 0
A25: Project 2
D26: =B26*C26 -> 0
D27: =B27*C27 -> 0
D28: =B28*C28 -> 0
D29: =B29*C29 -> 0
D30: =B30*C30 -> 0
D31: =B31*C31 -> 0
A32: P2 Year 1 Total | D32: =SUM(D26:D31) -> 0
A33: Project 3
D34: =B34*C34 -> 0
D35: =B35*C35 -> 0
D36: =B36*C36 -> 0
D37: =B37*C37 -> 0
D38: =B38*C38 -> 0
D39: =B39*C39 -> 0
A40: P3 Year 1 Total | D40: =SUM(D34:D39) -> 0
A41: Cumulative Year 1 Total | D41: =D24+D32+D40 -> 0
...

Sheet f. Contractual
A1: Detailed Budget Justification
A2: EPA has provided this optional budget spreadsheet as a resource for REO applicants. Use of this spreadsheet is optional. Applicants that do not use this resource will not be penalized.
A3: f. Contractual
A4: INSTRUCTIONS - PLEASE READ!!!
A5: 1. List all procurement contracts under the proposed project. Recipients use procurement contracts to acquire property (including intellectual property such software licenses) and services needed to carry out the EPA funded project or program.
A6: See EPA’s Best Practice Guide for Procuring Services, Supplies, and Equipment Under EPA Assistance Agreements for detailed information on EPA’s interpretation of the procurement requirements in 2 CFR Part 200 (2 CFR 200.317 thru 200.327).
A7: [https://www.epa.gov/grants/best-practice-guide-procuring-services-supplies-and-equipment-under-epa-assistance]
A8: 2. Contractual services (including consulting services) are those services to be carried out by an individual or organization, other than the applicant, in the form of a procurement relationship.
A9: EPA’s Subaward Policy and Supplemental Frequent Questions [https://www.epa.gov/grants/epa-subaward-frequent-questions] has detailed guidance available for differentiating between contractors and subrecipients. Leased or rented goods (equipment or supplies) should be included in the “Other” category.
A10: 3. Costs for travel of contractors (including individual consultants) are included in the “Contractual” category. Further, costs for bus rentals for group trips, are also covered under the contractual category.
A11: 4. EPA does not require or encourage recipients to identify contractors (including consultants) in the application, but recipients may do so if they describe the procurement process consistent with 2 CFR 200.318 through 200.320 that was used to select the contractor.
A12: Applicants that identify a procurement contractor(s) in their application where the amount of the contract will be more than the micro-purchase threshold in 2 CFR 200.320(a)(1)
... A17: 7. Each budget period is rounded to the nearest dollar.
A19: Contractor/Service | B19: Purpose and Basis of Cost | C19: Year 1 | D19: Year 2 | E19: Year 3 | F19: Year 4 | G19: Year 5 | H19: Project Total
A20: Project 1
A21: EXAMPLE!!! Social marketing contractor | B21: [Insert description of purpose, as it applies to the Narrative Proposal activities.] | C21: 48000 | D21: 32000 | E21: 16000 | F21: 16000 | G21: 16000 | H21: =SUM(C21:G21) -> 128000
H22: =SUM(C22:G22) -> 0
H23: =SUM(C23:G23) -> 0
H24: =SUM(C24:G24) -> 0
H25: =SUM(C25:G25) -> 0
H26: =SUM(C26:G26) -> 0
H27: =SUM(C27:G27) -> 0
A28: P1 Total Contractual | C28: =SUM(C22:C27) -> 0 | D28: =SUM(D22:D27) -> 0 | E28: =SUM(E22:E27) -> 0 | F28: =SUM(F22:F27) -> 0 | G28: =SUM(G22:G27) -> 0 | H28: =SUM(C28:G28) -> 0
A29: Project 2
H30: =SUM(C30:G30) -> 0
H31: =SUM(C31:G31) -> 0
H32: =SUM(C32:G32) -> 0
H33: =SUM(C33:G33) -> 0
H34: =SUM(C34:G34) -> 0
H35: =SUM(C35:G35) -> 0
A36: P2 Total Contractual | C36: =SUM(C30:C35) -> 0 | D36: =SUM(D30:D35) -> 0 | E36: =SUM(E30:E35) -> 0 | F36: =SUM(F30:F35) -> 0 | G36: =SUM(G30:G35) -> 0 | H36: =SUM(C36:G36) -> 0
A37: Project 3
H38: =SUM(C38:G38) -> 0
H39: =SUM(C39:G39) -> 0
H40: =SUM(C40:G40) -> 0
H41: =SUM(C41:G41) -> 0
H42: =SUM(C42:G42) -> 0
H43: =SUM(C43:G43) -> 0
A44: P3 Total Contractual | C44: =SUM(C38:C43) -> 0 | D44: =SUM(D38:D43) -> 0 | E44: =SUM(E38:E43) -> 0 | F44: =SUM(F38:F43) -> 0 | G44: =SUM(G38:G43) -> 0 | H44: =SUM(C44:G44) -> 0
A45: Cumulative Total Contractual | C45: =C28+C36+C44 -> 0 | D45: =D28+D36+D44 -> 0 | E45: =E28+E36+E44 -> 0 | F45: =F28+F36+F44 -> 0 | G45: =G28+G36+G44 -> 0 | H45: =H28+H36+H44 -> 0
...

Sheet g. Other
A1: Detailed Budget Justification
A2: EPA has provided this optional budget spreadsheet as a resource for REO applicants. Use of this spreadsheet is optional. Applicants that do not use this resource will not be penalized.
A3: g. Other
A4: INSTRUCTIONS - PLEASE READ!!!
A5: 1. This category should include only those types of direct costs that do not fit in any of the other budget categories. Examples of costs that may be in this category are: insurance; rental/lease of equipment or supplies; occasional photocopying; participant support costs such as non-employee training stipends and travel; subsidies or rebates for purchases of pollution control equipment; and subaward costs.
A6: Applicants should describe the items included in the “Other” category and include the estimated amount of participant support costs (e.g., stipends to encourage participation in community meetings) in a separate line item.
A7: Please refer to EPA Guidance on Participant Support Costs [https://www.epa.gov/sites/default/files/2020-11/documents/epa-guidance-on-participant-support-costs.pdf] for additional information.
A8: 2. Subawards (e.g., subgrants) are a distinct type of cost under the “other” category. The term Subaward is defined in 2 CFR 200.1. Subcontracts are not subawards and belong in the contractual category.
A9: Applicants must provide the amounts they propose to issue as subawards to each coalition member subrecipient and the amounts being set aside for competitive campaign implementation subrecipients as separate line items in the “Other” category, along with a description of the types of activities to be supported.”
A10: 3. Basis of cost are items such as vendor quotes, prior purchases of similar or like items, published price list, etc.
A11: 4. Please fill out the "Description and Justification" column with a detailed description of "Other" cost items and how they will be used in the project. Please be sure to tag any expenses/items (in the “Description” column) that may go to subawardees with “Subaward,” and any participant support costs (such as stipends/incentives/rebates) with “PSC.”
A12: Provide detail (or reference to your Narrative Proposal) such as how much each participant will receive, merit to receive item or money, and how many participants will get the incentive.
A13: 5. Each budget period is rounded to the nearest dollar.
A15: Item | B15: Unit Cost | C15: Quantity | D15: Total Cost | E15: Basis of Cost | F15: Description and Justification
A16: Year 1
A17: EXAMPLE!!! Monetary subsidies to households for the purchases of household recycling bins | B17: 50 | C17: 320 | D17: 16000 | E17: Vendor quotes | F17: [Insert description of need, as it applies to the Narrative Proposal activities.]
A18: Project 1
D19: =B19*C19 -> 0
D20: =B20*C20 -> 0
D21: =B21*C21 -> 0
D22: =B22*C22 -> 0
D23: =B23*C23 -> 0
D24: =B24*C24 -> 0
A25: P1 Year 1 Total | D25: =SUM(D19:D24) -> 0
A26: Project 2
D27: =B27*C27 -> 0
D28: =B28*C28 -> 0
D29: =B29*C29 -> 0
D30: =B30*C30 -> 0
D31: =B31*C31 -> 0
D32: =B32*C32 -> 0
A33: P2 Year 1 Total | D33: =SUM(D27:D32) -> 0
A34: Project 3
D35: =B35*C35 -> 0
D36: =B36*C36 -> 0
D37: =B37*C37 -> 0
D38: =B38*C38 -> 0
D39: =B39*C39 -> 0
D40: =B40*C40 -> 0
A41: P3 Year 1 Total | D41: =SUM(D35:D40) -> 0
...

Sheet h. Indirect
A1: Detailed Budget Justification
A2: EPA has provided this optional budget spreadsheet as a resource for REO applicants. Use of this spreadsheet is optional. Applicants that do not use this resource will not be penalized.
A3: h. Indirect Costs
A4: INSTRUCTIONS - PLEASE READ!!!
A5: 1. Fill out the table below to indicate how your indirect costs are calculated. Use the box below to provide additional explanation regarding your indirect rate calculation.
A6: 2. Please refer to the Indirect Costs clause in the EPA Solicitation Clauses (https://www.epa.gov/grants/epa-solicitation-clauses-20240614) for more details on indirect costs.
A7: 3. IMPORTANT: You must provide an explanation (in "Additional Explanation" below, or in a separate attachment) and show how your indirect cost rate was applied to this budget in order to come up with the indirect costs shown.
A8: 4. Fill in Row 11 only if you are requesting less than the allowable total of indirect costs. If you include amounts in Row 11, please explain in the "Additional Explanation" section below.
A9: 5. Each budget period is rounded to the nearest dollar.
B11: Year 1 | C11: Year 2 | D11: Year 3 | E11: Year 4 | F11: Year 5 | G11: Total | H11: Explanation of Distribution Base | I11: Column1
A12: Project 1
A13: Provide ONLY Applicable Rates:
A14: Indirect Cost Rate | B14: 0 | C14: 0 | D14: 0 | E14: 0 | F14: 0
A15: Indirect Cost Distribution Base
A16: Total Allowable Indirect Costs | B16: =B14*B15 -> 0 | C16: =C14*C15 -> 0 | D16: =D14*D15 -> 0 | E16: =E14*E15 -> 0 | F16: =F14*F15 -> 0 | G16: =SUM(B16:F16) -> 0
A17: Total indirect costs requested (if less than allowable total calculated above):
A18: Project 2
A19: Provide ONLY Applicable Rates:
A20: Indirect Cost Rate | B20: 0 | C20: 0 | D20: 0 | E20: 0 | F20: 0
A21: Indirect Cost Distribution Base
A22: Total Allowable Indirect Costs | B22: =B20*B21 -> 0 | C22: =C20*C21 -> 0 | D22: =D20*D21 -> 0 | E22: =E20*E21 -> 0 | F22: =F20*F21 -> 0 | G22: =SUM(B22:F22) -> 0
A23: Total indirect costs requested (if less than allowable total calculated above):
A24: Project 3
A25: Provide ONLY Applicable Rates:
A26: Indirect Cost Rate | B26: 0 | C26: 0 | D26: 0 | E26: 0 | F26: 0
A27: Indirect Cost Distribution Base
A28: Total Allowable Indirect Costs | B28: =B26*B27 -> 0 | C28: =C26*C27 -> 0 | D28: =D26*D27 -> 0 | E28: =E26*E27 -> 0 | F28: =F26*F27 -> 0 | G28: =SUM(B28:F28) -> 0
A29: Total indirect costs requested (if less than allowable total calculated above):
A31: Additional Explanation (as needed): Please use this box to further explain how your total indirect costs were calculated.

Sheet SF-424A
A1: Applicant Name: | E1: Award Number:
A2: Budget Information - Non Construction Programs
A3: OMB Approval No. 0348-0044
A4: Section A - Budget Summary
B5: Grant Program Function or Activity | C5: Catalog of Federal Domestic Assistance Number | D5: Estimated Unobligated Funds | F5: New or Revised Budget
D6: Federal | E6: Non-Federal | F6: Federal | G6: Non-Federal | H6: Total
B7: (a) | C7: (b) | D7: (c ) | E7: (d) | F7: (e) | G7: (f) | H7: (g)
A8: 1. | B8: Budget period 1 | F8: =D26-G8 -> #REF! | G8: =#REF! -> #REF! | H8: =SUM(D8:G8) -> #REF!
A9: 2. | B9: Budget period 2 | F9: =E26-G9 -> #REF! | G9: =#REF! -> #REF! | H9: =SUM(D9:G9) -> #REF!
A10: 3. | B10: Budget period 3 | F10: =F26-#REF! -> #REF! | G10: =#REF! -> #REF! | H10: =SUM(D10:G10) -> #REF!
A11: 4. | H11: =SUM(D11:G11) -> 0
A12: 5. | B12: Totals | D12: =SUM(D8:D11) -> 0 | E12: =SUM(E8:E11) -> 0 | F12: =SUM(F8:F11) -> #REF! | G12: =SUM(G8:G11) -> #REF! | H12: =SUM(H8:H11) -> #REF!
A13: Section B - Budget Categories
A14: 6. | B14: Object Class Categories | D14: Grant Program, Function or Activity | H14: Total (5)
D15: Budget period 1 | E15: Budget period 2 | F15: Budget period 3 | G15: (4)
B16: a. Personnel | D16: ='Instructions and Summary'!B23 -> 0 | E16: ='Instructions and Summary'!C23 -> 0 | F16: ='Instructions and Summary'!F23 -> 0 | H16: =SUM(D16:G16) -> 0
B17: b. Fringe Benefits | D17: ='Instructions and Summary'!B24 -> 0 | E17: ='Instructions and Summary'!C24 -> 0 | F17: ='Instructions and Summary'!F24 -> 0 | H17: =SUM(D17:G17) -> 0
B18: c. Travel | D18: ='Instructions and Summary'!B25 -> 0 | E18: ='Instructions and Summary'!C25 -> 0 | F18: ='Instructions and Summary'!F25 -> 0 | H18: =SUM(D18:G18) -> 0
B19: d. Equipment | D19: ='Instructions and Summary'!B26 -> 0 | E19: ='Instructions and Summary'!C26 -> 0 | F19: ='Instructions and Summary'!F26 -> 0 | H19: =SUM(D19:G19) -> 0
B20: e. Supplies | D20: ='Instructions and Summary'!B27 -> 0 | E20: ='Instructions and Summary'!C27 -> 0 | F20: ='Instructions and Summary'!F27 -> 0 | H20: =SUM(D20:G20) -> 0
B21: f. Contractual | D21: ='Instructions and Summary'!#REF! -> #REF! | E21: ='Instructions and Summary'!#REF! -> #REF! | F21: ='Instructions and Summary'!#REF! -> #REF! | H21: =SUM(D21:G21) -> #REF!
B22: g. Construction | D22: ='Instructions and Summary'!#REF! -> #REF! | E22: ='Instructions and Summary'!#REF! -> #REF! | F22: ='Instructions and Summary'!#REF! -> #REF! | H22: =SUM(D22:G22) -> #REF!
B23: h. Other | D23: ='Instructions and Summary'!B29 -> 0 | E23: ='Instructions and Summary'!C29 -> 0 | F23: ='Instructions and Summary'!F29 -> 0 | H23: =SUM(D23:G23) -> 0
B24: i. Total Direct Charges (sum of 6a-6h) | D24: =SUM(D16:D23) -> #REF! | E24: =SUM(E16:E23) -> #REF! | F24: =SUM(F16:F23) -> #REF! | G24: =SUM(G16:G23) -> 0 | H24: =SUM(D24:G24) -> #REF!
B25: j. Indirect Charges | D25: ='Instructions and Summary'!B31 -> 0 | E25: ='Instructions and Summary'!C31 -> 0 | F25: ='Instructions and Summary'!F31 -> 0 | H25: =SUM(D25:G25) -> 0
B26: k. Totals (sum of 6i-6j) | D26: =SUM(D24:D25) -> #REF! | E26: =SUM(E24:E25) -> #REF! | F26: =SUM(F24:F25) -> #REF! | G26: =SUM(G24:G25) -> 0 | H26: =SUM(H24:H25) -> #REF!
A28: 7. | B28: Program Income | H28: =SUM(D28:G28) -> 0
H30: SF-424A (Rev. 4-92)
A31: Previous Edition Usable | G31: Prescribed by OMB Circular A-102
A32: Authorized for Local Reproduction
A34: Section C - Non-Federal Resources
B35: (a) Grant Program | E35: (b) Applicant | F35: (c ) State | G35: (d) Other Sources | H35: (e) Totals
A36: 8. | B36: Budget period 1 | H36: =SUM(E36:G36) -> 0
A37: 9. | B37: Budget period 2 | H37: =SUM(E37:G37) -> 0
A38: 10. | B38: Budget period 3 | H38: =SUM(E38:G38) -> 0
A39: 11. | H39: =SUM(E39:G39) -> 0
A40: 12. | B40: Total (sum of lines 8 - 11) | E40: =SUM(E36:E39) -> 0 | F40: =SUM(F36:F39) -> 0 | G40: =SUM(G36:G39) -> 0 | H40: =SUM(H36:H39) -> 0
A41: Section D - Forecasted Cash Needs
D42: Total for 1st Year | E42: 1st Quarter | F42: 2nd Quarter | G42: 3rd Quarter | H42: 4th quarter
A43: 13. | B43: Federal | D43: =SUM(E43:H43) -> 0
...
