Workbook

Sheet ReadMe
A1: PUBLIC RELEASE DRAFT - November 2024
A2: Consumer Exposure Assessment Workbook
A4: Methodology Approaches:
A5: For most products EPA evaluated 2 scenarios, one for maintenance/disturbance/repair and one for removal. EPA decided installation scenarios are not applicable as it is highly unlikely for a consumer to acquire new/unused ACM to install.
A6: Assumed that the TWFs (ET x EF) varied for the scenario (maintenance/disturbance/repair or removal), rather than the product. Thus used the same TWFs for all products. | AB6: I
A7: For removal, did not consider the concept of how often one might replace roofing, flooring, insulation, ceilings, etc because once the ACM is removed it would not be replaced with new ACM to remove again at a later time.
A9: ASB conc calculations tab:
A10: This tab is the primary source of all concentrations, which the user and bystander exposure tabs reference.
A12: User Exposure tab:
A13: Table contains DIY ABS concentrations, TWF values and assumptions, ELCR and MOE equations and calculations
A15: Bystander Exposure tab:
A16: Mimics the User tab
A17: Column K on whether the bystander concentrations are derived from paper-reported area data or from using a reduction factor from consumer task-based concentrations
A19: Reduction Factor tab:
A20: Added fields to note if area data was used and if so, what the calculated RF would be.
A22: Experimetal Study Data Tab:
A23: Data collected via EPA's systematic review process for experimental studies
... A37: Details, equations, and descriptions about inputs, and assumptions for each scenario are found in each tab per scenario

Sheet User Exposure
D1: * EPC values are pulled from the "ABS conc calculations" tab | K1: Excess Lifetime Cancer Risk Calculation and Assumptions | L1: * TWF values are based on assumptions as described in columns Y, AA, AB, where similar job types (e.g., "repair") were given consistent TWF. The assumptions take into account not only the frequency of a job type (e.g., "roof replacement") but also the number of times per lifetime that a given job will include asbestos materials (e.g., a roof may be replaced every 10 years, but only the first replacement job is likely to include legacy use asbestos; in contrast, repeat repair jobs are more likely to contain legacy asbestos each time). | U1: Used in RE, exposure starts at 16 and DIY projects can be done all throughout life (78 - 16), for a 62 year exposure duration window | X1: For comparison to lifetime and (16,62) risk estimates. This scenario represents populations that perform DIY projects similar to the duration of their occupational risk. Although realistic, this scenario does not include people that continue to perform DIY projects after they retire. | AA1: For reference and comparison. Not used in RE. Represents people perfoming DIY activities throughout their entire life. Not realistic because it considers lifestages that cannot perform DIY activities | AD1: Non-Cancer Chronic MOE Calculations and Assumptions | AE1: * TWF values are based on assumptions as described in columns Y, AA, AB, where similar job types (e.g., "repair") were given consistent TWF. The assumptions take into account not only the frequency of a job type (e.g., "roof replacement") but also the number of times per lifetime that a given job will include asbestos materials (e.g., a roof may be replaced every 10 years, but only the first replacement job is likely to include legacy use asbestos; in contrast, repeat repair jobs are more likely to contain legacy asbestos each time).
A2: COU | B2: Subcategory | C2: Product and Activity-Based Scenario | D2: Exposure Point Concentration (EPC) Data From Systematic Review | L2: Time Weighting Factor (Lifetime Cancer) | R2: Exposure Concentration (Lifetime Cancer) | U2: Excess Lifteme Cancer Risk (risks > 1x10-6 are red and < 1x10-6 are green) | X2: Excess Lifteme Cancer Risk (risks > 1x10-6 are red and < 1x10-6 are green) | AA2: Excess Lifteme Cancer Risk (risks > 1x10-6 are red and < 1x10-6 are green) | AE2: Time Weighting Factor (Non-Cancer Chronic) | AK2: Exposure Concentration (Non-Cancer Chronic) | AN2: Non-Cancer Chronic MOE Benchmark = 300, Risk < 300 are red
U4: IUR LTL= | W4: 0.09 | X4: IUR LTL= | Z4: 0.08 | AA4: IUR lifetime= | AC4: 0.2 | AE4: Chronic Exposure Duration, yr (ED) = | AJ4: 62 | AN4: POD (f/cc)= | AP4: 0.026
U5: 16,62 | X5: 16,40 | AA5: 0,78 | AE5: Averaging Time, yr (AT) = | AJ5: 78 | AN5: Chronic Exposure Duration (yr) = Chronic Averaging Time (yr) = | AP5: 62 (ED) 78 (AT)
D6: Source | E6: Year | F6: Method | G6: Rating | H6: Low End (f/cc) | I6: High End (f/cc) | J6: Center Tendency (f/cc) | L6: Low End | M6: Low End TWF Comment | N6: High End | O6: High End TWF Comment | P6: Central Tendency | Q6: Central Tendency TWF comment | R6: Low End (f/cc) | S6: High End (f/cc) | T6: Central Tendency (f/cc) | U6: Low End | V6: High End | W6: Central Tendency | X6: Low End | Y6: High End | Z6: Central Tendency | AA6: Low End | AB6: High End | AC6: Central Tendency | AE6: Low End | AF6: Low End TWF Comment | AG6: High End | AH6: High End TWF Comment | AI6: Central Tendency | AJ6: Central Tendency TWF comment | AK6: Low End (f/cc) | AL6: High End (f/cc) | AM6: Central Tendency (f/cc) | AN6: Low End | AO6: High End | AP6: Central Tendency
A7: Chemical Substances in Construction, Paint, Electrical, and Metal Products | B7: Construction and building materials covering large surface areas: paper articles; metal articles; stone, plaster, cement, glass and ceramic articles | C7: Outdoor, disturbance/repair (sanding or scraping) of roofing materials | D7: 3531219 | E7: 2005 | F7: PCME (PCM and TEM) | G7: High | H7: ='ABS conc calculations'!H6 -> 0.00444 | I7: ='ABS conc calculations'!I6 -> 0.00971 | J7: ='ABS conc calculations'!J6 -> 0.00694 | L7: =(0.5/24)*(1/365) -> 5.7077626e-05 | M7: Assumed 1 repair/year, taking 1 day, lasting 30 min/day | N7: =(3/24)*(1/365) -> 0.00034246575 | O7: Assumed 1 repair/year, taking 1 day, lasting 3 hr/day | P7: =(1/24)*(1/365) -> 0.00011415525 | Q7: Assumed 1 repair/year, taking 1 day, lasting 1 hr/day | R7: =H7*L7 -> 2.5342466e-07 | S7: =I7*N7 -> 3.3253425e-06 | T7: =J7*P7 -> 7.9223744e-07 | U7: =R7*W$4 -> 2.2808219e-08 | V7: =S7*W$4 -> 2.9928082e-07 | W7: =T7*W$4 -> 7.130137e-08 | X7: =R7*Z$4 -> 2.0273973e-08 | Y7: =S7*Z$4 -> 2.660274e-07 | Z7: =T7*Z$4 -> 6.3378995e-08 | AA7: =R7*AC$4 -> 5.0684932e-08 | AB7: =S7*AC$4 -> 6.6506849e-07 | AC7: =T7*AC$4 -> 1.5844749e-07 | AE7: =(0.5/24)*(1/365)*($AJ$4/$AJ$5) -> 4.5369395e-05 | AF7: Assumed 1 repair/year, taking 1 day, lasting 30 min/day | AG7: =(3/24)*(1/365)*($AJ$4/$AJ$5) -> 0.00027221637 | AH7: Assumed 1 repair/year, taking 1 day, lasting 3 hr/day | AI7: =(1/24)*(1/365)*($AJ$4/$AJ$5) -> 9.0738789e-05 | AJ7: Assumed 1 repair/year, taking 1 day, lasting 1 hr/day | AK7: =H7*AE7 -> 2.0144011e-07 | AL7: =I7*AG7 -> 2.6432209e-06 | AM7: =J7*AI7 -> 6.297272e-07 | AN7: =$AP$4/AK7 -> 129070.62 | AO7: =$AP$4/AL7 -> 9836.4838 | AP7: =$AP$4/AM7 -> 41287.72
C8: Outdoor, removal of roofing materials | D8: 2604770 | E8: 2000 | F8: PCM | G8: Medium | H8: ='ABS conc calculations'!H7 -> 0.005 | I8: ='ABS conc calculations'!I7 -> 0.01 | J8: ='ABS conc calculations'!J7 -> 0.005 | L8: =(8/24)*(5/(365)) -> 0.00456621 | M8: Assumed 1 removal job in lifetime taking 5 days lasting 8 hrs/day | N8: =(8/24)*((3*10)/(365)) -> 0.02739726 | O8: Assumed 3 removal jobs in lifetime taking 10 days lasting 8 hrs/day | P8: =(8/24)*(10/(365)) -> 0.0091324201 | Q8: Assumed 1 removal job in lifetime taking 10 days lasting 8 hrs/day | R8: =H8*L8 -> 2.283105e-05 | S8: =I8*N8 -> 0.0002739726 | T8: =J8*P8 -> 4.56621e-05 | U8: =R8*W$4 -> 2.0547945e-06 | V8: =S8*W$4 -> 2.4657534e-05 | W8: =T8*W$4 -> 4.109589e-06 | X8: =R8*Z$4 -> 1.826484e-06 | Y8: =S8*Z$4 -> 2.1917808e-05 | Z8: =T8*Z$4 -> 3.652968e-06 | AA8: =R8*AC$4 -> 4.56621e-06 | AB8: =S8*AC$4 -> 5.4794521e-05 | AC8: =T8*AC$4 -> 9.1324201e-06 | AE8: =(8/24)*(5/(365))*($AJ$4/$AJ$5) -> 0.0036295516 | AF8: Assumed 1 removal job in lifetime taking 5 days lasting 8 hrs/day | AG8: =(8/24)*((3*10)/(365))*($AJ$4/$AJ$5) -> 0.021777309 | AH8: Assumed 3 removal jobs in lifetime taking 10 days lasting 8 hrs/day | AI8: =(8/24)*(10/(365))*($AJ$4/$AJ$5) -> 0.0072591031 | AJ8: Assumed 1 removal job in lifetime taking 10 days lasting 8 hrs/day | AK8: =H8*AE8 -> 1.8147758e-05 | AL8: =I8*AG8 -> 0.00021777309 | AM8: =J8*AI8 -> 3.6295516e-05 | AN8: =$AP$4/AK8 -> 1432.6839 | AO8: =$AP$4/AL8 -> 119.39032 | AP8: =$AP$4/AM8 -> 716.34194
C9: Indoor, removal of plaster | D9: 2604770 | E9: 2000 | F9: PCM | G9: Medium | H9: ='ABS conc calculations'!H8 -> 0.01 | I9: ='ABS conc calculations'!I8 -> 0.05 | J9: ='ABS conc calculations'!J8 -> 0.02 | L9: =(8/24)*(5/(365)) -> 0.00456621 | M9: Assumed 1 removal job in lifetime taking 5 days lasting 8 hrs/day | N9: =(8/24)*((3*10)/(365)) -> 0.02739726 | O9: Assumed 3 removal jobs in lifetime taking 10 days lasting 8 hrs/day | P9: =(8/24)*(10/(365)) -> 0.0091324201 | Q9: Assumed 1 removal job in lifetime taking 10 days lasting 8 hrs/day | R9: =H9*L9 -> 4.56621e-05 | S9: =I9*N9 -> 0.001369863 | T9: =J9*P9 -> 0.0001826484 | U9: =R9*W$4 -> 4.109589e-06 | V9: =S9*W$4 -> 0.00012328767 | W9: =T9*W$4 -> 1.6438356e-05 | X9: =R9*Z$4 -> 3.652968e-06 | Y9: =S9*Z$4 -> 0.00010958904 | Z9: =T9*Z$4 -> 1.4611872e-05 | AA9: =R9*AC$4 -> 9.1324201e-06 | AB9: =S9*AC$4 -> 0.0002739726 | AC9: =T9*AC$4 -> 3.652968e-05 | AE9: =(8/24)*(5/(365))*($AJ$4/$AJ$5) -> 0.0036295516 | AF9: Assumed 1 removal job in lifetime taking 5 days lasting 8 hrs/day | AG9: =(8/24)*((3*10)/(365))*($AJ$4/$AJ$5) -> 0.021777309 | AH9: Assumed 3 removal jobs in lifetime taking 10 days lasting 8 hrs/day | AI9: =(8/24)*(10/(365))*($AJ$4/$AJ$5) -> 0.0072591031 | AJ9: Assumed 1 removal job in lifetime taking 10 days lasting 8 hrs/day | AK9: =H9*AE9 -> 3.6295516e-05 | AL9: =I9*AG9 -> 0.0010888655 | AM9: =J9*AI9 -> 0.00014518206 | AN9: =$AP$4/AK9 -> 716.34194 | AO9: =$AP$4/AL9 -> 23.878065 | AP9: =$AP$4/AM9 -> 179.08548
C10: Indoor, disturbance (sliding) of ceiling tiles | D10: 3520468 | E10: 2016 | F10: PCME (PCM and TEM) | G10: Medium | H10: ='ABS conc calculations'!H9 -> 0.0225 | I10: ='ABS conc calculations'!I9 -> 0.045 | J10: ='ABS conc calculations'!J9 -> 0.0225 | L10: =(0.5/24)*(1/365) -> 5.7077626e-05 | M10: Assumed 1 repair/year, taking 1 day, lasting 30 min/day | N10: =(3/24)*(1/365) -> 0.00034246575 | O10: Assumed 1 repair/year, taking 1 day, lasting 3 hr/day | P10: =(1/24)*(1/365) -> 0.00011415525 | Q10: Assumed 1 repair/year, taking 1 day, lasting 1 hr/day | R10: =H10*L10 -> 1.2842466e-06 | S10: =I10*N10 -> 1.5410959e-05 | T10: =J10*P10 -> 2.5684932e-06 | U10: =R10*W$4 -> 1.1558219e-07 | V10: =S10*W$4 -> 1.3869863e-06 | W10: =T10*W$4 -> 2.3116438e-07 | X10: =R10*Z$4 -> 1.0273973e-07 | Y10: =S10*Z$4 -> 1.2328767e-06 | Z10: =T10*Z$4 -> 2.0547945e-07 | AA10: =R10*AC$4 -> 2.5684932e-07 | AB10: =S10*AC$4 -> 3.0821918e-06 | AC10: =T10*AC$4 -> 5.1369863e-07 | AE10: =(0.5/24)*(1/365)*($AJ$4/$AJ$5) -> 4.5369395e-05 | AF10: Assumed 1 repair/year, taking 1 day, lasting 30 min/day | AG10: =(3/24)*(1/365)*($AJ$4/$AJ$5) -> 0.00027221637 | AH10: Assumed 1 repair/year, taking 1 day, lasting 3 hr/day | AI10: =(1/24)*(1/365)*($AJ$4/$AJ$5) -> 9.0738789e-05 | AJ10: Assumed 1 repair/year, taking 1 day, lasting 1 hr/day | AK10: =H10*AE10 -> 1.0208114e-06 | AL10: =I10*AG10 -> 1.2249737e-05 | AM10: =J10*AI10 -> 2.0416228e-06 | AN10: =$AP$4/AK10 -> 25469.935 | AO10: =$AP$4/AL10 -> 2122.4946 | AP10: =$AP$4/AM10 -> 12734.968
C11: Indoor, removal of ceiling tiles | D11: 28699 | E11: 1991 | F11: PCM and TEM | G11: Medium | H11: ='ABS conc calculations'!H10 -> 0.005 | I11: ='ABS conc calculations'!I10 -> 0.019 | J11: ='ABS conc calculations'!J10 -> 0.009 | L11: =(8/24)*(5/(365)) -> 0.00456621 | M11: Assumed 1 removal job in lifetime taking 5 days lasting 8 hrs/day | N11: =(8/24)*((3*10)/(365)) -> 0.02739726 | O11: Assumed 3 removal jobs in lifetime taking 10 days lasting 8 hrs/day | P11: =(8/24)*(10/(365)) -> 0.0091324201 | Q11: Assumed 1 removal job in lifetime taking 10 days lasting 8 hrs/day | R11: =H11*L11 -> 2.283105e-05 | S11: =I11*N11 -> 0.00052054795 | T11: =J11*P11 -> 8.2191781e-05 | U11: =R11*W$4 -> 2.0547945e-06 | V11: =S11*W$4 -> 4.6849315e-05 | W11: =T11*W$4 -> 7.3972603e-06 | X11: =R11*Z$4 -> 1.826484e-06 | Y11: =S11*Z$4 -> 4.1643836e-05 | Z11: =T11*Z$4 -> 6.5753425e-06 | AA11: =R11*AC$4 -> 4.56621e-06 | AB11: =S11*AC$4 -> 0.00010410959 | AC11: =T11*AC$4 -> 1.6438356e-05 | AE11: =(8/24)*(5/(365))*($AJ$4/$AJ$5) -> 0.0036295516 | AF11: Assumed 1 removal job in lifetime taking 5 days lasting 8 hrs/day | AG11: =(8/24)*((3*10)/(365))*($AJ$4/$AJ$5) -> 0.021777309 | AH11: Assumed 3 removal jobs in lifetime taking 10 days lasting 8 hrs/day | AI11: =(8/24)*(10/(365))*($AJ$4/$AJ$5) -> 0.0072591031 | AJ11: Assumed 1 removal job in lifetime taking 10 days lasting 8 hrs/day | AK11: =H11*AE11 -> 1.8147758e-05 | AL11: =I11*AG11 -> 0.00041376888 | AM11: =J11*AI11 -> 6.5331928e-05 | AN11: =$AP$4/AK11 -> 1432.6839 | AO11: =$AP$4/AL11 -> 62.837012 | AP11: =$AP$4/AM11 -> 397.96774
C12: Indoor, maintenance (chemical stripping, polishing or buffing) of vinyl floor tiles | D12: 3582228 | E12: 1990 | F12: PCM and SEM | G12: Medium | H12: ='ABS conc calculations'!H11 -> NA | I12: ='ABS conc calculations'!I11 -> NA | J12: ='ABS conc calculations'!J11 -> NA | L12: =(0.5/24)*(1/365) -> 5.7077626e-05 | M12: Assumed 1 repair/year, taking 1 day, lasting 30 min/day | N12: =(3/24)*(1/365) -> 0.00034246575 | O12: Assumed 1 repair/year, taking 1 day, lasting 3 hr/day | P12: =(1/24)*(1/365) -> 0.00011415525 | Q12: Assumed 1 repair/year, taking 1 day, lasting 1 hr/day | R12: Below LOD | S12: Below LOD | T12: Below LOD | U12: Below LOD | V12: Below LOD | W12: Below LOD | X12: Below LOD | Y12: Below LOD | Z12: Below LOD | AA12: Below LOD | AB12: Below LOD | AC12: Below LOD | AE12: =(0.5/24)*(1/365)*($AJ$4/$AJ$5) -> 4.5369395e-05 | AF12: Assumed 1 repair/year, taking 1 day, lasting 30 min/day | AG12: =(3/24)*(1/365)*($AJ$4/$AJ$5) -> 0.00027221637 | AH12: Assumed 1 repair/year, taking 1 day, lasting 3 hr/day | AI12: =(1/24)*(1/365)*($AJ$4/$AJ$5) -> 9.0738789e-05 | AJ12: Assumed 1 repair/year, taking 1 day, lasting 1 hr/day | AK12: Below LOD | AL12: Below LOD | AM12: Below LOD | AN12: Below LOD | AO12: Below LOD | AP12: Below LOD
C13: Indoor, removal of vinyl floor tiles | D13: 3582228 | E13: 1990 | F13: PCM and SEM | G13: Medium | H13: ='ABS conc calculations'!H12 -> 0.0056 | I13: ='ABS conc calculations'!I12 -> 0.0056 | J13: ='ABS conc calculations'!J12 -> 0.0056 | L13: =(8/24)*(5/(365)) -> 0.00456621 | M13: Assumed 1 removal job in lifetime taking 5 days lasting 8 hrs/day | N13: =(8/24)*((3*10)/(365)) -> 0.02739726 | O13: Assumed 3 removal jobs in lifetime taking 10 days lasting 8 hrs/day | P13: =(8/24)*(10/(365)) -> 0.0091324201 | Q13: Assumed 1 removal job in lifetime taking 10 days lasting 8 hrs/day | R13: =H13*L13 -> 2.5570776e-05 | S13: =I13*N13 -> 0.00015342466 | T13: =J13*P13 -> 5.1141553e-05 | U13: =R13*W$4 -> 2.3013699e-06 | V13: =S13*W$4 -> 1.3808219e-05 | W13: =T13*W$4 -> 4.6027397e-06 | X13: =R13*Z$4 -> 2.0456621e-06 | Y13: =S13*Z$4 -> 1.2273973e-05 | Z13: =T13*Z$4 -> 4.0913242e-06 | AA13: =R13*AC$4 -> 5.1141553e-06 | AB13: =S13*AC$4 -> 3.0684932e-05 | AC13: =T13*AC$4 -> 1.0228311e-05 | AE13: =(8/24)*(5/(365))*($AJ$4/$AJ$5) -> 0.0036295516 | AF13: Assumed 1 removal job in lifetime taking 5 days lasting 8 hrs/day | AG13: =(8/24)*((3*10)/(365))*($AJ$4/$AJ$5) -> 0.021777309 | AH13: Assumed 3 removal jobs in lifetime taking 10 days lasting 8 hrs/day | AI13: =(8/24)*(10/(365))*($AJ$4/$AJ$5) -> 0.0072591031 | AJ13: Assumed 1 removal job in lifetime taking 10 days lasting 8 hrs/day | AK13: =H13*AE13 -> 2.0325489e-05 | AL13: =I13*AG13 -> 0.00012195293 | AM13: =J13*AI13 -> 4.0650978e-05 | AN13: =$AP$4/AK13 -> 1279.182 | AO13: =$AP$4/AL13 -> 213.197 | AP13: =$AP$4/AM13 -> 639.59101
C14: Indoor, disturbance/repair (cutting) of attic insulation. | D14: 758916 | E14: 2010 | F14: PCME (PCM and TEM) | G14: Medium | H14: ='ABS conc calculations'!H13 -> 1.16 | I14: ='ABS conc calculations'!I13 -> 1.16 | J14: ='ABS conc calculations'!J13 -> 1.16 | L14: =(0.5/24)*(1/365) -> 5.7077626e-05 | M14: Assumed 1 repair/year, taking 1 day, lasting 30 min/day | N14: =(3/24)*(1/365) -> 0.00034246575 | O14: Assumed 1 repair/year, taking 1 day, lasting 3 hr/day | P14: =(1/24)*(1/365) -> 0.00011415525 | Q14: Assumed 1 repair/year, taking 1 day, lasting 1 hr/day | R14: =H14*L14 -> 6.6210046e-05 | S14: =I14*N14 -> 0.00039726027 | T14: =J14*P14 -> 0.00013242009 | U14: =R14*W$4 -> 5.9589041e-06 | V14: =S14*W$4 -> 3.5753425e-05 | W14: =T14*W$4 -> 1.1917808e-05 | X14: =R14*Z$4 -> 5.2968037e-06 | Y14: =S14*Z$4 -> 3.1780822e-05 | Z14: =T14*Z$4 -> 1.0593607e-05 | AA14: =R14*AC$4 -> 1.3242009e-05 | AB14: =S14*AC$4 -> 7.9452055e-05 | AC14: =T14*AC$4 -> 2.6484018e-05 | AE14: =(0.5/24)*(1/365)*($AJ$4/$AJ$5) -> 4.5369395e-05 | AF14: Assumed 1 repair/year, taking 1 day, lasting 30 min/day | AG14: =(3/24)*(1/365)*($AJ$4/$AJ$5) -> 0.00027221637 | AH14: Assumed 1 repair/year, taking 1 day, lasting 3 hr/day | AI14: =(1/24)*(1/365)*($AJ$4/$AJ$5) -> 9.0738789e-05 | AJ14: Assumed 1 repair/year, taking 1 day, lasting 1 hr/day | AK14: =H14*AE14 -> 5.2628498e-05 | AL14: =I14*AG14 -> 0.00031577099 | AM14: =J14*AI14 -> 0.000105257 | AN14: =$AP$4/AK14 -> 494.02892 | AO14: =$AP$4/AL14 -> 82.338154 | AP14: =$AP$4/AM14 -> 247.01446
C15: Indoor, moving and removal (with vacuum) of attic insulation | D15: 758916 | E15: 2010 | F15: PCME (PCM and TEM) | G15: Medium | H15: ='ABS conc calculations'!H14 -> 0.97 | I15: ='ABS conc calculations'!I14 -> 9.27 | J15: ='ABS conc calculations'!J14 -> 5.12 | L15: =(8/24)*(5/(365)) -> 0.00456621 | M15: Assumed 1 removal job in lifetime taking 5 days lasting 8 hrs/day | N15: =(8/24)*((3*10)/(365)) -> 0.02739726 | O15: Assumed 3 removal jobs in lifetime taking 10 days lasting 8 hrs/day | P15: =(8/24)*(10/(365)) -> 0.0091324201 | Q15: Assumed 1 removal job in lifetime taking 10 days lasting 8 hrs/day | R15: =H15*L15 -> 0.0044292237 | S15: =I15*N15 -> 0.2539726 | T15: =J15*P15 -> 0.046757991 | U15: =R15*W$4 -> 0.00039863014 | V15: =S15*W$4 -> 0.022857534 | W15: =T15*W$4 -> 0.0042082192 | X15: =R15*Z$4 -> 0.0003543379 | Y15: =S15*Z$4 -> 0.020317808 | Z15: =T15*Z$4 -> 0.0037406393 | AA15: =R15*AC$4 -> 0.00088584475 | AB15: =S15*AC$4 -> 0.050794521 | AC15: =T15*AC$4 -> 0.0093515982 | AE15: =(8/24)*(5/(365))*($AJ$4/$AJ$5) -> 0.0036295516 | AF15: Assumed 1 removal job in lifetime taking 5 days lasting 8 hrs/day | AG15: =(8/24)*((3*10)/(365))*($AJ$4/$AJ$5) -> 0.021777309 | AH15: Assumed 3 removal jobs in lifetime taking 10 days lasting 8 hrs/day | AI15: =(8/24)*(10/(365))*($AJ$4/$AJ$5) -> 0.0072591031 | AJ15: Assumed 1 removal job in lifetime taking 10 days lasting 8 hrs/day | AK15: =H15*AE15 -> 0.003520665 | AL15: =I15*AG15 -> 0.20187566 | AM15: =J15*AI15 -> 0.037166608 | AN15: =$AP$4/AK15 -> 7.3849684 | AO15: =$AP$4/AL15 -> 0.12879215 | AP15: =$AP$4/AM15 -> 0.69955267
B16: Fillers and putties | C16: Indoor, disturbance (pole or hand sanding and cleaning) of spackle | D16: 3615573 | E16: 1979 | F16: PCM | G16: Medium | H16: ='ABS conc calculations'!H17 -> 1.25 | I16: ='ABS conc calculations'!I17 -> 25.866667 | J16: ='ABS conc calculations'!J17 -> 13.9 | L16: =(0.5/24)*(1/365) -> 5.7077626e-05 | M16: Assumed 1 repair/year, taking 1 day, lasting 30 min/day | N16: =(3/24)*(1/365) -> 0.00034246575 | O16: Assumed 1 repair/year, taking 1 day, lasting 3 hr/day | P16: =(1/24)*(1/365) -> 0.00011415525 | Q16: Assumed 1 repair/year, taking 1 day, lasting 1 hr/day | R16: =H16*L16 -> 7.1347032e-05 | S16: =I16*N16 -> 0.0088584475 | T16: =J16*P16 -> 0.001586758 | U16: =R16*W$4 -> 6.4212329e-06 | V16: =S16*W$4 -> 0.00079726027 | W16: =T16*W$4 -> 0.00014280822 | X16: =R16*Z$4 -> 5.7077626e-06 | Y16: =S16*Z$4 -> 0.0007086758 | Z16: =T16*Z$4 -> 0.00012694064 | AA16: =R16*AC$4 -> 1.4269406e-05 | AB16: =S16*AC$4 -> 0.0017716895 | AC16: =T16*AC$4 -> 0.0003173516 | AE16: =(0.5/24)*(1/365)*(62/78) -> 4.5369395e-05 | AF16: Assumed 1 repair/year, taking 1 day, lasting 30 min/day | AG16: =(3/24)*(1/365)*($AJ$4/$AJ$5) -> 0.00027221637 | AH16: Assumed 1 repair/year, taking 1 day, lasting 3 hr/day | AI16: =(1/24)*(1/365)*($AJ$4/$AJ$5) -> 9.0738789e-05 | AJ16: Assumed 1 repair/year, taking 1 day, lasting 1 hr/day | AK16: =H16*AE16 -> 5.6711743e-05 | AL16: =I16*AG16 -> 0.0070413301 | AM16: =J16*AI16 -> 0.0012612692 | AN16: =$AP$4/AK16 -> 458.45884 | AO16: =$AP$4/AL16 -> 3.6924842 | AP16: =$AP$4/AM16 -> 20.614156
C17: Indoor, disturbance (sanding and cleaning) of coatings, mastics and adhesives | D17: 3531298 | E17: 2004 | F17: PCME | G17: Medium | H17: ='ABS conc calculations'!H18 -> 0.023 | I17: ='ABS conc calculations'!I18 -> 0.04 | J17: ='ABS conc calculations'!J18 -> 0.023 | L17: =(0.5/24)*(1/365) -> 5.7077626e-05 | M17: Assumed 1 repair/year, taking 1 day, lasting 30 min/day | N17: =(3/24)*(1/365) -> 0.00034246575 | O17: Assumed 1 repair/year, taking 1 day, lasting 3 hr/day | P17: =(1/24)*(1/365) -> 0.00011415525 | Q17: Assumed 1 repair/year, taking 1 day, lasting 1 hr/day | R17: =H17*L17 -> 1.3127854e-06 | S17: =I17*N17 -> 1.369863e-05 | T17: =J17*P17 -> 2.6255708e-06 | U17: =R17*W$4 -> 1.1815068e-07 | V17: =S17*W$4 -> 1.2328767e-06 | W17: =T17*W$4 -> 2.3630137e-07 | X17: =R17*Z$4 -> 1.0502283e-07 | Y17: =S17*Z$4 -> 1.0958904e-06 | Z17: =T17*Z$4 -> 2.1004566e-07 | AA17: =R17*AC$4 -> 2.6255708e-07 | AB17: =S17*AC$4 -> 2.739726e-06 | AC17: =T17*AC$4 -> 5.2511416e-07 | AE17: =(0.5/24)*(1/365)*($AJ$4/$AJ$5) -> 4.5369395e-05 | AF17: Assumed 1 repair/year, taking 1 day, lasting 30 min/day | AG17: =(3/24)*(1/365)*($AJ$4/$AJ$5) -> 0.00027221637 | AH17: Assumed 1 repair/year, taking 1 day, lasting 3 hr/day | AI17: =(1/24)*(1/365)*($AJ$4/$AJ$5) -> 9.0738789e-05 | AJ17: Assumed 1 repair/year, taking 1 day, lasting 1 hr/day | AK17: =H17*AE17 -> 1.0434961e-06 | AL17: =I17*AG17 -> 1.0888655e-05 | AM17: =J17*AI17 -> 2.0869922e-06 | AN17: =$AP$4/AK17 -> 24916.241 | AO17: =$AP$4/AL17 -> 2387.8065 | AP17: =$AP$4/AM17 -> 12458.121
C18: Indoor, removal of floor tile/mastic | D18: 2604770 | E18: 2000 | F18: PCM | G18: Medium | H18: ='ABS conc calculations'!H19 -> 0.005 | I18: ='ABS conc calculations'!I19 -> 0.01 | J18: ='ABS conc calculations'!J19 -> 0.005 | L18: =(8/24)*(5/(365)) -> 0.00456621 | M18: Assumed 1 removal job in lifetime taking 5 days lasting 8 hrs/day | N18: =(8/24)*((3*10)/(365)) -> 0.02739726 | O18: Assumed 3 removal jobs in lifetime taking 10 days lasting 8 hrs/day | P18: =(8/24)*(10/(365)) -> 0.0091324201 | Q18: Assumed 1 removal job in lifetime taking 10 days lasting 8 hrs/day | R18: =H18*L18 -> 2.283105e-05 | S18: =I18*N18 -> 0.0002739726 | T18: =J18*P18 -> 4.56621e-05 | U18: =R18*W$4 -> 2.0547945e-06 | V18: =S18*W$4 -> 2.4657534e-05 | W18: =T18*W$4 -> 4.109589e-06 | X18: =R18*Z$4 -> 1.826484e-06 | Y18: =S18*Z$4 -> 2.1917808e-05 | Z18: =T18*Z$4 -> 3.652968e-06 | AA18: =R18*AC$4 -> 4.56621e-06 | AB18: =S18*AC$4 -> 5.4794521e-05 | AC18: =T18*AC$4 -> 9.1324201e-06 | AE18: =(8/24)*(5/(365))*($AJ$4/$AJ$5) -> 0.0036295516 | AF18: Assumed 1 removal job in lifetime taking 5 days lasting 8 hrs/day | AG18: =(8/24)*((3*10)/(365))*($AJ$4/$AJ$5) -> 0.021777309 | AH18: Assumed 3 removal jobs in lifetime taking 10 days lasting 8 hrs/day | AI18: =(8/24)*(10/(365))*($AJ$4/$AJ$5) -> 0.0072591031 | AJ18: Assumed 1 removal job in lifetime taking 10 days lasting 8 hrs/day | AK18: =H18*AE18 -> 1.8147758e-05 | AL18: =I18*AG18 -> 0.00021777309 | AM18: =J18*AI18 -> 3.6295516e-05 | AN18: =$AP$4/AK18 -> 1432.6839 | AO18: =$AP$4/AL18 -> 119.39032 | AP18: =$AP$4/AM18 -> 716.34194
C19: Indoor, removal of window caulking | D19: 2604770 | E19: 2000 | F19: PCM | G19: Medium | H19: ='ABS conc calculations'!H20 -> 0.005 | I19: ='ABS conc calculations'!I20 -> 0.01 | J19: ='ABS conc calculations'!J20 -> 0.005 | L19: =(8/24)*(5/(365)) -> 0.00456621 | M19: Assumed 1 removal job in lifetime taking 5 days lasting 8 hrs/day | N19: =(8/24)*((3*10)/(365)) -> 0.02739726 | O19: Assumed 3 removal jobs in lifetime taking 10 days lasting 8 hrs/day | P19: =(8/24)*(10/(365)) -> 0.0091324201 | Q19: Assumed 1 removal job in lifetime taking 10 days lasting 8 hrs/day | R19: =H19*L19 -> 2.283105e-05 | S19: =I19*N19 -> 0.0002739726 | T19: =J19*P19 -> 4.56621e-05 | U19: =R19*W$4 -> 2.0547945e-06 | V19: =S19*W$4 -> 2.4657534e-05 | W19: =T19*W$4 -> 4.109589e-06 | X19: =R19*Z$4 -> 1.826484e-06 | Y19: =S19*Z$4 -> 2.1917808e-05 | Z19: =T19*Z$4 -> 3.652968e-06 | AA19: =R19*AC$4 -> 4.56621e-06 | AB19: =S19*AC$4 -> 5.4794521e-05 | AC19: =T19*AC$4 -> 9.1324201e-06 | AE19: =(8/24)*(5/(365))*($AJ$4/$AJ$5) -> 0.0036295516 | AF19: Assumed 1 removal job in lifetime taking 5 days lasting 8 hrs/day | AG19: =(8/24)*((3*10)/(365))*($AJ$4/$AJ$5) -> 0.021777309 | AH19: Assumed 3 removal jobs in lifetime taking 10 days lasting 8 hrs/day | AI19: =(8/24)*(10/(365))*($AJ$4/$AJ$5) -> 0.0072591031 | AJ19: Assumed 1 removal job in lifetime taking 10 days lasting 8 hrs/day | AK19: =H19*AE19 -> 1.8147758e-05 | AL19: =I19*AG19 -> 0.00021777309 | AM19: =J19*AI19 -> 3.6295516e-05 | AN19: =$AP$4/AK19 -> 1432.6839 | AO19: =$AP$4/AL19 -> 119.39032 | AP19: =$AP$4/AM19 -> 716.34194
A20: Chemical Substances in Furnishing, Cleaning, Treatment Care Products | B20: Construction and building materials covering large surface areas, including fabrics, textiles, and apparel | C20: Use of mittens for glass manufacturing, (proxy for oven mittens and potholders) | D20: 3079914 | E20: 2005 | F20: HSE method MDHS 39/4 UK | G20: Medium | H20: ='ABS conc calculations'!H23 -> 0.12 | I20: ='ABS conc calculations'!I23 -> 0.5304 | J20: ='ABS conc calculations'!J23 -> 0.29148571 | L20: =(1/24)*(52/365)*(2/62) -> 0.00019148623 | M20: Assumed BBQ mittens used more than other hobbies. People grill on average 1 hr/day, 1 day per week (52 days per year), using an ACM mitt for 2 years over their lifetime | N20: =(1/24)*(52/365)*(10/62) -> 0.00095743114 | O20: Assumed BBQ mittens used more than other hobbies. People grill on average 1 hr/day, 1 day per week (52 days per year), using an ACM mitt for 10 years over their lifetime | P20: =(1/24)*(52/365)*(5/62) -> 0.00047871557 | Q20: Assumed BBQ mittens used more than other hobbies. People grill on average 1 hr/day, 1 day per week (52 days per year), using an ACM mitt for 5 years over their lifetime | R20: =H20*L20 -> 2.2978347e-05 | S20: =I20*N20 -> 0.00050782148 | T20: =J20*P20 -> 0.00013953875 | U20: =R20*W$4 -> 2.0680513e-06 | V20: =S20*W$4 -> 4.5703933e-05 | W20: =T20*W$4 -> 1.2558487e-05 | X20: =R20*Z$4 -> 1.8382678e-06 | Y20: =S20*Z$4 -> 4.0625718e-05 | Z20: =T20*Z$4 -> 1.11631e-05 | AA20: =R20*AC$4 -> 4.5956695e-06 | AB20: =S20*AC$4 -> 0.0001015643 | AC20: =T20*AC$4 -> 2.790775e-05 | AE20: =(1/24)*(52/365)*(2/62)*($AJ$4/$AJ$5) -> 0.000152207 | AF20: Assumed BBQ mittens used more than other hobbies. People grill on average 1 hr/day, 1 day per week (52 days per year), using an ACM mitt for 2 years over their lifetime | AG20: =(1/24)*(52/365)*(10/62)*($AJ$4/$AJ$5) -> 0.00076103501 | AH20: Assumed BBQ mittens used more than other hobbies. People grill on average 1 hr/day, 1 day per week (52 days per year), using an ACM mitt for 10 years over their lifetime | AI20: =(1/24)*(52/365)*(5/62)*($AJ$4/$AJ$5) -> 0.0003805175 | AJ20: Assumed BBQ mittens used more than other hobbies. People grill on average 1 hr/day, 1 day per week (52 days per year), using an ACM mitt for 5 years over their lifetime | AK20: =H20*AE20 -> 1.826484e-05 | AL20: =I20*AG20 -> 0.00040365297 | AM20: =J20*AI20 -> 0.00011091542 | AN20: =$AP$4/AK20 -> 1423.5 | AO20: =$AP$4/AL20 -> 64.411765 | AP20: =$AP$4/AM20 -> 234.41286
R21: =MAX(R7:R20) -> 0.0044292237 | S21: =MAX(S7:S20) -> 0.2539726 | T21: =MAX(T7:T20) -> 0.046757991
A22: Updated equation to use: | R22: =MIN(R7:R20) -> 2.5342466e-07 | S22: =MIN(S7:S20) -> 3.3253425e-06 | T22: =MIN(T7:T20) -> 7.9223744e-07
A25: ELCR = Excess Lifetime Cancer Risk, the risk of developing cancer as a consequence of the site-related exposure
A26: EPC = Exposure Point Concentration, the concentration of asbestos fibers in air (f/cc) for the specific activity being assessed
A27: IUR LTL or Liftetime = Inhalation Unit Risk per (f/cc) Less than Lifetime or Lifetime
A28: TWF = Time Weighting Factor, this factor accounts for less-than-continous exposure during a one-year exposure
A33: Former Exposure Factors links and notes
A66: https://blog.nationwide.com/home/home-maintenance/when-to-replace-your-roof/
A117: https://madison.floorcoveringsinternational.com/articles/questions-to-ask-before-replacing-your-tile-floor/
A118: Ceramic Floor tile - 30 to 50 yrs
A119: https://vevano.com/blogs/flooring-resources/signs-to-replace-flooring
A120: Low quality tile 10 years, high quality tile 20 years
A164: https://jmroofsiding.com/blog/2018/01/24/often-need-replace-insulation-attic/
A165: https://www.atticsystems.com/about-attic-systems/news-and-events/39318-when-does-attic-insulation-need-to-be-replaced.html
A166: https://www.superiorattic.com/post/how-often-should-you-replace-your-attic-insulation

Sheet Bystander Exposure
D1: * EPC values are pulled from the "ABS conc calculations" tab | L1: Excess Lifetime Cancer Risk Calculation and Assumptions | M1: * TWF values are based on assumptions as described in columns Y, AA, AB, where similar job types (e.g., "repair") were given consistent TWF. The assumptions take into account not only the frequency of a job type (e.g., "roof replacement") but also the number of times per lifetime that a given job will include asbestos materials (e.g., a roof may be replaced every 10 years, but only the first replacement job is likely to include legacy use asbestos; in contrast, repeat repair jobs are more likely to contain legacy asbestos each time). | V1: Bystander is child living at residence until 20 years of age. Intermitent DIY activities occur in a 20 year window | Y1: Bystander is an adult living in the same house for 30 years, exposure starts at 20 years, intermitent DIY activities occur in a 30 year window | AB1: Used in RE. Exposure starts at birth all throughout life. Person living at a household in which DIY projects are done, not exclusive to the same residence. | AE1: Non-Cancer Chronic MOE Calculations and Assumptions | AF1: * TWF values are based on assumptions as described in columns Y, AA, AB, where similar job types (e.g., "repair") were given consistent TWF. The assumptions take into account not only the frequency of a job type (e.g., "roof replacement") but also the number of times per lifetime that a given job will include asbestos materials (e.g., a roof may be replaced every 10 years, but only the first replacement job is likely to include legacy use asbestos; in contrast, repeat repair jobs are more likely to contain legacy asbestos each time). | AR1: Static copy and paste not linked to any formulas. For RE Appendix and Risk Characterization. | AU1: Static copy and paste not linked to any formulas. For RE Appendix. | AX1: Static copy and paste not linked to any formulas. For RE Appendix.
A2: COU | B2: Subcategory | C2: Product and Activity-Based Scenario | D2: Exposure Point Concentration (EPC) Data From Systematic Review | M2: Time Weighting Factor (Lifetime Cancer) | S2: Exposure (Lifetime Cancer) | V2: Excess Lifteme Cancer Risk (risks > 1x10-6 are red and < 1x10-6 are green) | Y2: Excess Lifteme Cancer Risk (risks > 1x10-6 are red and < 1x10-6 are green) | AB2: Excess Lifteme Cancer Risk (risks > 1x10-6 are red and < 1x10-6 are green) | AF2: Time Weighting Factor (Non-Cancer Chronic) | AL2: Exposure (Non-Cancer Chronic) | AO2: Non-Cancer Chronic MOE Benchmark = 300, Risk < 300 are red | AR2: Non-Cancer Chronic MOE Benchmark = 300, Risk < 300 are red | AU2: Non-Cancer Chronic MOE Benchmark = 300, Risk < 300 are red | AX2: Non-Cancer Chronic MOE Benchmark = 300, Risk < 300 are red
V4: (0,20) | Y4: 20,30) | AB4: (0,78) | AF4: Chronic Exposure Duration, yr (ED) = | AK4: 78 | AO4: POD (f/cc)= | AQ4: 0.026 | AR4: POD (f/cc)= | AT4: 0.026 | AU4: POD (f/cc)= | AW4: 0.026 | AX4: POD (f/cc)= | AZ4: 0.026
V5: IUR = | X5: 0.12 | Y5: IUR = | AA5: 0.06 | AB5: IUR = | AD5: 0.2 | AF5: Averaging Time, yr (AT) = | AK5: 78 | AO5: Chronic Exposure Duration (yr) = Chronic Averaging Time (yr) = | AQ5: 78 (ED) 78 (AT) | AR5: Chronic Exposure Duration (yr) = Chronic Averaging Time (yr) = | AT5: 20 (ED) 78 (AT) | AU5: Chronic Exposure Duration (yr) = Chronic Averaging Time (yr) = | AW5: 30 (ED) 78 (AT) | AX5: Chronic Exposure Duration (yr) = Chronic Averaging Time (yr) = | AZ5: 78 (ED) 78 (AT)
D6: Source | E6: Year | F6: Method | G6: Rating | H6: Low End (f/cc) | I6: High End (f/cc) | J6: Center Tendency (f/cc) | K6: Concentration type | M6: Low End TWF | N6: Low End TWF Comment | O6: High End TWF | P6: High End TWF Comment | Q6: Central Tendency TWF | R6: Central Tendency TWF comment | S6: Low End (f/cc) | T6: High End (f/cc) | U6: Central Tendency (f/cc) | V6: Low End | W6: High End | X6: Central Tendency | Y6: Low End | Z6: High End | AA6: Central Tendency | AB6: Low End | AC6: High End | AD6: Central Tendency | AF6: Low End | AG6: Low End TWF Comment | AH6: High End | AI6: High End TWF Comment | AJ6: Central Tendency | AK6: Central Tendency TWF comment | AL6: Low End (f/cc) | AM6: High End (f/cc) | AN6: Central Tendency (f/cc) | AO6: Low End | AP6: High End | AQ6: Central Tendency | AR6: Low End | AS6: High End | AT6: Central Tendency | AU6: Low End | AV6: High End | AW6: Central Tendency | AX6: Low End | AY6: High End | AZ6: Central Tendency
A7: Chemical Substances in Construction, Paint, Electrical, and Metal Products | B7: Construction and building materials covering large surface areas | C7: Outdoor, disturbance/repair (sanding or scraping) of roofing materials | D7: 3531219 | E7: 2005 | F7: PCME | G7: High | H7: ='ABS conc calculations'!K6 -> 0.00074 | I7: ='ABS conc calculations'!L6 -> 0.0016183333 | J7: ='ABS conc calculations'!M6 -> 0.0011566667 | K7: RF of 6 | M7: ='User Exposure'!L7 -> 5.7077626e-05 | N7: ='User Exposure'!M7 -> Assumed 1 repair/year, taking 1 day, lasting 30 min/day | O7: ='User Exposure'!N7 -> 0.00034246575 | P7: ='User Exposure'!O7 -> Assumed 1 repair/year, taking 1 day, lasting 3 hr/day | Q7: ='User Exposure'!P7 -> 0.00011415525 | R7: ='User Exposure'!Q7 -> Assumed 1 repair/year, taking 1 day, lasting 1 hr/day | S7: =H7*M7 -> 4.2237443e-08 | T7: =I7*O7 -> 5.5422374e-07 | U7: =J7*Q7 -> 1.3203957e-07 | V7: =S7*X$5 -> 5.0684932e-09 | W7: =T7*X$5 -> 6.6506849e-08 | X7: =U7*X$5 -> 1.5844749e-08 | Y7: =S7*AA$5 -> 2.5342466e-09 | Z7: =T7*AA$5 -> 3.3253425e-08 | AA7: =U7*AA$5 -> 7.9223744e-09 | AB7: =S7*AD$5 -> 8.4474886e-09 | AC7: =T7*AD$5 -> 1.1084475e-07 | AD7: =U7*AD$5 -> 2.6407915e-08 | AF7: =(0.5/24)*(1/365)*($AK$4/$AK$5) -> 5.7077626e-05 | AG7: Assumed 1 repair/year, taking 1 day, lasting 30 min/day | AH7: =(3/24)*(1/365)*($AK$4/$AK$5) -> 0.00034246575 | AI7: Assumed 1 repair/year, taking 1 day, lasting 3 hr/day | AJ7: =(1/24)*(1/365)*($AK$4/$AK$5) -> 0.00011415525 | AK7: Assumed 1 repair/year, taking 1 day, lasting 1 hr/day | AL7: =H7*AF7 -> 4.2237443e-08 | AM7: =I7*AH7 -> 5.5422374e-07 | AN7: =J7*AJ7 -> 1.3203957e-07 | AO7: =$AQ$4/AL7 -> 615567.57 | AP7: =$AQ$4/AM7 -> 46912.461 | AQ7: =$AQ$4/AN7 -> 196910.66 | AR7: 2400713.5 | AS7: 182958.6 | AT7: 767951.59 | AU7: 1600475.7 | AV7: 121972.4 | AW7: 511967.72 | AX7: 615567.57 | AY7: 46912.461 | AZ7: 196910.66
C8: Outdoor, removal of roofing materials | D8: 2604770 | E8: 2000 | F8: PCM | G8: Medium | H8: ='ABS conc calculations'!K7 -> 0.005 | I8: ='ABS conc calculations'!L7 -> 0.01 | J8: ='ABS conc calculations'!M7 -> 0.005 | K8: Area data, ND scenario | M8: ='User Exposure'!L8 -> 0.00456621 | N8: ='User Exposure'!M8 -> Assumed 1 removal job in lifetime taking 5 days lasting 8 hrs/day | O8: ='User Exposure'!N8 -> 0.02739726 | P8: ='User Exposure'!O8 -> Assumed 3 removal jobs in lifetime taking 10 days lasting 8 hrs/day | Q8: ='User Exposure'!P8 -> 0.0091324201 | R8: ='User Exposure'!Q8 -> Assumed 1 removal job in lifetime taking 10 days lasting 8 hrs/day | S8: =H8*M8 -> 2.283105e-05 | T8: =I8*O8 -> 0.0002739726 | U8: =J8*Q8 -> 4.56621e-05 | V8: =S8*X$5 -> 2.739726e-06 | W8: =T8*X$5 -> 3.2876712e-05 | X8: =U8*X$5 -> 5.4794521e-06 | Y8: =S8*AA$5 -> 1.369863e-06 | Z8: =T8*AA$5 -> 1.6438356e-05 | AA8: =U8*AA$5 -> 2.739726e-06 | AB8: =S8*AD$5 -> 4.56621e-06 | AC8: =T8*AD$5 -> 5.4794521e-05 | AD8: =U8*AD$5 -> 9.1324201e-06 | AF8: =(8/24)*(5/(365))*($AK$4/$AK$5) -> 0.00456621 | AG8: Assumed 1 removal job in lifetime taking 5 days lasting 8 hrs/day | AH8: =(8/24)*((3*10)/(365))*($AK$4/$AK$5) -> 0.02739726 | AI8: Assumed 3 removal jobs in lifetime taking 10 days lasting 8 hrs/day | AJ8: =(8/24)*(10/(365))*($AK$4/$AK$5) -> 0.0091324201 | AK8: Assumed 1 removal job in lifetime taking 10 days lasting 8 hrs/day | AL8: =H8*AF8 -> 2.283105e-05 | AM8: =I8*AH8 -> 0.0002739726 | AN8: =J8*AJ8 -> 4.56621e-05 | AO8: =$AQ$4/AL8 -> 1138.8 | AP8: =$AQ$4/AM8 -> 94.9 | AQ8: =$AQ$4/AN8 -> 569.4 | AR8: 4441.32 | AS8: 370.11 | AT8: 2220.66 | AU8: 2960.88 | AV8: 246.74 | AW8: 1480.44 | AX8: 1138.8 | AY8: 94.9 | AZ8: 569.4
C9: Indoor, removal of plaster | D9: 2604770 | E9: 2000 | F9: PCM | G9: Medium | H9: ='ABS conc calculations'!K8 -> 0.005 | I9: ='ABS conc calculations'!L8 -> 0.01 | J9: ='ABS conc calculations'!M8 -> 0.005 | K9: Area data, ND scenario | M9: ='User Exposure'!L9 -> 0.00456621 | N9: ='User Exposure'!M9 -> Assumed 1 removal job in lifetime taking 5 days lasting 8 hrs/day | O9: ='User Exposure'!N9 -> 0.02739726 | P9: ='User Exposure'!O9 -> Assumed 3 removal jobs in lifetime taking 10 days lasting 8 hrs/day | Q9: ='User Exposure'!P9 -> 0.0091324201 | R9: ='User Exposure'!Q9 -> Assumed 1 removal job in lifetime taking 10 days lasting 8 hrs/day | S9: =H9*M9 -> 2.283105e-05 | T9: =I9*O9 -> 0.0002739726 | U9: =J9*Q9 -> 4.56621e-05 | V9: =S9*X$5 -> 2.739726e-06 | W9: =T9*X$5 -> 3.2876712e-05 | X9: =U9*X$5 -> 5.4794521e-06 | Y9: =S9*AA$5 -> 1.369863e-06 | Z9: =T9*AA$5 -> 1.6438356e-05 | AA9: =U9*AA$5 -> 2.739726e-06 | AB9: =S9*AD$5 -> 4.56621e-06 | AC9: =T9*AD$5 -> 5.4794521e-05 | AD9: =U9*AD$5 -> 9.1324201e-06 | AF9: =(8/24)*(5/(365))*($AK$4/$AK$5) -> 0.00456621 | AG9: Assumed 1 removal job in lifetime taking 5 days lasting 8 hrs/day | AH9: =(8/24)*((3*10)/(365))*($AK$4/$AK$5) -> 0.02739726 | AI9: Assumed 3 removal jobs in lifetime taking 10 days lasting 8 hrs/day | AJ9: =(8/24)*(10/(365))*($AK$4/$AK$5) -> 0.0091324201 | AK9: Assumed 1 removal job in lifetime taking 10 days lasting 8 hrs/day | AL9: =H9*AF9 -> 2.283105e-05 | AM9: =I9*AH9 -> 0.0002739726 | AN9: =J9*AJ9 -> 4.56621e-05 | AO9: =$AQ$4/AL9 -> 1138.8 | AP9: =$AQ$4/AM9 -> 94.9 | AQ9: =$AQ$4/AN9 -> 569.4 | AR9: 4441.32 | AS9: 370.11 | AT9: 2220.66 | AU9: 2960.88 | AV9: 246.74 | AW9: 1480.44 | AX9: 1138.8 | AY9: 94.9 | AZ9: 569.4
C10: Indoor, disturbance (sliding) of ceiling tiles | D10: 3520468 | E10: 2007 | F10: PCME | G10: Medium | H10: ='ABS conc calculations'!K9 -> 0.0225 | I10: ='ABS conc calculations'!L9 -> 0.045 | J10: ='ABS conc calculations'!M9 -> 0.0225 | K10: personal bystander data, ND scenario | M10: ='User Exposure'!L10 -> 5.7077626e-05 | N10: ='User Exposure'!M10 -> Assumed 1 repair/year, taking 1 day, lasting 30 min/day | O10: ='User Exposure'!N10 -> 0.00034246575 | P10: ='User Exposure'!O10 -> Assumed 1 repair/year, taking 1 day, lasting 3 hr/day | Q10: ='User Exposure'!P10 -> 0.00011415525 | R10: ='User Exposure'!Q10 -> Assumed 1 repair/year, taking 1 day, lasting 1 hr/day | S10: =H10*M10 -> 1.2842466e-06 | T10: =I10*O10 -> 1.5410959e-05 | U10: =J10*Q10 -> 2.5684932e-06 | V10: =S10*X$5 -> 1.5410959e-07 | W10: =T10*X$5 -> 1.8493151e-06 | X10: =U10*X$5 -> 3.0821918e-07 | Y10: =S10*AA$5 -> 7.7054795e-08 | Z10: =T10*AA$5 -> 9.2465753e-07 | AA10: =U10*AA$5 -> 1.5410959e-07 | AB10: =S10*AD$5 -> 2.5684932e-07 | AC10: =T10*AD$5 -> 3.0821918e-06 | AD10: =U10*AD$5 -> 5.1369863e-07 | AF10: =(0.5/24)*(1/365)*($AK$4/$AK$5) -> 5.7077626e-05 | AG10: Assumed 1 repair/year, taking 1 day, lasting 30 min/day | AH10: =(3/24)*(1/365)*($AK$4/$AK$5) -> 0.00034246575 | AI10: Assumed 1 repair/year, taking 1 day, lasting 3 hr/day | AJ10: =(1/24)*(1/365)*($AK$4/$AK$5) -> 0.00011415525 | AK10: Assumed 1 repair/year, taking 1 day, lasting 1 hr/day | AL10: =H10*AF10 -> 1.2842466e-06 | AM10: =I10*AH10 -> 1.5410959e-05 | AN10: =J10*AJ10 -> 2.5684932e-06 | AO10: =$AQ$4/AL10 -> 20245.333 | AP10: =$AQ$4/AM10 -> 1687.1111 | AQ10: =$AQ$4/AN10 -> 10122.667 | AR10: 78956.8 | AS10: 6579.7333 | AT10: 39478.4 | AU10: 52637.867 | AV10: 4386.4889 | AW10: 26318.933 | AX10: 20245.333 | AY10: 1687.1111 | AZ10: 10122.667
C11: Indoor, removal of ceiling tiles | D11: 28699 | E11: 1991 | F11: PCM and TEM | G11: Medium | H11: ='ABS conc calculations'!K10 -> 0.00083333333 | I11: ='ABS conc calculations'!L10 -> 0.0031666667 | J11: ='ABS conc calculations'!M10 -> 0.0015 | K11: RF of 6 | M11: ='User Exposure'!L11 -> 0.00456621 | N11: ='User Exposure'!M11 -> Assumed 1 removal job in lifetime taking 5 days lasting 8 hrs/day | O11: ='User Exposure'!N11 -> 0.02739726 | P11: ='User Exposure'!O11 -> Assumed 3 removal jobs in lifetime taking 10 days lasting 8 hrs/day | Q11: ='User Exposure'!P11 -> 0.0091324201 | R11: ='User Exposure'!Q11 -> Assumed 1 removal job in lifetime taking 10 days lasting 8 hrs/day | S11: =H11*M11 -> 3.805175e-06 | T11: =I11*O11 -> 8.6757991e-05 | U11: =J11*Q11 -> 1.369863e-05 | V11: =S11*X$5 -> 4.56621e-07 | W11: =T11*X$5 -> 1.0410959e-05 | X11: =U11*X$5 -> 1.6438356e-06 | Y11: =S11*AA$5 -> 2.283105e-07 | Z11: =T11*AA$5 -> 5.2054795e-06 | AA11: =U11*AA$5 -> 8.2191781e-07 | AB11: =S11*AD$5 -> 7.6103501e-07 | AC11: =T11*AD$5 -> 1.7351598e-05 | AD11: =U11*AD$5 -> 2.739726e-06 | AF11: =(8/24)*(5/(365))*($AK$4/$AK$5) -> 0.00456621 | AG11: Assumed 1 removal job in lifetime taking 5 days lasting 8 hrs/day | AH11: =(8/24)*((3*10)/(365))*($AK$4/$AK$5) -> 0.02739726 | AI11: Assumed 3 removal jobs in lifetime taking 10 days lasting 8 hrs/day | AJ11: =(8/24)*(10/(365))*($AK$4/$AK$5) -> 0.0091324201 | AK11: Assumed 1 removal job in lifetime taking 10 days lasting 8 hrs/day | AL11: =H11*AF11 -> 3.805175e-06 | AM11: =I11*AH11 -> 8.6757991e-05 | AN11: =J11*AJ11 -> 1.369863e-05 | AO11: =$AQ$4/AL11 -> 6832.8 | AP11: =$AQ$4/AM11 -> 299.68421 | AQ11: =$AQ$4/AN11 -> 1898 | AR11: 26647.92 | AS11: 1168.7684 | AT11: 7402.2 | AU11: 17765.28 | AV11: 779.17895 | AW11: 4934.8 | AX11: 6832.8 | AY11: 299.68421 | AZ11: 1898
C12: Indoor, maintenance (chemical stripping, polishing or buffing) of vinyl floor tiles | D12: 3582228 | E12: 1991 | F12: SEM | G12: Medium | H12: ='ABS conc calculations'!K11 -> NA | I12: ='ABS conc calculations'!L11 -> NA | J12: ='ABS conc calculations'!M11 -> NA | K12: Area data | M12: ='User Exposure'!L12 -> 5.7077626e-05 | N12: ='User Exposure'!M12 -> Assumed 1 repair/year, taking 1 day, lasting 30 min/day | O12: ='User Exposure'!N12 -> 0.00034246575 | P12: ='User Exposure'!O12 -> Assumed 1 repair/year, taking 1 day, lasting 3 hr/day | Q12: ='User Exposure'!P12 -> 0.00011415525 | R12: ='User Exposure'!Q12 -> Assumed 1 repair/year, taking 1 day, lasting 1 hr/day | S12: Below LOD | T12: Below LOD | U12: Below LOD | V12: Below LOD | W12: Below LOD | X12: Below LOD | Y12: =S12*AA$5 -> #VALUE! | Z12: =T12*AA$5 -> #VALUE! | AA12: =U12*AA$5 -> #VALUE! | AB12: =S12*AD$5 -> #VALUE! | AC12: =T12*AD$5 -> #VALUE! | AD12: =U12*AD$5 -> #VALUE! | AF12: =(0.5/24)*(1/365)*($AK$4/$AK$5) -> 5.7077626e-05 | AG12: Assumed 1 repair/year, taking 1 day, lasting 30 min/day | AH12: =(3/24)*(1/365)*($AK$4/$AK$5) -> 0.00034246575 | AI12: Assumed 1 repair/year, taking 1 day, lasting 3 hr/day | AJ12: =(1/24)*(1/365)*($AK$4/$AK$5) -> 0.00011415525 | AK12: Assumed 1 repair/year, taking 1 day, lasting 1 hr/day | AL12: Below LOD | AM12: Below LOD | AN12: Below LOD | AO12: Below LOD | AP12: Below LOD | AQ12: Below LOD | AR12: Below LOD | AS12: Below LOD | AT12: Below LOD | AU12: Below LOD | AV12: Below LOD | AW12: Below LOD | AX12: Below LOD | AY12: Below LOD | AZ12: Below LOD
C13: Indoor, removal of vinyl floor tiles | D13: 3582228 | E13: 1991 | F13: SEM | G13: Medium | H13: ='ABS conc calculations'!K12 -> 0.0004 | I13: ='ABS conc calculations'!L12 -> 0.0004 | J13: ='ABS conc calculations'!M12 -> 0.0004 | K13: Area data | M13: ='User Exposure'!L13 -> 0.00456621 | N13: ='User Exposure'!M13 -> Assumed 1 removal job in lifetime taking 5 days lasting 8 hrs/day | O13: ='User Exposure'!N13 -> 0.02739726 | P13: ='User Exposure'!O13 -> Assumed 3 removal jobs in lifetime taking 10 days lasting 8 hrs/day | Q13: ='User Exposure'!P13 -> 0.0091324201 | R13: ='User Exposure'!Q13 -> Assumed 1 removal job in lifetime taking 10 days lasting 8 hrs/day | S13: =H13*M13 -> 1.826484e-06 | T13: =I13*O13 -> 1.0958904e-05 | U13: =J13*Q13 -> 3.652968e-06 | V13: =S13*X$5 -> 2.1917808e-07 | W13: =T13*X$5 -> 1.3150685e-06 | X13: =U13*X$5 -> 4.3835616e-07 | Y13: =S13*AA$5 -> 1.0958904e-07 | Z13: =T13*AA$5 -> 6.5753425e-07 | AA13: =U13*AA$5 -> 2.1917808e-07 | AB13: =S13*AD$5 -> 3.652968e-07 | AC13: =T13*AD$5 -> 2.1917808e-06 | AD13: =U13*AD$5 -> 7.3059361e-07 | AF13: =(8/24)*(5/(365))*($AK$4/$AK$5) -> 0.00456621 | AG13: Assumed 1 removal job in lifetime taking 5 days lasting 8 hrs/day | AH13: =(8/24)*((3*10)/(365))*($AK$4/$AK$5) -> 0.02739726 | AI13: Assumed 3 removal jobs in lifetime taking 10 days lasting 8 hrs/day | AJ13: =(8/24)*(10/(365))*($AK$4/$AK$5) -> 0.0091324201 | AK13: Assumed 1 removal job in lifetime taking 10 days lasting 8 hrs/day | AL13: =H13*AF13 -> 1.826484e-06 | AM13: =I13*AH13 -> 1.0958904e-05 | AN13: =J13*AJ13 -> 3.652968e-06 | AO13: =$AQ$4/AL13 -> 14235 | AP13: =$AQ$4/AM13 -> 2372.5 | AQ13: =$AQ$4/AN13 -> 7117.5 | AR13: 55516.5 | AS13: 9252.75 | AT13: 27758.25 | AU13: 37011 | AV13: 6168.5 | AW13: 18505.5 | AX13: 14235 | AY13: 2372.5 | AZ13: 7117.5
C14: Indoor, disturbance/repair (cutting) of attic insulation. | D14: 758916 | E14: 2010 | F14: PCME (PCM and TEM) | G14: Medium | H14: ='ABS conc calculations'!K13 -> 0.49333333 | I14: ='ABS conc calculations'!L13 -> 0.49333333 | J14: ='ABS conc calculations'!M13 -> 0.49333333 | K14: Area data | M14: ='User Exposure'!L14 -> 5.7077626e-05 | N14: ='User Exposure'!M14 -> Assumed 1 repair/year, taking 1 day, lasting 30 min/day | O14: ='User Exposure'!N14 -> 0.00034246575 | P14: ='User Exposure'!O14 -> Assumed 1 repair/year, taking 1 day, lasting 3 hr/day | Q14: ='User Exposure'!P14 -> 0.00011415525 | R14: ='User Exposure'!Q14 -> Assumed 1 repair/year, taking 1 day, lasting 1 hr/day | S14: =H14*M14 -> 2.8158295e-05 | T14: =I14*O14 -> 0.00016894977 | U14: =J14*Q14 -> 5.6316591e-05 | V14: =S14*X$5 -> 3.3789954e-06 | W14: =T14*X$5 -> 2.0273973e-05 | X14: =U14*X$5 -> 6.7579909e-06 | Y14: =S14*AA$5 -> 1.6894977e-06 | Z14: =T14*AA$5 -> 1.0136986e-05 | AA14: =U14*AA$5 -> 3.3789954e-06 | AB14: =S14*AD$5 -> 5.6316591e-06 | AC14: =T14*AD$5 -> 3.3789954e-05 | AD14: =U14*AD$5 -> 1.1263318e-05 | AF14: =(0.5/24)*(1/365)*($AK$4/$AK$5) -> 5.7077626e-05 | AG14: Assumed 1 repair/year, taking 1 day, lasting 30 min/day | AH14: =(3/24)*(1/365)*($AK$4/$AK$5) -> 0.00034246575 | AI14: Assumed 1 repair/year, taking 1 day, lasting 3 hr/day | AJ14: =(1/24)*(1/365)*($AK$4/$AK$5) -> 0.00011415525 | AK14: Assumed 1 repair/year, taking 1 day, lasting 1 hr/day | AL14: =H14*AF14 -> 2.8158295e-05 | AM14: =I14*AH14 -> 0.00016894977 | AN14: =J14*AJ14 -> 5.6316591e-05 | AO14: =$AQ$4/AL14 -> 923.35135 | AP14: =$AQ$4/AM14 -> 153.89189 | AQ14: =$AQ$4/AN14 -> 461.67568 | AR14: 3601.0703 | AS14: 600.17838 | AT14: 1800.5351 | AU14: 2400.7135 | AV14: 400.11892 | AW14: 1200.3568 | AX14: 923.35135 | AY14: 153.89189 | AZ14: 461.67568
C15: Indoor, moving and removal with vacuum of attic insulation | D15: 758916 | E15: 2010 | F15: PCME (PCM and TEM) | G15: Medium | H15: ='ABS conc calculations'!K14 -> 0.455 | I15: ='ABS conc calculations'!L14 -> 1.5433333 | J15: ='ABS conc calculations'!M14 -> 0.99916667 | K15: Area data | M15: ='User Exposure'!L15 -> 0.00456621 | N15: ='User Exposure'!M15 -> Assumed 1 removal job in lifetime taking 5 days lasting 8 hrs/day | O15: ='User Exposure'!N15 -> 0.02739726 | P15: ='User Exposure'!O15 -> Assumed 3 removal jobs in lifetime taking 10 days lasting 8 hrs/day | Q15: ='User Exposure'!P15 -> 0.0091324201 | R15: ='User Exposure'!Q15 -> Assumed 1 removal job in lifetime taking 10 days lasting 8 hrs/day | S15: =H15*M15 -> 0.0020776256 | T15: =I15*O15 -> 0.042283105 | U15: =J15*Q15 -> 0.0091248097 | V15: =S15*X$5 -> 0.00024931507 | W15: =T15*X$5 -> 0.0050739726 | X15: =U15*X$5 -> 0.0010949772 | Y15: =S15*AA$5 -> 0.00012465753 | Z15: =T15*AA$5 -> 0.0025369863 | AA15: =U15*AA$5 -> 0.00054748858 | AB15: =S15*AD$5 -> 0.00041552511 | AC15: =T15*AD$5 -> 0.008456621 | AD15: =U15*AD$5 -> 0.0018249619 | AF15: =(8/24)*(5/(365))*($AK$4/$AK$5) -> 0.00456621 | AG15: Assumed 1 removal job in lifetime taking 5 days lasting 8 hrs/day | AH15: =(8/24)*((3*10)/(365))*($AK$4/$AK$5) -> 0.02739726 | AI15: Assumed 3 removal jobs in lifetime taking 10 days lasting 8 hrs/day | AJ15: =(8/24)*(10/(365))*($AK$4/$AK$5) -> 0.0091324201 | AK15: Assumed 1 removal job in lifetime taking 10 days lasting 8 hrs/day | AL15: =H15*AF15 -> 0.0020776256 | AM15: =I15*AH15 -> 0.042283105 | AN15: =J15*AJ15 -> 0.0091248097 | AO15: =$AQ$4/AL15 -> 12.514286 | AP15: =$AQ$4/AM15 -> 0.61490281 | AQ15: =$AQ$4/AN15 -> 2.8493745 | AR15: 48.805714 | AS15: 2.398121 | AT15: 11.11256 | AU15: 32.537143 | AV15: 1.5987473 | AW15: 7.4083736 | AX15: 12.514286 | AY15: 0.61490281 | AZ15: 2.8493745
B16: Fillers and putties | C16: Indoor, disturbance (pole or hand sanding and cleaning) of spackle | D16: 3615573 | E16: 1979 | F16: PCM | G16: Medium | H16: ='ABS conc calculations'!K17 -> 1.95 | I16: ='ABS conc calculations'!L17 -> 9.55 | J16: ='ABS conc calculations'!M17 -> 5 | K16: Area data | M16: ='User Exposure'!L16 -> 5.7077626e-05 | N16: ='User Exposure'!M16 -> Assumed 1 repair/year, taking 1 day, lasting 30 min/day | O16: ='User Exposure'!N16 -> 0.00034246575 | P16: ='User Exposure'!O16 -> Assumed 1 repair/year, taking 1 day, lasting 3 hr/day | Q16: ='User Exposure'!P16 -> 0.00011415525 | R16: ='User Exposure'!Q16 -> Assumed 1 repair/year, taking 1 day, lasting 1 hr/day | S16: =H16*M16 -> 0.00011130137 | T16: =I16*O16 -> 0.0032705479 | U16: =J16*Q16 -> 0.00057077626 | V16: =S16*X$5 -> 1.3356164e-05 | W16: =T16*X$5 -> 0.00039246575 | X16: =U16*X$5 -> 6.8493151e-05 | Y16: =S16*AA$5 -> 6.6780822e-06 | Z16: =T16*AA$5 -> 0.00019623288 | AA16: =U16*AA$5 -> 3.4246575e-05 | AB16: =S16*AD$5 -> 2.2260274e-05 | AC16: =T16*AD$5 -> 0.00065410959 | AD16: =U16*AD$5 -> 0.00011415525 | AF16: =(0.5/24)*(1/365)*($AK$4/$AK$5) -> 5.7077626e-05 | AG16: Assumed 1 repair/year, taking 1 day, lasting 30 min/day | AH16: =(3/24)*(1/365)*($AK$4/$AK$5) -> 0.00034246575 | AI16: Assumed 1 repair/year, taking 1 day, lasting 3 hr/day | AJ16: =(1/24)*(1/365)*($AK$4/$AK$5) -> 0.00011415525 | AK16: Assumed 1 repair/year, taking 1 day, lasting 1 hr/day | AL16: =H16*AF16 -> 0.00011130137 | AM16: =I16*AH16 -> 0.0032705479 | AN16: =J16*AJ16 -> 0.00057077626 | AO16: =$AQ$4/AL16 -> 233.6 | AP16: =$AQ$4/AM16 -> 7.9497382 | AQ16: =$AQ$4/AN16 -> 45.552 | AR16: 911.04 | AS16: 31.003979 | AT16: 177.6528 | AU16: 607.36 | AV16: 20.669319 | AW16: 118.4352 | AX16: 233.6 | AY16: 7.9497382 | AZ16: 45.552
C17: Indoor, disturbance (sanding and cleaning) of coatings, mastics and adhesives | D17: 3531298 | E17: 2004 | F17: PCME | G17: Medium | H17: ='ABS conc calculations'!K18 -> 0.003 | I17: ='ABS conc calculations'!L18 -> 0.008 | J17: ='ABS conc calculations'!M18 -> 0.003 | K17: Area data | M17: ='User Exposure'!L17 -> 5.7077626e-05 | N17: ='User Exposure'!M17 -> Assumed 1 repair/year, taking 1 day, lasting 30 min/day | O17: ='User Exposure'!N17 -> 0.00034246575 | P17: ='User Exposure'!O17 -> Assumed 1 repair/year, taking 1 day, lasting 3 hr/day | Q17: ='User Exposure'!P17 -> 0.00011415525 | R17: ='User Exposure'!Q17 -> Assumed 1 repair/year, taking 1 day, lasting 1 hr/day | S17: =H17*M17 -> 1.7123288e-07 | T17: =I17*O17 -> 2.739726e-06 | U17: =J17*Q17 -> 3.4246575e-07 | V17: =S17*X$5 -> 2.0547945e-08 | W17: =T17*X$5 -> 3.2876712e-07 | X17: =U17*X$5 -> 4.109589e-08 | Y17: =S17*AA$5 -> 1.0273973e-08 | Z17: =T17*AA$5 -> 1.6438356e-07 | AA17: =U17*AA$5 -> 2.0547945e-08 | AB17: =S17*AD$5 -> 3.4246575e-08 | AC17: =T17*AD$5 -> 5.4794521e-07 | AD17: =U17*AD$5 -> 6.8493151e-08 | AF17: =(0.5/24)*(1/365)*($AK$4/$AK$5) -> 5.7077626e-05 | AG17: Assumed 1 repair/year, taking 1 day, lasting 30 min/day | AH17: =(3/24)*(1/365)*($AK$4/$AK$5) -> 0.00034246575 | AI17: Assumed 1 repair/year, taking 1 day, lasting 3 hr/day | AJ17: =(1/24)*(1/365)*($AK$4/$AK$5) -> 0.00011415525 | AK17: Assumed 1 repair/year, taking 1 day, lasting 1 hr/day | AL17: =H17*AF17 -> 1.7123288e-07 | AM17: =I17*AH17 -> 2.739726e-06 | AN17: =J17*AJ17 -> 3.4246575e-07 | AO17: =$AQ$4/AL17 -> 151840 | AP17: =$AQ$4/AM17 -> 9490 | AQ17: =$AQ$4/AN17 -> 75920 | AR17: 592176 | AS17: 37011 | AT17: 296088 | AU17: 394784 | AV17: 24674 | AW17: 197392 | AX17: 151840 | AY17: 9490 | AZ17: 75920
C18: Indoor, removal of floor tile/mastic | D18: 2604770 | E18: 2000 | F18: PCM | G18: Medium | H18: ='ABS conc calculations'!K19 -> 0.005 | I18: ='ABS conc calculations'!L19 -> 0.01 | J18: ='ABS conc calculations'!M19 -> 0.005 | K18: Area data | M18: ='User Exposure'!L18 -> 0.00456621 | N18: ='User Exposure'!M18 -> Assumed 1 removal job in lifetime taking 5 days lasting 8 hrs/day | O18: ='User Exposure'!N18 -> 0.02739726 | P18: ='User Exposure'!O18 -> Assumed 3 removal jobs in lifetime taking 10 days lasting 8 hrs/day | Q18: ='User Exposure'!P18 -> 0.0091324201 | R18: ='User Exposure'!Q18 -> Assumed 1 removal job in lifetime taking 10 days lasting 8 hrs/day | S18: =H18*M18 -> 2.283105e-05 | T18: =I18*O18 -> 0.0002739726 | U18: =J18*Q18 -> 4.56621e-05 | V18: =S18*X$5 -> 2.739726e-06 | W18: =T18*X$5 -> 3.2876712e-05 | X18: =U18*X$5 -> 5.4794521e-06 | Y18: =S18*AA$5 -> 1.369863e-06 | Z18: =T18*AA$5 -> 1.6438356e-05 | AA18: =U18*AA$5 -> 2.739726e-06 | AB18: =S18*AD$5 -> 4.56621e-06 | AC18: =T18*AD$5 -> 5.4794521e-05 | AD18: =U18*AD$5 -> 9.1324201e-06 | AF18: =(8/24)*(5/(365))*($AK$4/$AK$5) -> 0.00456621 | AG18: Assumed 1 removal job in lifetime taking 5 days lasting 8 hrs/day | AH18: =(8/24)*((3*10)/(365))*($AK$4/$AK$5) -> 0.02739726 | AI18: Assumed 3 removal jobs in lifetime taking 10 days lasting 8 hrs/day | AJ18: =(8/24)*(10/(365))*($AK$4/$AK$5) -> 0.0091324201 | AK18: Assumed 1 removal job in lifetime taking 10 days lasting 8 hrs/day | AL18: =H18*AF18 -> 2.283105e-05 | AM18: =I18*AH18 -> 0.0002739726 | AN18: =J18*AJ18 -> 4.56621e-05 | AO18: =$AQ$4/AL18 -> 1138.8 | AP18: =$AQ$4/AM18 -> 94.9 | AQ18: =$AQ$4/AN18 -> 569.4 | AR18: 4441.32 | AS18: 370.11 | AT18: 2220.66 | AU18: 2960.88 | AV18: 246.74 | AW18: 1480.44 | AX18: 1138.8 | AY18: 94.9 | AZ18: 569.4
C19: Indoor, removal of window caulking | D19: 2604770 | E19: 2000 | F19: PCM | G19: Medium | H19: ='ABS conc calculations'!K20 -> 0.005 | I19: ='ABS conc calculations'!L20 -> 0.01 | J19: ='ABS conc calculations'!M20 -> 0.005 | K19: Area data | M19: ='User Exposure'!L19 -> 0.00456621 | N19: ='User Exposure'!M19 -> Assumed 1 removal job in lifetime taking 5 days lasting 8 hrs/day | O19: ='User Exposure'!N19 -> 0.02739726 | P19: ='User Exposure'!O19 -> Assumed 3 removal jobs in lifetime taking 10 days lasting 8 hrs/day | Q19: ='User Exposure'!P19 -> 0.0091324201 | R19: ='User Exposure'!Q19 -> Assumed 1 removal job in lifetime taking 10 days lasting 8 hrs/day | S19: =H19*M19 -> 2.283105e-05 | T19: =I19*O19 -> 0.0002739726 | U19: =J19*Q19 -> 4.56621e-05 | V19: =S19*X$5 -> 2.739726e-06 | W19: =T19*X$5 -> 3.2876712e-05 | X19: =U19*X$5 -> 5.4794521e-06 | Y19: =S19*AA$5 -> 1.369863e-06 | Z19: =T19*AA$5 -> 1.6438356e-05 | AA19: =U19*AA$5 -> 2.739726e-06 | AB19: =S19*AD$5 -> 4.56621e-06 | AC19: =T19*AD$5 -> 5.4794521e-05 | AD19: =U19*AD$5 -> 9.1324201e-06 | AF19: =(8/24)*(5/(365))*($AK$4/$AK$5) -> 0.00456621 | AG19: Assumed 1 removal job in lifetime taking 5 days lasting 8 hrs/day | AH19: =(8/24)*((3*10)/(365))*($AK$4/$AK$5) -> 0.02739726 | AI19: Assumed 3 removal jobs in lifetime taking 10 days lasting 8 hrs/day | AJ19: =(8/24)*(10/(365))*($AK$4/$AK$5) -> 0.0091324201 | AK19: Assumed 1 removal job in lifetime taking 10 days lasting 8 hrs/day | AL19: =H19*AF19 -> 2.283105e-05 | AM19: =I19*AH19 -> 0.0002739726 | AN19: =J19*AJ19 -> 4.56621e-05 | AO19: =$AQ$4/AL19 -> 1138.8 | AP19: =$AQ$4/AM19 -> 94.9 | AQ19: =$AQ$4/AN19 -> 569.4 | AR19: 4441.32 | AS19: 370.11 | AT19: 2220.66 | AU19: 2960.88 | AV19: 246.74 | AW19: 1480.44 | AX19: 1138.8 | AY19: 94.9 | AZ19: 569.4
A20: Chemical Substances in Furnishing, Cleaning, Treatment Care Products | B20: Construction and building materials covering large surface areas, including fabrics, textiles, and apparel | C20: Use of mittens for glass manufacturing, (proxy for oven mittens and potholders) | D20: 3079914 | E20: 2005 | F20: HSE method MDHS 39/4 UK | G20: Medium | H20: ='ABS conc calculations'!K23 -> 0.02 | I20: ='ABS conc calculations'!L23 -> 0.0884 | J20: ='ABS conc calculations'!M23 -> 0.048580952 | K20: RF of 6 | M20: ='User Exposure'!L20 -> 0.00019148623 | N20: ='User Exposure'!M20 -> Assumed BBQ mittens used more than other hobbies. People grill on average 1 hr/day, 1 day per week (52 days per year), using an ACM mitt for 2 years over their lifetime | O20: ='User Exposure'!N20 -> 0.00095743114 | P20: ='User Exposure'!O20 -> Assumed BBQ mittens used more than other hobbies. People grill on average 1 hr/day, 1 day per week (52 days per year), using an ACM mitt for 10 years over their lifetime | Q20: ='User Exposure'!P20 -> 0.00047871557 | R20: ='User Exposure'!Q20 -> Assumed BBQ mittens used more than other hobbies. People grill on average 1 hr/day, 1 day per week (52 days per year), using an ACM mitt for 5 years over their lifetime | S20: =H20*M20 -> 3.8297246e-06 | T20: =I20*O20 -> 8.4636913e-05 | U20: =J20*Q20 -> 2.3256458e-05 | V20: =S20*X$5 -> 4.5956695e-07 | W20: =T20*X$5 -> 1.015643e-05 | X20: =U20*X$5 -> 2.790775e-06 | Y20: =S20*AA$5 -> 2.2978347e-07 | Z20: =T20*AA$5 -> 5.0782148e-06 | AA20: =U20*AA$5 -> 1.3953875e-06 | AB20: =S20*AD$5 -> 7.6594491e-07 | AC20: =T20*AD$5 -> 1.6927383e-05 | AD20: =U20*AD$5 -> 4.6512917e-06 | AF20: =(1/24)*(52/365)*(2/62)*($AK$4/$AK$5) -> 0.00019148623 | AG20: Assumed BBQ mittens used more than other hobbies. People grill on average 1 hr/day, 1 day per week (52 days per year), using an ACM mitt for 2 years over their lifetime | AH20: =(1/24)*(52/365)*(10/20)*($AK$4/$AK$5) -> 0.0029680365 | AI20: Assumed BBQ mittens used more than other hobbies. People grill on average 1 hr/day, 1 day per week (52 days per year), using an ACM mitt for 10 years over their lifetime | AJ20: =(1/24)*(52/365)*(5/20)*($AK$4/$AK$5) -> 0.0014840183 | AK20: Assumed BBQ mittens used more than other hobbies. People grill on average 1 hr/day, 1 day per week (52 days per year), using an ACM mitt for 5 years over their lifetime | AL20: =H20*AF20 -> 3.8297246e-06 | AM20: =I20*AH20 -> 0.00026237443 | AN20: =J20*AJ20 -> 7.2095021e-05 | AO20: =$AQ$4/AL20 -> 6789 | AP20: =$AQ$4/AM20 -> 99.095023 | AQ20: =$AQ$4/AN20 -> 360.63517 | AR20: 26477.1 | AS20: 386.47059 | AT20: 1406.4772 | AU20: 17651.4 | AV20: 257.64706 | AW20: 937.65144 | AX20: 6789 | AY20: 99.095023 | AZ20: 360.63517
A22: Updated equation to use:
A25: ELCR = Excess Lifetime Cancer Risk, the risk of developing cancer as a consequence of the site-related exposure
A26: EPC = Exposure Point Concentration, the concentration of asbestos fibers in air (f/cc) for the specific activity being assessed
A27: IUR LTL or Liftetime = Inhalation Unit Risk per (f/cc) Less than Lifetime or Lifetime
A28: TWF = Time Weighting Factor, this factor accounts for less-than-continous exposure during a one-year exposure
