Workbook

Sheet ReadMe
A1: PUBLIC RELEASE DRAFT - November 2024
A2: Consumer Exposure Assessment Workbook
A4: Methodology Approaches:
A5: For most products EPA evaluated 2 scenarios, one for maintenance/disturbance/repair and one for removal. EPA decided installation scenarios are not applicable as it is highly unlikely for a consumer to acquire new/unused ACM to install.
A6: Assumed that the TWFs (ET x EF) varied for the scenario (maintenance/disturbance/repair or removal), rather than the product. Thus used the same TWFs for all products. | AB6: I
A7: For removal, did not consider the concept of how often one might replace roofing, flooring, insulation, ceilings, etc because once the ACM is removed it would not be replaced with new ACM to remove again at a later time.
A9: ASB conc calculations tab:
A10: This tab is the primary source of all concentrations, which the user and bystander exposure tabs reference.
A12: User Exposure tab:
A13: Table contains DIY ABS concentrations, TWF values and assumptions, ELCR and MOE equations and calculations
A15: Bystander Exposure tab:
A16: Mimics the User tab
A17: Column K on whether the bystander concentrations are derived from paper-reported area data or from using a reduction factor from consumer task-based concentrations
A19: Reduction Factor tab:
A20: Added fields to note if area data was used and if so, what the calculated RF would be.
A22: Experimetal Study Data Tab:
A23: Data collected via EPA's systematic review process for experimental studies
... A37: Details, equations, and descriptions about inputs, and assumptions for each scenario are found in each tab per scenario

Sheet User Exposure
D1: * EPC values are pulled from the "ABS conc calculations" tab | K1: Excess Lifetime Cancer Risk Calculation and Assumptions | L1: * TWF values are based on assumptions as described in columns Y, AA, AB, where similar job types (e.g., "repair") were given consistent TWF. The assumptions take into account not only the frequency of a job type (e.g., "roof replacement") but also the number of times per lifetime that a given job will include asbestos materials (e.g., a roof may be replaced every 10 years, but only the first replacement job is likely to include legacy use asbestos; in contrast, repeat repair jobs are more likely to contain legacy asbestos each time). | U1: Used in RE, exposure starts at 16 and DIY projects can be done all throughout life (78 - 16), for a 62 year exposure duration window | X1: For comparison to lifetime and (16,62) risk estimates. This scenario represents populations that perform DIY projects similar to the duration of their occupational risk. Although realistic, this scenario does not include people that continue to perform DIY projects after they retire. | AA1: For reference and comparison. Not used in RE. Represents people perfoming DIY activities throughout their entire life. Not realistic because it considers lifestages that cannot perform DIY activities | AD1: Non-Cancer Chronic MOE Calculations and Assumptions | AE1: * TWF values are based on assumptions as described in columns Y, AA, AB, where similar job types (e.g., "repair") were given consistent TWF. The assumptions take into account not only the frequency of a job type (e.g., "roof replacement") but also the number of times per lifetime that a given job will include asbestos materials (e.g., a roof may be replaced every 10 years, but only the first replacement job is likely to include legacy use asbestos; in contrast, repeat repair jobs are more likely to contain legacy asbestos each time).
A2: COU | B2: Subcategory | C2: Product and Activity-Based Scenario | D2: Exposure Point Concentration (EPC) Data From Systematic Review | L2: Time Weighting Factor (Lifetime Cancer) | R2: Exposure Concentration (Lifetime Cancer) | U2: Excess Lifteme Cancer Risk (risks > 1x10-6 are red and < 1x10-6 are green) | X2: Excess Lifteme Cancer Risk (risks > 1x10-6 are red and < 1x10-6 are green) | AA2: Excess Lifteme Cancer Risk (risks > 1x10-6 are red and < 1x10-6 are green) | AE2: Time Weighting Factor (Non-Cancer Chronic) | AK2: Exposure Concentration (Non-Cancer Chronic) | AN2: Non-Cancer Chronic MOE Benchmark = 300, Risk < 300 are red
U4: IUR LTL= | W4: 0.09 | X4: IUR LTL= | Z4: 0.08 | AA4: IUR lifetime= | AC4: 0.2 | AE4: Chronic Exposure Duration, yr (ED) = | AJ4: 62 | AN4: POD (f/cc)= | AP4: 0.026
U5: 16,62 | X5: 16,40 | AA5: 0,78 | AE5: Averaging Time, yr (AT) = | AJ5: 78 | AN5: Chronic Exposure Duration (yr) = Chronic Averaging Time (yr) = | AP5: 62 (ED) 78 (AT)
D6: Source | E6: Year | F6: Method | G6: Rating | H6: Low End (f/cc) | I6: High End (f/cc) | J6: Center Tendency (f/cc) | L6: Low End | M6: Low End TWF Comment | N6: High End | O6: High End TWF Comment | P6: Central Tendency | Q6: Central Tendency TWF comment | R6: Low End (f/cc) | S6: High End (f/cc) | T6: Central Tendency (f/cc) | U6: Low End | V6: High End | W6: Central Tendency | X6: Low End | Y6: High End | Z6: Central Tendency | AA6: Low End | AB6: High End | AC6: Central Tendency | AE6: Low End | AF6: Low End TWF Comment | AG6: High End | AH6: High End TWF Comment | AI6: Central Tendency | AJ6: Central Tendency TWF comment | AK6: Low End (f/cc) | AL6: High End (f/cc) | AM6: Central Tendency (f/cc) | AN6: Low End | AO6: High End | AP6: Central Tendency
A7: Chemical Substances in Construction, Paint, Electrical, and Metal Products | B7: Construction and building materials covering large surface areas: paper articles; metal articles; stone, plaster, cement, glass and ceramic articles | C7: Outdoor, disturbance/repair (sanding or scraping) of roofing materials | D7: 3531219 | E7: 2005 | F7: PCME (PCM and TEM) | G7: High | H7: ='ABS conc calculations'!H6 -> 0.00444 | I7: ='ABS conc calculations'!I6 -> 0.00971 | J7: ='ABS conc calculations'!J6 -> 0.00694 | L7: =(0.5/24)*(1/365) -> 5.7077626e-05 | M7: Assumed 1 repair/year, taking 1 day, lasting 30 min/day | N7: =(3/24)*(1/365) -> 0.00034246575 | O7: Assumed 1 repair/year, taking 1 day, lasting 3 hr/day | P7: =(1/24)*(1/365) -> 0.00011415525 | Q7: Assumed 1 repair/year, taking 1 day, lasting 1 hr/day | R7: =H7*L7 -> 2.5342466e-07 | S7: =I7*N7 -> 3.3253425e-06 | T7: =J7*P7 -> 7.9223744e-07 | U7: =R7*W$4 -> 2.2808219e-08 | V7: =S7*W$4 -> 2.9928082e-07 | W7: =T7*W$4 -> 7.130137e-08 | X7: =R7*Z$4 -> 2.0273973e-08 | Y7: =S7*Z$4 -> 2.660274e-07 | Z7: =T7*Z$4 -> 6.3378995e-08 | AA7: =R7*AC$4 -> 5.0684932e-08 | AB7: =S7*AC$4 -> 6.6506849e-07 | AC7: =T7*AC$4 -> 1.5844749e-07 | AE7: =(0.5/24)*(1/365)*($AJ$4/$AJ$5) -> 4.5369395e-05 | AF7: Assumed 1 repair/year, taking 1 day, lasting 30 min/day | AG7: =(3/24)*(1/365)*($AJ$4/$AJ$5) -> 0.00027221637 | AH7: Assumed 1 repair/year, taking 1 day, lasting 3 hr/day | AI7: =(1/24)*(1/365)*($AJ$4/$AJ$5) -> 9.0738789e-05 | AJ7: Assumed 1 repair/year, taking 1 day, lasting 1 hr/day | AK7: =H7*AE7 -> 2.0144011e-07 | AL7: =I7*AG7 -> 2.6432209e-06 | AM7: =J7*AI7 -> 6.297272e-07 | AN7: =$AP$4/AK7 -> 129070.62 | AO7: =$AP$4/AL7 -> 9836.4838 | AP7: =$AP$4/AM7 -> 41287.72
C8: Outdoor, removal of roofing materials | D8: 2604770 | E8: 2000 | F8: PCM | G8: Medium | H8: ='ABS conc calculations'!H7 -> 0.005 | I8: ='ABS conc calculations'!I7 -> 0.01 | J8: ='ABS conc calculations'!J7 -> 0.005 | L8: =(8/24)*(5/(365)) -> 0.00456621 | M8: Assumed 1 removal job in lifetime taking 5 days lasting 8 hrs/day | N8: =(8/24)*((3*10)/(365)) -> 0.02739726 | O8: Assumed 3 removal jobs in lifetime taking 10 days lasting 8 hrs/day | P8: =(8/24)*(10/(365)) -> 0.0091324201 | Q8: Assumed 1 removal job in lifetime taking 10 days lasting 8 hrs/day | R8: =H8*L8 -> 2.283105e-05 | S8: =I8*N8 -> 0.0002739726 | T8: =J8*P8 -> 4.56621e-05 | U8: =R8*W$4 -> 2.0547945e-06 | V8: =S8*W$4 -> 2.4657534e-05 | W8: =T8*W$4 -> 4.109589e-06 | X8: =R8*Z$4 -> 1.826484e-06 | Y8: =S8*Z$4 -> 2.1917808e-05 | Z8: =T8*Z$4 -> 3.652968e-06 | AA8: =R8*AC$4 -> 4.56621e-06 | AB8: =S8*AC$4 -> 5.4794521e-05 | AC8: =T8*AC$4 -> 9.1324201e-06 | AE8: =(8/24)*(5/(365))*($AJ$4/$AJ$5) -> 0.0036295516 | AF8: Assumed 1 removal job in lifetime taking 5 days lasting 8 hrs/day | AG8: =(8/24)*((3*10)/(365))*($AJ$4/$AJ$5) -> 0.021777309 | AH8: Assumed 3 removal jobs in lifetime taking 10 days lasting 8 hrs/day | AI8: =(8/24)*(10/(365))*($AJ$4/$AJ$5) -> 0.0072591031 | AJ8: Assumed 1 removal job in lifetime taking 10 days lasting 8 hrs/day | AK8: =H8*AE8 -> 1.8147758e-05 | AL8: =I8*AG8 -> 0.00021777309 | AM8: =J8*AI8 -> 3.6295516e-05 | AN8: =$AP$4/AK8 -> 1432.6839 | AO8: =$AP$4/AL8 -> 119.39032 | AP8: =$AP$4/AM8 -> 716.34194
C9: Indoor, removal of plaster | D9: 2604770 | E9: 2000 | F9: PCM | G9: Medium | H9: ='ABS conc calculations'!H8 -> 0.01 | I9: ='ABS conc calculations'!I8 -> 0.05 | J9: ='ABS conc calculations'!J8 -> 0.02 | L9: =(8/24)*(5/(365)) -> 0.00456621 | M9: Assumed 1 removal job in lifetime taking 5 days lasting 8 hrs/day | N9: =(8/24)*((3*10)/(365)) -> 0.02739726 | O9: Assumed 3 removal jobs in lifetime taking 10 days lasting 8 hrs/day | P9: =(8/24)*(10/(365)) -> 0.0091324201 | Q9: Assumed 1 removal job in lifetime taking 10 days lasting 8 hrs/day | R9: =H9*L9 -> 4.56621e-05 | S9: =I9*N9 -> 0.001369863 | T9: =J9*P9 -> 0.0001826484 | U9: =R9*W$4 -> 4.109589e-06 | V9: =S9*W$4 -> 0.00012328767 | W9: =T9*W$4 -> 1.6438356e-05 | X9: =R9*Z$4 -> 3.652968e-06 | Y9: =S9*Z$4 -> 0.00010958904 | Z9: =T9*Z$4 -> 1.4611872e-05 | AA9: =R9*AC$4 -> 9.1324201e-06 | AB9: =S9*AC$4 -> 0.0002739726 | AC9: =T9*AC$4 -> 3.652968e-05 | AE9: =(8/24)*(5/(365))*($AJ$4/$AJ$5) -> 0.0036295516 | AF9: Assumed 1 removal job in lifetime taking 5 days lasting 8 hrs/day | AG9: =(8/24)*((3*10)/(365))*($AJ$4/$AJ$5) -> 0.021777309 | AH9: Assumed 3 removal jobs in lifetime taking 10 days lasting 8 hrs/day | AI9: =(8/24)*(10/(365))*($AJ$4/$AJ$5) -> 0.0072591031 | AJ9: Assumed 1 removal job in lifetime taking 10 days lasting 8 hrs/day | AK9: =H9*AE9 -> 3.6295516e-05 | AL9: =I9*AG9 -> 0.0010888655 | AM9: =J9*AI9 -> 0.00014518206 | AN9: =$AP$4/AK9 -> 716.34194 | AO9: =$AP$4/AL9 -> 23.878065 | AP9: =$AP$4/AM9 -> 179.08548
C10: Indoor, disturbance (sliding) of ceiling tiles | D10: 3520468 | E10: 2016 | F10: PCME (PCM and TEM) | G10: Medium | H10: ='ABS conc calculations'!H9 -> 0.0225 | I10: ='ABS conc calculations'!I9 -> 0.045 | J10: ='ABS conc calculations'!J9 -> 0.0225 | L10: =(0.5/24)*(1/365) -> 5.7077626e-05 | M10: Assumed 1 repair/year, taking 1 day, lasting 30 min/day | N10: =(3/24)*(1/365) -> 0.00034246575 | O10: Assumed 1 repair/year, taking 1 day, lasting 3 hr/day | P10: =(1/24)*(1/365) -> 0.00011415525 | Q10: Assumed 1 repair/year, taking 1 day, lasting 1 hr/day | R10: =H10*L10 -> 1.2842466e-06 | S10: =I10*N10 -> 1.5410959e-05 | T10: =J10*P10 -> 2.5684932e-06 | U10: =R10*W$4 -> 1.1558219e-07 | V10: =S10*W$4 -> 1.3869863e-06 | W10: =T10*W$4 -> 2.3116438e-07 | X10: =R10*Z$4 -> 1.0273973e-07 | Y10: =S10*Z$4 -> 1.2328767e-06 | Z10: =T10*Z$4 -> 2.0547945e-07 | AA10: =R10*AC$4 -> 2.5684932e-07 | AB10: =S10*AC$4 -> 3.0821918e-06 | AC10: =T10*AC$4 -> 5.1369863e-07 | AE10: =(0.5/24)*(1/365)*($AJ$4/$AJ$5) -> 4.5369395e-05 | AF10: Assumed 1 repair/year, taking 1 day, lasting 30 min/day | AG10: =(3/24)*(1/365)*($AJ$4/$AJ$5) -> 0.00027221637 | AH10: Assumed 1 repair/year, taking 1 day, lasting 3 hr/day | AI10: =(1/24)*(1/365)*($AJ$4/$AJ$5) -> 9.0738789e-05 | AJ10: Assumed 1 repair/year, taking 1 day, lasting 1 hr/day | AK10: =H10*AE10 -> 1.0208114e-06 | AL10: =I10*AG10 -> 1.2249737e-05 | AM10: =J10*AI10 -> 2.0416228e-06 | AN10: =$AP$4/AK10 -> 25469.935 | AO10: =$AP$4/AL10 -> 2122.4946 | AP10: =$AP$4/AM10 -> 12734.968
C11: Indoor, removal of ceiling tiles | D11: 28699 | E11: 1991 | F11: PCM and TEM | G11: Medium | H11: ='ABS conc calculations'!H10 -> 0.005 | I11: ='ABS conc calculations'!I10 -> 0.019 | J11: ='ABS conc calculations'!J10 -> 0.009 | L11: =(8/24)*(5/(365)) -> 0.00456621 | M11: Assumed 1 removal job in lifetime taking 5 days lasting 8 hrs/day | N11: =(8/24)*((3*10)/(365)) -> 0.02739726 | O11: Assumed 3 removal jobs in lifetime taking 10 days lasting 8 hrs/day | P11: =(8/24)*(10/(365)) -> 0.0091324201 | Q11: Assumed 1 removal job in lifetime taking 10 days lasting 8 hrs/day | R11: =H11*L11 -> 2.283105e-05 | S11: =I11*N11 -> 0.00052054795 | T11: =J11*P11 -> 8.2191781e-05 | U11: =R11*W$4 -> 2.0547945e-06 | V11: =S11*W$4 -> 4.6849315e-05 | W11: =T11*W$4 -> 7.3972603e-06 | X11: =R11*Z$4 -> 1.826484e-06 | Y11: =S11*Z$4 -> 4.1643836e-05 | Z11: =T11*Z$4 -> 6.5753425e-06 | AA11: =R11*AC$4 -> 4.56621e-06 | AB11: =S11*AC$4 -> 0.00010410959 | AC11: =T11*AC$4 -> 1.6438356e-05 | AE11: =(8/24)*(5/(365))*($AJ$4/$AJ$5) -> 0.0036295516 | AF11: Assumed 1 removal job in lifetime taking 5 days lasting 8 hrs/day | AG11: =(8/24)*((3*10)/(365))*($AJ$4/$AJ$5) -> 0.021777309 | AH11: Assumed 3 removal jobs in lifetime taking 10 days lasting 8 hrs/day | AI11: =(8/24)*(10/(365))*($AJ$4/$AJ$5) -> 0.0072591031 | AJ11: Assumed 1 removal job in lifetime taking 10 days lasting 8 hrs/day | AK11: =H11*AE11 -> 1.8147758e-05 | AL11: =I11*AG11 -> 0.00041376888 | AM11: =J11*AI11 -> 6.5331928e-05 | AN11: =$AP$4/AK11 -> 1432.6839 | AO11: =$AP$4/AL11 -> 62.837012 | AP11: =$AP$4/AM11 -> 397.96774
C12: Indoor, maintenance (chemical stripping, polishing or buffing) of vinyl floor tiles | D12: 3582228 | E12: 1990 | F12: PCM and SEM | G12: Medium | H12: ='ABS conc calculations'!H11 -> NA | I12: ='ABS conc calculations'!I11 -> NA | J12: ='ABS conc calculations'!J11 -> NA | L12: =(0.5/24)*(1/365) -> 5.7077626e-05 | M12: Assumed 1 repair/year, taking 1 day, lasting 30 min/day | N12: =(3/24)*(1/365) -> 0.00034246575 | O12: Assumed 1 repair/year, taking 1 day, lasting 3 hr/day | P12: =(1/24)*(1/365) -> 0.00011415525 | Q12: Assumed 1 repair/year, taking 1 day, lasting 1 hr/day | R12: Below LOD | S12: Below LOD | T12: Below LOD | U12: Below LOD | V12: Below LOD | W12: Below LOD | X12: Below LOD | Y12: Below LOD | Z12: Below LOD | AA12: Below LOD | AB12: Below LOD | AC12: Below LOD | AE12: =(0.5/24)*(1/365)*($AJ$4/$AJ$5) -> 4.5369395e-05 | AF12: Assumed 1 repair/year, taking 1 day, lasting 30 min/day | AG12: =(3/24)*(1/365)*($AJ$4/$AJ$5) -> 0.00027221637 | AH12: Assumed 1 repair/year, taking 1 day, lasting 3 hr/day | AI12: =(1/24)*(1/365)*($AJ$4/$AJ$5) -> 9.0738789e-05 | AJ12: Assumed 1 repair/year, taking 1 day, lasting 1 hr/day | AK12: Below LOD | AL12: Below LOD | AM12: Below LOD | AN12: Below LOD | AO12: Below LOD | AP12: Below LOD
C13: Indoor, removal of vinyl floor tiles | D13: 3582228 | E13: 1990 | F13: PCM and SEM | G13: Medium | H13: ='ABS conc calculations'!H12 -> 0.0056 | I13: ='ABS conc calculations'!I12 -> 0.0056 | J13: ='ABS conc calculations'!J12 -> 0.0056 | L13: =(8/24)*(5/(365)) -> 0.00456621 | M13: Assumed 1 removal job in lifetime taking 5 days lasting 8 hrs/day | N13: =(8/24)*((3*10)/(365)) -> 0.02739726 | O13: Assumed 3 removal jobs in lifetime taking 10 days lasting 8 hrs/day | P13: =(8/24)*(10/(365)) -> 0.0091324201 | Q13: Assumed 1 removal job in lifetime taking 10 days lasting 8 hrs/day | R13: =H13*L13 -> 2.5570776e-05 | S13: =I13*N13 -> 0.00015342466 | T13: =J13*P13 -> 5.1141553e-05 | U13: =R13*W$4 -> 2.3013699e-06 | V13: =S13*W$4 -> 1.3808219e-05 | W13: =T13*W$4 -> 4.6027397e-06 | X13: =R13*Z$4 -> 2.0456621e-06 | Y13: =S13*Z$4 -> 1.2273973e-05 | Z13: =T13*Z$4 -> 4.0913242e-06 | AA13: =R13*AC$4 -> 5.1141553e-06 | AB13: =S13*AC$4 -> 3.0684932e-05 | AC13: =T13*AC$4 -> 1.0228311e-05 | AE13: =(8/24)*(5/(365))*($AJ$4/$AJ$5) -> 0.0036295516 | AF13: Assumed 1 removal job in lifetime taking 5 days lasting 8 hrs/day | AG13: =(8/24)*((3*10)/(365))*($AJ$4/$AJ$5) -> 0.021777309 | AH13: Assumed 3 removal jobs in lifetime taking 10 days lasting 8 hrs/day | AI13: =(8/24)*(10/(365))*($AJ$4/$AJ$5) -> 0.0072591031 | AJ13: Assumed 1 removal job in lifetime taking 10 days lasting 8 hrs/day | AK13: =H13*AE13 -> 2.0325489e-05 | AL13: =I13*AG13 -> 0.00012195293 | AM13: =J13*AI13 -> 4.0650978e-05 | AN13: =$AP$4/AK13 -> 1279.182 | AO13: =$AP$4/AL13 -> 213.197 | AP13: =$AP$4/AM13 -> 639.59101
C14: Indoor, disturbance/repair (cutting) of attic insulation. | D14: 758916 | E14: 2010 | F14: PCME (PCM and TEM) | G14: Medium | H14: ='ABS conc calculations'!H13 -> 1.16 | I14: ='ABS conc calculations'!I13 -> 1.16 | J14: ='ABS conc calculations'!J13 -> 1.16 | L14: =(0.5/24)*(1/365) -> 5.7077626e-05 | M14: Assumed 1 repair/year, taking 1 day, lasting 30 min/day | N14: =(3/24)*(1/365) -> 0.00034246575 | O14: Assumed 1 repair/year, taking 1 day, lasting 3 hr/day | P14: =(1/24)*(1/365) -> 0.00011415525 | Q14: Assumed 1 repair/year, taking 1 day, lasting 1 hr/day | R14: =H14*L14 -> 6.6210046e-05 | S14: =I14*N14 -> 0.00039726027 | T14: =J14*P14 -> 0.00013242009 | U14: =R14*W$4 -> 5.9589041e-06 | V14: =S14*W$4 -> 3.5753425e-05 | W14: =T14*W$4 -> 1.1917808e-05 | X14: =R14*Z$4 -> 5.2968037e-06 | Y14: =S14*Z$4 -> 3.1780822e-05 | Z14: =T14*Z$4 -> 1.0593607e-05 | AA14: =R14*AC$4 -> 1.3242009e-05 | AB14: =S14*AC$4 -> 7.9452055e-05 | AC14: =T14*AC$4 -> 2.6484018e-05 | AE14: =(0.5/24)*(1/365)*($AJ$4/$AJ$5) -> 4.5369395e-05 | AF14: Assumed 1 repair/year, taking 1 day, lasting 30 min/day | AG14: =(3/24)*(1/365)*($AJ$4/$AJ$5) -> 0.00027221637 | AH14: Assumed 1 repair/year, taking 1 day, lasting 3 hr/day | AI14: =(1/24)*(1/365)*($AJ$4/$AJ$5) -> 9.0738789e-05 | AJ14: Assumed 1 repair/year, taking 1 day, lasting 1 hr/day | AK14: =H14*AE14 -> 5.2628498e-05 | AL14: =I14*AG14 -> 0.00031577099 | AM14: =J14*AI14 -> 0.000105257 | AN14: =$AP$4/AK14 -> 494.02892 | AO14: =$AP$4/AL14 -> 82.338154 | AP14: =$AP$4/AM14 -> 247.01446
C15: Indoor, moving and removal (with vacuum) of attic insulation | D15: 758916 | E15: 2010 | F15: PCME (PCM and TEM) | G15: Medium | H15: ='ABS conc calculations'!H14 -> 0.97 | I15: ='ABS conc calculations'!I14 -> 9.27 | J15: ='ABS conc calculations'!J14 -> 5.12 | L15: =(8/24)*(5/(365)) -> 0.00456621 | M15: Assumed 1 removal job in lifetime taking 5 days lasting 8 hrs/day | N15: =(8/24)*((3*10)/(365)) -> 0.02739726 | O15: Assumed 3 removal jobs in lifetime taking 10 days lasting 8 hrs/day | P15: =(8/24)*(10/(365)) -> 0.0091324201 | Q15: Assumed 1 removal job in lifetime taking 10 days lasting 8 hrs/day | R15: =H15*L15 -> 0.0044292237 | S15: =I15*N15 -> 0.2539726 | T15: =J15*P15 -> 0.046757991 | U15: =R15*W$4 -> 0.00039863014 | V15: =S15*W$4 -> 0.022857534 | W15: =T15*W$4 -> 0.0042082192 | X15: =R15*Z$4 -> 0.0003543379 | Y15: =S15*Z$4 -> 0.020317808 | Z15: =T15*Z$4 -> 0.0037406393 | AA15: =R15*AC$4 -> 0.00088584475 | AB15: =S15*AC$4 -> 0.050794521 | AC15: =T15*AC$4 -> 0.0093515982 | AE15: =(8/24)*(5/(365))*($AJ$4/$AJ$5) -> 0.0036295516 | AF15: Assumed 1 removal job in lifetime taking 5 days lasting 8 hrs/day | AG15: =(8/24)*((3*10)/(365))*($AJ$4/$AJ$5) -> 0.021777309 | AH15: Assumed 3 removal jobs in lifetime taking 10 days lasting 8 hrs/day | AI15: =(8/24)*(10/(365))*($AJ$4/$AJ$5) -> 0.0072591031 | AJ15: Assumed 1 removal job in lifetime taking 10 days lasting 8 hrs/day | AK15: =H15*AE15 -> 0.003520665 | AL15: =I15*AG15 -> 0.20187566 | AM15: =J15*AI15 -> 0.037166608 | AN15: =$AP$4/AK15 -> 7.3849684 | AO15: =$AP$4/AL15 -> 0.12879215 | AP15: =$AP$4/AM15 -> 0.69955267
B16: Fillers and putties | C16: Indoor, disturbance (pole or hand sanding and cleaning) of spackle | D16: 3615573 | E16: 1979 | F16: PCM | G16: Medium | H16: ='ABS conc calculations'!H17 -> 1.25 | I16: ='ABS conc calculations'!I17 -> 25.866667 | J16: ='ABS conc calculations'!J17 -> 13.9 | L16: =(0.5/24)*(1/365) -> 5.7077626e-05 | M16: Assumed 1 repair/year, taking 1 day, lasting 30 min/day | N16: =(3/24)*(1/365) -> 0.00034246575 | O16: Assumed 1 repair/year, taking 1 day, lasting 3 hr/day | P16: =(1/24)*(1/365) -> 0.00011415525 | Q16: Assumed 1 repair/year, taking 1 day, lasting 1 hr/day | R16: =H16*L16 -> 7.1347032e-05 | S16: =I16*N16 -> 0.0088584475 | T16: =J16*P16 -> 0.001586758 | U16: =R16*W$4 -> 6.4212329e-06 | V16: =S16*W$4 -> 0.00079726027 | W16: =T16*W$4 -> 0.00014280822 | X16: =R16*Z$4 -> 5.7077626e-06 | Y16: =S16*Z$4 -> 0.0007086758 | Z16: =T16*Z$4 -> 0.00012694064 | AA16: =R16*AC$4 -> 1.4269406e-05 | AB16: =S16*AC$4 -> 0.0017716895 | AC16: =T16*AC$4 -> 0.0003173516 | AE16: =(0.5/24)*(1/365)*(62/78) -> 4.5369395e-05 | AF16: Assumed 1 repair/year, taking 1 day, lasting 30 min/day | AG16: =(3/24)*(1/365)*($AJ$4/$AJ$5) -> 0.00027221637 | AH16: Assumed 1 repair/year, taking 1 day, lasting 3 hr/day | AI16: =(1/24)*(1/365)*($AJ$4/$AJ$5) -> 9.0738789e-05 | AJ16: Assumed 1 repair/year, taking 1 day, lasting 1 hr/day | AK16: =H16*AE16 -> 5.6711743e-05 | AL16: =I16*AG16 -> 0.0070413301 | AM16: =J16*AI16 -> 0.0012612692 | AN16: =$AP$4/AK16 -> 458.45884 | AO16: =$AP$4/AL16 -> 3.6924842 | AP16: =$AP$4/AM16 -> 20.614156
C17: Indoor, disturbance (sanding and cleaning) of coatings, mastics and adhesives | D17: 3531298 | E17: 2004 | F17: PCME | G17: Medium | H17: ='ABS conc calculations'!H18 -> 0.023 | I17: ='ABS conc calculations'!I18 -> 0.04 | J17: ='ABS conc calculations'!J18 -> 0.023 | L17: =(0.5/24)*(1/365) -> 5.7077626e-05 | M17: Assumed 1 repair/year, taking 1 day, lasting 30 min/day | N17: =(3/24)*(1/365) -> 0.00034246575 | O17: Assumed 1 repair/year, taking 1 day, lasting 3 hr/day | P17: =(1/24)*(1/365) -> 0.00011415525 | Q17: Assumed 1 repair/year, taking 1 day, lasting 1 hr/day | R17: =H17*L17 -> 1.3127854e-06 | S17: =I17*N17 -> 1.369863e-05 | T17: =J17*P17 -> 2.6255708e-06 | U17: =R17*W$4 -> 1.1815068e-07 | V17: =S17*W$4 -> 1.2328767e-06 | W17: =T17*W$4 -> 2.3630137e-07 | X17: =R17*Z$4 -> 1.0502283e-07 | Y17: =S17*Z$4 -> 1.0958904e-06 | Z17: =T17*Z$4 -> 2.1004566e-07 | AA17: =R17*AC$4 -> 2.6255708e-07 | AB17: =S17*AC$4 -> 2.739726e-06 | AC17: =T17*AC$4 -> 5.2511416e-07 | AE17: =(0.5/24)*(1/365)*($AJ$4/$AJ$5) -> 4.5369395e-05 | AF17: Assumed 1 repair/year, taking 1 day, lasting 30 min/day | AG17: =(3/24)*(1/365)*($AJ$4/$AJ$5) -> 0.00027221637 | AH17: Assumed 1 repair/year, taking 1 day, lasting 3 hr/day | AI17: =(1/24)*(1/365)*($AJ$4/$AJ$5) -> 9.0738789e-05 | AJ17: Assumed 1 repair/year, taking 1 day, lasting 1 hr/day | AK17: =H17*AE17 -> 1.0434961e-06 | AL17: =I17*AG17 -> 1.0888655e-05 | AM17: =J17*AI17 -> 2.0869922e-06 | AN17: =$AP$4/AK17 -> 24916.241 | AO17: =$AP$4/AL17 -> 2387.8065 | AP17: =$AP$4/AM17 -> 12458.121
C18: Indoor, removal of floor tile/mastic | D18: 2604770 | E18: 2000 | F18: PCM | G18: Medium | H18: ='ABS conc calculations'!H19 -> 0.005 | I18: ='ABS conc calculations'!I19 -> 0.01 | J18: ='ABS conc calculations'!J19 -> 0.005 | L18: =(8/24)*(5/(365)) -> 0.00456621 | M18: Assumed 1 removal job in lifetime taking 5 days lasting 8 hrs/day | N18: =(8/24)*((3*10)/(365)) -> 0.02739726 | O18: Assumed 3 removal jobs in lifetime taking 10 days lasting 8 hrs/day | P18: =(8/24)*(10/(365)) -> 0.0091324201 | Q18: Assumed 1 removal job in lifetime taking 10 days lasting 8 hrs/day | R18: =H18*L18 -> 2.283105e-05 | S18: =I18*N18 -> 0.0002739726 | T18: =J18*P18 -> 4.56621e-05 | U18: =R18*W$4 -> 2.0547945e-06 | V18: =S18*W$4 -> 2.4657534e-05 | W18: =T18*W$4 -> 4.109589e-06 | X18: =R18*Z$4 -> 1.826484e-06 | Y18: =S18*Z$4 -> 2.1917808e-05 | Z18: =T18*Z$4 -> 3.652968e-06 | AA18: =R18*AC$4 -> 4.56621e-06 | AB18: =S18*AC$4 -> 5.4794521e-05 | AC18: =T18*AC$4 -> 9.1324201e-06 | AE18: =(8/24)*(5/(365))*($AJ$4/$AJ$5) -> 0.0036295516 | AF18: Assumed 1 removal job in lifetime taking 5 days lasting 8 hrs/day | AG18: =(8/24)*((3*10)/(365))*($AJ$4/$AJ$5) -> 0.021777309 | AH18: Assumed 3 removal jobs in lifetime taking 10 days lasting 8 hrs/day | AI18: =(8/24)*(10/(365))*($AJ$4/$AJ$5) -> 0.0072591031 | AJ18: Assumed 1 removal job in lifetime taking 10 days lasting 8 hrs/day | AK18: =H18*AE18 -> 1.8147758e-05 | AL18: =I18*AG18 -> 0.00021777309 | AM18: =J18*AI18 -> 3.6295516e-05 | AN18: =$AP$4/AK18 -> 1432.6839 | AO18: =$AP$4/AL18 -> 119.39032 | AP18: =$AP$4/AM18 -> 716.34194
C19: Indoor, removal of window caulking | D19: 2604770 | E19: 2000 | F19: PCM | G19: Medium | H19: ='ABS conc calculations'!H20 -> 0.005 | I19: ='ABS conc calculations'!I20 -> 0.01 | J19: ='ABS conc calculations'!J20 -> 0.005 | L19: =(8/24)*(5/(365)) -> 0.00456621 | M19: Assumed 1 removal job in lifetime taking 5 days lasting 8 hrs/day | N19: =(8/24)*((3*10)/(365)) -> 0.02739726 | O19: Assumed 3 removal jobs in lifetime taking 10 days lasting 8 hrs/day | P19: =(8/24)*(10/(365)) -> 0.0091324201 | Q19: Assumed 1 removal job in lifetime taking 10 days lasting 8 hrs/day | R19: =H19*L19 -> 2.283105e-05 | S19: =I19*N19 -> 0.0002739726 | T19: =J19*P19 -> 4.56621e-05 | U19: =R19*W$4 -> 2.0547945e-06 | V19: =S19*W$4 -> 2.4657534e-05 | W19: =T19*W$4 -> 4.109589e-06 | X19: =R19*Z$4 -> 1.826484e-06 | Y19: =S19*Z$4 -> 2.1917808e-05 | Z19: =T19*Z$4 -> 3.652968e-06 | AA19: =R19*AC$4 -> 4.56621e-06 | AB19: =S19*AC$4 -> 5.4794521e-05 | AC19: =T19*AC$4 -> 9.1324201e-06 | AE19: =(8/24)*(5/(365))*($AJ$4/$AJ$5) -> 0.0036295516 | AF19: Assumed 1 removal job in lifetime taking 5 days lasting 8 hrs/day | AG19: =(8/24)*((3*10)/(365))*($AJ$4/$AJ$5) -> 0.021777309 | AH19: Assumed 3 removal jobs in lifetime taking 10 days lasting 8 hrs/day | AI19: =(8/24)*(10/(365))*($AJ$4/$AJ$5) -> 0.0072591031 | AJ19: Assumed 1 removal job in lifetime taking 10 days lasting 8 hrs/day | AK19: =H19*AE19 -> 1.8147758e-05 | AL19: =I19*AG19 -> 0.00021777309 | AM19: =J19*AI19 -> 3.6295516e-05 | AN19: =$AP$4/AK19 -> 1432.6839 | AO19: =$AP$4/AL19 -> 119.39032 | AP19: =$AP$4/AM19 -> 716.34194
A20: Chemical Substances in Furnishing, Cleaning, Treatment Care Products | B20: Construction and building materials covering large surface areas, including fabrics, textiles, and apparel | C20: Use of mittens for glass manufacturing, (proxy for oven mittens and potholders) | D20: 3079914 | E20: 2005 | F20: HSE method MDHS 39/4 UK | G20: Medium | H20: ='ABS conc calculations'!H23 -> 0.12 | I20: ='ABS conc calculations'!I23 -> 0.5304 | J20: ='ABS conc calculations'!J23 -> 0.29148571 | L20: =(1/24)*(52/365)*(2/62) -> 0.00019148623 | M20: Assumed BBQ mittens used more than other hobbies. People grill on average 1 hr/day, 1 day per week (52 days per year), using an ACM mitt for 2 years over their lifetime | N20: =(1/24)*(52/365)*(10/62) -> 0.00095743114 | O20: Assumed BBQ mittens used more than other hobbies. People grill on average 1 hr/day, 1 day per week (52 days per year), using an ACM mitt for 10 years over their lifetime | P20: =(1/24)*(52/365)*(5/62) -> 0.00047871557 | Q20: Assumed BBQ mittens used more than other hobbies. People grill on average 1 hr/day, 1 day per week (52 days per year), using an ACM mitt for 5 years over their lifetime | R20: =H20*L20 -> 2.2978347e-05 | S20: =I20*N20 -> 0.00050782148 | T20: =J20*P20 -> 0.00013953875 | U20: =R20*W$4 -> 2.0680513e-06 | V20: =S20*W$4 -> 4.5703933e-05 | W20: =T20*W$4 -> 1.2558487e-05 | X20: =R20*Z$4 -> 1.8382678e-06 | Y20: =S20*Z$4 -> 4.0625718e-05 | Z20: =T20*Z$4 -> 1.11631e-05 | AA20: =R20*AC$4 -> 4.5956695e-06 | AB20: =S20*AC$4 -> 0.0001015643 | AC20: =T20*AC$4 -> 2.790775e-05 | AE20: =(1/24)*(52/365)*(2/62)*($AJ$4/$AJ$5) -> 0.000152207 | AF20: Assumed BBQ mittens used more than other hobbies. People grill on average 1 hr/day, 1 day per week (52 days per year), using an ACM mitt for 2 years over their lifetime | AG20: =(1/24)*(52/365)*(10/62)*($AJ$4/$AJ$5) -> 0.00076103501 | AH20: Assumed BBQ mittens used more than other hobbies. People grill on average 1 hr/day, 1 day per week (52 days per year), using an ACM mitt for 10 years over their lifetime | AI20: =(1/24)*(52/365)*(5/62)*($AJ$4/$AJ$5) -> 0.0003805175 | AJ20: Assumed BBQ mittens used more than other hobbies. People grill on average 1 hr/day, 1 day per week (52 days per year), using an ACM mitt for 5 years over their lifetime | AK20: =H20*AE20 -> 1.826484e-05 | AL20: =I20*AG20 -> 0.00040365297 | AM20: =J20*AI20 -> 0.00011091542 | AN20: =$AP$4/AK20 -> 1423.5 | AO20: =$AP$4/AL20 -> 64.411765 | AP20: =$AP$4/AM20 -> 234.41286
R21: =MAX(R7:R20) -> 0.0044292237 | S21: =MAX(S7:S20) -> 0.2539726 | T21: =MAX(T7:T20) -> 0.046757991
A22: Updated equation to use: | R22: =MIN(R7:R20) -> 2.5342466e-07 | S22: =MIN(S7:S20) -> 3.3253425e-06 | T22: =MIN(T7:T20) -> 7.9223744e-07
A25: ELCR = Excess Lifetime Cancer Risk, the risk of developing cancer as a consequence of the site-related exposure
A26: EPC = Exposure Point Concentration, the concentration of asbestos fibers in air (f/cc) for the specific activity being assessed
A27: IUR LTL or Liftetime = Inhalation Unit Risk per (f/cc) Less than Lifetime or Lifetime
A28: TWF = Time Weighting Factor, this factor accounts for less-than-continous exposure during a one-year exposure
A33: Former Exposure Factors links and notes
A66: https://blog.nationwide.com/home/home-maintenance/when-to-replace-your-roof/
A117: https://madison.floorcoveringsinternational.com/articles/questions-to-ask-before-replacing-your-tile-floor/
A118: Ceramic Floor tile - 30 to 50 yrs
A119: https://vevano.com/blogs/flooring-resources/signs-to-replace-flooring
A120: Low quality tile 10 years, high quality tile 20 years
A164: https://jmroofsiding.com/blog/2018/01/24/often-need-replace-insulation-attic/
A165: https://www.atticsystems.com/about-attic-systems/news-and-events/39318-when-does-attic-insulation-need-to-be-replaced.html
A166: https://www.superiorattic.com/post/how-often-should-you-replace-your-attic-insulation

Sheet Bystander Exposure
D1: * EPC values are pulled from the "ABS conc calculations" tab | L1: Excess Lifetime Cancer Risk Calculation and Assumptions | M1: * TWF values are based on assumptions as described in columns Y, AA, AB, where similar job types (e.g., "repair") were given consistent TWF. The assumptions take into account not only the frequency of a job type (e.g., "roof replacement") but also the number of times per lifetime that a given job will include asbestos materials (e.g., a roof may be replaced every 10 years, but only the first replacement job is likely to include legacy use asbestos; in contrast, repeat repair jobs are more likely to contain legacy asbestos each time). | V1: Bystander is child living at residence until 20 years of age. Intermitent DIY activities occur in a 20 year window | Y1: Bystander is an adult living in the same house for 30 years, exposure starts at 20 years, intermitent DIY activities occur in a 30 year window | AB1: Used in RE. Exposure starts at birth all throughout life. Person living at a household in which DIY projects are done, not exclusive to the same residence. | AE1: Non-Cancer Chronic MOE Calculations and Assumptions | AF1: * TWF values are based on assumptions as described in columns Y, AA, AB, where similar job types (e.g., "repair") were given consistent TWF. The assumptions take into account not only the frequency of a job type (e.g., "roof replacement") but also the number of times per lifetime that a given job will include asbestos materials (e.g., a roof may be replaced every 10 years, but only the first replacement job is likely to include legacy use asbestos; in contrast, repeat repair jobs are more likely to contain legacy asbestos each time). | AR1: Static copy and paste not linked to any formulas. For RE Appendix and Risk Characterization. | AU1: Static copy and paste not linked to any formulas. For RE Appendix. | AX1: Static copy and paste not linked to any formulas. For RE Appendix.
A2: COU | B2: Subcategory | C2: Product and Activity-Based Scenario | D2: Exposure Point Concentration (EPC) Data From Systematic Review | M2: Time Weighting Factor (Lifetime Cancer) | S2: Exposure (Lifetime Cancer) | V2: Excess Lifteme Cancer Risk (risks > 1x10-6 are red and < 1x10-6 are green) | Y2: Excess Lifteme Cancer Risk (risks > 1x10-6 are red and < 1x10-6 are green) | AB2: Excess Lifteme Cancer Risk (risks > 1x10-6 are red and < 1x10-6 are green) | AF2: Time Weighting Factor (Non-Cancer Chronic) | AL2: Exposure (Non-Cancer Chronic) | AO2: Non-Cancer Chronic MOE Benchmark = 300, Risk < 300 are red | AR2: Non-Cancer Chronic MOE Benchmark = 300, Risk < 300 are red | AU2: Non-Cancer Chronic MOE Benchmark = 300, Risk < 300 are red | AX2: Non-Cancer Chronic MOE Benchmark = 300, Risk < 300 are red
V4: (0,20) | Y4: 20,30) | AB4: (0,78) | AF4: Chronic Exposure Duration, yr (ED) = | AK4: 78 | AO4: POD (f/cc)= | AQ4: 0.026 | AR4: POD (f/cc)= | AT4: 0.026 | AU4: POD (f/cc)= | AW4: 0.026 | AX4: POD (f/cc)= | AZ4: 0.026
V5: IUR = | X5: 0.12 | Y5: IUR = | AA5: 0.06 | AB5: IUR = | AD5: 0.2 | AF5: Averaging Time, yr (AT) = | AK5: 78 | AO5: Chronic Exposure Duration (yr) = Chronic Averaging Time (yr) = | AQ5: 78 (ED) 78 (AT) | AR5: Chronic Exposure Duration (yr) = Chronic Averaging Time (yr) = | AT5: 20 (ED) 78 (AT) | AU5: Chronic Exposure Duration (yr) = Chronic Averaging Time (yr) = | AW5: 30 (ED) 78 (AT) | AX5: Chronic Exposure Duration (yr) = Chronic Averaging Time (yr) = | AZ5: 78 (ED) 78 (AT)
D6: Source | E6: Year | F6: Method | G6: Rating | H6: Low End (f/cc) | I6: High End (f/cc) | J6: Center Tendency (f/cc) | K6: Concentration type | M6: Low End TWF | N6: Low End TWF Comment | O6: High End TWF | P6: High End TWF Comment | Q6: Central Tendency TWF | R6: Central Tendency TWF comment | S6: Low End (f/cc) | T6: High End (f/cc) | U6: Central Tendency (f/cc) | V6: Low End | W6: High End | X6: Central Tendency | Y6: Low End | Z6: High End | AA6: Central Tendency | AB6: Low End | AC6: High End | AD6: Central Tendency | AF6: Low End | AG6: Low End TWF Comment | AH6: High End | AI6: High End TWF Comment | AJ6: Central Tendency | AK6: Central Tendency TWF comment | AL6: Low End (f/cc) | AM6: High End (f/cc) | AN6: Central Tendency (f/cc) | AO6: Low End | AP6: High End | AQ6: Central Tendency | AR6: Low End | AS6: High End | AT6: Central Tendency | AU6: Low End | AV6: High End | AW6: Central Tendency | AX6: Low End | AY6: High End | AZ6: Central Tendency
A7: Chemical Substances in Construction, Paint, Electrical, and Metal Products | B7: Construction and building materials covering large surface areas | C7: Outdoor, disturbance/repair (sanding or scraping) of roofing materials | D7: 3531219 | E7: 2005 | F7: PCME | G7: High | H7: ='ABS conc calculations'!K6 -> 0.00074 | I7: ='ABS conc calculations'!L6 -> 0.0016183333 | J7: ='ABS conc calculations'!M6 -> 0.0011566667 | K7: RF of 6 | M7: ='User Exposure'!L7 -> 5.7077626e-05 | N7: ='User Exposure'!M7 -> Assumed 1 repair/year, taking 1 day, lasting 30 min/day | O7: ='User Exposure'!N7 -> 0.00034246575 | P7: ='User Exposure'!O7 -> Assumed 1 repair/year, taking 1 day, lasting 3 hr/day | Q7: ='User Exposure'!P7 -> 0.00011415525 | R7: ='User Exposure'!Q7 -> Assumed 1 repair/year, taking 1 day, lasting 1 hr/day | S7: =H7*M7 -> 4.2237443e-08 | T7: =I7*O7 -> 5.5422374e-07 | U7: =J7*Q7 -> 1.3203957e-07 | V7: =S7*X$5 -> 5.0684932e-09 | W7: =T7*X$5 -> 6.6506849e-08 | X7: =U7*X$5 -> 1.5844749e-08 | Y7: =S7*AA$5 -> 2.5342466e-09 | Z7: =T7*AA$5 -> 3.3253425e-08 | AA7: =U7*AA$5 -> 7.9223744e-09 | AB7: =S7*AD$5 -> 8.4474886e-09 | AC7: =T7*AD$5 -> 1.1084475e-07 | AD7: =U7*AD$5 -> 2.6407915e-08 | AF7: =(0.5/24)*(1/365)*($AK$4/$AK$5) -> 5.7077626e-05 | AG7: Assumed 1 repair/year, taking 1 day, lasting 30 min/day | AH7: =(3/24)*(1/365)*($AK$4/$AK$5) -> 0.00034246575 | AI7: Assumed 1 repair/year, taking 1 day, lasting 3 hr/day | AJ7: =(1/24)*(1/365)*($AK$4/$AK$5) -> 0.00011415525 | AK7: Assumed 1 repair/year, taking 1 day, lasting 1 hr/day | AL7: =H7*AF7 -> 4.2237443e-08 | AM7: =I7*AH7 -> 5.5422374e-07 | AN7: =J7*AJ7 -> 1.3203957e-07 | AO7: =$AQ$4/AL7 -> 615567.57 | AP7: =$AQ$4/AM7 -> 46912.461 | AQ7: =$AQ$4/AN7 -> 196910.66 | AR7: 2400713.5 | AS7: 182958.6 | AT7: 767951.59 | AU7: 1600475.7 | AV7: 121972.4 | AW7: 511967.72 | AX7: 615567.57 | AY7: 46912.461 | AZ7: 196910.66
C8: Outdoor, removal of roofing materials | D8: 2604770 | E8: 2000 | F8: PCM | G8: Medium | H8: ='ABS conc calculations'!K7 -> 0.005 | I8: ='ABS conc calculations'!L7 -> 0.01 | J8: ='ABS conc calculations'!M7 -> 0.005 | K8: Area data, ND scenario | M8: ='User Exposure'!L8 -> 0.00456621 | N8: ='User Exposure'!M8 -> Assumed 1 removal job in lifetime taking 5 days lasting 8 hrs/day | O8: ='User Exposure'!N8 -> 0.02739726 | P8: ='User Exposure'!O8 -> Assumed 3 removal jobs in lifetime taking 10 days lasting 8 hrs/day | Q8: ='User Exposure'!P8 -> 0.0091324201 | R8: ='User Exposure'!Q8 -> Assumed 1 removal job in lifetime taking 10 days lasting 8 hrs/day | S8: =H8*M8 -> 2.283105e-05 | T8: =I8*O8 -> 0.0002739726 | U8: =J8*Q8 -> 4.56621e-05 | V8: =S8*X$5 -> 2.739726e-06 | W8: =T8*X$5 -> 3.2876712e-05 | X8: =U8*X$5 -> 5.4794521e-06 | Y8: =S8*AA$5 -> 1.369863e-06 | Z8: =T8*AA$5 -> 1.6438356e-05 | AA8: =U8*AA$5 -> 2.739726e-06 | AB8: =S8*AD$5 -> 4.56621e-06 | AC8: =T8*AD$5 -> 5.4794521e-05 | AD8: =U8*AD$5 -> 9.1324201e-06 | AF8: =(8/24)*(5/(365))*($AK$4/$AK$5) -> 0.00456621 | AG8: Assumed 1 removal job in lifetime taking 5 days lasting 8 hrs/day | AH8: =(8/24)*((3*10)/(365))*($AK$4/$AK$5) -> 0.02739726 | AI8: Assumed 3 removal jobs in lifetime taking 10 days lasting 8 hrs/day | AJ8: =(8/24)*(10/(365))*($AK$4/$AK$5) -> 0.0091324201 | AK8: Assumed 1 removal job in lifetime taking 10 days lasting 8 hrs/day | AL8: =H8*AF8 -> 2.283105e-05 | AM8: =I8*AH8 -> 0.0002739726 | AN8: =J8*AJ8 -> 4.56621e-05 | AO8: =$AQ$4/AL8 -> 1138.8 | AP8: =$AQ$4/AM8 -> 94.9 | AQ8: =$AQ$4/AN8 -> 569.4 | AR8: 4441.32 | AS8: 370.11 | AT8: 2220.66 | AU8: 2960.88 | AV8: 246.74 | AW8: 1480.44 | AX8: 1138.8 | AY8: 94.9 | AZ8: 569.4
C9: Indoor, removal of plaster | D9: 2604770 | E9: 2000 | F9: PCM | G9: Medium | H9: ='ABS conc calculations'!K8 -> 0.005 | I9: ='ABS conc calculations'!L8 -> 0.01 | J9: ='ABS conc calculations'!M8 -> 0.005 | K9: Area data, ND scenario | M9: ='User Exposure'!L9 -> 0.00456621 | N9: ='User Exposure'!M9 -> Assumed 1 removal job in lifetime taking 5 days lasting 8 hrs/day | O9: ='User Exposure'!N9 -> 0.02739726 | P9: ='User Exposure'!O9 -> Assumed 3 removal jobs in lifetime taking 10 days lasting 8 hrs/day | Q9: ='User Exposure'!P9 -> 0.0091324201 | R9: ='User Exposure'!Q9 -> Assumed 1 removal job in lifetime taking 10 days lasting 8 hrs/day | S9: =H9*M9 -> 2.283105e-05 | T9: =I9*O9 -> 0.0002739726 | U9: =J9*Q9 -> 4.56621e-05 | V9: =S9*X$5 -> 2.739726e-06 | W9: =T9*X$5 -> 3.2876712e-05 | X9: =U9*X$5 -> 5.4794521e-06 | Y9: =S9*AA$5 -> 1.369863e-06 | Z9: =T9*AA$5 -> 1.6438356e-05 | AA9: =U9*AA$5 -> 2.739726e-06 | AB9: =S9*AD$5 -> 4.56621e-06 | AC9: =T9*AD$5 -> 5.4794521e-05 | AD9: =U9*AD$5 -> 9.1324201e-06 | AF9: =(8/24)*(5/(365))*($AK$4/$AK$5) -> 0.00456621 | AG9: Assumed 1 removal job in lifetime taking 5 days lasting 8 hrs/day | AH9: =(8/24)*((3*10)/(365))*($AK$4/$AK$5) -> 0.02739726 | AI9: Assumed 3 removal jobs in lifetime taking 10 days lasting 8 hrs/day | AJ9: =(8/24)*(10/(365))*($AK$4/$AK$5) -> 0.0091324201 | AK9: Assumed 1 removal job in lifetime taking 10 days lasting 8 hrs/day | AL9: =H9*AF9 -> 2.283105e-05 | AM9: =I9*AH9 -> 0.0002739726 | AN9: =J9*AJ9 -> 4.56621e-05 | AO9: =$AQ$4/AL9 -> 1138.8 | AP9: =$AQ$4/AM9 -> 94.9 | AQ9: =$AQ$4/AN9 -> 569.4 | AR9: 4441.32 | AS9: 370.11 | AT9: 2220.66 | AU9: 2960.88 | AV9: 246.74 | AW9: 1480.44 | AX9: 1138.8 | AY9: 94.9 | AZ9: 569.4
C10: Indoor, disturbance (sliding) of ceiling tiles | D10: 3520468 | E10: 2007 | F10: PCME | G10: Medium | H10: ='ABS conc calculations'!K9 -> 0.0225 | I10: ='ABS conc calculations'!L9 -> 0.045 | J10: ='ABS conc calculations'!M9 -> 0.0225 | K10: personal bystander data, ND scenario | M10: ='User Exposure'!L10 -> 5.7077626e-05 | N10: ='User Exposure'!M10 -> Assumed 1 repair/year, taking 1 day, lasting 30 min/day | O10: ='User Exposure'!N10 -> 0.00034246575 | P10: ='User Exposure'!O10 -> Assumed 1 repair/year, taking 1 day, lasting 3 hr/day | Q10: ='User Exposure'!P10 -> 0.00011415525 | R10: ='User Exposure'!Q10 -> Assumed 1 repair/year, taking 1 day, lasting 1 hr/day | S10: =H10*M10 -> 1.2842466e-06 | T10: =I10*O10 -> 1.5410959e-05 | U10: =J10*Q10 -> 2.5684932e-06 | V10: =S10*X$5 -> 1.5410959e-07 | W10: =T10*X$5 -> 1.8493151e-06 | X10: =U10*X$5 -> 3.0821918e-07 | Y10: =S10*AA$5 -> 7.7054795e-08 | Z10: =T10*AA$5 -> 9.2465753e-07 | AA10: =U10*AA$5 -> 1.5410959e-07 | AB10: =S10*AD$5 -> 2.5684932e-07 | AC10: =T10*AD$5 -> 3.0821918e-06 | AD10: =U10*AD$5 -> 5.1369863e-07 | AF10: =(0.5/24)*(1/365)*($AK$4/$AK$5) -> 5.7077626e-05 | AG10: Assumed 1 repair/year, taking 1 day, lasting 30 min/day | AH10: =(3/24)*(1/365)*($AK$4/$AK$5) -> 0.00034246575 | AI10: Assumed 1 repair/year, taking 1 day, lasting 3 hr/day | AJ10: =(1/24)*(1/365)*($AK$4/$AK$5) -> 0.00011415525 | AK10: Assumed 1 repair/year, taking 1 day, lasting 1 hr/day | AL10: =H10*AF10 -> 1.2842466e-06 | AM10: =I10*AH10 -> 1.5410959e-05 | AN10: =J10*AJ10 -> 2.5684932e-06 | AO10: =$AQ$4/AL10 -> 20245.333 | AP10: =$AQ$4/AM10 -> 1687.1111 | AQ10: =$AQ$4/AN10 -> 10122.667 | AR10: 78956.8 | AS10: 6579.7333 | AT10: 39478.4 | AU10: 52637.867 | AV10: 4386.4889 | AW10: 26318.933 | AX10: 20245.333 | AY10: 1687.1111 | AZ10: 10122.667
C11: Indoor, removal of ceiling tiles | D11: 28699 | E11: 1991 | F11: PCM and TEM | G11: Medium | H11: ='ABS conc calculations'!K10 -> 0.00083333333 | I11: ='ABS conc calculations'!L10 -> 0.0031666667 | J11: ='ABS conc calculations'!M10 -> 0.0015 | K11: RF of 6 | M11: ='User Exposure'!L11 -> 0.00456621 | N11: ='User Exposure'!M11 -> Assumed 1 removal job in lifetime taking 5 days lasting 8 hrs/day | O11: ='User Exposure'!N11 -> 0.02739726 | P11: ='User Exposure'!O11 -> Assumed 3 removal jobs in lifetime taking 10 days lasting 8 hrs/day | Q11: ='User Exposure'!P11 -> 0.0091324201 | R11: ='User Exposure'!Q11 -> Assumed 1 removal job in lifetime taking 10 days lasting 8 hrs/day | S11: =H11*M11 -> 3.805175e-06 | T11: =I11*O11 -> 8.6757991e-05 | U11: =J11*Q11 -> 1.369863e-05 | V11: =S11*X$5 -> 4.56621e-07 | W11: =T11*X$5 -> 1.0410959e-05 | X11: =U11*X$5 -> 1.6438356e-06 | Y11: =S11*AA$5 -> 2.283105e-07 | Z11: =T11*AA$5 -> 5.2054795e-06 | AA11: =U11*AA$5 -> 8.2191781e-07 | AB11: =S11*AD$5 -> 7.6103501e-07 | AC11: =T11*AD$5 -> 1.7351598e-05 | AD11: =U11*AD$5 -> 2.739726e-06 | AF11: =(8/24)*(5/(365))*($AK$4/$AK$5) -> 0.00456621 | AG11: Assumed 1 removal job in lifetime taking 5 days lasting 8 hrs/day | AH11: =(8/24)*((3*10)/(365))*($AK$4/$AK$5) -> 0.02739726 | AI11: Assumed 3 removal jobs in lifetime taking 10 days lasting 8 hrs/day | AJ11: =(8/24)*(10/(365))*($AK$4/$AK$5) -> 0.0091324201 | AK11: Assumed 1 removal job in lifetime taking 10 days lasting 8 hrs/day | AL11: =H11*AF11 -> 3.805175e-06 | AM11: =I11*AH11 -> 8.6757991e-05 | AN11: =J11*AJ11 -> 1.369863e-05 | AO11: =$AQ$4/AL11 -> 6832.8 | AP11: =$AQ$4/AM11 -> 299.68421 | AQ11: =$AQ$4/AN11 -> 1898 | AR11: 26647.92 | AS11: 1168.7684 | AT11: 7402.2 | AU11: 17765.28 | AV11: 779.17895 | AW11: 4934.8 | AX11: 6832.8 | AY11: 299.68421 | AZ11: 1898
C12: Indoor, maintenance (chemical stripping, polishing or buffing) of vinyl floor tiles | D12: 3582228 | E12: 1991 | F12: SEM | G12: Medium | H12: ='ABS conc calculations'!K11 -> NA | I12: ='ABS conc calculations'!L11 -> NA | J12: ='ABS conc calculations'!M11 -> NA | K12: Area data | M12: ='User Exposure'!L12 -> 5.7077626e-05 | N12: ='User Exposure'!M12 -> Assumed 1 repair/year, taking 1 day, lasting 30 min/day | O12: ='User Exposure'!N12 -> 0.00034246575 | P12: ='User Exposure'!O12 -> Assumed 1 repair/year, taking 1 day, lasting 3 hr/day | Q12: ='User Exposure'!P12 -> 0.00011415525 | R12: ='User Exposure'!Q12 -> Assumed 1 repair/year, taking 1 day, lasting 1 hr/day | S12: Below LOD | T12: Below LOD | U12: Below LOD | V12: Below LOD | W12: Below LOD | X12: Below LOD | Y12: =S12*AA$5 -> #VALUE! | Z12: =T12*AA$5 -> #VALUE! | AA12: =U12*AA$5 -> #VALUE! | AB12: =S12*AD$5 -> #VALUE! | AC12: =T12*AD$5 -> #VALUE! | AD12: =U12*AD$5 -> #VALUE! | AF12: =(0.5/24)*(1/365)*($AK$4/$AK$5) -> 5.7077626e-05 | AG12: Assumed 1 repair/year, taking 1 day, lasting 30 min/day | AH12: =(3/24)*(1/365)*($AK$4/$AK$5) -> 0.00034246575 | AI12: Assumed 1 repair/year, taking 1 day, lasting 3 hr/day | AJ12: =(1/24)*(1/365)*($AK$4/$AK$5) -> 0.00011415525 | AK12: Assumed 1 repair/year, taking 1 day, lasting 1 hr/day | AL12: Below LOD | AM12: Below LOD | AN12: Below LOD | AO12: Below LOD | AP12: Below LOD | AQ12: Below LOD | AR12: Below LOD | AS12: Below LOD | AT12: Below LOD | AU12: Below LOD | AV12: Below LOD | AW12: Below LOD | AX12: Below LOD | AY12: Below LOD | AZ12: Below LOD
C13: Indoor, removal of vinyl floor tiles | D13: 3582228 | E13: 1991 | F13: SEM | G13: Medium | H13: ='ABS conc calculations'!K12 -> 0.0004 | I13: ='ABS conc calculations'!L12 -> 0.0004 | J13: ='ABS conc calculations'!M12 -> 0.0004 | K13: Area data | M13: ='User Exposure'!L13 -> 0.00456621 | N13: ='User Exposure'!M13 -> Assumed 1 removal job in lifetime taking 5 days lasting 8 hrs/day | O13: ='User Exposure'!N13 -> 0.02739726 | P13: ='User Exposure'!O13 -> Assumed 3 removal jobs in lifetime taking 10 days lasting 8 hrs/day | Q13: ='User Exposure'!P13 -> 0.0091324201 | R13: ='User Exposure'!Q13 -> Assumed 1 removal job in lifetime taking 10 days lasting 8 hrs/day | S13: =H13*M13 -> 1.826484e-06 | T13: =I13*O13 -> 1.0958904e-05 | U13: =J13*Q13 -> 3.652968e-06 | V13: =S13*X$5 -> 2.1917808e-07 | W13: =T13*X$5 -> 1.3150685e-06 | X13: =U13*X$5 -> 4.3835616e-07 | Y13: =S13*AA$5 -> 1.0958904e-07 | Z13: =T13*AA$5 -> 6.5753425e-07 | AA13: =U13*AA$5 -> 2.1917808e-07 | AB13: =S13*AD$5 -> 3.652968e-07 | AC13: =T13*AD$5 -> 2.1917808e-06 | AD13: =U13*AD$5 -> 7.3059361e-07 | AF13: =(8/24)*(5/(365))*($AK$4/$AK$5) -> 0.00456621 | AG13: Assumed 1 removal job in lifetime taking 5 days lasting 8 hrs/day | AH13: =(8/24)*((3*10)/(365))*($AK$4/$AK$5) -> 0.02739726 | AI13: Assumed 3 removal jobs in lifetime taking 10 days lasting 8 hrs/day | AJ13: =(8/24)*(10/(365))*($AK$4/$AK$5) -> 0.0091324201 | AK13: Assumed 1 removal job in lifetime taking 10 days lasting 8 hrs/day | AL13: =H13*AF13 -> 1.826484e-06 | AM13: =I13*AH13 -> 1.0958904e-05 | AN13: =J13*AJ13 -> 3.652968e-06 | AO13: =$AQ$4/AL13 -> 14235 | AP13: =$AQ$4/AM13 -> 2372.5 | AQ13: =$AQ$4/AN13 -> 7117.5 | AR13: 55516.5 | AS13: 9252.75 | AT13: 27758.25 | AU13: 37011 | AV13: 6168.5 | AW13: 18505.5 | AX13: 14235 | AY13: 2372.5 | AZ13: 7117.5
C14: Indoor, disturbance/repair (cutting) of attic insulation. | D14: 758916 | E14: 2010 | F14: PCME (PCM and TEM) | G14: Medium | H14: ='ABS conc calculations'!K13 -> 0.49333333 | I14: ='ABS conc calculations'!L13 -> 0.49333333 | J14: ='ABS conc calculations'!M13 -> 0.49333333 | K14: Area data | M14: ='User Exposure'!L14 -> 5.7077626e-05 | N14: ='User Exposure'!M14 -> Assumed 1 repair/year, taking 1 day, lasting 30 min/day | O14: ='User Exposure'!N14 -> 0.00034246575 | P14: ='User Exposure'!O14 -> Assumed 1 repair/year, taking 1 day, lasting 3 hr/day | Q14: ='User Exposure'!P14 -> 0.00011415525 | R14: ='User Exposure'!Q14 -> Assumed 1 repair/year, taking 1 day, lasting 1 hr/day | S14: =H14*M14 -> 2.8158295e-05 | T14: =I14*O14 -> 0.00016894977 | U14: =J14*Q14 -> 5.6316591e-05 | V14: =S14*X$5 -> 3.3789954e-06 | W14: =T14*X$5 -> 2.0273973e-05 | X14: =U14*X$5 -> 6.7579909e-06 | Y14: =S14*AA$5 -> 1.6894977e-06 | Z14: =T14*AA$5 -> 1.0136986e-05 | AA14: =U14*AA$5 -> 3.3789954e-06 | AB14: =S14*AD$5 -> 5.6316591e-06 | AC14: =T14*AD$5 -> 3.3789954e-05 | AD14: =U14*AD$5 -> 1.1263318e-05 | AF14: =(0.5/24)*(1/365)*($AK$4/$AK$5) -> 5.7077626e-05 | AG14: Assumed 1 repair/year, taking 1 day, lasting 30 min/day | AH14: =(3/24)*(1/365)*($AK$4/$AK$5) -> 0.00034246575 | AI14: Assumed 1 repair/year, taking 1 day, lasting 3 hr/day | AJ14: =(1/24)*(1/365)*($AK$4/$AK$5) -> 0.00011415525 | AK14: Assumed 1 repair/year, taking 1 day, lasting 1 hr/day | AL14: =H14*AF14 -> 2.8158295e-05 | AM14: =I14*AH14 -> 0.00016894977 | AN14: =J14*AJ14 -> 5.6316591e-05 | AO14: =$AQ$4/AL14 -> 923.35135 | AP14: =$AQ$4/AM14 -> 153.89189 | AQ14: =$AQ$4/AN14 -> 461.67568 | AR14: 3601.0703 | AS14: 600.17838 | AT14: 1800.5351 | AU14: 2400.7135 | AV14: 400.11892 | AW14: 1200.3568 | AX14: 923.35135 | AY14: 153.89189 | AZ14: 461.67568
C15: Indoor, moving and removal with vacuum of attic insulation | D15: 758916 | E15: 2010 | F15: PCME (PCM and TEM) | G15: Medium | H15: ='ABS conc calculations'!K14 -> 0.455 | I15: ='ABS conc calculations'!L14 -> 1.5433333 | J15: ='ABS conc calculations'!M14 -> 0.99916667 | K15: Area data | M15: ='User Exposure'!L15 -> 0.00456621 | N15: ='User Exposure'!M15 -> Assumed 1 removal job in lifetime taking 5 days lasting 8 hrs/day | O15: ='User Exposure'!N15 -> 0.02739726 | P15: ='User Exposure'!O15 -> Assumed 3 removal jobs in lifetime taking 10 days lasting 8 hrs/day | Q15: ='User Exposure'!P15 -> 0.0091324201 | R15: ='User Exposure'!Q15 -> Assumed 1 removal job in lifetime taking 10 days lasting 8 hrs/day | S15: =H15*M15 -> 0.0020776256 | T15: =I15*O15 -> 0.042283105 | U15: =J15*Q15 -> 0.0091248097 | V15: =S15*X$5 -> 0.00024931507 | W15: =T15*X$5 -> 0.0050739726 | X15: =U15*X$5 -> 0.0010949772 | Y15: =S15*AA$5 -> 0.00012465753 | Z15: =T15*AA$5 -> 0.0025369863 | AA15: =U15*AA$5 -> 0.00054748858 | AB15: =S15*AD$5 -> 0.00041552511 | AC15: =T15*AD$5 -> 0.008456621 | AD15: =U15*AD$5 -> 0.0018249619 | AF15: =(8/24)*(5/(365))*($AK$4/$AK$5) -> 0.00456621 | AG15: Assumed 1 removal job in lifetime taking 5 days lasting 8 hrs/day | AH15: =(8/24)*((3*10)/(365))*($AK$4/$AK$5) -> 0.02739726 | AI15: Assumed 3 removal jobs in lifetime taking 10 days lasting 8 hrs/day | AJ15: =(8/24)*(10/(365))*($AK$4/$AK$5) -> 0.0091324201 | AK15: Assumed 1 removal job in lifetime taking 10 days lasting 8 hrs/day | AL15: =H15*AF15 -> 0.0020776256 | AM15: =I15*AH15 -> 0.042283105 | AN15: =J15*AJ15 -> 0.0091248097 | AO15: =$AQ$4/AL15 -> 12.514286 | AP15: =$AQ$4/AM15 -> 0.61490281 | AQ15: =$AQ$4/AN15 -> 2.8493745 | AR15: 48.805714 | AS15: 2.398121 | AT15: 11.11256 | AU15: 32.537143 | AV15: 1.5987473 | AW15: 7.4083736 | AX15: 12.514286 | AY15: 0.61490281 | AZ15: 2.8493745
B16: Fillers and putties | C16: Indoor, disturbance (pole or hand sanding and cleaning) of spackle | D16: 3615573 | E16: 1979 | F16: PCM | G16: Medium | H16: ='ABS conc calculations'!K17 -> 1.95 | I16: ='ABS conc calculations'!L17 -> 9.55 | J16: ='ABS conc calculations'!M17 -> 5 | K16: Area data | M16: ='User Exposure'!L16 -> 5.7077626e-05 | N16: ='User Exposure'!M16 -> Assumed 1 repair/year, taking 1 day, lasting 30 min/day | O16: ='User Exposure'!N16 -> 0.00034246575 | P16: ='User Exposure'!O16 -> Assumed 1 repair/year, taking 1 day, lasting 3 hr/day | Q16: ='User Exposure'!P16 -> 0.00011415525 | R16: ='User Exposure'!Q16 -> Assumed 1 repair/year, taking 1 day, lasting 1 hr/day | S16: =H16*M16 -> 0.00011130137 | T16: =I16*O16 -> 0.0032705479 | U16: =J16*Q16 -> 0.00057077626 | V16: =S16*X$5 -> 1.3356164e-05 | W16: =T16*X$5 -> 0.00039246575 | X16: =U16*X$5 -> 6.8493151e-05 | Y16: =S16*AA$5 -> 6.6780822e-06 | Z16: =T16*AA$5 -> 0.00019623288 | AA16: =U16*AA$5 -> 3.4246575e-05 | AB16: =S16*AD$5 -> 2.2260274e-05 | AC16: =T16*AD$5 -> 0.00065410959 | AD16: =U16*AD$5 -> 0.00011415525 | AF16: =(0.5/24)*(1/365)*($AK$4/$AK$5) -> 5.7077626e-05 | AG16: Assumed 1 repair/year, taking 1 day, lasting 30 min/day | AH16: =(3/24)*(1/365)*($AK$4/$AK$5) -> 0.00034246575 | AI16: Assumed 1 repair/year, taking 1 day, lasting 3 hr/day | AJ16: =(1/24)*(1/365)*($AK$4/$AK$5) -> 0.00011415525 | AK16: Assumed 1 repair/year, taking 1 day, lasting 1 hr/day | AL16: =H16*AF16 -> 0.00011130137 | AM16: =I16*AH16 -> 0.0032705479 | AN16: =J16*AJ16 -> 0.00057077626 | AO16: =$AQ$4/AL16 -> 233.6 | AP16: =$AQ$4/AM16 -> 7.9497382 | AQ16: =$AQ$4/AN16 -> 45.552 | AR16: 911.04 | AS16: 31.003979 | AT16: 177.6528 | AU16: 607.36 | AV16: 20.669319 | AW16: 118.4352 | AX16: 233.6 | AY16: 7.9497382 | AZ16: 45.552
C17: Indoor, disturbance (sanding and cleaning) of coatings, mastics and adhesives | D17: 3531298 | E17: 2004 | F17: PCME | G17: Medium | H17: ='ABS conc calculations'!K18 -> 0.003 | I17: ='ABS conc calculations'!L18 -> 0.008 | J17: ='ABS conc calculations'!M18 -> 0.003 | K17: Area data | M17: ='User Exposure'!L17 -> 5.7077626e-05 | N17: ='User Exposure'!M17 -> Assumed 1 repair/year, taking 1 day, lasting 30 min/day | O17: ='User Exposure'!N17 -> 0.00034246575 | P17: ='User Exposure'!O17 -> Assumed 1 repair/year, taking 1 day, lasting 3 hr/day | Q17: ='User Exposure'!P17 -> 0.00011415525 | R17: ='User Exposure'!Q17 -> Assumed 1 repair/year, taking 1 day, lasting 1 hr/day | S17: =H17*M17 -> 1.7123288e-07 | T17: =I17*O17 -> 2.739726e-06 | U17: =J17*Q17 -> 3.4246575e-07 | V17: =S17*X$5 -> 2.0547945e-08 | W17: =T17*X$5 -> 3.2876712e-07 | X17: =U17*X$5 -> 4.109589e-08 | Y17: =S17*AA$5 -> 1.0273973e-08 | Z17: =T17*AA$5 -> 1.6438356e-07 | AA17: =U17*AA$5 -> 2.0547945e-08 | AB17: =S17*AD$5 -> 3.4246575e-08 | AC17: =T17*AD$5 -> 5.4794521e-07 | AD17: =U17*AD$5 -> 6.8493151e-08 | AF17: =(0.5/24)*(1/365)*($AK$4/$AK$5) -> 5.7077626e-05 | AG17: Assumed 1 repair/year, taking 1 day, lasting 30 min/day | AH17: =(3/24)*(1/365)*($AK$4/$AK$5) -> 0.00034246575 | AI17: Assumed 1 repair/year, taking 1 day, lasting 3 hr/day | AJ17: =(1/24)*(1/365)*($AK$4/$AK$5) -> 0.00011415525 | AK17: Assumed 1 repair/year, taking 1 day, lasting 1 hr/day | AL17: =H17*AF17 -> 1.7123288e-07 | AM17: =I17*AH17 -> 2.739726e-06 | AN17: =J17*AJ17 -> 3.4246575e-07 | AO17: =$AQ$4/AL17 -> 151840 | AP17: =$AQ$4/AM17 -> 9490 | AQ17: =$AQ$4/AN17 -> 75920 | AR17: 592176 | AS17: 37011 | AT17: 296088 | AU17: 394784 | AV17: 24674 | AW17: 197392 | AX17: 151840 | AY17: 9490 | AZ17: 75920
C18: Indoor, removal of floor tile/mastic | D18: 2604770 | E18: 2000 | F18: PCM | G18: Medium | H18: ='ABS conc calculations'!K19 -> 0.005 | I18: ='ABS conc calculations'!L19 -> 0.01 | J18: ='ABS conc calculations'!M19 -> 0.005 | K18: Area data | M18: ='User Exposure'!L18 -> 0.00456621 | N18: ='User Exposure'!M18 -> Assumed 1 removal job in lifetime taking 5 days lasting 8 hrs/day | O18: ='User Exposure'!N18 -> 0.02739726 | P18: ='User Exposure'!O18 -> Assumed 3 removal jobs in lifetime taking 10 days lasting 8 hrs/day | Q18: ='User Exposure'!P18 -> 0.0091324201 | R18: ='User Exposure'!Q18 -> Assumed 1 removal job in lifetime taking 10 days lasting 8 hrs/day | S18: =H18*M18 -> 2.283105e-05 | T18: =I18*O18 -> 0.0002739726 | U18: =J18*Q18 -> 4.56621e-05 | V18: =S18*X$5 -> 2.739726e-06 | W18: =T18*X$5 -> 3.2876712e-05 | X18: =U18*X$5 -> 5.4794521e-06 | Y18: =S18*AA$5 -> 1.369863e-06 | Z18: =T18*AA$5 -> 1.6438356e-05 | AA18: =U18*AA$5 -> 2.739726e-06 | AB18: =S18*AD$5 -> 4.56621e-06 | AC18: =T18*AD$5 -> 5.4794521e-05 | AD18: =U18*AD$5 -> 9.1324201e-06 | AF18: =(8/24)*(5/(365))*($AK$4/$AK$5) -> 0.00456621 | AG18: Assumed 1 removal job in lifetime taking 5 days lasting 8 hrs/day | AH18: =(8/24)*((3*10)/(365))*($AK$4/$AK$5) -> 0.02739726 | AI18: Assumed 3 removal jobs in lifetime taking 10 days lasting 8 hrs/day | AJ18: =(8/24)*(10/(365))*($AK$4/$AK$5) -> 0.0091324201 | AK18: Assumed 1 removal job in lifetime taking 10 days lasting 8 hrs/day | AL18: =H18*AF18 -> 2.283105e-05 | AM18: =I18*AH18 -> 0.0002739726 | AN18: =J18*AJ18 -> 4.56621e-05 | AO18: =$AQ$4/AL18 -> 1138.8 | AP18: =$AQ$4/AM18 -> 94.9 | AQ18: =$AQ$4/AN18 -> 569.4 | AR18: 4441.32 | AS18: 370.11 | AT18: 2220.66 | AU18: 2960.88 | AV18: 246.74 | AW18: 1480.44 | AX18: 1138.8 | AY18: 94.9 | AZ18: 569.4
C19: Indoor, removal of window caulking | D19: 2604770 | E19: 2000 | F19: PCM | G19: Medium | H19: ='ABS conc calculations'!K20 -> 0.005 | I19: ='ABS conc calculations'!L20 -> 0.01 | J19: ='ABS conc calculations'!M20 -> 0.005 | K19: Area data | M19: ='User Exposure'!L19 -> 0.00456621 | N19: ='User Exposure'!M19 -> Assumed 1 removal job in lifetime taking 5 days lasting 8 hrs/day | O19: ='User Exposure'!N19 -> 0.02739726 | P19: ='User Exposure'!O19 -> Assumed 3 removal jobs in lifetime taking 10 days lasting 8 hrs/day | Q19: ='User Exposure'!P19 -> 0.0091324201 | R19: ='User Exposure'!Q19 -> Assumed 1 removal job in lifetime taking 10 days lasting 8 hrs/day | S19: =H19*M19 -> 2.283105e-05 | T19: =I19*O19 -> 0.0002739726 | U19: =J19*Q19 -> 4.56621e-05 | V19: =S19*X$5 -> 2.739726e-06 | W19: =T19*X$5 -> 3.2876712e-05 | X19: =U19*X$5 -> 5.4794521e-06 | Y19: =S19*AA$5 -> 1.369863e-06 | Z19: =T19*AA$5 -> 1.6438356e-05 | AA19: =U19*AA$5 -> 2.739726e-06 | AB19: =S19*AD$5 -> 4.56621e-06 | AC19: =T19*AD$5 -> 5.4794521e-05 | AD19: =U19*AD$5 -> 9.1324201e-06 | AF19: =(8/24)*(5/(365))*($AK$4/$AK$5) -> 0.00456621 | AG19: Assumed 1 removal job in lifetime taking 5 days lasting 8 hrs/day | AH19: =(8/24)*((3*10)/(365))*($AK$4/$AK$5) -> 0.02739726 | AI19: Assumed 3 removal jobs in lifetime taking 10 days lasting 8 hrs/day | AJ19: =(8/24)*(10/(365))*($AK$4/$AK$5) -> 0.0091324201 | AK19: Assumed 1 removal job in lifetime taking 10 days lasting 8 hrs/day | AL19: =H19*AF19 -> 2.283105e-05 | AM19: =I19*AH19 -> 0.0002739726 | AN19: =J19*AJ19 -> 4.56621e-05 | AO19: =$AQ$4/AL19 -> 1138.8 | AP19: =$AQ$4/AM19 -> 94.9 | AQ19: =$AQ$4/AN19 -> 569.4 | AR19: 4441.32 | AS19: 370.11 | AT19: 2220.66 | AU19: 2960.88 | AV19: 246.74 | AW19: 1480.44 | AX19: 1138.8 | AY19: 94.9 | AZ19: 569.4
A20: Chemical Substances in Furnishing, Cleaning, Treatment Care Products | B20: Construction and building materials covering large surface areas, including fabrics, textiles, and apparel | C20: Use of mittens for glass manufacturing, (proxy for oven mittens and potholders) | D20: 3079914 | E20: 2005 | F20: HSE method MDHS 39/4 UK | G20: Medium | H20: ='ABS conc calculations'!K23 -> 0.02 | I20: ='ABS conc calculations'!L23 -> 0.0884 | J20: ='ABS conc calculations'!M23 -> 0.048580952 | K20: RF of 6 | M20: ='User Exposure'!L20 -> 0.00019148623 | N20: ='User Exposure'!M20 -> Assumed BBQ mittens used more than other hobbies. People grill on average 1 hr/day, 1 day per week (52 days per year), using an ACM mitt for 2 years over their lifetime | O20: ='User Exposure'!N20 -> 0.00095743114 | P20: ='User Exposure'!O20 -> Assumed BBQ mittens used more than other hobbies. People grill on average 1 hr/day, 1 day per week (52 days per year), using an ACM mitt for 10 years over their lifetime | Q20: ='User Exposure'!P20 -> 0.00047871557 | R20: ='User Exposure'!Q20 -> Assumed BBQ mittens used more than other hobbies. People grill on average 1 hr/day, 1 day per week (52 days per year), using an ACM mitt for 5 years over their lifetime | S20: =H20*M20 -> 3.8297246e-06 | T20: =I20*O20 -> 8.4636913e-05 | U20: =J20*Q20 -> 2.3256458e-05 | V20: =S20*X$5 -> 4.5956695e-07 | W20: =T20*X$5 -> 1.015643e-05 | X20: =U20*X$5 -> 2.790775e-06 | Y20: =S20*AA$5 -> 2.2978347e-07 | Z20: =T20*AA$5 -> 5.0782148e-06 | AA20: =U20*AA$5 -> 1.3953875e-06 | AB20: =S20*AD$5 -> 7.6594491e-07 | AC20: =T20*AD$5 -> 1.6927383e-05 | AD20: =U20*AD$5 -> 4.6512917e-06 | AF20: =(1/24)*(52/365)*(2/62)*($AK$4/$AK$5) -> 0.00019148623 | AG20: Assumed BBQ mittens used more than other hobbies. People grill on average 1 hr/day, 1 day per week (52 days per year), using an ACM mitt for 2 years over their lifetime | AH20: =(1/24)*(52/365)*(10/20)*($AK$4/$AK$5) -> 0.0029680365 | AI20: Assumed BBQ mittens used more than other hobbies. People grill on average 1 hr/day, 1 day per week (52 days per year), using an ACM mitt for 10 years over their lifetime | AJ20: =(1/24)*(52/365)*(5/20)*($AK$4/$AK$5) -> 0.0014840183 | AK20: Assumed BBQ mittens used more than other hobbies. People grill on average 1 hr/day, 1 day per week (52 days per year), using an ACM mitt for 5 years over their lifetime | AL20: =H20*AF20 -> 3.8297246e-06 | AM20: =I20*AH20 -> 0.00026237443 | AN20: =J20*AJ20 -> 7.2095021e-05 | AO20: =$AQ$4/AL20 -> 6789 | AP20: =$AQ$4/AM20 -> 99.095023 | AQ20: =$AQ$4/AN20 -> 360.63517 | AR20: 26477.1 | AS20: 386.47059 | AT20: 1406.4772 | AU20: 17651.4 | AV20: 257.64706 | AW20: 937.65144 | AX20: 6789 | AY20: 99.095023 | AZ20: 360.63517
A22: Updated equation to use:
A25: ELCR = Excess Lifetime Cancer Risk, the risk of developing cancer as a consequence of the site-related exposure
A26: EPC = Exposure Point Concentration, the concentration of asbestos fibers in air (f/cc) for the specific activity being assessed
A27: IUR LTL or Liftetime = Inhalation Unit Risk per (f/cc) Less than Lifetime or Lifetime
A28: TWF = Time Weighting Factor, this factor accounts for less-than-continous exposure during a one-year exposure
A33: Former Exposure Factors links and notes
A65: https://blog.nationwide.com/home/home-maintenance/when-to-replace-your-roof/
A116: https://madison.floorcoveringsinternational.com/articles/questions-to-ask-before-replacing-your-tile-floor/
A117: Floor tile - 30 to 50 yrs
A161: https://jmroofsiding.com/blog/2018/01/24/often-need-replace-insulation-attic/

Sheet ABS conc calculations
A1: Note: data for each scenario are pulled from entries on the "Experimental Study Data", "Indoor Monitoring Study Data", and/or "Outdoor Monitoring Study Data" tabs using live cell references and formulas; Column N notes the rationale for the specific value chosen. Purple text indicates if the data came from the SR extraction or other data that was pulled from the paper.
A3: COU | B3: Subcategory | C3: Product and Activity-Based Scenario | D3: Data From Systematic Review
H4: DIYer | K4: Bystander
D5: Source | E5: Year | F5: Method | G5: Rating | H5: Low End (f/cc) | I5: High End (f/cc) | J5: Central Tendency (f/cc) | K5: Low End (f/cc) | L5: High End (f/cc) | M5: Center Tendency (f/cc) | N5: Data source/description from paper | O5: Change from March draft
A6: Chemical Substances in Construction, Paint, Electrical, and Metal Products | B6: Construction and building materials covering large surface areas: paper articles; metal articles; stone, plaster, cement, glass and ceramic articles | C6: Outdoor, disturbance/repair (sanding or scraping) of roofing materials | D6: 3531219 | E6: 2005 | F6: PCME | G6: High | H6: =AVERAGE('Experimental Study Data'!I6:I15) -> 0.00444 | I6: =AVERAGE('Experimental Study Data'!J6:J15) -> 0.00971 | J6: =AVERAGE('Experimental Study Data'!H6:H15) -> 0.00694 | K6: =H6/6 -> 0.00074 | L6: =I6/6 -> 0.0016183333 | M6: =J6/6 -> 0.0011566667 | N6: Paper only looked at asphalt-containing roofing materials. Any wet application activities are not evaluated in the RE. Table 4, avg of min (LE), avg of max (HE), avg of arithmetic mean (CT) for hand scraping and hand sanding activities combined. 30 minute samples, PCME concentrations, N=10. SR extraction data used. | O6: Updated scenario description to "repair" (represented by sanding/scraping tasks). Table 4 avg of min (LE), avg of max (HE), avg of arithmetic mean (CT) used. Combined scraping/sanding scenarios as they are similar activities. Other activites involving uncured (wet) product not evaluated. Area samples were not available so RF of 6 was used for bystanders
C7: Outdoor, removal of roofing materials | D7: 2604770 | E7: 2000 | F7: PCM | G7: Medium | H7: =I7/2 -> 0.005 | I7: ='Outdoor Monitoring Study Data'!I6 -> 0.01 | J7: =I7/2 -> 0.005 | K7: =L7/2 -> 0.005 | L7: ='Outdoor Monitoring Study Data'!I10 -> 0.01 | M7: =L7/2 -> 0.005 | N7: Table 1, removal roofing, <0.01 for personal samples. For bystanders, used perimeter data LOD of 0.01. Note SR only extracted perimeter data, not personal data, which was pulled here from paper directly | O7: Updated to personal data for DIYers and perimeter for bystanders. No detected concentrations, updated to LOD for HE and 1/2 LOD for CT and LE.
C8: Indoor, removal of plaster | D8: 2604770 | E8: 2000 | F8: PCM | G8: Medium | H8: ='Outdoor Monitoring Study Data'!H8 -> 0.01 | I8: ='Outdoor Monitoring Study Data'!I8 -> 0.05 | J8: ='Outdoor Monitoring Study Data'!J8 -> 0.02 | K8: =L8/2 -> 0.005 | L8: ='Outdoor Monitoring Study Data'!I12 -> 0.01 | M8: =L8/2 -> 0.005 | N8: Table 1, removal plaster, for DIYer range min (<LOD) used for LE, range max used for HE and arithmetic mean used for CT. For bystanders, used perimeter data LOD of 0.01. Note SR only extracted perimeter data, not personal data, which was pulled here from paper directly | O8: Updated to personal data for DIYers and perimeter for bystanders. Updated to use range for LE and HE and arithmetic mean for CT for DIYers. For bystanders, used LOD for HE adn 1/2 LOD for CT and LE. Updated description to Indoor as paper discussed full enclosure/containment and this did not seem like outdoor activity.
C9: Indoor, disturbance (sliding) of ceiling tiles | D9: 3520468 | E9: 2007 | F9: PCME | G9: Medium | H9: =I9/2 -> 0.0225 | I9: ='Experimental Study Data'!H16 -> 0.045 | J9: =I9/2 -> 0.0225 | K9: =L9/2 -> 0.0225 | L9: ='Experimental Study Data'!K16 -> 0.045 | M9: =L9/2 -> 0.0225 | N9: Used Table 1 data for field studies (Site A and Site B). Both personal and area data were <LOQ. No detected concentrations, updated to LOD for HE and 1/2 LOD for CT. Note SR extracted 8 hr TWA for bystander, not 30 min result, which was pulled here from paper directly | O9: Removed 358228 data from this scenario since that was floor tile (separate product). Updated description to disturbance of tiles. Used field studies which evaluated maintenance workers to represent DIYers. Chamber studies not used because they represented historical scenarios (retrospective analysis), not a current condition. Used personal (30 min) sample data for DIYers to represent task-based exposure instead of 8-hr TWA. No detected concentrations, updated to LOD for HE and 1/2 LOD for CT and LE.
C10: Indoor, removal of ceiling tiles | D10: 28699 | E10: 1991 | F10: PCM and TEM | G10: Medium | H10: ='Indoor Monitoring Study Data'!H14 -> 0.005 | I10: ='Indoor Monitoring Study Data'!I14 -> 0.019 | J10: ='Indoor Monitoring Study Data'!J14 -> 0.009 | K10: =H10/6 -> 0.00083333333 | L10: =I10/6 -> 0.0031666667 | M10: =J10/6 -> 0.0015 | N10: Abatement of ceiling tiles in school. Used Table 1 TEM data which was analyzed only on day 5 of abatement activities when the tiles were drying out. Used max for HE, min for LE and central value for HE. Did not differentiate between inside and outside containment area (since DIYers aren't expected to use containment). Used RF of 10 for bystanders. SR extraction data used. | O10: Updated activity description to removal (rather than disturbed). Used Table 1 TEM data which was analyzed only on day 5 of abatement activities when the tiles were drying out. Used max for HE, min for LE and central value for HE. Did not differentiate between inside and outside containment area (since DIYers aren't expected to use containment). Used RF of 6 for bystanders.
C11: Indoor, maintenance (chemical stripping, polishing or buffing) of vinyl floor tiles | D11: 3582228 | E11: 1990 | F11: PCM and SEM | G11: Medium | H11: NA | I11: NA | J11: NA | K11: NA | L11: NA | M11: NA | N11: Table 5, personal maintenance data representes DIYer. Results are zero, not extracted in SR. | O11: Added new scenario for maintenance/disturbance of floor tile, SEM results (Table 5) were "0", LOD not reported. Exposures would be lower than tile removal exposures, but not quantifiable. Added product to Table 3-1 (weight fractions)
C12: Indoor, removal of vinyl floor tiles | D12: 3582228 | E12: 1990 | F12: PCM and SEM | G12: Medium | H12: ='Indoor Monitoring Study Data'!J25 -> 0.0056 | I12: ='Indoor Monitoring Study Data'!J25 -> 0.0056 | J12: ='Indoor Monitoring Study Data'!J25 -> 0.0056 | K12: ='Indoor Monitoring Study Data'!J26 -> 0.0004 | L12: ='Indoor Monitoring Study Data'!J26 -> 0.0004 | M12: ='Indoor Monitoring Study Data'!J26 -> 0.0004 | N12: Table 6, personal cold removal data conservatively used for DIYer, since unknown what method they would use. Static (area) data used for bystander. SR extraction data used. | O12: Added new scenario for floor tiles (previously paper was erroneously used for ceiling tile scenario). Used Table 6 personal cold removal data for DIYers and static (area) data for bystanders. Hot removal method not used since unknown what DIYer would do and cold is more conservative. One one value reported, used for all LE, HE, and CT. Added product to Table 3-1 (weight fractions)
C13: Indoor, disturbance/repair (cutting) of attic insulation. | D13: 758916 | E13: 2010 | F13: PCME | G13: Medium | H13: ='Indoor Monitoring Study Data'!J5 -> 1.16 | I13: ='Indoor Monitoring Study Data'!J5 -> 1.16 | J13: ='Indoor Monitoring Study Data'!J5 -> 1.16 | K13: ='Indoor Monitoring Study Data'!J8 -> 0.49333333 | L13: ='Indoor Monitoring Study Data'!J8 -> 0.49333333 | M13: ='Indoor Monitoring Study Data'!J8 -> 0.49333333 | N13: Used PCME personal data for DIYers for cutting (Table 3). Averaged area samples for bystanders. Note SR only extracted summary results from Table 7, these were not used since not PCME. Tables by task report PCME, results pulled from paper directly. | O13: For cutting scenario, only value reported, used as CT. Used PCME data instead of PCM. Used personal data for DIYers and area data for bystanders. Did not include cleaning scenarios.
C14: Indoor, moving and removal with vacuum of attic insulation | D14: 758916 | E14: 2010 | F14: PCME | G14: Medium | H14: ='Indoor Monitoring Study Data'!H7 -> 0.97 | I14: ='Indoor Monitoring Study Data'!I6 -> 9.27 | J14: =AVERAGE(H14:I14) -> 5.12 | K14: ='Indoor Monitoring Study Data'!H10 -> 0.455 | L14: ='Indoor Monitoring Study Data'!I9 -> 1.5433333 | M14: =AVERAGE(K14:L14) -> 0.99916667 | N14: Used PCME personal data for DIYers for removing w/vacuum (Table 6). Averaged area samples for bystanders. Note SR only extracted summary results from Table 7, these were not used since not PCME. Tables by task report PCME, results pulled from paper directly. | O14: Kept removal scenario separate to follow pattern of other products/tasks. Used "moving zonolite" for HE, "removal with shop vacuum" for LE, and average for CT. Used PCME data instead of PCM. Used personal data for DIYers and area data for bystanders
C15: Indoor, disturbance of sprayed fireproofing during renovation activity (woodworking, metal-sheet, electrical and painting work) | D15: 3582179 | E15: 1980 | F15: PCM | G15: Medium | H15: =AVERAGE('Indoor Monitoring Study Data'!H16:H19) -> 0.05 | I15: =AVERAGE('Indoor Monitoring Study Data'!I16:I19) -> 1.0313181 | J15: =AVERAGE('Indoor Monitoring Study Data'!J16:J19) -> 0.1325 | K15: =H15/6 -> 0.0083333333 | L15: =I15/6 -> 0.17188635 | M15: =J15/6 -> 0.022083333 | N15: Sampling during 4 types of renovation actitivies that could disturb spray fireproofing. Data for these 4 activities were averaged (Table V). Used RF of 10 for bystanders. Data is biased-high since only PCM analysis. Note SR did not exract Table V data | O15: SR extraction Tables III and IV present frequency distribution of the data, not point values. Updated to use Tables V and VI which present geometric means and GSD. Used LOD for LE, GM for HE, calculated 95th percentile for HE. Used RF of 10 for bystanders. Removed scenario, spray fireproofing not applicable to DIYers. Spray fireproofing typically used in commercial/industrial buildings to fireproof steel and concrete prior to 1973. Work should only be done by licensed abatement worker. Highly unlikely for DIYer to encounter this ACM. | P15: Scenario/product removed since not a product in the COU table 1.1. | Q15: Paik et al., 2010 (HERO ID 3582179) studied worker exposure to asbestos during renovation activities and removal of sprayed fireproofing material in eleven multistory buildings. Bulk samples analyzed by x-ray diffraction (XRD) found 2 – 15% chrysotile and 2% amosite asbestos in the fireproofing material. Renovation tasks were performed by carpenters, electricians, sheet-metal workers and painters, and personal breathing zone air samples were analyzed by PCM. Although OSHA requires wet removal methods for handling sprayed asbestos fireproofing, dry methods were also used in the study due to presence of electrical equipment. Though EPA identified this study is applicable to the sprayed fireproofing product, the scenarios for disturbance and removal are likely not applicable to consumers. The product was typically used to fireproof structural steel and concrete in multistory commercial and industrial buildings prior to 1973 when spray application of fireproofing material containing more than 1% asbestos by weight was banned by EPA. As it is highly unlikely for a consumer to encounter and disturb sprayed fireproofing, these scenarios are not quantitatively evaluated.
C16: Indoor, removal of of sprayed fireproofing | D16: 3582179 | E16: 1980 | F16: PCM | G16: Medium | H16: ='Indoor Monitoring Study Data'!H20 -> 0.1 | I16: ='Indoor Monitoring Study Data'!I20 -> 108.83184 | J16: ='Indoor Monitoring Study Data'!J20 -> 16.4 | K16: =H16/6 -> 0.016666667 | L16: =I16/6 -> 18.138639 | M16: =J16/6 -> 2.7333333 | N16: Sampling during dry removal of spray fireproofing (Table VI). Wet removal methot not selected, DIYers conservatively expected to use dry removal methods. Used RF of 10 for bystander. Data is biased-high since only PCM analysis. Note SR did not extract Table VI data. | O16: SR Extraction Tables III and IV present frequency distribution of the data, not point values. Updated to use Tables V and VI which present geometric means and GSD. Used LOD for LE, GM for HE, calculated 95th percentile for HE. Used RF of 10 for bystanders.
B17: Fillers and putties | C17: Indoor, disturbance (pole or hand sanding and cleaning) of spackle | D17: 3615573 | E17: 1979 | F17: PCM, 1-hr sample | G17: Medium | H17: =AVERAGE('Indoor Monitoring Study Data'!H27,'Indoor Monitoring Study Data'!H30) -> 1.25 | I17: =AVERAGE('Indoor Monitoring Study Data'!I27,'Indoor Monitoring Study Data'!I30,'Indoor Monitoring Study Data'!I33) -> 25.866667 | J17: =AVERAGE('Indoor Monitoring Study Data'!J27,'Indoor Monitoring Study Data'!J30,'Indoor Monitoring Study Data'!J33) -> 13.9 | K17: =AVERAGE('Indoor Monitoring Study Data'!H28,'Indoor Monitoring Study Data'!H29,'Indoor Monitoring Study Data'!H31,'Indoor Monitoring Study Data'!H32) -> 1.95 | L17: =AVERAGE('Indoor Monitoring Study Data'!I28,'Indoor Monitoring Study Data'!I29,'Indoor Monitoring Study Data'!I31,'Indoor Monitoring Study Data'!I32) -> 9.55 | M17: =AVERAGE('Indoor Monitoring Study Data'!J28,'Indoor Monitoring Study Data'!J29,'Indoor Monitoring Study Data'!J31,'Indoor Monitoring Study Data'!J32) -> 5 | N17: Paper says PCM and TEM used, but not clear in table, EPA called it "PCM 1-hr sample". Used Table 2 data for sanding and sweeping. SR extraction data used. | O17: Removed dry mixing scenario since highly unlikely for DIYer to acquire asbestos dry containing compound for new use. Averaged personal data for pole sanding, hand sanding, and cleaning for DIYers and background (area) data for bystanders. Additional potential papers from SR reviewed to potentially add (3084138), but not added since concentrations were similar. Higher bystander exposure discussed in writeup
C18: Indoor, disturbance (sanding and cleaning) of coatings, mastics and adhesives | D18: 3531298 | E18: 2004 | F18: PCME | G18: Medium | H18: =J18 -> 0.023 | I18: ='Experimental Study Data'!J24 -> 0.04 | J18: ='Experimental Study Data'!H24 -> 0.023 | K18: =M18 -> 0.003 | L18: ='Experimental Study Data'!M24 -> 0.008 | M18: ='Experimental Study Data'!K24 -> 0.003 | N18: Products appear to be more industrial use, but used as proxy for consumer use. Results for other (application, removal) were also ND. Used Table 6 data, which was pulled from paper directly. SR only extracted overal range on p 241. | O18: Only used personal data from Table 6 for sanding (HE) and spill cleanup (LE and CT) scenarios for DIYer. Both values represent ND. Used area data from Table 6 for bystanders (also ND) instead of RF. Updated scenario of “Indoor, disturbance (sanding and cleaning) of adhesives and sealants; extruded sealant tape, mastic, and coatings” to “Indoor, disturbance (sanding and cleaning) of coatings, mastics and adhesives”, since these are the actual products from the paper 3531298
C19: Indoor, removal of floor tile/mastic | D19: 2604770 | E19: 2000 | F19: PCM | G19: Medium | H19: =I19/2 -> 0.005 | I19: ='Outdoor Monitoring Study Data'!I5 -> 0.01 | J19: =I19/2 -> 0.005 | K19: =L19/2 -> 0.005 | L19: ='Outdoor Monitoring Study Data'!I9 -> 0.01 | M19: =L19/2 -> 0.005 | N19: Table 1, removal floor tile, <0.01 for personal samples. For bystanders, used perimeter data LOD of 0.01. Note SR only extracted perimeter data, not personal data, which was pulled here from paper directly | O19: Updated to personal data for DIYers and perimeter for bystanders. No detected concentrations, updated to LOD for HE and 1/2 LOD for CT and LE. Updated description to Indoor as paper discussed full enclosure/containment and this did not seem like outdoor activity.
C20: Indoor, removal of window caulking | D20: 2604770 | E20: 2000 | F20: PCM | G20: Medium | H20: =I20/2 -> 0.005 | I20: ='Outdoor Monitoring Study Data'!I7 -> 0.01 | J20: =I20/2 -> 0.005 | K20: =L20/2 -> 0.005 | L20: ='Outdoor Monitoring Study Data'!I11 -> 0.01 | M20: =L20/2 -> 0.005 | N20: Table 1, removal caulking, <0.01 for personal samples. For bystanders, used perimeter data LOD of 0.01. Note SR only extracted perimeter data, not personal data, which was pulled here from paper directly | O20: Updated to personal data for DIYers and perimeter for bystanders. No detected concentrations, updated to LOD for HE and 1/2 LOD for CT and LE. Updated description to Indoor as paper discussed full enclosure/containment and this did not seem like outdoor activity.
B21: Solvent-based/water-based paint | C21: Indoor fibers released from coatings and textured paints deterioration after years of product in-place during high-foot traffic, accidental and intentional contact | D21: 180 | E21: 1977 | F21: PCM | G21: Low | J21: 0.2 | N21: Per paper, fiber contamination occurred through continuous, low level fallout from ceiling, occasional heavy loss by contact (maintenance work) and secondary dispersal from surfaces | O21: Removed scenario since accidental contact/dispersion is not a DIYer activity, just normal wear & tear. Also unclear if the product described is really a "solvent-based or water-based paint". The paper described a ceiling spray material that was used for sound and fireproofing. After consideration, paper not added to IA section due to not meeting criteria (age)
C22: Indoor fibers released from coatings and textured paints deterioration after years of product in-place during cleaning and dusting | D22: 180 | E22: 1977 | F22: PCM | G22: Low | H22: 1.6 | I22: 4 | J22: 2.8 | N22: Scenario is for custodial service in a school. Used as proxy for cleaning in a home. | O22: Removed scenario since cleaning after deterioration is also not DIYer activity/active distrubance. After consideration, paper not added to IA section due to not meeting criteria (age)
A23: Chemical Substances in Furnishing, Cleaning, Treatment Care Products | B23: Construction and building materials covering large surface areas, including fabrics, textiles, and apparel | C23: Use of mittens for glass manufacturing, (proxy for oven mittens and potholders) | D23: 3079914 | E23: 2005 | F23: HSE method MDHS 39/4 UK (PCM) | G23: Medium | H23: ='Experimental Study Data'!I26 -> 0.12 | I23: ='Experimental Study Data'!J26 -> 0.5304 | J23: ='Experimental Study Data'!H26 -> 0.29148571 | K23: =H23/6 -> 0.02 | L23: =I23/6 -> 0.0884 | M23: =J23/6 -> 0.048580952 | N23: Paper evaluating asbestos mitts used by workers in a glass manufacturing plant. Abrasion on sharp metal edges released dust. Measured 3 tasks, rowing, glass window repair and side seal. Concentration ranges reported per task. Used digitized data from Figure 1. SR extraction data used. | O23: Updated subcategory as mittens are protective clothing which goes with "fabrics, textiles and apparel". Mittens do not appear to go with original subcategory of "Furniture and furnishings, including stone, plaster, cement, glass, and ceramic articles; metal articles; or rubber articles". Used no ventilation rowing task concentrations rather than overall range reported in abstract as that task seemed most relevant for a DIYer. Used RF of 10 for bystanders
A24: Chemical Substances in Automotive, Fuel, Agriculture, Outdoor Use Products | B24: Lawn and Garden Care Products | C24: Outdoors asbestos-containing vermiculite soil treatment | D24: 783704 | E24: 2000 | F24: PCM | G24: High | H24: 0.011 | I24: 0.0095714286 | J24: 0.01 | N24: unclear where outdoor values came from | O24: scenario eliminated in write-up (both consumer and occupational) From Occupational: "EPA is not assessing inhalation exposure for the OES for Handling of Vermiculite Products (lawn and garden care, laboratory packaging vermiculite) as it was determined that the products that were at risk of containing asbestos were sourced from the vermiculite mine in Libby, Montana, which has been closed since 1990. All products made with vermiculite from this mine are assumed to have been used or disposed of, therefore, EPA does not expect any significant asbestos releases or occupational exposures from the ongoing commercial use of vermiculite-containing products (see Appendix G for additional information)."
C25: Indoor personal breathing zone asbestos-containing vermiculite soil treatment, for lawn and garden care products | D25: 783704 | E25: 2000 | F25: PCM | G25: High | H25: =AVERAGE('Indoor Monitoring Study Data'!H40:H43) -> 0.171 | I25: =AVERAGE('Indoor Monitoring Study Data'!I40:I43) -> 0.309 | J25: =AVERAGE('Indoor Monitoring Study Data'!J40:J43) -> 0.19075 | N25: Table 6

Sheet Reduction Factors
A1: COU | B1: Subcategory | C1: Product and Activity-Based Scenario | D1: Available bystander and consumer data ratios and bystander reduction factor (RF) calculations | K1: Area data used? | L1: Calculated RF | M1: RF notes
D5: Source | E5: Year | F5: Method | G5: Rating | H5: Ratio Low End (f/cc) | I5: Ratio High End (f/cc) | J5: Ratio Central Tendency (f/cc) | M5: RF notes
A6: Chemical Substances in Construction, Paint, Electrical, and Metal Products | B6: Construction and building materials covering large surface areas: paper articles | C6: Outdoor, disturbance/repair (sanding or scraping) of roofing materials | D6: 3531219 | E6: 2005 | F6: PCME | G6: High | H6: ='ABS conc calculations'!H6/'ABS conc calculations'!K6 -> 6 | I6: ='ABS conc calculations'!I6/'ABS conc calculations'!L6 -> 6 | J6: ='ABS conc calculations'!J6/'ABS conc calculations'!M6 -> 6 | K6: No | L6: NA
C7: Outdoor, removal of roofing materials | D7: 2604770 | E7: 2000 | F7: PCM | G7: Medium | H7: ='ABS conc calculations'!H7/'ABS conc calculations'!K7 -> 1 | I7: ='ABS conc calculations'!I7/'ABS conc calculations'!L7 -> 1 | J7: ='ABS conc calculations'!J7/'ABS conc calculations'!M7 -> 1 | K7: Yes | L7: =AVERAGE(H7:J7) -> 1 | M7: ND scenario
C8: Indoor, removal of plaster | D8: 2604770 | E8: 2000 | F8: PCM | G8: Medium | H8: ='ABS conc calculations'!H8/'ABS conc calculations'!K8 -> 2 | I8: ='ABS conc calculations'!I8/'ABS conc calculations'!L8 -> 5 | J8: ='ABS conc calculations'!J8/'ABS conc calculations'!M8 -> 4 | K8: Yes | L8: =AVERAGE(H8:J8) -> 3.6666667
C9: Indoor, disturbance (sliding) of ceiling tiles | D9: 3520468 | E9: 2007 | F9: PCME SEM | G9: Medium | H9: ='ABS conc calculations'!H9/'ABS conc calculations'!K9 -> 1 | I9: ='ABS conc calculations'!I9/'ABS conc calculations'!L9 -> 1 | J9: ='ABS conc calculations'!J9/'ABS conc calculations'!M9 -> 1 | K9: Yes | L9: =AVERAGE(H9:J9) -> 1 | M9: ND scenario, DIYer and bystander had same exposures
C10: Indoor, removal of ceiling tiles | D10: 28699 | E10: 1991 | F10: PCM and TEM | G10: Medium | H10: ='ABS conc calculations'!H10/'ABS conc calculations'!K10 -> 6 | I10: ='ABS conc calculations'!I10/'ABS conc calculations'!L10 -> 6 | J10: ='ABS conc calculations'!J10/'ABS conc calculations'!M10 -> 6 | K10: No | L10: NA
C11: Indoor, maintenance (chemical stripping, polishing or buffing) of vinyl floor tiles | D11: 3582228 | E11: 1991 | F11: SEM | G11: Medium | H11: ='ABS conc calculations'!H11/'ABS conc calculations'!K11 -> #VALUE! | I11: ='ABS conc calculations'!I11/'ABS conc calculations'!L11 -> #VALUE! | J11: ='ABS conc calculations'!J11/'ABS conc calculations'!M11 -> #VALUE! | K11: Yes | L11: =AVERAGE(H11:J11) -> #VALUE! | M11: scenario not quantitatively evaluated
C12: Indoor, removal of vinyl floor tiles | D12: 3582228 | E12: 1991 | F12: SEM | G12: Medium | H12: ='ABS conc calculations'!H12/'ABS conc calculations'!K12 -> 14 | I12: ='ABS conc calculations'!I12/'ABS conc calculations'!L12 -> 14 | J12: ='ABS conc calculations'!J12/'ABS conc calculations'!M12 -> 14 | K12: Yes | L12: =J12 -> 14
C13: Indoor, disturbance/repair (cutting) of attic insulation. | D13: 758916 | E13: 2010 | F13: PCME (PCM and TEM) | G13: Medium | H13: ='ABS conc calculations'!H13/'ABS conc calculations'!K13 -> 2.3513514 | I13: ='ABS conc calculations'!I13/'ABS conc calculations'!L13 -> 2.3513514 | J13: ='ABS conc calculations'!J13/'ABS conc calculations'!M13 -> 2.3513514 | K13: Yes | L13: =J13 -> 2.3513514
C14: Indoor, moving and removal (with vacuum) of attic insulation | D14: 758916 | E14: 2010 | F14: PCME (PCM and TEM) | G14: Medium | H14: ='ABS conc calculations'!H14/'ABS conc calculations'!K14 -> 2.1318681 | I14: ='ABS conc calculations'!I14/'ABS conc calculations'!L14 -> 6.0064795 | J14: ='ABS conc calculations'!J14/'ABS conc calculations'!M14 -> 5.1242702 | K14: Yes | L14: =AVERAGE(H14:J14) -> 4.4208726
C15: Indoor, disturbance of sprayed fireproofing during renovation activity (woodworking, metal-sheet, electrical and painting work) | D15: 3582179 | E15: 1980 | F15: PCM | G15: Medium | H15: ='ABS conc calculations'!H15/'ABS conc calculations'!K15 -> 6 | I15: ='ABS conc calculations'!I15/'ABS conc calculations'!L15 -> 6 | J15: ='ABS conc calculations'!J15/'ABS conc calculations'!M15 -> 6 | K15: No | L15: NA | M15: scenario not applicable
C16: Indoor, removal of of sprayed fireproofing | D16: 3582179 | E16: 1980 | F16: PCM | G16: Medium | H16: ='ABS conc calculations'!H16/'ABS conc calculations'!K16 -> 6 | I16: ='ABS conc calculations'!I16/'ABS conc calculations'!L16 -> 6 | J16: ='ABS conc calculations'!J16/'ABS conc calculations'!M16 -> 6 | K16: No | L16: NA | M16: scenario not applicable
B17: Fillers and putties | C17: Indoor, disturbance (pole or hand sanding and cleaning) of spackle | D17: 3615573 | E17: 1979 | F17: PCM | G17: Medium | H17: ='ABS conc calculations'!H17/'ABS conc calculations'!K17 -> 0.64102564 | I17: ='ABS conc calculations'!I17/'ABS conc calculations'!L17 -> 2.7085515 | J17: ='ABS conc calculations'!J17/'ABS conc calculations'!M17 -> 2.78 | K17: Yes | L17: =AVERAGE(I17:J17) -> 2.7442757 | M17: bystander min exposure was higher in paper, not included in average RF calc
C18: Indoor, disturbance (sanding and cleaning) of coatings, mastics and adhesives | D18: 3531298 | E18: 2004 | F18: PCME | G18: Medium | H18: ='ABS conc calculations'!H18/'ABS conc calculations'!K18 -> 7.6666667 | I18: ='ABS conc calculations'!I18/'ABS conc calculations'!L18 -> 5 | J18: ='ABS conc calculations'!J18/'ABS conc calculations'!M18 -> 7.6666667 | K18: Yes | L18: =AVERAGE(H18:J18) -> 6.7777778
C19: Indoor, removal of floor tile/mastic | D19: 2604770 | E19: 2000 | F19: PCM | G19: Medium | H19: ='ABS conc calculations'!H19/'ABS conc calculations'!K19 -> 1 | I19: ='ABS conc calculations'!I19/'ABS conc calculations'!L19 -> 1 | J19: ='ABS conc calculations'!J19/'ABS conc calculations'!M19 -> 1 | K19: Yes | L19: =AVERAGE(H19:J19) -> 1 | M19: ND scenario
C20: Indoor, removal of window caulking | D20: 2604770 | E20: 2000 | F20: PCM | G20: Medium | H20: ='ABS conc calculations'!H20/'ABS conc calculations'!K20 -> 1 | I20: ='ABS conc calculations'!I20/'ABS conc calculations'!L20 -> 1 | J20: ='ABS conc calculations'!J20/'ABS conc calculations'!M20 -> 1 | K20: Yes | L20: =AVERAGE(H20:J20) -> 1 | M20: ND scenario
A21: Chemical Substances in Furnishing, Cleaning, Treatment Care Products, Subcategory | B21: Construction and building materials covering large surface areas, including fabrics, textiles, and apparel | C21: Use of mittens for glass manufacturing, (proxy for oven mittens and potholders) | D21: 3079914 | E21: 2005 | F21: HSE method MDHS 39/4 UK | G21: Medium | H21: ='ABS conc calculations'!H23/'ABS conc calculations'!K23 -> 6 | I21: ='ABS conc calculations'!I23/'ABS conc calculations'!L23 -> 6 | J21: ='ABS conc calculations'!J23/'ABS conc calculations'!M23 -> 6 | K21: No | L21: NA
H23: =AVERAGE(H14,H18,H8) -> 3.9328449 | I23: =AVERAGE(I14,I17, I18,I8) -> 4.6787577 | J23: =AVERAGE(J12,J13,J14,J17, J18,J8) -> 5.987048 | K23: Indoor average calculated RF based on area data, not including ND scenarios where no RF was implemented
J25: =AVERAGE(L12,L13,L14,L17,L18,L8) -> 5.6601574 | K25: Overall average

Sheet User IUR Comp
D1: * EPC values are pulled from the "ABS conc calculations" tab | K1: * TWF values are based on assumptions as described in columns Y, AA, AB, where similar job types (e.g., "repair") were given consistent TWF. The assumptions take into account not only the frequency of a job type (e.g., "roof replacement") but also the number of times per lifetime that a given job will include asbestos materials (e.g., a roof may be replaced every 10 years, but only the first replacement job is likely to include legacy use asbestos; in contrast, repeat repair jobs are more likely to contain legacy asbestos each time). | T1: IUR values from the {U.S. EPA, 1988, 783514} | AC1: IUR values from Part 2 Appendix K | AL1: Comparison Matrix Results Red "x" are those that one ELCR result exceeds the benchmark while the other does not. Check marks are both IUR ELCR estimates are either above or below the benchmark
A2: COU | B2: Subcategory | C2: Product and Activity-Based Scenario | D2: Exposure Point Concentration (EPC) Data From Systematic Review | K2: Time Weighting Factor (Lifetime Cancer) | Q2: Exposure Concentration (Lifetime Cancer) | T2: Excess Lifteme Cancer Risk (risks > 1x10-6 are red and < 1x10-6 are green) | W2: Excess Lifteme Cancer Risk (risks > 1x10-6 are red and < 1x10-6 are green) | Z2: Excess Lifteme Cancer Risk (risks > 1x10-6 are red and < 1x10-6 are green) | AC2: Excess Lifteme Cancer Risk (risks > 1x10-6 are red and < 1x10-6 are green) | AF2: Excess Lifteme Cancer Risk (risks > 1x10-6 are red and < 1x10-6 are green) | AI2: Excess Lifteme Cancer Risk (risks > 1x10-6 are red and < 1x10-6 are green)
T4: IUR LTL= | V4: 0.11 | W4: IUR LTL= | Y4: 0.098 | Z4: IUR LTL= | AB4: 0.23 | AC4: IUR LTL= | AE4: 0.09 | AF4: IUR LTL= | AH4: 0.08 | AI4: IUR LTL= | AK4: 0.2 | AL4: IUR LTL= | AO4: IUR LTL= | AR4: IUR LTL=
T5: 16,62 | W5: 16,40 | Z5: 0,78 | AC5: 16,62 | AF5: 16,40 | AI5: 0,78 | AL5: 16,62 | AO5: 16,40 | AR5: 0,78
D6: Source | E6: Year | F6: Method | G6: Rating | H6: Low End (f/cc) | I6: High End (f/cc) | J6: Center Tendency (f/cc) | K6: Low End | L6: Low End TWF Comment | M6: High End | N6: High End TWF Comment | O6: Central Tendency | P6: Central Tendency TWF comment | Q6: Low End (f/cc) | R6: High End (f/cc) | S6: Central Tendency (f/cc) | T6: Low End | U6: High End | V6: Central Tendency | W6: Low End | X6: High End | Y6: Central Tendency | Z6: Low End | AA6: High End | AB6: Central Tendency | AC6: Low End | AD6: High End | AE6: Central Tendency | AF6: Low End | AG6: High End | AH6: Central Tendency | AI6: Low End | AJ6: High End | AK6: Central Tendency | AL6: Low End | AM6: High End | AN6: Central Tendency | AO6: Low End | AP6: High End | AQ6: Central Tendency | AR6: Low End | AS6: High End | AT6: Central Tendency
A7: Chemical Substances in Construction, Paint, Electrical, and Metal Products | B7: Construction and building materials covering large surface areas: paper articles; metal articles; stone, plaster, cement, glass and ceramic articles | C7: Outdoor, disturbance/repair (sanding or scraping) of roofing materials | D7: 3531219 | E7: 2005 | F7: PCME (PCM and TEM) | G7: High | H7: ='ABS conc calculations'!H6 -> 0.00444 | I7: ='ABS conc calculations'!I6 -> 0.00971 | J7: ='ABS conc calculations'!J6 -> 0.00694 | K7: =(0.5/24)*(1/365) -> 5.7077626e-05 | L7: Assumed 1 repair/year, taking 1 day, lasting 30 min/day | M7: =(3/24)*(1/365) -> 0.00034246575 | N7: Assumed 1 repair/year, taking 1 day, lasting 3 hr/day | O7: =(1/24)*(1/365) -> 0.00011415525 | P7: Assumed 1 repair/year, taking 1 day, lasting 1 hr/day | Q7: =H7*K7 -> 2.5342466e-07 | R7: =I7*M7 -> 3.3253425e-06 | S7: =J7*O7 -> 7.9223744e-07 | T7: =Q7*V$4 -> 2.7876712e-08 | U7: =R7*V$4 -> 3.6578767e-07 | V7: =S7*V$4 -> 8.7146119e-08 | W7: =Q7*Y$4 -> 2.4835616e-08 | X7: =R7*Y$4 -> 3.2588356e-07 | Y7: =S7*Y$4 -> 7.7639269e-08 | Z7: =Q7*AB$4 -> 5.8287671e-08 | AA7: =R7*AB$4 -> 7.6482877e-07 | AB7: =S7*AB$4 -> 1.8221461e-07 | AC7: 2.2808219e-08 | AD7: 2.9928082e-07 | AE7: 7.130137e-08 | AF7: 2.0273973e-08 | AG7: 2.660274e-07 | AH7: 6.3378995e-08 | AI7: 5.0684932e-08 | AJ7: 6.6506849e-07 | AK7: 1.5844749e-07 | AL7: ü | AM7: ü | AN7: ü | AO7: ü | AP7: ü | AQ7: ü | AR7: ü | AS7: ü | AT7: ü
C8: Outdoor, removal of roofing materials | D8: 2604770 | E8: 2000 | F8: PCM | G8: Medium | H8: ='ABS conc calculations'!H7 -> 0.005 | I8: ='ABS conc calculations'!I7 -> 0.01 | J8: ='ABS conc calculations'!J7 -> 0.005 | K8: =(8/24)*(5/(365)) -> 0.00456621 | L8: Assumed 1 removal job in lifetime taking 5 days lasting 8 hrs/day | M8: =(8/24)*((3*10)/(365)) -> 0.02739726 | N8: Assumed 3 removal jobs in lifetime taking 10 days lasting 8 hrs/day | O8: =(8/24)*(10/(365)) -> 0.0091324201 | P8: Assumed 1 removal job in lifetime taking 10 days lasting 8 hrs/day | Q8: =H8*K8 -> 2.283105e-05 | R8: =I8*M8 -> 0.0002739726 | S8: =J8*O8 -> 4.56621e-05 | T8: =Q8*V$4 -> 2.5114155e-06 | U8: =R8*V$4 -> 3.0136986e-05 | V8: =S8*V$4 -> 5.0228311e-06 | W8: =Q8*Y$4 -> 2.2374429e-06 | X8: =R8*Y$4 -> 2.6849315e-05 | Y8: =S8*Y$4 -> 4.4748858e-06 | Z8: =Q8*AB$4 -> 5.2511416e-06 | AA8: =R8*AB$4 -> 6.3013699e-05 | AB8: =S8*AB$4 -> 1.0502283e-05 | AC8: 2.0547945e-06 | AD8: 2.4657534e-05 | AE8: 4.109589e-06 | AF8: 1.826484e-06 | AG8: 2.1917808e-05 | AH8: 3.652968e-06 | AI8: 4.56621e-06 | AJ8: 5.4794521e-05 | AK8: 9.1324201e-06 | AL8: ü | AM8: ü | AN8: ü | AO8: ü | AP8: ü | AQ8: ü | AR8: ü | AS8: ü | AT8: ü
C9: Indoor, removal of plaster | D9: 2604770 | E9: 2000 | F9: PCM | G9: Medium | H9: ='ABS conc calculations'!H8 -> 0.01 | I9: ='ABS conc calculations'!I8 -> 0.05 | J9: ='ABS conc calculations'!J8 -> 0.02 | K9: =(8/24)*(5/(365)) -> 0.00456621 | L9: Assumed 1 removal job in lifetime taking 5 days lasting 8 hrs/day | M9: =(8/24)*((3*10)/(365)) -> 0.02739726 | N9: Assumed 3 removal jobs in lifetime taking 10 days lasting 8 hrs/day | O9: =(8/24)*(10/(365)) -> 0.0091324201 | P9: Assumed 1 removal job in lifetime taking 10 days lasting 8 hrs/day | Q9: =H9*K9 -> 4.56621e-05 | R9: =I9*M9 -> 0.001369863 | S9: =J9*O9 -> 0.0001826484 | T9: =Q9*V$4 -> 5.0228311e-06 | U9: =R9*V$4 -> 0.00015068493 | V9: =S9*V$4 -> 2.0091324e-05 | W9: =Q9*Y$4 -> 4.4748858e-06 | X9: =R9*Y$4 -> 0.00013424658 | Y9: =S9*Y$4 -> 1.7899543e-05 | Z9: =Q9*AB$4 -> 1.0502283e-05 | AA9: =R9*AB$4 -> 0.00031506849 | AB9: =S9*AB$4 -> 4.2009132e-05 | AC9: 4.109589e-06 | AD9: 0.00012328767 | AE9: 1.6438356e-05 | AF9: 3.652968e-06 | AG9: 0.00010958904 | AH9: 1.4611872e-05 | AI9: 9.1324201e-06 | AJ9: 0.0002739726 | AK9: 3.652968e-05 | AL9: ü | AM9: ü | AN9: ü | AO9: ü | AP9: ü | AQ9: ü | AR9: ü | AS9: ü | AT9: ü
C10: Indoor, disturbance (sliding) of ceiling tiles | D10: 3520468 | E10: 2016 | F10: PCME (PCM and TEM) | G10: Medium | H10: ='ABS conc calculations'!H9 -> 0.0225 | I10: ='ABS conc calculations'!I9 -> 0.045 | J10: ='ABS conc calculations'!J9 -> 0.0225 | K10: =(0.5/24)*(1/365) -> 5.7077626e-05 | L10: Assumed 1 repair/year, taking 1 day, lasting 30 min/day | M10: =(3/24)*(1/365) -> 0.00034246575 | N10: Assumed 1 repair/year, taking 1 day, lasting 3 hr/day | O10: =(1/24)*(1/365) -> 0.00011415525 | P10: Assumed 1 repair/year, taking 1 day, lasting 1 hr/day | Q10: =H10*K10 -> 1.2842466e-06 | R10: =I10*M10 -> 1.5410959e-05 | S10: =J10*O10 -> 2.5684932e-06 | T10: =Q10*V$4 -> 1.4126712e-07 | U10: =R10*V$4 -> 1.6952055e-06 | V10: =S10*V$4 -> 2.8253425e-07 | W10: =Q10*Y$4 -> 1.2585616e-07 | X10: =R10*Y$4 -> 1.510274e-06 | Y10: =S10*Y$4 -> 2.5171233e-07 | Z10: =Q10*AB$4 -> 2.9537671e-07 | AA10: =R10*AB$4 -> 3.5445205e-06 | AB10: =S10*AB$4 -> 5.9075342e-07 | AC10: 1.1558219e-07 | AD10: 1.3869863e-06 | AE10: 2.3116438e-07 | AF10: 1.0273973e-07 | AG10: 1.2328767e-06 | AH10: 2.0547945e-07 | AI10: 2.5684932e-07 | AJ10: 3.0821918e-06 | AK10: 5.1369863e-07 | AL10: ü | AM10: ü | AN10: ü | AO10: ü | AP10: ü | AQ10: ü | AR10: ü | AS10: ü | AT10: ü
C11: Indoor, removal of ceiling tiles | D11: 28699 | E11: 1991 | F11: PCM and TEM | G11: Medium | H11: ='ABS conc calculations'!H10 -> 0.005 | I11: ='ABS conc calculations'!I10 -> 0.019 | J11: ='ABS conc calculations'!J10 -> 0.009 | K11: =(8/24)*(5/(365)) -> 0.00456621 | L11: Assumed 1 removal job in lifetime taking 5 days lasting 8 hrs/day | M11: =(8/24)*((3*10)/(365)) -> 0.02739726 | N11: Assumed 3 removal jobs in lifetime taking 10 days lasting 8 hrs/day | O11: =(8/24)*(10/(365)) -> 0.0091324201 | P11: Assumed 1 removal job in lifetime taking 10 days lasting 8 hrs/day | Q11: =H11*K11 -> 2.283105e-05 | R11: =I11*M11 -> 0.00052054795 | S11: =J11*O11 -> 8.2191781e-05 | T11: =Q11*V$4 -> 2.5114155e-06 | U11: =R11*V$4 -> 5.7260274e-05 | V11: =S11*V$4 -> 9.0410959e-06 | W11: =Q11*Y$4 -> 2.2374429e-06 | X11: =R11*Y$4 -> 5.1013699e-05 | Y11: =S11*Y$4 -> 8.0547945e-06 | Z11: =Q11*AB$4 -> 5.2511416e-06 | AA11: =R11*AB$4 -> 0.00011972603 | AB11: =S11*AB$4 -> 1.890411e-05 | AC11: 2.0547945e-06 | AD11: 4.6849315e-05 | AE11: 7.3972603e-06 | AF11: 1.826484e-06 | AG11: 4.1643836e-05 | AH11: 6.5753425e-06 | AI11: 4.56621e-06 | AJ11: 0.00010410959 | AK11: 1.6438356e-05 | AL11: ü | AM11: ü | AN11: ü | AO11: ü | AP11: ü | AQ11: ü | AR11: ü | AS11: ü | AT11: ü
C12: Indoor, maintenance (chemical stripping, polishing or buffing) of vinyl floor tiles | D12: 3582228 | E12: 1990 | F12: PCM and SEM | G12: Medium | H12: ='ABS conc calculations'!H11 -> NA | I12: ='ABS conc calculations'!I11 -> NA | J12: ='ABS conc calculations'!J11 -> NA | K12: =(0.5/24)*(1/365) -> 5.7077626e-05 | L12: Assumed 1 repair/year, taking 1 day, lasting 30 min/day | M12: =(3/24)*(1/365) -> 0.00034246575 | N12: Assumed 1 repair/year, taking 1 day, lasting 3 hr/day | O12: =(1/24)*(1/365) -> 0.00011415525 | P12: Assumed 1 repair/year, taking 1 day, lasting 1 hr/day | Q12: Below LOD | R12: Below LOD | S12: Below LOD | T12: Below LOD | U12: Below LOD | V12: Below LOD | W12: Below LOD | X12: Below LOD | Y12: Below LOD | Z12: Below LOD | AA12: Below LOD | AB12: Below LOD | AC12: Below LOD | AD12: Below LOD | AE12: Below LOD | AF12: Below LOD | AG12: Below LOD | AH12: Below LOD | AI12: Below LOD | AJ12: Below LOD | AK12: Below LOD | AL12: ü | AM12: ü | AN12: ü | AO12: ü | AP12: ü | AQ12: ü | AR12: ü | AS12: ü | AT12: ü
C13: Indoor, removal of vinyl floor tiles | D13: 3582228 | E13: 1990 | F13: PCM and SEM | G13: Medium | H13: ='ABS conc calculations'!H12 -> 0.0056 | I13: ='ABS conc calculations'!I12 -> 0.0056 | J13: ='ABS conc calculations'!J12 -> 0.0056 | K13: =(8/24)*(5/(365)) -> 0.00456621 | L13: Assumed 1 removal job in lifetime taking 5 days lasting 8 hrs/day | M13: =(8/24)*((3*10)/(365)) -> 0.02739726 | N13: Assumed 3 removal jobs in lifetime taking 10 days lasting 8 hrs/day | O13: =(8/24)*(10/(365)) -> 0.0091324201 | P13: Assumed 1 removal job in lifetime taking 10 days lasting 8 hrs/day | Q13: =H13*K13 -> 2.5570776e-05 | R13: =I13*M13 -> 0.00015342466 | S13: =J13*O13 -> 5.1141553e-05 | T13: =Q13*V$4 -> 2.8127854e-06 | U13: =R13*V$4 -> 1.6876712e-05 | V13: =S13*V$4 -> 5.6255708e-06 | W13: =Q13*Y$4 -> 2.5059361e-06 | X13: =R13*Y$4 -> 1.5035616e-05 | Y13: =S13*Y$4 -> 5.0118721e-06 | Z13: =Q13*AB$4 -> 5.8812785e-06 | AA13: =R13*AB$4 -> 3.5287671e-05 | AB13: =S13*AB$4 -> 1.1762557e-05 | AC13: 2.3013699e-06 | AD13: 1.3808219e-05 | AE13: 4.6027397e-06 | AF13: 2.0456621e-06 | AG13: 1.2273973e-05 | AH13: 4.0913242e-06 | AI13: 5.1141553e-06 | AJ13: 3.0684932e-05 | AK13: 1.0228311e-05 | AL13: ü | AM13: ü | AN13: ü | AO13: ü | AP13: ü | AQ13: ü | AR13: ü | AS13: ü | AT13: ü
C14: Indoor, disturbance/repair (cutting) of attic insulation. | D14: 758916 | E14: 2010 | F14: PCME (PCM and TEM) | G14: Medium | H14: ='ABS conc calculations'!H13 -> 1.16 | I14: ='ABS conc calculations'!I13 -> 1.16 | J14: ='ABS conc calculations'!J13 -> 1.16 | K14: =(0.5/24)*(1/365) -> 5.7077626e-05 | L14: Assumed 1 repair/year, taking 1 day, lasting 30 min/day | M14: =(3/24)*(1/365) -> 0.00034246575 | N14: Assumed 1 repair/year, taking 1 day, lasting 3 hr/day | O14: =(1/24)*(1/365) -> 0.00011415525 | P14: Assumed 1 repair/year, taking 1 day, lasting 1 hr/day | Q14: =H14*K14 -> 6.6210046e-05 | R14: =I14*M14 -> 0.00039726027 | S14: =J14*O14 -> 0.00013242009 | T14: =Q14*V$4 -> 7.283105e-06 | U14: =R14*V$4 -> 4.369863e-05 | V14: =S14*V$4 -> 1.456621e-05 | W14: =Q14*Y$4 -> 6.4885845e-06 | X14: =R14*Y$4 -> 3.8931507e-05 | Y14: =S14*Y$4 -> 1.2977169e-05 | Z14: =Q14*AB$4 -> 1.5228311e-05 | AA14: =R14*AB$4 -> 9.1369863e-05 | AB14: =S14*AB$4 -> 3.0456621e-05 | AC14: 5.9589041e-06 | AD14: 3.5753425e-05 | AE14: 1.1917808e-05 | AF14: 5.2968037e-06 | AG14: 3.1780822e-05 | AH14: 1.0593607e-05 | AI14: 1.3242009e-05 | AJ14: 7.9452055e-05 | AK14: 2.6484018e-05 | AL14: ü | AM14: ü | AN14: ü | AO14: ü | AP14: ü | AQ14: ü | AR14: ü | AS14: ü | AT14: ü
C15: Indoor, moving and removal (with vacuum) of attic insulation | D15: 758916 | E15: 2010 | F15: PCME (PCM and TEM) | G15: Medium | H15: ='ABS conc calculations'!H14 -> 0.97 | I15: ='ABS conc calculations'!I14 -> 9.27 | J15: ='ABS conc calculations'!J14 -> 5.12 | K15: =(8/24)*(5/(365)) -> 0.00456621 | L15: Assumed 1 removal job in lifetime taking 5 days lasting 8 hrs/day | M15: =(8/24)*((3*10)/(365)) -> 0.02739726 | N15: Assumed 3 removal jobs in lifetime taking 10 days lasting 8 hrs/day | O15: =(8/24)*(10/(365)) -> 0.0091324201 | P15: Assumed 1 removal job in lifetime taking 10 days lasting 8 hrs/day | Q15: =H15*K15 -> 0.0044292237 | R15: =I15*M15 -> 0.2539726 | S15: =J15*O15 -> 0.046757991 | T15: =Q15*V$4 -> 0.00048721461 | U15: =R15*V$4 -> 0.027936986 | V15: =S15*V$4 -> 0.005143379 | W15: =Q15*Y$4 -> 0.00043406393 | X15: =R15*Y$4 -> 0.024889315 | Y15: =S15*Y$4 -> 0.0045822831 | Z15: =Q15*AB$4 -> 0.0010187215 | AA15: =R15*AB$4 -> 0.058413699 | AB15: =S15*AB$4 -> 0.010754338 | AC15: 0.00039863014 | AD15: 0.022857534 | AE15: 0.0042082192 | AF15: 0.0003543379 | AG15: 0.020317808 | AH15: 0.0037406393 | AI15: 0.00088584475 | AJ15: 0.050794521 | AK15: 0.0093515982 | AL15: ü | AM15: ü | AN15: ü | AO15: ü | AP15: ü | AQ15: ü | AR15: ü | AS15: ü | AT15: ü
B16: Fillers and putties | C16: Indoor, disturbance (pole or hand sanding and cleaning) of spackle | D16: 3615573 | E16: 1979 | F16: PCM | G16: Medium | H16: ='ABS conc calculations'!H17 -> 1.25 | I16: ='ABS conc calculations'!I17 -> 25.866667 | J16: ='ABS conc calculations'!J17 -> 13.9 | K16: =(0.5/24)*(1/365) -> 5.7077626e-05 | L16: Assumed 1 repair/year, taking 1 day, lasting 30 min/day | M16: =(3/24)*(1/365) -> 0.00034246575 | N16: Assumed 1 repair/year, taking 1 day, lasting 3 hr/day | O16: =(1/24)*(1/365) -> 0.00011415525 | P16: Assumed 1 repair/year, taking 1 day, lasting 1 hr/day | Q16: =H16*K16 -> 7.1347032e-05 | R16: =I16*M16 -> 0.0088584475 | S16: =J16*O16 -> 0.001586758 | T16: =Q16*V$4 -> 7.8481735e-06 | U16: =R16*V$4 -> 0.00097442922 | V16: =S16*V$4 -> 0.00017454338 | W16: =Q16*Y$4 -> 6.9920091e-06 | X16: =R16*Y$4 -> 0.00086812785 | Y16: =S16*Y$4 -> 0.00015550228 | Z16: =Q16*AB$4 -> 1.6409817e-05 | AA16: =R16*AB$4 -> 0.0020374429 | AB16: =S16*AB$4 -> 0.00036495434 | AC16: 6.4212329e-06 | AD16: 0.00079726027 | AE16: 0.00014280822 | AF16: 5.7077626e-06 | AG16: 0.0007086758 | AH16: 0.00012694064 | AI16: 1.4269406e-05 | AJ16: 0.0017716895 | AK16: 0.0003173516 | AL16: ü | AM16: ü | AN16: ü | AO16: ü | AP16: ü | AQ16: ü | AR16: ü | AS16: ü | AT16: ü
C17: Indoor, disturbance (sanding and cleaning) of coatings, mastics and adhesives | D17: 3531298 | E17: 2004 | F17: PCME | G17: Medium | H17: ='ABS conc calculations'!H18 -> 0.023 | I17: ='ABS conc calculations'!I18 -> 0.04 | J17: ='ABS conc calculations'!J18 -> 0.023 | K17: =(0.5/24)*(1/365) -> 5.7077626e-05 | L17: Assumed 1 repair/year, taking 1 day, lasting 30 min/day | M17: =(3/24)*(1/365) -> 0.00034246575 | N17: Assumed 1 repair/year, taking 1 day, lasting 3 hr/day | O17: =(1/24)*(1/365) -> 0.00011415525 | P17: Assumed 1 repair/year, taking 1 day, lasting 1 hr/day | Q17: =H17*K17 -> 1.3127854e-06 | R17: =I17*M17 -> 1.369863e-05 | S17: =J17*O17 -> 2.6255708e-06 | T17: =Q17*V$4 -> 1.4440639e-07 | U17: =R17*V$4 -> 1.5068493e-06 | V17: =S17*V$4 -> 2.8881279e-07 | W17: =Q17*Y$4 -> 1.2865297e-07 | X17: =R17*Y$4 -> 1.3424658e-06 | Y17: =S17*Y$4 -> 2.5730594e-07 | Z17: =Q17*AB$4 -> 3.0194064e-07 | AA17: =R17*AB$4 -> 3.1506849e-06 | AB17: =S17*AB$4 -> 6.0388128e-07 | AC17: 1.1815068e-07 | AD17: 1.2328767e-06 | AE17: 2.3630137e-07 | AF17: 1.0502283e-07 | AG17: 1.0958904e-06 | AH17: 2.1004566e-07 | AI17: 2.6255708e-07 | AJ17: 2.739726e-06 | AK17: 5.2511416e-07 | AL17: ü | AM17: ü | AN17: ü | AO17: ü | AP17: ü | AQ17: ü | AR17: ü | AS17: ü | AT17: ü
C18: Indoor, removal of floor tile/mastic | D18: 2604770 | E18: 2000 | F18: PCM | G18: Medium | H18: ='ABS conc calculations'!H19 -> 0.005 | I18: ='ABS conc calculations'!I19 -> 0.01 | J18: ='ABS conc calculations'!J19 -> 0.005 | K18: =(8/24)*(5/(365)) -> 0.00456621 | L18: Assumed 1 removal job in lifetime taking 5 days lasting 8 hrs/day | M18: =(8/24)*((3*10)/(365)) -> 0.02739726 | N18: Assumed 3 removal jobs in lifetime taking 10 days lasting 8 hrs/day | O18: =(8/24)*(10/(365)) -> 0.0091324201 | P18: Assumed 1 removal job in lifetime taking 10 days lasting 8 hrs/day | Q18: =H18*K18 -> 2.283105e-05 | R18: =I18*M18 -> 0.0002739726 | S18: =J18*O18 -> 4.56621e-05 | T18: =Q18*V$4 -> 2.5114155e-06 | U18: =R18*V$4 -> 3.0136986e-05 | V18: =S18*V$4 -> 5.0228311e-06 | W18: =Q18*Y$4 -> 2.2374429e-06 | X18: =R18*Y$4 -> 2.6849315e-05 | Y18: =S18*Y$4 -> 4.4748858e-06 | Z18: =Q18*AB$4 -> 5.2511416e-06 | AA18: =R18*AB$4 -> 6.3013699e-05 | AB18: =S18*AB$4 -> 1.0502283e-05 | AC18: 2.0547945e-06 | AD18: 2.4657534e-05 | AE18: 4.109589e-06 | AF18: 1.826484e-06 | AG18: 2.1917808e-05 | AH18: 3.652968e-06 | AI18: 4.56621e-06 | AJ18: 5.4794521e-05 | AK18: 9.1324201e-06 | AL18: ü | AM18: ü | AN18: ü | AO18: ü | AP18: ü | AQ18: ü | AR18: ü | AS18: ü | AT18: ü
C19: Indoor, removal of window caulking | D19: 2604770 | E19: 2000 | F19: PCM | G19: Medium | H19: ='ABS conc calculations'!H20 -> 0.005 | I19: ='ABS conc calculations'!I20 -> 0.01 | J19: ='ABS conc calculations'!J20 -> 0.005 | K19: =(8/24)*(5/(365)) -> 0.00456621 | L19: Assumed 1 removal job in lifetime taking 5 days lasting 8 hrs/day | M19: =(8/24)*((3*10)/(365)) -> 0.02739726 | N19: Assumed 3 removal jobs in lifetime taking 10 days lasting 8 hrs/day | O19: =(8/24)*(10/(365)) -> 0.0091324201 | P19: Assumed 1 removal job in lifetime taking 10 days lasting 8 hrs/day | Q19: =H19*K19 -> 2.283105e-05 | R19: =I19*M19 -> 0.0002739726 | S19: =J19*O19 -> 4.56621e-05 | T19: =Q19*V$4 -> 2.5114155e-06 | U19: =R19*V$4 -> 3.0136986e-05 | V19: =S19*V$4 -> 5.0228311e-06 | W19: =Q19*Y$4 -> 2.2374429e-06 | X19: =R19*Y$4 -> 2.6849315e-05 | Y19: =S19*Y$4 -> 4.4748858e-06 | Z19: =Q19*AB$4 -> 5.2511416e-06 | AA19: =R19*AB$4 -> 6.3013699e-05 | AB19: =S19*AB$4 -> 1.0502283e-05 | AC19: 2.0547945e-06 | AD19: 2.4657534e-05 | AE19: 4.109589e-06 | AF19: 1.826484e-06 | AG19: 2.1917808e-05 | AH19: 3.652968e-06 | AI19: 4.56621e-06 | AJ19: 5.4794521e-05 | AK19: 9.1324201e-06 | AL19: ü | AM19: ü | AN19: ü | AO19: ü | AP19: ü | AQ19: ü | AR19: ü | AS19: ü | AT19: ü
A20: Chemical Substances in Furnishing, Cleaning, Treatment Care Products | B20: Construction and building materials covering large surface areas, including fabrics, textiles, and apparel | C20: Use of mittens for glass manufacturing, (proxy for oven mittens and potholders) | D20: 3079914 | E20: 2005 | F20: HSE method MDHS 39/4 UK | G20: Medium | H20: ='ABS conc calculations'!H23 -> 0.12 | I20: ='ABS conc calculations'!I23 -> 0.5304 | J20: ='ABS conc calculations'!J23 -> 0.29148571 | K20: =(1/24)*(52/365)*(2/62) -> 0.00019148623 | L20: Assumed BBQ mittens used more than other hobbies. People grill on average 1 hr/day, 1 day per week (52 days per year), using an ACM mitt for 2 years over their lifetime | M20: =(1/24)*(52/365)*(10/62) -> 0.00095743114 | N20: Assumed BBQ mittens used more than other hobbies. People grill on average 1 hr/day, 1 day per week (52 days per year), using an ACM mitt for 10 years over their lifetime | O20: =(1/24)*(52/365)*(5/62) -> 0.00047871557 | P20: Assumed BBQ mittens used more than other hobbies. People grill on average 1 hr/day, 1 day per week (52 days per year), using an ACM mitt for 5 years over their lifetime | Q20: =H20*K20 -> 2.2978347e-05 | R20: =I20*M20 -> 0.00050782148 | S20: =J20*O20 -> 0.00013953875 | T20: =Q20*V$4 -> 2.5276182e-06 | U20: =R20*V$4 -> 5.5860362e-05 | V20: =S20*V$4 -> 1.5349262e-05 | W20: =Q20*Y$4 -> 2.251878e-06 | X20: =R20*Y$4 -> 4.9766505e-05 | Y20: =S20*Y$4 -> 1.3674797e-05 | Z20: =Q20*AB$4 -> 5.2850199e-06 | AA20: =R20*AB$4 -> 0.00011679894 | AB20: =S20*AB$4 -> 3.2093912e-05 | AC20: 2.0680513e-06 | AD20: 4.5703933e-05 | AE20: 1.2558487e-05 | AF20: 1.8382678e-06 | AG20: 4.0625718e-05 | AH20: 1.11631e-05 | AI20: 4.5956695e-06 | AJ20: 0.0001015643 | AK20: 2.790775e-05 | AL20: ü | AM20: ü | AN20: ü | AO20: ü | AP20: ü | AQ20: ü | AR20: ü | AS20: ü | AT20: ü
Q21: =MAX(Q7:Q20) -> 0.0044292237 | R21: =MAX(R7:R20) -> 0.2539726 | S21: =MAX(S7:S20) -> 0.046757991
A22: Updated equation to use: | Q22: =MIN(Q7:Q20) -> 2.5342466e-07 | R22: =MIN(R7:R20) -> 3.3253425e-06 | S22: =MIN(S7:S20) -> 7.9223744e-07
A25: ELCR = Excess Lifetime Cancer Risk, the risk of developing cancer as a consequence of the site-related exposure
A26: EPC = Exposure Point Concentration, the concentration of asbestos fibers in air (f/cc) for the specific activity being assessed
A27: IUR LTL or Liftetime = Inhalation Unit Risk per (f/cc) Less than Lifetime or Lifetime
A28: TWF = Time Weighting Factor, this factor accounts for less-than-continous exposure during a one-year exposure
A33: Former Exposure Factors links and notes
A66: https://blog.nationwide.com/home/home-maintenance/when-to-replace-your-roof/
A117: https://madison.floorcoveringsinternational.com/articles/questions-to-ask-before-replacing-your-tile-floor/
A118: Ceramic Floor tile - 30 to 50 yrs
A119: https://vevano.com/blogs/flooring-resources/signs-to-replace-flooring
A120: Low quality tile 10 years, high quality tile 20 years
A164: https://jmroofsiding.com/blog/2018/01/24/often-need-replace-insulation-attic/
A165: https://www.atticsystems.com/about-attic-systems/news-and-events/39318-when-does-attic-insulation-need-to-be-replaced.html
A166: https://www.superiorattic.com/post/how-often-should-you-replace-your-attic-insulation

Sheet Bystander IUR Comp
D1: * EPC values are pulled from the "ABS conc calculations" tab | L1: * TWF values are based on assumptions as described in columns Y, AA, AB, where similar job types (e.g., "repair") were given consistent TWF. The assumptions take into account not only the frequency of a job type (e.g., "roof replacement") but also the number of times per lifetime that a given job will include asbestos materials (e.g., a roof may be replaced every 10 years, but only the first replacement job is likely to include legacy use asbestos; in contrast, repeat repair jobs are more likely to contain legacy asbestos each time). | U1: IUR value from the {U.S. EPA, 1988, 783514} | X1: IUR value from Part 2
A2: COU | B2: Subcategory | C2: Product and Activity-Based Scenario | D2: Exposure Point Concentration (EPC) Data From Systematic Review | L2: Time Weighting Factor (Lifetime Cancer) | R2: Exposure (Lifetime Cancer) | U2: Excess Lifteme Cancer Risk (risks > 1x10-6 are red and < 1x10-6 are green) | X2: Excess Lifteme Cancer Risk (risks > 1x10-6 are red and < 1x10-6 are green) | AA2: Comparison Matrix Results Red "x" are those that one ELCR result exceeds the benchmark while the other does not, check marks are both IUR ELCR estimates are either above or below the benchmark
U4: (0,78) | X4: (0,78)
U5: IUR Lifetime = | W5: 0.23 | X5: IUR Lifetime = | Z5: 0.2
D6: Source | E6: Year | F6: Method | G6: Rating | H6: Low End (f/cc) | I6: High End (f/cc) | J6: Center Tendency (f/cc) | K6: Concentration type | L6: Low End TWF | M6: Low End TWF Comment | N6: High End TWF | O6: High End TWF Comment | P6: Central Tendency TWF | Q6: Central Tendency TWF comment | R6: Low End (f/cc) | S6: High End (f/cc) | T6: Central Tendency (f/cc) | U6: Low End | V6: High End | W6: Central Tendency | X6: Low End | Y6: High End | Z6: Central Tendency | AA6: Low End | AB6: High End | AC6: Central Tendency
A7: Chemical Substances in Construction, Paint, Electrical, and Metal Products | B7: Construction and building materials covering large surface areas | C7: Outdoor, disturbance/repair (sanding or scraping) of roofing materials | D7: 3531219 | E7: 2005 | F7: PCME | G7: High | H7: ='ABS conc calculations'!K6 -> 0.00074 | I7: ='ABS conc calculations'!L6 -> 0.0016183333 | J7: ='ABS conc calculations'!M6 -> 0.0011566667 | K7: RF of 6 | L7: ='User Exposure'!L7 -> 5.7077626e-05 | M7: ='User Exposure'!M7 -> Assumed 1 repair/year, taking 1 day, lasting 30 min/day | N7: ='User Exposure'!N7 -> 0.00034246575 | O7: ='User Exposure'!O7 -> Assumed 1 repair/year, taking 1 day, lasting 3 hr/day | P7: ='User Exposure'!P7 -> 0.00011415525 | Q7: ='User Exposure'!Q7 -> Assumed 1 repair/year, taking 1 day, lasting 1 hr/day | R7: =H7*L7 -> 4.2237443e-08 | S7: =I7*N7 -> 5.5422374e-07 | T7: =J7*P7 -> 1.3203957e-07 | U7: =R7*W$5 -> 9.7146119e-09 | V7: =S7*W$5 -> 1.2747146e-07 | W7: =T7*W$5 -> 3.0369102e-08 | X7: 8.4474886e-09 | Y7: 1.1084475e-07 | Z7: 2.6407915e-08 | AA7: ü | AB7: ü | AC7: ü
C8: Outdoor, removal of roofing materials | D8: 2604770 | E8: 2000 | F8: PCM | G8: Medium | H8: ='ABS conc calculations'!K7 -> 0.005 | I8: ='ABS conc calculations'!L7 -> 0.01 | J8: ='ABS conc calculations'!M7 -> 0.005 | K8: Area data, ND scenario | L8: ='User Exposure'!L8 -> 0.00456621 | M8: ='User Exposure'!M8 -> Assumed 1 removal job in lifetime taking 5 days lasting 8 hrs/day | N8: ='User Exposure'!N8 -> 0.02739726 | O8: ='User Exposure'!O8 -> Assumed 3 removal jobs in lifetime taking 10 days lasting 8 hrs/day | P8: ='User Exposure'!P8 -> 0.0091324201 | Q8: ='User Exposure'!Q8 -> Assumed 1 removal job in lifetime taking 10 days lasting 8 hrs/day | R8: =H8*L8 -> 2.283105e-05 | S8: =I8*N8 -> 0.0002739726 | T8: =J8*P8 -> 4.56621e-05 | U8: =R8*W$5 -> 5.2511416e-06 | V8: =S8*W$5 -> 6.3013699e-05 | W8: =T8*W$5 -> 1.0502283e-05 | X8: 4.56621e-06 | Y8: 5.4794521e-05 | Z8: 9.1324201e-06 | AA8: ü | AB8: ü | AC8: ü
C9: Indoor, removal of plaster | D9: 2604770 | E9: 2000 | F9: PCM | G9: Medium | H9: ='ABS conc calculations'!K8 -> 0.005 | I9: ='ABS conc calculations'!L8 -> 0.01 | J9: ='ABS conc calculations'!M8 -> 0.005 | K9: Area data, ND scenario | L9: ='User Exposure'!L9 -> 0.00456621 | M9: ='User Exposure'!M9 -> Assumed 1 removal job in lifetime taking 5 days lasting 8 hrs/day | N9: ='User Exposure'!N9 -> 0.02739726 | O9: ='User Exposure'!O9 -> Assumed 3 removal jobs in lifetime taking 10 days lasting 8 hrs/day | P9: ='User Exposure'!P9 -> 0.0091324201 | Q9: ='User Exposure'!Q9 -> Assumed 1 removal job in lifetime taking 10 days lasting 8 hrs/day | R9: =H9*L9 -> 2.283105e-05 | S9: =I9*N9 -> 0.0002739726 | T9: =J9*P9 -> 4.56621e-05 | U9: =R9*W$5 -> 5.2511416e-06 | V9: =S9*W$5 -> 6.3013699e-05 | W9: =T9*W$5 -> 1.0502283e-05 | X9: 4.56621e-06 | Y9: 5.4794521e-05 | Z9: 9.1324201e-06 | AA9: ü | AB9: ü | AC9: ü
C10: Indoor, disturbance (sliding) of ceiling tiles | D10: 3520468 | E10: 2007 | F10: PCME | G10: Medium | H10: ='ABS conc calculations'!K9 -> 0.0225 | I10: ='ABS conc calculations'!L9 -> 0.045 | J10: ='ABS conc calculations'!M9 -> 0.0225 | K10: personal bystander data, ND scenario | L10: ='User Exposure'!L10 -> 5.7077626e-05 | M10: ='User Exposure'!M10 -> Assumed 1 repair/year, taking 1 day, lasting 30 min/day | N10: ='User Exposure'!N10 -> 0.00034246575 | O10: ='User Exposure'!O10 -> Assumed 1 repair/year, taking 1 day, lasting 3 hr/day | P10: ='User Exposure'!P10 -> 0.00011415525 | Q10: ='User Exposure'!Q10 -> Assumed 1 repair/year, taking 1 day, lasting 1 hr/day | R10: =H10*L10 -> 1.2842466e-06 | S10: =I10*N10 -> 1.5410959e-05 | T10: =J10*P10 -> 2.5684932e-06 | U10: =R10*W$5 -> 2.9537671e-07 | V10: =S10*W$5 -> 3.5445205e-06 | W10: =T10*W$5 -> 5.9075342e-07 | X10: 2.5684932e-07 | Y10: 3.0821918e-06 | Z10: 5.1369863e-07 | AA10: ü | AB10: ü | AC10: ü
C11: Indoor, removal of ceiling tiles | D11: 28699 | E11: 1991 | F11: PCM and TEM | G11: Medium | H11: ='ABS conc calculations'!K10 -> 0.00083333333 | I11: ='ABS conc calculations'!L10 -> 0.0031666667 | J11: ='ABS conc calculations'!M10 -> 0.0015 | K11: RF of 6 | L11: ='User Exposure'!L11 -> 0.00456621 | M11: ='User Exposure'!M11 -> Assumed 1 removal job in lifetime taking 5 days lasting 8 hrs/day | N11: ='User Exposure'!N11 -> 0.02739726 | O11: ='User Exposure'!O11 -> Assumed 3 removal jobs in lifetime taking 10 days lasting 8 hrs/day | P11: ='User Exposure'!P11 -> 0.0091324201 | Q11: ='User Exposure'!Q11 -> Assumed 1 removal job in lifetime taking 10 days lasting 8 hrs/day | R11: =H11*L11 -> 3.805175e-06 | S11: =I11*N11 -> 8.6757991e-05 | T11: =J11*P11 -> 1.369863e-05 | U11: =R11*W$5 -> 8.7519026e-07 | V11: =S11*W$5 -> 1.9954338e-05 | W11: =T11*W$5 -> 3.1506849e-06 | X11: 7.6103501e-07 | Y11: 1.7351598e-05 | Z11: 2.739726e-06 | AA11: ü | AB11: ü | AC11: ü
C12: Indoor, maintenance (chemical stripping, polishing or buffing) of vinyl floor tiles | D12: 3582228 | E12: 1991 | F12: SEM | G12: Medium | H12: ='ABS conc calculations'!K11 -> NA | I12: ='ABS conc calculations'!L11 -> NA | J12: ='ABS conc calculations'!M11 -> NA | K12: Area data | L12: ='User Exposure'!L12 -> 5.7077626e-05 | M12: ='User Exposure'!M12 -> Assumed 1 repair/year, taking 1 day, lasting 30 min/day | N12: ='User Exposure'!N12 -> 0.00034246575 | O12: ='User Exposure'!O12 -> Assumed 1 repair/year, taking 1 day, lasting 3 hr/day | P12: ='User Exposure'!P12 -> 0.00011415525 | Q12: ='User Exposure'!Q12 -> Assumed 1 repair/year, taking 1 day, lasting 1 hr/day | R12: Below LOD | S12: Below LOD | T12: Below LOD | U12: Below LOD | V12: Below LOD | W12: Below LOD | X12: Below LOD | Y12: Below LOD | Z12: Below LOD | AA12: ü | AB12: ü | AC12: ü
C13: Indoor, removal of vinyl floor tiles | D13: 3582228 | E13: 1991 | F13: SEM | G13: Medium | H13: ='ABS conc calculations'!K12 -> 0.0004 | I13: ='ABS conc calculations'!L12 -> 0.0004 | J13: ='ABS conc calculations'!M12 -> 0.0004 | K13: Area data | L13: ='User Exposure'!L13 -> 0.00456621 | M13: ='User Exposure'!M13 -> Assumed 1 removal job in lifetime taking 5 days lasting 8 hrs/day | N13: ='User Exposure'!N13 -> 0.02739726 | O13: ='User Exposure'!O13 -> Assumed 3 removal jobs in lifetime taking 10 days lasting 8 hrs/day | P13: ='User Exposure'!P13 -> 0.0091324201 | Q13: ='User Exposure'!Q13 -> Assumed 1 removal job in lifetime taking 10 days lasting 8 hrs/day | R13: =H13*L13 -> 1.826484e-06 | S13: =I13*N13 -> 1.0958904e-05 | T13: =J13*P13 -> 3.652968e-06 | U13: =R13*W$5 -> 4.2009132e-07 | V13: =S13*W$5 -> 2.5205479e-06 | W13: =T13*W$5 -> 8.4018265e-07 | X13: 3.652968e-07 | Y13: 2.1917808e-06 | Z13: 7.3059361e-07 | AA13: ü | AB13: ü | AC13: ü
C14: Indoor, disturbance/repair (cutting) of attic insulation. | D14: 758916 | E14: 2010 | F14: PCME (PCM and TEM) | G14: Medium | H14: ='ABS conc calculations'!K13 -> 0.49333333 | I14: ='ABS conc calculations'!L13 -> 0.49333333 | J14: ='ABS conc calculations'!M13 -> 0.49333333 | K14: Area data | L14: ='User Exposure'!L14 -> 5.7077626e-05 | M14: ='User Exposure'!M14 -> Assumed 1 repair/year, taking 1 day, lasting 30 min/day | N14: ='User Exposure'!N14 -> 0.00034246575 | O14: ='User Exposure'!O14 -> Assumed 1 repair/year, taking 1 day, lasting 3 hr/day | P14: ='User Exposure'!P14 -> 0.00011415525 | Q14: ='User Exposure'!Q14 -> Assumed 1 repair/year, taking 1 day, lasting 1 hr/day | R14: =H14*L14 -> 2.8158295e-05 | S14: =I14*N14 -> 0.00016894977 | T14: =J14*P14 -> 5.6316591e-05 | U14: =R14*W$5 -> 6.4764079e-06 | V14: =S14*W$5 -> 3.8858447e-05 | W14: =T14*W$5 -> 1.2952816e-05 | X14: 5.6316591e-06 | Y14: 3.3789954e-05 | Z14: 1.1263318e-05 | AA14: ü | AB14: ü | AC14: ü
C15: Indoor, moving and removal with vacuum of attic insulation | D15: 758916 | E15: 2010 | F15: PCME (PCM and TEM) | G15: Medium | H15: ='ABS conc calculations'!K14 -> 0.455 | I15: ='ABS conc calculations'!L14 -> 1.5433333 | J15: ='ABS conc calculations'!M14 -> 0.99916667 | K15: Area data | L15: ='User Exposure'!L15 -> 0.00456621 | M15: ='User Exposure'!M15 -> Assumed 1 removal job in lifetime taking 5 days lasting 8 hrs/day | N15: ='User Exposure'!N15 -> 0.02739726 | O15: ='User Exposure'!O15 -> Assumed 3 removal jobs in lifetime taking 10 days lasting 8 hrs/day | P15: ='User Exposure'!P15 -> 0.0091324201 | Q15: ='User Exposure'!Q15 -> Assumed 1 removal job in lifetime taking 10 days lasting 8 hrs/day | R15: =H15*L15 -> 0.0020776256 | S15: =I15*N15 -> 0.042283105 | T15: =J15*P15 -> 0.0091248097 | U15: =R15*W$5 -> 0.00047785388 | V15: =S15*W$5 -> 0.0097251142 | W15: =T15*W$5 -> 0.0020987062 | X15: 0.00041552511 | Y15: 0.008456621 | Z15: 0.0018249619 | AA15: ü | AB15: ü | AC15: ü
B16: Fillers and putties | C16: Indoor, disturbance (pole or hand sanding and cleaning) of spackle | D16: 3615573 | E16: 1979 | F16: PCM | G16: Medium | H16: ='ABS conc calculations'!K17 -> 1.95 | I16: ='ABS conc calculations'!L17 -> 9.55 | J16: ='ABS conc calculations'!M17 -> 5 | K16: Area data | L16: ='User Exposure'!L16 -> 5.7077626e-05 | M16: ='User Exposure'!M16 -> Assumed 1 repair/year, taking 1 day, lasting 30 min/day | N16: ='User Exposure'!N16 -> 0.00034246575 | O16: ='User Exposure'!O16 -> Assumed 1 repair/year, taking 1 day, lasting 3 hr/day | P16: ='User Exposure'!P16 -> 0.00011415525 | Q16: ='User Exposure'!Q16 -> Assumed 1 repair/year, taking 1 day, lasting 1 hr/day | R16: =H16*L16 -> 0.00011130137 | S16: =I16*N16 -> 0.0032705479 | T16: =J16*P16 -> 0.00057077626 | U16: =R16*W$5 -> 2.5599315e-05 | V16: =S16*W$5 -> 0.00075222603 | W16: =T16*W$5 -> 0.00013127854 | X16: 2.2260274e-05 | Y16: 0.00065410959 | Z16: 0.00011415525 | AA16: ü | AB16: ü | AC16: ü
C17: Indoor, disturbance (sanding and cleaning) of coatings, mastics and adhesives | D17: 3531298 | E17: 2004 | F17: PCME | G17: Medium | H17: ='ABS conc calculations'!K18 -> 0.003 | I17: ='ABS conc calculations'!L18 -> 0.008 | J17: ='ABS conc calculations'!M18 -> 0.003 | K17: Area data | L17: ='User Exposure'!L17 -> 5.7077626e-05 | M17: ='User Exposure'!M17 -> Assumed 1 repair/year, taking 1 day, lasting 30 min/day | N17: ='User Exposure'!N17 -> 0.00034246575 | O17: ='User Exposure'!O17 -> Assumed 1 repair/year, taking 1 day, lasting 3 hr/day | P17: ='User Exposure'!P17 -> 0.00011415525 | Q17: ='User Exposure'!Q17 -> Assumed 1 repair/year, taking 1 day, lasting 1 hr/day | R17: =H17*L17 -> 1.7123288e-07 | S17: =I17*N17 -> 2.739726e-06 | T17: =J17*P17 -> 3.4246575e-07 | U17: =R17*W$5 -> 3.9383562e-08 | V17: =S17*W$5 -> 6.3013699e-07 | W17: =T17*W$5 -> 7.8767123e-08 | X17: 3.4246575e-08 | Y17: 5.4794521e-07 | Z17: 6.8493151e-08 | AA17: ü | AB17: ü | AC17: ü
C18: Indoor, removal of floor tile/mastic | D18: 2604770 | E18: 2000 | F18: PCM | G18: Medium | H18: ='ABS conc calculations'!K19 -> 0.005 | I18: ='ABS conc calculations'!L19 -> 0.01 | J18: ='ABS conc calculations'!M19 -> 0.005 | K18: Area data | L18: ='User Exposure'!L18 -> 0.00456621 | M18: ='User Exposure'!M18 -> Assumed 1 removal job in lifetime taking 5 days lasting 8 hrs/day | N18: ='User Exposure'!N18 -> 0.02739726 | O18: ='User Exposure'!O18 -> Assumed 3 removal jobs in lifetime taking 10 days lasting 8 hrs/day | P18: ='User Exposure'!P18 -> 0.0091324201 | Q18: ='User Exposure'!Q18 -> Assumed 1 removal job in lifetime taking 10 days lasting 8 hrs/day | R18: =H18*L18 -> 2.283105e-05 | S18: =I18*N18 -> 0.0002739726 | T18: =J18*P18 -> 4.56621e-05 | U18: =R18*W$5 -> 5.2511416e-06 | V18: =S18*W$5 -> 6.3013699e-05 | W18: =T18*W$5 -> 1.0502283e-05 | X18: 4.56621e-06 | Y18: 5.4794521e-05 | Z18: 9.1324201e-06 | AA18: ü | AB18: ü | AC18: ü
C19: Indoor, removal of window caulking | D19: 2604770 | E19: 2000 | F19: PCM | G19: Medium | H19: ='ABS conc calculations'!K20 -> 0.005 | I19: ='ABS conc calculations'!L20 -> 0.01 | J19: ='ABS conc calculations'!M20 -> 0.005 | K19: Area data | L19: ='User Exposure'!L19 -> 0.00456621 | M19: ='User Exposure'!M19 -> Assumed 1 removal job in lifetime taking 5 days lasting 8 hrs/day | N19: ='User Exposure'!N19 -> 0.02739726 | O19: ='User Exposure'!O19 -> Assumed 3 removal jobs in lifetime taking 10 days lasting 8 hrs/day | P19: ='User Exposure'!P19 -> 0.0091324201 | Q19: ='User Exposure'!Q19 -> Assumed 1 removal job in lifetime taking 10 days lasting 8 hrs/day | R19: =H19*L19 -> 2.283105e-05 | S19: =I19*N19 -> 0.0002739726 | T19: =J19*P19 -> 4.56621e-05 | U19: =R19*W$5 -> 5.2511416e-06 | V19: =S19*W$5 -> 6.3013699e-05 | W19: =T19*W$5 -> 1.0502283e-05 | X19: 4.56621e-06 | Y19: 5.4794521e-05 | Z19: 9.1324201e-06 | AA19: ü | AB19: ü | AC19: ü
A20: Chemical Substances in Furnishing, Cleaning, Treatment Care Products | B20: Construction and building materials covering large surface areas, including fabrics, textiles, and apparel | C20: Use of mittens for glass manufacturing, (proxy for oven mittens and potholders) | D20: 3079914 | E20: 2005 | F20: HSE method MDHS 39/4 UK | G20: Medium | H20: ='ABS conc calculations'!K23 -> 0.02 | I20: ='ABS conc calculations'!L23 -> 0.0884 | J20: ='ABS conc calculations'!M23 -> 0.048580952 | K20: RF of 6 | L20: ='User Exposure'!L20 -> 0.00019148623 | M20: ='User Exposure'!M20 -> Assumed BBQ mittens used more than other hobbies. People grill on average 1 hr/day, 1 day per week (52 days per year), using an ACM mitt for 2 years over their lifetime | N20: ='User Exposure'!N20 -> 0.00095743114 | O20: ='User Exposure'!O20 -> Assumed BBQ mittens used more than other hobbies. People grill on average 1 hr/day, 1 day per week (52 days per year), using an ACM mitt for 10 years over their lifetime | P20: ='User Exposure'!P20 -> 0.00047871557 | Q20: ='User Exposure'!Q20 -> Assumed BBQ mittens used more than other hobbies. People grill on average 1 hr/day, 1 day per week (52 days per year), using an ACM mitt for 5 years over their lifetime | R20: =H20*L20 -> 3.8297246e-06 | S20: =I20*N20 -> 8.4636913e-05 | T20: =J20*P20 -> 2.3256458e-05 | U20: =R20*W$5 -> 8.8083665e-07 | V20: =S20*W$5 -> 1.946649e-05 | W20: =T20*W$5 -> 5.3489854e-06 | X20: 7.6594491e-07 | Y20: 1.6927383e-05 | Z20: 4.6512917e-06 | AA20: ü | AB20: ü | AC20: ü
A22: Updated equation to use:
A25: ELCR = Excess Lifetime Cancer Risk, the risk of developing cancer as a consequence of the site-related exposure
A26: EPC = Exposure Point Concentration, the concentration of asbestos fibers in air (f/cc) for the specific activity being assessed
A27: IUR LTL or Liftetime = Inhalation Unit Risk per (f/cc) Less than Lifetime or Lifetime
A28: TWF = Time Weighting Factor, this factor accounts for less-than-continous exposure during a one-year exposure
A33: Former Exposure Factors links and notes
A65: https://blog.nationwide.com/home/home-maintenance/when-to-replace-your-roof/
A116: https://madison.floorcoveringsinternational.com/articles/questions-to-ask-before-replacing-your-tile-floor/
A117: Floor tile - 30 to 50 yrs
A161: https://jmroofsiding.com/blog/2018/01/24/often-need-replace-insulation-attic/

Sheet Experimental Study Data
A1: Note: Yellow shaded rows show papers/data not applied to any scenario in final eval
A3: COU | B3: Subcategory | C3: Scenario | D3: Source | E3: Year | F3: Method | G3: Rating | H3: User | K3: Bystander | N3: Data Source Table or page # | O3: Selected Data extracted in SR? | P3: Note
H4: Mean (f/cc) | I4: Min (f/cc) | J4: Max (f/cc) | K4: Mean (f/cc) | L4: Min (f/cc) | M4: Max (f/cc)
A5: Chemical Substances in Construction, Paint, Electrical, and Metal Products | B5: Construction and building materials covering large surface areas: paper articles; metal articles; stone, plaster, cement, glass and ceramic articles | C5: Roofing felt, Shingles. Found German emissions from roof, Roofing material that has been in place for 20+ years | D5: 380 | E5: 1984-1986 | F5: TEM, SEM | G5: Low | H5: 0.37 | I5: 0.0001 | J5: 14
C6: US hand scraping of roofing materials (Coating and cement) | D6: 3531219 | E6: 2005 | F6: PCME | G6: High | H6: 0.0014 | I6: 0 | J6: 0.0055 | N6: Table 4 | O6: Yes
H7: 0.0014 | I7: 0 | J7: 0.006
H8: 0.0012 | I8: 0 | J8: 0.0023
H9: 0.018 | I9: 0.016 | J9: 0.02 | P9: in paper 0.02 is min and 0.016 is max, but this doesn’t make sense. Assume paper error and switched intentionally in spreadsheet
H10: 0.0073 | I10: 0.006 | J10: 0.0086
C11: US hand sanding of roofing materials (Coating and cement) | H11: 0.004 | I11: 0 | J11: 0.0076
H12: 0.0038 | I12: 0 | J12: 0.006
H13: 0.0049 | I13: 0.0048 | J13: 0.005
H14: 0.02 | I14: 0.012 | J14: 0.027
H15: 0.0074 | I15: 0.0056 | J15: 0.0091
C16: Ceiling tiles. Field tests, ceiling tiles being maintained, 30 min EL PCME (both worker and bystander | D16: 3520468 | E16: 2007 | F16: PCME | G16: Medium | H16: 0.045 | K16: 0.045 | N16: Table I | O16: Yes worker, No bystander (only 8 hr TWA extracted for bystander, 30 min value added here by hand)
C17: Ceiling tiles. Chamber test, Ceiling tiles being cut | H17: 0.02 | K17: 0.011 | N17: Table II | O17: Yes
C18: Ceiling tiles. Chamber test, Perimeter Ceiling tiles being cut | H18: 0.022 | K18: 0.044 | N18: Table II | O18: Yes
C19: Ceiling tiles. Chamber test, tiles being cut and installed, personal 8 hr TWA generalist and bystander | H19: 0.018 | K19: 0.019 | N19: Table I | O19: Yes
C20: Ceiling tiles. Installation of cables around tiles and insulation in school | D20: 3581248 | E20: 1991 | F20: TEM | G20: Medium | H20: 0.13
H21: 0.34
C22: Cement, corrugated cement, cement pipes and ducts (water, sewer, and air). Found data for asbestos fibers in drinking water in a 4-in pipe | D22: 6913073 | E22: 1976 | F22: TEM | G22: Low | H22: 0.475 | I22: 0.014 | J22: 1.95
C23: Cement, corrugated cement, cement pipes and ducts (water, sewer, and air). Found data for asbestos fibers in drinking water in a 6-in pipe | H23: 1.35 | I23: 0.36 | J23: 2.57
B24: Fillers and putties | C24: Disturbance using coatings, mastics and adhesives | D24: 3531298 | E24: 2004 | F24: PCME | G24: Medium | H24: 0.023 | I24: NA | J24: 0.04 | K24: 0.003 | L24: NA | M24: 0.008 | N24: Table 6 | O24: No (SR only extracted range on p 241)
A25: Chemical Substances in Furnishing, Cleaning, Treatment Care Products, Subcategory | B25: Construction and building materials covering large surface areas, including fabrics, textiles, and apparel | C25: Oven mittens, BBQ mittens, potholders. Found information on glass working while wearing mitts (range from abstract) | D25: 3079914 | E25: 2005 | F25: HSE method MDHS 39/4 UK | G25: Medium | H25: NA | I25: 0.06 | J25: 0.55 | N25: Figure 1 | O25: Yes
C26: Oven mittens, BBQ mittens, potholders. Rowing task (no ventilation) digitized | H26: 0.29148571 | I26: 0.12 | J26: 0.5304 | N26: Figure 1 | O26: Yes
C27: Oven mittens, BBQ mittens, potholders. Glass window repair task (no ventilation) digitized | H27: 0.398575 | I27: 0.28 | J27: 0.5027 | N27: Figure 1 | O27: Yes
C28: Oven mittens, BBQ mittens, potholders. Side seal task (no ventilation) digitized | H28: 0.447 | I28: 0.3492 | J28: 0.5508 | N28: Figure 1 | O28: Yes

Sheet Indoor Monitoring Study Data
A1: Note: Yellow shaded rows show papers/data not applied to any scenario in final eval. Gray shaded rows were used for scenarios in draft eval, but not final.
A3: COU | B3: Subcategory | C3: Proposed Scenario | D3: Data From Systematic Review and Statistics (data source = IndoorAir_Asbestos Spreadsheet) | K3: Data Source Table or page # | L3: Selected Data extracted in SR? | M3: Note
D4: Source | E4: Year | F4: Method | G4: Rating | H4: Low End (f/cc) | I4: High End (f/cc) | J4: Center Tendency (f/cc)
A5: Chemical Substances in Construction, Paint, Electrical, and Metal Products | B5: Construction and building materials covering large surface areas: paper articles; metal articles; stone, plaster, cement, glass and ceramic articles | C5: Cutting hole in attic insulation | D5: 758916 | E5: 2010 | F5: PCM | G5: Medium | J5: 1.16 | K5: Table 3 | L5: No (only Table 7 summary exracted)
C6: Removal/moving attic insulation, homeowner method (dry) | I6: 9.27 | K6: Table 5
C7: Removal attic insulation with vacuum | H7: 0.97 | K7: Table 6
C8: Bystander. Cutting hole in attic insulation (average of 3 area results) | J8: =AVERAGE(0.38, 0.54, 0.56) -> 0.49333333 | K8: Table 3
C9: Bystander. Moving attic insulation, homeowner method (dry) (Average of 3 area results) | I9: =AVERAGE(0.9, 1.47, 2.26) -> 1.5433333 | K9: Table 5
C10: Bystander. Removal attic insulation with vacuum (average of 4 area results) | H10: =AVERAGE(0.32,0.4,0.47,0.63) -> 0.455 | K10: Table 6
C11: Disturbance of asbestos insulation board in ceiling or other spaces particularly when there is forced recirculation of air as part of a warm water heating system, 2-hr sample. | D11: 3367384 | E11: 2015 | F11: TEM, 2-hr sample | G11: Medium | H11: 0.0003 | I11: 0.003725 | J11: 0.0011785714
C12: No disturbance of asbestos insulation board in ceiling or other spaces, 14-hr sample | D12: 3367384 | E12: 2015 | F12: TEM, 14-hr sample | G12: Medium | H12: 0.00014 | I12: 0.00042 | J12: 0.00028888889
C13: Bystander. Vermiculite attic insulation (VAI) and other commercial asbestos-containing materials (ACM) such as loose-fill insulation, pipe or duct installation, or in certain wall, ceiling, and siding materials. | D13: 2558642 | E13: 2012 | F13: TEM | G13: Medium | J13: 0.016
C14: Removal ceiling tiles in school | D14: 28699 | E14: 1991 | F14: TEM | G14: Medium | H14: 0.005 | I14: 0.019 | J14: 0.009 | K14: Table 1 | L14: Yes
C15: Bystander. Removal ceiling tiles in school | H15: =H14/10 -> 0.0005 | I15: =I14/10 -> 0.0019 | J15: =J14/10 -> 0.0009 | M15: gm | N15: gsd
C16: Disturbance of sprayed fireproofing materials with measured asbestos during woodworking personal air samples during renovation activity. | D16: 3582179 | E16: 1980 | F16: PCM | G16: Medium | H16: 0.05 | I16: =LOGINV(0.95,LN(M16),LN(N16)) -> 1.0014854 | J16: =M16 -> 0.13 | K16: Table V | L16: No (only Table III and IV data was extracted) | M16: 0.13 | N16: 3.46
C17: Disturbance of sprayed fireproofing materials with measured asbestos during electical work personal air samples during renovation activity. | H17: 0.05 | I17: =LOGINV(0.95,LN(M17),LN(N17)) -> 0.89434888 | J17: =M17 -> 0.13 | K17: Table V | L17: No (only Table III and IV data was extracted) | M17: 0.13 | N17: 3.23
C18: Disturbance of sprayed fireproofing materials with measured asbestos during sheet-metal modifications personal air samples during renovation activity. | H18: 0.05 | I18: =LOGINV(0.95,LN(M18),LN(N18)) -> 1.8963924 | J18: =M18 -> 0.19 | K18: Table V | L18: No (only Table III and IV data was extracted) | M18: 0.19 | N18: 4.05
C19: Disturbance of sprayed fireproofing materials with measured asbestos while painting personal air samples during renovation activity. | H19: 0.05 | I19: =LOGINV(0.95,LN(M19),LN(N19)) -> 0.3330458 | J19: =M19 -> 0.08 | K19: Table V | L19: No (only Table III and IV data was extracted) | M19: 0.08 | N19: 2.38
C20: Disturbance of sprayed fireproofing materials with measured asbestos while dry removal of asbestos material personal air samples during renovation activity. | H20: 0.1 | I20: =LOGINV(0.95,LN(M20),LN(N20)) -> 108.83184 | J20: =M20 -> 16.4 | K20: Table VI | L20: No (only Table III and IV data was extracted) | M20: 16.4 | N20: 3.16
C21: During floor tile installation, 80 min | D21: 3582228 | E21: 1991 | F21: SEM | G21: Medium | J21: 0.0018 | K21: Table 7 | L21: Yes
C22: Bystander. Static sampling, During floor tile installation, 80 min | J22: 0.0013
C23: During floor tile maintenance | J23: 0 | K23: Table 5 | L23: No
C24: Bystander. Floor tile maintenance, indoor background | J24: 0
C25: During floor tile cold removal, 1 hr | J25: 0.0056 | K25: Table 6 | L25: Yes
C26: Bystander. Static sampling, During floor tile hot and removal, 1 hr | J26: 0.0004
B27: Fillers and putties | C27: Pole Sanding of asbestos containing material | D27: 3615573 | E27: 1979 | F27: PCM, 1-hr sample | G27: Medium | H27: 1.2 | I27: 19.3 | J27: 10 | K27: Table 2 | L27: Yes
C28: Bystander. Pole Sanding of asbestos containing material, same room | H28: 3.5 | I28: 19.8 | J28: 8.6
C29: Bystander. Pole Sanding of asbestos containing material, adjacent room | H29: 0.7 | I29: 8.8 | J29: 4.8
C30: Hand Sanding of asbestos containing material | H30: 1.3 | I30: 16.9 | J30: 5.3
C31: Bystander. Hand Sanding of asbestos containing material, same room | H31: 2.1 | I31: 2.5 | J31: 2.3
C32: Bystander. Hand Sanding of asbestos containing material, adjacent room | H32: 1.5 | I32: 7.1 | J32: 4.3
C33: Cleaning After sanding and mixing dry spackle with water, 15 minutes after sweeping within 10-50 feet | I33: 41.4 | J33: 26.4
C34: Dry mixing of asbestos containing material, spackle with water | H34: 35.4 | I34: 59 | J34: 47.2 | M34: dry mixing not considered (related to install, improbable)
C35: Bystander. Dry mixing of asbestos containing material, spackle with water, same room | H35: 0.5 | I35: 13.1 | J35: 5.8
C36: Bystander. Dry mixing of asbestos containing material, spackle with water, adjacent room | H36: 2.1 | I36: 3.1 | J36: 2.6
B37: Solvent-based/water-based paint | C37: Bystander. Indoor fibers released from coatings and textured paints deterioration after years of product in-place during quiet hours and low foot traffic | D37: 180 | E37: 1977 | F37: PCM | G37: Low | J37: 0.02 | M37: scenario not a task-based activity applicable to DIYer
C38: Indoor fibers released from coatings and textured paints deterioration after years of product in-place during high-foot traffic, accidental and intentional contact | D38: 180 | E38: 1977 | F38: PCM | G38: Low | J38: 0.2
C39: Indoor fibers released from coatings and textured paints deterioration after years of product in-place during cleaning and dusting | D39: 180 | E39: 1977 | F39: PCM | G39: Low | H39: 1.6 | I39: 4 | J39: 2.8
A40: Chemical Substances in Automotive, Fuel, Agriculture, Outdoor Use Products COU | B40: Lawn and Garden Care Products | C40: Indoor personal breathing zone asbestos-containing vermiculite soil treatment, | D40: 783704 | E40: 2000 | F40: PCM | G40: High | J40: 0.043 | K40: Table 6 | M40: vermiculite not assessed. Results here are PCM (Table 6). TEM was mostly ND
C41: Indoor personal breathing zone asbestos-containing vermiculite soil treatment, | D41: 783704 | E41: 2000 | F41: PCM | G41: High | H41: 0.122 | I41: 0.371 | J41: =AVERAGE(H41:I41) -> 0.2465 | K41: Table 6
C42: Indoor personal breathing zone asbestos-containing vermiculite soil treatment, | D42: 783704 | E42: 2000 | F42: PCM | G42: High | H42: 0.344 | I42: 0.482 | J42: =AVERAGE(H42:I42) -> 0.413 | K42: Table 6
C43: Indoor personal breathing zone asbestos-containing vermiculite soil treatment, | D43: 783704 | E43: 2000 | F43: PCM | G43: High | H43: 0.047 | I43: 0.074 | J43: =AVERAGE(H43:I43) -> 0.0605 | K43: Table 6
C44: Bystander. Indoor asbestos-containing vermiculite soil treatment, | D44: 783704 | E44: 2000 | F44: PCM | G44: High | H44: 0.008 | I44: 0.015 | J44: =AVERAGE(H44:I44) -> 0.0115 | K44: Table 6
C45: Bystander. Indoor asbestos-containing vermiculite soil treatment, | D45: 783704 | E45: 2000 | F45: PCM | G45: High | H45: 0.027 | I45: 0.047 | J45: =AVERAGE(H45:I45) -> 0.037 | K45: Table 6
C46: Bystander. Indoor asbestos-containing vermiculite soil treatment, | D46: 783704 | E46: 2000 | F46: PCM | G46: High | H46: 0.01 | I46: 0.108 | J46: =AVERAGE(H46:I46) -> 0.059 | K46: Table 6
C47: Bystander. Indoor asbestos-containing vermiculite soil treatment | D47: 783704 | E47: 2000 | F47: PCM | G47: High | H47: 0.017 | I47: 0.02 | J47: =AVERAGE(H47:I47) -> 0.0185 | K47: Table 6

Sheet Outdoor Monitoring Study Data
A1: Note: Yellow shaded rows show papers/data not applied to any scenario in final eval. Gray shaded rows were used for scenarios in draft eval, but not final.
A3: COU | B3: Subcategory | C3: Proposed Scenario | D3: Data From Systematic Review and Statistics | K3: Data Source Table or page # | L3: Selected Data extracted in SR? | M3: Notes
D4: Source | E4: Year | F4: Method | G4: Rating | H4: Low End (f/cc) | I4: High End (f/cc) | J4: Center Tendency (f/cc)
A5: Chemical Substances in Construction, Paint, Electrical, and Metal Products | B5: Fillers and putties | C5: Personal breathing zone. Outdoor removal of building materials, floor tile/mastic | D5: 2604770 | E5: 2000 | F5: PCM | G5: Medium | I5: 0.01 | K5: Table 1 | L5: No (only perimeter data extracted, personal data not extracted and added here by hand) | M5: paper reports <0.01-<0.02; Though SR uses "ambient air" matrix, unclear if accurate since this is abatement and tasks are done inside containment
C6: Personal breathing zone. Outdoor removal of building materials, roofing | E6: 2000 | F6: PCM | G6: Medium | I6: 0.01 | M6: paper reports <0.01.
C7: Personal breathing zone. Outdoor removal of building materials, window caulking | E7: 2000 | F7: PCM | G7: Medium | I7: 0.01 | M7: paper reports <0.01.
C8: Personal breathing zone. Outdoor removal of building materials, plaster | E8: 2000 | F8: PCM | G8: Medium | H8: 0.01 | I8: 0.05 | J8: 0.02 | M8: range is <0.01-0.05. Mean is 0.02
C9: Bystander. Perimeter samples. Outdoor removal of building materials, floor tile/mastic | E9: 2000 | F9: PCM | G9: Medium | I9: 0.01 | L9: Yes (perimeter data extracted) | M9: 2 ranges <0.01-<0.03 and <0.01-<0.02. Used low LOD for CT and average of high LOD for HE
C10: Bystander. Perimeter samples. Outdoor removal of building materials, roofing | E10: 2000 | F10: PCM | G10: Medium | I10: 0.01 | M10: range <0.01-<0.02
C11: Bystander. Perimeter samples. Outdoor removal of building materials, window caulking | E11: 2000 | F11: PCM | G11: Medium | I11: 0.01 | M11: range <0.01-<0.02
C12: Bystander. Perimeter samples. Outdoor removal of building materials, plaster | E12: 2000 | F12: PCM | G12: Medium | I12: 0.01 | M12: range <0.01-<0.02
A13: Chemical Substances in Automotive, Fuel, Agriculture, Outdoor Use Products COU | B13: Lawn and Garden Care Products | C13: Bystander. Outdoors asbestos-containing vermiculite soil treatment | D13: 783704 | E13: 2000 | F13: PCM | G13: High | H13: 0.011 | I13: 0.0095714286 | J13: 0.01 | M13: vermiculite not assessed
