Workbook

Sheet Instructions
A2: United States
A3: Environmental Protection Agency
A4: Office of Air and Radiation, Office of Transportation and Air Quality
A6: Manufacturer Averaging, Banking, and Trading Report for Locomotives
A7: Last Revision: November 2024 Version 24
A9: Manufacturer Data Submission Template -- INSTRUCTIONS
B128: Paperwork Reduction Act Notice
B129: The public reporting and recordkeeping burden for this collection of information is estimated to average 30 hours per response. Send comments on the Agency's need for this information, the accuracy of the provided burden estimates, and any suggested methods for minimizing respondent burden, including through the use of automated collection techniques to the Director, Collection Strategies Division, U.S. Environmental Protection Agency (2822T), 1200 Pennsylvania Ave., NW, Washington, D.C. 20460. Include the OMB control number in any correspondence. Do not send the completed form to this address.

Sheet Current MY Credit Calc
B2: United States
B3: Environmental Protection Agency
B4: Office of Air and Radiation, Office of Transportation and Air Quality
B6: Manufacturer Averaging, Banking, and Trading Report for Locomotives
B7: Last Revision: November 2024 Version 24
B9: Current MY Emission Credits | N9: Submission Date:
B11: MODEL YEAR: | E11: Total Tier 4 Production Volume:
B12: Manufacturer: | U12: Error? | V12: Entered all values? | W12: Model Year and Tier Check (Tier 3 and 4) | X12: Model Year and Tier Check (Tier 2) | Y12: Category | Z12: Standards | AC12: FEL Cap* | AE12: FEL exceeds cap? | AF12: Eng.Fam Info Match | AG12: Notes | AH12: Notes(2) | AI12: Notes Final | AJ12: Credit Summary Calculation | AV12: Tier 4: All loc. | AX12: Nox Credits: Fresh. Man | AZ12: Part 1033 engine families using credits | BE12: Error 1 | BF12: Error 2 | BG12: Error Final
B14: Engine Family | C14: Applicable 40 CFR Part | D14: Remanufactured? (Yes/No) | E14: Age | F14: Pollutant | G14: Tier | H14: Engine Class Type | I14: Power Rating (hp)1 | J14: Useful Life (MW-hrs) | K14: Partial Useful Life (Yes/No) | L14: Production | M14: FEL (g/bhp-hr) | N14: Proration Factor (Fp)2 | O14: Standard (g/bhp-hr) | P14: Credit Balance (Mg) | Q14: Messages | R14: Comments | Z14: Alternate Standards | AA14: Part 1033 | AB14: Part 92 | AC14: Part 1033 | AD14: Part 92 | AJ14: 0 | AK14: 1 | AL14: 2 | AM14: 3 | AN14: 4 | AO14: Part 92 | AP14: Part 1033 | AQ14: line haul | AR14: switch | AS14: PM | AT14: NOx | AU14: HC+NOx | AV14: # Using Credits | AW14: Production | AX14: # Using Nox Credits | AY14: Total Nox Production | AZ14: Credit Balance | BA14: Using | BB14: Generating | BC14: Matching Array Pos | BD14: Error?
D15: =IF(ISBLANK(B15),"",(IF(MID(B15,5,1)="G","No",IF(MID(B15,5,1)="K","Yes","N/A")))) | N15: =IF(D15="No",1,(IF(AND(C15="Part 1033",D15="Yes",H15="Line-Haul"),IF(E15>=20,0.27,(VLOOKUP(E15,'Proration Factors'!$E$14:$F$33,2,FALSE))),(IF(AND(C15="Part 1033",D15="Yes",H15="Switch"),IF(E15>=40,0.2,(VLOOKUP(E15,'Proration Factors'!$H$14:$I$53,2,FALSE))),(IF(AND(C15="Part 92",D15="Yes"),IF(E15>=32,0.143,(VLOOKUP(E15,'Proration Factors'!$B$14:$C$45,2,FALSE))),""))))))) | O15: =IF(Z15<>"",Z15,IF(AA15<>"",AA15,IF(AB15<>"",AB15,""))) | P15: =IF(D15="N/A","",(IF(AND(U15=0,V15=1),(O15-M15)*1.341*J15*L15*N15*10^-3,""))) | Q15: =IF(BG15<>"",BG15,AI15) | U15: =IF(OR(Q15=$B$380,Q15=$B$381,Q15=$B$382,Q15=$B$383,Q15=$B$384,Q15=$B$385,Q15=$B$386),1,0) -> 0 | V15: =IF(NOT(OR(ISBLANK($C$11), ISBLANK(B15),ISBLANK(C15),ISBLANK(D15),ISBLANK(F15),ISBLANK(G15),ISBLANK(H15),ISBLANK(I15),ISBLANK(J15),ISBLANK(N15),ISBLANK(L15), ISBLANK(M15))),1,0) -> 0 | W15: =IF(ISBLANK(G15),0,IF(AND($C$11>2014,D15=$C$375,G15<>$E$378),1,IF(AND(G15<>$E$377,D15=$C$375,$C$11<2015,OR(AND(H15=$F$377,$C$11>2011),AND(H15=$F$378,$C$11>2010))),1,0))) -> 0 | X15: =IF(AND(G15<>$E$376,D15=$C$375,C15=$B$374,$C$11>2005,OR(AND(H15=$F$377,$C$11<2012),AND(H15=$F$378,$C$11<2011))),1,IF(AND(G15=$E$376,D15=$C$375,C15<>$B$374,$C$11>2005,OR(AND(H15=$F$377,$C$11<2012),AND(H15=$F$378,$C$11<2011))),1,0)) -> 0 | Y15: =G15&F15&H15 | Z15: =IF(AND(C15=$B$375,D15=$C$374,G15=$E$376,F15=$D$375,$C$11<2013,H15=$F$377),0.2,IF(AND(C15=$B$375,F15=$D$375,G15=$E$376,H15=$F$378,$C$11<2013),0.24,"")) | AA15: =IF(AND(V15<>0,C15=$B$375,Z15=""),IF(VLOOKUP(Y15,$U$319:$AC$353,5,FALSE)<>0,VLOOKUP(Y15,$U$319:$AC$353,5,FALSE),""),"") | AB15: =IF(AND(V15<>0,C15=$B$374,Z15=""),IF(VLOOKUP(Y15,$U$319:$AC$353,7,FALSE)<>0,VLOOKUP(Y15,$U$319:$AC$353,7,FALSE),""),"") | AC15: =IF(AND(V15<>0,C15=$B$375),VLOOKUP(Y15,$U$319:$AC$353,6,FALSE),"") | AD15: =IF(AND(V15<>0,C15=$B$374),VLOOKUP(Y15,$U$319:$AC$353,8,FALSE),"") | AE15: =IF(AND(AC15="",AD15=""),"",IF(OR(AC15=0,AD15=0),0,IF(OR(M15>AC15,M15>AD15),1,0))) | AF15: =IF(B15=B14,(IF(AND(C15=C14,D15=D14,I15=I14,L15=L14),0,1)),0) -> 0 | AG15: =IF(C15=$B$374,IF(H15=$F$377,$B$395,$B$394),IF(AND(H15=$F$378,G15=$E$375),$B$393,IF(AND(H15=$F$378,G15=$E$376),$B$392,""))) | AH15: =IF(AND(C15=$B$375,H15=$F$377), IF(G15=$E$374,$B$391,IF(G15=$E$375,$B$390,IF(G15=$E$376,$B$389,IF(G15=$E$377,$B$388,"")))),"") | AI15: =IF(AG15<>"",AG15,AH15) | AJ15: =IF(G15=$E$374,1,0) -> 0 | AK15: =IF(G15=$E$375,1,0) -> 0 | AL15: =IF(G15=$E$376,1,0) -> 0 | AM15: =IF(G15=$E$377,1,0) -> 0 | AN15: =IF(G15=$E$378,1,0) -> 0 | AO15: =IF(C15=$B$374,1,0) -> 0 | AP15: =IF(C15=$B$375,1,0) -> 0 | AQ15: =IF(H15=$F$377,1,0) -> 0 | AR15: =IF(H15=$F$378,1,0) -> 0 | AS15: =IF(F15=$D$375,1,0) -> 0 | AT15: =IF(F15=$D$374,1,0) -> 0 | AU15: =IF(F15=$D$376,1,0) -> 0 | AV15: =IF(AND(G15=$E$378,P15<0),L15,0) -> 0 | AW15: =IF(AND(P15<>"",G15=$E$378),L15,0) -> 0 | AX15: =IF(AND(D15=$C$375,F15=$D$374,C15=$B$374,P15<0,P15<>""),L15,"") | AY15: =IF(AND(D15=$C$375,C15=$B$374,F15=$D$374,P15<>""),L15,"") | AZ15: =IF(AND(V15=1,C15=$B$375,O15<>""),(O15-M15)*1.341*J15*L15*N15*10^-3,"") | BA15: =IF(AND(AZ15<>"",AZ15<0),B15,"") | BB15: =IF(AND(AZ15<>"",AZ15>0),B15,IF(BA15<>"","Using","")) | BC15: =IF(AND(V15=1,AZ15<>0, AZ15<>""),MATCH(BB15,$BA$14:$BA$315,0),0) -> 0 | BD15: =IF(ISERROR(BC15),0,IF(BC15>1,1,"")) | BE15: =IF(AND(F15=$D$376,OR(G15<>$E$378,C15<>$B$375)),$B$381,IF(AND(C15=$B$374,OR(G15=$E$377,G15=$E$378)),$B$385,IF(AE15=1,$B$382,IF(BD15=1,$B$386,"")))) | BF15: =IF(AND(D15=$C$375,N15<>"",N15<1),$B$380,IF(F398=0,"",IF(AF15=1,$B$383,IF(OR(W15=1,X15=1),$B$387,"")))) | BG15: =IF(BE15<>"",BE15,BF15)
D16: =IF(ISBLANK(B16),"",(IF(MID(B16,5,1)="G","No",IF(MID(B16,5,1)="K","Yes","N/A")))) | N16: =IF(D16="No",1,(IF(AND(C16="Part 1033",D16="Yes",H16="Line-Haul"),IF(E16>=20,0.27,(VLOOKUP(E16,'Proration Factors'!$E$14:$F$33,2,FALSE))),(IF(AND(C16="Part 1033",D16="Yes",H16="Switch"),IF(E16>=40,0.2,(VLOOKUP(E16,'Proration Factors'!$H$14:$I$53,2,FALSE))),(IF(AND(C16="Part 92",D16="Yes"),IF(E16>=32,0.143,(VLOOKUP(E16,'Proration Factors'!$B$14:$C$45,2,FALSE))),""))))))) | O16: =IF(Z16<>"",Z16,IF(AA16<>"",AA16,IF(AB16<>"",AB16,""))) | P16: =IF(D16="N/A","",(IF(AND(U16=0,V16=1),(O16-M16)*1.341*J16*L16*N16*10^-3,""))) | Q16: =IF(BG16<>"",BG16,AI16) | U16: =IF(OR(Q16=$B$380,Q16=$B$381,Q16=$B$382,Q16=$B$383,Q16=$B$384,Q16=$B$385,Q16=$B$386),1,0) -> 0 | V16: =IF(NOT(OR(ISBLANK($C$11), ISBLANK(B16),ISBLANK(C16),ISBLANK(D16),ISBLANK(F16),ISBLANK(G16),ISBLANK(H16),ISBLANK(I16),ISBLANK(J16),ISBLANK(N16),ISBLANK(L16), ISBLANK(M16))),1,0) -> 0 | W16: =IF(ISBLANK(G16),0,IF(AND($C$11>2014,D16=$C$375,G16<>$E$378),1,IF(AND(G16<>$E$377,D16=$C$375,$C$11<2015,OR(AND(H16=$F$377,$C$11>2011),AND(H16=$F$378,$C$11>2010))),1,0))) -> 0 | X16: =IF(AND(G16<>$E$376,D16=$C$375,C16=$B$374,$C$11>2005,OR(AND(H16=$F$377,$C$11<2012),AND(H16=$F$378,$C$11<2011))),1,IF(AND(G16=$E$376,D16=$C$375,C16<>$B$374,$C$11>2005,OR(AND(H16=$F$377,$C$11<2012),AND(H16=$F$378,$C$11<2011))),1,0)) -> 0 | Y16: =G16&F16&H16 | Z16: =IF(AND(C16=$B$375,D16=$C$374,G16=$E$376,F16=$D$375,$C$11<2013,H16=$F$377),0.2,IF(AND(C16=$B$375,F16=$D$375,G16=$E$376,H16=$F$378,$C$11<2013),0.24,"")) | AA16: =IF(AND(V16<>0,C16=$B$375,Z16=""),IF(VLOOKUP(Y16,$U$319:$AC$353,5,FALSE)<>0,VLOOKUP(Y16,$U$319:$AC$353,5,FALSE),""),"") | AB16: =IF(AND(V16<>0,C16=$B$374,Z16=""),IF(VLOOKUP(Y16,$U$319:$AC$353,7,FALSE)<>0,VLOOKUP(Y16,$U$319:$AC$353,7,FALSE),""),"") | AC16: =IF(AND(V16<>0,C16=$B$375),VLOOKUP(Y16,$U$319:$AC$353,6,FALSE),"") | AD16: =IF(AND(V16<>0,C16=$B$374),VLOOKUP(Y16,$U$319:$AC$353,8,FALSE),"") | AE16: =IF(AND(AC16="",AD16=""),"",IF(OR(AC16=0,AD16=0),0,IF(OR(M16>AC16,M16>AD16),1,0))) | AF16: =IF(B16=B15,(IF(AND(C16=C15,D16=D15,I16=I15,L16=L15),0,1)),0) -> 0 | AG16: =IF(C16=$B$374,IF(H16=$F$377,$B$395,$B$394),IF(AND(H16=$F$378,G16=$E$375),$B$393,IF(AND(H16=$F$378,G16=$E$376),$B$392,""))) | AH16: =IF(AND(C16=$B$375,H16=$F$377), IF(G16=$E$374,$B$391,IF(G16=$E$375,$B$390,IF(G16=$E$376,$B$389,IF(G16=$E$377,$B$388,"")))),"") | AI16: =IF(AG16<>"",AG16,AH16) | AJ16: =IF(G16=$E$374,1,0) -> 0 | AK16: =IF(G16=$E$375,1,0) -> 0 | AL16: =IF(G16=$E$376,1,0) -> 0 | AM16: =IF(G16=$E$377,1,0) -> 0 | AN16: =IF(G16=$E$378,1,0) -> 0 | AO16: =IF(C16=$B$374,1,0) -> 0 | AP16: =IF(C16=$B$375,1,0) -> 0 | AQ16: =IF(H16=$F$377,1,0) -> 0 | AR16: =IF(H16=$F$378,1,0) -> 0 | AS16: =IF(F16=$D$375,1,0) -> 0 | AT16: =IF(F16=$D$374,1,0) -> 0 | AU16: =IF(F16=$D$376,1,0) -> 0 | AV16: =IF(AND(G16=$E$378,P16<0),L16,0) -> 0 | AW16: =IF(AND(P16<>"",G16=$E$378),L16,0) -> 0 | AX16: =IF(AND(D16=$C$375,F16=$D$374,C16=$B$374,P16<0,P16<>""),L16,"") | AY16: =IF(AND(D16=$C$375,C16=$B$374,F16=$D$374,P16<>""),L16,"") | AZ16: =IF(AND(V16=1,C16=$B$375,O16<>""),(O16-M16)*1.341*J16*L16*N16*10^-3,"") | BA16: =IF(AND(AZ16<>"",AZ16<0),B16,"") | BB16: =IF(AND(AZ16<>"",AZ16>0),B16,IF(BA16<>"","Using","")) | BC16: =IF(AND(V16=1,AZ16<>0, AZ16<>""),MATCH(BB16,$BA$14:$BA$315,0),0) -> 0 | BD16: =IF(ISERROR(BC16),0,IF(BC16>1,1,"")) | BE16: =IF(AND(F16=$D$376,OR(G16<>$E$378,C16<>$B$375)),$B$381,IF(AND(C16=$B$374,OR(G16=$E$377,G16=$E$378)),$B$385,IF(AE16=1,$B$382,IF(BD16=1,$B$386,"")))) | BF16: =IF(AND(D16=$C$375,N16<>"",N16<1),$B$380,IF(F399=0,"",IF(AF16=1,$B$383,IF(OR(W16=1,X16=1),$B$387,"")))) | BG16: =IF(BE16<>"",BE16,BF16)
D17: =IF(ISBLANK(B17),"",(IF(MID(B17,5,1)="G","No",IF(MID(B17,5,1)="K","Yes","N/A")))) | N17: =IF(D17="No",1,(IF(AND(C17="Part 1033",D17="Yes",H17="Line-Haul"),IF(E17>=20,0.27,(VLOOKUP(E17,'Proration Factors'!$E$14:$F$33,2,FALSE))),(IF(AND(C17="Part 1033",D17="Yes",H17="Switch"),IF(E17>=40,0.2,(VLOOKUP(E17,'Proration Factors'!$H$14:$I$53,2,FALSE))),(IF(AND(C17="Part 92",D17="Yes"),IF(E17>=32,0.143,(VLOOKUP(E17,'Proration Factors'!$B$14:$C$45,2,FALSE))),""))))))) | O17: =IF(Z17<>"",Z17,IF(AA17<>"",AA17,IF(AB17<>"",AB17,""))) | P17: =IF(D17="N/A","",(IF(AND(U17=0,V17=1),(O17-M17)*1.341*J17*L17*N17*10^-3,""))) | Q17: =IF(BG17<>"",BG17,AI17) | U17: =IF(OR(Q17=$B$380,Q17=$B$381,Q17=$B$382,Q17=$B$383,Q17=$B$384,Q17=$B$385,Q17=$B$386),1,0) -> 0 | V17: =IF(NOT(OR(ISBLANK($C$11), ISBLANK(B17),ISBLANK(C17),ISBLANK(D17),ISBLANK(F17),ISBLANK(G17),ISBLANK(H17),ISBLANK(I17),ISBLANK(J17),ISBLANK(N17),ISBLANK(L17), ISBLANK(M17))),1,0) -> 0 | W17: =IF(ISBLANK(G17),0,IF(AND($C$11>2014,D17=$C$375,G17<>$E$378),1,IF(AND(G17<>$E$377,D17=$C$375,$C$11<2015,OR(AND(H17=$F$377,$C$11>2011),AND(H17=$F$378,$C$11>2010))),1,0))) -> 0 | X17: =IF(AND(G17<>$E$376,D17=$C$375,C17=$B$374,$C$11>2005,OR(AND(H17=$F$377,$C$11<2012),AND(H17=$F$378,$C$11<2011))),1,IF(AND(G17=$E$376,D17=$C$375,C17<>$B$374,$C$11>2005,OR(AND(H17=$F$377,$C$11<2012),AND(H17=$F$378,$C$11<2011))),1,0)) -> 0 | Y17: =G17&F17&H17 | Z17: =IF(AND(C17=$B$375,D17=$C$374,G17=$E$376,F17=$D$375,$C$11<2013,H17=$F$377),0.2,IF(AND(C17=$B$375,F17=$D$375,G17=$E$376,H17=$F$378,$C$11<2013),0.24,"")) | AA17: =IF(AND(V17<>0,C17=$B$375,Z17=""),IF(VLOOKUP(Y17,$U$319:$AC$353,5,FALSE)<>0,VLOOKUP(Y17,$U$319:$AC$353,5,FALSE),""),"") | AB17: =IF(AND(V17<>0,C17=$B$374,Z17=""),IF(VLOOKUP(Y17,$U$319:$AC$353,7,FALSE)<>0,VLOOKUP(Y17,$U$319:$AC$353,7,FALSE),""),"") | AC17: =IF(AND(V17<>0,C17=$B$375),VLOOKUP(Y17,$U$319:$AC$353,6,FALSE),"") | AD17: =IF(AND(V17<>0,C17=$B$374),VLOOKUP(Y17,$U$319:$AC$353,8,FALSE),"") | AE17: =IF(AND(AC17="",AD17=""),"",IF(OR(AC17=0,AD17=0),0,IF(OR(M17>AC17,M17>AD17),1,0))) | AF17: =IF(B17=B16,(IF(AND(C17=C16,D17=D16,I17=I16,L17=L16),0,1)),0) -> 0 | AG17: =IF(C17=$B$374,IF(H17=$F$377,$B$395,$B$394),IF(AND(H17=$F$378,G17=$E$375),$B$393,IF(AND(H17=$F$378,G17=$E$376),$B$392,""))) | AH17: =IF(AND(C17=$B$375,H17=$F$377), IF(G17=$E$374,$B$391,IF(G17=$E$375,$B$390,IF(G17=$E$376,$B$389,IF(G17=$E$377,$B$388,"")))),"") | AI17: =IF(AG17<>"",AG17,AH17) | AJ17: =IF(G17=$E$374,1,0) -> 0 | AK17: =IF(G17=$E$375,1,0) -> 0 | AL17: =IF(G17=$E$376,1,0) -> 0 | AM17: =IF(G17=$E$377,1,0) -> 0 | AN17: =IF(G17=$E$378,1,0) -> 0 | AO17: =IF(C17=$B$374,1,0) -> 0 | AP17: =IF(C17=$B$375,1,0) -> 0 | AQ17: =IF(H17=$F$377,1,0) -> 0 | AR17: =IF(H17=$F$378,1,0) -> 0 | AS17: =IF(F17=$D$375,1,0) -> 0 | AT17: =IF(F17=$D$374,1,0) -> 0 | AU17: =IF(F17=$D$376,1,0) -> 0 | AV17: =IF(AND(G17=$E$378,P17<0),L17,0) -> 0 | AW17: =IF(AND(P17<>"",G17=$E$378),L17,0) -> 0 | AX17: =IF(AND(D17=$C$375,F17=$D$374,C17=$B$374,P17<0,P17<>""),L17,"") | AY17: =IF(AND(D17=$C$375,C17=$B$374,F17=$D$374,P17<>""),L17,"") | AZ17: =IF(AND(V17=1,C17=$B$375,O17<>""),(O17-M17)*1.341*J17*L17*N17*10^-3,"") | BA17: =IF(AND(AZ17<>"",AZ17<0),B17,"") | BB17: =IF(AND(AZ17<>"",AZ17>0),B17,IF(BA17<>"","Using","")) | BC17: =IF(AND(V17=1,AZ17<>0, AZ17<>""),MATCH(BB17,$BA$14:$BA$315,0),0) -> 0 | BD17: =IF(ISERROR(BC17),0,IF(BC17>1,1,"")) | BE17: =IF(AND(F17=$D$376,OR(G17<>$E$378,C17<>$B$375)),$B$381,IF(AND(C17=$B$374,OR(G17=$E$377,G17=$E$378)),$B$385,IF(AE17=1,$B$382,IF(BD17=1,$B$386,"")))) | BF17: =IF(AND(D17=$C$375,N17<>"",N17<1),$B$380,IF(F400=0,"",IF(AF17=1,$B$383,IF(OR(W17=1,X17=1),$B$387,"")))) | BG17: =IF(BE17<>"",BE17,BF17)
D18: =IF(ISBLANK(B18),"",(IF(MID(B18,5,1)="G","No",IF(MID(B18,5,1)="K","Yes","N/A")))) | N18: =IF(D18="No",1,(IF(AND(C18="Part 1033",D18="Yes",H18="Line-Haul"),IF(E18>=20,0.27,(VLOOKUP(E18,'Proration Factors'!$E$14:$F$33,2,FALSE))),(IF(AND(C18="Part 1033",D18="Yes",H18="Switch"),IF(E18>=40,0.2,(VLOOKUP(E18,'Proration Factors'!$H$14:$I$53,2,FALSE))),(IF(AND(C18="Part 92",D18="Yes"),IF(E18>=32,0.143,(VLOOKUP(E18,'Proration Factors'!$B$14:$C$45,2,FALSE))),""))))))) | O18: =IF(Z18<>"",Z18,IF(AA18<>"",AA18,IF(AB18<>"",AB18,""))) | P18: =IF(D18="N/A","",(IF(AND(U18=0,V18=1),(O18-M18)*1.341*J18*L18*N18*10^-3,""))) | Q18: =IF(BG18<>"",BG18,AI18) | U18: =IF(OR(Q18=$B$380,Q18=$B$381,Q18=$B$382,Q18=$B$383,Q18=$B$384,Q18=$B$385,Q18=$B$386),1,0) -> 0 | V18: =IF(NOT(OR(ISBLANK($C$11), ISBLANK(B18),ISBLANK(C18),ISBLANK(D18),ISBLANK(F18),ISBLANK(G18),ISBLANK(H18),ISBLANK(I18),ISBLANK(J18),ISBLANK(N18),ISBLANK(L18), ISBLANK(M18))),1,0) -> 0 | W18: =IF(ISBLANK(G18),0,IF(AND($C$11>2014,D18=$C$375,G18<>$E$378),1,IF(AND(G18<>$E$377,D18=$C$375,$C$11<2015,OR(AND(H18=$F$377,$C$11>2011),AND(H18=$F$378,$C$11>2010))),1,0))) -> 0 | X18: =IF(AND(G18<>$E$376,D18=$C$375,C18=$B$374,$C$11>2005,OR(AND(H18=$F$377,$C$11<2012),AND(H18=$F$378,$C$11<2011))),1,IF(AND(G18=$E$376,D18=$C$375,C18<>$B$374,$C$11>2005,OR(AND(H18=$F$377,$C$11<2012),AND(H18=$F$378,$C$11<2011))),1,0)) -> 0 | Y18: =G18&F18&H18 | Z18: =IF(AND(C18=$B$375,D18=$C$374,G18=$E$376,F18=$D$375,$C$11<2013,H18=$F$377),0.2,IF(AND(C18=$B$375,F18=$D$375,G18=$E$376,H18=$F$378,$C$11<2013),0.24,"")) | AA18: =IF(AND(V18<>0,C18=$B$375,Z18=""),IF(VLOOKUP(Y18,$U$319:$AC$353,5,FALSE)<>0,VLOOKUP(Y18,$U$319:$AC$353,5,FALSE),""),"") | AB18: =IF(AND(V18<>0,C18=$B$374,Z18=""),IF(VLOOKUP(Y18,$U$319:$AC$353,7,FALSE)<>0,VLOOKUP(Y18,$U$319:$AC$353,7,FALSE),""),"") | AC18: =IF(AND(V18<>0,C18=$B$375),VLOOKUP(Y18,$U$319:$AC$353,6,FALSE),"") | AD18: =IF(AND(V18<>0,C18=$B$374),VLOOKUP(Y18,$U$319:$AC$353,8,FALSE),"") | AE18: =IF(AND(AC18="",AD18=""),"",IF(OR(AC18=0,AD18=0),0,IF(OR(M18>AC18,M18>AD18),1,0))) | AF18: =IF(B18=B17,(IF(AND(C18=C17,D18=D17,I18=I17,L18=L17),0,1)),0) -> 0 | AG18: =IF(C18=$B$374,IF(H18=$F$377,$B$395,$B$394),IF(AND(H18=$F$378,G18=$E$375),$B$393,IF(AND(H18=$F$378,G18=$E$376),$B$392,""))) | AH18: =IF(AND(C18=$B$375,H18=$F$377), IF(G18=$E$374,$B$391,IF(G18=$E$375,$B$390,IF(G18=$E$376,$B$389,IF(G18=$E$377,$B$388,"")))),"") | AI18: =IF(AG18<>"",AG18,AH18) | AJ18: =IF(G18=$E$374,1,0) -> 0 | AK18: =IF(G18=$E$375,1,0) -> 0 | AL18: =IF(G18=$E$376,1,0) -> 0 | AM18: =IF(G18=$E$377,1,0) -> 0 | AN18: =IF(G18=$E$378,1,0) -> 0 | AO18: =IF(C18=$B$374,1,0) -> 0 | AP18: =IF(C18=$B$375,1,0) -> 0 | AQ18: =IF(H18=$F$377,1,0) -> 0 | AR18: =IF(H18=$F$378,1,0) -> 0 | AS18: =IF(F18=$D$375,1,0) -> 0 | AT18: =IF(F18=$D$374,1,0) -> 0 | AU18: =IF(F18=$D$376,1,0) -> 0 | AV18: =IF(AND(G18=$E$378,P18<0),L18,0) -> 0 | AW18: =IF(AND(P18<>"",G18=$E$378),L18,0) -> 0 | AX18: =IF(AND(D18=$C$375,F18=$D$374,C18=$B$374,P18<0,P18<>""),L18,"") | AY18: =IF(AND(D18=$C$375,C18=$B$374,F18=$D$374,P18<>""),L18,"") | AZ18: =IF(AND(V18=1,C18=$B$375,O18<>""),(O18-M18)*1.341*J18*L18*N18*10^-3,"") | BA18: =IF(AND(AZ18<>"",AZ18<0),B18,"") | BB18: =IF(AND(AZ18<>"",AZ18>0),B18,IF(BA18<>"","Using","")) | BC18: =IF(AND(V18=1,AZ18<>0, AZ18<>""),MATCH(BB18,$BA$14:$BA$315,0),0) -> 0 | BD18: =IF(ISERROR(BC18),0,IF(BC18>1,1,"")) | BE18: =IF(AND(F18=$D$376,OR(G18<>$E$378,C18<>$B$375)),$B$381,IF(AND(C18=$B$374,OR(G18=$E$377,G18=$E$378)),$B$385,IF(AE18=1,$B$382,IF(BD18=1,$B$386,"")))) | BF18: =IF(AND(D18=$C$375,N18<>"",N18<1),$B$380,IF(F401=0,"",IF(AF18=1,$B$383,IF(OR(W18=1,X18=1),$B$387,"")))) | BG18: =IF(BE18<>"",BE18,BF18)
D19: =IF(ISBLANK(B19),"",(IF(MID(B19,5,1)="G","No",IF(MID(B19,5,1)="K","Yes","N/A")))) | N19: =IF(D19="No",1,(IF(AND(C19="Part 1033",D19="Yes",H19="Line-Haul"),IF(E19>=20,0.27,(VLOOKUP(E19,'Proration Factors'!$E$14:$F$33,2,FALSE))),(IF(AND(C19="Part 1033",D19="Yes",H19="Switch"),IF(E19>=40,0.2,(VLOOKUP(E19,'Proration Factors'!$H$14:$I$53,2,FALSE))),(IF(AND(C19="Part 92",D19="Yes"),IF(E19>=32,0.143,(VLOOKUP(E19,'Proration Factors'!$B$14:$C$45,2,FALSE))),""))))))) | O19: =IF(Z19<>"",Z19,IF(AA19<>"",AA19,IF(AB19<>"",AB19,""))) | P19: =IF(D19="N/A","",(IF(AND(U19=0,V19=1),(O19-M19)*1.341*J19*L19*N19*10^-3,""))) | Q19: =IF(BG19<>"",BG19,AI19) | U19: =IF(OR(Q19=$B$380,Q19=$B$381,Q19=$B$382,Q19=$B$383,Q19=$B$384,Q19=$B$385,Q19=$B$386),1,0) -> 0 | V19: =IF(NOT(OR(ISBLANK($C$11), ISBLANK(B19),ISBLANK(C19),ISBLANK(D19),ISBLANK(F19),ISBLANK(G19),ISBLANK(H19),ISBLANK(I19),ISBLANK(J19),ISBLANK(N19),ISBLANK(L19), ISBLANK(M19))),1,0) -> 0 | W19: =IF(ISBLANK(G19),0,IF(AND($C$11>2014,D19=$C$375,G19<>$E$378),1,IF(AND(G19<>$E$377,D19=$C$375,$C$11<2015,OR(AND(H19=$F$377,$C$11>2011),AND(H19=$F$378,$C$11>2010))),1,0))) -> 0 | X19: =IF(AND(G19<>$E$376,D19=$C$375,C19=$B$374,$C$11>2005,OR(AND(H19=$F$377,$C$11<2012),AND(H19=$F$378,$C$11<2011))),1,IF(AND(G19=$E$376,D19=$C$375,C19<>$B$374,$C$11>2005,OR(AND(H19=$F$377,$C$11<2012),AND(H19=$F$378,$C$11<2011))),1,0)) -> 0 | Y19: =G19&F19&H19 | Z19: =IF(AND(C19=$B$375,D19=$C$374,G19=$E$376,F19=$D$375,$C$11<2013,H19=$F$377),0.2,IF(AND(C19=$B$375,F19=$D$375,G19=$E$376,H19=$F$378,$C$11<2013),0.24,"")) | AA19: =IF(AND(V19<>0,C19=$B$375,Z19=""),IF(VLOOKUP(Y19,$U$319:$AC$353,5,FALSE)<>0,VLOOKUP(Y19,$U$319:$AC$353,5,FALSE),""),"") | AB19: =IF(AND(V19<>0,C19=$B$374,Z19=""),IF(VLOOKUP(Y19,$U$319:$AC$353,7,FALSE)<>0,VLOOKUP(Y19,$U$319:$AC$353,7,FALSE),""),"") | AC19: =IF(AND(V19<>0,C19=$B$375),VLOOKUP(Y19,$U$319:$AC$353,6,FALSE),"") | AD19: =IF(AND(V19<>0,C19=$B$374),VLOOKUP(Y19,$U$319:$AC$353,8,FALSE),"") | AE19: =IF(AND(AC19="",AD19=""),"",IF(OR(AC19=0,AD19=0),0,IF(OR(M19>AC19,M19>AD19),1,0))) | AF19: =IF(B19=B18,(IF(AND(C19=C18,D19=D18,I19=I18,L19=L18),0,1)),0) -> 0 | AG19: =IF(C19=$B$374,IF(H19=$F$377,$B$395,$B$394),IF(AND(H19=$F$378,G19=$E$375),$B$393,IF(AND(H19=$F$378,G19=$E$376),$B$392,""))) | AH19: =IF(AND(C19=$B$375,H19=$F$377), IF(G19=$E$374,$B$391,IF(G19=$E$375,$B$390,IF(G19=$E$376,$B$389,IF(G19=$E$377,$B$388,"")))),"") | AI19: =IF(AG19<>"",AG19,AH19) | AJ19: =IF(G19=$E$374,1,0) -> 0 | AK19: =IF(G19=$E$375,1,0) -> 0 | AL19: =IF(G19=$E$376,1,0) -> 0 | AM19: =IF(G19=$E$377,1,0) -> 0 | AN19: =IF(G19=$E$378,1,0) -> 0 | AO19: =IF(C19=$B$374,1,0) -> 0 | AP19: =IF(C19=$B$375,1,0) -> 0 | AQ19: =IF(H19=$F$377,1,0) -> 0 | AR19: =IF(H19=$F$378,1,0) -> 0 | AS19: =IF(F19=$D$375,1,0) -> 0 | AT19: =IF(F19=$D$374,1,0) -> 0 | AU19: =IF(F19=$D$376,1,0) -> 0 | AV19: =IF(AND(G19=$E$378,P19<0),L19,0) -> 0 | AW19: =IF(AND(P19<>"",G19=$E$378),L19,0) -> 0 | AX19: =IF(AND(D19=$C$375,F19=$D$374,C19=$B$374,P19<0,P19<>""),L19,"") | AY19: =IF(AND(D19=$C$375,C19=$B$374,F19=$D$374,P19<>""),L19,"") | AZ19: =IF(AND(V19=1,C19=$B$375,O19<>""),(O19-M19)*1.341*J19*L19*N19*10^-3,"") | BA19: =IF(AND(AZ19<>"",AZ19<0),B19,"") | BB19: =IF(AND(AZ19<>"",AZ19>0),B19,IF(BA19<>"","Using","")) | BC19: =IF(AND(V19=1,AZ19<>0, AZ19<>""),MATCH(BB19,$BA$14:$BA$315,0),0) -> 0 | BD19: =IF(ISERROR(BC19),0,IF(BC19>1,1,"")) | BE19: =IF(AND(F19=$D$376,OR(G19<>$E$378,C19<>$B$375)),$B$381,IF(AND(C19=$B$374,OR(G19=$E$377,G19=$E$378)),$B$385,IF(AE19=1,$B$382,IF(BD19=1,$B$386,"")))) | BF19: =IF(AND(D19=$C$375,N19<>"",N19<1),$B$380,IF(F402=0,"",IF(AF19=1,$B$383,IF(OR(W19=1,X19=1),$B$387,"")))) | BG19: =IF(BE19<>"",BE19,BF19)
D20: =IF(ISBLANK(B20),"",(IF(MID(B20,5,1)="G","No",IF(MID(B20,5,1)="K","Yes","N/A")))) | N20: =IF(D20="No",1,(IF(AND(C20="Part 1033",D20="Yes",H20="Line-Haul"),IF(E20>=20,0.27,(VLOOKUP(E20,'Proration Factors'!$E$14:$F$33,2,FALSE))),(IF(AND(C20="Part 1033",D20="Yes",H20="Switch"),IF(E20>=40,0.2,(VLOOKUP(E20,'Proration Factors'!$H$14:$I$53,2,FALSE))),(IF(AND(C20="Part 92",D20="Yes"),IF(E20>=32,0.143,(VLOOKUP(E20,'Proration Factors'!$B$14:$C$45,2,FALSE))),""))))))) | O20: =IF(Z20<>"",Z20,IF(AA20<>"",AA20,IF(AB20<>"",AB20,""))) | P20: =IF(D20="N/A","",(IF(AND(U20=0,V20=1),(O20-M20)*1.341*J20*L20*N20*10^-3,""))) | Q20: =IF(BG20<>"",BG20,AI20) | U20: =IF(OR(Q20=$B$380,Q20=$B$381,Q20=$B$382,Q20=$B$383,Q20=$B$384,Q20=$B$385,Q20=$B$386),1,0) -> 0 | V20: =IF(NOT(OR(ISBLANK($C$11), ISBLANK(B20),ISBLANK(C20),ISBLANK(D20),ISBLANK(F20),ISBLANK(G20),ISBLANK(H20),ISBLANK(I20),ISBLANK(J20),ISBLANK(N20),ISBLANK(L20), ISBLANK(M20))),1,0) -> 0 | W20: =IF(ISBLANK(G20),0,IF(AND($C$11>2014,D20=$C$375,G20<>$E$378),1,IF(AND(G20<>$E$377,D20=$C$375,$C$11<2015,OR(AND(H20=$F$377,$C$11>2011),AND(H20=$F$378,$C$11>2010))),1,0))) -> 0 | X20: =IF(AND(G20<>$E$376,D20=$C$375,C20=$B$374,$C$11>2005,OR(AND(H20=$F$377,$C$11<2012),AND(H20=$F$378,$C$11<2011))),1,IF(AND(G20=$E$376,D20=$C$375,C20<>$B$374,$C$11>2005,OR(AND(H20=$F$377,$C$11<2012),AND(H20=$F$378,$C$11<2011))),1,0)) -> 0 | Y20: =G20&F20&H20 | Z20: =IF(AND(C20=$B$375,D20=$C$374,G20=$E$376,F20=$D$375,$C$11<2013,H20=$F$377),0.2,IF(AND(C20=$B$375,F20=$D$375,G20=$E$376,H20=$F$378,$C$11<2013),0.24,"")) | AA20: =IF(AND(V20<>0,C20=$B$375,Z20=""),IF(VLOOKUP(Y20,$U$319:$AC$353,5,FALSE)<>0,VLOOKUP(Y20,$U$319:$AC$353,5,FALSE),""),"") | AB20: =IF(AND(V20<>0,C20=$B$374,Z20=""),IF(VLOOKUP(Y20,$U$319:$AC$353,7,FALSE)<>0,VLOOKUP(Y20,$U$319:$AC$353,7,FALSE),""),"") | AC20: =IF(AND(V20<>0,C20=$B$375),VLOOKUP(Y20,$U$319:$AC$353,6,FALSE),"") | AD20: =IF(AND(V20<>0,C20=$B$374),VLOOKUP(Y20,$U$319:$AC$353,8,FALSE),"") | AE20: =IF(AND(AC20="",AD20=""),"",IF(OR(AC20=0,AD20=0),0,IF(OR(M20>AC20,M20>AD20),1,0))) | AF20: =IF(B20=B19,(IF(AND(C20=C19,D20=D19,I20=I19,L20=L19),0,1)),0) -> 0 | AG20: =IF(C20=$B$374,IF(H20=$F$377,$B$395,$B$394),IF(AND(H20=$F$378,G20=$E$375),$B$393,IF(AND(H20=$F$378,G20=$E$376),$B$392,""))) | AH20: =IF(AND(C20=$B$375,H20=$F$377), IF(G20=$E$374,$B$391,IF(G20=$E$375,$B$390,IF(G20=$E$376,$B$389,IF(G20=$E$377,$B$388,"")))),"") | AI20: =IF(AG20<>"",AG20,AH20) | AJ20: =IF(G20=$E$374,1,0) -> 0 | AK20: =IF(G20=$E$375,1,0) -> 0 | AL20: =IF(G20=$E$376,1,0) -> 0 | AM20: =IF(G20=$E$377,1,0) -> 0 | AN20: =IF(G20=$E$378,1,0) -> 0 | AO20: =IF(C20=$B$374,1,0) -> 0 | AP20: =IF(C20=$B$375,1,0) -> 0 | AQ20: =IF(H20=$F$377,1,0) -> 0 | AR20: =IF(H20=$F$378,1,0) -> 0 | AS20: =IF(F20=$D$375,1,0) -> 0 | AT20: =IF(F20=$D$374,1,0) -> 0 | AU20: =IF(F20=$D$376,1,0) -> 0 | AV20: =IF(AND(G20=$E$378,P20<0),L20,0) -> 0 | AW20: =IF(AND(P20<>"",G20=$E$378),L20,0) -> 0 | AX20: =IF(AND(D20=$C$375,F20=$D$374,C20=$B$374,P20<0,P20<>""),L20,"") | AY20: =IF(AND(D20=$C$375,C20=$B$374,F20=$D$374,P20<>""),L20,"") | AZ20: =IF(AND(V20=1,C20=$B$375,O20<>""),(O20-M20)*1.341*J20*L20*N20*10^-3,"") | BA20: =IF(AND(AZ20<>"",AZ20<0),B20,"") | BB20: =IF(AND(AZ20<>"",AZ20>0),B20,IF(BA20<>"","Using","")) | BC20: =IF(AND(V20=1,AZ20<>0, AZ20<>""),MATCH(BB20,$BA$14:$BA$315,0),0) -> 0 | BD20: =IF(ISERROR(BC20),0,IF(BC20>1,1,"")) | BE20: =IF(AND(F20=$D$376,OR(G20<>$E$378,C20<>$B$375)),$B$381,IF(AND(C20=$B$374,OR(G20=$E$377,G20=$E$378)),$B$385,IF(AE20=1,$B$382,IF(BD20=1,$B$386,"")))) | BF20: =IF(AND(D20=$C$375,N20<>"",N20<1),$B$380,IF(F403=0,"",IF(AF20=1,$B$383,IF(OR(W20=1,X20=1),$B$387,"")))) | BG20: =IF(BE20<>"",BE20,BF20)
D21: =IF(ISBLANK(B21),"",(IF(MID(B21,5,1)="G","No",IF(MID(B21,5,1)="K","Yes","N/A")))) | N21: =IF(D21="No",1,(IF(AND(C21="Part 1033",D21="Yes",H21="Line-Haul"),IF(E21>=20,0.27,(VLOOKUP(E21,'Proration Factors'!$E$14:$F$33,2,FALSE))),(IF(AND(C21="Part 1033",D21="Yes",H21="Switch"),IF(E21>=40,0.2,(VLOOKUP(E21,'Proration Factors'!$H$14:$I$53,2,FALSE))),(IF(AND(C21="Part 92",D21="Yes"),IF(E21>=32,0.143,(VLOOKUP(E21,'Proration Factors'!$B$14:$C$45,2,FALSE))),""))))))) | O21: =IF(Z21<>"",Z21,IF(AA21<>"",AA21,IF(AB21<>"",AB21,""))) | P21: =IF(D21="N/A","",(IF(AND(U21=0,V21=1),(O21-M21)*1.341*J21*L21*N21*10^-3,""))) | Q21: =IF(BG21<>"",BG21,AI21) | U21: =IF(OR(Q21=$B$380,Q21=$B$381,Q21=$B$382,Q21=$B$383,Q21=$B$384,Q21=$B$385,Q21=$B$386),1,0) -> 0 | V21: =IF(NOT(OR(ISBLANK($C$11), ISBLANK(B21),ISBLANK(C21),ISBLANK(D21),ISBLANK(F21),ISBLANK(G21),ISBLANK(H21),ISBLANK(I21),ISBLANK(J21),ISBLANK(N21),ISBLANK(L21), ISBLANK(M21))),1,0) -> 0 | W21: =IF(ISBLANK(G21),0,IF(AND($C$11>2014,D21=$C$375,G21<>$E$378),1,IF(AND(G21<>$E$377,D21=$C$375,$C$11<2015,OR(AND(H21=$F$377,$C$11>2011),AND(H21=$F$378,$C$11>2010))),1,0))) -> 0 | X21: =IF(AND(G21<>$E$376,D21=$C$375,C21=$B$374,$C$11>2005,OR(AND(H21=$F$377,$C$11<2012),AND(H21=$F$378,$C$11<2011))),1,IF(AND(G21=$E$376,D21=$C$375,C21<>$B$374,$C$11>2005,OR(AND(H21=$F$377,$C$11<2012),AND(H21=$F$378,$C$11<2011))),1,0)) -> 0 | Y21: =G21&F21&H21 | Z21: =IF(AND(C21=$B$375,D21=$C$374,G21=$E$376,F21=$D$375,$C$11<2013,H21=$F$377),0.2,IF(AND(C21=$B$375,F21=$D$375,G21=$E$376,H21=$F$378,$C$11<2013),0.24,"")) | AA21: =IF(AND(V21<>0,C21=$B$375,Z21=""),IF(VLOOKUP(Y21,$U$319:$AC$353,5,FALSE)<>0,VLOOKUP(Y21,$U$319:$AC$353,5,FALSE),""),"") | AB21: =IF(AND(V21<>0,C21=$B$374,Z21=""),IF(VLOOKUP(Y21,$U$319:$AC$353,7,FALSE)<>0,VLOOKUP(Y21,$U$319:$AC$353,7,FALSE),""),"") | AC21: =IF(AND(V21<>0,C21=$B$375),VLOOKUP(Y21,$U$319:$AC$353,6,FALSE),"") | AD21: =IF(AND(V21<>0,C21=$B$374),VLOOKUP(Y21,$U$319:$AC$353,8,FALSE),"") | AE21: =IF(AND(AC21="",AD21=""),"",IF(OR(AC21=0,AD21=0),0,IF(OR(M21>AC21,M21>AD21),1,0))) | AF21: =IF(B21=B20,(IF(AND(C21=C20,D21=D20,I21=I20,L21=L20),0,1)),0) -> 0 | AG21: =IF(C21=$B$374,IF(H21=$F$377,$B$395,$B$394),IF(AND(H21=$F$378,G21=$E$375),$B$393,IF(AND(H21=$F$378,G21=$E$376),$B$392,""))) | AH21: =IF(AND(C21=$B$375,H21=$F$377), IF(G21=$E$374,$B$391,IF(G21=$E$375,$B$390,IF(G21=$E$376,$B$389,IF(G21=$E$377,$B$388,"")))),"") | AI21: =IF(AG21<>"",AG21,AH21) | AJ21: =IF(G21=$E$374,1,0) -> 0 | AK21: =IF(G21=$E$375,1,0) -> 0 | AL21: =IF(G21=$E$376,1,0) -> 0 | AM21: =IF(G21=$E$377,1,0) -> 0 | AN21: =IF(G21=$E$378,1,0) -> 0 | AO21: =IF(C21=$B$374,1,0) -> 0 | AP21: =IF(C21=$B$375,1,0) -> 0 | AQ21: =IF(H21=$F$377,1,0) -> 0 | AR21: =IF(H21=$F$378,1,0) -> 0 | AS21: =IF(F21=$D$375,1,0) -> 0 | AT21: =IF(F21=$D$374,1,0) -> 0 | AU21: =IF(F21=$D$376,1,0) -> 0 | AV21: =IF(AND(G21=$E$378,P21<0),L21,0) -> 0 | AW21: =IF(AND(P21<>"",G21=$E$378),L21,0) -> 0 | AX21: =IF(AND(D21=$C$375,F21=$D$374,C21=$B$374,P21<0,P21<>""),L21,"") | AY21: =IF(AND(D21=$C$375,C21=$B$374,F21=$D$374,P21<>""),L21,"") | AZ21: =IF(AND(V21=1,C21=$B$375,O21<>""),(O21-M21)*1.341*J21*L21*N21*10^-3,"") | BA21: =IF(AND(AZ21<>"",AZ21<0),B21,"") | BB21: =IF(AND(AZ21<>"",AZ21>0),B21,IF(BA21<>"","Using","")) | BC21: =IF(AND(V21=1,AZ21<>0, AZ21<>""),MATCH(BB21,$BA$14:$BA$315,0),0) -> 0 | BD21: =IF(ISERROR(BC21),0,IF(BC21>1,1,"")) | BE21: =IF(AND(F21=$D$376,OR(G21<>$E$378,C21<>$B$375)),$B$381,IF(AND(C21=$B$374,OR(G21=$E$377,G21=$E$378)),$B$385,IF(AE21=1,$B$382,IF(BD21=1,$B$386,"")))) | BF21: =IF(AND(D21=$C$375,N21<>"",N21<1),$B$380,IF(F404=0,"",IF(AF21=1,$B$383,IF(OR(W21=1,X21=1),$B$387,"")))) | BG21: =IF(BE21<>"",BE21,BF21)
D22: =IF(ISBLANK(B22),"",(IF(MID(B22,5,1)="G","No",IF(MID(B22,5,1)="K","Yes","N/A")))) | N22: =IF(D22="No",1,(IF(AND(C22="Part 1033",D22="Yes",H22="Line-Haul"),IF(E22>=20,0.27,(VLOOKUP(E22,'Proration Factors'!$E$14:$F$33,2,FALSE))),(IF(AND(C22="Part 1033",D22="Yes",H22="Switch"),IF(E22>=40,0.2,(VLOOKUP(E22,'Proration Factors'!$H$14:$I$53,2,FALSE))),(IF(AND(C22="Part 92",D22="Yes"),IF(E22>=32,0.143,(VLOOKUP(E22,'Proration Factors'!$B$14:$C$45,2,FALSE))),""))))))) | O22: =IF(Z22<>"",Z22,IF(AA22<>"",AA22,IF(AB22<>"",AB22,""))) | P22: =IF(D22="N/A","",(IF(AND(U22=0,V22=1),(O22-M22)*1.341*J22*L22*N22*10^-3,""))) | Q22: =IF(BG22<>"",BG22,AI22) | U22: =IF(OR(Q22=$B$380,Q22=$B$381,Q22=$B$382,Q22=$B$383,Q22=$B$384,Q22=$B$385,Q22=$B$386),1,0) -> 0 | V22: =IF(NOT(OR(ISBLANK($C$11), ISBLANK(B22),ISBLANK(C22),ISBLANK(D22),ISBLANK(F22),ISBLANK(G22),ISBLANK(H22),ISBLANK(I22),ISBLANK(J22),ISBLANK(N22),ISBLANK(L22), ISBLANK(M22))),1,0) -> 0 | W22: =IF(ISBLANK(G22),0,IF(AND($C$11>2014,D22=$C$375,G22<>$E$378),1,IF(AND(G22<>$E$377,D22=$C$375,$C$11<2015,OR(AND(H22=$F$377,$C$11>2011),AND(H22=$F$378,$C$11>2010))),1,0))) -> 0 | X22: =IF(AND(G22<>$E$376,D22=$C$375,C22=$B$374,$C$11>2005,OR(AND(H22=$F$377,$C$11<2012),AND(H22=$F$378,$C$11<2011))),1,IF(AND(G22=$E$376,D22=$C$375,C22<>$B$374,$C$11>2005,OR(AND(H22=$F$377,$C$11<2012),AND(H22=$F$378,$C$11<2011))),1,0)) -> 0 | Y22: =G22&F22&H22 | Z22: =IF(AND(C22=$B$375,D22=$C$374,G22=$E$376,F22=$D$375,$C$11<2013,H22=$F$377),0.2,IF(AND(C22=$B$375,F22=$D$375,G22=$E$376,H22=$F$378,$C$11<2013),0.24,"")) | AA22: =IF(AND(V22<>0,C22=$B$375,Z22=""),IF(VLOOKUP(Y22,$U$319:$AC$353,5,FALSE)<>0,VLOOKUP(Y22,$U$319:$AC$353,5,FALSE),""),"") | AB22: =IF(AND(V22<>0,C22=$B$374,Z22=""),IF(VLOOKUP(Y22,$U$319:$AC$353,7,FALSE)<>0,VLOOKUP(Y22,$U$319:$AC$353,7,FALSE),""),"") | AC22: =IF(AND(V22<>0,C22=$B$375),VLOOKUP(Y22,$U$319:$AC$353,6,FALSE),"") | AD22: =IF(AND(V22<>0,C22=$B$374),VLOOKUP(Y22,$U$319:$AC$353,8,FALSE),"") | AE22: =IF(AND(AC22="",AD22=""),"",IF(OR(AC22=0,AD22=0),0,IF(OR(M22>AC22,M22>AD22),1,0))) | AF22: =IF(B22=B21,(IF(AND(C22=C21,D22=D21,I22=I21,L22=L21),0,1)),0) -> 0 | AG22: =IF(C22=$B$374,IF(H22=$F$377,$B$395,$B$394),IF(AND(H22=$F$378,G22=$E$375),$B$393,IF(AND(H22=$F$378,G22=$E$376),$B$392,""))) | AH22: =IF(AND(C22=$B$375,H22=$F$377), IF(G22=$E$374,$B$391,IF(G22=$E$375,$B$390,IF(G22=$E$376,$B$389,IF(G22=$E$377,$B$388,"")))),"") | AI22: =IF(AG22<>"",AG22,AH22) | AJ22: =IF(G22=$E$374,1,0) -> 0 | AK22: =IF(G22=$E$375,1,0) -> 0 | AL22: =IF(G22=$E$376,1,0) -> 0 | AM22: =IF(G22=$E$377,1,0) -> 0 | AN22: =IF(G22=$E$378,1,0) -> 0 | AO22: =IF(C22=$B$374,1,0) -> 0 | AP22: =IF(C22=$B$375,1,0) -> 0 | AQ22: =IF(H22=$F$377,1,0) -> 0 | AR22: =IF(H22=$F$378,1,0) -> 0 | AS22: =IF(F22=$D$375,1,0) -> 0 | AT22: =IF(F22=$D$374,1,0) -> 0 | AU22: =IF(F22=$D$376,1,0) -> 0 | AV22: =IF(AND(G22=$E$378,P22<0),L22,0) -> 0 | AW22: =IF(AND(P22<>"",G22=$E$378),L22,0) -> 0 | AX22: =IF(AND(D22=$C$375,F22=$D$374,C22=$B$374,P22<0,P22<>""),L22,"") | AY22: =IF(AND(D22=$C$375,C22=$B$374,F22=$D$374,P22<>""),L22,"") | AZ22: =IF(AND(V22=1,C22=$B$375,O22<>""),(O22-M22)*1.341*J22*L22*N22*10^-3,"") | BA22: =IF(AND(AZ22<>"",AZ22<0),B22,"") | BB22: =IF(AND(AZ22<>"",AZ22>0),B22,IF(BA22<>"","Using","")) | BC22: =IF(AND(V22=1,AZ22<>0, AZ22<>""),MATCH(BB22,$BA$14:$BA$315,0),0) -> 0 | BD22: =IF(ISERROR(BC22),0,IF(BC22>1,1,"")) | BE22: =IF(AND(F22=$D$376,OR(G22<>$E$378,C22<>$B$375)),$B$381,IF(AND(C22=$B$374,OR(G22=$E$377,G22=$E$378)),$B$385,IF(AE22=1,$B$382,IF(BD22=1,$B$386,"")))) | BF22: =IF(AND(D22=$C$375,N22<>"",N22<1),$B$380,IF(F405=0,"",IF(AF22=1,$B$383,IF(OR(W22=1,X22=1),$B$387,"")))) | BG22: =IF(BE22<>"",BE22,BF22)
D23: =IF(ISBLANK(B23),"",(IF(MID(B23,5,1)="G","No",IF(MID(B23,5,1)="K","Yes","N/A")))) | N23: =IF(D23="No",1,(IF(AND(C23="Part 1033",D23="Yes",H23="Line-Haul"),IF(E23>=20,0.27,(VLOOKUP(E23,'Proration Factors'!$E$14:$F$33,2,FALSE))),(IF(AND(C23="Part 1033",D23="Yes",H23="Switch"),IF(E23>=40,0.2,(VLOOKUP(E23,'Proration Factors'!$H$14:$I$53,2,FALSE))),(IF(AND(C23="Part 92",D23="Yes"),IF(E23>=32,0.143,(VLOOKUP(E23,'Proration Factors'!$B$14:$C$45,2,FALSE))),""))))))) | O23: =IF(Z23<>"",Z23,IF(AA23<>"",AA23,IF(AB23<>"",AB23,""))) | P23: =IF(D23="N/A","",(IF(AND(U23=0,V23=1),(O23-M23)*1.341*J23*L23*N23*10^-3,""))) | Q23: =IF(BG23<>"",BG23,AI23) | U23: =IF(OR(Q23=$B$380,Q23=$B$381,Q23=$B$382,Q23=$B$383,Q23=$B$384,Q23=$B$385,Q23=$B$386),1,0) -> 0 | V23: =IF(NOT(OR(ISBLANK($C$11), ISBLANK(B23),ISBLANK(C23),ISBLANK(D23),ISBLANK(F23),ISBLANK(G23),ISBLANK(H23),ISBLANK(I23),ISBLANK(J23),ISBLANK(N23),ISBLANK(L23), ISBLANK(M23))),1,0) -> 0 | W23: =IF(ISBLANK(G23),0,IF(AND($C$11>2014,D23=$C$375,G23<>$E$378),1,IF(AND(G23<>$E$377,D23=$C$375,$C$11<2015,OR(AND(H23=$F$377,$C$11>2011),AND(H23=$F$378,$C$11>2010))),1,0))) -> 0 | X23: =IF(AND(G23<>$E$376,D23=$C$375,C23=$B$374,$C$11>2005,OR(AND(H23=$F$377,$C$11<2012),AND(H23=$F$378,$C$11<2011))),1,IF(AND(G23=$E$376,D23=$C$375,C23<>$B$374,$C$11>2005,OR(AND(H23=$F$377,$C$11<2012),AND(H23=$F$378,$C$11<2011))),1,0)) -> 0 | Y23: =G23&F23&H23 | Z23: =IF(AND(C23=$B$375,D23=$C$374,G23=$E$376,F23=$D$375,$C$11<2013,H23=$F$377),0.2,IF(AND(C23=$B$375,F23=$D$375,G23=$E$376,H23=$F$378,$C$11<2013),0.24,"")) | AA23: =IF(AND(V23<>0,C23=$B$375,Z23=""),IF(VLOOKUP(Y23,$U$319:$AC$353,5,FALSE)<>0,VLOOKUP(Y23,$U$319:$AC$353,5,FALSE),""),"") | AB23: =IF(AND(V23<>0,C23=$B$374,Z23=""),IF(VLOOKUP(Y23,$U$319:$AC$353,7,FALSE)<>0,VLOOKUP(Y23,$U$319:$AC$353,7,FALSE),""),"") | AC23: =IF(AND(V23<>0,C23=$B$375),VLOOKUP(Y23,$U$319:$AC$353,6,FALSE),"") | AD23: =IF(AND(V23<>0,C23=$B$374),VLOOKUP(Y23,$U$319:$AC$353,8,FALSE),"") | AE23: =IF(AND(AC23="",AD23=""),"",IF(OR(AC23=0,AD23=0),0,IF(OR(M23>AC23,M23>AD23),1,0))) | AF23: =IF(B23=B22,(IF(AND(C23=C22,D23=D22,I23=I22,L23=L22),0,1)),0) -> 0 | AG23: =IF(C23=$B$374,IF(H23=$F$377,$B$395,$B$394),IF(AND(H23=$F$378,G23=$E$375),$B$393,IF(AND(H23=$F$378,G23=$E$376),$B$392,""))) | AH23: =IF(AND(C23=$B$375,H23=$F$377), IF(G23=$E$374,$B$391,IF(G23=$E$375,$B$390,IF(G23=$E$376,$B$389,IF(G23=$E$377,$B$388,"")))),"") | AI23: =IF(AG23<>"",AG23,AH23) | AJ23: =IF(G23=$E$374,1,0) -> 0 | AK23: =IF(G23=$E$375,1,0) -> 0 | AL23: =IF(G23=$E$376,1,0) -> 0 | AM23: =IF(G23=$E$377,1,0) -> 0 | AN23: =IF(G23=$E$378,1,0) -> 0 | AO23: =IF(C23=$B$374,1,0) -> 0 | AP23: =IF(C23=$B$375,1,0) -> 0 | AQ23: =IF(H23=$F$377,1,0) -> 0 | AR23: =IF(H23=$F$378,1,0) -> 0 | AS23: =IF(F23=$D$375,1,0) -> 0 | AT23: =IF(F23=$D$374,1,0) -> 0 | AU23: =IF(F23=$D$376,1,0) -> 0 | AV23: =IF(AND(G23=$E$378,P23<0),L23,0) -> 0 | AW23: =IF(AND(P23<>"",G23=$E$378),L23,0) -> 0 | AX23: =IF(AND(D23=$C$375,F23=$D$374,C23=$B$374,P23<0,P23<>""),L23,"") | AY23: =IF(AND(D23=$C$375,C23=$B$374,F23=$D$374,P23<>""),L23,"") | AZ23: =IF(AND(V23=1,C23=$B$375,O23<>""),(O23-M23)*1.341*J23*L23*N23*10^-3,"") | BA23: =IF(AND(AZ23<>"",AZ23<0),B23,"") | BB23: =IF(AND(AZ23<>"",AZ23>0),B23,IF(BA23<>"","Using","")) | BC23: =IF(AND(V23=1,AZ23<>0, AZ23<>""),MATCH(BB23,$BA$14:$BA$315,0),0) -> 0 | BD23: =IF(ISERROR(BC23),0,IF(BC23>1,1,"")) | BE23: =IF(AND(F23=$D$376,OR(G23<>$E$378,C23<>$B$375)),$B$381,IF(AND(C23=$B$374,OR(G23=$E$377,G23=$E$378)),$B$385,IF(AE23=1,$B$382,IF(BD23=1,$B$386,"")))) | BF23: =IF(AND(D23=$C$375,N23<>"",N23<1),$B$380,IF(F406=0,"",IF(AF23=1,$B$383,IF(OR(W23=1,X23=1),$B$387,"")))) | BG23: =IF(BE23<>"",BE23,BF23)
D24: =IF(ISBLANK(B24),"",(IF(MID(B24,5,1)="G","No",IF(MID(B24,5,1)="K","Yes","N/A")))) | N24: =IF(D24="No",1,(IF(AND(C24="Part 1033",D24="Yes",H24="Line-Haul"),IF(E24>=20,0.27,(VLOOKUP(E24,'Proration Factors'!$E$14:$F$33,2,FALSE))),(IF(AND(C24="Part 1033",D24="Yes",H24="Switch"),IF(E24>=40,0.2,(VLOOKUP(E24,'Proration Factors'!$H$14:$I$53,2,FALSE))),(IF(AND(C24="Part 92",D24="Yes"),IF(E24>=32,0.143,(VLOOKUP(E24,'Proration Factors'!$B$14:$C$45,2,FALSE))),""))))))) | O24: =IF(Z24<>"",Z24,IF(AA24<>"",AA24,IF(AB24<>"",AB24,""))) | P24: =IF(D24="N/A","",(IF(AND(U24=0,V24=1),(O24-M24)*1.341*J24*L24*N24*10^-3,""))) | Q24: =IF(BG24<>"",BG24,AI24) | U24: =IF(OR(Q24=$B$380,Q24=$B$381,Q24=$B$382,Q24=$B$383,Q24=$B$384,Q24=$B$385,Q24=$B$386),1,0) -> 0 | V24: =IF(NOT(OR(ISBLANK($C$11), ISBLANK(B24),ISBLANK(C24),ISBLANK(D24),ISBLANK(F24),ISBLANK(G24),ISBLANK(H24),ISBLANK(I24),ISBLANK(J24),ISBLANK(N24),ISBLANK(L24), ISBLANK(M24))),1,0) -> 0 | W24: =IF(ISBLANK(G24),0,IF(AND($C$11>2014,D24=$C$375,G24<>$E$378),1,IF(AND(G24<>$E$377,D24=$C$375,$C$11<2015,OR(AND(H24=$F$377,$C$11>2011),AND(H24=$F$378,$C$11>2010))),1,0))) -> 0 | X24: =IF(AND(G24<>$E$376,D24=$C$375,C24=$B$374,$C$11>2005,OR(AND(H24=$F$377,$C$11<2012),AND(H24=$F$378,$C$11<2011))),1,IF(AND(G24=$E$376,D24=$C$375,C24<>$B$374,$C$11>2005,OR(AND(H24=$F$377,$C$11<2012),AND(H24=$F$378,$C$11<2011))),1,0)) -> 0 | Y24: =G24&F24&H24 | Z24: =IF(AND(C24=$B$375,D24=$C$374,G24=$E$376,F24=$D$375,$C$11<2013,H24=$F$377),0.2,IF(AND(C24=$B$375,F24=$D$375,G24=$E$376,H24=$F$378,$C$11<2013),0.24,"")) | AA24: =IF(AND(V24<>0,C24=$B$375,Z24=""),IF(VLOOKUP(Y24,$U$319:$AC$353,5,FALSE)<>0,VLOOKUP(Y24,$U$319:$AC$353,5,FALSE),""),"") | AB24: =IF(AND(V24<>0,C24=$B$374,Z24=""),IF(VLOOKUP(Y24,$U$319:$AC$353,7,FALSE)<>0,VLOOKUP(Y24,$U$319:$AC$353,7,FALSE),""),"") | AC24: =IF(AND(V24<>0,C24=$B$375),VLOOKUP(Y24,$U$319:$AC$353,6,FALSE),"") | AD24: =IF(AND(V24<>0,C24=$B$374),VLOOKUP(Y24,$U$319:$AC$353,8,FALSE),"") | AE24: =IF(AND(AC24="",AD24=""),"",IF(OR(AC24=0,AD24=0),0,IF(OR(M24>AC24,M24>AD24),1,0))) | AF24: =IF(B24=B23,(IF(AND(C24=C23,D24=D23,I24=I23,L24=L23),0,1)),0) -> 0 | AG24: =IF(C24=$B$374,IF(H24=$F$377,$B$395,$B$394),IF(AND(H24=$F$378,G24=$E$375),$B$393,IF(AND(H24=$F$378,G24=$E$376),$B$392,""))) | AH24: =IF(AND(C24=$B$375,H24=$F$377), IF(G24=$E$374,$B$391,IF(G24=$E$375,$B$390,IF(G24=$E$376,$B$389,IF(G24=$E$377,$B$388,"")))),"") | AI24: =IF(AG24<>"",AG24,AH24) | AJ24: =IF(G24=$E$374,1,0) -> 0 | AK24: =IF(G24=$E$375,1,0) -> 0 | AL24: =IF(G24=$E$376,1,0) -> 0 | AM24: =IF(G24=$E$377,1,0) -> 0 | AN24: =IF(G24=$E$378,1,0) -> 0 | AO24: =IF(C24=$B$374,1,0) -> 0 | AP24: =IF(C24=$B$375,1,0) -> 0 | AQ24: =IF(H24=$F$377,1,0) -> 0 | AR24: =IF(H24=$F$378,1,0) -> 0 | AS24: =IF(F24=$D$375,1,0) -> 0 | AT24: =IF(F24=$D$374,1,0) -> 0 | AU24: =IF(F24=$D$376,1,0) -> 0 | AV24: =IF(AND(G24=$E$378,P24<0),L24,0) -> 0 | AW24: =IF(AND(P24<>"",G24=$E$378),L24,0) -> 0 | AX24: =IF(AND(D24=$C$375,F24=$D$374,C24=$B$374,P24<0,P24<>""),L24,"") | AY24: =IF(AND(D24=$C$375,C24=$B$374,F24=$D$374,P24<>""),L24,"") | AZ24: =IF(AND(V24=1,C24=$B$375,O24<>""),(O24-M24)*1.341*J24*L24*N24*10^-3,"") | BA24: =IF(AND(AZ24<>"",AZ24<0),B24,"") | BB24: =IF(AND(AZ24<>"",AZ24>0),B24,IF(BA24<>"","Using","")) | BC24: =IF(AND(V24=1,AZ24<>0, AZ24<>""),MATCH(BB24,$BA$14:$BA$315,0),0) -> 0 | BD24: =IF(ISERROR(BC24),0,IF(BC24>1,1,"")) | BE24: =IF(AND(F24=$D$376,OR(G24<>$E$378,C24<>$B$375)),$B$381,IF(AND(C24=$B$374,OR(G24=$E$377,G24=$E$378)),$B$385,IF(AE24=1,$B$382,IF(BD24=1,$B$386,"")))) | BF24: =IF(AND(D24=$C$375,N24<>"",N24<1),$B$380,IF(F407=0,"",IF(AF24=1,$B$383,IF(OR(W24=1,X24=1),$B$387,"")))) | BG24: =IF(BE24<>"",BE24,BF24)
D25: =IF(ISBLANK(B25),"",(IF(MID(B25,5,1)="G","No",IF(MID(B25,5,1)="K","Yes","N/A")))) | N25: =IF(D25="No",1,(IF(AND(C25="Part 1033",D25="Yes",H25="Line-Haul"),IF(E25>=20,0.27,(VLOOKUP(E25,'Proration Factors'!$E$14:$F$33,2,FALSE))),(IF(AND(C25="Part 1033",D25="Yes",H25="Switch"),IF(E25>=40,0.2,(VLOOKUP(E25,'Proration Factors'!$H$14:$I$53,2,FALSE))),(IF(AND(C25="Part 92",D25="Yes"),IF(E25>=32,0.143,(VLOOKUP(E25,'Proration Factors'!$B$14:$C$45,2,FALSE))),""))))))) | O25: =IF(Z25<>"",Z25,IF(AA25<>"",AA25,IF(AB25<>"",AB25,""))) | P25: =IF(D25="N/A","",(IF(AND(U25=0,V25=1),(O25-M25)*1.341*J25*L25*N25*10^-3,""))) | Q25: =IF(BG25<>"",BG25,AI25) | U25: =IF(OR(Q25=$B$380,Q25=$B$381,Q25=$B$382,Q25=$B$383,Q25=$B$384,Q25=$B$385,Q25=$B$386),1,0) -> 0 | V25: =IF(NOT(OR(ISBLANK($C$11), ISBLANK(B25),ISBLANK(C25),ISBLANK(D25),ISBLANK(F25),ISBLANK(G25),ISBLANK(H25),ISBLANK(I25),ISBLANK(J25),ISBLANK(N25),ISBLANK(L25), ISBLANK(M25))),1,0) -> 0 | W25: =IF(ISBLANK(G25),0,IF(AND($C$11>2014,D25=$C$375,G25<>$E$378),1,IF(AND(G25<>$E$377,D25=$C$375,$C$11<2015,OR(AND(H25=$F$377,$C$11>2011),AND(H25=$F$378,$C$11>2010))),1,0))) -> 0 | X25: =IF(AND(G25<>$E$376,D25=$C$375,C25=$B$374,$C$11>2005,OR(AND(H25=$F$377,$C$11<2012),AND(H25=$F$378,$C$11<2011))),1,IF(AND(G25=$E$376,D25=$C$375,C25<>$B$374,$C$11>2005,OR(AND(H25=$F$377,$C$11<2012),AND(H25=$F$378,$C$11<2011))),1,0)) -> 0 | Y25: =G25&F25&H25 | Z25: =IF(AND(C25=$B$375,D25=$C$374,G25=$E$376,F25=$D$375,$C$11<2013,H25=$F$377),0.2,IF(AND(C25=$B$375,F25=$D$375,G25=$E$376,H25=$F$378,$C$11<2013),0.24,"")) | AA25: =IF(AND(V25<>0,C25=$B$375,Z25=""),IF(VLOOKUP(Y25,$U$319:$AC$353,5,FALSE)<>0,VLOOKUP(Y25,$U$319:$AC$353,5,FALSE),""),"") | AB25: =IF(AND(V25<>0,C25=$B$374,Z25=""),IF(VLOOKUP(Y25,$U$319:$AC$353,7,FALSE)<>0,VLOOKUP(Y25,$U$319:$AC$353,7,FALSE),""),"") | AC25: =IF(AND(V25<>0,C25=$B$375),VLOOKUP(Y25,$U$319:$AC$353,6,FALSE),"") | AD25: =IF(AND(V25<>0,C25=$B$374),VLOOKUP(Y25,$U$319:$AC$353,8,FALSE),"") | AE25: =IF(AND(AC25="",AD25=""),"",IF(OR(AC25=0,AD25=0),0,IF(OR(M25>AC25,M25>AD25),1,0))) | AF25: =IF(B25=B24,(IF(AND(C25=C24,D25=D24,I25=I24,L25=L24),0,1)),0) -> 0 | AG25: =IF(C25=$B$374,IF(H25=$F$377,$B$395,$B$394),IF(AND(H25=$F$378,G25=$E$375),$B$393,IF(AND(H25=$F$378,G25=$E$376),$B$392,""))) | AH25: =IF(AND(C25=$B$375,H25=$F$377), IF(G25=$E$374,$B$391,IF(G25=$E$375,$B$390,IF(G25=$E$376,$B$389,IF(G25=$E$377,$B$388,"")))),"") | AI25: =IF(AG25<>"",AG25,AH25) | AJ25: =IF(G25=$E$374,1,0) -> 0 | AK25: =IF(G25=$E$375,1,0) -> 0 | AL25: =IF(G25=$E$376,1,0) -> 0 | AM25: =IF(G25=$E$377,1,0) -> 0 | AN25: =IF(G25=$E$378,1,0) -> 0 | AO25: =IF(C25=$B$374,1,0) -> 0 | AP25: =IF(C25=$B$375,1,0) -> 0 | AQ25: =IF(H25=$F$377,1,0) -> 0 | AR25: =IF(H25=$F$378,1,0) -> 0 | AS25: =IF(F25=$D$375,1,0) -> 0 | AT25: =IF(F25=$D$374,1,0) -> 0 | AU25: =IF(F25=$D$376,1,0) -> 0 | AV25: =IF(AND(G25=$E$378,P25<0),L25,0) -> 0 | AW25: =IF(AND(P25<>"",G25=$E$378),L25,0) -> 0 | AX25: =IF(AND(D25=$C$375,F25=$D$374,C25=$B$374,P25<0,P25<>""),L25,"") | AY25: =IF(AND(D25=$C$375,C25=$B$374,F25=$D$374,P25<>""),L25,"") | AZ25: =IF(AND(V25=1,C25=$B$375,O25<>""),(O25-M25)*1.341*J25*L25*N25*10^-3,"") | BA25: =IF(AND(AZ25<>"",AZ25<0),B25,"") | BB25: =IF(AND(AZ25<>"",AZ25>0),B25,IF(BA25<>"","Using","")) | BC25: =IF(AND(V25=1,AZ25<>0, AZ25<>""),MATCH(BB25,$BA$14:$BA$315,0),0) -> 0 | BD25: =IF(ISERROR(BC25),0,IF(BC25>1,1,"")) | BE25: =IF(AND(F25=$D$376,OR(G25<>$E$378,C25<>$B$375)),$B$381,IF(AND(C25=$B$374,OR(G25=$E$377,G25=$E$378)),$B$385,IF(AE25=1,$B$382,IF(BD25=1,$B$386,"")))) | BF25: =IF(AND(D25=$C$375,N25<>"",N25<1),$B$380,IF(F408=0,"",IF(AF25=1,$B$383,IF(OR(W25=1,X25=1),$B$387,"")))) | BG25: =IF(BE25<>"",BE25,BF25)
D26: =IF(ISBLANK(B26),"",(IF(MID(B26,5,1)="G","No",IF(MID(B26,5,1)="K","Yes","N/A")))) | N26: =IF(D26="No",1,(IF(AND(C26="Part 1033",D26="Yes",H26="Line-Haul"),IF(E26>=20,0.27,(VLOOKUP(E26,'Proration Factors'!$E$14:$F$33,2,FALSE))),(IF(AND(C26="Part 1033",D26="Yes",H26="Switch"),IF(E26>=40,0.2,(VLOOKUP(E26,'Proration Factors'!$H$14:$I$53,2,FALSE))),(IF(AND(C26="Part 92",D26="Yes"),IF(E26>=32,0.143,(VLOOKUP(E26,'Proration Factors'!$B$14:$C$45,2,FALSE))),""))))))) | O26: =IF(Z26<>"",Z26,IF(AA26<>"",AA26,IF(AB26<>"",AB26,""))) | P26: =IF(D26="N/A","",(IF(AND(U26=0,V26=1),(O26-M26)*1.341*J26*L26*N26*10^-3,""))) | Q26: =IF(BG26<>"",BG26,AI26) | U26: =IF(OR(Q26=$B$380,Q26=$B$381,Q26=$B$382,Q26=$B$383,Q26=$B$384,Q26=$B$385,Q26=$B$386),1,0) -> 0 | V26: =IF(NOT(OR(ISBLANK($C$11), ISBLANK(B26),ISBLANK(C26),ISBLANK(D26),ISBLANK(F26),ISBLANK(G26),ISBLANK(H26),ISBLANK(I26),ISBLANK(J26),ISBLANK(N26),ISBLANK(L26), ISBLANK(M26))),1,0) -> 0 | W26: =IF(ISBLANK(G26),0,IF(AND($C$11>2014,D26=$C$375,G26<>$E$378),1,IF(AND(G26<>$E$377,D26=$C$375,$C$11<2015,OR(AND(H26=$F$377,$C$11>2011),AND(H26=$F$378,$C$11>2010))),1,0))) -> 0 | X26: =IF(AND(G26<>$E$376,D26=$C$375,C26=$B$374,$C$11>2005,OR(AND(H26=$F$377,$C$11<2012),AND(H26=$F$378,$C$11<2011))),1,IF(AND(G26=$E$376,D26=$C$375,C26<>$B$374,$C$11>2005,OR(AND(H26=$F$377,$C$11<2012),AND(H26=$F$378,$C$11<2011))),1,0)) -> 0 | Y26: =G26&F26&H26 | Z26: =IF(AND(C26=$B$375,D26=$C$374,G26=$E$376,F26=$D$375,$C$11<2013,H26=$F$377),0.2,IF(AND(C26=$B$375,F26=$D$375,G26=$E$376,H26=$F$378,$C$11<2013),0.24,"")) | AA26: =IF(AND(V26<>0,C26=$B$375,Z26=""),IF(VLOOKUP(Y26,$U$319:$AC$353,5,FALSE)<>0,VLOOKUP(Y26,$U$319:$AC$353,5,FALSE),""),"") | AB26: =IF(AND(V26<>0,C26=$B$374,Z26=""),IF(VLOOKUP(Y26,$U$319:$AC$353,7,FALSE)<>0,VLOOKUP(Y26,$U$319:$AC$353,7,FALSE),""),"") | AC26: =IF(AND(V26<>0,C26=$B$375),VLOOKUP(Y26,$U$319:$AC$353,6,FALSE),"") | AD26: =IF(AND(V26<>0,C26=$B$374),VLOOKUP(Y26,$U$319:$AC$353,8,FALSE),"") | AE26: =IF(AND(AC26="",AD26=""),"",IF(OR(AC26=0,AD26=0),0,IF(OR(M26>AC26,M26>AD26),1,0))) | AF26: =IF(B26=B25,(IF(AND(C26=C25,D26=D25,I26=I25,L26=L25),0,1)),0) -> 0 | AG26: =IF(C26=$B$374,IF(H26=$F$377,$B$395,$B$394),IF(AND(H26=$F$378,G26=$E$375),$B$393,IF(AND(H26=$F$378,G26=$E$376),$B$392,""))) | AH26: =IF(AND(C26=$B$375,H26=$F$377), IF(G26=$E$374,$B$391,IF(G26=$E$375,$B$390,IF(G26=$E$376,$B$389,IF(G26=$E$377,$B$388,"")))),"") | AI26: =IF(AG26<>"",AG26,AH26) | AJ26: =IF(G26=$E$374,1,0) -> 0 | AK26: =IF(G26=$E$375,1,0) -> 0 | AL26: =IF(G26=$E$376,1,0) -> 0 | AM26: =IF(G26=$E$377,1,0) -> 0 | AN26: =IF(G26=$E$378,1,0) -> 0 | AO26: =IF(C26=$B$374,1,0) -> 0 | AP26: =IF(C26=$B$375,1,0) -> 0 | AQ26: =IF(H26=$F$377,1,0) -> 0 | AR26: =IF(H26=$F$378,1,0) -> 0 | AS26: =IF(F26=$D$375,1,0) -> 0 | AT26: =IF(F26=$D$374,1,0) -> 0 | AU26: =IF(F26=$D$376,1,0) -> 0 | AV26: =IF(AND(G26=$E$378,P26<0),L26,0) -> 0 | AW26: =IF(AND(P26<>"",G26=$E$378),L26,0) -> 0 | AX26: =IF(AND(D26=$C$375,F26=$D$374,C26=$B$374,P26<0,P26<>""),L26,"") | AY26: =IF(AND(D26=$C$375,C26=$B$374,F26=$D$374,P26<>""),L26,"") | AZ26: =IF(AND(V26=1,C26=$B$375,O26<>""),(O26-M26)*1.341*J26*L26*N26*10^-3,"") | BA26: =IF(AND(AZ26<>"",AZ26<0),B26,"") | BB26: =IF(AND(AZ26<>"",AZ26>0),B26,IF(BA26<>"","Using","")) | BC26: =IF(AND(V26=1,AZ26<>0, AZ26<>""),MATCH(BB26,$BA$14:$BA$315,0),0) -> 0 | BD26: =IF(ISERROR(BC26),0,IF(BC26>1,1,"")) | BE26: =IF(AND(F26=$D$376,OR(G26<>$E$378,C26<>$B$375)),$B$381,IF(AND(C26=$B$374,OR(G26=$E$377,G26=$E$378)),$B$385,IF(AE26=1,$B$382,IF(BD26=1,$B$386,"")))) | BF26: =IF(AND(D26=$C$375,N26<>"",N26<1),$B$380,IF(F409=0,"",IF(AF26=1,$B$383,IF(OR(W26=1,X26=1),$B$387,"")))) | BG26: =IF(BE26<>"",BE26,BF26)
... D314: =IF(ISBLANK(B314),"",(IF(MID(B314,5,1)="G","No",IF(MID(B314,5,1)="K","Yes","N/A")))) | N314: =IF(D314="No",1,(IF(AND(C314="Part 1033",D314="Yes",H314="Line-Haul"),IF(E314>=20,0.27,(VLOOKUP(E314,'Proration Factors'!$E$14:$F$33,2,FALSE))),(IF(AND(C314="Part 1033",D314="Yes",H314="Switch"),IF(E314>=40,0.2,(VLOOKUP(E314,'Proration Factors'!$H$14:$I$53,2,FALSE))),(IF(AND(C314="Part 92",D314="Yes"),IF(E314>=32,0.143,(VLOOKUP(E314,'Proration Factors'!$B$14:$C$45,2,FALSE))),""))))))) | O314: =IF(Z314<>"",Z314,IF(AA314<>"",AA314,IF(AB314<>"",AB314,""))) | P314: =IF(D314="N/A","",(IF(AND(U314=0,V314=1),(O314-M314)*1.341*J314*L314*N314*10^-3,""))) | Q314: =IF(BG314<>"",BG314,AI314) | U314: =IF(OR(Q314=$B$380,Q314=$B$381,Q314=$B$382,Q314=$B$383,Q314=$B$384,Q314=$B$385,Q314=$B$386),1,0) -> 0 | V314: =IF(NOT(OR(ISBLANK($C$11), ISBLANK(B314),ISBLANK(C314),ISBLANK(D314),ISBLANK(F314),ISBLANK(G314),ISBLANK(H314),ISBLANK(I314),ISBLANK(J314),ISBLANK(N314),ISBLANK(L314), ISBLANK(M314))),1,0) -> 0 | W314: =IF(ISBLANK(G314),0,IF(AND($C$11>2014,D314=$C$375,G314<>$E$378),1,IF(AND(G314<>$E$377,D314=$C$375,$C$11<2015,OR(AND(H314=$F$377,$C$11>2011),AND(H314=$F$378,$C$11>2010))),1,0))) -> 0 | X314: =IF(AND(G314<>$E$376,D314=$C$375,C314=$B$374,$C$11>2005,OR(AND(H314=$F$377,$C$11<2012),AND(H314=$F$378,$C$11<2011))),1,IF(AND(G314=$E$376,D314=$C$375,C314<>$B$374,$C$11>2005,OR(AND(H314=$F$377,$C$11<2012),AND(H314=$F$378,$C$11<2011))),1,0)) -> 0 | Y314: =G314&F314&H314 | Z314: =IF(AND(C314=$B$375,D314=$C$374,G314=$E$376,F314=$D$375,$C$11<2013,H314=$F$377),0.2,IF(AND(C314=$B$375,F314=$D$375,G314=$E$376,H314=$F$378,$C$11<2013),0.24,"")) | AA314: =IF(AND(V314<>0,C314=$B$375,Z314=""),IF(VLOOKUP(Y314,$U$319:$AC$353,5,FALSE)<>0,VLOOKUP(Y314,$U$319:$AC$353,5,FALSE),""),"") | AB314: =IF(AND(V314<>0,C314=$B$374,Z314=""),IF(VLOOKUP(Y314,$U$319:$AC$353,7,FALSE)<>0,VLOOKUP(Y314,$U$319:$AC$353,7,FALSE),""),"") | AC314: =IF(AND(V314<>0,C314=$B$375),VLOOKUP(Y314,$U$319:$AC$353,6,FALSE),"") | AD314: =IF(AND(V314<>0,C314=$B$374),VLOOKUP(Y314,$U$319:$AC$353,8,FALSE),"") | AE314: =IF(AND(AC314="",AD314=""),"",IF(OR(AC314=0,AD314=0),0,IF(OR(M314>AC314,M314>AD314),1,0))) | AF314: =IF(B314=B313,(IF(AND(C314=C313,D314=D313,I314=I313,L314=L313),0,1)),0) -> 0 | AG314: =IF(C314=$B$374,IF(H314=$F$377,$B$395,$B$394),IF(AND(H314=$F$378,G314=$E$375),$B$393,IF(AND(H314=$F$378,G314=$E$376),$B$392,""))) | AH314: =IF(AND(C314=$B$375,H314=$F$377), IF(G314=$E$374,$B$391,IF(G314=$E$375,$B$390,IF(G314=$E$376,$B$389,IF(G314=$E$377,$B$388,"")))),"") | AI314: =IF(AG314<>"",AG314,AH314) | AJ314: =IF(G314=$E$374,1,0) -> 0 | AK314: =IF(G314=$E$375,1,0) -> 0 | AL314: =IF(G314=$E$376,1,0) -> 0 | AM314: =IF(G314=$E$377,1,0) -> 0 | AN314: =IF(G314=$E$378,1,0) -> 0 | AO314: =IF(C314=$B$374,1,0) -> 0 | AP314: =IF(C314=$B$375,1,0) -> 0 | AQ314: =IF(H314=$F$377,1,0) -> 0 | AR314: =IF(H314=$F$378,1,0) -> 0 | AS314: =IF(F314=$D$375,1,0) -> 0 | AT314: =IF(F314=$D$374,1,0) -> 0 | AU314: =IF(F314=$D$376,1,0) -> 0 | AV314: =IF(AND(G314=$E$378,P314<0),L314,0) -> 0 | AW314: =IF(AND(P314<>"",G314=$E$378),L314,0) -> 0 | AX314: =IF(AND(D314=$C$375,F314=$D$374,C314=$B$374,P314<0,P314<>""),L314,"") | AY314: =IF(AND(D314=$C$375,C314=$B$374,F314=$D$374,P314<>""),L314,"") | AZ314: =IF(AND(V314=1,C314=$B$375,O314<>""),(O314-M314)*1.341*J314*L314*N314*10^-3,"") | BA314: =IF(AND(AZ314<>"",AZ314<0),B314,"") | BB314: =IF(AND(AZ314<>"",AZ314>0),B314,IF(BA314<>"","Using","")) | BC314: =IF(AND(V314=1,AZ314<>0, AZ314<>""),MATCH(BB314,$BA$14:$BA$315,0),0) -> 0 | BD314: =IF(ISERROR(BC314),0,IF(BC314>1,1,"")) | BE314: =IF(AND(F314=$D$376,OR(G314<>$E$378,C314<>$B$375)),$B$381,IF(AND(C314=$B$374,OR(G314=$E$377,G314=$E$378)),$B$385,IF(AE314=1,$B$382,IF(BD314=1,$B$386,"")))) | BF314: =IF(AND(D314=$C$375,N314<>"",N314<1),$B$380,IF(F697=0,"",IF(AF314=1,$B$383,IF(OR(W314=1,X314=1),$B$387,"")))) | BG314: =IF(BE314<>"",BE314,BF314)
D315: =IF(ISBLANK(B315),"",(IF(MID(B315,5,1)="G","No",IF(MID(B315,5,1)="K","Yes","N/A")))) | N315: =IF(D315="No",1,(IF(AND(C315="Part 1033",D315="Yes",H315="Line-Haul"),IF(E315>=20,0.27,(VLOOKUP(E315,'Proration Factors'!$E$14:$F$33,2,FALSE))),(IF(AND(C315="Part 1033",D315="Yes",H315="Switch"),IF(E315>=40,0.2,(VLOOKUP(E315,'Proration Factors'!$H$14:$I$53,2,FALSE))),(IF(AND(C315="Part 92",D315="Yes"),IF(E315>=32,0.143,(VLOOKUP(E315,'Proration Factors'!$B$14:$C$45,2,FALSE))),""))))))) | O315: =IF(Z315<>"",Z315,IF(AA315<>"",AA315,IF(AB315<>"",AB315,""))) | P315: =IF(D315="N/A","",(IF(AND(U315=0,V315=1),(O315-M315)*1.341*J315*L315*N315*10^-3,""))) | Q315: =IF(BG315<>"",BG315,AI315) | U315: =IF(OR(Q315=$B$380,Q315=$B$381,Q315=$B$382,Q315=$B$383,Q315=$B$384,Q315=$B$385,Q315=$B$386),1,0) -> 0 | V315: =IF(NOT(OR(ISBLANK($C$11), ISBLANK(B315),ISBLANK(C315),ISBLANK(D315),ISBLANK(F315),ISBLANK(G315),ISBLANK(H315),ISBLANK(I315),ISBLANK(J315),ISBLANK(N315),ISBLANK(L315), ISBLANK(M315))),1,0) -> 0 | W315: =IF(ISBLANK(G315),0,IF(AND($C$11>2014,D315=$C$375,G315<>$E$378),1,IF(AND(G315<>$E$377,D315=$C$375,$C$11<2015,OR(AND(H315=$F$377,$C$11>2011),AND(H315=$F$378,$C$11>2010))),1,0))) -> 0 | X315: =IF(AND(G315<>$E$376,D315=$C$375,C315=$B$374,$C$11>2005,OR(AND(H315=$F$377,$C$11<2012),AND(H315=$F$378,$C$11<2011))),1,IF(AND(G315=$E$376,D315=$C$375,C315<>$B$374,$C$11>2005,OR(AND(H315=$F$377,$C$11<2012),AND(H315=$F$378,$C$11<2011))),1,0)) -> 0 | Y315: =G315&F315&H315 | Z315: =IF(AND(C315=$B$375,D315=$C$374,G315=$E$376,F315=$D$375,$C$11<2013,H315=$F$377),0.2,IF(AND(C315=$B$375,F315=$D$375,G315=$E$376,H315=$F$378,$C$11<2013),0.24,"")) | AA315: =IF(AND(V315<>0,C315=$B$375,Z315=""),IF(VLOOKUP(Y315,$U$319:$AC$353,5,FALSE)<>0,VLOOKUP(Y315,$U$319:$AC$353,5,FALSE),""),"") | AB315: =IF(AND(V315<>0,C315=$B$374,Z315=""),IF(VLOOKUP(Y315,$U$319:$AC$353,7,FALSE)<>0,VLOOKUP(Y315,$U$319:$AC$353,7,FALSE),""),"") | AC315: =IF(AND(V315<>0,C315=$B$375),VLOOKUP(Y315,$U$319:$AC$353,6,FALSE),"") | AD315: =IF(AND(V315<>0,C315=$B$374),IF(VLOOKUP(Y315,$U$319:$AC$353,8,FALSE)<>0,VLOOKUP(Y315,$U$319:$AC$353,8,FALSE),""),"") | AE315: =IF(AND(AC315="",AD315=""),"",IF(OR(AC315=0,AD315=0),0,IF(OR(M315>AC315,M315>AD315),1,0))) | AF315: =IF(B315=B314,(IF(AND(C315=C314,D315=D314,I315=I314,L315=L314),0,1)),0) -> 0 | AG315: =IF(C315=$B$374,IF(H315=$F$377,$B$395,$B$394),IF(AND(H315=$F$378,G315=$E$375),$B$393,IF(AND(H315=$F$378,G315=$E$376),$B$392,""))) | AH315: =IF(AND(C315=$B$375,H315=$F$377), IF(G315=$E$374,$B$391,IF(G315=$E$375,$B$390,IF(G315=$E$376,$B$389,IF(G315=$E$377,$B$388,"")))),"") | AI315: =IF(AG315<>"",AG315,AH315) | AJ315: =IF(G315=$E$374,1,0) -> 0 | AK315: =IF(G315=$E$375,1,0) -> 0 | AL315: =IF(G315=$E$376,1,0) -> 0 | AM315: =IF(G315=$E$377,1,0) -> 0 | AN315: =IF(G315=$E$378,1,0) -> 0 | AO315: =IF(C315=$B$374,1,0) -> 0 | AP315: =IF(C315=$B$375,1,0) -> 0 | AQ315: =IF(H315=$F$377,1,0) -> 0 | AR315: =IF(H315=$F$378,1,0) -> 0 | AS315: =IF(F315=$D$375,1,0) -> 0 | AT315: =IF(F315=$D$374,1,0) -> 0 | AU315: =IF(F315=$D$376,1,0) -> 0 | AV315: =IF(AND(G315=$E$378,P315<0),L315,0) -> 0 | AW315: =IF(AND(P315<>"",G315=$E$378),L315,0) -> 0 | AX315: =IF(AND(D315=$C$375,F315=$D$374,C315=$B$374,P315<0,P315<>""),L315,"") | AY315: =IF(AND(D315=$C$375,C315=$B$374,F315=$D$374,P315<>""),L315,"") | AZ315: =IF(AND(V315=1,C315=$B$375,O315<>""),(O315-M315)*1.341*J315*L315*N315*10^-3,"") | BA315: =IF(AND(AZ315<>"",AZ315<0),B315,"") | BB315: =IF(AND(AZ315<>"",AZ315>0),B315,IF(BA315<>"","Using","")) | BC315: =IF(AND(V315=1,AZ315<>0, AZ315<>""),MATCH(BB315,$BA$14:$BA$315,0),0) -> 0 | BD315: =IF(ISERROR(BC315),0,IF(BC315>1,1,"")) | BE315: =IF(AND(F315=$D$376,OR(G315<>$E$378,C315<>$B$375)),$B$381,IF(AND(C315=$B$374,OR(G315=$E$377,G315=$E$378)),$B$385,IF(AE315=1,$B$382,IF(BD315=1,$B$386,"")))) | BF315: =IF(AND(D315=$C$375,N315<>"",N315<1),$B$380,IF(F698=0,"",IF(AF315=1,$B$383,IF(OR(W315=1,X315=1),$B$387,"")))) | BG315: =IF(BE315<>"",BE315,BF315)
B316: 1 See Power Rating Calc tab | AC316: * 0 means no FEL cap
B317: 2 See Proration Factors tab. The proration factor is 1.00 for all locomotives that meet the definition of freshly manufactured.
V318: Tier | W318: Parameter | X318: Engine Class | Y318: Part 1033 | AA318: Part 92
B319: SUMMARY OF CURRENT MODEL YEAR CREDITS (Mg) | J319: Messages | P319: Paperwork Reduction Act Notice | Y319: Std | Z319: FEL Cap | AA319: Std | AB319: FEL Cap
B320: TIER | C320: NOx Credits | E320: NOx+HC Credits (Tier 4) | G320: PM Credits | I320: % Using Credits* | J320: =IF(SUM(AY15:AY315)<>0, IF((SUM(AX15:AX315)/SUM(AY15:AY315))>0.5,B397,""),"") | P320: The public reporting and recordkeeping burden for this collection of information is estimated to average 30 hours per response. Send comments on the Agency's need for this information, the accuracy of the provided burden estimates, and any suggested methods for minimizing respondent burden, including through the use of automated collection techniques to the Director, Collection Strategies Division, U.S. Environmental Protection Agency (2822T), 1200 Pennsylvania Ave., NW, Washington, D.C. 20460. Include the OMB control number in any correspondence. Do not send the completed form to this address. | U320: =V320&W320&X320 -> Tier 0NOxLine-Haul | V320: Tier 0 | W320: NOx | X320: Line-Haul | Y320: 8 | AA320: 9.5
C321: Line-Haul | D321: Switch | E321: Line-Haul | F321: Switch | G321: Line-Haul | H321: Switch | U321: =V321&W321&X321 -> Tier 0NOxSwitch | V321: Tier 0 | W321: NOx | X321: Switch | Y321: 11.8 | AA321: 14
B322: Tier 0 Part 92 | C322: =SUMPRODUCT(P15:P315,AJ15:AJ315,AQ15:AQ315,AT15:AT315,AO15:AO315) -> 0 | D322: =SUMPRODUCT(P15:P315,AJ15:AJ315,AR15:AR315,AT15:AT315,AO15:AO315) -> 0 | G322: =SUMPRODUCT(P15:P315,AJ15:AJ315,AQ15:AQ315,AS15:AS315,AO15:AO315) -> 0 | H322: =SUMPRODUCT(P15:P315,AJ15:AJ315,AR15:AR315,AS15:AS315,AO15:AO315) -> 0 | U322: =V322&W322&X322 -> Tier 0PMLine-Haul | V322: Tier 0 | W322: PM | X322: Line-Haul | Y322: 0.22 | AA322: 0.32
B323: Tier 0 Part 1033 | C323: =SUMPRODUCT(P15:P315,AJ15:AJ315,AQ15:AQ315,AT15:AT315,AP15:AP315) -> 0 | D323: =SUMPRODUCT(P15:P315,AJ15:AJ315,AR15:AR315,AT15:AT315,AP15:AP315) -> 0 | G323: =SUMPRODUCT(P15:P315,AJ15:AJ315,AQ15:AQ315,AS15:AS315,AP15:AP315) -> 0 | H323: =SUMPRODUCT(P15:P315,AJ15:AJ315,AR15:AR315,AS15:AS315,AP15:AP315) -> 0 | U323: =V323&W323&X323 -> Tier 0PMSwitch | V323: Tier 0 | W323: PM | X323: Switch | Y323: 0.26 | AA323: 0.44
B324: Tier 1 Part 92 | C324: =SUMPRODUCT(P15:P315,AK15:AK315,AQ15:AQ315,AT15:AT315,AO15:AO315) -> 0 | D324: =SUMPRODUCT(P15:P315,AK15:AK315,AR15:AR315,AT15:AT315,AO15:AO315) -> 0 | G324: =SUMPRODUCT(P15:P315,AK15:AK315,AQ15:AQ315,AS15:AS315,AO15:AO315) -> 0 | H324: =SUMPRODUCT(P15:P315,AK15:AK315,AR15:AR315,AS15:AS315,AO15:AO315) -> 0 | J324: =IF(AND(I329>0.5,I329<>"NA"),B396,"") | P324: OMB No. 2060-0392 Approval Expires on 2/28/2013 EPA Form 5900-274 | U324: =V324&W324&X324 -> Tier 0HC+NOxLine-Haul | V324: Tier 0 | W324: HC+NOx | X324: Line-Haul
B325: Tier 1 Part 1033 | C325: =SUMPRODUCT(P15:P315,AK15:AK315,AQ15:AQ315,AT15:AT315,AP15:AP315) -> 0 | D325: =SUMPRODUCT(P15:P315,AK15:AK315,AR15:AR315,AT15:AT315,AP15:AP315) -> 0 | G325: =SUMPRODUCT(P15:P315,AK15:AK315,AQ15:AQ315,AS15:AS315,AP15:AP315) -> 0 | H325: =SUMPRODUCT(P15:P315,AK15:AK315,AR15:AR315,AS15:AS315,AP15:AP315) -> 0 | U325: =V325&W325&X325 -> Tier 0HC+NOxSwitch | V325: Tier 0 | W325: HC+NOx | X325: Switch
B326: Tier 2 Part 92 | C326: =SUMPRODUCT(P15:P315,AL15:AL315,AQ15:AQ315,AT15:AT315,AO15:AO315) -> 0 | D326: =SUMPRODUCT(P15:P315,AL15:AL315,AR15:AR315,AT15:AT315,AO15:AO315) -> 0 | G326: =SUMPRODUCT(P15:P315,AL15:AL315,AQ15:AQ315,AS15:AS315,AO15:AO315) -> 0 | H326: =SUMPRODUCT(P15:P315,AL15:AL315,AR15:AR315,AS15:AS315,AO15:AO315) -> 0 | I326: =IF(SUM(AY15:AY315)<>0,SUM(AX15:AX315)/SUM(AY15:AY315), "NA") -> NA | U326: =V326&W326&Y326
B327: Tier 2 Part 1033 | C327: =SUMPRODUCT(P15:P315,AL15:AL315,AQ15:AQ315,AT15:AT315,AP15:AP315) -> 0 | D327: =SUMPRODUCT(P15:P315,AL15:AL315,AR15:AR315,AT15:AT315,AP15:AP315) -> 0 | G327: =SUMPRODUCT(P15:P315,AL15:AL315,AQ15:AQ315,AS15:AS315,AP15:AP315) -> 0 | H327: =SUMPRODUCT(P15:P315,AL15:AL315,AR15:AR315,AS15:AS315,AP15:AP315) -> 0 | U327: =V327&W327&X327 -> Tier 1NOxLine-Haul | V327: Tier 1 | W327: NOx | X327: Line-Haul | Y327: 7.4 | Z327: 8 | AA327: 7.4 | AB327: 9.5
B328: Tier 3 Part 1033 | C328: =SUMPRODUCT(P15:P315,AM15:AM315,AQ15:AQ315,AT15:AT315,AP15:AP315) -> 0 | D328: =SUMPRODUCT(P15:P315,AM15:AM315,AR15:AR315,AT15:AT315,AP15:AP315) -> 0 | G328: =SUMPRODUCT(P15:P315,AM15:AM315,AQ15:AQ315,AS15:AS315,AP15:AP315) -> 0 | H328: =SUMPRODUCT(P15:P315,AM15:AM315,AR15:AR315,AS15:AS315,AP15:AP315) -> 0 | U328: =V328&W328&X328 -> Tier 1NOxSwitch | V328: Tier 1 | W328: NOx | X328: Switch | Y328: 11 | Z328: 11.8 | AA328: 11 | AB328: 14
B329: Tier 4 Part 1033 | C329: =SUMPRODUCT(P15:P315,AN15:AN315,AQ15:AQ315,AT15:AT315,AP15:AP315) -> 0 | D329: =SUMPRODUCT(P15:P315,AN15:AN315,AR15:AR315,AT15:AT315,AP15:AP315) -> 0 | E329: =SUMPRODUCT(P15:P315,AN15:AN315,AU15:AU315,AQ15:AQ315,AP15:AP315) -> 0 | F329: =SUMPRODUCT(P15:P315,AN15:AN315,AU15:AU315,AR15:AR315,AP15:AP315) -> 0 | G329: =SUMPRODUCT(P15:P315,AN15:AN315,AQ15:AQ315,AS15:AS315,AP15:AP315) -> 0 | H329: =SUMPRODUCT(P15:P315,AN15:AN315,AR15:AR315,AS15:AS315,AP15:AP315) -> 0 | I329: =IF(SUM(AW15:AW315)<>0,SUM(AV15:AV315)/G11, "NA") -> NA | U329: =V329&W329&X329 -> Tier 1PMLine-Haul | V329: Tier 1 | W329: PM | X329: Line-Haul | Y329: 0.22 | Z329: 0.22 | AA329: 0.32 | AB329: 0.6
I330: *May not exceed 50%. | U330: =V330&W330&X330 -> Tier 1PMSwitch | V330: Tier 1 | W330: PM | X330: Switch | Y330: 0.26 | Z330: 0.26 | AA330: 0.44 | AB330: 0.72
