Workbook

Sheet Instructions
A2: United States
A3: Environmental Protection Agency
A4: Office of Air and Radiation, Office of Transportation and Air Quality
A6: Manufacturer Averaging, Banking, and Trading Report for Locomotives
A7: Last Revision: November 2024 Version 24
A9: Manufacturer Data Submission Template -- INSTRUCTIONS
B128: Paperwork Reduction Act Notice
B129: The public reporting and recordkeeping burden for this collection of information is estimated to average 30 hours per response. Send comments on the Agency's need for this information, the accuracy of the provided burden estimates, and any suggested methods for minimizing respondent burden, including through the use of automated collection techniques to the Director, Collection Strategies Division, U.S. Environmental Protection Agency (2822T), 1200 Pennsylvania Ave., NW, Washington, D.C. 20460. Include the OMB control number in any correspondence. Do not send the completed form to this address.

Sheet Current MY Credit Calc
B2: United States
B3: Environmental Protection Agency
B4: Office of Air and Radiation, Office of Transportation and Air Quality
B6: Manufacturer Averaging, Banking, and Trading Report for Locomotives
B7: Last Revision: November 2024 Version 24
B9: Current MY Emission Credits | N9: Submission Date:
B11: MODEL YEAR: | E11: Total Tier 4 Production Volume:
B12: Manufacturer: | U12: Error? | V12: Entered all values? | W12: Model Year and Tier Check (Tier 3 and 4) | X12: Model Year and Tier Check (Tier 2) | Y12: Category | Z12: Standards | AC12: FEL Cap* | AE12: FEL exceeds cap? | AF12: Eng.Fam Info Match | AG12: Notes | AH12: Notes(2) | AI12: Notes Final | AJ12: Credit Summary Calculation | AV12: Tier 4: All loc. | AX12: Nox Credits: Fresh. Man | AZ12: Part 1033 engine families using credits | BE12: Error 1 | BF12: Error 2 | BG12: Error Final
B14: Engine Family | C14: Applicable 40 CFR Part | D14: Remanufactured? (Yes/No) | E14: Age | F14: Pollutant | G14: Tier | H14: Engine Class Type | I14: Power Rating (hp)1 | J14: Useful Life (MW-hrs) | K14: Partial Useful Life (Yes/No) | L14: Production | M14: FEL (g/bhp-hr) | N14: Proration Factor (Fp)2 | O14: Standard (g/bhp-hr) | P14: Credit Balance (Mg) | Q14: Messages | R14: Comments | Z14: Alternate Standards | AA14: Part 1033 | AB14: Part 92 | AC14: Part 1033 | AD14: Part 92 | AJ14: 0 | AK14: 1 | AL14: 2 | AM14: 3 | AN14: 4 | AO14: Part 92 | AP14: Part 1033 | AQ14: line haul | AR14: switch | AS14: PM | AT14: NOx | AU14: HC+NOx | AV14: # Using Credits | AW14: Production | AX14: # Using Nox Credits | AY14: Total Nox Production | AZ14: Credit Balance | BA14: Using | BB14: Generating | BC14: Matching Array Pos | BD14: Error?
D15: =IF(ISBLANK(B15),"",(IF(MID(B15,5,1)="G","No",IF(MID(B15,5,1)="K","Yes","N/A")))) | N15: =IF(D15="No",1,(IF(AND(C15="Part 1033",D15="Yes",H15="Line-Haul"),IF(E15>=20,0.27,(VLOOKUP(E15,'Proration Factors'!$E$14:$F$33,2,FALSE))),(IF(AND(C15="Part 1033",D15="Yes",H15="Switch"),IF(E15>=40,0.2,(VLOOKUP(E15,'Proration Factors'!$H$14:$I$53,2,FALSE))),(IF(AND(C15="Part 92",D15="Yes"),IF(E15>=32,0.143,(VLOOKUP(E15,'Proration Factors'!$B$14:$C$45,2,FALSE))),""))))))) | O15: =IF(Z15<>"",Z15,IF(AA15<>"",AA15,IF(AB15<>"",AB15,""))) | P15: =IF(D15="N/A","",(IF(AND(U15=0,V15=1),(O15-M15)*1.341*J15*L15*N15*10^-3,""))) | Q15: =IF(BG15<>"",BG15,AI15) | U15: =IF(OR(Q15=$B$380,Q15=$B$381,Q15=$B$382,Q15=$B$383,Q15=$B$384,Q15=$B$385,Q15=$B$386),1,0) -> 0 | V15: =IF(NOT(OR(ISBLANK($C$11), ISBLANK(B15),ISBLANK(C15),ISBLANK(D15),ISBLANK(F15),ISBLANK(G15),ISBLANK(H15),ISBLANK(I15),ISBLANK(J15),ISBLANK(N15),ISBLANK(L15), ISBLANK(M15))),1,0) -> 0 | W15: =IF(ISBLANK(G15),0,IF(AND($C$11>2014,D15=$C$375,G15<>$E$378),1,IF(AND(G15<>$E$377,D15=$C$375,$C$11<2015,OR(AND(H15=$F$377,$C$11>2011),AND(H15=$F$378,$C$11>2010))),1,0))) -> 0 | X15: =IF(AND(G15<>$E$376,D15=$C$375,C15=$B$374,$C$11>2005,OR(AND(H15=$F$377,$C$11<2012),AND(H15=$F$378,$C$11<2011))),1,IF(AND(G15=$E$376,D15=$C$375,C15<>$B$374,$C$11>2005,OR(AND(H15=$F$377,$C$11<2012),AND(H15=$F$378,$C$11<2011))),1,0)) -> 0 | Y15: =G15&F15&H15 | Z15: =IF(AND(C15=$B$375,D15=$C$374,G15=$E$376,F15=$D$375,$C$11<2013,H15=$F$377),0.2,IF(AND(C15=$B$375,F15=$D$375,G15=$E$376,H15=$F$378,$C$11<2013),0.24,"")) | AA15: =IF(AND(V15<>0,C15=$B$375,Z15=""),IF(VLOOKUP(Y15,$U$319:$AC$353,5,FALSE)<>0,VLOOKUP(Y15,$U$319:$AC$353,5,FALSE),""),"") | AB15: =IF(AND(V15<>0,C15=$B$374,Z15=""),IF(VLOOKUP(Y15,$U$319:$AC$353,7,FALSE)<>0,VLOOKUP(Y15,$U$319:$AC$353,7,FALSE),""),"") | AC15: =IF(AND(V15<>0,C15=$B$375),VLOOKUP(Y15,$U$319:$AC$353,6,FALSE),"") | AD15: =IF(AND(V15<>0,C15=$B$374),VLOOKUP(Y15,$U$319:$AC$353,8,FALSE),"") | AE15: =IF(AND(AC15="",AD15=""),"",IF(OR(AC15=0,AD15=0),0,IF(OR(M15>AC15,M15>AD15),1,0))) | AF15: =IF(B15=B14,(IF(AND(C15=C14,D15=D14,I15=I14,L15=L14),0,1)),0) -> 0 | AG15: =IF(C15=$B$374,IF(H15=$F$377,$B$395,$B$394),IF(AND(H15=$F$378,G15=$E$375),$B$393,IF(AND(H15=$F$378,G15=$E$376),$B$392,""))) | AH15: =IF(AND(C15=$B$375,H15=$F$377), IF(G15=$E$374,$B$391,IF(G15=$E$375,$B$390,IF(G15=$E$376,$B$389,IF(G15=$E$377,$B$388,"")))),"") | AI15: =IF(AG15<>"",AG15,AH15) | AJ15: =IF(G15=$E$374,1,0) -> 0 | AK15: =IF(G15=$E$375,1,0) -> 0 | AL15: =IF(G15=$E$376,1,0) -> 0 | AM15: =IF(G15=$E$377,1,0) -> 0 | AN15: =IF(G15=$E$378,1,0) -> 0 | AO15: =IF(C15=$B$374,1,0) -> 0 | AP15: =IF(C15=$B$375,1,0) -> 0 | AQ15: =IF(H15=$F$377,1,0) -> 0 | AR15: =IF(H15=$F$378,1,0) -> 0 | AS15: =IF(F15=$D$375,1,0) -> 0 | AT15: =IF(F15=$D$374,1,0) -> 0 | AU15: =IF(F15=$D$376,1,0) -> 0 | AV15: =IF(AND(G15=$E$378,P15<0),L15,0) -> 0 | AW15: =IF(AND(P15<>"",G15=$E$378),L15,0) -> 0 | AX15: =IF(AND(D15=$C$375,F15=$D$374,C15=$B$374,P15<0,P15<>""),L15,"") | AY15: =IF(AND(D15=$C$375,C15=$B$374,F15=$D$374,P15<>""),L15,"") | AZ15: =IF(AND(V15=1,C15=$B$375,O15<>""),(O15-M15)*1.341*J15*L15*N15*10^-3,"") | BA15: =IF(AND(AZ15<>"",AZ15<0),B15,"") | BB15: =IF(AND(AZ15<>"",AZ15>0),B15,IF(BA15<>"","Using","")) | BC15: =IF(AND(V15=1,AZ15<>0, AZ15<>""),MATCH(BB15,$BA$14:$BA$315,0),0) -> 0 | BD15: =IF(ISERROR(BC15),0,IF(BC15>1,1,"")) | BE15: =IF(AND(F15=$D$376,OR(G15<>$E$378,C15<>$B$375)),$B$381,IF(AND(C15=$B$374,OR(G15=$E$377,G15=$E$378)),$B$385,IF(AE15=1,$B$382,IF(BD15=1,$B$386,"")))) | BF15: =IF(AND(D15=$C$375,N15<>"",N15<1),$B$380,IF(F398=0,"",IF(AF15=1,$B$383,IF(OR(W15=1,X15=1),$B$387,"")))) | BG15: =IF(BE15<>"",BE15,BF15)
D16: =IF(ISBLANK(B16),"",(IF(MID(B16,5,1)="G","No",IF(MID(B16,5,1)="K","Yes","N/A")))) | N16: =IF(D16="No",1,(IF(AND(C16="Part 1033",D16="Yes",H16="Line-Haul"),IF(E16>=20,0.27,(VLOOKUP(E16,'Proration Factors'!$E$14:$F$33,2,FALSE))),(IF(AND(C16="Part 1033",D16="Yes",H16="Switch"),IF(E16>=40,0.2,(VLOOKUP(E16,'Proration Factors'!$H$14:$I$53,2,FALSE))),(IF(AND(C16="Part 92",D16="Yes"),IF(E16>=32,0.143,(VLOOKUP(E16,'Proration Factors'!$B$14:$C$45,2,FALSE))),""))))))) | O16: =IF(Z16<>"",Z16,IF(AA16<>"",AA16,IF(AB16<>"",AB16,""))) | P16: =IF(D16="N/A","",(IF(AND(U16=0,V16=1),(O16-M16)*1.341*J16*L16*N16*10^-3,""))) | Q16: =IF(BG16<>"",BG16,AI16) | U16: =IF(OR(Q16=$B$380,Q16=$B$381,Q16=$B$382,Q16=$B$383,Q16=$B$384,Q16=$B$385,Q16=$B$386),1,0) -> 0 | V16: =IF(NOT(OR(ISBLANK($C$11), ISBLANK(B16),ISBLANK(C16),ISBLANK(D16),ISBLANK(F16),ISBLANK(G16),ISBLANK(H16),ISBLANK(I16),ISBLANK(J16),ISBLANK(N16),ISBLANK(L16), ISBLANK(M16))),1,0) -> 0 | W16: =IF(ISBLANK(G16),0,IF(AND($C$11>2014,D16=$C$375,G16<>$E$378),1,IF(AND(G16<>$E$377,D16=$C$375,$C$11<2015,OR(AND(H16=$F$377,$C$11>2011),AND(H16=$F$378,$C$11>2010))),1,0))) -> 0 | X16: =IF(AND(G16<>$E$376,D16=$C$375,C16=$B$374,$C$11>2005,OR(AND(H16=$F$377,$C$11<2012),AND(H16=$F$378,$C$11<2011))),1,IF(AND(G16=$E$376,D16=$C$375,C16<>$B$374,$C$11>2005,OR(AND(H16=$F$377,$C$11<2012),AND(H16=$F$378,$C$11<2011))),1,0)) -> 0 | Y16: =G16&F16&H16 | Z16: =IF(AND(C16=$B$375,D16=$C$374,G16=$E$376,F16=$D$375,$C$11<2013,H16=$F$377),0.2,IF(AND(C16=$B$375,F16=$D$375,G16=$E$376,H16=$F$378,$C$11<2013),0.24,"")) | AA16: =IF(AND(V16<>0,C16=$B$375,Z16=""),IF(VLOOKUP(Y16,$U$319:$AC$353,5,FALSE)<>0,VLOOKUP(Y16,$U$319:$AC$353,5,FALSE),""),"") | AB16: =IF(AND(V16<>0,C16=$B$374,Z16=""),IF(VLOOKUP(Y16,$U$319:$AC$353,7,FALSE)<>0,VLOOKUP(Y16,$U$319:$AC$353,7,FALSE),""),"") | AC16: =IF(AND(V16<>0,C16=$B$375),VLOOKUP(Y16,$U$319:$AC$353,6,FALSE),"") | AD16: =IF(AND(V16<>0,C16=$B$374),VLOOKUP(Y16,$U$319:$AC$353,8,FALSE),"") | AE16: =IF(AND(AC16="",AD16=""),"",IF(OR(AC16=0,AD16=0),0,IF(OR(M16>AC16,M16>AD16),1,0))) | AF16: =IF(B16=B15,(IF(AND(C16=C15,D16=D15,I16=I15,L16=L15),0,1)),0) -> 0 | AG16: =IF(C16=$B$374,IF(H16=$F$377,$B$395,$B$394),IF(AND(H16=$F$378,G16=$E$375),$B$393,IF(AND(H16=$F$378,G16=$E$376),$B$392,""))) | AH16: =IF(AND(C16=$B$375,H16=$F$377), IF(G16=$E$374,$B$391,IF(G16=$E$375,$B$390,IF(G16=$E$376,$B$389,IF(G16=$E$377,$B$388,"")))),"") | AI16: =IF(AG16<>"",AG16,AH16) | AJ16: =IF(G16=$E$374,1,0) -> 0 | AK16: =IF(G16=$E$375,1,0) -> 0 | AL16: =IF(G16=$E$376,1,0) -> 0 | AM16: =IF(G16=$E$377,1,0) -> 0 | AN16: =IF(G16=$E$378,1,0) -> 0 | AO16: =IF(C16=$B$374,1,0) -> 0 | AP16: =IF(C16=$B$375,1,0) -> 0 | AQ16: =IF(H16=$F$377,1,0) -> 0 | AR16: =IF(H16=$F$378,1,0) -> 0 | AS16: =IF(F16=$D$375,1,0) -> 0 | AT16: =IF(F16=$D$374,1,0) -> 0 | AU16: =IF(F16=$D$376,1,0) -> 0 | AV16: =IF(AND(G16=$E$378,P16<0),L16,0) -> 0 | AW16: =IF(AND(P16<>"",G16=$E$378),L16,0) -> 0 | AX16: =IF(AND(D16=$C$375,F16=$D$374,C16=$B$374,P16<0,P16<>""),L16,"") | AY16: =IF(AND(D16=$C$375,C16=$B$374,F16=$D$374,P16<>""),L16,"") | AZ16: =IF(AND(V16=1,C16=$B$375,O16<>""),(O16-M16)*1.341*J16*L16*N16*10^-3,"") | BA16: =IF(AND(AZ16<>"",AZ16<0),B16,"") | BB16: =IF(AND(AZ16<>"",AZ16>0),B16,IF(BA16<>"","Using","")) | BC16: =IF(AND(V16=1,AZ16<>0, AZ16<>""),MATCH(BB16,$BA$14:$BA$315,0),0) -> 0 | BD16: =IF(ISERROR(BC16),0,IF(BC16>1,1,"")) | BE16: =IF(AND(F16=$D$376,OR(G16<>$E$378,C16<>$B$375)),$B$381,IF(AND(C16=$B$374,OR(G16=$E$377,G16=$E$378)),$B$385,IF(AE16=1,$B$382,IF(BD16=1,$B$386,"")))) | BF16: =IF(AND(D16=$C$375,N16<>"",N16<1),$B$380,IF(F399=0,"",IF(AF16=1,$B$383,IF(OR(W16=1,X16=1),$B$387,"")))) | BG16: =IF(BE16<>"",BE16,BF16)
D17: =IF(ISBLANK(B17),"",(IF(MID(B17,5,1)="G","No",IF(MID(B17,5,1)="K","Yes","N/A")))) | N17: =IF(D17="No",1,(IF(AND(C17="Part 1033",D17="Yes",H17="Line-Haul"),IF(E17>=20,0.27,(VLOOKUP(E17,'Proration Factors'!$E$14:$F$33,2,FALSE))),(IF(AND(C17="Part 1033",D17="Yes",H17="Switch"),IF(E17>=40,0.2,(VLOOKUP(E17,'Proration Factors'!$H$14:$I$53,2,FALSE))),(IF(AND(C17="Part 92",D17="Yes"),IF(E17>=32,0.143,(VLOOKUP(E17,'Proration Factors'!$B$14:$C$45,2,FALSE))),""))))))) | O17: =IF(Z17<>"",Z17,IF(AA17<>"",AA17,IF(AB17<>"",AB17,""))) | P17: =IF(D17="N/A","",(IF(AND(U17=0,V17=1),(O17-M17)*1.341*J17*L17*N17*10^-3,""))) | Q17: =IF(BG17<>"",BG17,AI17) | U17: =IF(OR(Q17=$B$380,Q17=$B$381,Q17=$B$382,Q17=$B$383,Q17=$B$384,Q17=$B$385,Q17=$B$386),1,0) -> 0 | V17: =IF(NOT(OR(ISBLANK($C$11), ISBLANK(B17),ISBLANK(C17),ISBLANK(D17),ISBLANK(F17),ISBLANK(G17),ISBLANK(H17),ISBLANK(I17),ISBLANK(J17),ISBLANK(N17),ISBLANK(L17), ISBLANK(M17))),1,0) -> 0 | W17: =IF(ISBLANK(G17),0,IF(AND($C$11>2014,D17=$C$375,G17<>$E$378),1,IF(AND(G17<>$E$377,D17=$C$375,$C$11<2015,OR(AND(H17=$F$377,$C$11>2011),AND(H17=$F$378,$C$11>2010))),1,0))) -> 0 | X17: =IF(AND(G17<>$E$376,D17=$C$375,C17=$B$374,$C$11>2005,OR(AND(H17=$F$377,$C$11<2012),AND(H17=$F$378,$C$11<2011))),1,IF(AND(G17=$E$376,D17=$C$375,C17<>$B$374,$C$11>2005,OR(AND(H17=$F$377,$C$11<2012),AND(H17=$F$378,$C$11<2011))),1,0)) -> 0 | Y17: =G17&F17&H17 | Z17: =IF(AND(C17=$B$375,D17=$C$374,G17=$E$376,F17=$D$375,$C$11<2013,H17=$F$377),0.2,IF(AND(C17=$B$375,F17=$D$375,G17=$E$376,H17=$F$378,$C$11<2013),0.24,"")) | AA17: =IF(AND(V17<>0,C17=$B$375,Z17=""),IF(VLOOKUP(Y17,$U$319:$AC$353,5,FALSE)<>0,VLOOKUP(Y17,$U$319:$AC$353,5,FALSE),""),"") | AB17: =IF(AND(V17<>0,C17=$B$374,Z17=""),IF(VLOOKUP(Y17,$U$319:$AC$353,7,FALSE)<>0,VLOOKUP(Y17,$U$319:$AC$353,7,FALSE),""),"") | AC17: =IF(AND(V17<>0,C17=$B$375),VLOOKUP(Y17,$U$319:$AC$353,6,FALSE),"") | AD17: =IF(AND(V17<>0,C17=$B$374),VLOOKUP(Y17,$U$319:$AC$353,8,FALSE),"") | AE17: =IF(AND(AC17="",AD17=""),"",IF(OR(AC17=0,AD17=0),0,IF(OR(M17>AC17,M17>AD17),1,0))) | AF17: =IF(B17=B16,(IF(AND(C17=C16,D17=D16,I17=I16,L17=L16),0,1)),0) -> 0 | AG17: =IF(C17=$B$374,IF(H17=$F$377,$B$395,$B$394),IF(AND(H17=$F$378,G17=$E$375),$B$393,IF(AND(H17=$F$378,G17=$E$376),$B$392,""))) | AH17: =IF(AND(C17=$B$375,H17=$F$377), IF(G17=$E$374,$B$391,IF(G17=$E$375,$B$390,IF(G17=$E$376,$B$389,IF(G17=$E$377,$B$388,"")))),"") | AI17: =IF(AG17<>"",AG17,AH17) | AJ17: =IF(G17=$E$374,1,0) -> 0 | AK17: =IF(G17=$E$375,1,0) -> 0 | AL17: =IF(G17=$E$376,1,0) -> 0 | AM17: =IF(G17=$E$377,1,0) -> 0 | AN17: =IF(G17=$E$378,1,0) -> 0 | AO17: =IF(C17=$B$374,1,0) -> 0 | AP17: =IF(C17=$B$375,1,0) -> 0 | AQ17: =IF(H17=$F$377,1,0) -> 0 | AR17: =IF(H17=$F$378,1,0) -> 0 | AS17: =IF(F17=$D$375,1,0) -> 0 | AT17: =IF(F17=$D$374,1,0) -> 0 | AU17: =IF(F17=$D$376,1,0) -> 0 | AV17: =IF(AND(G17=$E$378,P17<0),L17,0) -> 0 | AW17: =IF(AND(P17<>"",G17=$E$378),L17,0) -> 0 | AX17: =IF(AND(D17=$C$375,F17=$D$374,C17=$B$374,P17<0,P17<>""),L17,"") | AY17: =IF(AND(D17=$C$375,C17=$B$374,F17=$D$374,P17<>""),L17,"") | AZ17: =IF(AND(V17=1,C17=$B$375,O17<>""),(O17-M17)*1.341*J17*L17*N17*10^-3,"") | BA17: =IF(AND(AZ17<>"",AZ17<0),B17,"") | BB17: =IF(AND(AZ17<>"",AZ17>0),B17,IF(BA17<>"","Using","")) | BC17: =IF(AND(V17=1,AZ17<>0, AZ17<>""),MATCH(BB17,$BA$14:$BA$315,0),0) -> 0 | BD17: =IF(ISERROR(BC17),0,IF(BC17>1,1,"")) | BE17: =IF(AND(F17=$D$376,OR(G17<>$E$378,C17<>$B$375)),$B$381,IF(AND(C17=$B$374,OR(G17=$E$377,G17=$E$378)),$B$385,IF(AE17=1,$B$382,IF(BD17=1,$B$386,"")))) | BF17: =IF(AND(D17=$C$375,N17<>"",N17<1),$B$380,IF(F400=0,"",IF(AF17=1,$B$383,IF(OR(W17=1,X17=1),$B$387,"")))) | BG17: =IF(BE17<>"",BE17,BF17)
D18: =IF(ISBLANK(B18),"",(IF(MID(B18,5,1)="G","No",IF(MID(B18,5,1)="K","Yes","N/A")))) | N18: =IF(D18="No",1,(IF(AND(C18="Part 1033",D18="Yes",H18="Line-Haul"),IF(E18>=20,0.27,(VLOOKUP(E18,'Proration Factors'!$E$14:$F$33,2,FALSE))),(IF(AND(C18="Part 1033",D18="Yes",H18="Switch"),IF(E18>=40,0.2,(VLOOKUP(E18,'Proration Factors'!$H$14:$I$53,2,FALSE))),(IF(AND(C18="Part 92",D18="Yes"),IF(E18>=32,0.143,(VLOOKUP(E18,'Proration Factors'!$B$14:$C$45,2,FALSE))),""))))))) | O18: =IF(Z18<>"",Z18,IF(AA18<>"",AA18,IF(AB18<>"",AB18,""))) | P18: =IF(D18="N/A","",(IF(AND(U18=0,V18=1),(O18-M18)*1.341*J18*L18*N18*10^-3,""))) | Q18: =IF(BG18<>"",BG18,AI18) | U18: =IF(OR(Q18=$B$380,Q18=$B$381,Q18=$B$382,Q18=$B$383,Q18=$B$384,Q18=$B$385,Q18=$B$386),1,0) -> 0 | V18: =IF(NOT(OR(ISBLANK($C$11), ISBLANK(B18),ISBLANK(C18),ISBLANK(D18),ISBLANK(F18),ISBLANK(G18),ISBLANK(H18),ISBLANK(I18),ISBLANK(J18),ISBLANK(N18),ISBLANK(L18), ISBLANK(M18))),1,0) -> 0 | W18: =IF(ISBLANK(G18),0,IF(AND($C$11>2014,D18=$C$375,G18<>$E$378),1,IF(AND(G18<>$E$377,D18=$C$375,$C$11<2015,OR(AND(H18=$F$377,$C$11>2011),AND(H18=$F$378,$C$11>2010))),1,0))) -> 0 | X18: =IF(AND(G18<>$E$376,D18=$C$375,C18=$B$374,$C$11>2005,OR(AND(H18=$F$377,$C$11<2012),AND(H18=$F$378,$C$11<2011))),1,IF(AND(G18=$E$376,D18=$C$375,C18<>$B$374,$C$11>2005,OR(AND(H18=$F$377,$C$11<2012),AND(H18=$F$378,$C$11<2011))),1,0)) -> 0 | Y18: =G18&F18&H18 | Z18: =IF(AND(C18=$B$375,D18=$C$374,G18=$E$376,F18=$D$375,$C$11<2013,H18=$F$377),0.2,IF(AND(C18=$B$375,F18=$D$375,G18=$E$376,H18=$F$378,$C$11<2013),0.24,"")) | AA18: =IF(AND(V18<>0,C18=$B$375,Z18=""),IF(VLOOKUP(Y18,$U$319:$AC$353,5,FALSE)<>0,VLOOKUP(Y18,$U$319:$AC$353,5,FALSE),""),"") | AB18: =IF(AND(V18<>0,C18=$B$374,Z18=""),IF(VLOOKUP(Y18,$U$319:$AC$353,7,FALSE)<>0,VLOOKUP(Y18,$U$319:$AC$353,7,FALSE),""),"") | AC18: =IF(AND(V18<>0,C18=$B$375),VLOOKUP(Y18,$U$319:$AC$353,6,FALSE),"") | AD18: =IF(AND(V18<>0,C18=$B$374),VLOOKUP(Y18,$U$319:$AC$353,8,FALSE),"") | AE18: =IF(AND(AC18="",AD18=""),"",IF(OR(AC18=0,AD18=0),0,IF(OR(M18>AC18,M18>AD18),1,0))) | AF18: =IF(B18=B17,(IF(AND(C18=C17,D18=D17,I18=I17,L18=L17),0,1)),0) -> 0 | AG18: =IF(C18=$B$374,IF(H18=$F$377,$B$395,$B$394),IF(AND(H18=$F$378,G18=$E$375),$B$393,IF(AND(H18=$F$378,G18=$E$376),$B$392,""))) | AH18: =IF(AND(C18=$B$375,H18=$F$377), IF(G18=$E$374,$B$391,IF(G18=$E$375,$B$390,IF(G18=$E$376,$B$389,IF(G18=$E$377,$B$388,"")))),"") | AI18: =IF(AG18<>"",AG18,AH18) | AJ18: =IF(G18=$E$374,1,0) -> 0 | AK18: =IF(G18=$E$375,1,0) -> 0 | AL18: =IF(G18=$E$376,1,0) -> 0 | AM18: =IF(G18=$E$377,1,0) -> 0 | AN18: =IF(G18=$E$378,1,0) -> 0 | AO18: =IF(C18=$B$374,1,0) -> 0 | AP18: =IF(C18=$B$375,1,0) -> 0 | AQ18: =IF(H18=$F$377,1,0) -> 0 | AR18: =IF(H18=$F$378,1,0) -> 0 | AS18: =IF(F18=$D$375,1,0) -> 0 | AT18: =IF(F18=$D$374,1,0) -> 0 | AU18: =IF(F18=$D$376,1,0) -> 0 | AV18: =IF(AND(G18=$E$378,P18<0),L18,0) -> 0 | AW18: =IF(AND(P18<>"",G18=$E$378),L18,0) -> 0 | AX18: =IF(AND(D18=$C$375,F18=$D$374,C18=$B$374,P18<0,P18<>""),L18,"") | AY18: =IF(AND(D18=$C$375,C18=$B$374,F18=$D$374,P18<>""),L18,"") | AZ18: =IF(AND(V18=1,C18=$B$375,O18<>""),(O18-M18)*1.341*J18*L18*N18*10^-3,"") | BA18: =IF(AND(AZ18<>"",AZ18<0),B18,"") | BB18: =IF(AND(AZ18<>"",AZ18>0),B18,IF(BA18<>"","Using","")) | BC18: =IF(AND(V18=1,AZ18<>0, AZ18<>""),MATCH(BB18,$BA$14:$BA$315,0),0) -> 0 | BD18: =IF(ISERROR(BC18),0,IF(BC18>1,1,"")) | BE18: =IF(AND(F18=$D$376,OR(G18<>$E$378,C18<>$B$375)),$B$381,IF(AND(C18=$B$374,OR(G18=$E$377,G18=$E$378)),$B$385,IF(AE18=1,$B$382,IF(BD18=1,$B$386,"")))) | BF18: =IF(AND(D18=$C$375,N18<>"",N18<1),$B$380,IF(F401=0,"",IF(AF18=1,$B$383,IF(OR(W18=1,X18=1),$B$387,"")))) | BG18: =IF(BE18<>"",BE18,BF18)
D19: =IF(ISBLANK(B19),"",(IF(MID(B19,5,1)="G","No",IF(MID(B19,5,1)="K","Yes","N/A")))) | N19: =IF(D19="No",1,(IF(AND(C19="Part 1033",D19="Yes",H19="Line-Haul"),IF(E19>=20,0.27,(VLOOKUP(E19,'Proration Factors'!$E$14:$F$33,2,FALSE))),(IF(AND(C19="Part 1033",D19="Yes",H19="Switch"),IF(E19>=40,0.2,(VLOOKUP(E19,'Proration Factors'!$H$14:$I$53,2,FALSE))),(IF(AND(C19="Part 92",D19="Yes"),IF(E19>=32,0.143,(VLOOKUP(E19,'Proration Factors'!$B$14:$C$45,2,FALSE))),""))))))) | O19: =IF(Z19<>"",Z19,IF(AA19<>"",AA19,IF(AB19<>"",AB19,""))) | P19: =IF(D19="N/A","",(IF(AND(U19=0,V19=1),(O19-M19)*1.341*J19*L19*N19*10^-3,""))) | Q19: =IF(BG19<>"",BG19,AI19) | U19: =IF(OR(Q19=$B$380,Q19=$B$381,Q19=$B$382,Q19=$B$383,Q19=$B$384,Q19=$B$385,Q19=$B$386),1,0) -> 0 | V19: =IF(NOT(OR(ISBLANK($C$11), ISBLANK(B19),ISBLANK(C19),ISBLANK(D19),ISBLANK(F19),ISBLANK(G19),ISBLANK(H19),ISBLANK(I19),ISBLANK(J19),ISBLANK(N19),ISBLANK(L19), ISBLANK(M19))),1,0) -> 0 | W19: =IF(ISBLANK(G19),0,IF(AND($C$11>2014,D19=$C$375,G19<>$E$378),1,IF(AND(G19<>$E$377,D19=$C$375,$C$11<2015,OR(AND(H19=$F$377,$C$11>2011),AND(H19=$F$378,$C$11>2010))),1,0))) -> 0 | X19: =IF(AND(G19<>$E$376,D19=$C$375,C19=$B$374,$C$11>2005,OR(AND(H19=$F$377,$C$11<2012),AND(H19=$F$378,$C$11<2011))),1,IF(AND(G19=$E$376,D19=$C$375,C19<>$B$374,$C$11>2005,OR(AND(H19=$F$377,$C$11<2012),AND(H19=$F$378,$C$11<2011))),1,0)) -> 0 | Y19: =G19&F19&H19 | Z19: =IF(AND(C19=$B$375,D19=$C$374,G19=$E$376,F19=$D$375,$C$11<2013,H19=$F$377),0.2,IF(AND(C19=$B$375,F19=$D$375,G19=$E$376,H19=$F$378,$C$11<2013),0.24,"")) | AA19: =IF(AND(V19<>0,C19=$B$375,Z19=""),IF(VLOOKUP(Y19,$U$319:$AC$353,5,FALSE)<>0,VLOOKUP(Y19,$U$319:$AC$353,5,FALSE),""),"") | AB19: =IF(AND(V19<>0,C19=$B$374,Z19=""),IF(VLOOKUP(Y19,$U$319:$AC$353,7,FALSE)<>0,VLOOKUP(Y19,$U$319:$AC$353,7,FALSE),""),"") | AC19: =IF(AND(V19<>0,C19=$B$375),VLOOKUP(Y19,$U$319:$AC$353,6,FALSE),"") | AD19: =IF(AND(V19<>0,C19=$B$374),VLOOKUP(Y19,$U$319:$AC$353,8,FALSE),"") | AE19: =IF(AND(AC19="",AD19=""),"",IF(OR(AC19=0,AD19=0),0,IF(OR(M19>AC19,M19>AD19),1,0))) | AF19: =IF(B19=B18,(IF(AND(C19=C18,D19=D18,I19=I18,L19=L18),0,1)),0) -> 0 | AG19: =IF(C19=$B$374,IF(H19=$F$377,$B$395,$B$394),IF(AND(H19=$F$378,G19=$E$375),$B$393,IF(AND(H19=$F$378,G19=$E$376),$B$392,""))) | AH19: =IF(AND(C19=$B$375,H19=$F$377), IF(G19=$E$374,$B$391,IF(G19=$E$375,$B$390,IF(G19=$E$376,$B$389,IF(G19=$E$377,$B$388,"")))),"") | AI19: =IF(AG19<>"",AG19,AH19) | AJ19: =IF(G19=$E$374,1,0) -> 0 | AK19: =IF(G19=$E$375,1,0) -> 0 | AL19: =IF(G19=$E$376,1,0) -> 0 | AM19: =IF(G19=$E$377,1,0) -> 0 | AN19: =IF(G19=$E$378,1,0) -> 0 | AO19: =IF(C19=$B$374,1,0) -> 0 | AP19: =IF(C19=$B$375,1,0) -> 0 | AQ19: =IF(H19=$F$377,1,0) -> 0 | AR19: =IF(H19=$F$378,1,0) -> 0 | AS19: =IF(F19=$D$375,1,0) -> 0 | AT19: =IF(F19=$D$374,1,0) -> 0 | AU19: =IF(F19=$D$376,1,0) -> 0 | AV19: =IF(AND(G19=$E$378,P19<0),L19,0) -> 0 | AW19: =IF(AND(P19<>"",G19=$E$378),L19,0) -> 0 | AX19: =IF(AND(D19=$C$375,F19=$D$374,C19=$B$374,P19<0,P19<>""),L19,"") | AY19: =IF(AND(D19=$C$375,C19=$B$374,F19=$D$374,P19<>""),L19,"") | AZ19: =IF(AND(V19=1,C19=$B$375,O19<>""),(O19-M19)*1.341*J19*L19*N19*10^-3,"") | BA19: =IF(AND(AZ19<>"",AZ19<0),B19,"") | BB19: =IF(AND(AZ19<>"",AZ19>0),B19,IF(BA19<>"","Using","")) | BC19: =IF(AND(V19=1,AZ19<>0, AZ19<>""),MATCH(BB19,$BA$14:$BA$315,0),0) -> 0 | BD19: =IF(ISERROR(BC19),0,IF(BC19>1,1,"")) | BE19: =IF(AND(F19=$D$376,OR(G19<>$E$378,C19<>$B$375)),$B$381,IF(AND(C19=$B$374,OR(G19=$E$377,G19=$E$378)),$B$385,IF(AE19=1,$B$382,IF(BD19=1,$B$386,"")))) | BF19: =IF(AND(D19=$C$375,N19<>"",N19<1),$B$380,IF(F402=0,"",IF(AF19=1,$B$383,IF(OR(W19=1,X19=1),$B$387,"")))) | BG19: =IF(BE19<>"",BE19,BF19)
D20: =IF(ISBLANK(B20),"",(IF(MID(B20,5,1)="G","No",IF(MID(B20,5,1)="K","Yes","N/A")))) | N20: =IF(D20="No",1,(IF(AND(C20="Part 1033",D20="Yes",H20="Line-Haul"),IF(E20>=20,0.27,(VLOOKUP(E20,'Proration Factors'!$E$14:$F$33,2,FALSE))),(IF(AND(C20="Part 1033",D20="Yes",H20="Switch"),IF(E20>=40,0.2,(VLOOKUP(E20,'Proration Factors'!$H$14:$I$53,2,FALSE))),(IF(AND(C20="Part 92",D20="Yes"),IF(E20>=32,0.143,(VLOOKUP(E20,'Proration Factors'!$B$14:$C$45,2,FALSE))),""))))))) | O20: =IF(Z20<>"",Z20,IF(AA20<>"",AA20,IF(AB20<>"",AB20,""))) | P20: =IF(D20="N/A","",(IF(AND(U20=0,V20=1),(O20-M20)*1.341*J20*L20*N20*10^-3,""))) | Q20: =IF(BG20<>"",BG20,AI20) | U20: =IF(OR(Q20=$B$380,Q20=$B$381,Q20=$B$382,Q20=$B$383,Q20=$B$384,Q20=$B$385,Q20=$B$386),1,0) -> 0 | V20: =IF(NOT(OR(ISBLANK($C$11), ISBLANK(B20),ISBLANK(C20),ISBLANK(D20),ISBLANK(F20),ISBLANK(G20),ISBLANK(H20),ISBLANK(I20),ISBLANK(J20),ISBLANK(N20),ISBLANK(L20), ISBLANK(M20))),1,0) -> 0 | W20: =IF(ISBLANK(G20),0,IF(AND($C$11>2014,D20=$C$375,G20<>$E$378),1,IF(AND(G20<>$E$377,D20=$C$375,$C$11<2015,OR(AND(H20=$F$377,$C$11>2011),AND(H20=$F$378,$C$11>2010))),1,0))) -> 0 | X20: =IF(AND(G20<>$E$376,D20=$C$375,C20=$B$374,$C$11>2005,OR(AND(H20=$F$377,$C$11<2012),AND(H20=$F$378,$C$11<2011))),1,IF(AND(G20=$E$376,D20=$C$375,C20<>$B$374,$C$11>2005,OR(AND(H20=$F$377,$C$11<2012),AND(H20=$F$378,$C$11<2011))),1,0)) -> 0 | Y20: =G20&F20&H20 | Z20: =IF(AND(C20=$B$375,D20=$C$374,G20=$E$376,F20=$D$375,$C$11<2013,H20=$F$377),0.2,IF(AND(C20=$B$375,F20=$D$375,G20=$E$376,H20=$F$378,$C$11<2013),0.24,"")) | AA20: =IF(AND(V20<>0,C20=$B$375,Z20=""),IF(VLOOKUP(Y20,$U$319:$AC$353,5,FALSE)<>0,VLOOKUP(Y20,$U$319:$AC$353,5,FALSE),""),"") | AB20: =IF(AND(V20<>0,C20=$B$374,Z20=""),IF(VLOOKUP(Y20,$U$319:$AC$353,7,FALSE)<>0,VLOOKUP(Y20,$U$319:$AC$353,7,FALSE),""),"") | AC20: =IF(AND(V20<>0,C20=$B$375),VLOOKUP(Y20,$U$319:$AC$353,6,FALSE),"") | AD20: =IF(AND(V20<>0,C20=$B$374),VLOOKUP(Y20,$U$319:$AC$353,8,FALSE),"") | AE20: =IF(AND(AC20="",AD20=""),"",IF(OR(AC20=0,AD20=0),0,IF(OR(M20>AC20,M20>AD20),1,0))) | AF20: =IF(B20=B19,(IF(AND(C20=C19,D20=D19,I20=I19,L20=L19),0,1)),0) -> 0 | AG20: =IF(C20=$B$374,IF(H20=$F$377,$B$395,$B$394),IF(AND(H20=$F$378,G20=$E$375),$B$393,IF(AND(H20=$F$378,G20=$E$376),$B$392,""))) | AH20: =IF(AND(C20=$B$375,H20=$F$377), IF(G20=$E$374,$B$391,IF(G20=$E$375,$B$390,IF(G20=$E$376,$B$389,IF(G20=$E$377,$B$388,"")))),"") | AI20: =IF(AG20<>"",AG20,AH20) | AJ20: =IF(G20=$E$374,1,0) -> 0 | AK20: =IF(G20=$E$375,1,0) -> 0 | AL20: =IF(G20=$E$376,1,0) -> 0 | AM20: =IF(G20=$E$377,1,0) -> 0 | AN20: =IF(G20=$E$378,1,0) -> 0 | AO20: =IF(C20=$B$374,1,0) -> 0 | AP20: =IF(C20=$B$375,1,0) -> 0 | AQ20: =IF(H20=$F$377,1,0) -> 0 | AR20: =IF(H20=$F$378,1,0) -> 0 | AS20: =IF(F20=$D$375,1,0) -> 0 | AT20: =IF(F20=$D$374,1,0) -> 0 | AU20: =IF(F20=$D$376,1,0) -> 0 | AV20: =IF(AND(G20=$E$378,P20<0),L20,0) -> 0 | AW20: =IF(AND(P20<>"",G20=$E$378),L20,0) -> 0 | AX20: =IF(AND(D20=$C$375,F20=$D$374,C20=$B$374,P20<0,P20<>""),L20,"") | AY20: =IF(AND(D20=$C$375,C20=$B$374,F20=$D$374,P20<>""),L20,"") | AZ20: =IF(AND(V20=1,C20=$B$375,O20<>""),(O20-M20)*1.341*J20*L20*N20*10^-3,"") | BA20: =IF(AND(AZ20<>"",AZ20<0),B20,"") | BB20: =IF(AND(AZ20<>"",AZ20>0),B20,IF(BA20<>"","Using","")) | BC20: =IF(AND(V20=1,AZ20<>0, AZ20<>""),MATCH(BB20,$BA$14:$BA$315,0),0) -> 0 | BD20: =IF(ISERROR(BC20),0,IF(BC20>1,1,"")) | BE20: =IF(AND(F20=$D$376,OR(G20<>$E$378,C20<>$B$375)),$B$381,IF(AND(C20=$B$374,OR(G20=$E$377,G20=$E$378)),$B$385,IF(AE20=1,$B$382,IF(BD20=1,$B$386,"")))) | BF20: =IF(AND(D20=$C$375,N20<>"",N20<1),$B$380,IF(F403=0,"",IF(AF20=1,$B$383,IF(OR(W20=1,X20=1),$B$387,"")))) | BG20: =IF(BE20<>"",BE20,BF20)
D21: =IF(ISBLANK(B21),"",(IF(MID(B21,5,1)="G","No",IF(MID(B21,5,1)="K","Yes","N/A")))) | N21: =IF(D21="No",1,(IF(AND(C21="Part 1033",D21="Yes",H21="Line-Haul"),IF(E21>=20,0.27,(VLOOKUP(E21,'Proration Factors'!$E$14:$F$33,2,FALSE))),(IF(AND(C21="Part 1033",D21="Yes",H21="Switch"),IF(E21>=40,0.2,(VLOOKUP(E21,'Proration Factors'!$H$14:$I$53,2,FALSE))),(IF(AND(C21="Part 92",D21="Yes"),IF(E21>=32,0.143,(VLOOKUP(E21,'Proration Factors'!$B$14:$C$45,2,FALSE))),""))))))) | O21: =IF(Z21<>"",Z21,IF(AA21<>"",AA21,IF(AB21<>"",AB21,""))) | P21: =IF(D21="N/A","",(IF(AND(U21=0,V21=1),(O21-M21)*1.341*J21*L21*N21*10^-3,""))) | Q21: =IF(BG21<>"",BG21,AI21) | U21: =IF(OR(Q21=$B$380,Q21=$B$381,Q21=$B$382,Q21=$B$383,Q21=$B$384,Q21=$B$385,Q21=$B$386),1,0) -> 0 | V21: =IF(NOT(OR(ISBLANK($C$11), ISBLANK(B21),ISBLANK(C21),ISBLANK(D21),ISBLANK(F21),ISBLANK(G21),ISBLANK(H21),ISBLANK(I21),ISBLANK(J21),ISBLANK(N21),ISBLANK(L21), ISBLANK(M21))),1,0) -> 0 | W21: =IF(ISBLANK(G21),0,IF(AND($C$11>2014,D21=$C$375,G21<>$E$378),1,IF(AND(G21<>$E$377,D21=$C$375,$C$11<2015,OR(AND(H21=$F$377,$C$11>2011),AND(H21=$F$378,$C$11>2010))),1,0))) -> 0 | X21: =IF(AND(G21<>$E$376,D21=$C$375,C21=$B$374,$C$11>2005,OR(AND(H21=$F$377,$C$11<2012),AND(H21=$F$378,$C$11<2011))),1,IF(AND(G21=$E$376,D21=$C$375,C21<>$B$374,$C$11>2005,OR(AND(H21=$F$377,$C$11<2012),AND(H21=$F$378,$C$11<2011))),1,0)) -> 0 | Y21: =G21&F21&H21 | Z21: =IF(AND(C21=$B$375,D21=$C$374,G21=$E$376,F21=$D$375,$C$11<2013,H21=$F$377),0.2,IF(AND(C21=$B$375,F21=$D$375,G21=$E$376,H21=$F$378,$C$11<2013),0.24,"")) | AA21: =IF(AND(V21<>0,C21=$B$375,Z21=""),IF(VLOOKUP(Y21,$U$319:$AC$353,5,FALSE)<>0,VLOOKUP(Y21,$U$319:$AC$353,5,FALSE),""),"") | AB21: =IF(AND(V21<>0,C21=$B$374,Z21=""),IF(VLOOKUP(Y21,$U$319:$AC$353,7,FALSE)<>0,VLOOKUP(Y21,$U$319:$AC$353,7,FALSE),""),"") | AC21: =IF(AND(V21<>0,C21=$B$375),VLOOKUP(Y21,$U$319:$AC$353,6,FALSE),"") | AD21: =IF(AND(V21<>0,C21=$B$374),VLOOKUP(Y21,$U$319:$AC$353,8,FALSE),"") | AE21: =IF(AND(AC21="",AD21=""),"",IF(OR(AC21=0,AD21=0),0,IF(OR(M21>AC21,M21>AD21),1,0))) | AF21: =IF(B21=B20,(IF(AND(C21=C20,D21=D20,I21=I20,L21=L20),0,1)),0) -> 0 | AG21: =IF(C21=$B$374,IF(H21=$F$377,$B$395,$B$394),IF(AND(H21=$F$378,G21=$E$375),$B$393,IF(AND(H21=$F$378,G21=$E$376),$B$392,""))) | AH21: =IF(AND(C21=$B$375,H21=$F$377), IF(G21=$E$374,$B$391,IF(G21=$E$375,$B$390,IF(G21=$E$376,$B$389,IF(G21=$E$377,$B$388,"")))),"") | AI21: =IF(AG21<>"",AG21,AH21) | AJ21: =IF(G21=$E$374,1,0) -> 0 | AK21: =IF(G21=$E$375,1,0) -> 0 | AL21: =IF(G21=$E$376,1,0) -> 0 | AM21: =IF(G21=$E$377,1,0) -> 0 | AN21: =IF(G21=$E$378,1,0) -> 0 | AO21: =IF(C21=$B$374,1,0) -> 0 | AP21: =IF(C21=$B$375,1,0) -> 0 | AQ21: =IF(H21=$F$377,1,0) -> 0 | AR21: =IF(H21=$F$378,1,0) -> 0 | AS21: =IF(F21=$D$375,1,0) -> 0 | AT21: =IF(F21=$D$374,1,0) -> 0 | AU21: =IF(F21=$D$376,1,0) -> 0 | AV21: =IF(AND(G21=$E$378,P21<0),L21,0) -> 0 | AW21: =IF(AND(P21<>"",G21=$E$378),L21,0) -> 0 | AX21: =IF(AND(D21=$C$375,F21=$D$374,C21=$B$374,P21<0,P21<>""),L21,"") | AY21: =IF(AND(D21=$C$375,C21=$B$374,F21=$D$374,P21<>""),L21,"") | AZ21: =IF(AND(V21=1,C21=$B$375,O21<>""),(O21-M21)*1.341*J21*L21*N21*10^-3,"") | BA21: =IF(AND(AZ21<>"",AZ21<0),B21,"") | BB21: =IF(AND(AZ21<>"",AZ21>0),B21,IF(BA21<>"","Using","")) | BC21: =IF(AND(V21=1,AZ21<>0, AZ21<>""),MATCH(BB21,$BA$14:$BA$315,0),0) -> 0 | BD21: =IF(ISERROR(BC21),0,IF(BC21>1,1,"")) | BE21: =IF(AND(F21=$D$376,OR(G21<>$E$378,C21<>$B$375)),$B$381,IF(AND(C21=$B$374,OR(G21=$E$377,G21=$E$378)),$B$385,IF(AE21=1,$B$382,IF(BD21=1,$B$386,"")))) | BF21: =IF(AND(D21=$C$375,N21<>"",N21<1),$B$380,IF(F404=0,"",IF(AF21=1,$B$383,IF(OR(W21=1,X21=1),$B$387,"")))) | BG21: =IF(BE21<>"",BE21,BF21)
D22: =IF(ISBLANK(B22),"",(IF(MID(B22,5,1)="G","No",IF(MID(B22,5,1)="K","Yes","N/A")))) | N22: =IF(D22="No",1,(IF(AND(C22="Part 1033",D22="Yes",H22="Line-Haul"),IF(E22>=20,0.27,(VLOOKUP(E22,'Proration Factors'!$E$14:$F$33,2,FALSE))),(IF(AND(C22="Part 1033",D22="Yes",H22="Switch"),IF(E22>=40,0.2,(VLOOKUP(E22,'Proration Factors'!$H$14:$I$53,2,FALSE))),(IF(AND(C22="Part 92",D22="Yes"),IF(E22>=32,0.143,(VLOOKUP(E22,'Proration Factors'!$B$14:$C$45,2,FALSE))),""))))))) | O22: =IF(Z22<>"",Z22,IF(AA22<>"",AA22,IF(AB22<>"",AB22,""))) | P22: =IF(D22="N/A","",(IF(AND(U22=0,V22=1),(O22-M22)*1.341*J22*L22*N22*10^-3,""))) | Q22: =IF(BG22<>"",BG22,AI22) | U22: =IF(OR(Q22=$B$380,Q22=$B$381,Q22=$B$382,Q22=$B$383,Q22=$B$384,Q22=$B$385,Q22=$B$386),1,0) -> 0 | V22: =IF(NOT(OR(ISBLANK($C$11), ISBLANK(B22),ISBLANK(C22),ISBLANK(D22),ISBLANK(F22),ISBLANK(G22),ISBLANK(H22),ISBLANK(I22),ISBLANK(J22),ISBLANK(N22),ISBLANK(L22), ISBLANK(M22))),1,0) -> 0 | W22: =IF(ISBLANK(G22),0,IF(AND($C$11>2014,D22=$C$375,G22<>$E$378),1,IF(AND(G22<>$E$377,D22=$C$375,$C$11<2015,OR(AND(H22=$F$377,$C$11>2011),AND(H22=$F$378,$C$11>2010))),1,0))) -> 0 | X22: =IF(AND(G22<>$E$376,D22=$C$375,C22=$B$374,$C$11>2005,OR(AND(H22=$F$377,$C$11<2012),AND(H22=$F$378,$C$11<2011))),1,IF(AND(G22=$E$376,D22=$C$375,C22<>$B$374,$C$11>2005,OR(AND(H22=$F$377,$C$11<2012),AND(H22=$F$378,$C$11<2011))),1,0)) -> 0 | Y22: =G22&F22&H22 | Z22: =IF(AND(C22=$B$375,D22=$C$374,G22=$E$376,F22=$D$375,$C$11<2013,H22=$F$377),0.2,IF(AND(C22=$B$375,F22=$D$375,G22=$E$376,H22=$F$378,$C$11<2013),0.24,"")) | AA22: =IF(AND(V22<>0,C22=$B$375,Z22=""),IF(VLOOKUP(Y22,$U$319:$AC$353,5,FALSE)<>0,VLOOKUP(Y22,$U$319:$AC$353,5,FALSE),""),"") | AB22: =IF(AND(V22<>0,C22=$B$374,Z22=""),IF(VLOOKUP(Y22,$U$319:$AC$353,7,FALSE)<>0,VLOOKUP(Y22,$U$319:$AC$353,7,FALSE),""),"") | AC22: =IF(AND(V22<>0,C22=$B$375),VLOOKUP(Y22,$U$319:$AC$353,6,FALSE),"") | AD22: =IF(AND(V22<>0,C22=$B$374),VLOOKUP(Y22,$U$319:$AC$353,8,FALSE),"") | AE22: =IF(AND(AC22="",AD22=""),"",IF(OR(AC22=0,AD22=0),0,IF(OR(M22>AC22,M22>AD22),1,0))) | AF22: =IF(B22=B21,(IF(AND(C22=C21,D22=D21,I22=I21,L22=L21),0,1)),0) -> 0 | AG22: =IF(C22=$B$374,IF(H22=$F$377,$B$395,$B$394),IF(AND(H22=$F$378,G22=$E$375),$B$393,IF(AND(H22=$F$378,G22=$E$376),$B$392,""))) | AH22: =IF(AND(C22=$B$375,H22=$F$377), IF(G22=$E$374,$B$391,IF(G22=$E$375,$B$390,IF(G22=$E$376,$B$389,IF(G22=$E$377,$B$388,"")))),"") | AI22: =IF(AG22<>"",AG22,AH22) | AJ22: =IF(G22=$E$374,1,0) -> 0 | AK22: =IF(G22=$E$375,1,0) -> 0 | AL22: =IF(G22=$E$376,1,0) -> 0 | AM22: =IF(G22=$E$377,1,0) -> 0 | AN22: =IF(G22=$E$378,1,0) -> 0 | AO22: =IF(C22=$B$374,1,0) -> 0 | AP22: =IF(C22=$B$375,1,0) -> 0 | AQ22: =IF(H22=$F$377,1,0) -> 0 | AR22: =IF(H22=$F$378,1,0) -> 0 | AS22: =IF(F22=$D$375,1,0) -> 0 | AT22: =IF(F22=$D$374,1,0) -> 0 | AU22: =IF(F22=$D$376,1,0) -> 0 | AV22: =IF(AND(G22=$E$378,P22<0),L22,0) -> 0 | AW22: =IF(AND(P22<>"",G22=$E$378),L22,0) -> 0 | AX22: =IF(AND(D22=$C$375,F22=$D$374,C22=$B$374,P22<0,P22<>""),L22,"") | AY22: =IF(AND(D22=$C$375,C22=$B$374,F22=$D$374,P22<>""),L22,"") | AZ22: =IF(AND(V22=1,C22=$B$375,O22<>""),(O22-M22)*1.341*J22*L22*N22*10^-3,"") | BA22: =IF(AND(AZ22<>"",AZ22<0),B22,"") | BB22: =IF(AND(AZ22<>"",AZ22>0),B22,IF(BA22<>"","Using","")) | BC22: =IF(AND(V22=1,AZ22<>0, AZ22<>""),MATCH(BB22,$BA$14:$BA$315,0),0) -> 0 | BD22: =IF(ISERROR(BC22),0,IF(BC22>1,1,"")) | BE22: =IF(AND(F22=$D$376,OR(G22<>$E$378,C22<>$B$375)),$B$381,IF(AND(C22=$B$374,OR(G22=$E$377,G22=$E$378)),$B$385,IF(AE22=1,$B$382,IF(BD22=1,$B$386,"")))) | BF22: =IF(AND(D22=$C$375,N22<>"",N22<1),$B$380,IF(F405=0,"",IF(AF22=1,$B$383,IF(OR(W22=1,X22=1),$B$387,"")))) | BG22: =IF(BE22<>"",BE22,BF22)
D23: =IF(ISBLANK(B23),"",(IF(MID(B23,5,1)="G","No",IF(MID(B23,5,1)="K","Yes","N/A")))) | N23: =IF(D23="No",1,(IF(AND(C23="Part 1033",D23="Yes",H23="Line-Haul"),IF(E23>=20,0.27,(VLOOKUP(E23,'Proration Factors'!$E$14:$F$33,2,FALSE))),(IF(AND(C23="Part 1033",D23="Yes",H23="Switch"),IF(E23>=40,0.2,(VLOOKUP(E23,'Proration Factors'!$H$14:$I$53,2,FALSE))),(IF(AND(C23="Part 92",D23="Yes"),IF(E23>=32,0.143,(VLOOKUP(E23,'Proration Factors'!$B$14:$C$45,2,FALSE))),""))))))) | O23: =IF(Z23<>"",Z23,IF(AA23<>"",AA23,IF(AB23<>"",AB23,""))) | P23: =IF(D23="N/A","",(IF(AND(U23=0,V23=1),(O23-M23)*1.341*J23*L23*N23*10^-3,""))) | Q23: =IF(BG23<>"",BG23,AI23) | U23: =IF(OR(Q23=$B$380,Q23=$B$381,Q23=$B$382,Q23=$B$383,Q23=$B$384,Q23=$B$385,Q23=$B$386),1,0) -> 0 | V23: =IF(NOT(OR(ISBLANK($C$11), ISBLANK(B23),ISBLANK(C23),ISBLANK(D23),ISBLANK(F23),ISBLANK(G23),ISBLANK(H23),ISBLANK(I23),ISBLANK(J23),ISBLANK(N23),ISBLANK(L23), ISBLANK(M23))),1,0) -> 0 | W23: =IF(ISBLANK(G23),0,IF(AND($C$11>2014,D23=$C$375,G23<>$E$378),1,IF(AND(G23<>$E$377,D23=$C$375,$C$11<2015,OR(AND(H23=$F$377,$C$11>2011),AND(H23=$F$378,$C$11>2010))),1,0))) -> 0 | X23: =IF(AND(G23<>$E$376,D23=$C$375,C23=$B$374,$C$11>2005,OR(AND(H23=$F$377,$C$11<2012),AND(H23=$F$378,$C$11<2011))),1,IF(AND(G23=$E$376,D23=$C$375,C23<>$B$374,$C$11>2005,OR(AND(H23=$F$377,$C$11<2012),AND(H23=$F$378,$C$11<2011))),1,0)) -> 0 | Y23: =G23&F23&H23 | Z23: =IF(AND(C23=$B$375,D23=$C$374,G23=$E$376,F23=$D$375,$C$11<2013,H23=$F$377),0.2,IF(AND(C23=$B$375,F23=$D$375,G23=$E$376,H23=$F$378,$C$11<2013),0.24,"")) | AA23: =IF(AND(V23<>0,C23=$B$375,Z23=""),IF(VLOOKUP(Y23,$U$319:$AC$353,5,FALSE)<>0,VLOOKUP(Y23,$U$319:$AC$353,5,FALSE),""),"") | AB23: =IF(AND(V23<>0,C23=$B$374,Z23=""),IF(VLOOKUP(Y23,$U$319:$AC$353,7,FALSE)<>0,VLOOKUP(Y23,$U$319:$AC$353,7,FALSE),""),"") | AC23: =IF(AND(V23<>0,C23=$B$375),VLOOKUP(Y23,$U$319:$AC$353,6,FALSE),"") | AD23: =IF(AND(V23<>0,C23=$B$374),VLOOKUP(Y23,$U$319:$AC$353,8,FALSE),"") | AE23: =IF(AND(AC23="",AD23=""),"",IF(OR(AC23=0,AD23=0),0,IF(OR(M23>AC23,M23>AD23),1,0))) | AF23: =IF(B23=B22,(IF(AND(C23=C22,D23=D22,I23=I22,L23=L22),0,1)),0) -> 0 | AG23: =IF(C23=$B$374,IF(H23=$F$377,$B$395,$B$394),IF(AND(H23=$F$378,G23=$E$375),$B$393,IF(AND(H23=$F$378,G23=$E$376),$B$392,""))) | AH23: =IF(AND(C23=$B$375,H23=$F$377), IF(G23=$E$374,$B$391,IF(G23=$E$375,$B$390,IF(G23=$E$376,$B$389,IF(G23=$E$377,$B$388,"")))),"") | AI23: =IF(AG23<>"",AG23,AH23) | AJ23: =IF(G23=$E$374,1,0) -> 0 | AK23: =IF(G23=$E$375,1,0) -> 0 | AL23: =IF(G23=$E$376,1,0) -> 0 | AM23: =IF(G23=$E$377,1,0) -> 0 | AN23: =IF(G23=$E$378,1,0) -> 0 | AO23: =IF(C23=$B$374,1,0) -> 0 | AP23: =IF(C23=$B$375,1,0) -> 0 | AQ23: =IF(H23=$F$377,1,0) -> 0 | AR23: =IF(H23=$F$378,1,0) -> 0 | AS23: =IF(F23=$D$375,1,0) -> 0 | AT23: =IF(F23=$D$374,1,0) -> 0 | AU23: =IF(F23=$D$376,1,0) -> 0 | AV23: =IF(AND(G23=$E$378,P23<0),L23,0) -> 0 | AW23: =IF(AND(P23<>"",G23=$E$378),L23,0) -> 0 | AX23: =IF(AND(D23=$C$375,F23=$D$374,C23=$B$374,P23<0,P23<>""),L23,"") | AY23: =IF(AND(D23=$C$375,C23=$B$374,F23=$D$374,P23<>""),L23,"") | AZ23: =IF(AND(V23=1,C23=$B$375,O23<>""),(O23-M23)*1.341*J23*L23*N23*10^-3,"") | BA23: =IF(AND(AZ23<>"",AZ23<0),B23,"") | BB23: =IF(AND(AZ23<>"",AZ23>0),B23,IF(BA23<>"","Using","")) | BC23: =IF(AND(V23=1,AZ23<>0, AZ23<>""),MATCH(BB23,$BA$14:$BA$315,0),0) -> 0 | BD23: =IF(ISERROR(BC23),0,IF(BC23>1,1,"")) | BE23: =IF(AND(F23=$D$376,OR(G23<>$E$378,C23<>$B$375)),$B$381,IF(AND(C23=$B$374,OR(G23=$E$377,G23=$E$378)),$B$385,IF(AE23=1,$B$382,IF(BD23=1,$B$386,"")))) | BF23: =IF(AND(D23=$C$375,N23<>"",N23<1),$B$380,IF(F406=0,"",IF(AF23=1,$B$383,IF(OR(W23=1,X23=1),$B$387,"")))) | BG23: =IF(BE23<>"",BE23,BF23)
D24: =IF(ISBLANK(B24),"",(IF(MID(B24,5,1)="G","No",IF(MID(B24,5,1)="K","Yes","N/A")))) | N24: =IF(D24="No",1,(IF(AND(C24="Part 1033",D24="Yes",H24="Line-Haul"),IF(E24>=20,0.27,(VLOOKUP(E24,'Proration Factors'!$E$14:$F$33,2,FALSE))),(IF(AND(C24="Part 1033",D24="Yes",H24="Switch"),IF(E24>=40,0.2,(VLOOKUP(E24,'Proration Factors'!$H$14:$I$53,2,FALSE))),(IF(AND(C24="Part 92",D24="Yes"),IF(E24>=32,0.143,(VLOOKUP(E24,'Proration Factors'!$B$14:$C$45,2,FALSE))),""))))))) | O24: =IF(Z24<>"",Z24,IF(AA24<>"",AA24,IF(AB24<>"",AB24,""))) | P24: =IF(D24="N/A","",(IF(AND(U24=0,V24=1),(O24-M24)*1.341*J24*L24*N24*10^-3,""))) | Q24: =IF(BG24<>"",BG24,AI24) | U24: =IF(OR(Q24=$B$380,Q24=$B$381,Q24=$B$382,Q24=$B$383,Q24=$B$384,Q24=$B$385,Q24=$B$386),1,0) -> 0 | V24: =IF(NOT(OR(ISBLANK($C$11), ISBLANK(B24),ISBLANK(C24),ISBLANK(D24),ISBLANK(F24),ISBLANK(G24),ISBLANK(H24),ISBLANK(I24),ISBLANK(J24),ISBLANK(N24),ISBLANK(L24), ISBLANK(M24))),1,0) -> 0 | W24: =IF(ISBLANK(G24),0,IF(AND($C$11>2014,D24=$C$375,G24<>$E$378),1,IF(AND(G24<>$E$377,D24=$C$375,$C$11<2015,OR(AND(H24=$F$377,$C$11>2011),AND(H24=$F$378,$C$11>2010))),1,0))) -> 0 | X24: =IF(AND(G24<>$E$376,D24=$C$375,C24=$B$374,$C$11>2005,OR(AND(H24=$F$377,$C$11<2012),AND(H24=$F$378,$C$11<2011))),1,IF(AND(G24=$E$376,D24=$C$375,C24<>$B$374,$C$11>2005,OR(AND(H24=$F$377,$C$11<2012),AND(H24=$F$378,$C$11<2011))),1,0)) -> 0 | Y24: =G24&F24&H24 | Z24: =IF(AND(C24=$B$375,D24=$C$374,G24=$E$376,F24=$D$375,$C$11<2013,H24=$F$377),0.2,IF(AND(C24=$B$375,F24=$D$375,G24=$E$376,H24=$F$378,$C$11<2013),0.24,"")) | AA24: =IF(AND(V24<>0,C24=$B$375,Z24=""),IF(VLOOKUP(Y24,$U$319:$AC$353,5,FALSE)<>0,VLOOKUP(Y24,$U$319:$AC$353,5,FALSE),""),"") | AB24: =IF(AND(V24<>0,C24=$B$374,Z24=""),IF(VLOOKUP(Y24,$U$319:$AC$353,7,FALSE)<>0,VLOOKUP(Y24,$U$319:$AC$353,7,FALSE),""),"") | AC24: =IF(AND(V24<>0,C24=$B$375),VLOOKUP(Y24,$U$319:$AC$353,6,FALSE),"") | AD24: =IF(AND(V24<>0,C24=$B$374),VLOOKUP(Y24,$U$319:$AC$353,8,FALSE),"") | AE24: =IF(AND(AC24="",AD24=""),"",IF(OR(AC24=0,AD24=0),0,IF(OR(M24>AC24,M24>AD24),1,0))) | AF24: =IF(B24=B23,(IF(AND(C24=C23,D24=D23,I24=I23,L24=L23),0,1)),0) -> 0 | AG24: =IF(C24=$B$374,IF(H24=$F$377,$B$395,$B$394),IF(AND(H24=$F$378,G24=$E$375),$B$393,IF(AND(H24=$F$378,G24=$E$376),$B$392,""))) | AH24: =IF(AND(C24=$B$375,H24=$F$377), IF(G24=$E$374,$B$391,IF(G24=$E$375,$B$390,IF(G24=$E$376,$B$389,IF(G24=$E$377,$B$388,"")))),"") | AI24: =IF(AG24<>"",AG24,AH24) | AJ24: =IF(G24=$E$374,1,0) -> 0 | AK24: =IF(G24=$E$375,1,0) -> 0 | AL24: =IF(G24=$E$376,1,0) -> 0 | AM24: =IF(G24=$E$377,1,0) -> 0 | AN24: =IF(G24=$E$378,1,0) -> 0 | AO24: =IF(C24=$B$374,1,0) -> 0 | AP24: =IF(C24=$B$375,1,0) -> 0 | AQ24: =IF(H24=$F$377,1,0) -> 0 | AR24: =IF(H24=$F$378,1,0) -> 0 | AS24: =IF(F24=$D$375,1,0) -> 0 | AT24: =IF(F24=$D$374,1,0) -> 0 | AU24: =IF(F24=$D$376,1,0) -> 0 | AV24: =IF(AND(G24=$E$378,P24<0),L24,0) -> 0 | AW24: =IF(AND(P24<>"",G24=$E$378),L24,0) -> 0 | AX24: =IF(AND(D24=$C$375,F24=$D$374,C24=$B$374,P24<0,P24<>""),L24,"") | AY24: =IF(AND(D24=$C$375,C24=$B$374,F24=$D$374,P24<>""),L24,"") | AZ24: =IF(AND(V24=1,C24=$B$375,O24<>""),(O24-M24)*1.341*J24*L24*N24*10^-3,"") | BA24: =IF(AND(AZ24<>"",AZ24<0),B24,"") | BB24: =IF(AND(AZ24<>"",AZ24>0),B24,IF(BA24<>"","Using","")) | BC24: =IF(AND(V24=1,AZ24<>0, AZ24<>""),MATCH(BB24,$BA$14:$BA$315,0),0) -> 0 | BD24: =IF(ISERROR(BC24),0,IF(BC24>1,1,"")) | BE24: =IF(AND(F24=$D$376,OR(G24<>$E$378,C24<>$B$375)),$B$381,IF(AND(C24=$B$374,OR(G24=$E$377,G24=$E$378)),$B$385,IF(AE24=1,$B$382,IF(BD24=1,$B$386,"")))) | BF24: =IF(AND(D24=$C$375,N24<>"",N24<1),$B$380,IF(F407=0,"",IF(AF24=1,$B$383,IF(OR(W24=1,X24=1),$B$387,"")))) | BG24: =IF(BE24<>"",BE24,BF24)
D25: =IF(ISBLANK(B25),"",(IF(MID(B25,5,1)="G","No",IF(MID(B25,5,1)="K","Yes","N/A")))) | N25: =IF(D25="No",1,(IF(AND(C25="Part 1033",D25="Yes",H25="Line-Haul"),IF(E25>=20,0.27,(VLOOKUP(E25,'Proration Factors'!$E$14:$F$33,2,FALSE))),(IF(AND(C25="Part 1033",D25="Yes",H25="Switch"),IF(E25>=40,0.2,(VLOOKUP(E25,'Proration Factors'!$H$14:$I$53,2,FALSE))),(IF(AND(C25="Part 92",D25="Yes"),IF(E25>=32,0.143,(VLOOKUP(E25,'Proration Factors'!$B$14:$C$45,2,FALSE))),""))))))) | O25: =IF(Z25<>"",Z25,IF(AA25<>"",AA25,IF(AB25<>"",AB25,""))) | P25: =IF(D25="N/A","",(IF(AND(U25=0,V25=1),(O25-M25)*1.341*J25*L25*N25*10^-3,""))) | Q25: =IF(BG25<>"",BG25,AI25) | U25: =IF(OR(Q25=$B$380,Q25=$B$381,Q25=$B$382,Q25=$B$383,Q25=$B$384,Q25=$B$385,Q25=$B$386),1,0) -> 0 | V25: =IF(NOT(OR(ISBLANK($C$11), ISBLANK(B25),ISBLANK(C25),ISBLANK(D25),ISBLANK(F25),ISBLANK(G25),ISBLANK(H25),ISBLANK(I25),ISBLANK(J25),ISBLANK(N25),ISBLANK(L25), ISBLANK(M25))),1,0) -> 0 | W25: =IF(ISBLANK(G25),0,IF(AND($C$11>2014,D25=$C$375,G25<>$E$378),1,IF(AND(G25<>$E$377,D25=$C$375,$C$11<2015,OR(AND(H25=$F$377,$C$11>2011),AND(H25=$F$378,$C$11>2010))),1,0))) -> 0 | X25: =IF(AND(G25<>$E$376,D25=$C$375,C25=$B$374,$C$11>2005,OR(AND(H25=$F$377,$C$11<2012),AND(H25=$F$378,$C$11<2011))),1,IF(AND(G25=$E$376,D25=$C$375,C25<>$B$374,$C$11>2005,OR(AND(H25=$F$377,$C$11<2012),AND(H25=$F$378,$C$11<2011))),1,0)) -> 0 | Y25: =G25&F25&H25 | Z25: =IF(AND(C25=$B$375,D25=$C$374,G25=$E$376,F25=$D$375,$C$11<2013,H25=$F$377),0.2,IF(AND(C25=$B$375,F25=$D$375,G25=$E$376,H25=$F$378,$C$11<2013),0.24,"")) | AA25: =IF(AND(V25<>0,C25=$B$375,Z25=""),IF(VLOOKUP(Y25,$U$319:$AC$353,5,FALSE)<>0,VLOOKUP(Y25,$U$319:$AC$353,5,FALSE),""),"") | AB25: =IF(AND(V25<>0,C25=$B$374,Z25=""),IF(VLOOKUP(Y25,$U$319:$AC$353,7,FALSE)<>0,VLOOKUP(Y25,$U$319:$AC$353,7,FALSE),""),"") | AC25: =IF(AND(V25<>0,C25=$B$375),VLOOKUP(Y25,$U$319:$AC$353,6,FALSE),"") | AD25: =IF(AND(V25<>0,C25=$B$374),VLOOKUP(Y25,$U$319:$AC$353,8,FALSE),"") | AE25: =IF(AND(AC25="",AD25=""),"",IF(OR(AC25=0,AD25=0),0,IF(OR(M25>AC25,M25>AD25),1,0))) | AF25: =IF(B25=B24,(IF(AND(C25=C24,D25=D24,I25=I24,L25=L24),0,1)),0) -> 0 | AG25: =IF(C25=$B$374,IF(H25=$F$377,$B$395,$B$394),IF(AND(H25=$F$378,G25=$E$375),$B$393,IF(AND(H25=$F$378,G25=$E$376),$B$392,""))) | AH25: =IF(AND(C25=$B$375,H25=$F$377), IF(G25=$E$374,$B$391,IF(G25=$E$375,$B$390,IF(G25=$E$376,$B$389,IF(G25=$E$377,$B$388,"")))),"") | AI25: =IF(AG25<>"",AG25,AH25) | AJ25: =IF(G25=$E$374,1,0) -> 0 | AK25: =IF(G25=$E$375,1,0) -> 0 | AL25: =IF(G25=$E$376,1,0) -> 0 | AM25: =IF(G25=$E$377,1,0) -> 0 | AN25: =IF(G25=$E$378,1,0) -> 0 | AO25: =IF(C25=$B$374,1,0) -> 0 | AP25: =IF(C25=$B$375,1,0) -> 0 | AQ25: =IF(H25=$F$377,1,0) -> 0 | AR25: =IF(H25=$F$378,1,0) -> 0 | AS25: =IF(F25=$D$375,1,0) -> 0 | AT25: =IF(F25=$D$374,1,0) -> 0 | AU25: =IF(F25=$D$376,1,0) -> 0 | AV25: =IF(AND(G25=$E$378,P25<0),L25,0) -> 0 | AW25: =IF(AND(P25<>"",G25=$E$378),L25,0) -> 0 | AX25: =IF(AND(D25=$C$375,F25=$D$374,C25=$B$374,P25<0,P25<>""),L25,"") | AY25: =IF(AND(D25=$C$375,C25=$B$374,F25=$D$374,P25<>""),L25,"") | AZ25: =IF(AND(V25=1,C25=$B$375,O25<>""),(O25-M25)*1.341*J25*L25*N25*10^-3,"") | BA25: =IF(AND(AZ25<>"",AZ25<0),B25,"") | BB25: =IF(AND(AZ25<>"",AZ25>0),B25,IF(BA25<>"","Using","")) | BC25: =IF(AND(V25=1,AZ25<>0, AZ25<>""),MATCH(BB25,$BA$14:$BA$315,0),0) -> 0 | BD25: =IF(ISERROR(BC25),0,IF(BC25>1,1,"")) | BE25: =IF(AND(F25=$D$376,OR(G25<>$E$378,C25<>$B$375)),$B$381,IF(AND(C25=$B$374,OR(G25=$E$377,G25=$E$378)),$B$385,IF(AE25=1,$B$382,IF(BD25=1,$B$386,"")))) | BF25: =IF(AND(D25=$C$375,N25<>"",N25<1),$B$380,IF(F408=0,"",IF(AF25=1,$B$383,IF(OR(W25=1,X25=1),$B$387,"")))) | BG25: =IF(BE25<>"",BE25,BF25)
D26: =IF(ISBLANK(B26),"",(IF(MID(B26,5,1)="G","No",IF(MID(B26,5,1)="K","Yes","N/A")))) | N26: =IF(D26="No",1,(IF(AND(C26="Part 1033",D26="Yes",H26="Line-Haul"),IF(E26>=20,0.27,(VLOOKUP(E26,'Proration Factors'!$E$14:$F$33,2,FALSE))),(IF(AND(C26="Part 1033",D26="Yes",H26="Switch"),IF(E26>=40,0.2,(VLOOKUP(E26,'Proration Factors'!$H$14:$I$53,2,FALSE))),(IF(AND(C26="Part 92",D26="Yes"),IF(E26>=32,0.143,(VLOOKUP(E26,'Proration Factors'!$B$14:$C$45,2,FALSE))),""))))))) | O26: =IF(Z26<>"",Z26,IF(AA26<>"",AA26,IF(AB26<>"",AB26,""))) | P26: =IF(D26="N/A","",(IF(AND(U26=0,V26=1),(O26-M26)*1.341*J26*L26*N26*10^-3,""))) | Q26: =IF(BG26<>"",BG26,AI26) | U26: =IF(OR(Q26=$B$380,Q26=$B$381,Q26=$B$382,Q26=$B$383,Q26=$B$384,Q26=$B$385,Q26=$B$386),1,0) -> 0 | V26: =IF(NOT(OR(ISBLANK($C$11), ISBLANK(B26),ISBLANK(C26),ISBLANK(D26),ISBLANK(F26),ISBLANK(G26),ISBLANK(H26),ISBLANK(I26),ISBLANK(J26),ISBLANK(N26),ISBLANK(L26), ISBLANK(M26))),1,0) -> 0 | W26: =IF(ISBLANK(G26),0,IF(AND($C$11>2014,D26=$C$375,G26<>$E$378),1,IF(AND(G26<>$E$377,D26=$C$375,$C$11<2015,OR(AND(H26=$F$377,$C$11>2011),AND(H26=$F$378,$C$11>2010))),1,0))) -> 0 | X26: =IF(AND(G26<>$E$376,D26=$C$375,C26=$B$374,$C$11>2005,OR(AND(H26=$F$377,$C$11<2012),AND(H26=$F$378,$C$11<2011))),1,IF(AND(G26=$E$376,D26=$C$375,C26<>$B$374,$C$11>2005,OR(AND(H26=$F$377,$C$11<2012),AND(H26=$F$378,$C$11<2011))),1,0)) -> 0 | Y26: =G26&F26&H26 | Z26: =IF(AND(C26=$B$375,D26=$C$374,G26=$E$376,F26=$D$375,$C$11<2013,H26=$F$377),0.2,IF(AND(C26=$B$375,F26=$D$375,G26=$E$376,H26=$F$378,$C$11<2013),0.24,"")) | AA26: =IF(AND(V26<>0,C26=$B$375,Z26=""),IF(VLOOKUP(Y26,$U$319:$AC$353,5,FALSE)<>0,VLOOKUP(Y26,$U$319:$AC$353,5,FALSE),""),"") | AB26: =IF(AND(V26<>0,C26=$B$374,Z26=""),IF(VLOOKUP(Y26,$U$319:$AC$353,7,FALSE)<>0,VLOOKUP(Y26,$U$319:$AC$353,7,FALSE),""),"") | AC26: =IF(AND(V26<>0,C26=$B$375),VLOOKUP(Y26,$U$319:$AC$353,6,FALSE),"") | AD26: =IF(AND(V26<>0,C26=$B$374),VLOOKUP(Y26,$U$319:$AC$353,8,FALSE),"") | AE26: =IF(AND(AC26="",AD26=""),"",IF(OR(AC26=0,AD26=0),0,IF(OR(M26>AC26,M26>AD26),1,0))) | AF26: =IF(B26=B25,(IF(AND(C26=C25,D26=D25,I26=I25,L26=L25),0,1)),0) -> 0 | AG26: =IF(C26=$B$374,IF(H26=$F$377,$B$395,$B$394),IF(AND(H26=$F$378,G26=$E$375),$B$393,IF(AND(H26=$F$378,G26=$E$376),$B$392,""))) | AH26: =IF(AND(C26=$B$375,H26=$F$377), IF(G26=$E$374,$B$391,IF(G26=$E$375,$B$390,IF(G26=$E$376,$B$389,IF(G26=$E$377,$B$388,"")))),"") | AI26: =IF(AG26<>"",AG26,AH26) | AJ26: =IF(G26=$E$374,1,0) -> 0 | AK26: =IF(G26=$E$375,1,0) -> 0 | AL26: =IF(G26=$E$376,1,0) -> 0 | AM26: =IF(G26=$E$377,1,0) -> 0 | AN26: =IF(G26=$E$378,1,0) -> 0 | AO26: =IF(C26=$B$374,1,0) -> 0 | AP26: =IF(C26=$B$375,1,0) -> 0 | AQ26: =IF(H26=$F$377,1,0) -> 0 | AR26: =IF(H26=$F$378,1,0) -> 0 | AS26: =IF(F26=$D$375,1,0) -> 0 | AT26: =IF(F26=$D$374,1,0) -> 0 | AU26: =IF(F26=$D$376,1,0) -> 0 | AV26: =IF(AND(G26=$E$378,P26<0),L26,0) -> 0 | AW26: =IF(AND(P26<>"",G26=$E$378),L26,0) -> 0 | AX26: =IF(AND(D26=$C$375,F26=$D$374,C26=$B$374,P26<0,P26<>""),L26,"") | AY26: =IF(AND(D26=$C$375,C26=$B$374,F26=$D$374,P26<>""),L26,"") | AZ26: =IF(AND(V26=1,C26=$B$375,O26<>""),(O26-M26)*1.341*J26*L26*N26*10^-3,"") | BA26: =IF(AND(AZ26<>"",AZ26<0),B26,"") | BB26: =IF(AND(AZ26<>"",AZ26>0),B26,IF(BA26<>"","Using","")) | BC26: =IF(AND(V26=1,AZ26<>0, AZ26<>""),MATCH(BB26,$BA$14:$BA$315,0),0) -> 0 | BD26: =IF(ISERROR(BC26),0,IF(BC26>1,1,"")) | BE26: =IF(AND(F26=$D$376,OR(G26<>$E$378,C26<>$B$375)),$B$381,IF(AND(C26=$B$374,OR(G26=$E$377,G26=$E$378)),$B$385,IF(AE26=1,$B$382,IF(BD26=1,$B$386,"")))) | BF26: =IF(AND(D26=$C$375,N26<>"",N26<1),$B$380,IF(F409=0,"",IF(AF26=1,$B$383,IF(OR(W26=1,X26=1),$B$387,"")))) | BG26: =IF(BE26<>"",BE26,BF26)
... D314: =IF(ISBLANK(B314),"",(IF(MID(B314,5,1)="G","No",IF(MID(B314,5,1)="K","Yes","N/A")))) | N314: =IF(D314="No",1,(IF(AND(C314="Part 1033",D314="Yes",H314="Line-Haul"),IF(E314>=20,0.27,(VLOOKUP(E314,'Proration Factors'!$E$14:$F$33,2,FALSE))),(IF(AND(C314="Part 1033",D314="Yes",H314="Switch"),IF(E314>=40,0.2,(VLOOKUP(E314,'Proration Factors'!$H$14:$I$53,2,FALSE))),(IF(AND(C314="Part 92",D314="Yes"),IF(E314>=32,0.143,(VLOOKUP(E314,'Proration Factors'!$B$14:$C$45,2,FALSE))),""))))))) | O314: =IF(Z314<>"",Z314,IF(AA314<>"",AA314,IF(AB314<>"",AB314,""))) | P314: =IF(D314="N/A","",(IF(AND(U314=0,V314=1),(O314-M314)*1.341*J314*L314*N314*10^-3,""))) | Q314: =IF(BG314<>"",BG314,AI314) | U314: =IF(OR(Q314=$B$380,Q314=$B$381,Q314=$B$382,Q314=$B$383,Q314=$B$384,Q314=$B$385,Q314=$B$386),1,0) -> 0 | V314: =IF(NOT(OR(ISBLANK($C$11), ISBLANK(B314),ISBLANK(C314),ISBLANK(D314),ISBLANK(F314),ISBLANK(G314),ISBLANK(H314),ISBLANK(I314),ISBLANK(J314),ISBLANK(N314),ISBLANK(L314), ISBLANK(M314))),1,0) -> 0 | W314: =IF(ISBLANK(G314),0,IF(AND($C$11>2014,D314=$C$375,G314<>$E$378),1,IF(AND(G314<>$E$377,D314=$C$375,$C$11<2015,OR(AND(H314=$F$377,$C$11>2011),AND(H314=$F$378,$C$11>2010))),1,0))) -> 0 | X314: =IF(AND(G314<>$E$376,D314=$C$375,C314=$B$374,$C$11>2005,OR(AND(H314=$F$377,$C$11<2012),AND(H314=$F$378,$C$11<2011))),1,IF(AND(G314=$E$376,D314=$C$375,C314<>$B$374,$C$11>2005,OR(AND(H314=$F$377,$C$11<2012),AND(H314=$F$378,$C$11<2011))),1,0)) -> 0 | Y314: =G314&F314&H314 | Z314: =IF(AND(C314=$B$375,D314=$C$374,G314=$E$376,F314=$D$375,$C$11<2013,H314=$F$377),0.2,IF(AND(C314=$B$375,F314=$D$375,G314=$E$376,H314=$F$378,$C$11<2013),0.24,"")) | AA314: =IF(AND(V314<>0,C314=$B$375,Z314=""),IF(VLOOKUP(Y314,$U$319:$AC$353,5,FALSE)<>0,VLOOKUP(Y314,$U$319:$AC$353,5,FALSE),""),"") | AB314: =IF(AND(V314<>0,C314=$B$374,Z314=""),IF(VLOOKUP(Y314,$U$319:$AC$353,7,FALSE)<>0,VLOOKUP(Y314,$U$319:$AC$353,7,FALSE),""),"") | AC314: =IF(AND(V314<>0,C314=$B$375),VLOOKUP(Y314,$U$319:$AC$353,6,FALSE),"") | AD314: =IF(AND(V314<>0,C314=$B$374),VLOOKUP(Y314,$U$319:$AC$353,8,FALSE),"") | AE314: =IF(AND(AC314="",AD314=""),"",IF(OR(AC314=0,AD314=0),0,IF(OR(M314>AC314,M314>AD314),1,0))) | AF314: =IF(B314=B313,(IF(AND(C314=C313,D314=D313,I314=I313,L314=L313),0,1)),0) -> 0 | AG314: =IF(C314=$B$374,IF(H314=$F$377,$B$395,$B$394),IF(AND(H314=$F$378,G314=$E$375),$B$393,IF(AND(H314=$F$378,G314=$E$376),$B$392,""))) | AH314: =IF(AND(C314=$B$375,H314=$F$377), IF(G314=$E$374,$B$391,IF(G314=$E$375,$B$390,IF(G314=$E$376,$B$389,IF(G314=$E$377,$B$388,"")))),"") | AI314: =IF(AG314<>"",AG314,AH314) | AJ314: =IF(G314=$E$374,1,0) -> 0 | AK314: =IF(G314=$E$375,1,0) -> 0 | AL314: =IF(G314=$E$376,1,0) -> 0 | AM314: =IF(G314=$E$377,1,0) -> 0 | AN314: =IF(G314=$E$378,1,0) -> 0 | AO314: =IF(C314=$B$374,1,0) -> 0 | AP314: =IF(C314=$B$375,1,0) -> 0 | AQ314: =IF(H314=$F$377,1,0) -> 0 | AR314: =IF(H314=$F$378,1,0) -> 0 | AS314: =IF(F314=$D$375,1,0) -> 0 | AT314: =IF(F314=$D$374,1,0) -> 0 | AU314: =IF(F314=$D$376,1,0) -> 0 | AV314: =IF(AND(G314=$E$378,P314<0),L314,0) -> 0 | AW314: =IF(AND(P314<>"",G314=$E$378),L314,0) -> 0 | AX314: =IF(AND(D314=$C$375,F314=$D$374,C314=$B$374,P314<0,P314<>""),L314,"") | AY314: =IF(AND(D314=$C$375,C314=$B$374,F314=$D$374,P314<>""),L314,"") | AZ314: =IF(AND(V314=1,C314=$B$375,O314<>""),(O314-M314)*1.341*J314*L314*N314*10^-3,"") | BA314: =IF(AND(AZ314<>"",AZ314<0),B314,"") | BB314: =IF(AND(AZ314<>"",AZ314>0),B314,IF(BA314<>"","Using","")) | BC314: =IF(AND(V314=1,AZ314<>0, AZ314<>""),MATCH(BB314,$BA$14:$BA$315,0),0) -> 0 | BD314: =IF(ISERROR(BC314),0,IF(BC314>1,1,"")) | BE314: =IF(AND(F314=$D$376,OR(G314<>$E$378,C314<>$B$375)),$B$381,IF(AND(C314=$B$374,OR(G314=$E$377,G314=$E$378)),$B$385,IF(AE314=1,$B$382,IF(BD314=1,$B$386,"")))) | BF314: =IF(AND(D314=$C$375,N314<>"",N314<1),$B$380,IF(F697=0,"",IF(AF314=1,$B$383,IF(OR(W314=1,X314=1),$B$387,"")))) | BG314: =IF(BE314<>"",BE314,BF314)
D315: =IF(ISBLANK(B315),"",(IF(MID(B315,5,1)="G","No",IF(MID(B315,5,1)="K","Yes","N/A")))) | N315: =IF(D315="No",1,(IF(AND(C315="Part 1033",D315="Yes",H315="Line-Haul"),IF(E315>=20,0.27,(VLOOKUP(E315,'Proration Factors'!$E$14:$F$33,2,FALSE))),(IF(AND(C315="Part 1033",D315="Yes",H315="Switch"),IF(E315>=40,0.2,(VLOOKUP(E315,'Proration Factors'!$H$14:$I$53,2,FALSE))),(IF(AND(C315="Part 92",D315="Yes"),IF(E315>=32,0.143,(VLOOKUP(E315,'Proration Factors'!$B$14:$C$45,2,FALSE))),""))))))) | O315: =IF(Z315<>"",Z315,IF(AA315<>"",AA315,IF(AB315<>"",AB315,""))) | P315: =IF(D315="N/A","",(IF(AND(U315=0,V315=1),(O315-M315)*1.341*J315*L315*N315*10^-3,""))) | Q315: =IF(BG315<>"",BG315,AI315) | U315: =IF(OR(Q315=$B$380,Q315=$B$381,Q315=$B$382,Q315=$B$383,Q315=$B$384,Q315=$B$385,Q315=$B$386),1,0) -> 0 | V315: =IF(NOT(OR(ISBLANK($C$11), ISBLANK(B315),ISBLANK(C315),ISBLANK(D315),ISBLANK(F315),ISBLANK(G315),ISBLANK(H315),ISBLANK(I315),ISBLANK(J315),ISBLANK(N315),ISBLANK(L315), ISBLANK(M315))),1,0) -> 0 | W315: =IF(ISBLANK(G315),0,IF(AND($C$11>2014,D315=$C$375,G315<>$E$378),1,IF(AND(G315<>$E$377,D315=$C$375,$C$11<2015,OR(AND(H315=$F$377,$C$11>2011),AND(H315=$F$378,$C$11>2010))),1,0))) -> 0 | X315: =IF(AND(G315<>$E$376,D315=$C$375,C315=$B$374,$C$11>2005,OR(AND(H315=$F$377,$C$11<2012),AND(H315=$F$378,$C$11<2011))),1,IF(AND(G315=$E$376,D315=$C$375,C315<>$B$374,$C$11>2005,OR(AND(H315=$F$377,$C$11<2012),AND(H315=$F$378,$C$11<2011))),1,0)) -> 0 | Y315: =G315&F315&H315 | Z315: =IF(AND(C315=$B$375,D315=$C$374,G315=$E$376,F315=$D$375,$C$11<2013,H315=$F$377),0.2,IF(AND(C315=$B$375,F315=$D$375,G315=$E$376,H315=$F$378,$C$11<2013),0.24,"")) | AA315: =IF(AND(V315<>0,C315=$B$375,Z315=""),IF(VLOOKUP(Y315,$U$319:$AC$353,5,FALSE)<>0,VLOOKUP(Y315,$U$319:$AC$353,5,FALSE),""),"") | AB315: =IF(AND(V315<>0,C315=$B$374,Z315=""),IF(VLOOKUP(Y315,$U$319:$AC$353,7,FALSE)<>0,VLOOKUP(Y315,$U$319:$AC$353,7,FALSE),""),"") | AC315: =IF(AND(V315<>0,C315=$B$375),VLOOKUP(Y315,$U$319:$AC$353,6,FALSE),"") | AD315: =IF(AND(V315<>0,C315=$B$374),IF(VLOOKUP(Y315,$U$319:$AC$353,8,FALSE)<>0,VLOOKUP(Y315,$U$319:$AC$353,8,FALSE),""),"") | AE315: =IF(AND(AC315="",AD315=""),"",IF(OR(AC315=0,AD315=0),0,IF(OR(M315>AC315,M315>AD315),1,0))) | AF315: =IF(B315=B314,(IF(AND(C315=C314,D315=D314,I315=I314,L315=L314),0,1)),0) -> 0 | AG315: =IF(C315=$B$374,IF(H315=$F$377,$B$395,$B$394),IF(AND(H315=$F$378,G315=$E$375),$B$393,IF(AND(H315=$F$378,G315=$E$376),$B$392,""))) | AH315: =IF(AND(C315=$B$375,H315=$F$377), IF(G315=$E$374,$B$391,IF(G315=$E$375,$B$390,IF(G315=$E$376,$B$389,IF(G315=$E$377,$B$388,"")))),"") | AI315: =IF(AG315<>"",AG315,AH315) | AJ315: =IF(G315=$E$374,1,0) -> 0 | AK315: =IF(G315=$E$375,1,0) -> 0 | AL315: =IF(G315=$E$376,1,0) -> 0 | AM315: =IF(G315=$E$377,1,0) -> 0 | AN315: =IF(G315=$E$378,1,0) -> 0 | AO315: =IF(C315=$B$374,1,0) -> 0 | AP315: =IF(C315=$B$375,1,0) -> 0 | AQ315: =IF(H315=$F$377,1,0) -> 0 | AR315: =IF(H315=$F$378,1,0) -> 0 | AS315: =IF(F315=$D$375,1,0) -> 0 | AT315: =IF(F315=$D$374,1,0) -> 0 | AU315: =IF(F315=$D$376,1,0) -> 0 | AV315: =IF(AND(G315=$E$378,P315<0),L315,0) -> 0 | AW315: =IF(AND(P315<>"",G315=$E$378),L315,0) -> 0 | AX315: =IF(AND(D315=$C$375,F315=$D$374,C315=$B$374,P315<0,P315<>""),L315,"") | AY315: =IF(AND(D315=$C$375,C315=$B$374,F315=$D$374,P315<>""),L315,"") | AZ315: =IF(AND(V315=1,C315=$B$375,O315<>""),(O315-M315)*1.341*J315*L315*N315*10^-3,"") | BA315: =IF(AND(AZ315<>"",AZ315<0),B315,"") | BB315: =IF(AND(AZ315<>"",AZ315>0),B315,IF(BA315<>"","Using","")) | BC315: =IF(AND(V315=1,AZ315<>0, AZ315<>""),MATCH(BB315,$BA$14:$BA$315,0),0) -> 0 | BD315: =IF(ISERROR(BC315),0,IF(BC315>1,1,"")) | BE315: =IF(AND(F315=$D$376,OR(G315<>$E$378,C315<>$B$375)),$B$381,IF(AND(C315=$B$374,OR(G315=$E$377,G315=$E$378)),$B$385,IF(AE315=1,$B$382,IF(BD315=1,$B$386,"")))) | BF315: =IF(AND(D315=$C$375,N315<>"",N315<1),$B$380,IF(F698=0,"",IF(AF315=1,$B$383,IF(OR(W315=1,X315=1),$B$387,"")))) | BG315: =IF(BE315<>"",BE315,BF315)
B316: 1 See Power Rating Calc tab | AC316: * 0 means no FEL cap
B317: 2 See Proration Factors tab. The proration factor is 1.00 for all locomotives that meet the definition of freshly manufactured.
V318: Tier | W318: Parameter | X318: Engine Class | Y318: Part 1033 | AA318: Part 92
B319: SUMMARY OF CURRENT MODEL YEAR CREDITS (Mg) | J319: Messages | P319: Paperwork Reduction Act Notice | Y319: Std | Z319: FEL Cap | AA319: Std | AB319: FEL Cap
B320: TIER | C320: NOx Credits | E320: NOx+HC Credits (Tier 4) | G320: PM Credits | I320: % Using Credits* | J320: =IF(SUM(AY15:AY315)<>0, IF((SUM(AX15:AX315)/SUM(AY15:AY315))>0.5,B397,""),"") | P320: The public reporting and recordkeeping burden for this collection of information is estimated to average 30 hours per response. Send comments on the Agency's need for this information, the accuracy of the provided burden estimates, and any suggested methods for minimizing respondent burden, including through the use of automated collection techniques to the Director, Collection Strategies Division, U.S. Environmental Protection Agency (2822T), 1200 Pennsylvania Ave., NW, Washington, D.C. 20460. Include the OMB control number in any correspondence. Do not send the completed form to this address. | U320: =V320&W320&X320 -> Tier 0NOxLine-Haul | V320: Tier 0 | W320: NOx | X320: Line-Haul | Y320: 8 | AA320: 9.5
C321: Line-Haul | D321: Switch | E321: Line-Haul | F321: Switch | G321: Line-Haul | H321: Switch | U321: =V321&W321&X321 -> Tier 0NOxSwitch | V321: Tier 0 | W321: NOx | X321: Switch | Y321: 11.8 | AA321: 14
B322: Tier 0 Part 92 | C322: =SUMPRODUCT(P15:P315,AJ15:AJ315,AQ15:AQ315,AT15:AT315,AO15:AO315) -> 0 | D322: =SUMPRODUCT(P15:P315,AJ15:AJ315,AR15:AR315,AT15:AT315,AO15:AO315) -> 0 | G322: =SUMPRODUCT(P15:P315,AJ15:AJ315,AQ15:AQ315,AS15:AS315,AO15:AO315) -> 0 | H322: =SUMPRODUCT(P15:P315,AJ15:AJ315,AR15:AR315,AS15:AS315,AO15:AO315) -> 0 | U322: =V322&W322&X322 -> Tier 0PMLine-Haul | V322: Tier 0 | W322: PM | X322: Line-Haul | Y322: 0.22 | AA322: 0.32
B323: Tier 0 Part 1033 | C323: =SUMPRODUCT(P15:P315,AJ15:AJ315,AQ15:AQ315,AT15:AT315,AP15:AP315) -> 0 | D323: =SUMPRODUCT(P15:P315,AJ15:AJ315,AR15:AR315,AT15:AT315,AP15:AP315) -> 0 | G323: =SUMPRODUCT(P15:P315,AJ15:AJ315,AQ15:AQ315,AS15:AS315,AP15:AP315) -> 0 | H323: =SUMPRODUCT(P15:P315,AJ15:AJ315,AR15:AR315,AS15:AS315,AP15:AP315) -> 0 | U323: =V323&W323&X323 -> Tier 0PMSwitch | V323: Tier 0 | W323: PM | X323: Switch | Y323: 0.26 | AA323: 0.44
B324: Tier 1 Part 92 | C324: =SUMPRODUCT(P15:P315,AK15:AK315,AQ15:AQ315,AT15:AT315,AO15:AO315) -> 0 | D324: =SUMPRODUCT(P15:P315,AK15:AK315,AR15:AR315,AT15:AT315,AO15:AO315) -> 0 | G324: =SUMPRODUCT(P15:P315,AK15:AK315,AQ15:AQ315,AS15:AS315,AO15:AO315) -> 0 | H324: =SUMPRODUCT(P15:P315,AK15:AK315,AR15:AR315,AS15:AS315,AO15:AO315) -> 0 | J324: =IF(AND(I329>0.5,I329<>"NA"),B396,"") | P324: OMB No. 2060-0392 Approval Expires on 2/28/2013 EPA Form 5900-274 | U324: =V324&W324&X324 -> Tier 0HC+NOxLine-Haul | V324: Tier 0 | W324: HC+NOx | X324: Line-Haul
B325: Tier 1 Part 1033 | C325: =SUMPRODUCT(P15:P315,AK15:AK315,AQ15:AQ315,AT15:AT315,AP15:AP315) -> 0 | D325: =SUMPRODUCT(P15:P315,AK15:AK315,AR15:AR315,AT15:AT315,AP15:AP315) -> 0 | G325: =SUMPRODUCT(P15:P315,AK15:AK315,AQ15:AQ315,AS15:AS315,AP15:AP315) -> 0 | H325: =SUMPRODUCT(P15:P315,AK15:AK315,AR15:AR315,AS15:AS315,AP15:AP315) -> 0 | U325: =V325&W325&X325 -> Tier 0HC+NOxSwitch | V325: Tier 0 | W325: HC+NOx | X325: Switch
B326: Tier 2 Part 92 | C326: =SUMPRODUCT(P15:P315,AL15:AL315,AQ15:AQ315,AT15:AT315,AO15:AO315) -> 0 | D326: =SUMPRODUCT(P15:P315,AL15:AL315,AR15:AR315,AT15:AT315,AO15:AO315) -> 0 | G326: =SUMPRODUCT(P15:P315,AL15:AL315,AQ15:AQ315,AS15:AS315,AO15:AO315) -> 0 | H326: =SUMPRODUCT(P15:P315,AL15:AL315,AR15:AR315,AS15:AS315,AO15:AO315) -> 0 | I326: =IF(SUM(AY15:AY315)<>0,SUM(AX15:AX315)/SUM(AY15:AY315), "NA") -> NA | U326: =V326&W326&Y326
B327: Tier 2 Part 1033 | C327: =SUMPRODUCT(P15:P315,AL15:AL315,AQ15:AQ315,AT15:AT315,AP15:AP315) -> 0 | D327: =SUMPRODUCT(P15:P315,AL15:AL315,AR15:AR315,AT15:AT315,AP15:AP315) -> 0 | G327: =SUMPRODUCT(P15:P315,AL15:AL315,AQ15:AQ315,AS15:AS315,AP15:AP315) -> 0 | H327: =SUMPRODUCT(P15:P315,AL15:AL315,AR15:AR315,AS15:AS315,AP15:AP315) -> 0 | U327: =V327&W327&X327 -> Tier 1NOxLine-Haul | V327: Tier 1 | W327: NOx | X327: Line-Haul | Y327: 7.4 | Z327: 8 | AA327: 7.4 | AB327: 9.5
B328: Tier 3 Part 1033 | C328: =SUMPRODUCT(P15:P315,AM15:AM315,AQ15:AQ315,AT15:AT315,AP15:AP315) -> 0 | D328: =SUMPRODUCT(P15:P315,AM15:AM315,AR15:AR315,AT15:AT315,AP15:AP315) -> 0 | G328: =SUMPRODUCT(P15:P315,AM15:AM315,AQ15:AQ315,AS15:AS315,AP15:AP315) -> 0 | H328: =SUMPRODUCT(P15:P315,AM15:AM315,AR15:AR315,AS15:AS315,AP15:AP315) -> 0 | U328: =V328&W328&X328 -> Tier 1NOxSwitch | V328: Tier 1 | W328: NOx | X328: Switch | Y328: 11 | Z328: 11.8 | AA328: 11 | AB328: 14
B329: Tier 4 Part 1033 | C329: =SUMPRODUCT(P15:P315,AN15:AN315,AQ15:AQ315,AT15:AT315,AP15:AP315) -> 0 | D329: =SUMPRODUCT(P15:P315,AN15:AN315,AR15:AR315,AT15:AT315,AP15:AP315) -> 0 | E329: =SUMPRODUCT(P15:P315,AN15:AN315,AU15:AU315,AQ15:AQ315,AP15:AP315) -> 0 | F329: =SUMPRODUCT(P15:P315,AN15:AN315,AU15:AU315,AR15:AR315,AP15:AP315) -> 0 | G329: =SUMPRODUCT(P15:P315,AN15:AN315,AQ15:AQ315,AS15:AS315,AP15:AP315) -> 0 | H329: =SUMPRODUCT(P15:P315,AN15:AN315,AR15:AR315,AS15:AS315,AP15:AP315) -> 0 | I329: =IF(SUM(AW15:AW315)<>0,SUM(AV15:AV315)/G11, "NA") -> NA | U329: =V329&W329&X329 -> Tier 1PMLine-Haul | V329: Tier 1 | W329: PM | X329: Line-Haul | Y329: 0.22 | Z329: 0.22 | AA329: 0.32 | AB329: 0.6
I330: *May not exceed 50%. | U330: =V330&W330&X330 -> Tier 1PMSwitch | V330: Tier 1 | W330: PM | X330: Switch | Y330: 0.26 | Z330: 0.26 | AA330: 0.44 | AB330: 0.72
U331: =V331&W331&X331 -> Tier 1HC+NOxLine-Haul | V331: Tier 1 | W331: HC+NOx | X331: Line-Haul
B332: SUMMARY OF 40 CFR PARTS 92 AND 1033 STANDARDS AND FEL CAPS | U332: =V332&W332&X332 -> Tier 1HC+NOxSwitch | V332: Tier 1 | W332: HC+NOx | X332: Switch
B333: If Tier is: | C333: And Pollutant is: | D333: And Engine Class is: | E333: Then Part 1033 Year of Original Manufacture is: | F333: Then Part 1033 Std (g/bhp-hr) is: | G333: Part 1033 FEL cap | H333: Then Part 92 Year of Original Manufacture is: | I333: Then Part 92 Std (g/bhp-hr) is:1 | J333: Part 92 FEL cap | U333: =V333&W333&Y333
B334: Tier 02 | C334: NOx | D334: Line-Haul | E334: 1973-1992 | F334: 8 | H334: before 2001 | I334: 9.5 | U334: =V334&W334&X334 -> Tier 2NOxLine-Haul | V334: Tier 2 | W334: NOx | X334: Line-Haul | Y334: 5.5 | Z334: 7.4 | AA334: 5.5 | AB334: 7.4
D335: Switch | E335: 1973-2001 | F335: 11.8 | H335: before 2001 | I335: 14 | U335: =V335&W335&X335 -> Tier 2NOxSwitch | V335: Tier 2 | W335: NOx | X335: Switch | Y335: 8.1 | Z335: 11 | AA335: 8.1 | AB335: 11
C336: PM | D336: Line-Haul | E336: 1973-1992 | F336: 0.22 | H336: before 2001 | I336: 0.32 | U336: =V336&W336&X336 -> Tier 2PMLine-Haul | V336: Tier 2 | W336: PM | X336: Line-Haul | Y336: 0.1 | Z336: 0.22 | AA336: 0.2 | AB336: 0.45
D337: Switch | E337: 1973-2001 | F337: 0.26 | H337: before 2001 | I337: 0.44 | U337: =V337&W337&X337 -> Tier 2PMSwitch | V337: Tier 2 | W337: PM | X337: Switch | Y337: 0.13 | Z337: 0.26 | AA337: 0.24 | AB337: 0.54
U338: =V338&W338&X338 -> Tier 2HC+NOxLine-Haul | V338: Tier 2 | W338: HC+NOx | X338: Line-Haul
B339: Tier 12 | C339: NOx | D339: Line-Haul | E339: 1993-2004 | F339: 7.4 | G339: 8 | H339: 2002-2004 | I339: 7.4 | J339: 9.5 | U339: =V339&W339&X339 -> Tier 2HC+NOxSwitch | V339: Tier 2 | W339: HC+NOx | X339: Switch
D340: Switch | E340: 2002-2004 | F340: 11 | G340: 11.8 | H340: 2002-2004 | I340: 11 | J340: 14 | U340: =V340&W340&Y340
C341: PM | D341: Line-Haul | E341: 1993-2004 | F341: 0.22 | G341: 0.22 | H341: 2002-2004 | I341: 0.32 | J341: 0.6 | U341: =V341&W341&X341 -> Tier 3NOxLine-Haul | V341: Tier 3 | W341: NOx | X341: Line-Haul | Y341: 5.5 | Z341: 5.5
D342: Switch | E342: 2002-2004 | F342: 0.26 | G342: 0.26 | H342: 2002-2004 | I342: 0.44 | J342: 0.72 | U342: =V342&W342&X342 -> Tier 3NOxSwitch | V342: Tier 3 | W342: NOx | X342: Switch | Y342: 5 | Z342: 8.1
U343: =V343&W343&X343 -> Tier 3PMLine-Haul | V343: Tier 3 | W343: PM | X343: Line-Haul | Y343: 0.1 | Z343: 0.1
B344: Tier 22 | C344: NOx | D344: Line-Haul | E344: 2005-2011 | F344: 5.5 | G344: 7.4 | H344: 2005 or later | I344: 5.5 | J344: 7.4 | U344: =V344&W344&X344 -> Tier 3PMSwitch | V344: Tier 3 | W344: PM | X344: Switch | Y344: 0.1 | Z344: 0.13
D345: Switch | E345: 2005-2010 | F345: 8.1 | G345: 11 | H345: 2005 or later | I345: 8.1 | J345: 11 | U345: =V345&W345&X345 -> Tier 3HC+NOxLine-Haul | V345: Tier 3 | W345: HC+NOx | X345: Line-Haul
C346: PM | D346: Line-Haul | E346: 2005-2011 | F346: 0.1 | G346: 0.22 | H346: 2005 or later | I346: 0.2 | J346: 0.45 | U346: =V346&W346&X346 -> Tier 3HC+NOxSwitch | V346: Tier 3 | W346: HC+NOx | X346: Switch
D347: Switch | E347: 2005-2010 | F347: 0.13 | G347: 0.26 | H347: 2005 or later | I347: 0.24 | J347: 0.54 | U347: =V347&W347&Y347
U348: =V348&W348&X348 -> Tier 4NOxLine-Haul | V348: Tier 4 | W348: NOx | X348: Line-Haul | Y348: 1.3 | Z348: 5.5
B349: Tier 3 | C349: NOx | D349: Line-Haul | E349: 2012-2014 | F349: 5.5 | G349: 5.5 | U349: =V349&W349&X349 -> Tier 4NOxSwitch | V349: Tier 4 | W349: NOx | X349: Switch | Y349: 1.3 | Z349: 5
D350: Switch | E350: 2011-2014 | F350: 5 | G350: 8.1 | U350: =V350&W350&X350 -> Tier 4PMLine-Haul | V350: Tier 4 | W350: PM | X350: Line-Haul | Y350: 0.03 | Z350: 0.1
C351: PM | D351: Line-Haul | E351: 2012-2014 | F351: 0.1 | G351: 0.1 | U351: =V351&W351&X351 -> Tier 4PMSwitch | V351: Tier 4 | W351: PM | X351: Switch | Y351: 0.03 | Z351: 0.1
D352: Switch | E352: 2011-2014 | F352: 0.1 | G352: 0.13 | U352: =V352&W352&X352 -> Tier 4HC+NOxLine-Haul | V352: Tier 4 | W352: HC+NOx | X352: Line-Haul | Y352: 1.4
U353: =V353&W353&X353 -> Tier 4HC+NOxSwitch | V353: Tier 4 | W353: HC+NOx | X353: Switch | Y353: 1.4
B354: Tier 4 | C354: NOx | D354: Line-Haul | E354: 2015 or later | F354: 1.3 | G354: 5.5
D355: Switch | E355: 2015 or later | F355: 1.3 | G355: 5
C356: PM | D356: Line-Haul | E356: 2015 or later | F356: 0.03 | G356: 0.1
D357: Switch | E357: 2015 or later | F357: 0.03 | G357: 0.1
C358: Alternate HC+Nox | D358: Line-Haul | E358: 2015 or later | F358: 1.4
D359: Switch | E359: 2015 or later | F359: 1.4
B361: 1 §92.305(a)(2)(i) ABT standards: Std=0.43 g/kW-hr for Tier 0 and Tier 1 PM line-haul credits; Std=0.59 g/kW-hr for Tier 0 and Tier 1 PM switch credits (.7457*(g/kW-hr) = (g/bhp-hr))
B362: 2 §1033.102(a) and (b): Part 1033 Tier 0 and 1 standards apply for new locomotives beginning 1-1-10. Part 1033 Tier 2 standards apply for new locomotives beginning 1-1-13. Tier 0, 1, and 2 Part 92
B363: standards apply for earlier model years unless the locomotive is remanufactured. According to §1033.150(a), for the 2009 MY, remanufacturers may remanufacture Tier 0, 1, and 2 locomotives
B364: to Part 92 standards only if no remanufacture system has been certified to meet the Part 1033 standards. After 2009, this provision applies only to Tier 2 remanufactured locomotives.
B365: 3 Tier 3 and 4 standards apply for the model years specified in the table.
B368: CREDITS = (Std - FEL) x (1.341) x (UL) x (Production) x (Fp) x (10 -3)
B369: Notes:
B370: Tier 0 through 2 Line-Haul must also meet Switch stds.
B371: Tier 1 and 2 Switch must also meet Line-Haul stds.
B372: Tier 3 Line-Haul must also meet Tier 2 Switch stds
B374: Part 92 | C374: Yes | D374: NOx | E374: Tier 0
B375: Part 1033 | C375: No | D375: PM | E375: Tier 1
D376: HC+NOx | E376: Tier 2
E377: Tier 3 | F377: Line-Haul
E378: Tier 4 | F378: Switch
B379: MESSAGES:
B380: Error: Proration factor should equal 1.0 if locomotive is freshly manufactured (Remanufactured? = No).(40 CFR 1033.705(d))
B381: Error: NOx+HC available only for Part 1033 Tier 4 (40 CFR 1033.101(j))
B382: Error: FEL Cap has been exceeded. See Summary table below for guidance.
B383: Error: Engine family information in this row is inconsistent with previous record (e.g. Maximum Power, Applicable 40 CFR Part, Production Vol.)
B384: Error: First digit in engine family name does not match model year. (invalid error message)
B385: Error: Cannot generate Tier 3 or 4 credits for Part 92.
B386: Error: Part 1033 engine families that use emission credits for one or more pollutants may not generate positive emission credits for another pollutant. (1033.701(e))
B387: Warning: The Model Year, Tier, and Applicable CFR Part do not match up. See "Summary of 40 CFR Part 92 and 1033 Standards and FEL Caps" Table below for guidance.
B388: Note: Part 1033 Tier 3 Line-Haul locomotives must also meet Tier 2 Switch standards. (40 CFR 1033.101(a))
B389: Note: Part 1033 Tier 2 Line-Haul locomotives must also meet Tier 2 Switch standards. (40 CFR 1033.101(a))
B390: Note: Part 1033 Tier 1 Line-Haul locomotives must also meet Tier 1 Switch standards. (40 CFR 1033.101(a))
... B397: For Part 92 Tier 2 freshly manufactured locomotives, manufacturers may use NOx credits only for engine families that are projected to represent ≤ 50% of their total projected annual production of freshly manufactured locomotives. (40 CFR 92.304(j)(2))
B398: =RIGHT(C11,2) | D398: =LEFT(B15,1) | E398: =IF($B$398="10","A",IF($B$398="11","B", IF($B$398="12","C", IF($B$398="13","D",IF($B$398="14","E",IF($B$398="15","F",IF($B$398="16","G",IF($B$398="17","H")))))))) -> FALSE | F398: =IF(ISBLANK(B15), 1,IF(OR(D398=$E$398,D398=$E$399,D398=$E$400,D398=$E$401,D398=$E$402),1,0)) -> 1
D399: =LEFT(B16,1) | E399: =IF($B$398="18","J",IF($B$398="19","K",IF($B$398="20","L",IF($B$398="21","M",IF($B$398="22","N",IF($B$398="23","P",IF($B$398="24","R",IF($B$398="25","S")))))))) -> FALSE | F399: =IF(ISBLANK(B16), 1,IF(OR(D399=$E$398,D399=$E$399,D399=$E$400,D399=$E$401,D399=$E$402),1,0)) -> 1
D400: =LEFT(B17,1) | E400: =IF($B$398="26","T",IF($B$398="27","V")) -> FALSE | F400: =IF(ISBLANK(B17), 1,IF(OR(D400=$E$398,D400=$E$399,D400=$E$400,D400=$E$401,D400=$E$402),1,0)) -> 1
D401: =LEFT(B18,1) | E401: =IF(B398="01", "1",IF(B398="02", "2",IF(B398="03", "3",IF(B398="04", "4",IF(B398="05", "5",IF(B398="06", "6",IF(B398="07", "7",IF(B398="08", "8")))))))) -> FALSE | F401: =IF(ISBLANK(B18), 1,IF(OR(D401=$E$398,D401=$E$399,D401=$E$400,D401=$E$401,D401=$E$402),1,0)) -> 1
D402: =LEFT(B19,1) | E402: =IF(B398="09", "9") -> FALSE | F402: =IF(ISBLANK(B19), 1,IF(OR(D402=$E$398,D402=$E$399,D402=$E$400,D402=$E$401,D402=$E$402),1,0)) -> 1
...

Sheet Current MY Credit Calc-MANUAL
B2: United States
B3: Environmental Protection Agency
B4: Office of Air and Radiation, Office of Transportation and Air Quality
B6: Manufacturer Averaging, Banking, and Trading Report for Locomotives
B7: Last Revision: November 2024 Version 24
B9: Current MY Emission Credits - Manual | N9: Submission Date: | P9: =IF('Current MY Credit Calc'!P9<>"",'Current MY Credit Calc'!P9,"")
B11: MODEL YEAR: | C11: =IF('Current MY Credit Calc'!C11:D11<>"",'Current MY Credit Calc'!C11:D11,"") | D11: =IF('Current MY Credit Calc'!D11<>"",'Current MY Credit Calc'!D11,"") | E11: Total Tier 4 Production Volume:
B12: Manufacturer: | C12: =IF('Current MY Credit Calc'!C12:D12<>"",'Current MY Credit Calc'!C12:D12,"") | D12: =IF('Current MY Credit Calc'!D12<>"",'Current MY Credit Calc'!D12,"") | S12: Entered all values? | T12: Model Year and Tier Check (Tier 3 and 4) | U12: Model Year and Tier Check (Tier 2) | V12: Category | W12: Standards | Z12: FEL Cap* | AB12: FEL exceeds cap? | AC12: Eng.Fam Info Match | AD12: Notes | AE12: Notes(2) | AF12: Notes Final | AG12: Credit Summary Calculation | AS12: Tier 4: All loc. | AU12: Nox Credits: Fresh. Man | AW12: Part 1033 engine families using credits | BB12: Error 1 | BC12: Error 2 | BD12: Error Final
B14: Engine Family | C14: Applicable 40 CFR Part | D14: Remanufactured? (Yes/No) | E14: Age | F14: Pollutant | G14: Tier | H14: Engine Class Type | I14: Power Rating (hp)1 | J14: Useful Life (MW-hrs) | K14: Partial Useful Life (Yes/No) | L14: Production | M14: FEL (g/bhp-hr) | N14: Proration Factor (Fp)2 | O14: Standard (g/bhp-hr) | P14: Credit Balance (Mg) | Q14: Comments | W14: Alternate Standards | X14: Part 1033 | Y14: Part 92 | Z14: Part 1033 | AA14: Part 92 | AG14: 0 | AH14: 1 | AI14: 2 | AJ14: 3 | AK14: 4 | AL14: Part 92 | AM14: Part 1033 | AN14: line haul | AO14: switch | AP14: PM | AQ14: NOx | AR14: HC+NOx | AS14: # Using Credits | AT14: Production | AU14: # Using Nox Credits | AV14: Total Nox Production | AW14: Credit Balance | AX14: Using | AY14: Generating | AZ14: Matching Array Pos | BA14: Error?
P15: =IF(S15=1,(O15-M15)*1.341*J15*L15*N15*10^-3,"") | S15: =IF(NOT(OR(ISBLANK($C$11), ISBLANK(B15),ISBLANK(C15),ISBLANK(D15),ISBLANK(F15),ISBLANK(G15),ISBLANK(H15),ISBLANK(I15),ISBLANK(J15),ISBLANK(N15),ISBLANK(L15), ISBLANK(M15))),1,0) -> 0 | T15: =IF(ISBLANK(G15),0,IF(AND($C$11>2014,D15=$C$382,G15<>$E$385),1,IF(AND(G15<>$E$384,D15=$C$382,$C$11<2015,OR(AND(H15=$F$384,$C$11>2011),AND(H15=$F$385,$C$11>2010))),1,0))) -> 0 | U15: =IF(AND(G15<>$E$383,D15=$C$382,C15=$B$381,$C$11>2005,OR(AND(H15=$F$384,$C$11<2012),AND(H15=$F$385,$C$11<2011))),1,IF(AND(G15=$E$383,D15=$C$382,C15<>$B$381,$C$11>2005,OR(AND(H15=$F$384,$C$11<2012),AND(H15=$F$385,$C$11<2011))),1,0)) -> 0 | V15: =G15&F15&H15 | W15: =IF(AND(C15=$B$382,D15=$C$381,G15=$E$383,F15=$D$382,$C$11<2013,H15=$F$384),0.2,IF(AND(C15=$B$382,F15=$D$382,G15=$E$383,H15=$F$385,$C$11<2013),0.24,"")) | X15: =IF(AND(S15<>0,C15=$B$382,W15=""),IF(VLOOKUP(V15,$S$319:$AA$360,5,FALSE)<>0,VLOOKUP(V15,$S$319:$AA$360,5,FALSE),""),"") | Y15: =IF(AND(S15<>0,C15=$B$381,W15=""),IF(VLOOKUP(V15,$S$319:$AA$360,7,FALSE)<>0,VLOOKUP(V15,$S$319:$AA$360,7,FALSE),""),"") | Z15: =IF(AND(S15<>0,C15=$B$382),VLOOKUP(V15,$S$319:$AA$360,6,FALSE),"") | AA15: =IF(AND(S15<>0,C15=$B$381),VLOOKUP(V15,$S$319:$AA$360,8,FALSE),"") | AB15: =IF(AND(Z15="",AA15=""),"",IF(OR(Z15=0,AA15=0),0,IF(OR(M15>Z15,M15>AA15),1,0))) | AC15: =IF(B15=B14,(IF(AND(C15=C14,D15=D14,I15=I14,L15=L14),0,1)),0) -> 0 | AD15: =IF(C15=$B$381,IF(H15=$F$384,$B$402,$B$401),IF(AND(H15=$F$385,G15=$E$382),$B$400,IF(AND(H15=$F$385,G15=$E$383),$B$399,""))) | AE15: =IF(AND(C15=$B$382,H15=$F$384), IF(G15=$E$381,$B$398,IF(G15=$E$382,$B$397,IF(G15=$E$383,$B$396,IF(G15=$E$384,$B$395,"")))),"") | AF15: =IF(AD15<>"",AD15,AE15) | AG15: =IF(G15=$E$381,1,0) -> 0 | AH15: =IF(G15=$E$382,1,0) -> 0 | AI15: =IF(G15=$E$383,1,0) -> 0 | AJ15: =IF(G15=$E$384,1,0) -> 0 | AK15: =IF(G15=$E$385,1,0) -> 0 | AL15: =IF(C15=$B$381,1,0) -> 0 | AM15: =IF(C15=$B$382,1,0) -> 0 | AN15: =IF(H15=$F$384,1,0) -> 0 | AO15: =IF(H15=$F$385,1,0) -> 0 | AP15: =IF(F15=$D$382,1,0) -> 0 | AQ15: =IF(F15=$D$381,1,0) -> 0 | AR15: =IF(F15=$D$383,1,0) -> 0 | AS15: =IF(AND(G15=$E$385,P15<0),L15,0) -> 0 | AT15: =IF(AND(P15<>"",G15=$E$385),L15,0) -> 0 | AU15: =IF(AND(D15=$C$382,F15=$D$381,C15=$B$381,P15<0,P15<>""),L15,"") | AV15: =IF(AND(D15=$C$382,C15=$B$381,F15=$D$381,P15<>""),L15,"") | AW15: =IF(AND(S15=1,C15=$B$382,O15<>""),(O15-M15)*1.341*J15*L15*N15*10^-3,"") | AX15: =IF(AND(AW15<>"",AW15<0),B15,"") | AY15: =IF(AND(AW15<>"",AW15>0),B15,IF(AX15<>"","Using","")) | AZ15: =IF(AND(S15=1,AW15<>0, AW15<>""),MATCH(AY15,$AX$14:$AX$315,0),0) -> 0 | BA15: =IF(ISERROR(AZ15),0,IF(AZ15>1,1,"")) | BB15: =IF(AND(F15=$D$383,OR(G15<>$E$385,C15<>$B$382)),$B$388,IF(AND(C15=$B$381,OR(G15=$E$384,G15=$E$385)),$B$392,IF(AB15=1,$B$389,IF(BA15=1,$B$393,"")))) | BC15: =IF(AND(D15=$C$382,N15<>"",N15<1),$B$387,IF(F405=0,"",IF(AC15=1,$B$390,IF(OR(T15=1,U15=1),$B$394,"")))) | BD15: =IF(BB15<>"",BB15,BC15)
P16: =IF(S16=1,(O16-M16)*1.341*J16*L16*N16*10^-3,"") | S16: =IF(NOT(OR(ISBLANK($C$11), ISBLANK(B16),ISBLANK(C16),ISBLANK(D16),ISBLANK(F16),ISBLANK(G16),ISBLANK(H16),ISBLANK(I16),ISBLANK(J16),ISBLANK(N16),ISBLANK(L16), ISBLANK(M16))),1,0) -> 0 | T16: =IF(ISBLANK(G16),0,IF(AND($C$11>2014,D16=$C$382,G16<>$E$385),1,IF(AND(G16<>$E$384,D16=$C$382,$C$11<2015,OR(AND(H16=$F$384,$C$11>2011),AND(H16=$F$385,$C$11>2010))),1,0))) -> 0 | U16: =IF(AND(G16<>$E$383,D16=$C$382,C16=$B$381,$C$11>2005,OR(AND(H16=$F$384,$C$11<2012),AND(H16=$F$385,$C$11<2011))),1,IF(AND(G16=$E$383,D16=$C$382,C16<>$B$381,$C$11>2005,OR(AND(H16=$F$384,$C$11<2012),AND(H16=$F$385,$C$11<2011))),1,0)) -> 0 | V16: =G16&F16&H16 | W16: =IF(AND(C16=$B$382,D16=$C$381,G16=$E$383,F16=$D$382,$C$11<2013,H16=$F$384),0.2,IF(AND(C16=$B$382,F16=$D$382,G16=$E$383,H16=$F$385,$C$11<2013),0.24,"")) | X16: =IF(AND(S16<>0,C16=$B$382,W16=""),IF(VLOOKUP(V16,$S$319:$AA$360,5,FALSE)<>0,VLOOKUP(V16,$S$319:$AA$360,5,FALSE),""),"") | Y16: =IF(AND(S16<>0,C16=$B$381,W16=""),IF(VLOOKUP(V16,$S$319:$AA$360,7,FALSE)<>0,VLOOKUP(V16,$S$319:$AA$360,7,FALSE),""),"") | Z16: =IF(AND(S16<>0,C16=$B$382),VLOOKUP(V16,$S$319:$AA$360,6,FALSE),"") | AA16: =IF(AND(S16<>0,C16=$B$381),VLOOKUP(V16,$S$319:$AA$360,8,FALSE),"") | AB16: =IF(AND(Z16="",AA16=""),"",IF(OR(Z16=0,AA16=0),0,IF(OR(M16>Z16,M16>AA16),1,0))) | AC16: =IF(B16=B15,(IF(AND(C16=C15,D16=D15,I16=I15,L16=L15),0,1)),0) -> 0 | AD16: =IF(C16=$B$381,IF(H16=$F$384,$B$402,$B$401),IF(AND(H16=$F$385,G16=$E$382),$B$400,IF(AND(H16=$F$385,G16=$E$383),$B$399,""))) | AE16: =IF(AND(C16=$B$382,H16=$F$384), IF(G16=$E$381,$B$398,IF(G16=$E$382,$B$397,IF(G16=$E$383,$B$396,IF(G16=$E$384,$B$395,"")))),"") | AF16: =IF(AD16<>"",AD16,AE16) | AG16: =IF(G16=$E$381,1,0) -> 0 | AH16: =IF(G16=$E$382,1,0) -> 0 | AI16: =IF(G16=$E$383,1,0) -> 0 | AJ16: =IF(G16=$E$384,1,0) -> 0 | AK16: =IF(G16=$E$385,1,0) -> 0 | AL16: =IF(C16=$B$381,1,0) -> 0 | AM16: =IF(C16=$B$382,1,0) -> 0 | AN16: =IF(H16=$F$384,1,0) -> 0 | AO16: =IF(H16=$F$385,1,0) -> 0 | AP16: =IF(F16=$D$382,1,0) -> 0 | AQ16: =IF(F16=$D$381,1,0) -> 0 | AR16: =IF(F16=$D$383,1,0) -> 0 | AS16: =IF(AND(G16=$E$385,P16<0),L16,0) -> 0 | AT16: =IF(AND(P16<>"",G16=$E$385),L16,0) -> 0 | AU16: =IF(AND(D16=$C$382,F16=$D$381,C16=$B$381,P16<0,P16<>""),L16,"") | AV16: =IF(AND(D16=$C$382,C16=$B$381,F16=$D$381,P16<>""),L16,"") | AW16: =IF(AND(S16=1,C16=$B$382,O16<>""),(O16-M16)*1.341*J16*L16*N16*10^-3,"") | AX16: =IF(AND(AW16<>"",AW16<0),B16,"") | AY16: =IF(AND(AW16<>"",AW16>0),B16,IF(AX16<>"","Using","")) | AZ16: =IF(AND(S16=1,AW16<>0, AW16<>""),MATCH(AY16,$AX$14:$AX$315,0),0) -> 0 | BA16: =IF(ISERROR(AZ16),0,IF(AZ16>1,1,"")) | BB16: =IF(AND(F16=$D$383,OR(G16<>$E$385,C16<>$B$382)),$B$388,IF(AND(C16=$B$381,OR(G16=$E$384,G16=$E$385)),$B$392,IF(AB16=1,$B$389,IF(BA16=1,$B$393,"")))) | BC16: =IF(AND(D16=$C$382,N16<>"",N16<1),$B$387,IF(F406=0,$B$391,IF(AC16=1,$B$390,IF(OR(T16=1,U16=1),$B$394,"")))) | BD16: =IF(BB16<>"",BB16,BC16)
S17: =IF(NOT(OR(ISBLANK($C$11), ISBLANK(B17),ISBLANK(C17),ISBLANK(D17),ISBLANK(F17),ISBLANK(G17),ISBLANK(H17),ISBLANK(I17),ISBLANK(J17),ISBLANK(N17),ISBLANK(L17), ISBLANK(M17))),1,0) -> 0 | T17: =IF(ISBLANK(G17),0,IF(AND($C$11>2014,D17=$C$382,G17<>$E$385),1,IF(AND(G17<>$E$384,D17=$C$382,$C$11<2015,OR(AND(H17=$F$384,$C$11>2011),AND(H17=$F$385,$C$11>2010))),1,0))) -> 0 | U17: =IF(AND(G17<>$E$383,D17=$C$382,C17=$B$381,$C$11>2005,OR(AND(H17=$F$384,$C$11<2012),AND(H17=$F$385,$C$11<2011))),1,IF(AND(G17=$E$383,D17=$C$382,C17<>$B$381,$C$11>2005,OR(AND(H17=$F$384,$C$11<2012),AND(H17=$F$385,$C$11<2011))),1,0)) -> 0 | V17: =G17&F17&H17 | W17: =IF(AND(C17=$B$382,D17=$C$381,G17=$E$383,F17=$D$382,$C$11<2013,H17=$F$384),0.2,IF(AND(C17=$B$382,F17=$D$382,G17=$E$383,H17=$F$385,$C$11<2013),0.24,"")) | X17: =IF(AND(S17<>0,C17=$B$382,W17=""),IF(VLOOKUP(V17,$S$319:$AA$360,5,FALSE)<>0,VLOOKUP(V17,$S$319:$AA$360,5,FALSE),""),"") | Y17: =IF(AND(S17<>0,C17=$B$381,W17=""),IF(VLOOKUP(V17,$S$319:$AA$360,7,FALSE)<>0,VLOOKUP(V17,$S$319:$AA$360,7,FALSE),""),"") | Z17: =IF(AND(S17<>0,C17=$B$382),VLOOKUP(V17,$S$319:$AA$360,6,FALSE),"") | AA17: =IF(AND(S17<>0,C17=$B$381),VLOOKUP(V17,$S$319:$AA$360,8,FALSE),"") | AB17: =IF(AND(Z17="",AA17=""),"",IF(OR(Z17=0,AA17=0),0,IF(OR(M17>Z17,M17>AA17),1,0))) | AC17: =IF(B17=B16,(IF(AND(C17=C16,D17=D16,I17=I16,L17=L16),0,1)),0) -> 0 | AD17: =IF(C17=$B$381,IF(H17=$F$384,$B$402,$B$401),IF(AND(H17=$F$385,G17=$E$382),$B$400,IF(AND(H17=$F$385,G17=$E$383),$B$399,""))) | AE17: =IF(AND(C17=$B$382,H17=$F$384), IF(G17=$E$381,$B$398,IF(G17=$E$382,$B$397,IF(G17=$E$383,$B$396,IF(G17=$E$384,$B$395,"")))),"") | AF17: =IF(AD17<>"",AD17,AE17) | AG17: =IF(G17=$E$381,1,0) -> 0 | AH17: =IF(G17=$E$382,1,0) -> 0 | AI17: =IF(G17=$E$383,1,0) -> 0 | AJ17: =IF(G17=$E$384,1,0) -> 0 | AK17: =IF(G17=$E$385,1,0) -> 0 | AL17: =IF(C17=$B$381,1,0) -> 0 | AM17: =IF(C17=$B$382,1,0) -> 0 | AN17: =IF(H17=$F$384,1,0) -> 0 | AO17: =IF(H17=$F$385,1,0) -> 0 | AP17: =IF(F17=$D$382,1,0) -> 0 | AQ17: =IF(F17=$D$381,1,0) -> 0 | AR17: =IF(F17=$D$383,1,0) -> 0 | AS17: =IF(AND(G17=$E$385,P17<0),L17,0) -> 0 | AT17: =IF(AND(P17<>"",G17=$E$385),L17,0) -> 0 | AU17: =IF(AND(D17=$C$382,F17=$D$381,C17=$B$381,P17<0,P17<>""),L17,"") | AV17: =IF(AND(D17=$C$382,C17=$B$381,F17=$D$381,P17<>""),L17,"") | AW17: =IF(AND(S17=1,C17=$B$382,O17<>""),(O17-M17)*1.341*J17*L17*N17*10^-3,"") | AX17: =IF(AND(AW17<>"",AW17<0),B17,"") | AY17: =IF(AND(AW17<>"",AW17>0),B17,IF(AX17<>"","Using","")) | AZ17: =IF(AND(S17=1,AW17<>0, AW17<>""),MATCH(AY17,$AX$14:$AX$315,0),0) -> 0 | BA17: =IF(ISERROR(AZ17),0,IF(AZ17>1,1,"")) | BB17: =IF(AND(F17=$D$383,OR(G17<>$E$385,C17<>$B$382)),$B$388,IF(AND(C17=$B$381,OR(G17=$E$384,G17=$E$385)),$B$392,IF(AB17=1,$B$389,IF(BA17=1,$B$393,"")))) | BC17: =IF(AND(D17=$C$382,N17<>"",N17<1),$B$387,IF(F407=0,$B$391,IF(AC17=1,$B$390,IF(OR(T17=1,U17=1),$B$394,"")))) | BD17: =IF(BB17<>"",BB17,BC17)
S18: =IF(NOT(OR(ISBLANK($C$11), ISBLANK(B18),ISBLANK(C18),ISBLANK(D18),ISBLANK(F18),ISBLANK(G18),ISBLANK(H18),ISBLANK(I18),ISBLANK(J18),ISBLANK(N18),ISBLANK(L18), ISBLANK(M18))),1,0) -> 0 | T18: =IF(ISBLANK(G18),0,IF(AND($C$11>2014,D18=$C$382,G18<>$E$385),1,IF(AND(G18<>$E$384,D18=$C$382,$C$11<2015,OR(AND(H18=$F$384,$C$11>2011),AND(H18=$F$385,$C$11>2010))),1,0))) -> 0 | U18: =IF(AND(G18<>$E$383,D18=$C$382,C18=$B$381,$C$11>2005,OR(AND(H18=$F$384,$C$11<2012),AND(H18=$F$385,$C$11<2011))),1,IF(AND(G18=$E$383,D18=$C$382,C18<>$B$381,$C$11>2005,OR(AND(H18=$F$384,$C$11<2012),AND(H18=$F$385,$C$11<2011))),1,0)) -> 0 | V18: =G18&F18&H18 | W18: =IF(AND(C18=$B$382,D18=$C$381,G18=$E$383,F18=$D$382,$C$11<2013,H18=$F$384),0.2,IF(AND(C18=$B$382,F18=$D$382,G18=$E$383,H18=$F$385,$C$11<2013),0.24,"")) | X18: =IF(AND(S18<>0,C18=$B$382,W18=""),IF(VLOOKUP(V18,$S$319:$AA$360,5,FALSE)<>0,VLOOKUP(V18,$S$319:$AA$360,5,FALSE),""),"") | Y18: =IF(AND(S18<>0,C18=$B$381,W18=""),IF(VLOOKUP(V18,$S$319:$AA$360,7,FALSE)<>0,VLOOKUP(V18,$S$319:$AA$360,7,FALSE),""),"") | Z18: =IF(AND(S18<>0,C18=$B$382),VLOOKUP(V18,$S$319:$AA$360,6,FALSE),"") | AA18: =IF(AND(S18<>0,C18=$B$381),VLOOKUP(V18,$S$319:$AA$360,8,FALSE),"") | AB18: =IF(AND(Z18="",AA18=""),"",IF(OR(Z18=0,AA18=0),0,IF(OR(M18>Z18,M18>AA18),1,0))) | AC18: =IF(B18=B17,(IF(AND(C18=C17,D18=D17,I18=I17,L18=L17),0,1)),0) -> 0 | AD18: =IF(C18=$B$381,IF(H18=$F$384,$B$402,$B$401),IF(AND(H18=$F$385,G18=$E$382),$B$400,IF(AND(H18=$F$385,G18=$E$383),$B$399,""))) | AE18: =IF(AND(C18=$B$382,H18=$F$384), IF(G18=$E$381,$B$398,IF(G18=$E$382,$B$397,IF(G18=$E$383,$B$396,IF(G18=$E$384,$B$395,"")))),"") | AF18: =IF(AD18<>"",AD18,AE18) | AG18: =IF(G18=$E$381,1,0) -> 0 | AH18: =IF(G18=$E$382,1,0) -> 0 | AI18: =IF(G18=$E$383,1,0) -> 0 | AJ18: =IF(G18=$E$384,1,0) -> 0 | AK18: =IF(G18=$E$385,1,0) -> 0 | AL18: =IF(C18=$B$381,1,0) -> 0 | AM18: =IF(C18=$B$382,1,0) -> 0 | AN18: =IF(H18=$F$384,1,0) -> 0 | AO18: =IF(H18=$F$385,1,0) -> 0 | AP18: =IF(F18=$D$382,1,0) -> 0 | AQ18: =IF(F18=$D$381,1,0) -> 0 | AR18: =IF(F18=$D$383,1,0) -> 0 | AS18: =IF(AND(G18=$E$385,P18<0),L18,0) -> 0 | AT18: =IF(AND(P18<>"",G18=$E$385),L18,0) -> 0 | AU18: =IF(AND(D18=$C$382,F18=$D$381,C18=$B$381,P18<0,P18<>""),L18,"") | AV18: =IF(AND(D18=$C$382,C18=$B$381,F18=$D$381,P18<>""),L18,"") | AW18: =IF(AND(S18=1,C18=$B$382,O18<>""),(O18-M18)*1.341*J18*L18*N18*10^-3,"") | AX18: =IF(AND(AW18<>"",AW18<0),B18,"") | AY18: =IF(AND(AW18<>"",AW18>0),B18,IF(AX18<>"","Using","")) | AZ18: =IF(AND(S18=1,AW18<>0, AW18<>""),MATCH(AY18,$AX$14:$AX$315,0),0) -> 0 | BA18: =IF(ISERROR(AZ18),0,IF(AZ18>1,1,"")) | BB18: =IF(AND(F18=$D$383,OR(G18<>$E$385,C18<>$B$382)),$B$388,IF(AND(C18=$B$381,OR(G18=$E$384,G18=$E$385)),$B$392,IF(AB18=1,$B$389,IF(BA18=1,$B$393,"")))) | BC18: =IF(AND(D18=$C$382,N18<>"",N18<1),$B$387,IF(F408=0,$B$391,IF(AC18=1,$B$390,IF(OR(T18=1,U18=1),$B$394,"")))) | BD18: =IF(BB18<>"",BB18,BC18)
S19: =IF(NOT(OR(ISBLANK($C$11), ISBLANK(B19),ISBLANK(C19),ISBLANK(D19),ISBLANK(F19),ISBLANK(G19),ISBLANK(H19),ISBLANK(I19),ISBLANK(J19),ISBLANK(N19),ISBLANK(L19), ISBLANK(M19))),1,0) -> 0 | T19: =IF(ISBLANK(G19),0,IF(AND($C$11>2014,D19=$C$382,G19<>$E$385),1,IF(AND(G19<>$E$384,D19=$C$382,$C$11<2015,OR(AND(H19=$F$384,$C$11>2011),AND(H19=$F$385,$C$11>2010))),1,0))) -> 0 | U19: =IF(AND(G19<>$E$383,D19=$C$382,C19=$B$381,$C$11>2005,OR(AND(H19=$F$384,$C$11<2012),AND(H19=$F$385,$C$11<2011))),1,IF(AND(G19=$E$383,D19=$C$382,C19<>$B$381,$C$11>2005,OR(AND(H19=$F$384,$C$11<2012),AND(H19=$F$385,$C$11<2011))),1,0)) -> 0 | V19: =G19&F19&H19 | W19: =IF(AND(C19=$B$382,D19=$C$381,G19=$E$383,F19=$D$382,$C$11<2013,H19=$F$384),0.2,IF(AND(C19=$B$382,F19=$D$382,G19=$E$383,H19=$F$385,$C$11<2013),0.24,"")) | X19: =IF(AND(S19<>0,C19=$B$382,W19=""),IF(VLOOKUP(V19,$S$319:$AA$360,5,FALSE)<>0,VLOOKUP(V19,$S$319:$AA$360,5,FALSE),""),"") | Y19: =IF(AND(S19<>0,C19=$B$381,W19=""),IF(VLOOKUP(V19,$S$319:$AA$360,7,FALSE)<>0,VLOOKUP(V19,$S$319:$AA$360,7,FALSE),""),"") | Z19: =IF(AND(S19<>0,C19=$B$382),VLOOKUP(V19,$S$319:$AA$360,6,FALSE),"") | AA19: =IF(AND(S19<>0,C19=$B$381),VLOOKUP(V19,$S$319:$AA$360,8,FALSE),"") | AB19: =IF(AND(Z19="",AA19=""),"",IF(OR(Z19=0,AA19=0),0,IF(OR(M19>Z19,M19>AA19),1,0))) | AC19: =IF(B19=B18,(IF(AND(C19=C18,D19=D18,I19=I18,L19=L18),0,1)),0) -> 0 | AD19: =IF(C19=$B$381,IF(H19=$F$384,$B$402,$B$401),IF(AND(H19=$F$385,G19=$E$382),$B$400,IF(AND(H19=$F$385,G19=$E$383),$B$399,""))) | AE19: =IF(AND(C19=$B$382,H19=$F$384), IF(G19=$E$381,$B$398,IF(G19=$E$382,$B$397,IF(G19=$E$383,$B$396,IF(G19=$E$384,$B$395,"")))),"") | AF19: =IF(AD19<>"",AD19,AE19) | AG19: =IF(G19=$E$381,1,0) -> 0 | AH19: =IF(G19=$E$382,1,0) -> 0 | AI19: =IF(G19=$E$383,1,0) -> 0 | AJ19: =IF(G19=$E$384,1,0) -> 0 | AK19: =IF(G19=$E$385,1,0) -> 0 | AL19: =IF(C19=$B$381,1,0) -> 0 | AM19: =IF(C19=$B$382,1,0) -> 0 | AN19: =IF(H19=$F$384,1,0) -> 0 | AO19: =IF(H19=$F$385,1,0) -> 0 | AP19: =IF(F19=$D$382,1,0) -> 0 | AQ19: =IF(F19=$D$381,1,0) -> 0 | AR19: =IF(F19=$D$383,1,0) -> 0 | AS19: =IF(AND(G19=$E$385,P19<0),L19,0) -> 0 | AT19: =IF(AND(P19<>"",G19=$E$385),L19,0) -> 0 | AU19: =IF(AND(D19=$C$382,F19=$D$381,C19=$B$381,P19<0,P19<>""),L19,"") | AV19: =IF(AND(D19=$C$382,C19=$B$381,F19=$D$381,P19<>""),L19,"") | AW19: =IF(AND(S19=1,C19=$B$382,O19<>""),(O19-M19)*1.341*J19*L19*N19*10^-3,"") | AX19: =IF(AND(AW19<>"",AW19<0),B19,"") | AY19: =IF(AND(AW19<>"",AW19>0),B19,IF(AX19<>"","Using","")) | AZ19: =IF(AND(S19=1,AW19<>0, AW19<>""),MATCH(AY19,$AX$14:$AX$315,0),0) -> 0 | BA19: =IF(ISERROR(AZ19),0,IF(AZ19>1,1,"")) | BB19: =IF(AND(F19=$D$383,OR(G19<>$E$385,C19<>$B$382)),$B$388,IF(AND(C19=$B$381,OR(G19=$E$384,G19=$E$385)),$B$392,IF(AB19=1,$B$389,IF(BA19=1,$B$393,"")))) | BC19: =IF(AND(D19=$C$382,N19<>"",N19<1),$B$387,IF(F409=0,$B$391,IF(AC19=1,$B$390,IF(OR(T19=1,U19=1),$B$394,"")))) | BD19: =IF(BB19<>"",BB19,BC19)
S20: =IF(NOT(OR(ISBLANK($C$11), ISBLANK(B20),ISBLANK(C20),ISBLANK(D20),ISBLANK(F20),ISBLANK(G20),ISBLANK(H20),ISBLANK(I20),ISBLANK(J20),ISBLANK(N20),ISBLANK(L20), ISBLANK(M20))),1,0) -> 0 | T20: =IF(ISBLANK(G20),0,IF(AND($C$11>2014,D20=$C$382,G20<>$E$385),1,IF(AND(G20<>$E$384,D20=$C$382,$C$11<2015,OR(AND(H20=$F$384,$C$11>2011),AND(H20=$F$385,$C$11>2010))),1,0))) -> 0 | U20: =IF(AND(G20<>$E$383,D20=$C$382,C20=$B$381,$C$11>2005,OR(AND(H20=$F$384,$C$11<2012),AND(H20=$F$385,$C$11<2011))),1,IF(AND(G20=$E$383,D20=$C$382,C20<>$B$381,$C$11>2005,OR(AND(H20=$F$384,$C$11<2012),AND(H20=$F$385,$C$11<2011))),1,0)) -> 0 | V20: =G20&F20&H20 | W20: =IF(AND(C20=$B$382,D20=$C$381,G20=$E$383,F20=$D$382,$C$11<2013,H20=$F$384),0.2,IF(AND(C20=$B$382,F20=$D$382,G20=$E$383,H20=$F$385,$C$11<2013),0.24,"")) | X20: =IF(AND(S20<>0,C20=$B$382,W20=""),IF(VLOOKUP(V20,$S$319:$AA$360,5,FALSE)<>0,VLOOKUP(V20,$S$319:$AA$360,5,FALSE),""),"") | Y20: =IF(AND(S20<>0,C20=$B$381,W20=""),IF(VLOOKUP(V20,$S$319:$AA$360,7,FALSE)<>0,VLOOKUP(V20,$S$319:$AA$360,7,FALSE),""),"") | Z20: =IF(AND(S20<>0,C20=$B$382),VLOOKUP(V20,$S$319:$AA$360,6,FALSE),"") | AA20: =IF(AND(S20<>0,C20=$B$381),VLOOKUP(V20,$S$319:$AA$360,8,FALSE),"") | AB20: =IF(AND(Z20="",AA20=""),"",IF(OR(Z20=0,AA20=0),0,IF(OR(M20>Z20,M20>AA20),1,0))) | AC20: =IF(B20=B19,(IF(AND(C20=C19,D20=D19,I20=I19,L20=L19),0,1)),0) -> 0 | AD20: =IF(C20=$B$381,IF(H20=$F$384,$B$402,$B$401),IF(AND(H20=$F$385,G20=$E$382),$B$400,IF(AND(H20=$F$385,G20=$E$383),$B$399,""))) | AE20: =IF(AND(C20=$B$382,H20=$F$384), IF(G20=$E$381,$B$398,IF(G20=$E$382,$B$397,IF(G20=$E$383,$B$396,IF(G20=$E$384,$B$395,"")))),"") | AF20: =IF(AD20<>"",AD20,AE20) | AG20: =IF(G20=$E$381,1,0) -> 0 | AH20: =IF(G20=$E$382,1,0) -> 0 | AI20: =IF(G20=$E$383,1,0) -> 0 | AJ20: =IF(G20=$E$384,1,0) -> 0 | AK20: =IF(G20=$E$385,1,0) -> 0 | AL20: =IF(C20=$B$381,1,0) -> 0 | AM20: =IF(C20=$B$382,1,0) -> 0 | AN20: =IF(H20=$F$384,1,0) -> 0 | AO20: =IF(H20=$F$385,1,0) -> 0 | AP20: =IF(F20=$D$382,1,0) -> 0 | AQ20: =IF(F20=$D$381,1,0) -> 0 | AR20: =IF(F20=$D$383,1,0) -> 0 | AS20: =IF(AND(G20=$E$385,P20<0),L20,0) -> 0 | AT20: =IF(AND(P20<>"",G20=$E$385),L20,0) -> 0 | AU20: =IF(AND(D20=$C$382,F20=$D$381,C20=$B$381,P20<0,P20<>""),L20,"") | AV20: =IF(AND(D20=$C$382,C20=$B$381,F20=$D$381,P20<>""),L20,"") | AW20: =IF(AND(S20=1,C20=$B$382,O20<>""),(O20-M20)*1.341*J20*L20*N20*10^-3,"") | AX20: =IF(AND(AW20<>"",AW20<0),B20,"") | AY20: =IF(AND(AW20<>"",AW20>0),B20,IF(AX20<>"","Using","")) | AZ20: =IF(AND(S20=1,AW20<>0, AW20<>""),MATCH(AY20,$AX$14:$AX$315,0),0) -> 0 | BA20: =IF(ISERROR(AZ20),0,IF(AZ20>1,1,"")) | BB20: =IF(AND(F20=$D$383,OR(G20<>$E$385,C20<>$B$382)),$B$388,IF(AND(C20=$B$381,OR(G20=$E$384,G20=$E$385)),$B$392,IF(AB20=1,$B$389,IF(BA20=1,$B$393,"")))) | BC20: =IF(AND(D20=$C$382,N20<>"",N20<1),$B$387,IF(F410=0,$B$391,IF(AC20=1,$B$390,IF(OR(T20=1,U20=1),$B$394,"")))) | BD20: =IF(BB20<>"",BB20,BC20)
S21: =IF(NOT(OR(ISBLANK($C$11), ISBLANK(B21),ISBLANK(C21),ISBLANK(D21),ISBLANK(F21),ISBLANK(G21),ISBLANK(H21),ISBLANK(I21),ISBLANK(J21),ISBLANK(N21),ISBLANK(L21), ISBLANK(M21))),1,0) -> 0 | T21: =IF(ISBLANK(G21),0,IF(AND($C$11>2014,D21=$C$382,G21<>$E$385),1,IF(AND(G21<>$E$384,D21=$C$382,$C$11<2015,OR(AND(H21=$F$384,$C$11>2011),AND(H21=$F$385,$C$11>2010))),1,0))) -> 0 | U21: =IF(AND(G21<>$E$383,D21=$C$382,C21=$B$381,$C$11>2005,OR(AND(H21=$F$384,$C$11<2012),AND(H21=$F$385,$C$11<2011))),1,IF(AND(G21=$E$383,D21=$C$382,C21<>$B$381,$C$11>2005,OR(AND(H21=$F$384,$C$11<2012),AND(H21=$F$385,$C$11<2011))),1,0)) -> 0 | V21: =G21&F21&H21 | W21: =IF(AND(C21=$B$382,D21=$C$381,G21=$E$383,F21=$D$382,$C$11<2013,H21=$F$384),0.2,IF(AND(C21=$B$382,F21=$D$382,G21=$E$383,H21=$F$385,$C$11<2013),0.24,"")) | X21: =IF(AND(S21<>0,C21=$B$382,W21=""),IF(VLOOKUP(V21,$S$319:$AA$360,5,FALSE)<>0,VLOOKUP(V21,$S$319:$AA$360,5,FALSE),""),"") | Y21: =IF(AND(S21<>0,C21=$B$381,W21=""),IF(VLOOKUP(V21,$S$319:$AA$360,7,FALSE)<>0,VLOOKUP(V21,$S$319:$AA$360,7,FALSE),""),"") | Z21: =IF(AND(S21<>0,C21=$B$382),VLOOKUP(V21,$S$319:$AA$360,6,FALSE),"") | AA21: =IF(AND(S21<>0,C21=$B$381),VLOOKUP(V21,$S$319:$AA$360,8,FALSE),"") | AB21: =IF(AND(Z21="",AA21=""),"",IF(OR(Z21=0,AA21=0),0,IF(OR(M21>Z21,M21>AA21),1,0))) | AC21: =IF(B21=B20,(IF(AND(C21=C20,D21=D20,I21=I20,L21=L20),0,1)),0) -> 0 | AD21: =IF(C21=$B$381,IF(H21=$F$384,$B$402,$B$401),IF(AND(H21=$F$385,G21=$E$382),$B$400,IF(AND(H21=$F$385,G21=$E$383),$B$399,""))) | AE21: =IF(AND(C21=$B$382,H21=$F$384), IF(G21=$E$381,$B$398,IF(G21=$E$382,$B$397,IF(G21=$E$383,$B$396,IF(G21=$E$384,$B$395,"")))),"") | AF21: =IF(AD21<>"",AD21,AE21) | AG21: =IF(G21=$E$381,1,0) -> 0 | AH21: =IF(G21=$E$382,1,0) -> 0 | AI21: =IF(G21=$E$383,1,0) -> 0 | AJ21: =IF(G21=$E$384,1,0) -> 0 | AK21: =IF(G21=$E$385,1,0) -> 0 | AL21: =IF(C21=$B$381,1,0) -> 0 | AM21: =IF(C21=$B$382,1,0) -> 0 | AN21: =IF(H21=$F$384,1,0) -> 0 | AO21: =IF(H21=$F$385,1,0) -> 0 | AP21: =IF(F21=$D$382,1,0) -> 0 | AQ21: =IF(F21=$D$381,1,0) -> 0 | AR21: =IF(F21=$D$383,1,0) -> 0 | AS21: =IF(AND(G21=$E$385,P21<0),L21,0) -> 0 | AT21: =IF(AND(P21<>"",G21=$E$385),L21,0) -> 0 | AU21: =IF(AND(D21=$C$382,F21=$D$381,C21=$B$381,P21<0,P21<>""),L21,"") | AV21: =IF(AND(D21=$C$382,C21=$B$381,F21=$D$381,P21<>""),L21,"") | AW21: =IF(AND(S21=1,C21=$B$382,O21<>""),(O21-M21)*1.341*J21*L21*N21*10^-3,"") | AX21: =IF(AND(AW21<>"",AW21<0),B21,"") | AY21: =IF(AND(AW21<>"",AW21>0),B21,IF(AX21<>"","Using","")) | AZ21: =IF(AND(S21=1,AW21<>0, AW21<>""),MATCH(AY21,$AX$14:$AX$315,0),0) -> 0 | BA21: =IF(ISERROR(AZ21),0,IF(AZ21>1,1,"")) | BB21: =IF(AND(F21=$D$383,OR(G21<>$E$385,C21<>$B$382)),$B$388,IF(AND(C21=$B$381,OR(G21=$E$384,G21=$E$385)),$B$392,IF(AB21=1,$B$389,IF(BA21=1,$B$393,"")))) | BC21: =IF(AND(D21=$C$382,N21<>"",N21<1),$B$387,IF(F411=0,$B$391,IF(AC21=1,$B$390,IF(OR(T21=1,U21=1),$B$394,"")))) | BD21: =IF(BB21<>"",BB21,BC21)
S22: =IF(NOT(OR(ISBLANK($C$11), ISBLANK(B22),ISBLANK(C22),ISBLANK(D22),ISBLANK(F22),ISBLANK(G22),ISBLANK(H22),ISBLANK(I22),ISBLANK(J22),ISBLANK(N22),ISBLANK(L22), ISBLANK(M22))),1,0) -> 0 | T22: =IF(ISBLANK(G22),0,IF(AND($C$11>2014,D22=$C$382,G22<>$E$385),1,IF(AND(G22<>$E$384,D22=$C$382,$C$11<2015,OR(AND(H22=$F$384,$C$11>2011),AND(H22=$F$385,$C$11>2010))),1,0))) -> 0 | U22: =IF(AND(G22<>$E$383,D22=$C$382,C22=$B$381,$C$11>2005,OR(AND(H22=$F$384,$C$11<2012),AND(H22=$F$385,$C$11<2011))),1,IF(AND(G22=$E$383,D22=$C$382,C22<>$B$381,$C$11>2005,OR(AND(H22=$F$384,$C$11<2012),AND(H22=$F$385,$C$11<2011))),1,0)) -> 0 | V22: =G22&F22&H22 | W22: =IF(AND(C22=$B$382,D22=$C$381,G22=$E$383,F22=$D$382,$C$11<2013,H22=$F$384),0.2,IF(AND(C22=$B$382,F22=$D$382,G22=$E$383,H22=$F$385,$C$11<2013),0.24,"")) | X22: =IF(AND(S22<>0,C22=$B$382,W22=""),IF(VLOOKUP(V22,$S$319:$AA$360,5,FALSE)<>0,VLOOKUP(V22,$S$319:$AA$360,5,FALSE),""),"") | Y22: =IF(AND(S22<>0,C22=$B$381,W22=""),IF(VLOOKUP(V22,$S$319:$AA$360,7,FALSE)<>0,VLOOKUP(V22,$S$319:$AA$360,7,FALSE),""),"") | Z22: =IF(AND(S22<>0,C22=$B$382),VLOOKUP(V22,$S$319:$AA$360,6,FALSE),"") | AA22: =IF(AND(S22<>0,C22=$B$381),VLOOKUP(V22,$S$319:$AA$360,8,FALSE),"") | AB22: =IF(AND(Z22="",AA22=""),"",IF(OR(Z22=0,AA22=0),0,IF(OR(M22>Z22,M22>AA22),1,0))) | AC22: =IF(B22=B21,(IF(AND(C22=C21,D22=D21,I22=I21,L22=L21),0,1)),0) -> 0 | AD22: =IF(C22=$B$381,IF(H22=$F$384,$B$402,$B$401),IF(AND(H22=$F$385,G22=$E$382),$B$400,IF(AND(H22=$F$385,G22=$E$383),$B$399,""))) | AE22: =IF(AND(C22=$B$382,H22=$F$384), IF(G22=$E$381,$B$398,IF(G22=$E$382,$B$397,IF(G22=$E$383,$B$396,IF(G22=$E$384,$B$395,"")))),"") | AF22: =IF(AD22<>"",AD22,AE22) | AG22: =IF(G22=$E$381,1,0) -> 0 | AH22: =IF(G22=$E$382,1,0) -> 0 | AI22: =IF(G22=$E$383,1,0) -> 0 | AJ22: =IF(G22=$E$384,1,0) -> 0 | AK22: =IF(G22=$E$385,1,0) -> 0 | AL22: =IF(C22=$B$381,1,0) -> 0 | AM22: =IF(C22=$B$382,1,0) -> 0 | AN22: =IF(H22=$F$384,1,0) -> 0 | AO22: =IF(H22=$F$385,1,0) -> 0 | AP22: =IF(F22=$D$382,1,0) -> 0 | AQ22: =IF(F22=$D$381,1,0) -> 0 | AR22: =IF(F22=$D$383,1,0) -> 0 | AS22: =IF(AND(G22=$E$385,P22<0),L22,0) -> 0 | AT22: =IF(AND(P22<>"",G22=$E$385),L22,0) -> 0 | AU22: =IF(AND(D22=$C$382,F22=$D$381,C22=$B$381,P22<0,P22<>""),L22,"") | AV22: =IF(AND(D22=$C$382,C22=$B$381,F22=$D$381,P22<>""),L22,"") | AW22: =IF(AND(S22=1,C22=$B$382,O22<>""),(O22-M22)*1.341*J22*L22*N22*10^-3,"") | AX22: =IF(AND(AW22<>"",AW22<0),B22,"") | AY22: =IF(AND(AW22<>"",AW22>0),B22,IF(AX22<>"","Using","")) | AZ22: =IF(AND(S22=1,AW22<>0, AW22<>""),MATCH(AY22,$AX$14:$AX$315,0),0) -> 0 | BA22: =IF(ISERROR(AZ22),0,IF(AZ22>1,1,"")) | BB22: =IF(AND(F22=$D$383,OR(G22<>$E$385,C22<>$B$382)),$B$388,IF(AND(C22=$B$381,OR(G22=$E$384,G22=$E$385)),$B$392,IF(AB22=1,$B$389,IF(BA22=1,$B$393,"")))) | BC22: =IF(AND(D22=$C$382,N22<>"",N22<1),$B$387,IF(F412=0,$B$391,IF(AC22=1,$B$390,IF(OR(T22=1,U22=1),$B$394,"")))) | BD22: =IF(BB22<>"",BB22,BC22)
S23: =IF(NOT(OR(ISBLANK($C$11), ISBLANK(B23),ISBLANK(C23),ISBLANK(D23),ISBLANK(F23),ISBLANK(G23),ISBLANK(H23),ISBLANK(I23),ISBLANK(J23),ISBLANK(N23),ISBLANK(L23), ISBLANK(M23))),1,0) -> 0 | T23: =IF(ISBLANK(G23),0,IF(AND($C$11>2014,D23=$C$382,G23<>$E$385),1,IF(AND(G23<>$E$384,D23=$C$382,$C$11<2015,OR(AND(H23=$F$384,$C$11>2011),AND(H23=$F$385,$C$11>2010))),1,0))) -> 0 | U23: =IF(AND(G23<>$E$383,D23=$C$382,C23=$B$381,$C$11>2005,OR(AND(H23=$F$384,$C$11<2012),AND(H23=$F$385,$C$11<2011))),1,IF(AND(G23=$E$383,D23=$C$382,C23<>$B$381,$C$11>2005,OR(AND(H23=$F$384,$C$11<2012),AND(H23=$F$385,$C$11<2011))),1,0)) -> 0 | V23: =G23&F23&H23 | W23: =IF(AND(C23=$B$382,D23=$C$381,G23=$E$383,F23=$D$382,$C$11<2013,H23=$F$384),0.2,IF(AND(C23=$B$382,F23=$D$382,G23=$E$383,H23=$F$385,$C$11<2013),0.24,"")) | X23: =IF(AND(S23<>0,C23=$B$382,W23=""),IF(VLOOKUP(V23,$S$319:$AA$360,5,FALSE)<>0,VLOOKUP(V23,$S$319:$AA$360,5,FALSE),""),"") | Y23: =IF(AND(S23<>0,C23=$B$381,W23=""),IF(VLOOKUP(V23,$S$319:$AA$360,7,FALSE)<>0,VLOOKUP(V23,$S$319:$AA$360,7,FALSE),""),"") | Z23: =IF(AND(S23<>0,C23=$B$382),VLOOKUP(V23,$S$319:$AA$360,6,FALSE),"") | AA23: =IF(AND(S23<>0,C23=$B$381),VLOOKUP(V23,$S$319:$AA$360,8,FALSE),"") | AB23: =IF(AND(Z23="",AA23=""),"",IF(OR(Z23=0,AA23=0),0,IF(OR(M23>Z23,M23>AA23),1,0))) | AC23: =IF(B23=B22,(IF(AND(C23=C22,D23=D22,I23=I22,L23=L22),0,1)),0) -> 0 | AD23: =IF(C23=$B$381,IF(H23=$F$384,$B$402,$B$401),IF(AND(H23=$F$385,G23=$E$382),$B$400,IF(AND(H23=$F$385,G23=$E$383),$B$399,""))) | AE23: =IF(AND(C23=$B$382,H23=$F$384), IF(G23=$E$381,$B$398,IF(G23=$E$382,$B$397,IF(G23=$E$383,$B$396,IF(G23=$E$384,$B$395,"")))),"") | AF23: =IF(AD23<>"",AD23,AE23) | AG23: =IF(G23=$E$381,1,0) -> 0 | AH23: =IF(G23=$E$382,1,0) -> 0 | AI23: =IF(G23=$E$383,1,0) -> 0 | AJ23: =IF(G23=$E$384,1,0) -> 0 | AK23: =IF(G23=$E$385,1,0) -> 0 | AL23: =IF(C23=$B$381,1,0) -> 0 | AM23: =IF(C23=$B$382,1,0) -> 0 | AN23: =IF(H23=$F$384,1,0) -> 0 | AO23: =IF(H23=$F$385,1,0) -> 0 | AP23: =IF(F23=$D$382,1,0) -> 0 | AQ23: =IF(F23=$D$381,1,0) -> 0 | AR23: =IF(F23=$D$383,1,0) -> 0 | AS23: =IF(AND(G23=$E$385,P23<0),L23,0) -> 0 | AT23: =IF(AND(P23<>"",G23=$E$385),L23,0) -> 0 | AU23: =IF(AND(D23=$C$382,F23=$D$381,C23=$B$381,P23<0,P23<>""),L23,"") | AV23: =IF(AND(D23=$C$382,C23=$B$381,F23=$D$381,P23<>""),L23,"") | AW23: =IF(AND(S23=1,C23=$B$382,O23<>""),(O23-M23)*1.341*J23*L23*N23*10^-3,"") | AX23: =IF(AND(AW23<>"",AW23<0),B23,"") | AY23: =IF(AND(AW23<>"",AW23>0),B23,IF(AX23<>"","Using","")) | AZ23: =IF(AND(S23=1,AW23<>0, AW23<>""),MATCH(AY23,$AX$14:$AX$315,0),0) -> 0 | BA23: =IF(ISERROR(AZ23),0,IF(AZ23>1,1,"")) | BB23: =IF(AND(F23=$D$383,OR(G23<>$E$385,C23<>$B$382)),$B$388,IF(AND(C23=$B$381,OR(G23=$E$384,G23=$E$385)),$B$392,IF(AB23=1,$B$389,IF(BA23=1,$B$393,"")))) | BC23: =IF(AND(D23=$C$382,N23<>"",N23<1),$B$387,IF(F413=0,$B$391,IF(AC23=1,$B$390,IF(OR(T23=1,U23=1),$B$394,"")))) | BD23: =IF(BB23<>"",BB23,BC23)
S24: =IF(NOT(OR(ISBLANK($C$11), ISBLANK(B24),ISBLANK(C24),ISBLANK(D24),ISBLANK(F24),ISBLANK(G24),ISBLANK(H24),ISBLANK(I24),ISBLANK(J24),ISBLANK(N24),ISBLANK(L24), ISBLANK(M24))),1,0) -> 0 | T24: =IF(ISBLANK(G24),0,IF(AND($C$11>2014,D24=$C$382,G24<>$E$385),1,IF(AND(G24<>$E$384,D24=$C$382,$C$11<2015,OR(AND(H24=$F$384,$C$11>2011),AND(H24=$F$385,$C$11>2010))),1,0))) -> 0 | U24: =IF(AND(G24<>$E$383,D24=$C$382,C24=$B$381,$C$11>2005,OR(AND(H24=$F$384,$C$11<2012),AND(H24=$F$385,$C$11<2011))),1,IF(AND(G24=$E$383,D24=$C$382,C24<>$B$381,$C$11>2005,OR(AND(H24=$F$384,$C$11<2012),AND(H24=$F$385,$C$11<2011))),1,0)) -> 0 | V24: =G24&F24&H24 | W24: =IF(AND(C24=$B$382,D24=$C$381,G24=$E$383,F24=$D$382,$C$11<2013,H24=$F$384),0.2,IF(AND(C24=$B$382,F24=$D$382,G24=$E$383,H24=$F$385,$C$11<2013),0.24,"")) | X24: =IF(AND(S24<>0,C24=$B$382,W24=""),IF(VLOOKUP(V24,$S$319:$AA$360,5,FALSE)<>0,VLOOKUP(V24,$S$319:$AA$360,5,FALSE),""),"") | Y24: =IF(AND(S24<>0,C24=$B$381,W24=""),IF(VLOOKUP(V24,$S$319:$AA$360,7,FALSE)<>0,VLOOKUP(V24,$S$319:$AA$360,7,FALSE),""),"") | Z24: =IF(AND(S24<>0,C24=$B$382),VLOOKUP(V24,$S$319:$AA$360,6,FALSE),"") | AA24: =IF(AND(S24<>0,C24=$B$381),VLOOKUP(V24,$S$319:$AA$360,8,FALSE),"") | AB24: =IF(AND(Z24="",AA24=""),"",IF(OR(Z24=0,AA24=0),0,IF(OR(M24>Z24,M24>AA24),1,0))) | AC24: =IF(B24=B23,(IF(AND(C24=C23,D24=D23,I24=I23,L24=L23),0,1)),0) -> 0 | AD24: =IF(C24=$B$381,IF(H24=$F$384,$B$402,$B$401),IF(AND(H24=$F$385,G24=$E$382),$B$400,IF(AND(H24=$F$385,G24=$E$383),$B$399,""))) | AE24: =IF(AND(C24=$B$382,H24=$F$384), IF(G24=$E$381,$B$398,IF(G24=$E$382,$B$397,IF(G24=$E$383,$B$396,IF(G24=$E$384,$B$395,"")))),"") | AF24: =IF(AD24<>"",AD24,AE24) | AG24: =IF(G24=$E$381,1,0) -> 0 | AH24: =IF(G24=$E$382,1,0) -> 0 | AI24: =IF(G24=$E$383,1,0) -> 0 | AJ24: =IF(G24=$E$384,1,0) -> 0 | AK24: =IF(G24=$E$385,1,0) -> 0 | AL24: =IF(C24=$B$381,1,0) -> 0 | AM24: =IF(C24=$B$382,1,0) -> 0 | AN24: =IF(H24=$F$384,1,0) -> 0 | AO24: =IF(H24=$F$385,1,0) -> 0 | AP24: =IF(F24=$D$382,1,0) -> 0 | AQ24: =IF(F24=$D$381,1,0) -> 0 | AR24: =IF(F24=$D$383,1,0) -> 0 | AS24: =IF(AND(G24=$E$385,P24<0),L24,0) -> 0 | AT24: =IF(AND(P24<>"",G24=$E$385),L24,0) -> 0 | AU24: =IF(AND(D24=$C$382,F24=$D$381,C24=$B$381,P24<0,P24<>""),L24,"") | AV24: =IF(AND(D24=$C$382,C24=$B$381,F24=$D$381,P24<>""),L24,"") | AW24: =IF(AND(S24=1,C24=$B$382,O24<>""),(O24-M24)*1.341*J24*L24*N24*10^-3,"") | AX24: =IF(AND(AW24<>"",AW24<0),B24,"") | AY24: =IF(AND(AW24<>"",AW24>0),B24,IF(AX24<>"","Using","")) | AZ24: =IF(AND(S24=1,AW24<>0, AW24<>""),MATCH(AY24,$AX$14:$AX$315,0),0) -> 0 | BA24: =IF(ISERROR(AZ24),0,IF(AZ24>1,1,"")) | BB24: =IF(AND(F24=$D$383,OR(G24<>$E$385,C24<>$B$382)),$B$388,IF(AND(C24=$B$381,OR(G24=$E$384,G24=$E$385)),$B$392,IF(AB24=1,$B$389,IF(BA24=1,$B$393,"")))) | BC24: =IF(AND(D24=$C$382,N24<>"",N24<1),$B$387,IF(F414=0,$B$391,IF(AC24=1,$B$390,IF(OR(T24=1,U24=1),$B$394,"")))) | BD24: =IF(BB24<>"",BB24,BC24)
S25: =IF(NOT(OR(ISBLANK($C$11), ISBLANK(B25),ISBLANK(C25),ISBLANK(D25),ISBLANK(F25),ISBLANK(G25),ISBLANK(H25),ISBLANK(I25),ISBLANK(J25),ISBLANK(N25),ISBLANK(L25), ISBLANK(M25))),1,0) -> 0 | T25: =IF(ISBLANK(G25),0,IF(AND($C$11>2014,D25=$C$382,G25<>$E$385),1,IF(AND(G25<>$E$384,D25=$C$382,$C$11<2015,OR(AND(H25=$F$384,$C$11>2011),AND(H25=$F$385,$C$11>2010))),1,0))) -> 0 | U25: =IF(AND(G25<>$E$383,D25=$C$382,C25=$B$381,$C$11>2005,OR(AND(H25=$F$384,$C$11<2012),AND(H25=$F$385,$C$11<2011))),1,IF(AND(G25=$E$383,D25=$C$382,C25<>$B$381,$C$11>2005,OR(AND(H25=$F$384,$C$11<2012),AND(H25=$F$385,$C$11<2011))),1,0)) -> 0 | V25: =G25&F25&H25 | W25: =IF(AND(C25=$B$382,D25=$C$381,G25=$E$383,F25=$D$382,$C$11<2013,H25=$F$384),0.2,IF(AND(C25=$B$382,F25=$D$382,G25=$E$383,H25=$F$385,$C$11<2013),0.24,"")) | X25: =IF(AND(S25<>0,C25=$B$382,W25=""),IF(VLOOKUP(V25,$S$319:$AA$360,5,FALSE)<>0,VLOOKUP(V25,$S$319:$AA$360,5,FALSE),""),"") | Y25: =IF(AND(S25<>0,C25=$B$381,W25=""),IF(VLOOKUP(V25,$S$319:$AA$360,7,FALSE)<>0,VLOOKUP(V25,$S$319:$AA$360,7,FALSE),""),"") | Z25: =IF(AND(S25<>0,C25=$B$382),VLOOKUP(V25,$S$319:$AA$360,6,FALSE),"") | AA25: =IF(AND(S25<>0,C25=$B$381),VLOOKUP(V25,$S$319:$AA$360,8,FALSE),"") | AB25: =IF(AND(Z25="",AA25=""),"",IF(OR(Z25=0,AA25=0),0,IF(OR(M25>Z25,M25>AA25),1,0))) | AC25: =IF(B25=B24,(IF(AND(C25=C24,D25=D24,I25=I24,L25=L24),0,1)),0) -> 0 | AD25: =IF(C25=$B$381,IF(H25=$F$384,$B$402,$B$401),IF(AND(H25=$F$385,G25=$E$382),$B$400,IF(AND(H25=$F$385,G25=$E$383),$B$399,""))) | AE25: =IF(AND(C25=$B$382,H25=$F$384), IF(G25=$E$381,$B$398,IF(G25=$E$382,$B$397,IF(G25=$E$383,$B$396,IF(G25=$E$384,$B$395,"")))),"") | AF25: =IF(AD25<>"",AD25,AE25) | AG25: =IF(G25=$E$381,1,0) -> 0 | AH25: =IF(G25=$E$382,1,0) -> 0 | AI25: =IF(G25=$E$383,1,0) -> 0 | AJ25: =IF(G25=$E$384,1,0) -> 0 | AK25: =IF(G25=$E$385,1,0) -> 0 | AL25: =IF(C25=$B$381,1,0) -> 0 | AM25: =IF(C25=$B$382,1,0) -> 0 | AN25: =IF(H25=$F$384,1,0) -> 0 | AO25: =IF(H25=$F$385,1,0) -> 0 | AP25: =IF(F25=$D$382,1,0) -> 0 | AQ25: =IF(F25=$D$381,1,0) -> 0 | AR25: =IF(F25=$D$383,1,0) -> 0 | AS25: =IF(AND(G25=$E$385,P25<0),L25,0) -> 0 | AT25: =IF(AND(P25<>"",G25=$E$385),L25,0) -> 0 | AU25: =IF(AND(D25=$C$382,F25=$D$381,C25=$B$381,P25<0,P25<>""),L25,"") | AV25: =IF(AND(D25=$C$382,C25=$B$381,F25=$D$381,P25<>""),L25,"") | AW25: =IF(AND(S25=1,C25=$B$382,O25<>""),(O25-M25)*1.341*J25*L25*N25*10^-3,"") | AX25: =IF(AND(AW25<>"",AW25<0),B25,"") | AY25: =IF(AND(AW25<>"",AW25>0),B25,IF(AX25<>"","Using","")) | AZ25: =IF(AND(S25=1,AW25<>0, AW25<>""),MATCH(AY25,$AX$14:$AX$315,0),0) -> 0 | BA25: =IF(ISERROR(AZ25),0,IF(AZ25>1,1,"")) | BB25: =IF(AND(F25=$D$383,OR(G25<>$E$385,C25<>$B$382)),$B$388,IF(AND(C25=$B$381,OR(G25=$E$384,G25=$E$385)),$B$392,IF(AB25=1,$B$389,IF(BA25=1,$B$393,"")))) | BC25: =IF(AND(D25=$C$382,N25<>"",N25<1),$B$387,IF(F415=0,$B$391,IF(AC25=1,$B$390,IF(OR(T25=1,U25=1),$B$394,"")))) | BD25: =IF(BB25<>"",BB25,BC25)
S26: =IF(NOT(OR(ISBLANK($C$11), ISBLANK(B26),ISBLANK(C26),ISBLANK(D26),ISBLANK(F26),ISBLANK(G26),ISBLANK(H26),ISBLANK(I26),ISBLANK(J26),ISBLANK(N26),ISBLANK(L26), ISBLANK(M26))),1,0) -> 0 | T26: =IF(ISBLANK(G26),0,IF(AND($C$11>2014,D26=$C$382,G26<>$E$385),1,IF(AND(G26<>$E$384,D26=$C$382,$C$11<2015,OR(AND(H26=$F$384,$C$11>2011),AND(H26=$F$385,$C$11>2010))),1,0))) -> 0 | U26: =IF(AND(G26<>$E$383,D26=$C$382,C26=$B$381,$C$11>2005,OR(AND(H26=$F$384,$C$11<2012),AND(H26=$F$385,$C$11<2011))),1,IF(AND(G26=$E$383,D26=$C$382,C26<>$B$381,$C$11>2005,OR(AND(H26=$F$384,$C$11<2012),AND(H26=$F$385,$C$11<2011))),1,0)) -> 0 | V26: =G26&F26&H26 | W26: =IF(AND(C26=$B$382,D26=$C$381,G26=$E$383,F26=$D$382,$C$11<2013,H26=$F$384),0.2,IF(AND(C26=$B$382,F26=$D$382,G26=$E$383,H26=$F$385,$C$11<2013),0.24,"")) | X26: =IF(AND(S26<>0,C26=$B$382,W26=""),IF(VLOOKUP(V26,$S$319:$AA$360,5,FALSE)<>0,VLOOKUP(V26,$S$319:$AA$360,5,FALSE),""),"") | Y26: =IF(AND(S26<>0,C26=$B$381,W26=""),IF(VLOOKUP(V26,$S$319:$AA$360,7,FALSE)<>0,VLOOKUP(V26,$S$319:$AA$360,7,FALSE),""),"") | Z26: =IF(AND(S26<>0,C26=$B$382),VLOOKUP(V26,$S$319:$AA$360,6,FALSE),"") | AA26: =IF(AND(S26<>0,C26=$B$381),VLOOKUP(V26,$S$319:$AA$360,8,FALSE),"") | AB26: =IF(AND(Z26="",AA26=""),"",IF(OR(Z26=0,AA26=0),0,IF(OR(M26>Z26,M26>AA26),1,0))) | AC26: =IF(B26=B25,(IF(AND(C26=C25,D26=D25,I26=I25,L26=L25),0,1)),0) -> 0 | AD26: =IF(C26=$B$381,IF(H26=$F$384,$B$402,$B$401),IF(AND(H26=$F$385,G26=$E$382),$B$400,IF(AND(H26=$F$385,G26=$E$383),$B$399,""))) | AE26: =IF(AND(C26=$B$382,H26=$F$384), IF(G26=$E$381,$B$398,IF(G26=$E$382,$B$397,IF(G26=$E$383,$B$396,IF(G26=$E$384,$B$395,"")))),"") | AF26: =IF(AD26<>"",AD26,AE26) | AG26: =IF(G26=$E$381,1,0) -> 0 | AH26: =IF(G26=$E$382,1,0) -> 0 | AI26: =IF(G26=$E$383,1,0) -> 0 | AJ26: =IF(G26=$E$384,1,0) -> 0 | AK26: =IF(G26=$E$385,1,0) -> 0 | AL26: =IF(C26=$B$381,1,0) -> 0 | AM26: =IF(C26=$B$382,1,0) -> 0 | AN26: =IF(H26=$F$384,1,0) -> 0 | AO26: =IF(H26=$F$385,1,0) -> 0 | AP26: =IF(F26=$D$382,1,0) -> 0 | AQ26: =IF(F26=$D$381,1,0) -> 0 | AR26: =IF(F26=$D$383,1,0) -> 0 | AS26: =IF(AND(G26=$E$385,P26<0),L26,0) -> 0 | AT26: =IF(AND(P26<>"",G26=$E$385),L26,0) -> 0 | AU26: =IF(AND(D26=$C$382,F26=$D$381,C26=$B$381,P26<0,P26<>""),L26,"") | AV26: =IF(AND(D26=$C$382,C26=$B$381,F26=$D$381,P26<>""),L26,"") | AW26: =IF(AND(S26=1,C26=$B$382,O26<>""),(O26-M26)*1.341*J26*L26*N26*10^-3,"") | AX26: =IF(AND(AW26<>"",AW26<0),B26,"") | AY26: =IF(AND(AW26<>"",AW26>0),B26,IF(AX26<>"","Using","")) | AZ26: =IF(AND(S26=1,AW26<>0, AW26<>""),MATCH(AY26,$AX$14:$AX$315,0),0) -> 0 | BA26: =IF(ISERROR(AZ26),0,IF(AZ26>1,1,"")) | BB26: =IF(AND(F26=$D$383,OR(G26<>$E$385,C26<>$B$382)),$B$388,IF(AND(C26=$B$381,OR(G26=$E$384,G26=$E$385)),$B$392,IF(AB26=1,$B$389,IF(BA26=1,$B$393,"")))) | BC26: =IF(AND(D26=$C$382,N26<>"",N26<1),$B$387,IF(F416=0,$B$391,IF(AC26=1,$B$390,IF(OR(T26=1,U26=1),$B$394,"")))) | BD26: =IF(BB26<>"",BB26,BC26)
S27: =IF(NOT(OR(ISBLANK($C$11), ISBLANK(B27),ISBLANK(C27),ISBLANK(D27),ISBLANK(F27),ISBLANK(G27),ISBLANK(H27),ISBLANK(I27),ISBLANK(J27),ISBLANK(N27),ISBLANK(L27), ISBLANK(M27))),1,0) -> 0 | T27: =IF(ISBLANK(G27),0,IF(AND($C$11>2014,D27=$C$382,G27<>$E$385),1,IF(AND(G27<>$E$384,D27=$C$382,$C$11<2015,OR(AND(H27=$F$384,$C$11>2011),AND(H27=$F$385,$C$11>2010))),1,0))) -> 0 | U27: =IF(AND(G27<>$E$383,D27=$C$382,C27=$B$381,$C$11>2005,OR(AND(H27=$F$384,$C$11<2012),AND(H27=$F$385,$C$11<2011))),1,IF(AND(G27=$E$383,D27=$C$382,C27<>$B$381,$C$11>2005,OR(AND(H27=$F$384,$C$11<2012),AND(H27=$F$385,$C$11<2011))),1,0)) -> 0 | V27: =G27&F27&H27 | W27: =IF(AND(C27=$B$382,D27=$C$381,G27=$E$383,F27=$D$382,$C$11<2013,H27=$F$384),0.2,IF(AND(C27=$B$382,F27=$D$382,G27=$E$383,H27=$F$385,$C$11<2013),0.24,"")) | X27: =IF(AND(S27<>0,C27=$B$382,W27=""),IF(VLOOKUP(V27,$S$319:$AA$360,5,FALSE)<>0,VLOOKUP(V27,$S$319:$AA$360,5,FALSE),""),"") | Y27: =IF(AND(S27<>0,C27=$B$381,W27=""),IF(VLOOKUP(V27,$S$319:$AA$360,7,FALSE)<>0,VLOOKUP(V27,$S$319:$AA$360,7,FALSE),""),"") | Z27: =IF(AND(S27<>0,C27=$B$382),VLOOKUP(V27,$S$319:$AA$360,6,FALSE),"") | AA27: =IF(AND(S27<>0,C27=$B$381),VLOOKUP(V27,$S$319:$AA$360,8,FALSE),"") | AB27: =IF(AND(Z27="",AA27=""),"",IF(OR(Z27=0,AA27=0),0,IF(OR(M27>Z27,M27>AA27),1,0))) | AC27: =IF(B27=B26,(IF(AND(C27=C26,D27=D26,I27=I26,L27=L26),0,1)),0) -> 0 | AD27: =IF(C27=$B$381,IF(H27=$F$384,$B$402,$B$401),IF(AND(H27=$F$385,G27=$E$382),$B$400,IF(AND(H27=$F$385,G27=$E$383),$B$399,""))) | AE27: =IF(AND(C27=$B$382,H27=$F$384), IF(G27=$E$381,$B$398,IF(G27=$E$382,$B$397,IF(G27=$E$383,$B$396,IF(G27=$E$384,$B$395,"")))),"") | AF27: =IF(AD27<>"",AD27,AE27) | AG27: =IF(G27=$E$381,1,0) -> 0 | AH27: =IF(G27=$E$382,1,0) -> 0 | AI27: =IF(G27=$E$383,1,0) -> 0 | AJ27: =IF(G27=$E$384,1,0) -> 0 | AK27: =IF(G27=$E$385,1,0) -> 0 | AL27: =IF(C27=$B$381,1,0) -> 0 | AM27: =IF(C27=$B$382,1,0) -> 0 | AN27: =IF(H27=$F$384,1,0) -> 0 | AO27: =IF(H27=$F$385,1,0) -> 0 | AP27: =IF(F27=$D$382,1,0) -> 0 | AQ27: =IF(F27=$D$381,1,0) -> 0 | AR27: =IF(F27=$D$383,1,0) -> 0 | AS27: =IF(AND(G27=$E$385,P27<0),L27,0) -> 0 | AT27: =IF(AND(P27<>"",G27=$E$385),L27,0) -> 0 | AU27: =IF(AND(D27=$C$382,F27=$D$381,C27=$B$381,P27<0,P27<>""),L27,"") | AV27: =IF(AND(D27=$C$382,C27=$B$381,F27=$D$381,P27<>""),L27,"") | AW27: =IF(AND(S27=1,C27=$B$382,O27<>""),(O27-M27)*1.341*J27*L27*N27*10^-3,"") | AX27: =IF(AND(AW27<>"",AW27<0),B27,"") | AY27: =IF(AND(AW27<>"",AW27>0),B27,IF(AX27<>"","Using","")) | AZ27: =IF(AND(S27=1,AW27<>0, AW27<>""),MATCH(AY27,$AX$14:$AX$315,0),0) -> 0 | BA27: =IF(ISERROR(AZ27),0,IF(AZ27>1,1,"")) | BB27: =IF(AND(F27=$D$383,OR(G27<>$E$385,C27<>$B$382)),$B$388,IF(AND(C27=$B$381,OR(G27=$E$384,G27=$E$385)),$B$392,IF(AB27=1,$B$389,IF(BA27=1,$B$393,"")))) | BC27: =IF(AND(D27=$C$382,N27<>"",N27<1),$B$387,IF(F417=0,$B$391,IF(AC27=1,$B$390,IF(OR(T27=1,U27=1),$B$394,"")))) | BD27: =IF(BB27<>"",BB27,BC27)
S28: =IF(NOT(OR(ISBLANK($C$11), ISBLANK(B28),ISBLANK(C28),ISBLANK(D28),ISBLANK(F28),ISBLANK(G28),ISBLANK(H28),ISBLANK(I28),ISBLANK(J28),ISBLANK(N28),ISBLANK(L28), ISBLANK(M28))),1,0) -> 0 | T28: =IF(ISBLANK(G28),0,IF(AND($C$11>2014,D28=$C$382,G28<>$E$385),1,IF(AND(G28<>$E$384,D28=$C$382,$C$11<2015,OR(AND(H28=$F$384,$C$11>2011),AND(H28=$F$385,$C$11>2010))),1,0))) -> 0 | U28: =IF(AND(G28<>$E$383,D28=$C$382,C28=$B$381,$C$11>2005,OR(AND(H28=$F$384,$C$11<2012),AND(H28=$F$385,$C$11<2011))),1,IF(AND(G28=$E$383,D28=$C$382,C28<>$B$381,$C$11>2005,OR(AND(H28=$F$384,$C$11<2012),AND(H28=$F$385,$C$11<2011))),1,0)) -> 0 | V28: =G28&F28&H28 | W28: =IF(AND(C28=$B$382,D28=$C$381,G28=$E$383,F28=$D$382,$C$11<2013,H28=$F$384),0.2,IF(AND(C28=$B$382,F28=$D$382,G28=$E$383,H28=$F$385,$C$11<2013),0.24,"")) | X28: =IF(AND(S28<>0,C28=$B$382,W28=""),IF(VLOOKUP(V28,$S$319:$AA$360,5,FALSE)<>0,VLOOKUP(V28,$S$319:$AA$360,5,FALSE),""),"") | Y28: =IF(AND(S28<>0,C28=$B$381,W28=""),IF(VLOOKUP(V28,$S$319:$AA$360,7,FALSE)<>0,VLOOKUP(V28,$S$319:$AA$360,7,FALSE),""),"") | Z28: =IF(AND(S28<>0,C28=$B$382),VLOOKUP(V28,$S$319:$AA$360,6,FALSE),"") | AA28: =IF(AND(S28<>0,C28=$B$381),VLOOKUP(V28,$S$319:$AA$360,8,FALSE),"") | AB28: =IF(AND(Z28="",AA28=""),"",IF(OR(Z28=0,AA28=0),0,IF(OR(M28>Z28,M28>AA28),1,0))) | AC28: =IF(B28=B27,(IF(AND(C28=C27,D28=D27,I28=I27,L28=L27),0,1)),0) -> 0 | AD28: =IF(C28=$B$381,IF(H28=$F$384,$B$402,$B$401),IF(AND(H28=$F$385,G28=$E$382),$B$400,IF(AND(H28=$F$385,G28=$E$383),$B$399,""))) | AE28: =IF(AND(C28=$B$382,H28=$F$384), IF(G28=$E$381,$B$398,IF(G28=$E$382,$B$397,IF(G28=$E$383,$B$396,IF(G28=$E$384,$B$395,"")))),"") | AF28: =IF(AD28<>"",AD28,AE28) | AG28: =IF(G28=$E$381,1,0) -> 0 | AH28: =IF(G28=$E$382,1,0) -> 0 | AI28: =IF(G28=$E$383,1,0) -> 0 | AJ28: =IF(G28=$E$384,1,0) -> 0 | AK28: =IF(G28=$E$385,1,0) -> 0 | AL28: =IF(C28=$B$381,1,0) -> 0 | AM28: =IF(C28=$B$382,1,0) -> 0 | AN28: =IF(H28=$F$384,1,0) -> 0 | AO28: =IF(H28=$F$385,1,0) -> 0 | AP28: =IF(F28=$D$382,1,0) -> 0 | AQ28: =IF(F28=$D$381,1,0) -> 0 | AR28: =IF(F28=$D$383,1,0) -> 0 | AS28: =IF(AND(G28=$E$385,P28<0),L28,0) -> 0 | AT28: =IF(AND(P28<>"",G28=$E$385),L28,0) -> 0 | AU28: =IF(AND(D28=$C$382,F28=$D$381,C28=$B$381,P28<0,P28<>""),L28,"") | AV28: =IF(AND(D28=$C$382,C28=$B$381,F28=$D$381,P28<>""),L28,"") | AW28: =IF(AND(S28=1,C28=$B$382,O28<>""),(O28-M28)*1.341*J28*L28*N28*10^-3,"") | AX28: =IF(AND(AW28<>"",AW28<0),B28,"") | AY28: =IF(AND(AW28<>"",AW28>0),B28,IF(AX28<>"","Using","")) | AZ28: =IF(AND(S28=1,AW28<>0, AW28<>""),MATCH(AY28,$AX$14:$AX$315,0),0) -> 0 | BA28: =IF(ISERROR(AZ28),0,IF(AZ28>1,1,"")) | BB28: =IF(AND(F28=$D$383,OR(G28<>$E$385,C28<>$B$382)),$B$388,IF(AND(C28=$B$381,OR(G28=$E$384,G28=$E$385)),$B$392,IF(AB28=1,$B$389,IF(BA28=1,$B$393,"")))) | BC28: =IF(AND(D28=$C$382,N28<>"",N28<1),$B$387,IF(F418=0,$B$391,IF(AC28=1,$B$390,IF(OR(T28=1,U28=1),$B$394,"")))) | BD28: =IF(BB28<>"",BB28,BC28)
... S94: =IF(NOT(OR(ISBLANK($C$11), ISBLANK(B94),ISBLANK(C94),ISBLANK(D94),ISBLANK(F94),ISBLANK(G94),ISBLANK(H94),ISBLANK(I94),ISBLANK(J94),ISBLANK(N94),ISBLANK(L94), ISBLANK(M94))),1,0) -> 0 | T94: =IF(ISBLANK(G94),0,IF(AND($C$11>2014,D94=$C$382,G94<>$E$385),1,IF(AND(G94<>$E$384,D94=$C$382,$C$11<2015,OR(AND(H94=$F$384,$C$11>2011),AND(H94=$F$385,$C$11>2010))),1,0))) -> 0 | U94: =IF(AND(G94<>$E$383,D94=$C$382,C94=$B$381,$C$11>2005,OR(AND(H94=$F$384,$C$11<2012),AND(H94=$F$385,$C$11<2011))),1,IF(AND(G94=$E$383,D94=$C$382,C94<>$B$381,$C$11>2005,OR(AND(H94=$F$384,$C$11<2012),AND(H94=$F$385,$C$11<2011))),1,0)) -> 0 | V94: =G94&F94&H94 | W94: =IF(AND(C94=$B$382,D94=$C$381,G94=$E$383,F94=$D$382,$C$11<2013,H94=$F$384),0.2,IF(AND(C94=$B$382,F94=$D$382,G94=$E$383,H94=$F$385,$C$11<2013),0.24,"")) | X94: =IF(AND(S94<>0,C94=$B$382,W94=""),IF(VLOOKUP(V94,$S$319:$AA$360,5,FALSE)<>0,VLOOKUP(V94,$S$319:$AA$360,5,FALSE),""),"") | Y94: =IF(AND(S94<>0,C94=$B$381,W94=""),IF(VLOOKUP(V94,$S$319:$AA$360,7,FALSE)<>0,VLOOKUP(V94,$S$319:$AA$360,7,FALSE),""),"") | Z94: =IF(AND(S94<>0,C94=$B$382),VLOOKUP(V94,$S$319:$AA$360,6,FALSE),"") | AA94: =IF(AND(S94<>0,C94=$B$381),VLOOKUP(V94,$S$319:$AA$360,8,FALSE),"") | AB94: =IF(AND(Z94="",AA94=""),"",IF(OR(Z94=0,AA94=0),0,IF(OR(M94>Z94,M94>AA94),1,0))) | AC94: =IF(B94=B93,(IF(AND(C94=C93,D94=D93,I94=I93,L94=L93),0,1)),0) -> 0 | AD94: =IF(C94=$B$381,IF(H94=$F$384,$B$402,$B$401),IF(AND(H94=$F$385,G94=$E$382),$B$400,IF(AND(H94=$F$385,G94=$E$383),$B$399,""))) | AE94: =IF(AND(C94=$B$382,H94=$F$384), IF(G94=$E$381,$B$398,IF(G94=$E$382,$B$397,IF(G94=$E$383,$B$396,IF(G94=$E$384,$B$395,"")))),"") | AF94: =IF(AD94<>"",AD94,AE94) | AG94: =IF(G94=$E$381,1,0) -> 0 | AH94: =IF(G94=$E$382,1,0) -> 0 | AI94: =IF(G94=$E$383,1,0) -> 0 | AJ94: =IF(G94=$E$384,1,0) -> 0 | AK94: =IF(G94=$E$385,1,0) -> 0 | AL94: =IF(C94=$B$381,1,0) -> 0 | AM94: =IF(C94=$B$382,1,0) -> 0 | AN94: =IF(H94=$F$384,1,0) -> 0 | AO94: =IF(H94=$F$385,1,0) -> 0 | AP94: =IF(F94=$D$382,1,0) -> 0 | AQ94: =IF(F94=$D$381,1,0) -> 0 | AR94: =IF(F94=$D$383,1,0) -> 0 | AS94: =IF(AND(G94=$E$385,P94<0),L94,0) -> 0 | AT94: =IF(AND(P94<>"",G94=$E$385),L94,0) -> 0 | AU94: =IF(AND(D94=$C$382,F94=$D$381,C94=$B$381,P94<0,P94<>""),L94,"") | AV94: =IF(AND(D94=$C$382,C94=$B$381,F94=$D$381,P94<>""),L94,"") | AW94: =IF(AND(S94=1,C94=$B$382,O94<>""),(O94-M94)*1.341*J94*L94*N94*10^-3,"") | AX94: =IF(AND(AW94<>"",AW94<0),B94,"") | AY94: =IF(AND(AW94<>"",AW94>0),B94,IF(AX94<>"","Using","")) | AZ94: =IF(AND(S94=1,AW94<>0, AW94<>""),MATCH(AY94,$AX$14:$AX$315,0),0) -> 0 | BA94: =IF(ISERROR(AZ94),0,IF(AZ94>1,1,"")) | BB94: =IF(AND(F94=$D$383,OR(G94<>$E$385,C94<>$B$382)),$B$388,IF(AND(C94=$B$381,OR(G94=$E$384,G94=$E$385)),$B$392,IF(AB94=1,$B$389,IF(BA94=1,$B$393,"")))) | BC94: =IF(AND(D94=$C$382,N94<>"",N94<1),$B$387,IF(F484=0,$B$391,IF(AC94=1,$B$390,IF(OR(T94=1,U94=1),$B$394,"")))) | BD94: =IF(BB94<>"",BB94,BC94)
P95: =IF(S95=1,(O95-M95)*1.341*J95*L95*N95*10^-3,"") | S95: =IF(NOT(OR(ISBLANK($C$11), ISBLANK(B95),ISBLANK(C95),ISBLANK(D95),ISBLANK(F95),ISBLANK(G95),ISBLANK(H95),ISBLANK(I95),ISBLANK(J95),ISBLANK(N95),ISBLANK(L95), ISBLANK(M95))),1,0) -> 0 | T95: =IF(ISBLANK(G95),0,IF(AND($C$11>2014,D95=$C$382,G95<>$E$385),1,IF(AND(G95<>$E$384,D95=$C$382,$C$11<2015,OR(AND(H95=$F$384,$C$11>2011),AND(H95=$F$385,$C$11>2010))),1,0))) -> 0 | U95: =IF(AND(G95<>$E$383,D95=$C$382,C95=$B$381,$C$11>2005,OR(AND(H95=$F$384,$C$11<2012),AND(H95=$F$385,$C$11<2011))),1,IF(AND(G95=$E$383,D95=$C$382,C95<>$B$381,$C$11>2005,OR(AND(H95=$F$384,$C$11<2012),AND(H95=$F$385,$C$11<2011))),1,0)) -> 0 | V95: =G95&F95&H95 | W95: =IF(AND(C95=$B$382,D95=$C$381,G95=$E$383,F95=$D$382,$C$11<2013,H95=$F$384),0.2,IF(AND(C95=$B$382,F95=$D$382,G95=$E$383,H95=$F$385,$C$11<2013),0.24,"")) | X95: =IF(AND(S95<>0,C95=$B$382,W95=""),IF(VLOOKUP(V95,$S$319:$AA$360,5,FALSE)<>0,VLOOKUP(V95,$S$319:$AA$360,5,FALSE),""),"") | Y95: =IF(AND(S95<>0,C95=$B$381,W95=""),IF(VLOOKUP(V95,$S$319:$AA$360,7,FALSE)<>0,VLOOKUP(V95,$S$319:$AA$360,7,FALSE),""),"") | Z95: =IF(AND(S95<>0,C95=$B$382),VLOOKUP(V95,$S$319:$AA$360,6,FALSE),"") | AA95: =IF(AND(S95<>0,C95=$B$381),VLOOKUP(V95,$S$319:$AA$360,8,FALSE),"") | AB95: =IF(AND(Z95="",AA95=""),"",IF(OR(Z95=0,AA95=0),0,IF(OR(M95>Z95,M95>AA95),1,0))) | AC95: =IF(B95=B94,(IF(AND(C95=C94,D95=D94,I95=I94,L95=L94),0,1)),0) -> 0 | AD95: =IF(C95=$B$381,IF(H95=$F$384,$B$402,$B$401),IF(AND(H95=$F$385,G95=$E$382),$B$400,IF(AND(H95=$F$385,G95=$E$383),$B$399,""))) | AE95: =IF(AND(C95=$B$382,H95=$F$384), IF(G95=$E$381,$B$398,IF(G95=$E$382,$B$397,IF(G95=$E$383,$B$396,IF(G95=$E$384,$B$395,"")))),"") | AF95: =IF(AD95<>"",AD95,AE95) | AG95: =IF(G95=$E$381,1,0) -> 0 | AH95: =IF(G95=$E$382,1,0) -> 0 | AI95: =IF(G95=$E$383,1,0) -> 0 | AJ95: =IF(G95=$E$384,1,0) -> 0 | AK95: =IF(G95=$E$385,1,0) -> 0 | AL95: =IF(C95=$B$381,1,0) -> 0 | AM95: =IF(C95=$B$382,1,0) -> 0 | AN95: =IF(H95=$F$384,1,0) -> 0 | AO95: =IF(H95=$F$385,1,0) -> 0 | AP95: =IF(F95=$D$382,1,0) -> 0 | AQ95: =IF(F95=$D$381,1,0) -> 0 | AR95: =IF(F95=$D$383,1,0) -> 0 | AS95: =IF(AND(G95=$E$385,P95<0),L95,0) -> 0 | AT95: =IF(AND(P95<>"",G95=$E$385),L95,0) -> 0 | AU95: =IF(AND(D95=$C$382,F95=$D$381,C95=$B$381,P95<0,P95<>""),L95,"") | AV95: =IF(AND(D95=$C$382,C95=$B$381,F95=$D$381,P95<>""),L95,"") | AW95: =IF(AND(S95=1,C95=$B$382,O95<>""),(O95-M95)*1.341*J95*L95*N95*10^-3,"") | AX95: =IF(AND(AW95<>"",AW95<0),B95,"") | AY95: =IF(AND(AW95<>"",AW95>0),B95,IF(AX95<>"","Using","")) | AZ95: =IF(AND(S95=1,AW95<>0, AW95<>""),MATCH(AY95,$AX$14:$AX$315,0),0) -> 0 | BA95: =IF(ISERROR(AZ95),0,IF(AZ95>1,1,"")) | BB95: =IF(AND(F95=$D$383,OR(G95<>$E$385,C95<>$B$382)),$B$388,IF(AND(C95=$B$381,OR(G95=$E$384,G95=$E$385)),$B$392,IF(AB95=1,$B$389,IF(BA95=1,$B$393,"")))) | BC95: =IF(AND(D95=$C$382,N95<>"",N95<1),$B$387,IF(F485=0,$B$391,IF(AC95=1,$B$390,IF(OR(T95=1,U95=1),$B$394,"")))) | BD95: =IF(BB95<>"",BB95,BC95)
P96: =IF(S96=1,(O96-M96)*1.341*J96*L96*N96*10^-3,"") | S96: =IF(NOT(OR(ISBLANK($C$11), ISBLANK(B96),ISBLANK(C96),ISBLANK(D96),ISBLANK(F96),ISBLANK(G96),ISBLANK(H96),ISBLANK(I96),ISBLANK(J96),ISBLANK(N96),ISBLANK(L96), ISBLANK(M96))),1,0) -> 0 | T96: =IF(ISBLANK(G96),0,IF(AND($C$11>2014,D96=$C$382,G96<>$E$385),1,IF(AND(G96<>$E$384,D96=$C$382,$C$11<2015,OR(AND(H96=$F$384,$C$11>2011),AND(H96=$F$385,$C$11>2010))),1,0))) -> 0 | U96: =IF(AND(G96<>$E$383,D96=$C$382,C96=$B$381,$C$11>2005,OR(AND(H96=$F$384,$C$11<2012),AND(H96=$F$385,$C$11<2011))),1,IF(AND(G96=$E$383,D96=$C$382,C96<>$B$381,$C$11>2005,OR(AND(H96=$F$384,$C$11<2012),AND(H96=$F$385,$C$11<2011))),1,0)) -> 0 | V96: =G96&F96&H96 | W96: =IF(AND(C96=$B$382,D96=$C$381,G96=$E$383,F96=$D$382,$C$11<2013,H96=$F$384),0.2,IF(AND(C96=$B$382,F96=$D$382,G96=$E$383,H96=$F$385,$C$11<2013),0.24,"")) | X96: =IF(AND(S96<>0,C96=$B$382,W96=""),IF(VLOOKUP(V96,$S$319:$AA$360,5,FALSE)<>0,VLOOKUP(V96,$S$319:$AA$360,5,FALSE),""),"") | Y96: =IF(AND(S96<>0,C96=$B$381,W96=""),IF(VLOOKUP(V96,$S$319:$AA$360,7,FALSE)<>0,VLOOKUP(V96,$S$319:$AA$360,7,FALSE),""),"") | Z96: =IF(AND(S96<>0,C96=$B$382),VLOOKUP(V96,$S$319:$AA$360,6,FALSE),"") | AA96: =IF(AND(S96<>0,C96=$B$381),VLOOKUP(V96,$S$319:$AA$360,8,FALSE),"") | AB96: =IF(AND(Z96="",AA96=""),"",IF(OR(Z96=0,AA96=0),0,IF(OR(M96>Z96,M96>AA96),1,0))) | AC96: =IF(B96=B95,(IF(AND(C96=C95,D96=D95,I96=I95,L96=L95),0,1)),0) -> 0 | AD96: =IF(C96=$B$381,IF(H96=$F$384,$B$402,$B$401),IF(AND(H96=$F$385,G96=$E$382),$B$400,IF(AND(H96=$F$385,G96=$E$383),$B$399,""))) | AE96: =IF(AND(C96=$B$382,H96=$F$384), IF(G96=$E$381,$B$398,IF(G96=$E$382,$B$397,IF(G96=$E$383,$B$396,IF(G96=$E$384,$B$395,"")))),"") | AF96: =IF(AD96<>"",AD96,AE96) | AG96: =IF(G96=$E$381,1,0) -> 0 | AH96: =IF(G96=$E$382,1,0) -> 0 | AI96: =IF(G96=$E$383,1,0) -> 0 | AJ96: =IF(G96=$E$384,1,0) -> 0 | AK96: =IF(G96=$E$385,1,0) -> 0 | AL96: =IF(C96=$B$381,1,0) -> 0 | AM96: =IF(C96=$B$382,1,0) -> 0 | AN96: =IF(H96=$F$384,1,0) -> 0 | AO96: =IF(H96=$F$385,1,0) -> 0 | AP96: =IF(F96=$D$382,1,0) -> 0 | AQ96: =IF(F96=$D$381,1,0) -> 0 | AR96: =IF(F96=$D$383,1,0) -> 0 | AS96: =IF(AND(G96=$E$385,P96<0),L96,0) -> 0 | AT96: =IF(AND(P96<>"",G96=$E$385),L96,0) -> 0 | AU96: =IF(AND(D96=$C$382,F96=$D$381,C96=$B$381,P96<0,P96<>""),L96,"") | AV96: =IF(AND(D96=$C$382,C96=$B$381,F96=$D$381,P96<>""),L96,"") | AW96: =IF(AND(S96=1,C96=$B$382,O96<>""),(O96-M96)*1.341*J96*L96*N96*10^-3,"") | AX96: =IF(AND(AW96<>"",AW96<0),B96,"") | AY96: =IF(AND(AW96<>"",AW96>0),B96,IF(AX96<>"","Using","")) | AZ96: =IF(AND(S96=1,AW96<>0, AW96<>""),MATCH(AY96,$AX$14:$AX$315,0),0) -> 0 | BA96: =IF(ISERROR(AZ96),0,IF(AZ96>1,1,"")) | BB96: =IF(AND(F96=$D$383,OR(G96<>$E$385,C96<>$B$382)),$B$388,IF(AND(C96=$B$381,OR(G96=$E$384,G96=$E$385)),$B$392,IF(AB96=1,$B$389,IF(BA96=1,$B$393,"")))) | BC96: =IF(AND(D96=$C$382,N96<>"",N96<1),$B$387,IF(F486=0,$B$391,IF(AC96=1,$B$390,IF(OR(T96=1,U96=1),$B$394,"")))) | BD96: =IF(BB96<>"",BB96,BC96)
P97: =IF(S97=1,(O97-M97)*1.341*J97*L97*N97*10^-3,"") | S97: =IF(NOT(OR(ISBLANK($C$11), ISBLANK(B97),ISBLANK(C97),ISBLANK(D97),ISBLANK(F97),ISBLANK(G97),ISBLANK(H97),ISBLANK(I97),ISBLANK(J97),ISBLANK(N97),ISBLANK(L97), ISBLANK(M97))),1,0) -> 0 | T97: =IF(ISBLANK(G97),0,IF(AND($C$11>2014,D97=$C$382,G97<>$E$385),1,IF(AND(G97<>$E$384,D97=$C$382,$C$11<2015,OR(AND(H97=$F$384,$C$11>2011),AND(H97=$F$385,$C$11>2010))),1,0))) -> 0 | U97: =IF(AND(G97<>$E$383,D97=$C$382,C97=$B$381,$C$11>2005,OR(AND(H97=$F$384,$C$11<2012),AND(H97=$F$385,$C$11<2011))),1,IF(AND(G97=$E$383,D97=$C$382,C97<>$B$381,$C$11>2005,OR(AND(H97=$F$384,$C$11<2012),AND(H97=$F$385,$C$11<2011))),1,0)) -> 0 | V97: =G97&F97&H97 | W97: =IF(AND(C97=$B$382,D97=$C$381,G97=$E$383,F97=$D$382,$C$11<2013,H97=$F$384),0.2,IF(AND(C97=$B$382,F97=$D$382,G97=$E$383,H97=$F$385,$C$11<2013),0.24,"")) | X97: =IF(AND(S97<>0,C97=$B$382,W97=""),IF(VLOOKUP(V97,$S$319:$AA$360,5,FALSE)<>0,VLOOKUP(V97,$S$319:$AA$360,5,FALSE),""),"") | Y97: =IF(AND(S97<>0,C97=$B$381,W97=""),IF(VLOOKUP(V97,$S$319:$AA$360,7,FALSE)<>0,VLOOKUP(V97,$S$319:$AA$360,7,FALSE),""),"") | Z97: =IF(AND(S97<>0,C97=$B$382),VLOOKUP(V97,$S$319:$AA$360,6,FALSE),"") | AA97: =IF(AND(S97<>0,C97=$B$381),VLOOKUP(V97,$S$319:$AA$360,8,FALSE),"") | AB97: =IF(AND(Z97="",AA97=""),"",IF(OR(Z97=0,AA97=0),0,IF(OR(M97>Z97,M97>AA97),1,0))) | AC97: =IF(B97=B96,(IF(AND(C97=C96,D97=D96,I97=I96,L97=L96),0,1)),0) -> 0 | AD97: =IF(C97=$B$381,IF(H97=$F$384,$B$402,$B$401),IF(AND(H97=$F$385,G97=$E$382),$B$400,IF(AND(H97=$F$385,G97=$E$383),$B$399,""))) | AE97: =IF(AND(C97=$B$382,H97=$F$384), IF(G97=$E$381,$B$398,IF(G97=$E$382,$B$397,IF(G97=$E$383,$B$396,IF(G97=$E$384,$B$395,"")))),"") | AF97: =IF(AD97<>"",AD97,AE97) | AG97: =IF(G97=$E$381,1,0) -> 0 | AH97: =IF(G97=$E$382,1,0) -> 0 | AI97: =IF(G97=$E$383,1,0) -> 0 | AJ97: =IF(G97=$E$384,1,0) -> 0 | AK97: =IF(G97=$E$385,1,0) -> 0 | AL97: =IF(C97=$B$381,1,0) -> 0 | AM97: =IF(C97=$B$382,1,0) -> 0 | AN97: =IF(H97=$F$384,1,0) -> 0 | AO97: =IF(H97=$F$385,1,0) -> 0 | AP97: =IF(F97=$D$382,1,0) -> 0 | AQ97: =IF(F97=$D$381,1,0) -> 0 | AR97: =IF(F97=$D$383,1,0) -> 0 | AS97: =IF(AND(G97=$E$385,P97<0),L97,0) -> 0 | AT97: =IF(AND(P97<>"",G97=$E$385),L97,0) -> 0 | AU97: =IF(AND(D97=$C$382,F97=$D$381,C97=$B$381,P97<0,P97<>""),L97,"") | AV97: =IF(AND(D97=$C$382,C97=$B$381,F97=$D$381,P97<>""),L97,"") | AW97: =IF(AND(S97=1,C97=$B$382,O97<>""),(O97-M97)*1.341*J97*L97*N97*10^-3,"") | AX97: =IF(AND(AW97<>"",AW97<0),B97,"") | AY97: =IF(AND(AW97<>"",AW97>0),B97,IF(AX97<>"","Using","")) | AZ97: =IF(AND(S97=1,AW97<>0, AW97<>""),MATCH(AY97,$AX$14:$AX$315,0),0) -> 0 | BA97: =IF(ISERROR(AZ97),0,IF(AZ97>1,1,"")) | BB97: =IF(AND(F97=$D$383,OR(G97<>$E$385,C97<>$B$382)),$B$388,IF(AND(C97=$B$381,OR(G97=$E$384,G97=$E$385)),$B$392,IF(AB97=1,$B$389,IF(BA97=1,$B$393,"")))) | BC97: =IF(AND(D97=$C$382,N97<>"",N97<1),$B$387,IF(F487=0,$B$391,IF(AC97=1,$B$390,IF(OR(T97=1,U97=1),$B$394,"")))) | BD97: =IF(BB97<>"",BB97,BC97)
P98: =IF(S98=1,(O98-M98)*1.341*J98*L98*N98*10^-3,"") | S98: =IF(NOT(OR(ISBLANK($C$11), ISBLANK(B98),ISBLANK(C98),ISBLANK(D98),ISBLANK(F98),ISBLANK(G98),ISBLANK(H98),ISBLANK(I98),ISBLANK(J98),ISBLANK(N98),ISBLANK(L98), ISBLANK(M98))),1,0) -> 0 | T98: =IF(ISBLANK(G98),0,IF(AND($C$11>2014,D98=$C$382,G98<>$E$385),1,IF(AND(G98<>$E$384,D98=$C$382,$C$11<2015,OR(AND(H98=$F$384,$C$11>2011),AND(H98=$F$385,$C$11>2010))),1,0))) -> 0 | U98: =IF(AND(G98<>$E$383,D98=$C$382,C98=$B$381,$C$11>2005,OR(AND(H98=$F$384,$C$11<2012),AND(H98=$F$385,$C$11<2011))),1,IF(AND(G98=$E$383,D98=$C$382,C98<>$B$381,$C$11>2005,OR(AND(H98=$F$384,$C$11<2012),AND(H98=$F$385,$C$11<2011))),1,0)) -> 0 | V98: =G98&F98&H98 | W98: =IF(AND(C98=$B$382,D98=$C$381,G98=$E$383,F98=$D$382,$C$11<2013,H98=$F$384),0.2,IF(AND(C98=$B$382,F98=$D$382,G98=$E$383,H98=$F$385,$C$11<2013),0.24,"")) | X98: =IF(AND(S98<>0,C98=$B$382,W98=""),IF(VLOOKUP(V98,$S$319:$AA$360,5,FALSE)<>0,VLOOKUP(V98,$S$319:$AA$360,5,FALSE),""),"") | Y98: =IF(AND(S98<>0,C98=$B$381,W98=""),IF(VLOOKUP(V98,$S$319:$AA$360,7,FALSE)<>0,VLOOKUP(V98,$S$319:$AA$360,7,FALSE),""),"") | Z98: =IF(AND(S98<>0,C98=$B$382),VLOOKUP(V98,$S$319:$AA$360,6,FALSE),"") | AA98: =IF(AND(S98<>0,C98=$B$381),VLOOKUP(V98,$S$319:$AA$360,8,FALSE),"") | AB98: =IF(AND(Z98="",AA98=""),"",IF(OR(Z98=0,AA98=0),0,IF(OR(M98>Z98,M98>AA98),1,0))) | AC98: =IF(B98=B97,(IF(AND(C98=C97,D98=D97,I98=I97,L98=L97),0,1)),0) -> 0 | AD98: =IF(C98=$B$381,IF(H98=$F$384,$B$402,$B$401),IF(AND(H98=$F$385,G98=$E$382),$B$400,IF(AND(H98=$F$385,G98=$E$383),$B$399,""))) | AE98: =IF(AND(C98=$B$382,H98=$F$384), IF(G98=$E$381,$B$398,IF(G98=$E$382,$B$397,IF(G98=$E$383,$B$396,IF(G98=$E$384,$B$395,"")))),"") | AF98: =IF(AD98<>"",AD98,AE98) | AG98: =IF(G98=$E$381,1,0) -> 0 | AH98: =IF(G98=$E$382,1,0) -> 0 | AI98: =IF(G98=$E$383,1,0) -> 0 | AJ98: =IF(G98=$E$384,1,0) -> 0 | AK98: =IF(G98=$E$385,1,0) -> 0 | AL98: =IF(C98=$B$381,1,0) -> 0 | AM98: =IF(C98=$B$382,1,0) -> 0 | AN98: =IF(H98=$F$384,1,0) -> 0 | AO98: =IF(H98=$F$385,1,0) -> 0 | AP98: =IF(F98=$D$382,1,0) -> 0 | AQ98: =IF(F98=$D$381,1,0) -> 0 | AR98: =IF(F98=$D$383,1,0) -> 0 | AS98: =IF(AND(G98=$E$385,P98<0),L98,0) -> 0 | AT98: =IF(AND(P98<>"",G98=$E$385),L98,0) -> 0 | AU98: =IF(AND(D98=$C$382,F98=$D$381,C98=$B$381,P98<0,P98<>""),L98,"") | AV98: =IF(AND(D98=$C$382,C98=$B$381,F98=$D$381,P98<>""),L98,"") | AW98: =IF(AND(S98=1,C98=$B$382,O98<>""),(O98-M98)*1.341*J98*L98*N98*10^-3,"") | AX98: =IF(AND(AW98<>"",AW98<0),B98,"") | AY98: =IF(AND(AW98<>"",AW98>0),B98,IF(AX98<>"","Using","")) | AZ98: =IF(AND(S98=1,AW98<>0, AW98<>""),MATCH(AY98,$AX$14:$AX$315,0),0) -> 0 | BA98: =IF(ISERROR(AZ98),0,IF(AZ98>1,1,"")) | BB98: =IF(AND(F98=$D$383,OR(G98<>$E$385,C98<>$B$382)),$B$388,IF(AND(C98=$B$381,OR(G98=$E$384,G98=$E$385)),$B$392,IF(AB98=1,$B$389,IF(BA98=1,$B$393,"")))) | BC98: =IF(AND(D98=$C$382,N98<>"",N98<1),$B$387,IF(F488=0,$B$391,IF(AC98=1,$B$390,IF(OR(T98=1,U98=1),$B$394,"")))) | BD98: =IF(BB98<>"",BB98,BC98)
S99: =IF(NOT(OR(ISBLANK($C$11), ISBLANK(B99),ISBLANK(C99),ISBLANK(D99),ISBLANK(F99),ISBLANK(G99),ISBLANK(H99),ISBLANK(I99),ISBLANK(J99),ISBLANK(N99),ISBLANK(L99), ISBLANK(M99))),1,0) -> 0 | T99: =IF(ISBLANK(G99),0,IF(AND($C$11>2014,D99=$C$382,G99<>$E$385),1,IF(AND(G99<>$E$384,D99=$C$382,$C$11<2015,OR(AND(H99=$F$384,$C$11>2011),AND(H99=$F$385,$C$11>2010))),1,0))) -> 0 | U99: =IF(AND(G99<>$E$383,D99=$C$382,C99=$B$381,$C$11>2005,OR(AND(H99=$F$384,$C$11<2012),AND(H99=$F$385,$C$11<2011))),1,IF(AND(G99=$E$383,D99=$C$382,C99<>$B$381,$C$11>2005,OR(AND(H99=$F$384,$C$11<2012),AND(H99=$F$385,$C$11<2011))),1,0)) -> 0 | V99: =G99&F99&H99 | W99: =IF(AND(C99=$B$382,D99=$C$381,G99=$E$383,F99=$D$382,$C$11<2013,H99=$F$384),0.2,IF(AND(C99=$B$382,F99=$D$382,G99=$E$383,H99=$F$385,$C$11<2013),0.24,"")) | X99: =IF(AND(S99<>0,C99=$B$382,W99=""),IF(VLOOKUP(V99,$S$319:$AA$360,5,FALSE)<>0,VLOOKUP(V99,$S$319:$AA$360,5,FALSE),""),"") | Y99: =IF(AND(S99<>0,C99=$B$381,W99=""),IF(VLOOKUP(V99,$S$319:$AA$360,7,FALSE)<>0,VLOOKUP(V99,$S$319:$AA$360,7,FALSE),""),"") | Z99: =IF(AND(S99<>0,C99=$B$382),VLOOKUP(V99,$S$319:$AA$360,6,FALSE),"") | AA99: =IF(AND(S99<>0,C99=$B$381),VLOOKUP(V99,$S$319:$AA$360,8,FALSE),"") | AB99: =IF(AND(Z99="",AA99=""),"",IF(OR(Z99=0,AA99=0),0,IF(OR(M99>Z99,M99>AA99),1,0))) | AC99: =IF(B99=B98,(IF(AND(C99=C98,D99=D98,I99=I98,L99=L98),0,1)),0) -> 0 | AD99: =IF(C99=$B$381,IF(H99=$F$384,$B$402,$B$401),IF(AND(H99=$F$385,G99=$E$382),$B$400,IF(AND(H99=$F$385,G99=$E$383),$B$399,""))) | AE99: =IF(AND(C99=$B$382,H99=$F$384), IF(G99=$E$381,$B$398,IF(G99=$E$382,$B$397,IF(G99=$E$383,$B$396,IF(G99=$E$384,$B$395,"")))),"") | AF99: =IF(AD99<>"",AD99,AE99) | AG99: =IF(G99=$E$381,1,0) -> 0 | AH99: =IF(G99=$E$382,1,0) -> 0 | AI99: =IF(G99=$E$383,1,0) -> 0 | AJ99: =IF(G99=$E$384,1,0) -> 0 | AK99: =IF(G99=$E$385,1,0) -> 0 | AL99: =IF(C99=$B$381,1,0) -> 0 | AM99: =IF(C99=$B$382,1,0) -> 0 | AN99: =IF(H99=$F$384,1,0) -> 0 | AO99: =IF(H99=$F$385,1,0) -> 0 | AP99: =IF(F99=$D$382,1,0) -> 0 | AQ99: =IF(F99=$D$381,1,0) -> 0 | AR99: =IF(F99=$D$383,1,0) -> 0 | AS99: =IF(AND(G99=$E$385,P99<0),L99,0) -> 0 | AT99: =IF(AND(P99<>"",G99=$E$385),L99,0) -> 0 | AU99: =IF(AND(D99=$C$382,F99=$D$381,C99=$B$381,P99<0,P99<>""),L99,"") | AV99: =IF(AND(D99=$C$382,C99=$B$381,F99=$D$381,P99<>""),L99,"") | AW99: =IF(AND(S99=1,C99=$B$382,O99<>""),(O99-M99)*1.341*J99*L99*N99*10^-3,"") | AX99: =IF(AND(AW99<>"",AW99<0),B99,"") | AY99: =IF(AND(AW99<>"",AW99>0),B99,IF(AX99<>"","Using","")) | AZ99: =IF(AND(S99=1,AW99<>0, AW99<>""),MATCH(AY99,$AX$14:$AX$315,0),0) -> 0 | BA99: =IF(ISERROR(AZ99),0,IF(AZ99>1,1,"")) | BB99: =IF(AND(F99=$D$383,OR(G99<>$E$385,C99<>$B$382)),$B$388,IF(AND(C99=$B$381,OR(G99=$E$384,G99=$E$385)),$B$392,IF(AB99=1,$B$389,IF(BA99=1,$B$393,"")))) | BC99: =IF(AND(D99=$C$382,N99<>"",N99<1),$B$387,IF(F489=0,$B$391,IF(AC99=1,$B$390,IF(OR(T99=1,U99=1),$B$394,"")))) | BD99: =IF(BB99<>"",BB99,BC99)
S100: =IF(NOT(OR(ISBLANK($C$11), ISBLANK(B100),ISBLANK(C100),ISBLANK(D100),ISBLANK(F100),ISBLANK(G100),ISBLANK(H100),ISBLANK(I100),ISBLANK(J100),ISBLANK(N100),ISBLANK(L100), ISBLANK(M100))),1,0) -> 0 | T100: =IF(ISBLANK(G100),0,IF(AND($C$11>2014,D100=$C$382,G100<>$E$385),1,IF(AND(G100<>$E$384,D100=$C$382,$C$11<2015,OR(AND(H100=$F$384,$C$11>2011),AND(H100=$F$385,$C$11>2010))),1,0))) -> 0 | U100: =IF(AND(G100<>$E$383,D100=$C$382,C100=$B$381,$C$11>2005,OR(AND(H100=$F$384,$C$11<2012),AND(H100=$F$385,$C$11<2011))),1,IF(AND(G100=$E$383,D100=$C$382,C100<>$B$381,$C$11>2005,OR(AND(H100=$F$384,$C$11<2012),AND(H100=$F$385,$C$11<2011))),1,0)) -> 0 | V100: =G100&F100&H100 | W100: =IF(AND(C100=$B$382,D100=$C$381,G100=$E$383,F100=$D$382,$C$11<2013,H100=$F$384),0.2,IF(AND(C100=$B$382,F100=$D$382,G100=$E$383,H100=$F$385,$C$11<2013),0.24,"")) | X100: =IF(AND(S100<>0,C100=$B$382,W100=""),IF(VLOOKUP(V100,$S$319:$AA$360,5,FALSE)<>0,VLOOKUP(V100,$S$319:$AA$360,5,FALSE),""),"") | Y100: =IF(AND(S100<>0,C100=$B$381,W100=""),IF(VLOOKUP(V100,$S$319:$AA$360,7,FALSE)<>0,VLOOKUP(V100,$S$319:$AA$360,7,FALSE),""),"") | Z100: =IF(AND(S100<>0,C100=$B$382),VLOOKUP(V100,$S$319:$AA$360,6,FALSE),"") | AA100: =IF(AND(S100<>0,C100=$B$381),VLOOKUP(V100,$S$319:$AA$360,8,FALSE),"") | AB100: =IF(AND(Z100="",AA100=""),"",IF(OR(Z100=0,AA100=0),0,IF(OR(M100>Z100,M100>AA100),1,0))) | AC100: =IF(B100=B99,(IF(AND(C100=C99,D100=D99,I100=I99,L100=L99),0,1)),0) -> 0 | AD100: =IF(C100=$B$381,IF(H100=$F$384,$B$402,$B$401),IF(AND(H100=$F$385,G100=$E$382),$B$400,IF(AND(H100=$F$385,G100=$E$383),$B$399,""))) | AE100: =IF(AND(C100=$B$382,H100=$F$384), IF(G100=$E$381,$B$398,IF(G100=$E$382,$B$397,IF(G100=$E$383,$B$396,IF(G100=$E$384,$B$395,"")))),"") | AF100: =IF(AD100<>"",AD100,AE100) | AG100: =IF(G100=$E$381,1,0) -> 0 | AH100: =IF(G100=$E$382,1,0) -> 0 | AI100: =IF(G100=$E$383,1,0) -> 0 | AJ100: =IF(G100=$E$384,1,0) -> 0 | AK100: =IF(G100=$E$385,1,0) -> 0 | AL100: =IF(C100=$B$381,1,0) -> 0 | AM100: =IF(C100=$B$382,1,0) -> 0 | AN100: =IF(H100=$F$384,1,0) -> 0 | AO100: =IF(H100=$F$385,1,0) -> 0 | AP100: =IF(F100=$D$382,1,0) -> 0 | AQ100: =IF(F100=$D$381,1,0) -> 0 | AR100: =IF(F100=$D$383,1,0) -> 0 | AS100: =IF(AND(G100=$E$385,P100<0),L100,0) -> 0 | AT100: =IF(AND(P100<>"",G100=$E$385),L100,0) -> 0 | AU100: =IF(AND(D100=$C$382,F100=$D$381,C100=$B$381,P100<0,P100<>""),L100,"") | AV100: =IF(AND(D100=$C$382,C100=$B$381,F100=$D$381,P100<>""),L100,"") | AW100: =IF(AND(S100=1,C100=$B$382,O100<>""),(O100-M100)*1.341*J100*L100*N100*10^-3,"") | AX100: =IF(AND(AW100<>"",AW100<0),B100,"") | AY100: =IF(AND(AW100<>"",AW100>0),B100,IF(AX100<>"","Using","")) | AZ100: =IF(AND(S100=1,AW100<>0, AW100<>""),MATCH(AY100,$AX$14:$AX$315,0),0) -> 0 | BA100: =IF(ISERROR(AZ100),0,IF(AZ100>1,1,"")) | BB100: =IF(AND(F100=$D$383,OR(G100<>$E$385,C100<>$B$382)),$B$388,IF(AND(C100=$B$381,OR(G100=$E$384,G100=$E$385)),$B$392,IF(AB100=1,$B$389,IF(BA100=1,$B$393,"")))) | BC100: =IF(AND(D100=$C$382,N100<>"",N100<1),$B$387,IF(F490=0,$B$391,IF(AC100=1,$B$390,IF(OR(T100=1,U100=1),$B$394,"")))) | BD100: =IF(BB100<>"",BB100,BC100)
S101: =IF(NOT(OR(ISBLANK($C$11), ISBLANK(B101),ISBLANK(C101),ISBLANK(D101),ISBLANK(F101),ISBLANK(G101),ISBLANK(H101),ISBLANK(I101),ISBLANK(J101),ISBLANK(N101),ISBLANK(L101), ISBLANK(M101))),1,0) -> 0 | T101: =IF(ISBLANK(G101),0,IF(AND($C$11>2014,D101=$C$382,G101<>$E$385),1,IF(AND(G101<>$E$384,D101=$C$382,$C$11<2015,OR(AND(H101=$F$384,$C$11>2011),AND(H101=$F$385,$C$11>2010))),1,0))) -> 0 | U101: =IF(AND(G101<>$E$383,D101=$C$382,C101=$B$381,$C$11>2005,OR(AND(H101=$F$384,$C$11<2012),AND(H101=$F$385,$C$11<2011))),1,IF(AND(G101=$E$383,D101=$C$382,C101<>$B$381,$C$11>2005,OR(AND(H101=$F$384,$C$11<2012),AND(H101=$F$385,$C$11<2011))),1,0)) -> 0 | V101: =G101&F101&H101 | W101: =IF(AND(C101=$B$382,D101=$C$381,G101=$E$383,F101=$D$382,$C$11<2013,H101=$F$384),0.2,IF(AND(C101=$B$382,F101=$D$382,G101=$E$383,H101=$F$385,$C$11<2013),0.24,"")) | X101: =IF(AND(S101<>0,C101=$B$382,W101=""),IF(VLOOKUP(V101,$S$319:$AA$360,5,FALSE)<>0,VLOOKUP(V101,$S$319:$AA$360,5,FALSE),""),"") | Y101: =IF(AND(S101<>0,C101=$B$381,W101=""),IF(VLOOKUP(V101,$S$319:$AA$360,7,FALSE)<>0,VLOOKUP(V101,$S$319:$AA$360,7,FALSE),""),"") | Z101: =IF(AND(S101<>0,C101=$B$382),VLOOKUP(V101,$S$319:$AA$360,6,FALSE),"") | AA101: =IF(AND(S101<>0,C101=$B$381),VLOOKUP(V101,$S$319:$AA$360,8,FALSE),"") | AB101: =IF(AND(Z101="",AA101=""),"",IF(OR(Z101=0,AA101=0),0,IF(OR(M101>Z101,M101>AA101),1,0))) | AC101: =IF(B101=B100,(IF(AND(C101=C100,D101=D100,I101=I100,L101=L100),0,1)),0) -> 0 | AD101: =IF(C101=$B$381,IF(H101=$F$384,$B$402,$B$401),IF(AND(H101=$F$385,G101=$E$382),$B$400,IF(AND(H101=$F$385,G101=$E$383),$B$399,""))) | AE101: =IF(AND(C101=$B$382,H101=$F$384), IF(G101=$E$381,$B$398,IF(G101=$E$382,$B$397,IF(G101=$E$383,$B$396,IF(G101=$E$384,$B$395,"")))),"") | AF101: =IF(AD101<>"",AD101,AE101) | AG101: =IF(G101=$E$381,1,0) -> 0 | AH101: =IF(G101=$E$382,1,0) -> 0 | AI101: =IF(G101=$E$383,1,0) -> 0 | AJ101: =IF(G101=$E$384,1,0) -> 0 | AK101: =IF(G101=$E$385,1,0) -> 0 | AL101: =IF(C101=$B$381,1,0) -> 0 | AM101: =IF(C101=$B$382,1,0) -> 0 | AN101: =IF(H101=$F$384,1,0) -> 0 | AO101: =IF(H101=$F$385,1,0) -> 0 | AP101: =IF(F101=$D$382,1,0) -> 0 | AQ101: =IF(F101=$D$381,1,0) -> 0 | AR101: =IF(F101=$D$383,1,0) -> 0 | AS101: =IF(AND(G101=$E$385,P101<0),L101,0) -> 0 | AT101: =IF(AND(P101<>"",G101=$E$385),L101,0) -> 0 | AU101: =IF(AND(D101=$C$382,F101=$D$381,C101=$B$381,P101<0,P101<>""),L101,"") | AV101: =IF(AND(D101=$C$382,C101=$B$381,F101=$D$381,P101<>""),L101,"") | AW101: =IF(AND(S101=1,C101=$B$382,O101<>""),(O101-M101)*1.341*J101*L101*N101*10^-3,"") | AX101: =IF(AND(AW101<>"",AW101<0),B101,"") | AY101: =IF(AND(AW101<>"",AW101>0),B101,IF(AX101<>"","Using","")) | AZ101: =IF(AND(S101=1,AW101<>0, AW101<>""),MATCH(AY101,$AX$14:$AX$315,0),0) -> 0 | BA101: =IF(ISERROR(AZ101),0,IF(AZ101>1,1,"")) | BB101: =IF(AND(F101=$D$383,OR(G101<>$E$385,C101<>$B$382)),$B$388,IF(AND(C101=$B$381,OR(G101=$E$384,G101=$E$385)),$B$392,IF(AB101=1,$B$389,IF(BA101=1,$B$393,"")))) | BC101: =IF(AND(D101=$C$382,N101<>"",N101<1),$B$387,IF(F491=0,$B$391,IF(AC101=1,$B$390,IF(OR(T101=1,U101=1),$B$394,"")))) | BD101: =IF(BB101<>"",BB101,BC101)
S102: =IF(NOT(OR(ISBLANK($C$11), ISBLANK(B102),ISBLANK(C102),ISBLANK(D102),ISBLANK(F102),ISBLANK(G102),ISBLANK(H102),ISBLANK(I102),ISBLANK(J102),ISBLANK(N102),ISBLANK(L102), ISBLANK(M102))),1,0) -> 0 | T102: =IF(ISBLANK(G102),0,IF(AND($C$11>2014,D102=$C$382,G102<>$E$385),1,IF(AND(G102<>$E$384,D102=$C$382,$C$11<2015,OR(AND(H102=$F$384,$C$11>2011),AND(H102=$F$385,$C$11>2010))),1,0))) -> 0 | U102: =IF(AND(G102<>$E$383,D102=$C$382,C102=$B$381,$C$11>2005,OR(AND(H102=$F$384,$C$11<2012),AND(H102=$F$385,$C$11<2011))),1,IF(AND(G102=$E$383,D102=$C$382,C102<>$B$381,$C$11>2005,OR(AND(H102=$F$384,$C$11<2012),AND(H102=$F$385,$C$11<2011))),1,0)) -> 0 | V102: =G102&F102&H102 | W102: =IF(AND(C102=$B$382,D102=$C$381,G102=$E$383,F102=$D$382,$C$11<2013,H102=$F$384),0.2,IF(AND(C102=$B$382,F102=$D$382,G102=$E$383,H102=$F$385,$C$11<2013),0.24,"")) | X102: =IF(AND(S102<>0,C102=$B$382,W102=""),IF(VLOOKUP(V102,$S$319:$AA$360,5,FALSE)<>0,VLOOKUP(V102,$S$319:$AA$360,5,FALSE),""),"") | Y102: =IF(AND(S102<>0,C102=$B$381,W102=""),IF(VLOOKUP(V102,$S$319:$AA$360,7,FALSE)<>0,VLOOKUP(V102,$S$319:$AA$360,7,FALSE),""),"") | Z102: =IF(AND(S102<>0,C102=$B$382),VLOOKUP(V102,$S$319:$AA$360,6,FALSE),"") | AA102: =IF(AND(S102<>0,C102=$B$381),VLOOKUP(V102,$S$319:$AA$360,8,FALSE),"") | AB102: =IF(AND(Z102="",AA102=""),"",IF(OR(Z102=0,AA102=0),0,IF(OR(M102>Z102,M102>AA102),1,0))) | AC102: =IF(B102=B101,(IF(AND(C102=C101,D102=D101,I102=I101,L102=L101),0,1)),0) -> 0 | AD102: =IF(C102=$B$381,IF(H102=$F$384,$B$402,$B$401),IF(AND(H102=$F$385,G102=$E$382),$B$400,IF(AND(H102=$F$385,G102=$E$383),$B$399,""))) | AE102: =IF(AND(C102=$B$382,H102=$F$384), IF(G102=$E$381,$B$398,IF(G102=$E$382,$B$397,IF(G102=$E$383,$B$396,IF(G102=$E$384,$B$395,"")))),"") | AF102: =IF(AD102<>"",AD102,AE102) | AG102: =IF(G102=$E$381,1,0) -> 0 | AH102: =IF(G102=$E$382,1,0) -> 0 | AI102: =IF(G102=$E$383,1,0) -> 0 | AJ102: =IF(G102=$E$384,1,0) -> 0 | AK102: =IF(G102=$E$385,1,0) -> 0 | AL102: =IF(C102=$B$381,1,0) -> 0 | AM102: =IF(C102=$B$382,1,0) -> 0 | AN102: =IF(H102=$F$384,1,0) -> 0 | AO102: =IF(H102=$F$385,1,0) -> 0 | AP102: =IF(F102=$D$382,1,0) -> 0 | AQ102: =IF(F102=$D$381,1,0) -> 0 | AR102: =IF(F102=$D$383,1,0) -> 0 | AS102: =IF(AND(G102=$E$385,P102<0),L102,0) -> 0 | AT102: =IF(AND(P102<>"",G102=$E$385),L102,0) -> 0 | AU102: =IF(AND(D102=$C$382,F102=$D$381,C102=$B$381,P102<0,P102<>""),L102,"") | AV102: =IF(AND(D102=$C$382,C102=$B$381,F102=$D$381,P102<>""),L102,"") | AW102: =IF(AND(S102=1,C102=$B$382,O102<>""),(O102-M102)*1.341*J102*L102*N102*10^-3,"") | AX102: =IF(AND(AW102<>"",AW102<0),B102,"") | AY102: =IF(AND(AW102<>"",AW102>0),B102,IF(AX102<>"","Using","")) | AZ102: =IF(AND(S102=1,AW102<>0, AW102<>""),MATCH(AY102,$AX$14:$AX$315,0),0) -> 0 | BA102: =IF(ISERROR(AZ102),0,IF(AZ102>1,1,"")) | BB102: =IF(AND(F102=$D$383,OR(G102<>$E$385,C102<>$B$382)),$B$388,IF(AND(C102=$B$381,OR(G102=$E$384,G102=$E$385)),$B$392,IF(AB102=1,$B$389,IF(BA102=1,$B$393,"")))) | BC102: =IF(AND(D102=$C$382,N102<>"",N102<1),$B$387,IF(F492=0,$B$391,IF(AC102=1,$B$390,IF(OR(T102=1,U102=1),$B$394,"")))) | BD102: =IF(BB102<>"",BB102,BC102)
S103: =IF(NOT(OR(ISBLANK($C$11), ISBLANK(B103),ISBLANK(C103),ISBLANK(D103),ISBLANK(F103),ISBLANK(G103),ISBLANK(H103),ISBLANK(I103),ISBLANK(J103),ISBLANK(N103),ISBLANK(L103), ISBLANK(M103))),1,0) -> 0 | T103: =IF(ISBLANK(G103),0,IF(AND($C$11>2014,D103=$C$382,G103<>$E$385),1,IF(AND(G103<>$E$384,D103=$C$382,$C$11<2015,OR(AND(H103=$F$384,$C$11>2011),AND(H103=$F$385,$C$11>2010))),1,0))) -> 0 | U103: =IF(AND(G103<>$E$383,D103=$C$382,C103=$B$381,$C$11>2005,OR(AND(H103=$F$384,$C$11<2012),AND(H103=$F$385,$C$11<2011))),1,IF(AND(G103=$E$383,D103=$C$382,C103<>$B$381,$C$11>2005,OR(AND(H103=$F$384,$C$11<2012),AND(H103=$F$385,$C$11<2011))),1,0)) -> 0 | V103: =G103&F103&H103 | W103: =IF(AND(C103=$B$382,D103=$C$381,G103=$E$383,F103=$D$382,$C$11<2013,H103=$F$384),0.2,IF(AND(C103=$B$382,F103=$D$382,G103=$E$383,H103=$F$385,$C$11<2013),0.24,"")) | X103: =IF(AND(S103<>0,C103=$B$382,W103=""),IF(VLOOKUP(V103,$S$319:$AA$360,5,FALSE)<>0,VLOOKUP(V103,$S$319:$AA$360,5,FALSE),""),"") | Y103: =IF(AND(S103<>0,C103=$B$381,W103=""),IF(VLOOKUP(V103,$S$319:$AA$360,7,FALSE)<>0,VLOOKUP(V103,$S$319:$AA$360,7,FALSE),""),"") | Z103: =IF(AND(S103<>0,C103=$B$382),VLOOKUP(V103,$S$319:$AA$360,6,FALSE),"") | AA103: =IF(AND(S103<>0,C103=$B$381),VLOOKUP(V103,$S$319:$AA$360,8,FALSE),"") | AB103: =IF(AND(Z103="",AA103=""),"",IF(OR(Z103=0,AA103=0),0,IF(OR(M103>Z103,M103>AA103),1,0))) | AC103: =IF(B103=B102,(IF(AND(C103=C102,D103=D102,I103=I102,L103=L102),0,1)),0) -> 0 | AD103: =IF(C103=$B$381,IF(H103=$F$384,$B$402,$B$401),IF(AND(H103=$F$385,G103=$E$382),$B$400,IF(AND(H103=$F$385,G103=$E$383),$B$399,""))) | AE103: =IF(AND(C103=$B$382,H103=$F$384), IF(G103=$E$381,$B$398,IF(G103=$E$382,$B$397,IF(G103=$E$383,$B$396,IF(G103=$E$384,$B$395,"")))),"") | AF103: =IF(AD103<>"",AD103,AE103) | AG103: =IF(G103=$E$381,1,0) -> 0 | AH103: =IF(G103=$E$382,1,0) -> 0 | AI103: =IF(G103=$E$383,1,0) -> 0 | AJ103: =IF(G103=$E$384,1,0) -> 0 | AK103: =IF(G103=$E$385,1,0) -> 0 | AL103: =IF(C103=$B$381,1,0) -> 0 | AM103: =IF(C103=$B$382,1,0) -> 0 | AN103: =IF(H103=$F$384,1,0) -> 0 | AO103: =IF(H103=$F$385,1,0) -> 0 | AP103: =IF(F103=$D$382,1,0) -> 0 | AQ103: =IF(F103=$D$381,1,0) -> 0 | AR103: =IF(F103=$D$383,1,0) -> 0 | AS103: =IF(AND(G103=$E$385,P103<0),L103,0) -> 0 | AT103: =IF(AND(P103<>"",G103=$E$385),L103,0) -> 0 | AU103: =IF(AND(D103=$C$382,F103=$D$381,C103=$B$381,P103<0,P103<>""),L103,"") | AV103: =IF(AND(D103=$C$382,C103=$B$381,F103=$D$381,P103<>""),L103,"") | AW103: =IF(AND(S103=1,C103=$B$382,O103<>""),(O103-M103)*1.341*J103*L103*N103*10^-3,"") | AX103: =IF(AND(AW103<>"",AW103<0),B103,"") | AY103: =IF(AND(AW103<>"",AW103>0),B103,IF(AX103<>"","Using","")) | AZ103: =IF(AND(S103=1,AW103<>0, AW103<>""),MATCH(AY103,$AX$14:$AX$315,0),0) -> 0 | BA103: =IF(ISERROR(AZ103),0,IF(AZ103>1,1,"")) | BB103: =IF(AND(F103=$D$383,OR(G103<>$E$385,C103<>$B$382)),$B$388,IF(AND(C103=$B$381,OR(G103=$E$384,G103=$E$385)),$B$392,IF(AB103=1,$B$389,IF(BA103=1,$B$393,"")))) | BC103: =IF(AND(D103=$C$382,N103<>"",N103<1),$B$387,IF(F493=0,$B$391,IF(AC103=1,$B$390,IF(OR(T103=1,U103=1),$B$394,"")))) | BD103: =IF(BB103<>"",BB103,BC103)
S104: =IF(NOT(OR(ISBLANK($C$11), ISBLANK(B104),ISBLANK(C104),ISBLANK(D104),ISBLANK(F104),ISBLANK(G104),ISBLANK(H104),ISBLANK(I104),ISBLANK(J104),ISBLANK(N104),ISBLANK(L104), ISBLANK(M104))),1,0) -> 0 | T104: =IF(ISBLANK(G104),0,IF(AND($C$11>2014,D104=$C$382,G104<>$E$385),1,IF(AND(G104<>$E$384,D104=$C$382,$C$11<2015,OR(AND(H104=$F$384,$C$11>2011),AND(H104=$F$385,$C$11>2010))),1,0))) -> 0 | U104: =IF(AND(G104<>$E$383,D104=$C$382,C104=$B$381,$C$11>2005,OR(AND(H104=$F$384,$C$11<2012),AND(H104=$F$385,$C$11<2011))),1,IF(AND(G104=$E$383,D104=$C$382,C104<>$B$381,$C$11>2005,OR(AND(H104=$F$384,$C$11<2012),AND(H104=$F$385,$C$11<2011))),1,0)) -> 0 | V104: =G104&F104&H104 | W104: =IF(AND(C104=$B$382,D104=$C$381,G104=$E$383,F104=$D$382,$C$11<2013,H104=$F$384),0.2,IF(AND(C104=$B$382,F104=$D$382,G104=$E$383,H104=$F$385,$C$11<2013),0.24,"")) | X104: =IF(AND(S104<>0,C104=$B$382,W104=""),IF(VLOOKUP(V104,$S$319:$AA$360,5,FALSE)<>0,VLOOKUP(V104,$S$319:$AA$360,5,FALSE),""),"") | Y104: =IF(AND(S104<>0,C104=$B$381,W104=""),IF(VLOOKUP(V104,$S$319:$AA$360,7,FALSE)<>0,VLOOKUP(V104,$S$319:$AA$360,7,FALSE),""),"") | Z104: =IF(AND(S104<>0,C104=$B$382),VLOOKUP(V104,$S$319:$AA$360,6,FALSE),"") | AA104: =IF(AND(S104<>0,C104=$B$381),VLOOKUP(V104,$S$319:$AA$360,8,FALSE),"") | AB104: =IF(AND(Z104="",AA104=""),"",IF(OR(Z104=0,AA104=0),0,IF(OR(M104>Z104,M104>AA104),1,0))) | AC104: =IF(B104=B103,(IF(AND(C104=C103,D104=D103,I104=I103,L104=L103),0,1)),0) -> 0 | AD104: =IF(C104=$B$381,IF(H104=$F$384,$B$402,$B$401),IF(AND(H104=$F$385,G104=$E$382),$B$400,IF(AND(H104=$F$385,G104=$E$383),$B$399,""))) | AE104: =IF(AND(C104=$B$382,H104=$F$384), IF(G104=$E$381,$B$398,IF(G104=$E$382,$B$397,IF(G104=$E$383,$B$396,IF(G104=$E$384,$B$395,"")))),"") | AF104: =IF(AD104<>"",AD104,AE104) | AG104: =IF(G104=$E$381,1,0) -> 0 | AH104: =IF(G104=$E$382,1,0) -> 0 | AI104: =IF(G104=$E$383,1,0) -> 0 | AJ104: =IF(G104=$E$384,1,0) -> 0 | AK104: =IF(G104=$E$385,1,0) -> 0 | AL104: =IF(C104=$B$381,1,0) -> 0 | AM104: =IF(C104=$B$382,1,0) -> 0 | AN104: =IF(H104=$F$384,1,0) -> 0 | AO104: =IF(H104=$F$385,1,0) -> 0 | AP104: =IF(F104=$D$382,1,0) -> 0 | AQ104: =IF(F104=$D$381,1,0) -> 0 | AR104: =IF(F104=$D$383,1,0) -> 0 | AS104: =IF(AND(G104=$E$385,P104<0),L104,0) -> 0 | AT104: =IF(AND(P104<>"",G104=$E$385),L104,0) -> 0 | AU104: =IF(AND(D104=$C$382,F104=$D$381,C104=$B$381,P104<0,P104<>""),L104,"") | AV104: =IF(AND(D104=$C$382,C104=$B$381,F104=$D$381,P104<>""),L104,"") | AW104: =IF(AND(S104=1,C104=$B$382,O104<>""),(O104-M104)*1.341*J104*L104*N104*10^-3,"") | AX104: =IF(AND(AW104<>"",AW104<0),B104,"") | AY104: =IF(AND(AW104<>"",AW104>0),B104,IF(AX104<>"","Using","")) | AZ104: =IF(AND(S104=1,AW104<>0, AW104<>""),MATCH(AY104,$AX$14:$AX$315,0),0) -> 0 | BA104: =IF(ISERROR(AZ104),0,IF(AZ104>1,1,"")) | BB104: =IF(AND(F104=$D$383,OR(G104<>$E$385,C104<>$B$382)),$B$388,IF(AND(C104=$B$381,OR(G104=$E$384,G104=$E$385)),$B$392,IF(AB104=1,$B$389,IF(BA104=1,$B$393,"")))) | BC104: =IF(AND(D104=$C$382,N104<>"",N104<1),$B$387,IF(F494=0,$B$391,IF(AC104=1,$B$390,IF(OR(T104=1,U104=1),$B$394,"")))) | BD104: =IF(BB104<>"",BB104,BC104)
S105: =IF(NOT(OR(ISBLANK($C$11), ISBLANK(B105),ISBLANK(C105),ISBLANK(D105),ISBLANK(F105),ISBLANK(G105),ISBLANK(H105),ISBLANK(I105),ISBLANK(J105),ISBLANK(N105),ISBLANK(L105), ISBLANK(M105))),1,0) -> 0 | T105: =IF(ISBLANK(G105),0,IF(AND($C$11>2014,D105=$C$382,G105<>$E$385),1,IF(AND(G105<>$E$384,D105=$C$382,$C$11<2015,OR(AND(H105=$F$384,$C$11>2011),AND(H105=$F$385,$C$11>2010))),1,0))) -> 0 | U105: =IF(AND(G105<>$E$383,D105=$C$382,C105=$B$381,$C$11>2005,OR(AND(H105=$F$384,$C$11<2012),AND(H105=$F$385,$C$11<2011))),1,IF(AND(G105=$E$383,D105=$C$382,C105<>$B$381,$C$11>2005,OR(AND(H105=$F$384,$C$11<2012),AND(H105=$F$385,$C$11<2011))),1,0)) -> 0 | V105: =G105&F105&H105 | W105: =IF(AND(C105=$B$382,D105=$C$381,G105=$E$383,F105=$D$382,$C$11<2013,H105=$F$384),0.2,IF(AND(C105=$B$382,F105=$D$382,G105=$E$383,H105=$F$385,$C$11<2013),0.24,"")) | X105: =IF(AND(S105<>0,C105=$B$382,W105=""),IF(VLOOKUP(V105,$S$319:$AA$360,5,FALSE)<>0,VLOOKUP(V105,$S$319:$AA$360,5,FALSE),""),"") | Y105: =IF(AND(S105<>0,C105=$B$381,W105=""),IF(VLOOKUP(V105,$S$319:$AA$360,7,FALSE)<>0,VLOOKUP(V105,$S$319:$AA$360,7,FALSE),""),"") | Z105: =IF(AND(S105<>0,C105=$B$382),VLOOKUP(V105,$S$319:$AA$360,6,FALSE),"") | AA105: =IF(AND(S105<>0,C105=$B$381),VLOOKUP(V105,$S$319:$AA$360,8,FALSE),"") | AB105: =IF(AND(Z105="",AA105=""),"",IF(OR(Z105=0,AA105=0),0,IF(OR(M105>Z105,M105>AA105),1,0))) | AC105: =IF(B105=B104,(IF(AND(C105=C104,D105=D104,I105=I104,L105=L104),0,1)),0) -> 0 | AD105: =IF(C105=$B$381,IF(H105=$F$384,$B$402,$B$401),IF(AND(H105=$F$385,G105=$E$382),$B$400,IF(AND(H105=$F$385,G105=$E$383),$B$399,""))) | AE105: =IF(AND(C105=$B$382,H105=$F$384), IF(G105=$E$381,$B$398,IF(G105=$E$382,$B$397,IF(G105=$E$383,$B$396,IF(G105=$E$384,$B$395,"")))),"") | AF105: =IF(AD105<>"",AD105,AE105) | AG105: =IF(G105=$E$381,1,0) -> 0 | AH105: =IF(G105=$E$382,1,0) -> 0 | AI105: =IF(G105=$E$383,1,0) -> 0 | AJ105: =IF(G105=$E$384,1,0) -> 0 | AK105: =IF(G105=$E$385,1,0) -> 0 | AL105: =IF(C105=$B$381,1,0) -> 0 | AM105: =IF(C105=$B$382,1,0) -> 0 | AN105: =IF(H105=$F$384,1,0) -> 0 | AO105: =IF(H105=$F$385,1,0) -> 0 | AP105: =IF(F105=$D$382,1,0) -> 0 | AQ105: =IF(F105=$D$381,1,0) -> 0 | AR105: =IF(F105=$D$383,1,0) -> 0 | AS105: =IF(AND(G105=$E$385,P105<0),L105,0) -> 0 | AT105: =IF(AND(P105<>"",G105=$E$385),L105,0) -> 0 | AU105: =IF(AND(D105=$C$382,F105=$D$381,C105=$B$381,P105<0,P105<>""),L105,"") | AV105: =IF(AND(D105=$C$382,C105=$B$381,F105=$D$381,P105<>""),L105,"") | AW105: =IF(AND(S105=1,C105=$B$382,O105<>""),(O105-M105)*1.341*J105*L105*N105*10^-3,"") | AX105: =IF(AND(AW105<>"",AW105<0),B105,"") | AY105: =IF(AND(AW105<>"",AW105>0),B105,IF(AX105<>"","Using","")) | AZ105: =IF(AND(S105=1,AW105<>0, AW105<>""),MATCH(AY105,$AX$14:$AX$315,0),0) -> 0 | BA105: =IF(ISERROR(AZ105),0,IF(AZ105>1,1,"")) | BB105: =IF(AND(F105=$D$383,OR(G105<>$E$385,C105<>$B$382)),$B$388,IF(AND(C105=$B$381,OR(G105=$E$384,G105=$E$385)),$B$392,IF(AB105=1,$B$389,IF(BA105=1,$B$393,"")))) | BC105: =IF(AND(D105=$C$382,N105<>"",N105<1),$B$387,IF(F495=0,$B$391,IF(AC105=1,$B$390,IF(OR(T105=1,U105=1),$B$394,"")))) | BD105: =IF(BB105<>"",BB105,BC105)
S106: =IF(NOT(OR(ISBLANK($C$11), ISBLANK(B106),ISBLANK(C106),ISBLANK(D106),ISBLANK(F106),ISBLANK(G106),ISBLANK(H106),ISBLANK(I106),ISBLANK(J106),ISBLANK(N106),ISBLANK(L106), ISBLANK(M106))),1,0) -> 0 | T106: =IF(ISBLANK(G106),0,IF(AND($C$11>2014,D106=$C$382,G106<>$E$385),1,IF(AND(G106<>$E$384,D106=$C$382,$C$11<2015,OR(AND(H106=$F$384,$C$11>2011),AND(H106=$F$385,$C$11>2010))),1,0))) -> 0 | U106: =IF(AND(G106<>$E$383,D106=$C$382,C106=$B$381,$C$11>2005,OR(AND(H106=$F$384,$C$11<2012),AND(H106=$F$385,$C$11<2011))),1,IF(AND(G106=$E$383,D106=$C$382,C106<>$B$381,$C$11>2005,OR(AND(H106=$F$384,$C$11<2012),AND(H106=$F$385,$C$11<2011))),1,0)) -> 0 | V106: =G106&F106&H106 | W106: =IF(AND(C106=$B$382,D106=$C$381,G106=$E$383,F106=$D$382,$C$11<2013,H106=$F$384),0.2,IF(AND(C106=$B$382,F106=$D$382,G106=$E$383,H106=$F$385,$C$11<2013),0.24,"")) | X106: =IF(AND(S106<>0,C106=$B$382,W106=""),IF(VLOOKUP(V106,$S$319:$AA$360,5,FALSE)<>0,VLOOKUP(V106,$S$319:$AA$360,5,FALSE),""),"") | Y106: =IF(AND(S106<>0,C106=$B$381,W106=""),IF(VLOOKUP(V106,$S$319:$AA$360,7,FALSE)<>0,VLOOKUP(V106,$S$319:$AA$360,7,FALSE),""),"") | Z106: =IF(AND(S106<>0,C106=$B$382),VLOOKUP(V106,$S$319:$AA$360,6,FALSE),"") | AA106: =IF(AND(S106<>0,C106=$B$381),VLOOKUP(V106,$S$319:$AA$360,8,FALSE),"") | AB106: =IF(AND(Z106="",AA106=""),"",IF(OR(Z106=0,AA106=0),0,IF(OR(M106>Z106,M106>AA106),1,0))) | AC106: =IF(B106=B105,(IF(AND(C106=C105,D106=D105,I106=I105,L106=L105),0,1)),0) -> 0 | AD106: =IF(C106=$B$381,IF(H106=$F$384,$B$402,$B$401),IF(AND(H106=$F$385,G106=$E$382),$B$400,IF(AND(H106=$F$385,G106=$E$383),$B$399,""))) | AE106: =IF(AND(C106=$B$382,H106=$F$384), IF(G106=$E$381,$B$398,IF(G106=$E$382,$B$397,IF(G106=$E$383,$B$396,IF(G106=$E$384,$B$395,"")))),"") | AF106: =IF(AD106<>"",AD106,AE106) | AG106: =IF(G106=$E$381,1,0) -> 0 | AH106: =IF(G106=$E$382,1,0) -> 0 | AI106: =IF(G106=$E$383,1,0) -> 0 | AJ106: =IF(G106=$E$384,1,0) -> 0 | AK106: =IF(G106=$E$385,1,0) -> 0 | AL106: =IF(C106=$B$381,1,0) -> 0 | AM106: =IF(C106=$B$382,1,0) -> 0 | AN106: =IF(H106=$F$384,1,0) -> 0 | AO106: =IF(H106=$F$385,1,0) -> 0 | AP106: =IF(F106=$D$382,1,0) -> 0 | AQ106: =IF(F106=$D$381,1,0) -> 0 | AR106: =IF(F106=$D$383,1,0) -> 0 | AS106: =IF(AND(G106=$E$385,P106<0),L106,0) -> 0 | AT106: =IF(AND(P106<>"",G106=$E$385),L106,0) -> 0 | AU106: =IF(AND(D106=$C$382,F106=$D$381,C106=$B$381,P106<0,P106<>""),L106,"") | AV106: =IF(AND(D106=$C$382,C106=$B$381,F106=$D$381,P106<>""),L106,"") | AW106: =IF(AND(S106=1,C106=$B$382,O106<>""),(O106-M106)*1.341*J106*L106*N106*10^-3,"") | AX106: =IF(AND(AW106<>"",AW106<0),B106,"") | AY106: =IF(AND(AW106<>"",AW106>0),B106,IF(AX106<>"","Using","")) | AZ106: =IF(AND(S106=1,AW106<>0, AW106<>""),MATCH(AY106,$AX$14:$AX$315,0),0) -> 0 | BA106: =IF(ISERROR(AZ106),0,IF(AZ106>1,1,"")) | BB106: =IF(AND(F106=$D$383,OR(G106<>$E$385,C106<>$B$382)),$B$388,IF(AND(C106=$B$381,OR(G106=$E$384,G106=$E$385)),$B$392,IF(AB106=1,$B$389,IF(BA106=1,$B$393,"")))) | BC106: =IF(AND(D106=$C$382,N106<>"",N106<1),$B$387,IF(F496=0,$B$391,IF(AC106=1,$B$390,IF(OR(T106=1,U106=1),$B$394,"")))) | BD106: =IF(BB106<>"",BB106,BC106)
S107: =IF(NOT(OR(ISBLANK($C$11), ISBLANK(B107),ISBLANK(C107),ISBLANK(D107),ISBLANK(F107),ISBLANK(G107),ISBLANK(H107),ISBLANK(I107),ISBLANK(J107),ISBLANK(N107),ISBLANK(L107), ISBLANK(M107))),1,0) -> 0 | T107: =IF(ISBLANK(G107),0,IF(AND($C$11>2014,D107=$C$382,G107<>$E$385),1,IF(AND(G107<>$E$384,D107=$C$382,$C$11<2015,OR(AND(H107=$F$384,$C$11>2011),AND(H107=$F$385,$C$11>2010))),1,0))) -> 0 | U107: =IF(AND(G107<>$E$383,D107=$C$382,C107=$B$381,$C$11>2005,OR(AND(H107=$F$384,$C$11<2012),AND(H107=$F$385,$C$11<2011))),1,IF(AND(G107=$E$383,D107=$C$382,C107<>$B$381,$C$11>2005,OR(AND(H107=$F$384,$C$11<2012),AND(H107=$F$385,$C$11<2011))),1,0)) -> 0 | V107: =G107&F107&H107 | W107: =IF(AND(C107=$B$382,D107=$C$381,G107=$E$383,F107=$D$382,$C$11<2013,H107=$F$384),0.2,IF(AND(C107=$B$382,F107=$D$382,G107=$E$383,H107=$F$385,$C$11<2013),0.24,"")) | X107: =IF(AND(S107<>0,C107=$B$382,W107=""),IF(VLOOKUP(V107,$S$319:$AA$360,5,FALSE)<>0,VLOOKUP(V107,$S$319:$AA$360,5,FALSE),""),"") | Y107: =IF(AND(S107<>0,C107=$B$381,W107=""),IF(VLOOKUP(V107,$S$319:$AA$360,7,FALSE)<>0,VLOOKUP(V107,$S$319:$AA$360,7,FALSE),""),"") | Z107: =IF(AND(S107<>0,C107=$B$382),VLOOKUP(V107,$S$319:$AA$360,6,FALSE),"") | AA107: =IF(AND(S107<>0,C107=$B$381),VLOOKUP(V107,$S$319:$AA$360,8,FALSE),"") | AB107: =IF(AND(Z107="",AA107=""),"",IF(OR(Z107=0,AA107=0),0,IF(OR(M107>Z107,M107>AA107),1,0))) | AC107: =IF(B107=B106,(IF(AND(C107=C106,D107=D106,I107=I106,L107=L106),0,1)),0) -> 0 | AD107: =IF(C107=$B$381,IF(H107=$F$384,$B$402,$B$401),IF(AND(H107=$F$385,G107=$E$382),$B$400,IF(AND(H107=$F$385,G107=$E$383),$B$399,""))) | AE107: =IF(AND(C107=$B$382,H107=$F$384), IF(G107=$E$381,$B$398,IF(G107=$E$382,$B$397,IF(G107=$E$383,$B$396,IF(G107=$E$384,$B$395,"")))),"") | AF107: =IF(AD107<>"",AD107,AE107) | AG107: =IF(G107=$E$381,1,0) -> 0 | AH107: =IF(G107=$E$382,1,0) -> 0 | AI107: =IF(G107=$E$383,1,0) -> 0 | AJ107: =IF(G107=$E$384,1,0) -> 0 | AK107: =IF(G107=$E$385,1,0) -> 0 | AL107: =IF(C107=$B$381,1,0) -> 0 | AM107: =IF(C107=$B$382,1,0) -> 0 | AN107: =IF(H107=$F$384,1,0) -> 0 | AO107: =IF(H107=$F$385,1,0) -> 0 | AP107: =IF(F107=$D$382,1,0) -> 0 | AQ107: =IF(F107=$D$381,1,0) -> 0 | AR107: =IF(F107=$D$383,1,0) -> 0 | AS107: =IF(AND(G107=$E$385,P107<0),L107,0) -> 0 | AT107: =IF(AND(P107<>"",G107=$E$385),L107,0) -> 0 | AU107: =IF(AND(D107=$C$382,F107=$D$381,C107=$B$381,P107<0,P107<>""),L107,"") | AV107: =IF(AND(D107=$C$382,C107=$B$381,F107=$D$381,P107<>""),L107,"") | AW107: =IF(AND(S107=1,C107=$B$382,O107<>""),(O107-M107)*1.341*J107*L107*N107*10^-3,"") | AX107: =IF(AND(AW107<>"",AW107<0),B107,"") | AY107: =IF(AND(AW107<>"",AW107>0),B107,IF(AX107<>"","Using","")) | AZ107: =IF(AND(S107=1,AW107<>0, AW107<>""),MATCH(AY107,$AX$14:$AX$315,0),0) -> 0 | BA107: =IF(ISERROR(AZ107),0,IF(AZ107>1,1,"")) | BB107: =IF(AND(F107=$D$383,OR(G107<>$E$385,C107<>$B$382)),$B$388,IF(AND(C107=$B$381,OR(G107=$E$384,G107=$E$385)),$B$392,IF(AB107=1,$B$389,IF(BA107=1,$B$393,"")))) | BC107: =IF(AND(D107=$C$382,N107<>"",N107<1),$B$387,IF(F497=0,$B$391,IF(AC107=1,$B$390,IF(OR(T107=1,U107=1),$B$394,"")))) | BD107: =IF(BB107<>"",BB107,BC107)
S108: =IF(NOT(OR(ISBLANK($C$11), ISBLANK(B108),ISBLANK(C108),ISBLANK(D108),ISBLANK(F108),ISBLANK(G108),ISBLANK(H108),ISBLANK(I108),ISBLANK(J108),ISBLANK(N108),ISBLANK(L108), ISBLANK(M108))),1,0) -> 0 | T108: =IF(ISBLANK(G108),0,IF(AND($C$11>2014,D108=$C$382,G108<>$E$385),1,IF(AND(G108<>$E$384,D108=$C$382,$C$11<2015,OR(AND(H108=$F$384,$C$11>2011),AND(H108=$F$385,$C$11>2010))),1,0))) -> 0 | U108: =IF(AND(G108<>$E$383,D108=$C$382,C108=$B$381,$C$11>2005,OR(AND(H108=$F$384,$C$11<2012),AND(H108=$F$385,$C$11<2011))),1,IF(AND(G108=$E$383,D108=$C$382,C108<>$B$381,$C$11>2005,OR(AND(H108=$F$384,$C$11<2012),AND(H108=$F$385,$C$11<2011))),1,0)) -> 0 | V108: =G108&F108&H108 | W108: =IF(AND(C108=$B$382,D108=$C$381,G108=$E$383,F108=$D$382,$C$11<2013,H108=$F$384),0.2,IF(AND(C108=$B$382,F108=$D$382,G108=$E$383,H108=$F$385,$C$11<2013),0.24,"")) | X108: =IF(AND(S108<>0,C108=$B$382,W108=""),IF(VLOOKUP(V108,$S$319:$AA$360,5,FALSE)<>0,VLOOKUP(V108,$S$319:$AA$360,5,FALSE),""),"") | Y108: =IF(AND(S108<>0,C108=$B$381,W108=""),IF(VLOOKUP(V108,$S$319:$AA$360,7,FALSE)<>0,VLOOKUP(V108,$S$319:$AA$360,7,FALSE),""),"") | Z108: =IF(AND(S108<>0,C108=$B$382),VLOOKUP(V108,$S$319:$AA$360,6,FALSE),"") | AA108: =IF(AND(S108<>0,C108=$B$381),VLOOKUP(V108,$S$319:$AA$360,8,FALSE),"") | AB108: =IF(AND(Z108="",AA108=""),"",IF(OR(Z108=0,AA108=0),0,IF(OR(M108>Z108,M108>AA108),1,0))) | AC108: =IF(B108=B107,(IF(AND(C108=C107,D108=D107,I108=I107,L108=L107),0,1)),0) -> 0 | AD108: =IF(C108=$B$381,IF(H108=$F$384,$B$402,$B$401),IF(AND(H108=$F$385,G108=$E$382),$B$400,IF(AND(H108=$F$385,G108=$E$383),$B$399,""))) | AE108: =IF(AND(C108=$B$382,H108=$F$384), IF(G108=$E$381,$B$398,IF(G108=$E$382,$B$397,IF(G108=$E$383,$B$396,IF(G108=$E$384,$B$395,"")))),"") | AF108: =IF(AD108<>"",AD108,AE108) | AG108: =IF(G108=$E$381,1,0) -> 0 | AH108: =IF(G108=$E$382,1,0) -> 0 | AI108: =IF(G108=$E$383,1,0) -> 0 | AJ108: =IF(G108=$E$384,1,0) -> 0 | AK108: =IF(G108=$E$385,1,0) -> 0 | AL108: =IF(C108=$B$381,1,0) -> 0 | AM108: =IF(C108=$B$382,1,0) -> 0 | AN108: =IF(H108=$F$384,1,0) -> 0 | AO108: =IF(H108=$F$385,1,0) -> 0 | AP108: =IF(F108=$D$382,1,0) -> 0 | AQ108: =IF(F108=$D$381,1,0) -> 0 | AR108: =IF(F108=$D$383,1,0) -> 0 | AS108: =IF(AND(G108=$E$385,P108<0),L108,0) -> 0 | AT108: =IF(AND(P108<>"",G108=$E$385),L108,0) -> 0 | AU108: =IF(AND(D108=$C$382,F108=$D$381,C108=$B$381,P108<0,P108<>""),L108,"") | AV108: =IF(AND(D108=$C$382,C108=$B$381,F108=$D$381,P108<>""),L108,"") | AW108: =IF(AND(S108=1,C108=$B$382,O108<>""),(O108-M108)*1.341*J108*L108*N108*10^-3,"") | AX108: =IF(AND(AW108<>"",AW108<0),B108,"") | AY108: =IF(AND(AW108<>"",AW108>0),B108,IF(AX108<>"","Using","")) | AZ108: =IF(AND(S108=1,AW108<>0, AW108<>""),MATCH(AY108,$AX$14:$AX$315,0),0) -> 0 | BA108: =IF(ISERROR(AZ108),0,IF(AZ108>1,1,"")) | BB108: =IF(AND(F108=$D$383,OR(G108<>$E$385,C108<>$B$382)),$B$388,IF(AND(C108=$B$381,OR(G108=$E$384,G108=$E$385)),$B$392,IF(AB108=1,$B$389,IF(BA108=1,$B$393,"")))) | BC108: =IF(AND(D108=$C$382,N108<>"",N108<1),$B$387,IF(F498=0,$B$391,IF(AC108=1,$B$390,IF(OR(T108=1,U108=1),$B$394,"")))) | BD108: =IF(BB108<>"",BB108,BC108)
S109: =IF(NOT(OR(ISBLANK($C$11), ISBLANK(B109),ISBLANK(C109),ISBLANK(D109),ISBLANK(F109),ISBLANK(G109),ISBLANK(H109),ISBLANK(I109),ISBLANK(J109),ISBLANK(N109),ISBLANK(L109), ISBLANK(M109))),1,0) -> 0 | T109: =IF(ISBLANK(G109),0,IF(AND($C$11>2014,D109=$C$382,G109<>$E$385),1,IF(AND(G109<>$E$384,D109=$C$382,$C$11<2015,OR(AND(H109=$F$384,$C$11>2011),AND(H109=$F$385,$C$11>2010))),1,0))) -> 0 | U109: =IF(AND(G109<>$E$383,D109=$C$382,C109=$B$381,$C$11>2005,OR(AND(H109=$F$384,$C$11<2012),AND(H109=$F$385,$C$11<2011))),1,IF(AND(G109=$E$383,D109=$C$382,C109<>$B$381,$C$11>2005,OR(AND(H109=$F$384,$C$11<2012),AND(H109=$F$385,$C$11<2011))),1,0)) -> 0 | V109: =G109&F109&H109 | W109: =IF(AND(C109=$B$382,D109=$C$381,G109=$E$383,F109=$D$382,$C$11<2013,H109=$F$384),0.2,IF(AND(C109=$B$382,F109=$D$382,G109=$E$383,H109=$F$385,$C$11<2013),0.24,"")) | X109: =IF(AND(S109<>0,C109=$B$382,W109=""),IF(VLOOKUP(V109,$S$319:$AA$360,5,FALSE)<>0,VLOOKUP(V109,$S$319:$AA$360,5,FALSE),""),"") | Y109: =IF(AND(S109<>0,C109=$B$381,W109=""),IF(VLOOKUP(V109,$S$319:$AA$360,7,FALSE)<>0,VLOOKUP(V109,$S$319:$AA$360,7,FALSE),""),"") | Z109: =IF(AND(S109<>0,C109=$B$382),VLOOKUP(V109,$S$319:$AA$360,6,FALSE),"") | AA109: =IF(AND(S109<>0,C109=$B$381),VLOOKUP(V109,$S$319:$AA$360,8,FALSE),"") | AB109: =IF(AND(Z109="",AA109=""),"",IF(OR(Z109=0,AA109=0),0,IF(OR(M109>Z109,M109>AA109),1,0))) | AC109: =IF(B109=B108,(IF(AND(C109=C108,D109=D108,I109=I108,L109=L108),0,1)),0) -> 0 | AD109: =IF(C109=$B$381,IF(H109=$F$384,$B$402,$B$401),IF(AND(H109=$F$385,G109=$E$382),$B$400,IF(AND(H109=$F$385,G109=$E$383),$B$399,""))) | AE109: =IF(AND(C109=$B$382,H109=$F$384), IF(G109=$E$381,$B$398,IF(G109=$E$382,$B$397,IF(G109=$E$383,$B$396,IF(G109=$E$384,$B$395,"")))),"") | AF109: =IF(AD109<>"",AD109,AE109) | AG109: =IF(G109=$E$381,1,0) -> 0 | AH109: =IF(G109=$E$382,1,0) -> 0 | AI109: =IF(G109=$E$383,1,0) -> 0 | AJ109: =IF(G109=$E$384,1,0) -> 0 | AK109: =IF(G109=$E$385,1,0) -> 0 | AL109: =IF(C109=$B$381,1,0) -> 0 | AM109: =IF(C109=$B$382,1,0) -> 0 | AN109: =IF(H109=$F$384,1,0) -> 0 | AO109: =IF(H109=$F$385,1,0) -> 0 | AP109: =IF(F109=$D$382,1,0) -> 0 | AQ109: =IF(F109=$D$381,1,0) -> 0 | AR109: =IF(F109=$D$383,1,0) -> 0 | AS109: =IF(AND(G109=$E$385,P109<0),L109,0) -> 0 | AT109: =IF(AND(P109<>"",G109=$E$385),L109,0) -> 0 | AU109: =IF(AND(D109=$C$382,F109=$D$381,C109=$B$381,P109<0,P109<>""),L109,"") | AV109: =IF(AND(D109=$C$382,C109=$B$381,F109=$D$381,P109<>""),L109,"") | AW109: =IF(AND(S109=1,C109=$B$382,O109<>""),(O109-M109)*1.341*J109*L109*N109*10^-3,"") | AX109: =IF(AND(AW109<>"",AW109<0),B109,"") | AY109: =IF(AND(AW109<>"",AW109>0),B109,IF(AX109<>"","Using","")) | AZ109: =IF(AND(S109=1,AW109<>0, AW109<>""),MATCH(AY109,$AX$14:$AX$315,0),0) -> 0 | BA109: =IF(ISERROR(AZ109),0,IF(AZ109>1,1,"")) | BB109: =IF(AND(F109=$D$383,OR(G109<>$E$385,C109<>$B$382)),$B$388,IF(AND(C109=$B$381,OR(G109=$E$384,G109=$E$385)),$B$392,IF(AB109=1,$B$389,IF(BA109=1,$B$393,"")))) | BC109: =IF(AND(D109=$C$382,N109<>"",N109<1),$B$387,IF(F499=0,$B$391,IF(AC109=1,$B$390,IF(OR(T109=1,U109=1),$B$394,"")))) | BD109: =IF(BB109<>"",BB109,BC109)
S110: =IF(NOT(OR(ISBLANK($C$11), ISBLANK(B110),ISBLANK(C110),ISBLANK(D110),ISBLANK(F110),ISBLANK(G110),ISBLANK(H110),ISBLANK(I110),ISBLANK(J110),ISBLANK(N110),ISBLANK(L110), ISBLANK(M110))),1,0) -> 0 | T110: =IF(ISBLANK(G110),0,IF(AND($C$11>2014,D110=$C$382,G110<>$E$385),1,IF(AND(G110<>$E$384,D110=$C$382,$C$11<2015,OR(AND(H110=$F$384,$C$11>2011),AND(H110=$F$385,$C$11>2010))),1,0))) -> 0 | U110: =IF(AND(G110<>$E$383,D110=$C$382,C110=$B$381,$C$11>2005,OR(AND(H110=$F$384,$C$11<2012),AND(H110=$F$385,$C$11<2011))),1,IF(AND(G110=$E$383,D110=$C$382,C110<>$B$381,$C$11>2005,OR(AND(H110=$F$384,$C$11<2012),AND(H110=$F$385,$C$11<2011))),1,0)) -> 0 | V110: =G110&F110&H110 | W110: =IF(AND(C110=$B$382,D110=$C$381,G110=$E$383,F110=$D$382,$C$11<2013,H110=$F$384),0.2,IF(AND(C110=$B$382,F110=$D$382,G110=$E$383,H110=$F$385,$C$11<2013),0.24,"")) | X110: =IF(AND(S110<>0,C110=$B$382,W110=""),IF(VLOOKUP(V110,$S$319:$AA$360,5,FALSE)<>0,VLOOKUP(V110,$S$319:$AA$360,5,FALSE),""),"") | Y110: =IF(AND(S110<>0,C110=$B$381,W110=""),IF(VLOOKUP(V110,$S$319:$AA$360,7,FALSE)<>0,VLOOKUP(V110,$S$319:$AA$360,7,FALSE),""),"") | Z110: =IF(AND(S110<>0,C110=$B$382),VLOOKUP(V110,$S$319:$AA$360,6,FALSE),"") | AA110: =IF(AND(S110<>0,C110=$B$381),VLOOKUP(V110,$S$319:$AA$360,8,FALSE),"") | AB110: =IF(AND(Z110="",AA110=""),"",IF(OR(Z110=0,AA110=0),0,IF(OR(M110>Z110,M110>AA110),1,0))) | AC110: =IF(B110=B109,(IF(AND(C110=C109,D110=D109,I110=I109,L110=L109),0,1)),0) -> 0 | AD110: =IF(C110=$B$381,IF(H110=$F$384,$B$402,$B$401),IF(AND(H110=$F$385,G110=$E$382),$B$400,IF(AND(H110=$F$385,G110=$E$383),$B$399,""))) | AE110: =IF(AND(C110=$B$382,H110=$F$384), IF(G110=$E$381,$B$398,IF(G110=$E$382,$B$397,IF(G110=$E$383,$B$396,IF(G110=$E$384,$B$395,"")))),"") | AF110: =IF(AD110<>"",AD110,AE110) | AG110: =IF(G110=$E$381,1,0) -> 0 | AH110: =IF(G110=$E$382,1,0) -> 0 | AI110: =IF(G110=$E$383,1,0) -> 0 | AJ110: =IF(G110=$E$384,1,0) -> 0 | AK110: =IF(G110=$E$385,1,0) -> 0 | AL110: =IF(C110=$B$381,1,0) -> 0 | AM110: =IF(C110=$B$382,1,0) -> 0 | AN110: =IF(H110=$F$384,1,0) -> 0 | AO110: =IF(H110=$F$385,1,0) -> 0 | AP110: =IF(F110=$D$382,1,0) -> 0 | AQ110: =IF(F110=$D$381,1,0) -> 0 | AR110: =IF(F110=$D$383,1,0) -> 0 | AS110: =IF(AND(G110=$E$385,P110<0),L110,0) -> 0 | AT110: =IF(AND(P110<>"",G110=$E$385),L110,0) -> 0 | AU110: =IF(AND(D110=$C$382,F110=$D$381,C110=$B$381,P110<0,P110<>""),L110,"") | AV110: =IF(AND(D110=$C$382,C110=$B$381,F110=$D$381,P110<>""),L110,"") | AW110: =IF(AND(S110=1,C110=$B$382,O110<>""),(O110-M110)*1.341*J110*L110*N110*10^-3,"") | AX110: =IF(AND(AW110<>"",AW110<0),B110,"") | AY110: =IF(AND(AW110<>"",AW110>0),B110,IF(AX110<>"","Using","")) | AZ110: =IF(AND(S110=1,AW110<>0, AW110<>""),MATCH(AY110,$AX$14:$AX$315,0),0) -> 0 | BA110: =IF(ISERROR(AZ110),0,IF(AZ110>1,1,"")) | BB110: =IF(AND(F110=$D$383,OR(G110<>$E$385,C110<>$B$382)),$B$388,IF(AND(C110=$B$381,OR(G110=$E$384,G110=$E$385)),$B$392,IF(AB110=1,$B$389,IF(BA110=1,$B$393,"")))) | BC110: =IF(AND(D110=$C$382,N110<>"",N110<1),$B$387,IF(F500=0,$B$391,IF(AC110=1,$B$390,IF(OR(T110=1,U110=1),$B$394,"")))) | BD110: =IF(BB110<>"",BB110,BC110)
... S271: =IF(NOT(OR(ISBLANK($C$11), ISBLANK(B271),ISBLANK(C271),ISBLANK(D271),ISBLANK(F271),ISBLANK(G271),ISBLANK(H271),ISBLANK(I271),ISBLANK(J271),ISBLANK(N271),ISBLANK(L271), ISBLANK(M271))),1,0) -> 0 | T271: =IF(ISBLANK(G271),0,IF(AND($C$11>2014,D271=$C$382,G271<>$E$385),1,IF(AND(G271<>$E$384,D271=$C$382,$C$11<2015,OR(AND(H271=$F$384,$C$11>2011),AND(H271=$F$385,$C$11>2010))),1,0))) -> 0 | U271: =IF(AND(G271<>$E$383,D271=$C$382,C271=$B$381,$C$11>2005,OR(AND(H271=$F$384,$C$11<2012),AND(H271=$F$385,$C$11<2011))),1,IF(AND(G271=$E$383,D271=$C$382,C271<>$B$381,$C$11>2005,OR(AND(H271=$F$384,$C$11<2012),AND(H271=$F$385,$C$11<2011))),1,0)) -> 0 | V271: =G271&F271&H271 | W271: =IF(AND(C271=$B$382,D271=$C$381,G271=$E$383,F271=$D$382,$C$11<2013,H271=$F$384),0.2,IF(AND(C271=$B$382,F271=$D$382,G271=$E$383,H271=$F$385,$C$11<2013),0.24,"")) | X271: =IF(AND(S271<>0,C271=$B$382,W271=""),IF(VLOOKUP(V271,$S$319:$AA$360,5,FALSE)<>0,VLOOKUP(V271,$S$319:$AA$360,5,FALSE),""),"") | Y271: =IF(AND(S271<>0,C271=$B$381,W271=""),IF(VLOOKUP(V271,$S$319:$AA$360,7,FALSE)<>0,VLOOKUP(V271,$S$319:$AA$360,7,FALSE),""),"") | Z271: =IF(AND(S271<>0,C271=$B$382),VLOOKUP(V271,$S$319:$AA$360,6,FALSE),"") | AA271: =IF(AND(S271<>0,C271=$B$381),VLOOKUP(V271,$S$319:$AA$360,8,FALSE),"") | AB271: =IF(AND(Z271="",AA271=""),"",IF(OR(Z271=0,AA271=0),0,IF(OR(M271>Z271,M271>AA271),1,0))) | AC271: =IF(B271=B270,(IF(AND(C271=C270,D271=D270,I271=I270,L271=L270),0,1)),0) -> 0 | AD271: =IF(C271=$B$381,IF(H271=$F$384,$B$402,$B$401),IF(AND(H271=$F$385,G271=$E$382),$B$400,IF(AND(H271=$F$385,G271=$E$383),$B$399,""))) | AE271: =IF(AND(C271=$B$382,H271=$F$384), IF(G271=$E$381,$B$398,IF(G271=$E$382,$B$397,IF(G271=$E$383,$B$396,IF(G271=$E$384,$B$395,"")))),"") | AF271: =IF(AD271<>"",AD271,AE271) | AG271: =IF(G271=$E$381,1,0) -> 0 | AH271: =IF(G271=$E$382,1,0) -> 0 | AI271: =IF(G271=$E$383,1,0) -> 0 | AJ271: =IF(G271=$E$384,1,0) -> 0 | AK271: =IF(G271=$E$385,1,0) -> 0 | AL271: =IF(C271=$B$381,1,0) -> 0 | AM271: =IF(C271=$B$382,1,0) -> 0 | AN271: =IF(H271=$F$384,1,0) -> 0 | AO271: =IF(H271=$F$385,1,0) -> 0 | AP271: =IF(F271=$D$382,1,0) -> 0 | AQ271: =IF(F271=$D$381,1,0) -> 0 | AR271: =IF(F271=$D$383,1,0) -> 0 | AS271: =IF(AND(G271=$E$385,P271<0),L271,0) -> 0 | AT271: =IF(AND(P271<>"",G271=$E$385),L271,0) -> 0 | AU271: =IF(AND(D271=$C$382,F271=$D$381,C271=$B$381,P271<0,P271<>""),L271,"") | AV271: =IF(AND(D271=$C$382,C271=$B$381,F271=$D$381,P271<>""),L271,"") | AW271: =IF(AND(S271=1,C271=$B$382,O271<>""),(O271-M271)*1.341*J271*L271*N271*10^-3,"") | AX271: =IF(AND(AW271<>"",AW271<0),B271,"") | AY271: =IF(AND(AW271<>"",AW271>0),B271,IF(AX271<>"","Using","")) | AZ271: =IF(AND(S271=1,AW271<>0, AW271<>""),MATCH(AY271,$AX$14:$AX$315,0),0) -> 0 | BA271: =IF(ISERROR(AZ271),0,IF(AZ271>1,1,"")) | BB271: =IF(AND(F271=$D$383,OR(G271<>$E$385,C271<>$B$382)),$B$388,IF(AND(C271=$B$381,OR(G271=$E$384,G271=$E$385)),$B$392,IF(AB271=1,$B$389,IF(BA271=1,$B$393,"")))) | BC271: =IF(AND(D271=$C$382,N271<>"",N271<1),$B$387,IF(F661=0,$B$391,IF(AC271=1,$B$390,IF(OR(T271=1,U271=1),$B$394,"")))) | BD271: =IF(BB271<>"",BB271,BC271)
P272: =IF(S272=1,(O272-M272)*1.341*J272*L272*N272*10^-3,"") | S272: =IF(NOT(OR(ISBLANK($C$11), ISBLANK(B272),ISBLANK(C272),ISBLANK(D272),ISBLANK(F272),ISBLANK(G272),ISBLANK(H272),ISBLANK(I272),ISBLANK(J272),ISBLANK(N272),ISBLANK(L272), ISBLANK(M272))),1,0) -> 0 | T272: =IF(ISBLANK(G272),0,IF(AND($C$11>2014,D272=$C$382,G272<>$E$385),1,IF(AND(G272<>$E$384,D272=$C$382,$C$11<2015,OR(AND(H272=$F$384,$C$11>2011),AND(H272=$F$385,$C$11>2010))),1,0))) -> 0 | U272: =IF(AND(G272<>$E$383,D272=$C$382,C272=$B$381,$C$11>2005,OR(AND(H272=$F$384,$C$11<2012),AND(H272=$F$385,$C$11<2011))),1,IF(AND(G272=$E$383,D272=$C$382,C272<>$B$381,$C$11>2005,OR(AND(H272=$F$384,$C$11<2012),AND(H272=$F$385,$C$11<2011))),1,0)) -> 0 | V272: =G272&F272&H272 | W272: =IF(AND(C272=$B$382,D272=$C$381,G272=$E$383,F272=$D$382,$C$11<2013,H272=$F$384),0.2,IF(AND(C272=$B$382,F272=$D$382,G272=$E$383,H272=$F$385,$C$11<2013),0.24,"")) | X272: =IF(AND(S272<>0,C272=$B$382,W272=""),IF(VLOOKUP(V272,$S$319:$AA$360,5,FALSE)<>0,VLOOKUP(V272,$S$319:$AA$360,5,FALSE),""),"") | Y272: =IF(AND(S272<>0,C272=$B$381,W272=""),IF(VLOOKUP(V272,$S$319:$AA$360,7,FALSE)<>0,VLOOKUP(V272,$S$319:$AA$360,7,FALSE),""),"") | Z272: =IF(AND(S272<>0,C272=$B$382),VLOOKUP(V272,$S$319:$AA$360,6,FALSE),"") | AA272: =IF(AND(S272<>0,C272=$B$381),VLOOKUP(V272,$S$319:$AA$360,8,FALSE),"") | AB272: =IF(AND(Z272="",AA272=""),"",IF(OR(Z272=0,AA272=0),0,IF(OR(M272>Z272,M272>AA272),1,0))) | AC272: =IF(B272=B271,(IF(AND(C272=C271,D272=D271,I272=I271,L272=L271),0,1)),0) -> 0 | AD272: =IF(C272=$B$381,IF(H272=$F$384,$B$402,$B$401),IF(AND(H272=$F$385,G272=$E$382),$B$400,IF(AND(H272=$F$385,G272=$E$383),$B$399,""))) | AE272: =IF(AND(C272=$B$382,H272=$F$384), IF(G272=$E$381,$B$398,IF(G272=$E$382,$B$397,IF(G272=$E$383,$B$396,IF(G272=$E$384,$B$395,"")))),"") | AF272: =IF(AD272<>"",AD272,AE272) | AG272: =IF(G272=$E$381,1,0) -> 0 | AH272: =IF(G272=$E$382,1,0) -> 0 | AI272: =IF(G272=$E$383,1,0) -> 0 | AJ272: =IF(G272=$E$384,1,0) -> 0 | AK272: =IF(G272=$E$385,1,0) -> 0 | AL272: =IF(C272=$B$381,1,0) -> 0 | AM272: =IF(C272=$B$382,1,0) -> 0 | AN272: =IF(H272=$F$384,1,0) -> 0 | AO272: =IF(H272=$F$385,1,0) -> 0 | AP272: =IF(F272=$D$382,1,0) -> 0 | AQ272: =IF(F272=$D$381,1,0) -> 0 | AR272: =IF(F272=$D$383,1,0) -> 0 | AS272: =IF(AND(G272=$E$385,P272<0),L272,0) -> 0 | AT272: =IF(AND(P272<>"",G272=$E$385),L272,0) -> 0 | AU272: =IF(AND(D272=$C$382,F272=$D$381,C272=$B$381,P272<0,P272<>""),L272,"") | AV272: =IF(AND(D272=$C$382,C272=$B$381,F272=$D$381,P272<>""),L272,"") | AW272: =IF(AND(S272=1,C272=$B$382,O272<>""),(O272-M272)*1.341*J272*L272*N272*10^-3,"") | AX272: =IF(AND(AW272<>"",AW272<0),B272,"") | AY272: =IF(AND(AW272<>"",AW272>0),B272,IF(AX272<>"","Using","")) | AZ272: =IF(AND(S272=1,AW272<>0, AW272<>""),MATCH(AY272,$AX$14:$AX$315,0),0) -> 0 | BA272: =IF(ISERROR(AZ272),0,IF(AZ272>1,1,"")) | BB272: =IF(AND(F272=$D$383,OR(G272<>$E$385,C272<>$B$382)),$B$388,IF(AND(C272=$B$381,OR(G272=$E$384,G272=$E$385)),$B$392,IF(AB272=1,$B$389,IF(BA272=1,$B$393,"")))) | BC272: =IF(AND(D272=$C$382,N272<>"",N272<1),$B$387,IF(F662=0,$B$391,IF(AC272=1,$B$390,IF(OR(T272=1,U272=1),$B$394,"")))) | BD272: =IF(BB272<>"",BB272,BC272)
P273: =IF(S273=1,(O273-M273)*1.341*J273*L273*N273*10^-3,"") | S273: =IF(NOT(OR(ISBLANK($C$11), ISBLANK(B273),ISBLANK(C273),ISBLANK(D273),ISBLANK(F273),ISBLANK(G273),ISBLANK(H273),ISBLANK(I273),ISBLANK(J273),ISBLANK(N273),ISBLANK(L273), ISBLANK(M273))),1,0) -> 0 | T273: =IF(ISBLANK(G273),0,IF(AND($C$11>2014,D273=$C$382,G273<>$E$385),1,IF(AND(G273<>$E$384,D273=$C$382,$C$11<2015,OR(AND(H273=$F$384,$C$11>2011),AND(H273=$F$385,$C$11>2010))),1,0))) -> 0 | U273: =IF(AND(G273<>$E$383,D273=$C$382,C273=$B$381,$C$11>2005,OR(AND(H273=$F$384,$C$11<2012),AND(H273=$F$385,$C$11<2011))),1,IF(AND(G273=$E$383,D273=$C$382,C273<>$B$381,$C$11>2005,OR(AND(H273=$F$384,$C$11<2012),AND(H273=$F$385,$C$11<2011))),1,0)) -> 0 | V273: =G273&F273&H273 | W273: =IF(AND(C273=$B$382,D273=$C$381,G273=$E$383,F273=$D$382,$C$11<2013,H273=$F$384),0.2,IF(AND(C273=$B$382,F273=$D$382,G273=$E$383,H273=$F$385,$C$11<2013),0.24,"")) | X273: =IF(AND(S273<>0,C273=$B$382,W273=""),IF(VLOOKUP(V273,$S$319:$AA$360,5,FALSE)<>0,VLOOKUP(V273,$S$319:$AA$360,5,FALSE),""),"") | Y273: =IF(AND(S273<>0,C273=$B$381,W273=""),IF(VLOOKUP(V273,$S$319:$AA$360,7,FALSE)<>0,VLOOKUP(V273,$S$319:$AA$360,7,FALSE),""),"") | Z273: =IF(AND(S273<>0,C273=$B$382),VLOOKUP(V273,$S$319:$AA$360,6,FALSE),"") | AA273: =IF(AND(S273<>0,C273=$B$381),VLOOKUP(V273,$S$319:$AA$360,8,FALSE),"") | AB273: =IF(AND(Z273="",AA273=""),"",IF(OR(Z273=0,AA273=0),0,IF(OR(M273>Z273,M273>AA273),1,0))) | AC273: =IF(B273=B272,(IF(AND(C273=C272,D273=D272,I273=I272,L273=L272),0,1)),0) -> 0 | AD273: =IF(C273=$B$381,IF(H273=$F$384,$B$402,$B$401),IF(AND(H273=$F$385,G273=$E$382),$B$400,IF(AND(H273=$F$385,G273=$E$383),$B$399,""))) | AE273: =IF(AND(C273=$B$382,H273=$F$384), IF(G273=$E$381,$B$398,IF(G273=$E$382,$B$397,IF(G273=$E$383,$B$396,IF(G273=$E$384,$B$395,"")))),"") | AF273: =IF(AD273<>"",AD273,AE273) | AG273: =IF(G273=$E$381,1,0) -> 0 | AH273: =IF(G273=$E$382,1,0) -> 0 | AI273: =IF(G273=$E$383,1,0) -> 0 | AJ273: =IF(G273=$E$384,1,0) -> 0 | AK273: =IF(G273=$E$385,1,0) -> 0 | AL273: =IF(C273=$B$381,1,0) -> 0 | AM273: =IF(C273=$B$382,1,0) -> 0 | AN273: =IF(H273=$F$384,1,0) -> 0 | AO273: =IF(H273=$F$385,1,0) -> 0 | AP273: =IF(F273=$D$382,1,0) -> 0 | AQ273: =IF(F273=$D$381,1,0) -> 0 | AR273: =IF(F273=$D$383,1,0) -> 0 | AS273: =IF(AND(G273=$E$385,P273<0),L273,0) -> 0 | AT273: =IF(AND(P273<>"",G273=$E$385),L273,0) -> 0 | AU273: =IF(AND(D273=$C$382,F273=$D$381,C273=$B$381,P273<0,P273<>""),L273,"") | AV273: =IF(AND(D273=$C$382,C273=$B$381,F273=$D$381,P273<>""),L273,"") | AW273: =IF(AND(S273=1,C273=$B$382,O273<>""),(O273-M273)*1.341*J273*L273*N273*10^-3,"") | AX273: =IF(AND(AW273<>"",AW273<0),B273,"") | AY273: =IF(AND(AW273<>"",AW273>0),B273,IF(AX273<>"","Using","")) | AZ273: =IF(AND(S273=1,AW273<>0, AW273<>""),MATCH(AY273,$AX$14:$AX$315,0),0) -> 0 | BA273: =IF(ISERROR(AZ273),0,IF(AZ273>1,1,"")) | BB273: =IF(AND(F273=$D$383,OR(G273<>$E$385,C273<>$B$382)),$B$388,IF(AND(C273=$B$381,OR(G273=$E$384,G273=$E$385)),$B$392,IF(AB273=1,$B$389,IF(BA273=1,$B$393,"")))) | BC273: =IF(AND(D273=$C$382,N273<>"",N273<1),$B$387,IF(F663=0,$B$391,IF(AC273=1,$B$390,IF(OR(T273=1,U273=1),$B$394,"")))) | BD273: =IF(BB273<>"",BB273,BC273)
P274: =IF(S274=1,(O274-M274)*1.341*J274*L274*N274*10^-3,"") | S274: =IF(NOT(OR(ISBLANK($C$11), ISBLANK(B274),ISBLANK(C274),ISBLANK(D274),ISBLANK(F274),ISBLANK(G274),ISBLANK(H274),ISBLANK(I274),ISBLANK(J274),ISBLANK(N274),ISBLANK(L274), ISBLANK(M274))),1,0) -> 0 | T274: =IF(ISBLANK(G274),0,IF(AND($C$11>2014,D274=$C$382,G274<>$E$385),1,IF(AND(G274<>$E$384,D274=$C$382,$C$11<2015,OR(AND(H274=$F$384,$C$11>2011),AND(H274=$F$385,$C$11>2010))),1,0))) -> 0 | U274: =IF(AND(G274<>$E$383,D274=$C$382,C274=$B$381,$C$11>2005,OR(AND(H274=$F$384,$C$11<2012),AND(H274=$F$385,$C$11<2011))),1,IF(AND(G274=$E$383,D274=$C$382,C274<>$B$381,$C$11>2005,OR(AND(H274=$F$384,$C$11<2012),AND(H274=$F$385,$C$11<2011))),1,0)) -> 0 | V274: =G274&F274&H274 | W274: =IF(AND(C274=$B$382,D274=$C$381,G274=$E$383,F274=$D$382,$C$11<2013,H274=$F$384),0.2,IF(AND(C274=$B$382,F274=$D$382,G274=$E$383,H274=$F$385,$C$11<2013),0.24,"")) | X274: =IF(AND(S274<>0,C274=$B$382,W274=""),IF(VLOOKUP(V274,$S$319:$AA$360,5,FALSE)<>0,VLOOKUP(V274,$S$319:$AA$360,5,FALSE),""),"") | Y274: =IF(AND(S274<>0,C274=$B$381,W274=""),IF(VLOOKUP(V274,$S$319:$AA$360,7,FALSE)<>0,VLOOKUP(V274,$S$319:$AA$360,7,FALSE),""),"") | Z274: =IF(AND(S274<>0,C274=$B$382),VLOOKUP(V274,$S$319:$AA$360,6,FALSE),"") | AA274: =IF(AND(S274<>0,C274=$B$381),VLOOKUP(V274,$S$319:$AA$360,8,FALSE),"") | AB274: =IF(AND(Z274="",AA274=""),"",IF(OR(Z274=0,AA274=0),0,IF(OR(M274>Z274,M274>AA274),1,0))) | AC274: =IF(B274=B273,(IF(AND(C274=C273,D274=D273,I274=I273,L274=L273),0,1)),0) -> 0 | AD274: =IF(C274=$B$381,IF(H274=$F$384,$B$402,$B$401),IF(AND(H274=$F$385,G274=$E$382),$B$400,IF(AND(H274=$F$385,G274=$E$383),$B$399,""))) | AE274: =IF(AND(C274=$B$382,H274=$F$384), IF(G274=$E$381,$B$398,IF(G274=$E$382,$B$397,IF(G274=$E$383,$B$396,IF(G274=$E$384,$B$395,"")))),"") | AF274: =IF(AD274<>"",AD274,AE274) | AG274: =IF(G274=$E$381,1,0) -> 0 | AH274: =IF(G274=$E$382,1,0) -> 0 | AI274: =IF(G274=$E$383,1,0) -> 0 | AJ274: =IF(G274=$E$384,1,0) -> 0 | AK274: =IF(G274=$E$385,1,0) -> 0 | AL274: =IF(C274=$B$381,1,0) -> 0 | AM274: =IF(C274=$B$382,1,0) -> 0 | AN274: =IF(H274=$F$384,1,0) -> 0 | AO274: =IF(H274=$F$385,1,0) -> 0 | AP274: =IF(F274=$D$382,1,0) -> 0 | AQ274: =IF(F274=$D$381,1,0) -> 0 | AR274: =IF(F274=$D$383,1,0) -> 0 | AS274: =IF(AND(G274=$E$385,P274<0),L274,0) -> 0 | AT274: =IF(AND(P274<>"",G274=$E$385),L274,0) -> 0 | AU274: =IF(AND(D274=$C$382,F274=$D$381,C274=$B$381,P274<0,P274<>""),L274,"") | AV274: =IF(AND(D274=$C$382,C274=$B$381,F274=$D$381,P274<>""),L274,"") | AW274: =IF(AND(S274=1,C274=$B$382,O274<>""),(O274-M274)*1.341*J274*L274*N274*10^-3,"") | AX274: =IF(AND(AW274<>"",AW274<0),B274,"") | AY274: =IF(AND(AW274<>"",AW274>0),B274,IF(AX274<>"","Using","")) | AZ274: =IF(AND(S274=1,AW274<>0, AW274<>""),MATCH(AY274,$AX$14:$AX$315,0),0) -> 0 | BA274: =IF(ISERROR(AZ274),0,IF(AZ274>1,1,"")) | BB274: =IF(AND(F274=$D$383,OR(G274<>$E$385,C274<>$B$382)),$B$388,IF(AND(C274=$B$381,OR(G274=$E$384,G274=$E$385)),$B$392,IF(AB274=1,$B$389,IF(BA274=1,$B$393,"")))) | BC274: =IF(AND(D274=$C$382,N274<>"",N274<1),$B$387,IF(F664=0,$B$391,IF(AC274=1,$B$390,IF(OR(T274=1,U274=1),$B$394,"")))) | BD274: =IF(BB274<>"",BB274,BC274)
P275: =IF(S275=1,(O275-M275)*1.341*J275*L275*N275*10^-3,"") | S275: =IF(NOT(OR(ISBLANK($C$11), ISBLANK(B275),ISBLANK(C275),ISBLANK(D275),ISBLANK(F275),ISBLANK(G275),ISBLANK(H275),ISBLANK(I275),ISBLANK(J275),ISBLANK(N275),ISBLANK(L275), ISBLANK(M275))),1,0) -> 0 | T275: =IF(ISBLANK(G275),0,IF(AND($C$11>2014,D275=$C$382,G275<>$E$385),1,IF(AND(G275<>$E$384,D275=$C$382,$C$11<2015,OR(AND(H275=$F$384,$C$11>2011),AND(H275=$F$385,$C$11>2010))),1,0))) -> 0 | U275: =IF(AND(G275<>$E$383,D275=$C$382,C275=$B$381,$C$11>2005,OR(AND(H275=$F$384,$C$11<2012),AND(H275=$F$385,$C$11<2011))),1,IF(AND(G275=$E$383,D275=$C$382,C275<>$B$381,$C$11>2005,OR(AND(H275=$F$384,$C$11<2012),AND(H275=$F$385,$C$11<2011))),1,0)) -> 0 | V275: =G275&F275&H275 | W275: =IF(AND(C275=$B$382,D275=$C$381,G275=$E$383,F275=$D$382,$C$11<2013,H275=$F$384),0.2,IF(AND(C275=$B$382,F275=$D$382,G275=$E$383,H275=$F$385,$C$11<2013),0.24,"")) | X275: =IF(AND(S275<>0,C275=$B$382,W275=""),IF(VLOOKUP(V275,$S$319:$AA$360,5,FALSE)<>0,VLOOKUP(V275,$S$319:$AA$360,5,FALSE),""),"") | Y275: =IF(AND(S275<>0,C275=$B$381,W275=""),IF(VLOOKUP(V275,$S$319:$AA$360,7,FALSE)<>0,VLOOKUP(V275,$S$319:$AA$360,7,FALSE),""),"") | Z275: =IF(AND(S275<>0,C275=$B$382),VLOOKUP(V275,$S$319:$AA$360,6,FALSE),"") | AA275: =IF(AND(S275<>0,C275=$B$381),VLOOKUP(V275,$S$319:$AA$360,8,FALSE),"") | AB275: =IF(AND(Z275="",AA275=""),"",IF(OR(Z275=0,AA275=0),0,IF(OR(M275>Z275,M275>AA275),1,0))) | AC275: =IF(B275=B274,(IF(AND(C275=C274,D275=D274,I275=I274,L275=L274),0,1)),0) -> 0 | AD275: =IF(C275=$B$381,IF(H275=$F$384,$B$402,$B$401),IF(AND(H275=$F$385,G275=$E$382),$B$400,IF(AND(H275=$F$385,G275=$E$383),$B$399,""))) | AE275: =IF(AND(C275=$B$382,H275=$F$384), IF(G275=$E$381,$B$398,IF(G275=$E$382,$B$397,IF(G275=$E$383,$B$396,IF(G275=$E$384,$B$395,"")))),"") | AF275: =IF(AD275<>"",AD275,AE275) | AG275: =IF(G275=$E$381,1,0) -> 0 | AH275: =IF(G275=$E$382,1,0) -> 0 | AI275: =IF(G275=$E$383,1,0) -> 0 | AJ275: =IF(G275=$E$384,1,0) -> 0 | AK275: =IF(G275=$E$385,1,0) -> 0 | AL275: =IF(C275=$B$381,1,0) -> 0 | AM275: =IF(C275=$B$382,1,0) -> 0 | AN275: =IF(H275=$F$384,1,0) -> 0 | AO275: =IF(H275=$F$385,1,0) -> 0 | AP275: =IF(F275=$D$382,1,0) -> 0 | AQ275: =IF(F275=$D$381,1,0) -> 0 | AR275: =IF(F275=$D$383,1,0) -> 0 | AS275: =IF(AND(G275=$E$385,P275<0),L275,0) -> 0 | AT275: =IF(AND(P275<>"",G275=$E$385),L275,0) -> 0 | AU275: =IF(AND(D275=$C$382,F275=$D$381,C275=$B$381,P275<0,P275<>""),L275,"") | AV275: =IF(AND(D275=$C$382,C275=$B$381,F275=$D$381,P275<>""),L275,"") | AW275: =IF(AND(S275=1,C275=$B$382,O275<>""),(O275-M275)*1.341*J275*L275*N275*10^-3,"") | AX275: =IF(AND(AW275<>"",AW275<0),B275,"") | AY275: =IF(AND(AW275<>"",AW275>0),B275,IF(AX275<>"","Using","")) | AZ275: =IF(AND(S275=1,AW275<>0, AW275<>""),MATCH(AY275,$AX$14:$AX$315,0),0) -> 0 | BA275: =IF(ISERROR(AZ275),0,IF(AZ275>1,1,"")) | BB275: =IF(AND(F275=$D$383,OR(G275<>$E$385,C275<>$B$382)),$B$388,IF(AND(C275=$B$381,OR(G275=$E$384,G275=$E$385)),$B$392,IF(AB275=1,$B$389,IF(BA275=1,$B$393,"")))) | BC275: =IF(AND(D275=$C$382,N275<>"",N275<1),$B$387,IF(F665=0,$B$391,IF(AC275=1,$B$390,IF(OR(T275=1,U275=1),$B$394,"")))) | BD275: =IF(BB275<>"",BB275,BC275)
P276: =IF(S276=1,(O276-M276)*1.341*J276*L276*N276*10^-3,"") | S276: =IF(NOT(OR(ISBLANK($C$11), ISBLANK(B276),ISBLANK(C276),ISBLANK(D276),ISBLANK(F276),ISBLANK(G276),ISBLANK(H276),ISBLANK(I276),ISBLANK(J276),ISBLANK(N276),ISBLANK(L276), ISBLANK(M276))),1,0) -> 0 | T276: =IF(ISBLANK(G276),0,IF(AND($C$11>2014,D276=$C$382,G276<>$E$385),1,IF(AND(G276<>$E$384,D276=$C$382,$C$11<2015,OR(AND(H276=$F$384,$C$11>2011),AND(H276=$F$385,$C$11>2010))),1,0))) -> 0 | U276: =IF(AND(G276<>$E$383,D276=$C$382,C276=$B$381,$C$11>2005,OR(AND(H276=$F$384,$C$11<2012),AND(H276=$F$385,$C$11<2011))),1,IF(AND(G276=$E$383,D276=$C$382,C276<>$B$381,$C$11>2005,OR(AND(H276=$F$384,$C$11<2012),AND(H276=$F$385,$C$11<2011))),1,0)) -> 0 | V276: =G276&F276&H276 | W276: =IF(AND(C276=$B$382,D276=$C$381,G276=$E$383,F276=$D$382,$C$11<2013,H276=$F$384),0.2,IF(AND(C276=$B$382,F276=$D$382,G276=$E$383,H276=$F$385,$C$11<2013),0.24,"")) | X276: =IF(AND(S276<>0,C276=$B$382,W276=""),IF(VLOOKUP(V276,$S$319:$AA$360,5,FALSE)<>0,VLOOKUP(V276,$S$319:$AA$360,5,FALSE),""),"") | Y276: =IF(AND(S276<>0,C276=$B$381,W276=""),IF(VLOOKUP(V276,$S$319:$AA$360,7,FALSE)<>0,VLOOKUP(V276,$S$319:$AA$360,7,FALSE),""),"") | Z276: =IF(AND(S276<>0,C276=$B$382),VLOOKUP(V276,$S$319:$AA$360,6,FALSE),"") | AA276: =IF(AND(S276<>0,C276=$B$381),VLOOKUP(V276,$S$319:$AA$360,8,FALSE),"") | AB276: =IF(AND(Z276="",AA276=""),"",IF(OR(Z276=0,AA276=0),0,IF(OR(M276>Z276,M276>AA276),1,0))) | AC276: =IF(B276=B275,(IF(AND(C276=C275,D276=D275,I276=I275,L276=L275),0,1)),0) -> 0 | AD276: =IF(C276=$B$381,IF(H276=$F$384,$B$402,$B$401),IF(AND(H276=$F$385,G276=$E$382),$B$400,IF(AND(H276=$F$385,G276=$E$383),$B$399,""))) | AE276: =IF(AND(C276=$B$382,H276=$F$384), IF(G276=$E$381,$B$398,IF(G276=$E$382,$B$397,IF(G276=$E$383,$B$396,IF(G276=$E$384,$B$395,"")))),"") | AF276: =IF(AD276<>"",AD276,AE276) | AG276: =IF(G276=$E$381,1,0) -> 0 | AH276: =IF(G276=$E$382,1,0) -> 0 | AI276: =IF(G276=$E$383,1,0) -> 0 | AJ276: =IF(G276=$E$384,1,0) -> 0 | AK276: =IF(G276=$E$385,1,0) -> 0 | AL276: =IF(C276=$B$381,1,0) -> 0 | AM276: =IF(C276=$B$382,1,0) -> 0 | AN276: =IF(H276=$F$384,1,0) -> 0 | AO276: =IF(H276=$F$385,1,0) -> 0 | AP276: =IF(F276=$D$382,1,0) -> 0 | AQ276: =IF(F276=$D$381,1,0) -> 0 | AR276: =IF(F276=$D$383,1,0) -> 0 | AS276: =IF(AND(G276=$E$385,P276<0),L276,0) -> 0 | AT276: =IF(AND(P276<>"",G276=$E$385),L276,0) -> 0 | AU276: =IF(AND(D276=$C$382,F276=$D$381,C276=$B$381,P276<0,P276<>""),L276,"") | AV276: =IF(AND(D276=$C$382,C276=$B$381,F276=$D$381,P276<>""),L276,"") | AW276: =IF(AND(S276=1,C276=$B$382,O276<>""),(O276-M276)*1.341*J276*L276*N276*10^-3,"") | AX276: =IF(AND(AW276<>"",AW276<0),B276,"") | AY276: =IF(AND(AW276<>"",AW276>0),B276,IF(AX276<>"","Using","")) | AZ276: =IF(AND(S276=1,AW276<>0, AW276<>""),MATCH(AY276,$AX$14:$AX$315,0),0) -> 0 | BA276: =IF(ISERROR(AZ276),0,IF(AZ276>1,1,"")) | BB276: =IF(AND(F276=$D$383,OR(G276<>$E$385,C276<>$B$382)),$B$388,IF(AND(C276=$B$381,OR(G276=$E$384,G276=$E$385)),$B$392,IF(AB276=1,$B$389,IF(BA276=1,$B$393,"")))) | BC276: =IF(AND(D276=$C$382,N276<>"",N276<1),$B$387,IF(F666=0,$B$391,IF(AC276=1,$B$390,IF(OR(T276=1,U276=1),$B$394,"")))) | BD276: =IF(BB276<>"",BB276,BC276)
P277: =IF(S277=1,(O277-M277)*1.341*J277*L277*N277*10^-3,"") | S277: =IF(NOT(OR(ISBLANK($C$11), ISBLANK(B277),ISBLANK(C277),ISBLANK(D277),ISBLANK(F277),ISBLANK(G277),ISBLANK(H277),ISBLANK(I277),ISBLANK(J277),ISBLANK(N277),ISBLANK(L277), ISBLANK(M277))),1,0) -> 0 | T277: =IF(ISBLANK(G277),0,IF(AND($C$11>2014,D277=$C$382,G277<>$E$385),1,IF(AND(G277<>$E$384,D277=$C$382,$C$11<2015,OR(AND(H277=$F$384,$C$11>2011),AND(H277=$F$385,$C$11>2010))),1,0))) -> 0 | U277: =IF(AND(G277<>$E$383,D277=$C$382,C277=$B$381,$C$11>2005,OR(AND(H277=$F$384,$C$11<2012),AND(H277=$F$385,$C$11<2011))),1,IF(AND(G277=$E$383,D277=$C$382,C277<>$B$381,$C$11>2005,OR(AND(H277=$F$384,$C$11<2012),AND(H277=$F$385,$C$11<2011))),1,0)) -> 0 | V277: =G277&F277&H277 | W277: =IF(AND(C277=$B$382,D277=$C$381,G277=$E$383,F277=$D$382,$C$11<2013,H277=$F$384),0.2,IF(AND(C277=$B$382,F277=$D$382,G277=$E$383,H277=$F$385,$C$11<2013),0.24,"")) | X277: =IF(AND(S277<>0,C277=$B$382,W277=""),IF(VLOOKUP(V277,$S$319:$AA$360,5,FALSE)<>0,VLOOKUP(V277,$S$319:$AA$360,5,FALSE),""),"") | Y277: =IF(AND(S277<>0,C277=$B$381,W277=""),IF(VLOOKUP(V277,$S$319:$AA$360,7,FALSE)<>0,VLOOKUP(V277,$S$319:$AA$360,7,FALSE),""),"") | Z277: =IF(AND(S277<>0,C277=$B$382),VLOOKUP(V277,$S$319:$AA$360,6,FALSE),"") | AA277: =IF(AND(S277<>0,C277=$B$381),VLOOKUP(V277,$S$319:$AA$360,8,FALSE),"") | AB277: =IF(AND(Z277="",AA277=""),"",IF(OR(Z277=0,AA277=0),0,IF(OR(M277>Z277,M277>AA277),1,0))) | AC277: =IF(B277=B276,(IF(AND(C277=C276,D277=D276,I277=I276,L277=L276),0,1)),0) -> 0 | AD277: =IF(C277=$B$381,IF(H277=$F$384,$B$402,$B$401),IF(AND(H277=$F$385,G277=$E$382),$B$400,IF(AND(H277=$F$385,G277=$E$383),$B$399,""))) | AE277: =IF(AND(C277=$B$382,H277=$F$384), IF(G277=$E$381,$B$398,IF(G277=$E$382,$B$397,IF(G277=$E$383,$B$396,IF(G277=$E$384,$B$395,"")))),"") | AF277: =IF(AD277<>"",AD277,AE277) | AG277: =IF(G277=$E$381,1,0) -> 0 | AH277: =IF(G277=$E$382,1,0) -> 0 | AI277: =IF(G277=$E$383,1,0) -> 0 | AJ277: =IF(G277=$E$384,1,0) -> 0 | AK277: =IF(G277=$E$385,1,0) -> 0 | AL277: =IF(C277=$B$381,1,0) -> 0 | AM277: =IF(C277=$B$382,1,0) -> 0 | AN277: =IF(H277=$F$384,1,0) -> 0 | AO277: =IF(H277=$F$385,1,0) -> 0 | AP277: =IF(F277=$D$382,1,0) -> 0 | AQ277: =IF(F277=$D$381,1,0) -> 0 | AR277: =IF(F277=$D$383,1,0) -> 0 | AS277: =IF(AND(G277=$E$385,P277<0),L277,0) -> 0 | AT277: =IF(AND(P277<>"",G277=$E$385),L277,0) -> 0 | AU277: =IF(AND(D277=$C$382,F277=$D$381,C277=$B$381,P277<0,P277<>""),L277,"") | AV277: =IF(AND(D277=$C$382,C277=$B$381,F277=$D$381,P277<>""),L277,"") | AW277: =IF(AND(S277=1,C277=$B$382,O277<>""),(O277-M277)*1.341*J277*L277*N277*10^-3,"") | AX277: =IF(AND(AW277<>"",AW277<0),B277,"") | AY277: =IF(AND(AW277<>"",AW277>0),B277,IF(AX277<>"","Using","")) | AZ277: =IF(AND(S277=1,AW277<>0, AW277<>""),MATCH(AY277,$AX$14:$AX$315,0),0) -> 0 | BA277: =IF(ISERROR(AZ277),0,IF(AZ277>1,1,"")) | BB277: =IF(AND(F277=$D$383,OR(G277<>$E$385,C277<>$B$382)),$B$388,IF(AND(C277=$B$381,OR(G277=$E$384,G277=$E$385)),$B$392,IF(AB277=1,$B$389,IF(BA277=1,$B$393,"")))) | BC277: =IF(AND(D277=$C$382,N277<>"",N277<1),$B$387,IF(F667=0,$B$391,IF(AC277=1,$B$390,IF(OR(T277=1,U277=1),$B$394,"")))) | BD277: =IF(BB277<>"",BB277,BC277)
P278: =IF(S278=1,(O278-M278)*1.341*J278*L278*N278*10^-3,"") | S278: =IF(NOT(OR(ISBLANK($C$11), ISBLANK(B278),ISBLANK(C278),ISBLANK(D278),ISBLANK(F278),ISBLANK(G278),ISBLANK(H278),ISBLANK(I278),ISBLANK(J278),ISBLANK(N278),ISBLANK(L278), ISBLANK(M278))),1,0) -> 0 | T278: =IF(ISBLANK(G278),0,IF(AND($C$11>2014,D278=$C$382,G278<>$E$385),1,IF(AND(G278<>$E$384,D278=$C$382,$C$11<2015,OR(AND(H278=$F$384,$C$11>2011),AND(H278=$F$385,$C$11>2010))),1,0))) -> 0 | U278: =IF(AND(G278<>$E$383,D278=$C$382,C278=$B$381,$C$11>2005,OR(AND(H278=$F$384,$C$11<2012),AND(H278=$F$385,$C$11<2011))),1,IF(AND(G278=$E$383,D278=$C$382,C278<>$B$381,$C$11>2005,OR(AND(H278=$F$384,$C$11<2012),AND(H278=$F$385,$C$11<2011))),1,0)) -> 0 | V278: =G278&F278&H278 | W278: =IF(AND(C278=$B$382,D278=$C$381,G278=$E$383,F278=$D$382,$C$11<2013,H278=$F$384),0.2,IF(AND(C278=$B$382,F278=$D$382,G278=$E$383,H278=$F$385,$C$11<2013),0.24,"")) | X278: =IF(AND(S278<>0,C278=$B$382,W278=""),IF(VLOOKUP(V278,$S$319:$AA$360,5,FALSE)<>0,VLOOKUP(V278,$S$319:$AA$360,5,FALSE),""),"") | Y278: =IF(AND(S278<>0,C278=$B$381,W278=""),IF(VLOOKUP(V278,$S$319:$AA$360,7,FALSE)<>0,VLOOKUP(V278,$S$319:$AA$360,7,FALSE),""),"") | Z278: =IF(AND(S278<>0,C278=$B$382),VLOOKUP(V278,$S$319:$AA$360,6,FALSE),"") | AA278: =IF(AND(S278<>0,C278=$B$381),VLOOKUP(V278,$S$319:$AA$360,8,FALSE),"") | AB278: =IF(AND(Z278="",AA278=""),"",IF(OR(Z278=0,AA278=0),0,IF(OR(M278>Z278,M278>AA278),1,0))) | AC278: =IF(B278=B277,(IF(AND(C278=C277,D278=D277,I278=I277,L278=L277),0,1)),0) -> 0 | AD278: =IF(C278=$B$381,IF(H278=$F$384,$B$402,$B$401),IF(AND(H278=$F$385,G278=$E$382),$B$400,IF(AND(H278=$F$385,G278=$E$383),$B$399,""))) | AE278: =IF(AND(C278=$B$382,H278=$F$384), IF(G278=$E$381,$B$398,IF(G278=$E$382,$B$397,IF(G278=$E$383,$B$396,IF(G278=$E$384,$B$395,"")))),"") | AF278: =IF(AD278<>"",AD278,AE278) | AG278: =IF(G278=$E$381,1,0) -> 0 | AH278: =IF(G278=$E$382,1,0) -> 0 | AI278: =IF(G278=$E$383,1,0) -> 0 | AJ278: =IF(G278=$E$384,1,0) -> 0 | AK278: =IF(G278=$E$385,1,0) -> 0 | AL278: =IF(C278=$B$381,1,0) -> 0 | AM278: =IF(C278=$B$382,1,0) -> 0 | AN278: =IF(H278=$F$384,1,0) -> 0 | AO278: =IF(H278=$F$385,1,0) -> 0 | AP278: =IF(F278=$D$382,1,0) -> 0 | AQ278: =IF(F278=$D$381,1,0) -> 0 | AR278: =IF(F278=$D$383,1,0) -> 0 | AS278: =IF(AND(G278=$E$385,P278<0),L278,0) -> 0 | AT278: =IF(AND(P278<>"",G278=$E$385),L278,0) -> 0 | AU278: =IF(AND(D278=$C$382,F278=$D$381,C278=$B$381,P278<0,P278<>""),L278,"") | AV278: =IF(AND(D278=$C$382,C278=$B$381,F278=$D$381,P278<>""),L278,"") | AW278: =IF(AND(S278=1,C278=$B$382,O278<>""),(O278-M278)*1.341*J278*L278*N278*10^-3,"") | AX278: =IF(AND(AW278<>"",AW278<0),B278,"") | AY278: =IF(AND(AW278<>"",AW278>0),B278,IF(AX278<>"","Using","")) | AZ278: =IF(AND(S278=1,AW278<>0, AW278<>""),MATCH(AY278,$AX$14:$AX$315,0),0) -> 0 | BA278: =IF(ISERROR(AZ278),0,IF(AZ278>1,1,"")) | BB278: =IF(AND(F278=$D$383,OR(G278<>$E$385,C278<>$B$382)),$B$388,IF(AND(C278=$B$381,OR(G278=$E$384,G278=$E$385)),$B$392,IF(AB278=1,$B$389,IF(BA278=1,$B$393,"")))) | BC278: =IF(AND(D278=$C$382,N278<>"",N278<1),$B$387,IF(F668=0,$B$391,IF(AC278=1,$B$390,IF(OR(T278=1,U278=1),$B$394,"")))) | BD278: =IF(BB278<>"",BB278,BC278)
P279: =IF(S279=1,(O279-M279)*1.341*J279*L279*N279*10^-3,"") | S279: =IF(NOT(OR(ISBLANK($C$11), ISBLANK(B279),ISBLANK(C279),ISBLANK(D279),ISBLANK(F279),ISBLANK(G279),ISBLANK(H279),ISBLANK(I279),ISBLANK(J279),ISBLANK(N279),ISBLANK(L279), ISBLANK(M279))),1,0) -> 0 | T279: =IF(ISBLANK(G279),0,IF(AND($C$11>2014,D279=$C$382,G279<>$E$385),1,IF(AND(G279<>$E$384,D279=$C$382,$C$11<2015,OR(AND(H279=$F$384,$C$11>2011),AND(H279=$F$385,$C$11>2010))),1,0))) -> 0 | U279: =IF(AND(G279<>$E$383,D279=$C$382,C279=$B$381,$C$11>2005,OR(AND(H279=$F$384,$C$11<2012),AND(H279=$F$385,$C$11<2011))),1,IF(AND(G279=$E$383,D279=$C$382,C279<>$B$381,$C$11>2005,OR(AND(H279=$F$384,$C$11<2012),AND(H279=$F$385,$C$11<2011))),1,0)) -> 0 | V279: =G279&F279&H279 | W279: =IF(AND(C279=$B$382,D279=$C$381,G279=$E$383,F279=$D$382,$C$11<2013,H279=$F$384),0.2,IF(AND(C279=$B$382,F279=$D$382,G279=$E$383,H279=$F$385,$C$11<2013),0.24,"")) | X279: =IF(AND(S279<>0,C279=$B$382,W279=""),IF(VLOOKUP(V279,$S$319:$AA$360,5,FALSE)<>0,VLOOKUP(V279,$S$319:$AA$360,5,FALSE),""),"") | Y279: =IF(AND(S279<>0,C279=$B$381,W279=""),IF(VLOOKUP(V279,$S$319:$AA$360,7,FALSE)<>0,VLOOKUP(V279,$S$319:$AA$360,7,FALSE),""),"") | Z279: =IF(AND(S279<>0,C279=$B$382),VLOOKUP(V279,$S$319:$AA$360,6,FALSE),"") | AA279: =IF(AND(S279<>0,C279=$B$381),VLOOKUP(V279,$S$319:$AA$360,8,FALSE),"") | AB279: =IF(AND(Z279="",AA279=""),"",IF(OR(Z279=0,AA279=0),0,IF(OR(M279>Z279,M279>AA279),1,0))) | AC279: =IF(B279=B278,(IF(AND(C279=C278,D279=D278,I279=I278,L279=L278),0,1)),0) -> 0 | AD279: =IF(C279=$B$381,IF(H279=$F$384,$B$402,$B$401),IF(AND(H279=$F$385,G279=$E$382),$B$400,IF(AND(H279=$F$385,G279=$E$383),$B$399,""))) | AE279: =IF(AND(C279=$B$382,H279=$F$384), IF(G279=$E$381,$B$398,IF(G279=$E$382,$B$397,IF(G279=$E$383,$B$396,IF(G279=$E$384,$B$395,"")))),"") | AF279: =IF(AD279<>"",AD279,AE279) | AG279: =IF(G279=$E$381,1,0) -> 0 | AH279: =IF(G279=$E$382,1,0) -> 0 | AI279: =IF(G279=$E$383,1,0) -> 0 | AJ279: =IF(G279=$E$384,1,0) -> 0 | AK279: =IF(G279=$E$385,1,0) -> 0 | AL279: =IF(C279=$B$381,1,0) -> 0 | AM279: =IF(C279=$B$382,1,0) -> 0 | AN279: =IF(H279=$F$384,1,0) -> 0 | AO279: =IF(H279=$F$385,1,0) -> 0 | AP279: =IF(F279=$D$382,1,0) -> 0 | AQ279: =IF(F279=$D$381,1,0) -> 0 | AR279: =IF(F279=$D$383,1,0) -> 0 | AS279: =IF(AND(G279=$E$385,P279<0),L279,0) -> 0 | AT279: =IF(AND(P279<>"",G279=$E$385),L279,0) -> 0 | AU279: =IF(AND(D279=$C$382,F279=$D$381,C279=$B$381,P279<0,P279<>""),L279,"") | AV279: =IF(AND(D279=$C$382,C279=$B$381,F279=$D$381,P279<>""),L279,"") | AW279: =IF(AND(S279=1,C279=$B$382,O279<>""),(O279-M279)*1.341*J279*L279*N279*10^-3,"") | AX279: =IF(AND(AW279<>"",AW279<0),B279,"") | AY279: =IF(AND(AW279<>"",AW279>0),B279,IF(AX279<>"","Using","")) | AZ279: =IF(AND(S279=1,AW279<>0, AW279<>""),MATCH(AY279,$AX$14:$AX$315,0),0) -> 0 | BA279: =IF(ISERROR(AZ279),0,IF(AZ279>1,1,"")) | BB279: =IF(AND(F279=$D$383,OR(G279<>$E$385,C279<>$B$382)),$B$388,IF(AND(C279=$B$381,OR(G279=$E$384,G279=$E$385)),$B$392,IF(AB279=1,$B$389,IF(BA279=1,$B$393,"")))) | BC279: =IF(AND(D279=$C$382,N279<>"",N279<1),$B$387,IF(F669=0,$B$391,IF(AC279=1,$B$390,IF(OR(T279=1,U279=1),$B$394,"")))) | BD279: =IF(BB279<>"",BB279,BC279)
P280: =IF(S280=1,(O280-M280)*1.341*J280*L280*N280*10^-3,"") | S280: =IF(NOT(OR(ISBLANK($C$11), ISBLANK(B280),ISBLANK(C280),ISBLANK(D280),ISBLANK(F280),ISBLANK(G280),ISBLANK(H280),ISBLANK(I280),ISBLANK(J280),ISBLANK(N280),ISBLANK(L280), ISBLANK(M280))),1,0) -> 0 | T280: =IF(ISBLANK(G280),0,IF(AND($C$11>2014,D280=$C$382,G280<>$E$385),1,IF(AND(G280<>$E$384,D280=$C$382,$C$11<2015,OR(AND(H280=$F$384,$C$11>2011),AND(H280=$F$385,$C$11>2010))),1,0))) -> 0 | U280: =IF(AND(G280<>$E$383,D280=$C$382,C280=$B$381,$C$11>2005,OR(AND(H280=$F$384,$C$11<2012),AND(H280=$F$385,$C$11<2011))),1,IF(AND(G280=$E$383,D280=$C$382,C280<>$B$381,$C$11>2005,OR(AND(H280=$F$384,$C$11<2012),AND(H280=$F$385,$C$11<2011))),1,0)) -> 0 | V280: =G280&F280&H280 | W280: =IF(AND(C280=$B$382,D280=$C$381,G280=$E$383,F280=$D$382,$C$11<2013,H280=$F$384),0.2,IF(AND(C280=$B$382,F280=$D$382,G280=$E$383,H280=$F$385,$C$11<2013),0.24,"")) | X280: =IF(AND(S280<>0,C280=$B$382,W280=""),IF(VLOOKUP(V280,$S$319:$AA$360,5,FALSE)<>0,VLOOKUP(V280,$S$319:$AA$360,5,FALSE),""),"") | Y280: =IF(AND(S280<>0,C280=$B$381,W280=""),IF(VLOOKUP(V280,$S$319:$AA$360,7,FALSE)<>0,VLOOKUP(V280,$S$319:$AA$360,7,FALSE),""),"") | Z280: =IF(AND(S280<>0,C280=$B$382),VLOOKUP(V280,$S$319:$AA$360,6,FALSE),"") | AA280: =IF(AND(S280<>0,C280=$B$381),VLOOKUP(V280,$S$319:$AA$360,8,FALSE),"") | AB280: =IF(AND(Z280="",AA280=""),"",IF(OR(Z280=0,AA280=0),0,IF(OR(M280>Z280,M280>AA280),1,0))) | AC280: =IF(B280=B279,(IF(AND(C280=C279,D280=D279,I280=I279,L280=L279),0,1)),0) -> 0 | AD280: =IF(C280=$B$381,IF(H280=$F$384,$B$402,$B$401),IF(AND(H280=$F$385,G280=$E$382),$B$400,IF(AND(H280=$F$385,G280=$E$383),$B$399,""))) | AE280: =IF(AND(C280=$B$382,H280=$F$384), IF(G280=$E$381,$B$398,IF(G280=$E$382,$B$397,IF(G280=$E$383,$B$396,IF(G280=$E$384,$B$395,"")))),"") | AF280: =IF(AD280<>"",AD280,AE280) | AG280: =IF(G280=$E$381,1,0) -> 0 | AH280: =IF(G280=$E$382,1,0) -> 0 | AI280: =IF(G280=$E$383,1,0) -> 0 | AJ280: =IF(G280=$E$384,1,0) -> 0 | AK280: =IF(G280=$E$385,1,0) -> 0 | AL280: =IF(C280=$B$381,1,0) -> 0 | AM280: =IF(C280=$B$382,1,0) -> 0 | AN280: =IF(H280=$F$384,1,0) -> 0 | AO280: =IF(H280=$F$385,1,0) -> 0 | AP280: =IF(F280=$D$382,1,0) -> 0 | AQ280: =IF(F280=$D$381,1,0) -> 0 | AR280: =IF(F280=$D$383,1,0) -> 0 | AS280: =IF(AND(G280=$E$385,P280<0),L280,0) -> 0 | AT280: =IF(AND(P280<>"",G280=$E$385),L280,0) -> 0 | AU280: =IF(AND(D280=$C$382,F280=$D$381,C280=$B$381,P280<0,P280<>""),L280,"") | AV280: =IF(AND(D280=$C$382,C280=$B$381,F280=$D$381,P280<>""),L280,"") | AW280: =IF(AND(S280=1,C280=$B$382,O280<>""),(O280-M280)*1.341*J280*L280*N280*10^-3,"") | AX280: =IF(AND(AW280<>"",AW280<0),B280,"") | AY280: =IF(AND(AW280<>"",AW280>0),B280,IF(AX280<>"","Using","")) | AZ280: =IF(AND(S280=1,AW280<>0, AW280<>""),MATCH(AY280,$AX$14:$AX$315,0),0) -> 0 | BA280: =IF(ISERROR(AZ280),0,IF(AZ280>1,1,"")) | BB280: =IF(AND(F280=$D$383,OR(G280<>$E$385,C280<>$B$382)),$B$388,IF(AND(C280=$B$381,OR(G280=$E$384,G280=$E$385)),$B$392,IF(AB280=1,$B$389,IF(BA280=1,$B$393,"")))) | BC280: =IF(AND(D280=$C$382,N280<>"",N280<1),$B$387,IF(F670=0,$B$391,IF(AC280=1,$B$390,IF(OR(T280=1,U280=1),$B$394,"")))) | BD280: =IF(BB280<>"",BB280,BC280)
P281: =IF(S281=1,(O281-M281)*1.341*J281*L281*N281*10^-3,"") | S281: =IF(NOT(OR(ISBLANK($C$11), ISBLANK(B281),ISBLANK(C281),ISBLANK(D281),ISBLANK(F281),ISBLANK(G281),ISBLANK(H281),ISBLANK(I281),ISBLANK(J281),ISBLANK(N281),ISBLANK(L281), ISBLANK(M281))),1,0) -> 0 | T281: =IF(ISBLANK(G281),0,IF(AND($C$11>2014,D281=$C$382,G281<>$E$385),1,IF(AND(G281<>$E$384,D281=$C$382,$C$11<2015,OR(AND(H281=$F$384,$C$11>2011),AND(H281=$F$385,$C$11>2010))),1,0))) -> 0 | U281: =IF(AND(G281<>$E$383,D281=$C$382,C281=$B$381,$C$11>2005,OR(AND(H281=$F$384,$C$11<2012),AND(H281=$F$385,$C$11<2011))),1,IF(AND(G281=$E$383,D281=$C$382,C281<>$B$381,$C$11>2005,OR(AND(H281=$F$384,$C$11<2012),AND(H281=$F$385,$C$11<2011))),1,0)) -> 0 | V281: =G281&F281&H281 | W281: =IF(AND(C281=$B$382,D281=$C$381,G281=$E$383,F281=$D$382,$C$11<2013,H281=$F$384),0.2,IF(AND(C281=$B$382,F281=$D$382,G281=$E$383,H281=$F$385,$C$11<2013),0.24,"")) | X281: =IF(AND(S281<>0,C281=$B$382,W281=""),IF(VLOOKUP(V281,$S$319:$AA$360,5,FALSE)<>0,VLOOKUP(V281,$S$319:$AA$360,5,FALSE),""),"") | Y281: =IF(AND(S281<>0,C281=$B$381,W281=""),IF(VLOOKUP(V281,$S$319:$AA$360,7,FALSE)<>0,VLOOKUP(V281,$S$319:$AA$360,7,FALSE),""),"") | Z281: =IF(AND(S281<>0,C281=$B$382),VLOOKUP(V281,$S$319:$AA$360,6,FALSE),"") | AA281: =IF(AND(S281<>0,C281=$B$381),VLOOKUP(V281,$S$319:$AA$360,8,FALSE),"") | AB281: =IF(AND(Z281="",AA281=""),"",IF(OR(Z281=0,AA281=0),0,IF(OR(M281>Z281,M281>AA281),1,0))) | AC281: =IF(B281=B280,(IF(AND(C281=C280,D281=D280,I281=I280,L281=L280),0,1)),0) -> 0 | AD281: =IF(C281=$B$381,IF(H281=$F$384,$B$402,$B$401),IF(AND(H281=$F$385,G281=$E$382),$B$400,IF(AND(H281=$F$385,G281=$E$383),$B$399,""))) | AE281: =IF(AND(C281=$B$382,H281=$F$384), IF(G281=$E$381,$B$398,IF(G281=$E$382,$B$397,IF(G281=$E$383,$B$396,IF(G281=$E$384,$B$395,"")))),"") | AF281: =IF(AD281<>"",AD281,AE281) | AG281: =IF(G281=$E$381,1,0) -> 0 | AH281: =IF(G281=$E$382,1,0) -> 0 | AI281: =IF(G281=$E$383,1,0) -> 0 | AJ281: =IF(G281=$E$384,1,0) -> 0 | AK281: =IF(G281=$E$385,1,0) -> 0 | AL281: =IF(C281=$B$381,1,0) -> 0 | AM281: =IF(C281=$B$382,1,0) -> 0 | AN281: =IF(H281=$F$384,1,0) -> 0 | AO281: =IF(H281=$F$385,1,0) -> 0 | AP281: =IF(F281=$D$382,1,0) -> 0 | AQ281: =IF(F281=$D$381,1,0) -> 0 | AR281: =IF(F281=$D$383,1,0) -> 0 | AS281: =IF(AND(G281=$E$385,P281<0),L281,0) -> 0 | AT281: =IF(AND(P281<>"",G281=$E$385),L281,0) -> 0 | AU281: =IF(AND(D281=$C$382,F281=$D$381,C281=$B$381,P281<0,P281<>""),L281,"") | AV281: =IF(AND(D281=$C$382,C281=$B$381,F281=$D$381,P281<>""),L281,"") | AW281: =IF(AND(S281=1,C281=$B$382,O281<>""),(O281-M281)*1.341*J281*L281*N281*10^-3,"") | AX281: =IF(AND(AW281<>"",AW281<0),B281,"") | AY281: =IF(AND(AW281<>"",AW281>0),B281,IF(AX281<>"","Using","")) | AZ281: =IF(AND(S281=1,AW281<>0, AW281<>""),MATCH(AY281,$AX$14:$AX$315,0),0) -> 0 | BA281: =IF(ISERROR(AZ281),0,IF(AZ281>1,1,"")) | BB281: =IF(AND(F281=$D$383,OR(G281<>$E$385,C281<>$B$382)),$B$388,IF(AND(C281=$B$381,OR(G281=$E$384,G281=$E$385)),$B$392,IF(AB281=1,$B$389,IF(BA281=1,$B$393,"")))) | BC281: =IF(AND(D281=$C$382,N281<>"",N281<1),$B$387,IF(F671=0,$B$391,IF(AC281=1,$B$390,IF(OR(T281=1,U281=1),$B$394,"")))) | BD281: =IF(BB281<>"",BB281,BC281)
