Workbook
Name DisbenefitList: #REF!

Sheet GHG Inventory
J1: Sectors Covered | Q1: Gases Covered
A2: PCAP Title | B2: PCAP Link | C2: Technical Document Title | D2: Technical Document Link | E2: Lead Organization | F2: State | G2: GHG Inventory Tool(s) Used | H2: Most Recent Inventory Year | I2: GWP Used | J2: Electricity | K2: Commercial and Residential Buildings | L2: Industry | M2: Transportation | N2: Waste and materials management | O2: Agriculture | P2: Natural and Working Lands | Q2: CO2 | R2: CH4 | S2: N2O | T2: SF6 | U2: NF3 | V2: PFCs | W2: HFCs
A3: Louisiana Climate Action Plan | B3: https://doa.louisiana.gov/media/y2xdrb22/louisiana-priority-climate-action-plan.pdf | E3: Louisiana Division of Administration | F3: Louisiana | G3: EPA SIT | H3: 2021 | I3: Unspecified | J3: X | K3: X | L3: X | M3: X | N3: X | O3: X | P3: X | Q3: X | R3: X | S3: X | T3: X | U3: X | V3: X | W3: X
A4: Tennessee Volunteer Emissions Reduction Strategy | B4: https://www.epa.gov/system/files/documents/2024-02/tn-pcap.pdf | E4: Tennessee Department of Environment and Conservation | F4: Tennessee | G4: EPA SIT | H4: 2019 | I4: AR5 | J4: X | K4: X | L4: X | M4: X | N4: X | O4: X | P4: X | Q4: X | R4: X | S4: X | T4: X | U4: X | V4: X | W4: X
A5: Missouri Plan for Environmental Improvement Grants | B5: https://www.epa.gov/system/files/documents/2024-02/missouri-plan-for-environmental-improvement-grants.pdf | E5: Missouri Department of Natural Resources | F5: Missouri | G5: EPA GHG Inventory | H5: 2021 | I5: Unspecified | J5: X | K5: X | L5: X | M5: X | O5: X | Q5: X | R5: X | S5: X | T5: X | U5: X | V5: X | W5: X
A6: Climate Pollution Reduction Grant Priority Climate Action Plan | B6: https://www.epa.gov/system/files/documents/2024-02/vermont-cprg-priority-climate-action-plan.pdf | C6: Vermont Greenhouse Gas Emissions Inventory and Forecast Methodologies | D6: https://outside.vermont.gov/agency/anr/climatecouncil/Shared%20Documents/_Methodology_Vermont_Greenhouse_Gas_Emissions_Inventory_1990-2020_Final.pdf | E6: Vermont Agency of Natural Resources, Department of Environmental Conservation | F6: Vermont | G6: EPA SIT; EPA GHG Inventory | H6: 2020 | I6: AR4 | J6: X | K6: X | L6: X | M6: X | N6: X | O6: X | P6: X | Q6: X | R6: X | S6: X | T6: X | U6: X | V6: X | W6: X
A7: Oregon's Priority Climate Action Plan | B7: https://www.epa.gov/system/files/documents/2024-02/oregon-cprg-pcap.pdf | E7: Oregon Department of Environmental Quality | F7: Oregon | G7: EPA SIT | H7: 2021 | I7: AR5 with feedbacks | J7: X | K7: X | L7: X | M7: X | O7: X | Q7: X | R7: X | S7: X | W7: X
A8: Kansas Emission Reduction and Mitigation Plan | B8: https://www.epa.gov/system/files/documents/2024-02/kansas-pcap.pdf | E8: Kansas Department of Health and Environment | F8: Kansas | G8: EPA GHG Inventory | H8: 2021 | I8: AR5 | J8: X | K8: X | L8: X | M8: X | N8: X | O8: X | P8: X | Q8: X | R8: X | S8: X | T8: X | U8: X | V8: X | W8: X
A9: Priority Climate Action Plan (PCAP) | B9: https://www.epa.gov/system/files/documents/2024-02/washington-cprg-pcap.pdf | C9: Washington State Greenhouse Gas Emissions Inventory: 1990–2019 | D9: https://apps.ecology.wa.gov/publications/documents/2202054.pdf | E9: Washington State Department of Commerce | F9: Washington | G9: EPA SIT | H9: 2019 | I9: AR4 | J9: X | K9: X | L9: X | M9: X | N9: X | O9: X | P9: X | Q9: X | R9: X | S9: X | T9: X | U9: X | V9: X | W9: X
A10: State of Alaska Priority Sustainable Energy Action Plan | B10: https://www.epa.gov/system/files/documents/2024-03/ak-priority-sustainable-energy-plan.pdf | E10: Alaska Department of Environmental Management | F10: Alaska | G10: EPA FLIGHT; EPA MOVES | H10: 2022 | I10: AR4 | J10: X | K10: X | L10: X | M10: X | N10: X | Q10: X | R10: X | S10: X
A11: Massachusetts Priority Climate Action Plan | B11: https://www.epa.gov/system/files/documents/2024-03/massachusetts-pcap.pdf | E11: Massachusetts Department of Transportation | F11: Massachusetts | G11: Custom-built tool | H11: 2020 | I11: AR4 | J11: X | K11: X | L11: X | M11: X | N11: X | O11: X | P11: X | Q11: X | R11: X | S11: X | T11: X | U11: X | V11: X | W11: X
A12: EPA Climate Pollution Reduction Grant Planning Grant First Deliverable: A Priority Climate Action Plan | B12: https://www.epa.gov/system/files/documents/2024-03/connecticut-state-pcap.pdf | E12: Department of Energy and Environmental Protection State of Connecticut | F12: Connecticut | G12: EPA GHG Inventory; EPA SIT; EPA MOVES | H12: 2021 | I12: Unspecified | J12: X | K12: X | L12: X | M12: X | N12: X | O12: X | Q12: X | R12: X | S12: X | T12: X | U12: X | V12: X | W12: X
A13: Michigan Department of Environment, Great Lakes, and Energy | B13: https://www.epa.gov/system/files/documents/2024-03/michigan-egle-pcap.pdf | E13: Michigan Department of Environment, Great Lakes, and Energy | F13: Michigan | G13: EPA SIT | H13: 2019 | I13: AR5 | J13: X | K13: X | L13: X | M13: X | Q13: X | R13: X | S13: X | T13: X | U13: X | V13: X | W13: X
A14: Priority Climate Action Plan | B14: https://www.epa.gov/system/files/documents/2024-03/new-mexico-priority-climate-action-plan.pdf | C14: Appendix K.1 Inventory and Quantification Methodology | D14: https://www.env.nm.gov/wp-content/uploads/sites/39/2024/03/NM-PCAP-Appendix-K.1-Inventory-and-Quantification-Methodology.pdf | E14: New Mexico Environment Department and the Energy, Minerals and Natural Resources Department | F14: New Mexico | G14: EPA GHG Inventory; EPA SIT; EPA GHGRP | H14: 2021 | I14: Unspecified | J14: X | K14: X | L14: X | M14: X | N14: X | O14: X | P14: X | Q14: X | R14: X | S14: X | T14: X | U14: X | V14: X | W14: X
A15: Priority Climate Action Plan | B15: https://www.epa.gov/system/files/documents/2024-03/rhode-island-pcap.pdf | C15: CPRG State of Rhode Island Quality Assurance Project Plan | D15: https://dem.ri.gov/data-maps/data.php#quapps | E15: Rhode Island Department of Environmental Management | F15: Rhode Island | G15: EPA GHG Inventory; EPA SIT; EPA GHGRP; EPA MOVES | H15: 2020 | I15: AR5 | J15: X | K15: X | L15: X | M15: X | N15: X | O15: X | P15: X | Q15: X | R15: X | S15: X | T15: X | U15: X | V15: X | W15: X
A16: New Jersey's Priority Climate Action Plan | B16: https://www.epa.gov/system/files/documents/2024-03/nj-pcap.pdf | E16: New Jersey Department of Environmental Protection | F16: New Jersey | G16: EPA MOVES; EPA SIT | H16: 2021 | I16: AR5 | J16: X | K16: X | L16: X | M16: X | N16: X | O16: X | P16: X | Q16: X | R16: X | S16: X | T16: X | W16: X
A17: State of New Hampshire Priority Climate Action Plan | B17: https://www.epa.gov/system/files/documents/2024-03/state-of-new-hampshire-priority-climate-action-plan.pdf | E17: New Hampshire Department of Environmental Services | F17: New Hampshire | G17: EPA SIT | H17: 2020 | I17: AR5 | J17: X | K17: X | L17: X | M17: X | N17: X | O17: X | Q17: X | R17: X | S17: X | T17: X | U17: X | V17: X | W17: X
A18: Arkansas Energy and Environment Innovation Plan Priority Action Plan | B18: https://www.epa.gov/system/files/documents/2024-03/5d-02f35201-pcap-arkansas-eei-plan.pdf | E18: Arkansas Department of Energy and Environment | F18: Arkansas | G18: EPA GHG Inventory | H18: 2021 | I18: Unspecified | J18: X | K18: X | L18: X | M18: X | N18: X | O18: X | P18: X | Q18: X | R18: X | S18: X | T18: X | U18: X | V18: X | W18: X
A19: Colorado Priority Climate Action Plan | B19: https://www.epa.gov/system/files/documents/2024-03/colorado-pcap.pdf | E19: Colorado Energy Office | F19: Colorado | G19: EPA SIT; EPA GHG Inventory | H19: 2020 | I19: Unspecified | J19: X | K19: X | L19: X | M19: X | N19: X | O19: X | P19: X | Q19: X | R19: X | S19: X | T19: X | V19: X | W19: X
A20: Climate Pollution Reduction Grants Program Priority Climate Action Plan for New York State | B20: https://www.epa.gov/system/files/documents/2024-03/nys-cprg-pcap.pdf | E20: New York State Department of Environmental Conservation | F20: New York | G20: NY Open Data Portal | H20: 2021 | I20: Unspecified | J20: X | K20: X | L20: X | M20: X | N20: X | O20: X | Q20: X | R20: X | S20: X | T20: X | U20: X | V20: X | W20: X
A21: State of Maine Priority Climate Action Plan | B21: https://www.epa.gov/system/files/documents/2024-03/maine-pcap.pdf | E21: Governor’s Office of Policy Innovation and the Future | F21: Maine | G21: EPA GHG Inventory; EPA SIT | H21: 2021 | I21: Unspecified | J21: X | K21: X | L21: X | M21: X | N21: X | O21: X | P21: X | Q21: X | R21: X | S21: X | T21: X | U21: X | V21: X | W21: X
A22: Indiana Priority Climate Action Plan | B22: https://www.epa.gov/system/files/documents/2024-03/indiana-priority-climate-action-plan.pdf | E22: Indiana Department of Environmental Management | F22: Indiana | G22: EPA GHG Inventory | H22: 2021 | I22: AR4 | J22: X | K22: X | L22: X | N22: X | O22: X | P22: X | Q22: X | R22: X | S22: X | T22: X | V22: X | W22: X
A23: Hawai'i Priority Climate Action Plan | B23: Hawai‘i Priority Climate Action Plan (epa.gov) | E23: Hawai'i Department of Land and Natural Resources | F23: Hawaii | G23: Custom-built tool | H23: 2019 | I23: AR4 | J23: X | K23: X | L23: X | M23: X | N23: X | O23: X | P23: X | Q23: X | R23: X | S23: X | T23: X | V23: X | W23: X
A24: Priority Climate Action Plan Climate pollution reduction grants | B24: https://www.epa.gov/system/files/documents/2024-03/state-of-minnesota-mpca-pcap.pdf | E24: Minnesota Pollution Control Agency | F24: Minnesota | G24: EPA GHG Inventory | H24: 2020 | I24: AR4 | J24: X | K24: X | L24: X | M24: X | N24: X | O24: X | P24: X | Q24: X | R24: X | S24: X | T24: X | V24: X | W24: X
A25: State of Illinois Priority Climate Action Plan | B25: https://www.epa.gov/system/files/documents/2024-03/illinois-priority-climate-action-plan.pdf | C25: Illinois Additional Appendices | D25: https://www.epa.gov/system/files/other-files/2024-04/illinois-additional-appendices.zip | E25: Illinois Environmental Protection Agency | F25: Illinois | G25: EPA SIT | H25: 2021 | I25: AR5 | J25: X | K25: X | L25: X | M25: X | N25: X | O25: X | P25: X | Q25: X | R25: X | S25: X | T25: X | U25: X | V25: X | W25: X
A26: North Carolina Priority Climate Action Plan | B26: https://www.epa.gov/system/files/documents/2024-03/final-ncdeq-pcap-report.pdf | E26: North Carolina Department of Environmental Quality | F26: North Carolina | G26: EPA SIT; EPA MOVES | H26: 2020 | I26: AR5 | J26: X | K26: X | L26: X | M26: X | N26: X | O26: X | P26: X | Q26: X | R26: X | S26: X | T26: X | U26: X | V26: X | W26: X
A27: Utah Division of Air Quality | B27: https://www.epa.gov/system/files/documents/2024-03/utah-final-priority-plan.pdf | E27: Utah Department of Environmental Quality | F27: Utah | G27: EPA SIT | H27: 2020 | I27: AR5 | J27: X | K27: X | L27: X | M27: X | N27: X | O27: X | P27: X | Q27: X | R27: X | S27: X | T27: X | U27: X | V27: X | W27: X
A28: Alabama Priority Climate Action Plan | B28: https://www.epa.gov/system/files/documents/2024-03/alabama-pcap.pdf | E28: Alabama Department of Environmental Management | F28: Alabama | G28: EPA GHG Inventory; EPA SIT | H28: 2021 | I28: Unspecified | J28: X | K28: X | L28: X | M28: X | N28: X | O28: X | P28: X | Q28: X | R28: X | S28: X | T28: X | U28: X | V28: X | W28: X
A29: Delaware Climate Pollution Reduction Plan | B29: https://www.epa.gov/system/files/documents/2024-03/dnrec-cprp.pdf | E29: Delaware Department of Natural Resources and Environmental Control | F29: Delaware | G29: EPA SIT; EPA PT | H29: 2020 | I29: AR5 | J29: X | K29: X | L29: X | M29: X | N29: X | O29: X | P29: X | Q29: X | R29: X | S29: X | T29: X | U29: X | V29: X | W29: X
A30: Mississippi Department of Environmental Quality Priority Climate Action Plan | B30: https://www.epa.gov/system/files/documents/2024-03/ms-pcap.pdf | E30: Mississippi Department of Environmental Quality | F30: Mississippi | G30: EPA SIT | H30: 2020 | I30: Unspecified | J30: X | K30: X | L30: X | M30: X | N30: X | O30: X | P30: X | Q30: X | R30: X | S30: X | T30: X | U30: X | V30: X | W30: X
A31: Oklahoma's Priority Action Plan | B31: https://www.epa.gov/system/files/documents/2024-03/oklahoma-cprg-priority-action-plan.pdf | E31: Oklahoma Department of Environmental Quality | F31: Oklahoma | G31: EPA GHG Inventory; EPA SIT | H31: 2019 | I31: Unspecified | J31: X | K31: X | L31: X | M31: X | O31: X | P31: X | Q31: X | R31: X | S31: X | T31: X | U31: X | V31: X | W31: X
A32: West Virginia Priority Energy Action Plan | B32: https://www.epa.gov/system/files/documents/2024-03/wv-priority-energy-action-plan.pdf | E32: West Virginia Office of Energy | F32: West Virginia | G32: EPA GHG Inventory; EPA SIT | H32: 2021 | I32: AR5 | J32: X | K32: X | L32: X | M32: X | P32: X | Q32: X | R32: X | S32: X | T32: X | U32: X | V32: X | W32: X
A33: Priority Climate Action Plan State of Maryland | B33: https://www.epa.gov/system/files/documents/2024-03/mde-state-of-maryland-cprg-priority-climate-action-plan.pdf | E33: Maryland Department of the Environment | F33: Maryland | G33: Unspecified | H33: 2020 | I33: Unspecified | J33: X | K33: X | L33: X | M33: X | N33: X | O33: X | P33: X | Q33: X | R33: X | S33: X | T33: X | V33: X | W33: X
A34: Puerto Rico Priority Climate Action Plan | B34: https://www.epa.gov/system/files/documents/2024-03/puerto-rico-pcap.pdf | E34: Puerto Rico Department of Natural and Environmental Resources | F34: Puerto Rico | G34: Unspecified | H34: 2021 | I34: AR6 | J34: X | L34: X | M34: X | N34: X | O34: X | P34: X | Q34: X | R34: X | S34: X | T34: X | V34: X | W34: X
A35: The Clean Arizona Plan Priority Climate Action Plan State of Arizona | B35: https://www.epa.gov/system/files/documents/2024-03/the-clean-arizona-plan.pdf | E35: The Executive Office of the State of Arizona | F35: Arizona | G35: EPA GHG Inventory; EPA GHGRP; EPA FLIGHT; EPA NEI | H35: 2021 | I35: AR5 | J35: X | K35: X | L35: X | M35: X | N35: X | O35: X | P35: X | Q35: X | R35: X | S35: X | T35: X | U35: X | V35: X | W35: X
A36: Ohio Priority Resilience Plan | B36: https://www.epa.gov/system/files/documents/2024-03/state-of-ohio-prp.pdf | E36: Ohio Environmental Protection Agency | F36: Ohio | G36: EPA GHG Inventory; EPA SIT | H36: 2019 | I36: Multiple | J36: X | K36: X | L36: X | M36: X | N36: X | O36: X | P36: X | Q36: X | R36: X | S36: X | T36: X | U36: X | V36: X | W36: X
A37: Commonwealth of Virginia Priority Climate Action Plan | B37: https://www.epa.gov/system/files/documents/2024-03/commonwealth-of-virginia-priority-climate-action-plan.pdf | E37: Virginia Department of Environmental Quality | F37: Virginia | G37: EPA SIT | H37: 2020 | I37: AR4 | J37: X | K37: X | L37: X | M37: X | N37: X | O37: X | P37: X
A38: District of Columbia Priority Climate Action Plan | B38: https://www.epa.gov/system/files/documents/2024-03/dc-cprg-pcap.pdf | E38: District of Columbia Government Department of Energy and Environment | F38: District of Columbia | G38: ICLEI ClearPath | H38: 2020 | I38: AR5 | K38: X | M38: X | N38: X
A39: Montana Climate Pollution Reduction Priorities | B39: https://www.epa.gov/system/files/documents/2024-03/montana-pollution-reduction-plan.pdf | E39: Montana Department of Environmental Quality | F39: Montana | G39: EPA SIT | H39: 2019 | I39: Unspecified | J39: X | K39: X | L39: X | M39: X | N39: X | O39: X | P39: X | Q39: X | R39: X | S39: X | T39: X | U39: X | V39: X | W39: X
A40: The State of California's Draft Priority Climate Action Plan | B40: https://www.epa.gov/system/files/documents/2024-03/california-cprg-priority-climate-action-plan.pdf | E40: California Air and Resources Board (CARB); California Environmental Protection Agency (CalEPA) | F40: California | G40: Custom-built tool | H40: 2021 | I40: AR4 | J40: X | K40: X | L40: X | M40: X | N40: X | O40: X | P40: X | Q40: X | R40: X | S40: X | T40: X | U40: X | V40: X | W40: X
...

Sheet GHG Reduction Measures
A1: PCAP Title | B1: PCAP Link | C1: Lead Organization | D1: State | E1: Measure Description | F1: Measure Location | G1: Sector (1) | H1: Sector (2) | I1: Sector (3) | J1: Measure Type (1) | K1: Measure Type (2) | L1: Measure Type (3) | M1: Measure Type (4) | N1: Implementing Authority | O1: GWP Included | P1: GHG Emissions Reductions (MTCO2e) (1) | Q1: GHG Emissions Timeframe (1) | R1: GHG Emissions Reductions (MTCO2e) (2) | S1: GHG Emissions Timeframe (2) | T1: GHG Quantification Tools and Methodologies (1) | U1: GHG Quantification Tools and Methodologies (2) | V1: LIDAC Benefits Analysis Included? | W1: LIDAC Measure? | X1: CAP Analysis Included? | Y1: Criteria Air Pollutant Tools | Z1: Quantitative HAP Analysis Included? | AA1: Hazardous Air Pollutant Tools
A2: Alabama Priority Climate Action Plan | B2: https://www.epa.gov/system/files/documents/2024-03/alabama-pcap.pdf | C2: Alabama Department of Environmental Management | D2: Alabama | E2: Electrify Huntsville's utilities fleets by replacing 14 gas-powered fleet vehicles with 14 Electric fleet vehicles, as well as to install the necessary EV chargers, solar panels and battery storage to each EV charger installation. | F2: PCAP pg. 26-31 | G2: Transportation | H2: Electricity | J2: Electrify government and/or publicly owned vehicle fleets | K2: Develop EV charging infrastructure | L2: Develop energy storage systems | M2: Increase deployment of distributed renewables | N2: Huntsville Utilities | O2: Unspecified | P2: 222.5 | Q2: 2025-2035 | R2: 1620 | S2: 2025-2050 | T2: Emission factor analysis | U2: N/A | V2: Quantitative | W2: No | X2: None | Y2: N/A | Z2: None | AA2: N/A
A3: Alabama Priority Climate Action Plan | B3: https://www.epa.gov/system/files/documents/2024-03/alabama-pcap.pdf | C3: Alabama Department of Environmental Management | D3: Alabama | E3: Electrify University of Alabama at Birmingham's bus fleet and begin transitioning fleet vehicles to electric vehicles. | F3: PCAP pg. 35-36 | G3: Transportation | J3: Electrify municipal buses | K3: Electrify government and/or publicly owned vehicle fleets | N3: University of Alabama at Birmingham | O3: Unspecified | P3: 4913 | Q3: 2025-2035 | R3: 12626 | S3: 2025-2050 | T3: Unspecified | U3: N/A | V3: None | W3: No | X3: None | Y3: N/A | Z3: None | AA3: N/A
A4: Alabama Priority Climate Action Plan | B4: https://www.epa.gov/system/files/documents/2024-03/alabama-pcap.pdf | C4: Alabama Department of Environmental Management | D4: Alabama | E4: Implement two separate temperature reduction technologies, Cold Central Plant Recycling and Warm Mix Technology to reduce emissions from asphalt production. | F4: PCAP pg. 23-26 | G4: Industry | J4: Improve chemical and/or process efficiency | N4: Alabama Department of Transportation | O4: Unspecified | P4: 45170 | Q4: 2025-2030 | R4: 303727 | S4: 2025-2050 | T4: Emission factor analysis | U4: N/A | V4: Qualitative | W4: No | X4: Quantitative | Y4: Unspecified | Z4: None | AA4: N/A
A5: Alabama Priority Climate Action Plan | B5: https://www.epa.gov/system/files/documents/2024-03/alabama-pcap.pdf | C5: Alabama Department of Environmental Management | D5: Alabama | E5: Utilize grid scale batteries of up to 10 MW in nameplate capacity at strategic locations on the Utilities’ distribution grid. | F5: PCAP pg. 31-34 | G5: Electricity | J5: Develop microgrids | K5: Develop energy storage systems | N5: Huntsville Utilities | O5: Unspecified | P5: 35350 | Q5: 2025-2035 | R5: 70699 | S5: 2025-2050 | T5: EPA GHG Equivalencies Calculator | U5: N/A | V5: Qualitative | W5: No | X5: None | Y5: N/A | Z5: None | AA5: N/A
A6: Alabama Priority Climate Action Plan | B6: https://www.epa.gov/system/files/documents/2024-03/alabama-pcap.pdf | C6: Alabama Department of Environmental Management | D6: Alabama | E6: Utilize the newly constructed parking deck on UAB's campus for the construction of a 94kW solar array. | F6: PCAP pg. 37-38 | G6: Electricity | J6: Expand utility-scale renewable energy generation | N6: University of Alabama at Birmingham | O6: Unspecified | P6: 1220 | Q6: 2025-2035 | R6: 3050 | S6: 2025-2050 | T6: Unspecified | U6: N/A | V6: None | W6: No | X6: None | Y6: N/A | Z6: None | AA6: N/A
A7: Alabama Priority Climate Action Plan | B7: https://www.epa.gov/system/files/documents/2024-03/alabama-pcap.pdf | C7: Alabama Department of Environmental Management | D7: Alabama | E7: Facilitate the deployment of electric vehicle charging infrastructure at various employers across the state. | F7: PCAP pg. 63-65 | G7: Transportation | J7: Develop EV charging infrastructure | N7: Alabama Department of Economic and Community Affairs; Group of state or local jurisdictions or counties partnered with a statewide non-profit as implementation partner | O7: Unspecified | P7: 68407 | Q7: 2025-2030 | R7: 273628 | S7: 2030-2050 | T7: Unspecified | U7: N/A | V7: Qualitative | W7: No | X7: None | Y7: N/A | Z7: None | AA7: N/A
A8: Alabama Priority Climate Action Plan | B8: https://www.epa.gov/system/files/documents/2024-03/alabama-pcap.pdf | C8: Alabama Department of Environmental Management | D8: Alabama | E8: Deploy port electrification systems, including shore power for berthed ships and electric charging stations for cruise ships, at the Port of Mobile, the Mobile Cruise Terminal, and inland port facilities across Alabama to improve terminal efficiency and encourage the use of electric powered vessels. | F8: PCAP pg. 65-67 | G8: Transportation | J8: Provide shore power to docked boats | K8: Electrify or increase efficiency of non-road transportation | N8: Alabama Department of Economic and Community Affairs; Local jurisdictions or counties | O8: Unspecified | P8: 15920 | Q8: 2025-2030 | R8: 63680 | S8: 2030-2050 | T8: Unspecified | U8: N/A | V8: Qualitative | W8: No | X8: Quantitative | Y8: Unspecified | Z8: None | AA8: N/A
A9: Alabama Priority Climate Action Plan | B9: https://www.epa.gov/system/files/documents/2024-03/alabama-pcap.pdf | C9: Alabama Department of Environmental Management | D9: Alabama | E9: Incentivize the installation of EV charging infrastructure for publicly available charging and fund the transition of public fleets from fossil fuel-powered vehicles to EVs. | F9: PCAP pg. 67-70 | G9: Transportation | J9: Develop EV charging infrastructure | K9: Electrify government and/or publicly owned vehicle fleets | N9: Alabama Department of Economic and Community Affairs; Local jurisdictions or counties | O9: Unspecified | P9: 68388 | Q9: 2025-2030 | R9: 273552 | S9: 2030-2050 | T9: Unspecified | U9: N/A | V9: Qualitative | W9: No | X9: None | Y9: N/A | Z9: None | AA9: N/A
A10: Alabama Priority Climate Action Plan | B10: https://www.epa.gov/system/files/documents/2024-03/alabama-pcap.pdf | C10: Alabama Department of Environmental Management | D10: Alabama | E10: Upgrade/augment existing operating equipment systems at an existing materials recovery facility to increase recovery and landfill diversion. | F10: PCAP pg. 9-12 | G10: Waste and materials management | J10: Increase recycling | N10: City of Montgomery | O10: Unspecified | P10: 210000 | Q10: 2025-2030 | R10: 1350000 | S10: 2030-2050 | T10: EPA WARM | U10: N/A | V10: Qualitative | W10: No | X10: None | Y10: N/A | Z10: None | AA10: N/A
A11: Alabama Priority Climate Action Plan | B11: https://www.epa.gov/system/files/documents/2024-03/alabama-pcap.pdf | C11: Alabama Department of Environmental Management | D11: Alabama | E11: Enable the targeted recovery of specific polyolefin plastics for advanced, circular recycling of plastics. | F11: PCAP pg. 9-12 | G11: Waste and materials management | J11: Increase recycling | N11: City of Montgomery | O11: Unspecified | P11: 150000 | Q11: 2025-2030 | R11: 850000 | S11: 2030-2050 | T11: EPA WARM | U11: N/A | V11: Qualitative | W11: No | X11: None | Y11: N/A | Z11: None | AA11: N/A
A12: Alabama Priority Climate Action Plan | B12: https://www.epa.gov/system/files/documents/2024-03/alabama-pcap.pdf | C12: Alabama Department of Environmental Management | D12: Alabama | E12: Increase the number of electric vehicles and expand electric vehicle charging infrastructure across the Alabama Community College System. | F12: PCAP pg. 39-41 | G12: Transportation | J12: Electrify government and/or publicly owned vehicle fleets | K12: Develop EV charging infrastructure | N12: Alabama Community College System | O12: Unspecified | P12: 3979 | Q12: 2025-2030 | R12: 22360 | S12: 2025-2050 | T12: Unspecified | U12: N/A | V12: Qualitative | W12: No | X12: None | Y12: N/A | Z12: None | AA12: N/A
A13: Alabama Priority Climate Action Plan | B13: https://www.epa.gov/system/files/documents/2024-03/alabama-pcap.pdf | C13: Alabama Department of Environmental Management | D13: Alabama | E13: Implement a solar microgrid at Bevill State Community College. | F13: PCAP pg. 39-41 | G13: Electricity | J13: Develop microgrids | N13: Alabama Community College System | O13: Unspecified | P13: 686 | Q13: 2025-2030 | R13: 6787 | S13: 2025-2050 | T13: Unspecified | U13: N/A | V13: Qualitative | W13: No | X13: None | Y13: N/A | Z13: None | AA13: N/A
A14: Alabama Priority Climate Action Plan | B14: https://www.epa.gov/system/files/documents/2024-03/alabama-pcap.pdf | C14: Alabama Department of Environmental Management | D14: Alabama | E14: Implement up-to-date building energy codes, and improve energy efficiency of Alabama Community College System buildings by installing energy-efficient heating and cooling equipment, lighting, and other building products. | F14: PCAP pg. 39-50 | G14: Commercial and residential buildings | J14: Install more efficient heating or cooling equipment | K14: Leverage building codes | L14: Improve municipal building efficiency | M14: Improve appliance energy efficiency | N14: Alabama Community College System | O14: Unspecified | P14: 2996 | Q14: 2025-2030 | R14: 16996 | S14: 2025-2050 | T14: Unspecified | U14: N/A | V14: Qualitative | W14: No | X14: None | Y14: N/A | Z14: None | AA14: N/A
A15: Alabama Priority Climate Action Plan | B15: https://www.epa.gov/system/files/documents/2024-03/alabama-pcap.pdf | C15: Alabama Department of Environmental Management | D15: Alabama | E15: Implement carbon capture and sequestration in the forest products industry. | F15: PCAP pg. 57-59 | G15: Industry | J15: Deploy carbon capture and/or sequestration technology | N15: Alabama Forestry Commission | O15: Unspecified | P15: 12300000 | Q15: 2025-2035 | R15: 43800000 | S15: 2025-2050 | T15: Unspecified | U15: N/A | V15: None | W15: No | X15: None | Y15: N/A | Z15: None | AA15: N/A
A16: Alabama Priority Climate Action Plan | B16: https://www.epa.gov/system/files/documents/2024-03/alabama-pcap.pdf | C16: Alabama Department of Environmental Management | D16: Alabama | E16: Create incentive programs for implementation of end-use energy efficiency measures in commercial and industrial buildings | F16: PCAP pg. 59-60, Appendix E pg 1-9 | G16: Commercial and residential buildings | H16: Industry | J16: Install more efficient heating or cooling equipment | N16: Tennessee Valley Authority | O16: Unspecified | P16: 1200000 | Q16: 2025-2030 | R16: 12500000 | S16: 2025-2050 | T16: EPA GLIMPSE | U16: Emission factor analysis | V16: Qualitative | W16: No | X16: Quantitative | Y16: GLIMPSE | Z16: None | AA16: N/A
A17: Alabama Priority Climate Action Plan | B17: https://www.epa.gov/system/files/documents/2024-03/alabama-pcap.pdf | C17: Alabama Department of Environmental Management | D17: Alabama | E17: Create incentive programs for the purchase of certified energy-efficient lighting in commercial and industrial buildings, as well as streetlights | F17: PCAP pg. 59-60, Appendix E pg 1-9 | G17: Commercial and residential buildings | J17: Improve appliance energy efficiency | K17: Install LED Streetlights | N17: Tennessee Valley Authority | O17: Unspecified | P17: 200000 | Q17: 2025-2030 | R17: 4600000 | S17: 2025-2050 | T17: EPA GLIMPSE | U17: Emission factor analysis | V17: Qualitative | W17: No | X17: Quantitative | Y17: GLIMPSE | Z17: None | AA17: N/A
A18: Alabama Priority Climate Action Plan | B18: https://www.epa.gov/system/files/documents/2024-03/alabama-pcap.pdf | C18: Alabama Department of Environmental Management | D18: Alabama | E18: Create incentive programs for the purchase of certified energy-efficient building products to replace inefficient products in residential buildings | F18: PCAP pg. 59-60, Appendix E pg 1-9 | G18: Commercial and residential buildings | J18: Install more efficient heating or cooling equipment | N18: Tennessee Valley Authority | O18: Unspecified | P18: 1200000 | Q18: 2025-2030 | R18: 11800000 | S18: 2025-2050 | T18: EPA GLIMPSE | U18: Emission factor analysis | V18: Qualitative | W18: No | X18: Quantitative | Y18: GLIMPSE | Z18: None | AA18: N/A
A19: Alabama Priority Climate Action Plan | B19: https://www.epa.gov/system/files/documents/2024-03/alabama-pcap.pdf | C19: Alabama Department of Environmental Management | D19: Alabama | E19: Implement weatherization programs for residential buildings | F19: PCAP pg. 59-60, Appendix E pg 1-9 | G19: Commercial and residential buildings | J19: Improve weatherization | N19: Tennessee Valley Authority | O19: Unspecified | P19: 400000 | Q19: 2025-2030 | R19: 4300000 | S19: 2025-2050 | T19: EPA GLIMPSE | U19: Emission factor analysis | V19: Qualitative | W19: No | X19: Quantitative | Y19: GLIMPSE | Z19: None | AA19: N/A
A20: Alabama Priority Climate Action Plan | B20: https://www.epa.gov/system/files/documents/2024-03/alabama-pcap.pdf | C20: Alabama Department of Environmental Management | D20: Alabama | E20: Upgrade electricity distribution to reduce transmission line inefficiencies and overall power consumption. | F20: PCAP pg. 59-61, Appendix E pg 1-9 | G20: Electricity | J20: Develop transmission and distribution infrastructure | N20: Tennessee Valley Authority | O20: Unspecified | P20: 100000 | Q20: 2025-2030 | R20: 400000 | S20: 2025-2050 | T20: EPA GLIMPSE | U20: Emission factor analysis | V20: Qualitative | W20: No | X20: Quantitative | Y20: GLIMPSE | Z20: None | AA20: N/A
A21: Alabama Priority Climate Action Plan | B21: https://www.epa.gov/system/files/documents/2024-03/alabama-pcap.pdf | C21: Alabama Department of Environmental Management | D21: Alabama | E21: Enable the recovery of organics from landfill-bound waste to anaerobically digest it to produce renewable natural gas and soil amendments. | F21: PCAP pg. 9-12 | G21: Waste and materials management | J21: Increase anaerobic digestion | N21: City of Montgomery | O21: Unspecified | P21: 240000 | Q21: 2025-2030 | R21: 1500000 | S21: 2030-2050 | T21: EPA WARM | U21: N/A | V21: Qualitative | W21: No | X21: None | Y21: N/A | Z21: None | AA21: N/A
A22: State of Alaska Priority Sustainable Energy Action Plan | B22: https://www.epa.gov/system/files/documents/2024-03/ak-priority-sustainable-energy-plan.pdf | C22: Alaska Department of Environmental Management | D22: Alaska | E22: Deploy 14.3 MW of solar capacity and 5.7 MWh of battery storage capacity throughout Alaska, with a targeted focus on low-income and disadvantaged households. | F22: PCAP pg. 49-51 | G22: Electricity | H22: Commercial and residential buildings | J22: Increase deployment of distributed renewables | K22: Develop energy storage systems | N22: Alaska Energy Authority, in collaboration with the Alaska Housing Finance Corporation | O22: Unspecified | P22: 11202 | Q22: Annually | R22: 336060 | S22: 30 years | T22: Unspecified | U22: N/A | V22: Qualitative | W22: Yes | X22: None | Y22: N/A | Z22: None | AA22: N/A
A23: State of Alaska Priority Sustainable Energy Action Plan | B23: https://www.epa.gov/system/files/documents/2024-03/ak-priority-sustainable-energy-plan.pdf | C23: Alaska Department of Environmental Management | D23: Alaska | E23: Retrofit 2,833 households with heat pumps throughout Southeast Alaska. | F23: PCAP pg. 25-27 | G23: Commercial and residential buildings | J23: Deploy electric heat pumps | N23: Southeast Conference | O23: Unspecified | P23: 37160 | Q23: 2024-2030 | R23: 225720 | S23: 2024-2050 | T23: Unspecified | U23: N/A | V23: Qualitative | W23: No | X23: None | Y23: N/A | Z23: None | AA23: N/A
A24: State of Alaska Priority Sustainable Energy Action Plan | B24: https://www.epa.gov/system/files/documents/2024-03/ak-priority-sustainable-energy-plan.pdf | C24: Alaska Department of Environmental Management | D24: Alaska | E24: Replace one of the two fuel oil boilers at the Mendenhall Wastewater Treatment Plant with an electric boiler. | F24: PCAP pg. 30-32 | G24: Waste and materials management | J24: Electrify industrial processes | N24: The City and Borough of Juneau | O24: Unspecified | P24: 711 | Q24: Annually | R24: Unspecified | S24: N/A | T24: Unspecified | U24: N/A | V24: Qualitative | W24: No | X24: None | Y24: N/A | Z24: None | AA24: N/A
A25: State of Alaska Priority Sustainable Energy Action Plan | B25: https://www.epa.gov/system/files/documents/2024-03/ak-priority-sustainable-energy-plan.pdf | C25: Alaska Department of Environmental Management | D25: Alaska | E25: Install equipment at the City & Borough of Juneau's two cruise docks to provide shore power to cruise ships moored there and reduce emissions produced while the ship is at port. | F25: PCAP pg. 38-40 | G25: Transportation | J25: Provide shore power to docked boats | N25: The City and Borough of Juneau | O25: Unspecified | P25: 31180 | Q25: 2024-2030 | R25: 187080 | S25: 2024-2050 | T25: Unspecified | U25: N/A | V25: Qualitative | W25: No | X25: Qualitative | Y25: Unspecified | Z25: None | AA25: N/A
A26: State of Alaska Priority Sustainable Energy Action Plan | B26: https://www.epa.gov/system/files/documents/2024-03/ak-priority-sustainable-energy-plan.pdf | C26: Alaska Department of Environmental Management | D26: Alaska | E26: Install forty Level 2 and fifteen Level 3 charging stations throughout urban and rural Alaska communities. | F26: PCAP pg. 40-42 | G26: Transportation | J26: Develop EV charging infrastructure | N26: Alaska Energy Authority | O26: Unspecified | P26: 2,144 per charging site | Q26: Annually | R26: Unspecified | S26: N/A | T26: Emission factor analysis | U26: N/A | V26: Qualitative | W26: No | X26: None | Y26: N/A | Z26: None | AA26: N/A
A27: State of Alaska Priority Sustainable Energy Action Plan | B27: https://www.epa.gov/system/files/documents/2024-03/ak-priority-sustainable-energy-plan.pdf | C27: Alaska Department of Environmental Management | D27: Alaska | E27: Implement the Dixon Diversion project to increase hydroelectric production to Alaska's main Railbelt electric grid by approximately 190,000 MWh per year. | F27: PCAP pg. 42-44 | G27: Electricity | J27: Expand utility-scale renewable energy generation | N27: Alaska Energy Authority | O27: Unspecified | P27: 262188 | Q27: 2024-2030 | R27: 2884068 | S27: 2024-2050 | T27: Emission factor analysis | U27: N/A | V27: Qualitative | W27: No | X27: None | Y27: N/A | Z27: None | AA27: N/A
A28: State of Alaska Priority Sustainable Energy Action Plan | B28: https://www.epa.gov/system/files/documents/2024-03/ak-priority-sustainable-energy-plan.pdf | C28: Alaska Department of Environmental Management | D28: Alaska | E28: Support renewable energy generation projects delivered by municipalities, tribes, or related entities (including state agencies) directly as well as in partnership with electric cooperatives or Independent Power Producers. | F28: PCAP pg. 44-46 | G28: Electricity | J28: Expand utility-scale renewable energy generation | N28: Unspecified | O28: Unspecified | P28: Railbelt: 798,645; Non-Railbelt: 829,893; Total: 1,628,538 | Q28: 2024-2030 | R28: Railbelt: 11,190,665; Non-Railbelt: 1,454,853; Total: 12,645,518 | S28: 2024-2050 | T28: Emission factor analysis | U28: N/A | V28: Qualitative | W28: Yes | X28: None | Y28: N/A | Z28: None | AA28: N/A
A29: State of Alaska Priority Sustainable Energy Action Plan | B29: https://www.epa.gov/system/files/documents/2024-03/ak-priority-sustainable-energy-plan.pdf | C29: Alaska Department of Environmental Management | D29: Alaska | E29: Design and construct composting facilities tailored specifically for four tribal communities (Wrangell, Hoonah, Petersburg, Yakutat) and one urban city (Juneau) in the Southeast Alaska region. | F29: PCAP pg. 35-38 | G29: Waste and materials management | J29: Increase composting | N29: The Central Council of the Tlingit and Haida Indian Tribes of Alaska (Tlingit & Haida) | O29: Unspecified | P29: 144618.15 | Q29: 2024-2030 | R29: 2.9371946e+08 | S29: 2024-2050 | T29: EPA WARM | U29: N/A | V29: Qualitative | W29: Yes | X29: None | Y29: N/A | Z29: None | AA29: N/A
A30: State of Alaska Priority Sustainable Energy Action Plan | B30: https://www.epa.gov/system/files/documents/2024-03/ak-priority-sustainable-energy-plan.pdf | C30: Alaska Department of Environmental Management | D30: Alaska | E30: Increase funding for the Alaska Energy Authority's existing Renewable Energy Fund Grant Program to support the development of renewable energy projects throughout the state. | F30: PCAP pg. 51-52 | G30: Electricity | J30: Expand utility-scale renewable energy generation | N30: Alaska Energy Authority | O30: Unspecified | P30: 1186857 | Q30: Annually | R30: 24278625 | S30: Unspecified | T30: Unspecified | U30: N/A | V30: Qualitative | W30: No | X30: None | Y30: N/A | Z30: None | AA30: N/A
A31: State of Alaska Priority Sustainable Energy Action Plan | B31: https://www.epa.gov/system/files/documents/2024-03/ak-priority-sustainable-energy-plan.pdf | C31: Alaska Department of Environmental Management | D31: Alaska | E31: Implement a landfill gas capture system at the Central Peninsula Landfill to provide sustainable energy and capture waste heat. | F31: PCAP pg. 32-34 | G31: Waste and materials management | H31: Electricity | J31: Increase capture and/or utilization of gas from landfills | K31: Use district geothermal, cogeneration, or waste heat recovery | N31: Central Peninsula Landfill and Homer Electric Association | O31: Unspecified | P31: 196268 | Q31: 2024-2030 | R31: 1177607 | S31: 2024-2050 | T31: EPA LFG Energy Benefits Calculator | U31: EPA LMOP Database | V31: Qualitative | W31: No | X31: None | Y31: N/A | Z31: None | AA31: N/A
A32: State of Alaska Priority Sustainable Energy Action Plan | B32: https://www.epa.gov/system/files/documents/2024-03/ak-priority-sustainable-energy-plan.pdf | C32: Alaska Department of Environmental Management | D32: Alaska | E32: Replace non-certified and lower-tier diesel engines used for power generation in rural Alaskan communities with cleaner Tier 2 and 3 marine engines and low particulate matter emitting nonroad engines. | F32: PCAP pg. 47-49 | G32: Electricity | J32: Use more efficient fossil-fuel generation technology | N32: Alaska Energy Authority | O32: N/A | P32: Unspecified | Q32: N/A | R32: N/A | S32: N/A | T32: N/A | U32: N/A | V32: Qualitative | W32: No | X32: None | Y32: N/A | Z32: None | AA32: N/A
A33: State of Alaska Priority Sustainable Energy Action Plan | B33: https://www.epa.gov/system/files/documents/2024-03/ak-priority-sustainable-energy-plan.pdf | C33: Alaska Department of Environmental Management | D33: Alaska | E33: Deploy carbon capture and storage and carbon offset projects to reduce emissions throughout Alaska. | F33: PCAP pg. 53-54 | G33: Industry | J33: Deploy carbon capture and/or sequestration technology | N33: Alaska Department of Natural Resources | O33: N/A | P33: Unspecified | Q33: N/A | R33: N/A | S33: N/A | T33: N/A | U33: N/A | V33: Qualitative | W33: No | X33: None | Y33: N/A | Z33: None | AA33: N/A
A34: The Clean Arizona Plan Priority Climate Action Plan State of Arizona | B34: https://www.epa.gov/system/files/documents/2024-03/the-clean-arizona-plan.pdf | C34: Executive Office of the State of Arizona | D34: Arizona | E34: Establish the Arizona Building Codes Advancement Initiative, a targeted program designed to catalyze the adoption of updated building codes by municipalities throughout the state | F34: PCAP pg. 21-23, 59 | G34: Commercial and residential buildings | J34: Improve municipal building efficiency | K34: Leverage building codes | N34: Governor's Office of Resiliency | O34: Unspecified | P34: 644928 | Q34: 2035 | R34: 2682476 | S34: 2050 | T34: Unspecified | U34: N/A | V34: Qualitative | W34: No | X34: None | Y34: N/A | Z34: None | AA34: N/A
A35: The Clean Arizona Plan Priority Climate Action Plan State of Arizona | B35: https://www.epa.gov/system/files/documents/2024-03/the-clean-arizona-plan.pdf | C35: Executive Office of the State of Arizona | D35: Arizona | E35: Provide grants to communities, multi-family residences, and homeowners to install solar-plus-battery systems, generating on average 6,100 kWh of solar per year per system and community-serving microgrid and mini-grid systems to generate 1-5 MW of solar energy. | F35: PCAP pg. 24-26, 59 | G35: Electricity | J35: Develop energy storage systems | K35: Develop microgrids | L35: Increase deployment of distributed renewables | N35: Governor's Office of Resiliency | O35: Unspecified | P35: 20989 | Q35: 2035 | R35: 191200 | S35: 2050 | T35: Unspecified | U35: N/A | V35: Qualitative | W35: No | X35: None | Y35: N/A | Z35: None | AA35: N/A
A36: The Clean Arizona Plan Priority Climate Action Plan State of Arizona | B36: https://www.epa.gov/system/files/documents/2024-03/the-clean-arizona-plan.pdf | C36: Executive Office of the State of Arizona | D36: Arizona | E36: Bolster and grow existing university renewable energy programs that site renewable energy on university campuses and university-owned land | F36: PCAP pg. 27-28, 59 | G36: Electricity | J36: Expand utility-scale renewable energy generation | N36: Public universities, community colleges | O36: Unspecified | P36: 210078 | Q36: 2035 | R36: 1288434 | S36: 2050 | T36: Unspecified | U36: N/A | V36: Qualitative | W36: No | X36: None | Y36: N/A | Z36: None | AA36: N/A
A37: The Clean Arizona Plan Priority Climate Action Plan State of Arizona | B37: https://www.epa.gov/system/files/documents/2024-03/the-clean-arizona-plan.pdf | C37: Executive Office of the State of Arizona | D37: Arizona | E37: Support the deployment of renewable energy and storage systems for local government buildings, providing additional incentives to complement newly available "direct pay" options for local governments to receive energy tax credits and technical assistance for such projects. | F37: PCAP pg. 29-31, 59, Appendix K | G37: Electricity | H37: Commercial and residential buildings | J37: Develop energy storage systems | K37: Increase deployment of distributed renewables | N37: Governor's Office of Resiliency | O37: Unspecified | P37: 30453 | Q37: 2030 | R37: 152266 | S37: 2050 | T37: PVWatts Calculator | U37: REopt | V37: Qualitative | W37: No | X37: Quantitative | Y37: PVWatts Calculator | Z37: None | AA37: N/A
A38: The Clean Arizona Plan Priority Climate Action Plan State of Arizona | B38: https://www.epa.gov/system/files/documents/2024-03/the-clean-arizona-plan.pdf | C38: Executive Office of the State of Arizona | D38: Arizona | E38: Formalize a state-led public/private coalition to create education programs across universities and community colleges. | F38: PCAP pg. 32-35, 59 | G38: Cross-cutting | J38: Education and engagement | N38: ABOR (ASU, NAU, UA), MCCD, OEO, MAG, SciTech Institute, ADEQ | O38: N/A | P38: Unspecified | Q38: N/A | R38: N/A | S38: N/A | T38: N/A | U38: N/A | V38: Qualitative | W38: No | X38: None | Y38: N/A | Z38: None | AA38: N/A
A39: The Clean Arizona Plan Priority Climate Action Plan State of Arizona | B39: https://www.epa.gov/system/files/documents/2024-03/the-clean-arizona-plan.pdf | C39: Executive Office of the State of Arizona | D39: Arizona | E39: Adopt light, medium, and heavy-duty zero-emission vehicles for State, municipal, county, Tribal, university, and community college fleets, purchasing zero-emission vehicles and install electric vehicle charging at applicable fleet facilities. | F39: PCAP pg. 36-37, 59 | G39: Transportation | J39: Electrify government and/or publicly owned vehicle fleets | K39: Develop EV charging infrastructure | L39: Increase the deployment of electric MDVs and/or HDVs | N39: ASU, NAU, UA, Other counties and municipalities | O39: Unspecified | P39: 453 | Q39: 2035 | R39: 19738 | S39: 2050 | T39: Unspecified | U39: N/A | V39: Qualitative | W39: Yes | X39: None | Y39: N/A | Z39: None | AA39: N/A
A40: The Clean Arizona Plan Priority Climate Action Plan State of Arizona | B40: https://www.epa.gov/system/files/documents/2024-03/the-clean-arizona-plan.pdf | C40: Executive Office of the State of Arizona | D40: Arizona | E40: Incentivize the installation of EV charging infrastructure for public fleets and publicly available charging and fund the transition of public fleets from fossil fuel-powered vehicles to EVs. | F40: PCAP pg. 38-40, 59 | G40: Transportation | J40: Electrify government and/or publicly owned vehicle fleets | K40: Develop EV charging infrastructure | N40: State of Arizona, local jurisdictions, counties, and Tribal nations and communities. | O40: Unspecified | P40: 60000 | Q40: 2030 | R40: 208000 | S40: 2050 | T40: Unspecified | U40: N/A | V40: Qualitative | W40: No | X40: Quantitative | Y40: Unspecified | Z40: None | AA40: N/A
...

Sheet LIDAC
A1: PCAP Title | B1: PCAP Link | C1: Lead Organization | D1: State | E1: Tool Used | G1: Description of Community Engagement Approach | J1: Plan-Level LIDAC Analysis Included? | K1: Measure-Level LIDAC Analysis Included? | L1: Anticipated LIDAC Impacts from Climate Change | M1: Anticipated LIDAC Benefits from GHG Reduction Measures | N1: Potential LIDAC Disbenefits from GHG Reduction Measures
E2: EJScreen and/or CEJST Used? | F2: Other Tool Used | G2: LIDAC Engagement | H2: Type of LIDAC Engagement | I2: Broader Community Engagement
A3: Louisiana Climate Action Plan | B3: https://doa.louisiana.gov/media/y2xdrb22/louisiana-priority-climate-action-plan.pdf | C3: Louisiana Division of Administration | D3: Louisiana | E3: CEJST | F3: N/A | G3: The State conducted in-person community meetings in St. James Parish and the cities of Shreveport and Lake Charles. These locations were chosen based on the heaviest GHG and co-pollutant emissions concentrations and significant concentrations of low to moderate income households and LIDAC representation. | H3: Events and meetings; Participant accessibility and incentives | I3: Louisiana developed an outreach plan inclusive of state, local, and tribal government coordination building on the 2022 CAP engagement already completed; Climate Initiatives Task force conducted public and online workshop-style meetings; Engaged sectoral experts. | J3: Quantitative and Qualitative | K3: {=IF(SUMPRODUCT(('GHG Reduction Measures'!$A$2:$A$940=A3)*('GHG Reduction Measures'!$V$2:$V$940="Both"))>0,"Quantitative and Qualitative", IF(SUMPRODUCT(('GHG Reduction Measures'!$A$2:$A$940=A3)*('GHG Reduction Measures'!$V$2:$V$940="Quantitative"))>0, IF(SUMPRODUCT(('GHG Reduction Measures'!$A$2:$A$940=A3)*('GHG Reduction Measures'!$V$2:$V$940="Qualitative"))>0,"Quantitative and Qualitative","Quantitative"), IF(SUMPRODUCT(('GHG Reduction Measures'!$A$2:$A$940=A3)*('GHG Reduction Measures'!$V$2:$V$940="Qualitative"))>0,"Qualitative","None")))} -> Qualitative | L3: Extreme cold; Flooding; Storms; Public health and mortality; Economic/productivity losses; Air quality; Cost increases | M3: Jobs and workforce; Affordability and cost savings; Air quality; Public health; Resilience; Access to and quality of services and amenities | N3: Unspecified
A4: Tennessee Volunteer Emissions Reduction Strategy | B4: https://www.epa.gov/system/files/documents/2024-02/tn-pcap.pdf | C4: Tennessee Department of Environment and Conservation | D4: Tennessee | E4: Both | F4: N/A | G4: Project Team compiled Community Reports for the five largest population centers where public meetings were held. These reports used EJScreen to summarize demographic info and assess environmental justice indices. Measures included translating public surveys into Spanish, translating meeting promotional info into Arabic and Spanish, an option to request interpretive services (no requests made). Community Reports were used to enhance outreach efforts to LIDAC communities- direct mailers campaign, personalized email invitations, and individual presentations to community groups. | H4: Events and meetings; Engagement plans and metrics; Publicity; Participant accessibility and incentives | I4: Email newsletters sent to share program information, personalized emails encouraging participation and sharing option to request speakers for a neighborhood/community/organization (5 presentations to community groups); Engagement materials at tabling events; Combination of virtual and in-person meetings to share program information and receive feedback; Public survey, receiving 1,639 responses | J4: Qualitative | K4: {=IF(SUMPRODUCT(('GHG Reduction Measures'!$A$2:$A$940=A4)*('GHG Reduction Measures'!$V$2:$V$940="Both"))>0,"Quantitative and Qualitative", IF(SUMPRODUCT(('GHG Reduction Measures'!$A$2:$A$940=A4)*('GHG Reduction Measures'!$V$2:$V$940="Quantitative"))>0, IF(SUMPRODUCT(('GHG Reduction Measures'!$A$2:$A$940=A4)*('GHG Reduction Measures'!$V$2:$V$940="Qualitative"))>0,"Quantitative and Qualitative","Quantitative"), IF(SUMPRODUCT(('GHG Reduction Measures'!$A$2:$A$940=A4)*('GHG Reduction Measures'!$V$2:$V$940="Qualitative"))>0,"Qualitative","None")))} -> Qualitative | L4: Extreme heat; Extreme cold; Flooding; Air quality | M4: Economic growth; Jobs and workforce; Affordability and cost savings; Air quality; Public health; Resilience; Access to and quality of services and amenities; Capacity-building; Other; Natural resource conservation and enhancement | N4: Unspecified
A5: Missouri Plan for Environmental Improvement Grants | B5: https://www.epa.gov/system/files/documents/2024-02/missouri-plan-for-environmental-improvement-grants.pdf | C5: Missouri Department of Natural Resources | D5: Missouri | E5: CEJST | F5: No | G5: Subgrantees were encouraged to engage LIDACS and support participation by those communities through convenient scheduling of meeting times and locations. Provided translation and interpretation services at all meetings. | H5: Events and meetings; Participant accessibility and incentives | I5: Online and in person events and webinars; formed an interested parties and stakeholder list; provided kickoff and sector details workshops; contacted via email and with fliers; public review of draft; outreach by regional planning groups | J5: Qualitative | K5: {=IF(SUMPRODUCT(('GHG Reduction Measures'!$A$2:$A$940=A5)*('GHG Reduction Measures'!$V$2:$V$940="Both"))>0,"Quantitative and Qualitative", IF(SUMPRODUCT(('GHG Reduction Measures'!$A$2:$A$940=A5)*('GHG Reduction Measures'!$V$2:$V$940="Quantitative"))>0, IF(SUMPRODUCT(('GHG Reduction Measures'!$A$2:$A$940=A5)*('GHG Reduction Measures'!$V$2:$V$940="Qualitative"))>0,"Quantitative and Qualitative","Quantitative"), IF(SUMPRODUCT(('GHG Reduction Measures'!$A$2:$A$940=A5)*('GHG Reduction Measures'!$V$2:$V$940="Qualitative"))>0,"Qualitative","None")))} -> Qualitative | L5: Extreme heat; Drought; Economic/productivity losses; Cost increases | M5: Economic growth; Jobs and workforce; Affordability and cost savings; Air quality; Public health; Capacity-building; Other | N5: Displacement; Cost increases
A6: Kansas Emission Reduction and Mitigation Plan | B6: https://www.epa.gov/system/files/documents/2024-02/kansas-pcap.pdf | C6: Kansas Department of Health and Environment | D6: Kansas | E6: Both | F6: N/A | G6: More than 50% of participants in general community engagement efforts serve at least one low-income disadvantaged community. | H6: Events and meetings | I6: KDHE partnered with Wichita State University (WSU) Environmental Finance Center and Heartland Environmental Justice Center to develop, schedule, and promote a series of in-person and virtual public meetings. Environmental Finance Center (EFC) staff identified and invited 536 participants across all 105 Kansas counties, to a series of public engagement meetings, both in-person and virtual. Identified participants represented 467 organizations including, state agencies, commissions, councils, city and county staff, regional economic and planning organizations, non-profit organizations, community foundations, educational institutions, and more. Additionally, EFC staff hosted a booth at the Kansas Association of Counties (KAC) Conference Exposition. Staff connected with sixty (60) attendees and were able to provide an overview of E_x0002_RAMP, their opportunity for involvement, and the project submission form, for inclusion in the State’s priority action plan. Local governments across the state held public engagement meetings as a part of the E-RAMP program. | J6: None | K6: {=IF(SUMPRODUCT(('GHG Reduction Measures'!$A$2:$A$940=A6)*('GHG Reduction Measures'!$V$2:$V$940="Both"))>0,"Quantitative and Qualitative", IF(SUMPRODUCT(('GHG Reduction Measures'!$A$2:$A$940=A6)*('GHG Reduction Measures'!$V$2:$V$940="Quantitative"))>0, IF(SUMPRODUCT(('GHG Reduction Measures'!$A$2:$A$940=A6)*('GHG Reduction Measures'!$V$2:$V$940="Qualitative"))>0,"Quantitative and Qualitative","Quantitative"), IF(SUMPRODUCT(('GHG Reduction Measures'!$A$2:$A$940=A6)*('GHG Reduction Measures'!$V$2:$V$940="Qualitative"))>0,"Qualitative","None")))} -> Qualitative | L6: Extreme heat; Flooding; Storms; Public health and mortality; Economic/productivity losses | M6: Jobs and workforce; Affordability and cost savings; Air quality; Public health; Resilience; Access to and quality of services and amenities; Capacity-building; Other | N6: Unspecified
A7: Oregon's Priority Climate Action Plan | B7: https://www.epa.gov/system/files/documents/2024-02/oregon-cprg-pcap.pdf | C7: Oregon Department of Environmental Quality | D7: Oregon | E7: Both | F7: N/A | G7: None | H7: Unspecified | I7: Region 10 listserv; Email listservs; Engage at existing virtual meeting; In person presentation to legislators; In person presentation to legislators; Email listservs, posters, and word of mouth; Engage by tabling and conversations at LOC conference; Engage at annual forum coordinated by a hosting Tribe and EPA; Letters to Tribal Leadership and Natural Resource Staff; LOC membership email – virtual and survey; Engage at existing virtual meeting; Webinar; Survey; Engage at existing virtual meeting; Engage at existing EQC meeting; Engage at existing meeting | J7: Qualitative | K7: {=IF(SUMPRODUCT(('GHG Reduction Measures'!$A$2:$A$940=A7)*('GHG Reduction Measures'!$V$2:$V$940="Both"))>0,"Quantitative and Qualitative", IF(SUMPRODUCT(('GHG Reduction Measures'!$A$2:$A$940=A7)*('GHG Reduction Measures'!$V$2:$V$940="Quantitative"))>0, IF(SUMPRODUCT(('GHG Reduction Measures'!$A$2:$A$940=A7)*('GHG Reduction Measures'!$V$2:$V$940="Qualitative"))>0,"Quantitative and Qualitative","Quantitative"), IF(SUMPRODUCT(('GHG Reduction Measures'!$A$2:$A$940=A7)*('GHG Reduction Measures'!$V$2:$V$940="Qualitative"))>0,"Qualitative","None")))} -> Qualitative | L7: Extreme heat; Flooding; Storms; Wildfire; Drought | M7: Economic growth; Jobs and workforce; Affordability and cost savings; Air quality; Public health | N7: Unspecified
A8: Climate Pollution Reduction Grant Priority Climate Action Plan | B8: https://www.epa.gov/system/files/documents/2024-02/vermont-cprg-priority-climate-action-plan.pdf | C8: Vermont Agency of Natural Resources, Department of Environmental Conservation | D8: Vermont | E8: CEJST | F8: N/A | G8: The Climate Action Office’s community engagement plan was designed in partnership with the Agency of Natural Resources Environmental Justice (EJ) Unit. The EJ Unit supports the implementation of Vermont’s environmental justice law (Act 154) that requires Vermont to “provide the opportunity for the meaningful participation of all individuals with particular attention to environmental justice focus populations, in the development, implementation, or enforcement of any law, regulation, or policy.” | H8: Unspecified | I8: - Vermont's Climate Action Office (CAO) held two virtual public meetings - CAO also briefed Vermont’s Climate Council to receive additional input | J8: Qualitative | K8: {=IF(SUMPRODUCT(('GHG Reduction Measures'!$A$2:$A$940=A8)*('GHG Reduction Measures'!$V$2:$V$940="Both"))>0,"Quantitative and Qualitative", IF(SUMPRODUCT(('GHG Reduction Measures'!$A$2:$A$940=A8)*('GHG Reduction Measures'!$V$2:$V$940="Quantitative"))>0, IF(SUMPRODUCT(('GHG Reduction Measures'!$A$2:$A$940=A8)*('GHG Reduction Measures'!$V$2:$V$940="Qualitative"))>0,"Quantitative and Qualitative","Quantitative"), IF(SUMPRODUCT(('GHG Reduction Measures'!$A$2:$A$940=A8)*('GHG Reduction Measures'!$V$2:$V$940="Qualitative"))>0,"Qualitative","None")))} -> Qualitative | L8: Extreme heat; Extreme cold; Flooding; Storms; Wildfire; Drought; Public health and mortality; Air quality | M8: Jobs and workforce; Affordability and cost savings; Air quality; Public health; Resilience; Access to and quality of services and amenities; Other; Natural resource conservation and enhancement | N8: Unspecified
A9: Priority Climate Action Plan (PCAP) | B9: https://www.epa.gov/system/files/documents/2024-02/washington-cprg-pcap.pdf | C9: Washington State Department of Commerce | D9: Washington | E9: Both | F9: Washington Environmental Health Disparities (EHD) Map | G9: Unspecified | H9: Unspecified | I9: Commerce established the Washington Climate Pollution Reduction Grant Program website upon receiving the grant, serving as a central hub for information, meeting announcements, and collaboration opportunities related to the Washington Climate Pollution Reduction Grant Program. Engagement strategies encompassed various channels, including email lists, social media, public surveys, online meetings, public comment periods, and a dedicated portal for submitting ideas and input. | J9: None | K9: {=IF(SUMPRODUCT(('GHG Reduction Measures'!$A$2:$A$940=A9)*('GHG Reduction Measures'!$V$2:$V$940="Both"))>0,"Quantitative and Qualitative", IF(SUMPRODUCT(('GHG Reduction Measures'!$A$2:$A$940=A9)*('GHG Reduction Measures'!$V$2:$V$940="Quantitative"))>0, IF(SUMPRODUCT(('GHG Reduction Measures'!$A$2:$A$940=A9)*('GHG Reduction Measures'!$V$2:$V$940="Qualitative"))>0,"Quantitative and Qualitative","Quantitative"), IF(SUMPRODUCT(('GHG Reduction Measures'!$A$2:$A$940=A9)*('GHG Reduction Measures'!$V$2:$V$940="Qualitative"))>0,"Qualitative","None")))} -> Qualitative | L9: Unspecified | M9: Economic growth; Jobs and workforce; Affordability and cost savings; Air quality; Resilience | N9: Unspecified
