Workbook

Sheet Introduction

Sheet LoF_Est SkinD and DOI-Metric
B2: Estimates of skin depth and depth of investigation | K2: Comment: This spreadsheet is for rough estimates. For best estimates of depth of investigation perform
K3: inversion and a depth of investigation (DOI) analysis
B4: optional conversion tool | G4: skin depth = 2/ (2p m w )^1/2 | J4: = | K4: 1/ (p m s f)^1/2 | O4: Haoping Huang 2005 Geopphysics v70 n6
B5: mS/m | D5: ohm-m | G5: MagPermeability | H5: =4*3.14159*(10^-7) -> 1.256636e-06 | U5: These plots will be updated automatically using data
B6: =1/$D$6*1000 -> 333.33333 | C6: <=== | D6: 3 | I6: RECOMMENDED LOW FREQUENCY SETTINGS | U6: from the left side of the worksheet.
F7: ESTIMATES OF DEPTH (m) as a function of TOTAL EC (S/m) for various frequencies in Hertz
B8: Total EC | C8: Total EC | D8: Resistivity | F8: Skin Depth (d) in meters | I8: Frequency in Hertz | N8: Frequency in Hertz
B9: (mS/m) | C9: (S/m) | D9: (ohm-m) | F9: 1530 | G9: 3930 | H9: 9000 | I9: 13590 | J9: 23070 | K9: 33030 | L9: 47970 | N9: 79000 | O9: 79000 | P9: 79000 | Q9: 79000 | R9: 79000 | S9: 79000 | AC9: This plot below compares the results for middle EC (in cell B11): | AF9: =+B11 -> 40
B10: 80 | C10: =+B10/1000 -> 0.08 | D10: =1/C10 -> 12.5 | F10: =1/(SQRT($H$5*$C10*PI()*F$9)) -> 45.491432 | G10: =1/(SQRT($H$5*$C10*PI()*G$9)) -> 28.384356 | H10: =1/(SQRT($H$5*$C10*PI()*H$9)) -> 18.756598 | I10: =1/(SQRT($H$5*$C10*PI()*I$9)) -> 15.263903 | J10: =1/(SQRT($H$5*$C10*PI()*J$9)) -> 11.715249 | K10: =1/(SQRT($H$5*$C10*PI()*K$9)) -> 9.7908644 | L10: =1/(SQRT($H$5*$C10*PI()*L$9)) -> 8.1243844 | N10: =1/(SQRT($H$5*$C10*PI()*N$9)) -> 6.3308464 | O10: =1/(SQRT($H$5*$C10*PI()*O$9)) -> 6.3308464 | P10: =1/(SQRT($H$5*$C10*PI()*P$9)) -> 6.3308464 | Q10: =1/(SQRT($H$5*$C10*PI()*Q$9)) -> 6.3308464 | R10: =1/(SQRT($H$5*$C10*PI()*R$9)) -> 6.3308464 | S10: =1/(SQRT($H$5*$C10*PI()*S$9)) -> 6.3308464 | AE10: or a resistivity of: | AF10: =+D11 -> 25
B11: 40 | C11: =+B11/1000 -> 0.04 | D11: =1/C11 -> 25 | F11: =1/(SQRT($H$5*$C11*PI()*F$9)) -> 64.3346 | G11: =1/(SQRT($H$5*$C11*PI()*G$9)) -> 40.141541 | H11: =1/(SQRT($H$5*$C11*PI()*H$9)) -> 26.525835 | I11: =1/(SQRT($H$5*$C11*PI()*I$9)) -> 21.586418 | J11: =1/(SQRT($H$5*$C11*PI()*J$9)) -> 16.567864 | K11: =1/(SQRT($H$5*$C11*PI()*K$9)) -> 13.846373 | L11: =1/(SQRT($H$5*$C11*PI()*L$9)) -> 11.489615 | N11: =1/(SQRT($H$5*$C11*PI()*N$9)) -> 8.9531688 | O11: =1/(SQRT($H$5*$C11*PI()*O$9)) -> 8.9531688 | P11: =1/(SQRT($H$5*$C11*PI()*P$9)) -> 8.9531688 | Q11: =1/(SQRT($H$5*$C11*PI()*Q$9)) -> 8.9531688 | R11: =1/(SQRT($H$5*$C11*PI()*R$9)) -> 8.9531688 | S11: =1/(SQRT($H$5*$C11*PI()*S$9)) -> 8.9531688
B12: 20 | C12: =+B12/1000 -> 0.02 | D12: =1/C12 -> 50 | F12: =1/(SQRT($H$5*$C12*PI()*F$9)) -> 90.982864 | G12: =1/(SQRT($H$5*$C12*PI()*G$9)) -> 56.768712 | H12: =1/(SQRT($H$5*$C12*PI()*H$9)) -> 37.513196 | I12: =1/(SQRT($H$5*$C12*PI()*I$9)) -> 30.527806 | J12: =1/(SQRT($H$5*$C12*PI()*J$9)) -> 23.430498 | K12: =1/(SQRT($H$5*$C12*PI()*K$9)) -> 19.581729 | L12: =1/(SQRT($H$5*$C12*PI()*L$9)) -> 16.248769 | N12: =1/(SQRT($H$5*$C12*PI()*N$9)) -> 12.661693 | O12: =1/(SQRT($H$5*$C12*PI()*O$9)) -> 12.661693 | P12: =1/(SQRT($H$5*$C12*PI()*P$9)) -> 12.661693 | Q12: =1/(SQRT($H$5*$C12*PI()*Q$9)) -> 12.661693 | R12: =1/(SQRT($H$5*$C12*PI()*R$9)) -> 12.661693 | S12: =1/(SQRT($H$5*$C12*PI()*S$9)) -> 12.661693
F14: (Square Route of d in meters)
F15: Depth for selected frequencies (in m)
B16: Total EC | C16: Total EC | D16: Resistivity | F16: =+$F$9 -> 1530 | G16: =+G$9 -> 3930 | H16: =+H$9 -> 9000 | I16: =+I$9 -> 13590 | J16: =+J$9 -> 23070 | K16: =+K$9 -> 33030 | L16: =+$L$9 -> 47970 | N16: =+N$9 -> 79000 | O16: =+O$9 -> 79000 | P16: =+P$9 -> 79000 | Q16: =+Q$9 -> 79000 | R16: =+R$9 -> 79000 | S16: =+S$9 -> 79000
B17: =+$B$10 -> 80 | C17: =+B17/1000 -> 0.08 | D17: =1/C17 -> 12.5 | F17: =SQRT(F10) -> 6.7447336 | G17: =SQRT(G10) -> 5.3276971 | H17: =SQRT(H10) -> 4.3308888 | I17: =SQRT(I10) -> 3.9069045 | J17: =SQRT(J10) -> 3.4227546 | K17: =SQRT(K10) -> 3.1290357 | L17: =SQRT(L10) -> 2.8503306 | N17: =SQRT(N10) -> 2.5161173 | O17: =SQRT(O10) -> 2.5161173 | P17: =SQRT(P10) -> 2.5161173 | Q17: =SQRT(Q10) -> 2.5161173 | R17: =SQRT(R10) -> 2.5161173 | S17: =SQRT(S10) -> 2.5161173
B18: =+$B$11 -> 40 | C18: =+B18/1000 -> 0.04 | D18: =1/C18 -> 25 | F18: =SQRT(F11) -> 8.0208852 | G18: =SQRT(G11) -> 6.3357353 | H18: =SQRT(H11) -> 5.1503238 | I18: =SQRT(I11) -> 4.6461186 | J18: =SQRT(J11) -> 4.0703641 | K18: =SQRT(K11) -> 3.7210715 | L18: =SQRT(L11) -> 3.3896334 | N18: =SQRT(N11) -> 2.9921846 | O18: =SQRT(O11) -> 2.9921846 | P18: =SQRT(P11) -> 2.9921846 | Q18: =SQRT(Q11) -> 2.9921846 | R18: =SQRT(R11) -> 2.9921846 | S18: =SQRT(S11) -> 2.9921846
B19: =+$B$12 -> 20 | C19: =+B19/1000 -> 0.02 | D19: =1/C19 -> 50 | F19: =SQRT(F12) -> 9.5384938 | G19: =SQRT(G12) -> 7.5345015 | H19: =SQRT(H12) -> 6.1248017 | I19: =SQRT(I12) -> 5.5251973 | J19: =SQRT(J12) -> 4.840506 | K19: =SQRT(K12) -> 4.4251247 | L19: =SQRT(L12) -> 4.0309762 | N19: =SQRT(N12) -> 3.5583272 | O19: =SQRT(O12) -> 3.5583272 | P19: =SQRT(P12) -> 3.5583272 | Q19: =SQRT(Q12) -> 3.5583272 | R19: =SQRT(R12) -> 3.5583272 | S19: =SQRT(S12) -> 3.5583272
J20: Proportioning Factor
F21: (Fraction of d in meters) | J21: 0.13
F22: Depth for selected frequencies (in m)
B23: Total EC | C23: Total EC | D23: Resistivity | F23: =+$F$9 -> 1530 | G23: =+G$9 -> 3930 | H23: =+H$9 -> 9000 | I23: =+I$9 -> 13590 | J23: =+J$9 -> 23070 | K23: =+K$9 -> 33030 | L23: =+$L$9 -> 47970 | N23: =+N$9 -> 79000 | O23: =+O$9 -> 79000 | P23: =+P$9 -> 79000 | Q23: =+Q$9 -> 79000 | R23: =+R$9 -> 79000 | S23: =+S$9 -> 79000
B24: =+$B$10 -> 80 | C24: =+B24/1000 -> 0.08 | D24: =1/C24 -> 12.5 | F24: =F$10*$J$21 -> 5.9138861 | G24: =G$10*$J$21 -> 3.6899663 | H24: =H$10*$J$21 -> 2.4383577 | I24: =I$10*$J$21 -> 1.9843074 | J24: =J$10*$J$21 -> 1.5229824 | K24: =K$10*$J$21 -> 1.2728124 | L24: =L$10*$J$21 -> 1.05617 | N24: =N$10*$J$21 -> 0.82301003 | O24: =O$10*$J$21 -> 0.82301003 | P24: =P$10*$J$21 -> 0.82301003 | Q24: =Q$10*$J$21 -> 0.82301003 | R24: =R$10*$J$21 -> 0.82301003 | S24: =S$10*$J$21 -> 0.82301003
B25: =+$B$11 -> 40 | C25: =+B25/1000 -> 0.04 | D25: =1/C25 -> 25 | F25: =F$11*$J$21 -> 8.363498 | G25: =G11*$J$21 -> 5.2184004 | H25: =H11*$J$21 -> 3.4483586 | I25: =I11*$J$21 -> 2.8062344 | J25: =J11*$J$21 -> 2.1538223 | K25: =K11*$J$21 -> 1.8000285 | L25: =L11*$J$21 -> 1.4936499 | N25: =N11*$J$21 -> 1.1639119 | O25: =O11*$J$21 -> 1.1639119 | P25: =P11*$J$21 -> 1.1639119 | Q25: =Q11*$J$21 -> 1.1639119 | R25: =R11*$J$21 -> 1.1639119 | S25: =S11*$J$21 -> 1.1639119 | AC25: =+AVERAGE(F25:L25) -> 3.6119989 | AD25: m: average depth across frequencies
B26: =+$B$12 -> 20 | C26: =+B26/1000 -> 0.02 | D26: =1/C26 -> 50 | F26: =F$12*$J$21 -> 11.827772 | G26: =G12*$J$21 -> 7.3799326 | H26: =H12*$J$21 -> 4.8767154 | I26: =I12*$J$21 -> 3.9686147 | J26: =J12*$J$21 -> 3.0459647 | K26: =K12*$J$21 -> 2.5456247 | L26: =L12*$J$21 -> 2.1123399 | N26: =N12*$J$21 -> 1.6460201 | O26: =O12*$J$21 -> 1.6460201 | P26: =P12*$J$21 -> 1.6460201 | Q26: =Q12*$J$21 -> 1.6460201 | R26: =R12*$J$21 -> 1.6460201 | S26: =S12*$J$21 -> 1.6460201
C29: Utility for training purposes only.
C30: Enter data in the cells with yellow shading and red text. | J30: Then all blue cells will be computed or copied automatically.
C31: The graphs, which are color coded, will update automatically.

Sheet HiF Est SkinD and DOI-M
B2: Estimates of skin depth and depth of investigation | K2: Comment: This spreadsheet is for rough estimates. For best estimates of depth of investigation perform
K3: inversion and a depth of investigation (DOI) analysis
B4: optional conversion tool | G4: skin depth = 2/ (2p m w )^1/2 | J4: = | K4: 1/ (p m s f)^1/2 | O4: Haoping Huang 2005 Geopphysics v70 n6
B5: mS/m | D5: ohm-m | G5: MagPermeability | H5: =4*3.14159*(10^-7) -> 1.256636e-06 | U5: These plots will be updated automatically using data
B6: =1/$D$6*1000 -> 250 | C6: <=== | D6: 4 | I6: RECOMMENDED LOW FREQUENCY SETTINGS | U6: from the left side of the worksheet.
F7: ESTIMATES OF DEPTH (m) as a function of TOTAL EC (S/m) for various frequencies in Hertz
B8: Total EC | C8: Total EC | D8: Resistivity | F8: Skin Depth (d) in meters | I8: Frequency in Hertz | N8: Frequency in Hertz
B9: (mS/m) | C9: (S/m) | D9: (ohm-m) | F9: 1530 | G9: 8280 | H9: 23070 | I9: 33030 | J9: 47970 | K9: 63090 | L9: 93090 | N9: 79000 | O9: 79000 | P9: 79000 | Q9: 79000 | R9: 79000 | S9: 79000 | AC9: The plot below compares the results for EC entered in cell B11: | AF9: =+B11 -> 40
B10: 80 | C10: =+B10/1000 -> 0.08 | D10: =1/C10 -> 12.5 | F10: =1/(SQRT($H$5*$C10*PI()*F$9)) -> 45.491432 | G10: =1/(SQRT($H$5*$C10*PI()*G$9)) -> 19.555105 | H10: =1/(SQRT($H$5*$C10*PI()*H$9)) -> 11.715249 | I10: =1/(SQRT($H$5*$C10*PI()*I$9)) -> 9.7908644 | J10: =1/(SQRT($H$5*$C10*PI()*J$9)) -> 8.1243844 | K10: =1/(SQRT($H$5*$C10*PI()*K$9)) -> 7.0842692 | L10: =1/(SQRT($H$5*$C10*PI()*L$9)) -> 5.8320845 | N10: =1/(SQRT($H$5*$C10*PI()*N$9)) -> 6.3308464 | O10: =1/(SQRT($H$5*$C10*PI()*O$9)) -> 6.3308464 | P10: =1/(SQRT($H$5*$C10*PI()*P$9)) -> 6.3308464 | Q10: =1/(SQRT($H$5*$C10*PI()*Q$9)) -> 6.3308464 | R10: =1/(SQRT($H$5*$C10*PI()*R$9)) -> 6.3308464 | S10: =1/(SQRT($H$5*$C10*PI()*S$9)) -> 6.3308464 | AE10: or a resistivity of: | AF10: =+D11 -> 25
B11: 40 | C11: =+B11/1000 -> 0.04 | D11: =1/C11 -> 25 | F11: =1/(SQRT($H$5*$C11*PI()*F$9)) -> 64.3346 | G11: =1/(SQRT($H$5*$C11*PI()*G$9)) -> 27.655095 | H11: =1/(SQRT($H$5*$C11*PI()*H$9)) -> 16.567864 | I11: =1/(SQRT($H$5*$C11*PI()*I$9)) -> 13.846373 | J11: =1/(SQRT($H$5*$C11*PI()*J$9)) -> 11.489615 | K11: =1/(SQRT($H$5*$C11*PI()*K$9)) -> 10.01867 | L11: =1/(SQRT($H$5*$C11*PI()*L$9)) -> 8.247813 | N11: =1/(SQRT($H$5*$C11*PI()*N$9)) -> 8.9531688 | O11: =1/(SQRT($H$5*$C11*PI()*O$9)) -> 8.9531688 | P11: =1/(SQRT($H$5*$C11*PI()*P$9)) -> 8.9531688 | Q11: =1/(SQRT($H$5*$C11*PI()*Q$9)) -> 8.9531688 | R11: =1/(SQRT($H$5*$C11*PI()*R$9)) -> 8.9531688 | S11: =1/(SQRT($H$5*$C11*PI()*S$9)) -> 8.9531688
B12: 20 | C12: =+B12/1000 -> 0.02 | D12: =1/C12 -> 50 | F12: =1/(SQRT($H$5*$C12*PI()*F$9)) -> 90.982864 | G12: =1/(SQRT($H$5*$C12*PI()*G$9)) -> 39.11021 | H12: =1/(SQRT($H$5*$C12*PI()*H$9)) -> 23.430498 | I12: =1/(SQRT($H$5*$C12*PI()*I$9)) -> 19.581729 | J12: =1/(SQRT($H$5*$C12*PI()*J$9)) -> 16.248769 | K12: =1/(SQRT($H$5*$C12*PI()*K$9)) -> 14.168538 | L12: =1/(SQRT($H$5*$C12*PI()*L$9)) -> 11.664169 | N12: =1/(SQRT($H$5*$C12*PI()*N$9)) -> 12.661693 | O12: =1/(SQRT($H$5*$C12*PI()*O$9)) -> 12.661693 | P12: =1/(SQRT($H$5*$C12*PI()*P$9)) -> 12.661693 | Q12: =1/(SQRT($H$5*$C12*PI()*Q$9)) -> 12.661693 | R12: =1/(SQRT($H$5*$C12*PI()*R$9)) -> 12.661693 | S12: =1/(SQRT($H$5*$C12*PI()*S$9)) -> 12.661693
F14: (Square Route of d in meters)
F15: Depth for selected frequencies (in m)
B16: Total EC | C16: Total EC | D16: Resistivity | F16: =+$F$9 -> 1530 | G16: =+G$9 -> 8280 | H16: =+H$9 -> 23070 | I16: =+I$9 -> 33030 | J16: =+J$9 -> 47970 | K16: =+K$9 -> 63090 | L16: =+$L$9 -> 93090 | N16: =+N$9 -> 79000 | O16: =+O$9 -> 79000 | P16: =+P$9 -> 79000 | Q16: =+Q$9 -> 79000 | R16: =+R$9 -> 79000 | S16: =+S$9 -> 79000
B17: =+$B$10 -> 80 | C17: =+B17/1000 -> 0.08 | D17: =1/C17 -> 12.5 | F17: =SQRT(F10) -> 6.7447336 | G17: =SQRT(G10) -> 4.4221154 | H17: =SQRT(H10) -> 3.4227546 | I17: =SQRT(I10) -> 3.1290357 | J17: =SQRT(J10) -> 2.8503306 | K17: =SQRT(K10) -> 2.6616291 | L17: =SQRT(L10) -> 2.4149709 | N17: =SQRT(N10) -> 2.5161173 | O17: =SQRT(O10) -> 2.5161173 | P17: =SQRT(P10) -> 2.5161173 | Q17: =SQRT(Q10) -> 2.5161173 | R17: =SQRT(R10) -> 2.5161173 | S17: =SQRT(S10) -> 2.5161173
B18: =+$B$11 -> 40 | C18: =+B18/1000 -> 0.04 | D18: =1/C18 -> 25 | F18: =SQRT(F11) -> 8.0208852 | G18: =SQRT(G11) -> 5.2588112 | H18: =SQRT(H11) -> 4.0703641 | I18: =SQRT(I11) -> 3.7210715 | J18: =SQRT(J11) -> 3.3896334 | K18: =SQRT(K11) -> 3.1652282 | L18: =SQRT(L11) -> 2.8719006 | N18: =SQRT(N11) -> 2.9921846 | O18: =SQRT(O11) -> 2.9921846 | P18: =SQRT(P11) -> 2.9921846 | Q18: =SQRT(Q11) -> 2.9921846 | R18: =SQRT(R11) -> 2.9921846 | S18: =SQRT(S11) -> 2.9921846
B19: =+$B$12 -> 20 | C19: =+B19/1000 -> 0.02 | D19: =1/C19 -> 50 | F19: =SQRT(F12) -> 9.5384938 | G19: =SQRT(G12) -> 6.2538156 | H19: =SQRT(H12) -> 4.840506 | I19: =SQRT(I12) -> 4.4251247 | J19: =SQRT(J12) -> 4.0309762 | K19: =SQRT(K12) -> 3.7641119 | L19: =SQRT(L12) -> 3.4152846 | N19: =SQRT(N12) -> 3.5583272 | O19: =SQRT(O12) -> 3.5583272 | P19: =SQRT(P12) -> 3.5583272 | Q19: =SQRT(Q12) -> 3.5583272 | R19: =SQRT(R12) -> 3.5583272 | S19: =SQRT(S12) -> 3.5583272
J20: Proportioning Factor
F21: (Fraction of d in meters) | J21: 0.1
F22: Depth for selected frequencies (in m)
B23: Total EC | C23: Total EC | D23: Resistivity | F23: =+$F$9 -> 1530 | G23: =+G$9 -> 8280 | H23: =+H$9 -> 23070 | I23: =+I$9 -> 33030 | J23: =+J$9 -> 47970 | K23: =+K$9 -> 63090 | L23: =+$L$9 -> 93090 | N23: =+N$9 -> 79000 | O23: =+O$9 -> 79000 | P23: =+P$9 -> 79000 | Q23: =+Q$9 -> 79000 | R23: =+R$9 -> 79000 | S23: =+S$9 -> 79000
B24: =+$B$10 -> 80 | C24: =+B24/1000 -> 0.08 | D24: =1/C24 -> 12.5 | F24: =F$10*$J$21 -> 4.5491432 | G24: =G$10*$J$21 -> 1.9555105 | H24: =H$10*$J$21 -> 1.1715249 | I24: =I$10*$J$21 -> 0.97908644 | J24: =J$10*$J$21 -> 0.81243844 | K24: =K$10*$J$21 -> 0.70842692 | L24: =L$10*$J$21 -> 0.58320845 | N24: =N$10*$J$21 -> 0.63308464 | O24: =O$10*$J$21 -> 0.63308464 | P24: =P$10*$J$21 -> 0.63308464 | Q24: =Q$10*$J$21 -> 0.63308464 | R24: =R$10*$J$21 -> 0.63308464 | S24: =S$10*$J$21 -> 0.63308464
B25: =+$B$11 -> 40 | C25: =+B25/1000 -> 0.04 | D25: =1/C25 -> 25 | F25: =F11*$J$21 -> 6.43346 | G25: =G11*$J$21 -> 2.7655095 | H25: =H11*$J$21 -> 1.6567864 | I25: =I11*$J$21 -> 1.3846373 | J25: =J11*$J$21 -> 1.1489615 | K25: =K11*$J$21 -> 1.001867 | L25: =L11*$J$21 -> 0.8247813 | N25: =N11*$J$21 -> 0.89531688 | O25: =O11*$J$21 -> 0.89531688 | P25: =P11*$J$21 -> 0.89531688 | Q25: =Q11*$J$21 -> 0.89531688 | R25: =R11*$J$21 -> 0.89531688 | S25: =S11*$J$21 -> 0.89531688 | AC25: =+AVERAGE(F25:L25) -> 2.1737147 | AD25: m: average depth across frequencies
B26: =+$B$12 -> 20 | C26: =+B26/1000 -> 0.02 | D26: =1/C26 -> 50 | F26: =F12*$J$21 -> 9.0982864 | G26: =G12*$J$21 -> 3.911021 | H26: =H12*$J$21 -> 2.3430498 | I26: =I12*$J$21 -> 1.9581729 | J26: =J12*$J$21 -> 1.6248769 | K26: =K12*$J$21 -> 1.4168538 | L26: =L12*$J$21 -> 1.1664169 | N26: =N12*$J$21 -> 1.2661693 | O26: =O12*$J$21 -> 1.2661693 | P26: =P12*$J$21 -> 1.2661693 | Q26: =Q12*$J$21 -> 1.2661693 | R26: =R12*$J$21 -> 1.2661693 | S26: =S12*$J$21 -> 1.2661693
C29: Utility for training purposes only.
C30: Enter data in the cells with yellow shading and red text. | J30: Then all blue cells will be computed or copied automatically.
C31: The graphs, which are color coded, will update automatically.

Sheet LOW-f skinD and DOI-m2ft
B2: Estimates of skin depth and depth of investigation | K2: Comment: This spreadsheet is for rough estimates. For best estimates of depth of investigation perform
K3: inversion and a depth of investigation (DOI) analysis
G4: skin depth = 2/ (2p m w )^1/2 | J4: = | K4: 1/ (p m s f)^1/2 | O4: Haoping Huang 2005 Geopphysics v70 n6
G5: MagPermeability | H5: =4*3.14159*(10^-7) -> 1.256636e-06 | U5: These plots will be updated automatically using data
I6: RECOMMENDED LOW FREQUENCY SETTINGS | U6: from the left side of the worksheet.
F7: ESTIMATES OF DEPTH (m) as a function of TOTAL EC (S/m) for various frequencies in Hertz
B8: Total EC | C8: Total EC | D8: Resistivity | F8: Skin Depth (d) in feet | I8: Frequency in Hertz | N8: Frequency in Hertz
B9: (mS/m) | C9: (S/m) | D9: (ohm-m) | F9: =+'LoF_Est SkinD and DOI-Metric'!F9 -> 1530 | G9: =+'LoF_Est SkinD and DOI-Metric'!G9 -> 3930 | H9: =+'LoF_Est SkinD and DOI-Metric'!H9 -> 9000 | I9: =+'LoF_Est SkinD and DOI-Metric'!I9 -> 13590 | J9: =+'LoF_Est SkinD and DOI-Metric'!J9 -> 23070 | K9: =+'LoF_Est SkinD and DOI-Metric'!K9 -> 33030 | L9: =+'LoF_Est SkinD and DOI-Metric'!L9 -> 47970 | N9: 79000 | O9: 79000 | P9: 79000 | Q9: 79000 | R9: 79000 | S9: 79000 | AC9: The plot below compares the results for EC entered in cell B11: | AF9: =+B11 -> 40
B10: =+'LoF_Est SkinD and DOI-Metric'!B10 -> 80 | C10: =+B10/1000 -> 0.08 | D10: =1/C10 -> 12.5 | F10: =+'LoF_Est SkinD and DOI-Metric'!F10*3.281 -> 149.25739 | G10: =+'LoF_Est SkinD and DOI-Metric'!G10*3.281 -> 93.129072 | H10: =+'LoF_Est SkinD and DOI-Metric'!H10*3.281 -> 61.540398 | I10: =+'LoF_Est SkinD and DOI-Metric'!I10*3.281 -> 50.080865 | J10: =+'LoF_Est SkinD and DOI-Metric'!J10*3.281 -> 38.437732 | K10: =+'LoF_Est SkinD and DOI-Metric'!K10*3.281 -> 32.123826 | L10: =+'LoF_Est SkinD and DOI-Metric'!L10*3.281 -> 26.656105 | N10: =1/(SQRT($H$5*$C10*PI()*N$9)) -> 6.3308464 | O10: =1/(SQRT($H$5*$C10*PI()*O$9)) -> 6.3308464 | P10: =1/(SQRT($H$5*$C10*PI()*P$9)) -> 6.3308464 | Q10: =1/(SQRT($H$5*$C10*PI()*Q$9)) -> 6.3308464 | R10: =1/(SQRT($H$5*$C10*PI()*R$9)) -> 6.3308464 | S10: =1/(SQRT($H$5*$C10*PI()*S$9)) -> 6.3308464 | AE10: or a resistivity of: | AF10: =+D11 -> 25
B11: =+'LoF_Est SkinD and DOI-Metric'!B11 -> 40 | C11: =+B11/1000 -> 0.04 | D11: =1/C11 -> 25 | F11: =+'LoF_Est SkinD and DOI-Metric'!F11*3.281 -> 211.08182 | G11: =+'LoF_Est SkinD and DOI-Metric'!G11*3.281 -> 131.7044 | H11: =+'LoF_Est SkinD and DOI-Metric'!H11*3.281 -> 87.031265 | I11: =+'LoF_Est SkinD and DOI-Metric'!I11*3.281 -> 70.825039 | J11: =+'LoF_Est SkinD and DOI-Metric'!J11*3.281 -> 54.359162 | K11: =+'LoF_Est SkinD and DOI-Metric'!K11*3.281 -> 45.42995 | L11: =+'LoF_Est SkinD and DOI-Metric'!L11*3.281 -> 37.697425 | N11: =1/(SQRT($H$5*$C11*PI()*N$9)) -> 8.9531688 | O11: =1/(SQRT($H$5*$C11*PI()*O$9)) -> 8.9531688 | P11: =1/(SQRT($H$5*$C11*PI()*P$9)) -> 8.9531688 | Q11: =1/(SQRT($H$5*$C11*PI()*Q$9)) -> 8.9531688 | R11: =1/(SQRT($H$5*$C11*PI()*R$9)) -> 8.9531688 | S11: =1/(SQRT($H$5*$C11*PI()*S$9)) -> 8.9531688
B12: =+'LoF_Est SkinD and DOI-Metric'!B12 -> 20 | C12: =+B12/1000 -> 0.02 | D12: =1/C12 -> 50 | F12: =+'LoF_Est SkinD and DOI-Metric'!F12*3.281 -> 298.51478 | G12: =+'LoF_Est SkinD and DOI-Metric'!G12*3.281 -> 186.25814 | H12: =+'LoF_Est SkinD and DOI-Metric'!H12*3.281 -> 123.0808 | I12: =+'LoF_Est SkinD and DOI-Metric'!I12*3.281 -> 100.16173 | J12: =+'LoF_Est SkinD and DOI-Metric'!J12*3.281 -> 76.875464 | K12: =+'LoF_Est SkinD and DOI-Metric'!K12*3.281 -> 64.247652 | L12: =+'LoF_Est SkinD and DOI-Metric'!L12*3.281 -> 53.31221 | N12: =1/(SQRT($H$5*$C12*PI()*N$9)) -> 12.661693 | O12: =1/(SQRT($H$5*$C12*PI()*O$9)) -> 12.661693 | P12: =1/(SQRT($H$5*$C12*PI()*P$9)) -> 12.661693 | Q12: =1/(SQRT($H$5*$C12*PI()*Q$9)) -> 12.661693 | R12: =1/(SQRT($H$5*$C12*PI()*R$9)) -> 12.661693 | S12: =1/(SQRT($H$5*$C12*PI()*S$9)) -> 12.661693
F14: (Square Route of d in feet)
F15: Depth for selected frequencies (in m)
B16: Total EC | C16: Total EC | D16: Resistivity | F16: =+$F$9 -> 1530 | G16: =+G$9 -> 3930 | H16: =+H$9 -> 9000 | I16: =+I$9 -> 13590 | J16: =+J$9 -> 23070 | K16: =+K$9 -> 33030 | L16: =+$L$9 -> 47970 | N16: =+N$9 -> 79000 | O16: =+O$9 -> 79000 | P16: =+P$9 -> 79000 | Q16: =+Q$9 -> 79000 | R16: =+R$9 -> 79000 | S16: =+S$9 -> 79000
B17: =+$B$10 -> 80 | C17: =+B17/1000 -> 0.08 | D17: =1/C17 -> 12.5 | F17: =+'LoF_Est SkinD and DOI-Metric'!F17*3.281 -> 22.129471 | G17: =+'LoF_Est SkinD and DOI-Metric'!G17*3.281 -> 17.480174 | H17: =+'LoF_Est SkinD and DOI-Metric'!H17*3.281 -> 14.209646 | I17: =+'LoF_Est SkinD and DOI-Metric'!I17*3.281 -> 12.818554 | J17: =+'LoF_Est SkinD and DOI-Metric'!J17*3.281 -> 11.230058 | K17: =+'LoF_Est SkinD and DOI-Metric'!K17*3.281 -> 10.266366 | L17: =+'LoF_Est SkinD and DOI-Metric'!L17*3.281 -> 9.3519346 | N17: =SQRT(N10) -> 2.5161173 | O17: =SQRT(O10) -> 2.5161173 | P17: =SQRT(P10) -> 2.5161173 | Q17: =SQRT(Q10) -> 2.5161173 | R17: =SQRT(R10) -> 2.5161173 | S17: =SQRT(S10) -> 2.5161173
B18: =+$B$11 -> 40 | C18: =+B18/1000 -> 0.04 | D18: =1/C18 -> 25 | F18: =+'LoF_Est SkinD and DOI-Metric'!F18*3.281 -> 26.316524 | G18: =+'LoF_Est SkinD and DOI-Metric'!G18*3.281 -> 20.787547 | H18: =+'LoF_Est SkinD and DOI-Metric'!H18*3.281 -> 16.898212 | I18: =+'LoF_Est SkinD and DOI-Metric'!I18*3.281 -> 15.243915 | J18: =+'LoF_Est SkinD and DOI-Metric'!J18*3.281 -> 13.354865 | K18: =+'LoF_Est SkinD and DOI-Metric'!K18*3.281 -> 12.208836 | L18: =+'LoF_Est SkinD and DOI-Metric'!L18*3.281 -> 11.121387 | N18: =SQRT(N11) -> 2.9921846 | O18: =SQRT(O11) -> 2.9921846 | P18: =SQRT(P11) -> 2.9921846 | Q18: =SQRT(Q11) -> 2.9921846 | R18: =SQRT(R11) -> 2.9921846 | S18: =SQRT(S11) -> 2.9921846
B19: =+$B$12 -> 20 | C19: =+B19/1000 -> 0.02 | D19: =1/C19 -> 50 | F19: =+'LoF_Est SkinD and DOI-Metric'!F19*3.281 -> 31.295798 | G19: =+'LoF_Est SkinD and DOI-Metric'!G19*3.281 -> 24.720699 | H19: =+'LoF_Est SkinD and DOI-Metric'!H19*3.281 -> 20.095474 | I19: =+'LoF_Est SkinD and DOI-Metric'!I19*3.281 -> 18.128172 | J19: =+'LoF_Est SkinD and DOI-Metric'!J19*3.281 -> 15.8817 | K19: =+'LoF_Est SkinD and DOI-Metric'!K19*3.281 -> 14.518834 | L19: =+'LoF_Est SkinD and DOI-Metric'!L19*3.281 -> 13.225633 | N19: =SQRT(N12) -> 3.5583272 | O19: =SQRT(O12) -> 3.5583272 | P19: =SQRT(P12) -> 3.5583272 | Q19: =SQRT(Q12) -> 3.5583272 | R19: =SQRT(R12) -> 3.5583272 | S19: =SQRT(S12) -> 3.5583272
J20: Proportioning Factor
F21: (Fraction of d in meters) | J21: =+'LoF_Est SkinD and DOI-Metric'!J21 -> 0.13
F22: Depth for selected frequencies (in m)
B23: Total EC | C23: Total EC | D23: Resistivity | F23: =+$F$9 -> 1530 | G23: =+G$9 -> 3930 | H23: =+H$9 -> 9000 | I23: =+I$9 -> 13590 | J23: =+J$9 -> 23070 | K23: =+K$9 -> 33030 | L23: =+$L$9 -> 47970 | N23: =+N$9 -> 79000 | O23: =+O$9 -> 79000 | P23: =+P$9 -> 79000 | Q23: =+Q$9 -> 79000 | R23: =+R$9 -> 79000 | S23: =+S$9 -> 79000
B24: =+$B$10 -> 80 | C24: =+B24/1000 -> 0.08 | D24: =1/C24 -> 12.5 | F24: =+'LoF_Est SkinD and DOI-Metric'!F24*3.281 -> 19.40346 | G24: =+'LoF_Est SkinD and DOI-Metric'!G24*3.281 -> 12.106779 | H24: =+'LoF_Est SkinD and DOI-Metric'!H24*3.281 -> 8.0002517 | I24: =+'LoF_Est SkinD and DOI-Metric'!I24*3.281 -> 6.5105125 | J24: =+'LoF_Est SkinD and DOI-Metric'!J24*3.281 -> 4.9969052 | K24: =+'LoF_Est SkinD and DOI-Metric'!K24*3.281 -> 4.1760974 | L24: =+'LoF_Est SkinD and DOI-Metric'!L24*3.281 -> 3.4652937 | N24: =N$10*$J$21 -> 0.82301003 | O24: =O$10*$J$21 -> 0.82301003 | P24: =P$10*$J$21 -> 0.82301003 | Q24: =Q$10*$J$21 -> 0.82301003 | R24: =R$10*$J$21 -> 0.82301003 | S24: =S$10*$J$21 -> 0.82301003
B25: =+$B$11 -> 40 | C25: =+B25/1000 -> 0.04 | D25: =1/C25 -> 25 | F25: =+'LoF_Est SkinD and DOI-Metric'!F25*3.281 -> 27.440637 | G25: =+'LoF_Est SkinD and DOI-Metric'!G25*3.281 -> 17.121572 | H25: =+'LoF_Est SkinD and DOI-Metric'!H25*3.281 -> 11.314064 | I25: =+'LoF_Est SkinD and DOI-Metric'!I25*3.281 -> 9.2072551 | J25: =+'LoF_Est SkinD and DOI-Metric'!J25*3.281 -> 7.0666911 | K25: =+'LoF_Est SkinD and DOI-Metric'!K25*3.281 -> 5.9058936 | L25: =+'LoF_Est SkinD and DOI-Metric'!L25*3.281 -> 4.9006653 | N25: =N11*$J$21 -> 1.1639119 | O25: =O11*$J$21 -> 1.1639119 | P25: =P11*$J$21 -> 1.1639119 | Q25: =Q11*$J$21 -> 1.1639119 | R25: =R11*$J$21 -> 1.1639119 | S25: =S11*$J$21 -> 1.1639119 | AC25: =+AVERAGE(F25:L25) -> 11.850968 | AD25: m: average depth across frequencies
B26: =+$B$12 -> 20 | C26: =+B26/1000 -> 0.02 | D26: =1/C26 -> 50 | F26: =+'LoF_Est SkinD and DOI-Metric'!F26*3.281 -> 38.806921 | G26: =+'LoF_Est SkinD and DOI-Metric'!G26*3.281 -> 24.213559 | H26: =+'LoF_Est SkinD and DOI-Metric'!H26*3.281 -> 16.000503 | I26: =+'LoF_Est SkinD and DOI-Metric'!I26*3.281 -> 13.021025 | J26: =+'LoF_Est SkinD and DOI-Metric'!J26*3.281 -> 9.9938103 | K26: =+'LoF_Est SkinD and DOI-Metric'!K26*3.281 -> 8.3521948 | L26: =+'LoF_Est SkinD and DOI-Metric'!L26*3.281 -> 6.9305873 | N26: =N12*$J$21 -> 1.6460201 | O26: =O12*$J$21 -> 1.6460201 | P26: =P12*$J$21 -> 1.6460201 | Q26: =Q12*$J$21 -> 1.6460201 | R26: =R12*$J$21 -> 1.6460201 | S26: =S12*$J$21 -> 1.6460201
C29: Utility for training purposes only.
C30: Enter data in the cells with yellow shading and red text. | J30: Then all blue cells will be computed or copied automatically.
C31: The graphs, which are color coded, will update automatically.
