Workbook
Name Sites: OFFSET(Lists!$C$2,0,0,SUMPRODUCT(--(Lists!$C$2:$C$101<>"")),1)

Sheet Welcome
A1: DO NOT REMOVE OR EDIT INFORMATION IN ROWS 1 THORUGH 5 FOR INTERNAL USE ONLY
A2: Template Name | B2: 60.615 Semiannual Report (Spreadsheet Template)
A3: CitationID | B3: 60.615
A4: Template Version | B4: v1.00
A5: Last Updated Date | B5: 45441
B6: OMB Control Numbers: 2060-0443 (40 CFR Part 60, Subpart III); 2060-NEW (40 CFR Part 60, Subpart IIIa) Form 5900-694 For further Paperwork Reduction Act information see: https://www.epa.gov/electronic-reporting-air-emissions/paperwork-reduction-act-pra-cedri-and-ert
B7: For further Paperwork Reduction Act information see: https://www.epa.gov/electronic-reporting-air-emissions/paperwork-reduction-act-pra-cedri-and-ert
B8: 40 CFR Part 60, Subpart III and Subpart IIIa - Standards of Performance for Volatile Organic Compound (VOC) Emissions From Synthetic Organic Chemical Manufacturing Industry (SOCMI) Air Oxidation Unit Processes
B9: §60.615(j) and §60.615a(i) Semiannual Report Spreadsheet Template
B10: Instructions for Spreadsheet Template
B11: Purpose: This spreadsheet template was designed by the U.S. EPA to facilitate semiannual reporting for affected facilities subject under 40 CFR part 60, subparts III and IIIa Standards of Performance for Volatile Organic Compound (VOC) Emissions From Synthetic Organic Chemical Manufacturing Industry (SOCMI) Air Oxidation Unit Processes.
B12: Electronic reporting: Electronic submission of semiannual reports through the EPA's Compliance and Emissions Data Reporting (CEDRI) is required under §60.615(j) and §60.615a(h). CEDRI is accessed through the EPA's Central Data Exchange (https://cdx.epa.gov).
B13: Confidential Business Information:
B14: Do not submit confidential business information (CBI) to EPA via CEDRI. EPA will make all the information submitted through this form via CEDRI available to the public without further notice to you. All CBI claims must be asserted at the time of submission. Anything submitted using CEDRI cannot later be claimed to be CBI. Furthermore, under CAA section 114(c) emissions data is not entitled to confidential treatment, and EPA is required to make emissions data available to the public. Thus, emissions data will not be protected as CBI and will be made publicly available.
B15: Although we do not expect persons to assert a claim of CBI, if persons wish to assert a CBI claim for some of the information in this report, you must submit a version of the report with the CBI omitted via CEDRI and submit a complete report, including any information claimed to be CBI, to EPA. The preferred method to receive CBI is for it to be transmitted electronically using email attachments, File Transfer Protocol, or other online file sharing services. Electronic submissions must be transmitted directly to the OAQPS CBI Office at the email address oaqpscbi@epa.gov to the attention of the Synthetic Organic Chemical Manufacturing Sector Lead. If assistance is needed with submitting large electronic files that exceed the file size limit for email attachments, and if you do not have your own file sharing service, please email oaqpscbi@epa.gov to request a file transfer link. If you cannot transmit the file electronically, you may send CBI information through the postal service to the following address:
B16: OAQPS Document Control Officer (C404-02) OAQPS, U.S. Environmental Protection Agency Attn: SOCMI NSPS Sector Lead 109 T.W. Alexander Drive P.O. Box 12055 Research Triangle Park, North Carolina 27711
B17: The mailed CBI material should be double wrapped and clearly marked. Any CBI markings should not show through the outer envelope. Clearly mark the part or all of the information that you claim to be CBI. Information not marked as CBI may be authorized for public release without prior notice. Information marked as CBI will not be disclosed except in accordance with procedures set forth in 40 CFR part 2.
... B25: Within each worksheet, example rows are colored light orange (rows 14 through 23), and the XML tag row (row 13) is colored green. These rows are locked; no data entry is made in these rows.

Sheet Company_Information
B1: DO NOT REMOVE OR EDIT INFORMATION IN ROWS 1 THORUGH 5 FOR INTERNAL USE ONLY
B2: =Welcome!A2 -> Template Name | C2: =Welcome!B2 -> 60.615 Semiannual Report (Spreadsheet Template)
B3: =Welcome!A3 -> CitationID | C3: =Welcome!B3 -> 60.615
B4: =Welcome!A4 -> Template Version | C4: =Welcome!B4 -> v1.00
B5: =Welcome!A5 -> Last Updated Date | C5: =Welcome!B5 -> 45441
B7: 40 CFR Part 60, Subparts III and IIIa: Standards of Performance for VOC Emissions From SOCMI Air Oxidation Unit Processes; §60.615(j) and §60.615a(i) Semiannual Report
B8: Each owner or operator that seeks to comply with the requirements of subpart III shall submit to the Administrator semiannual reports of the following information.
B9: You must submit to the Administrator semiannual reports of the information specified in §60.615a(i)(1) through (7). If there are no exceedances, periods, or events specified in §60.615a(i)(1) through (7) that occurred during the reporting period, then you must include a statement in your report that no exceedances, periods, and events specified in §60.615a(i)(1) through (7) occurred during the reporting period. You may submit the information in §60.615a(i)(8) with the semiannual report.
B10: Note: The Company Record No. will automatically generate if you do not enter one.
B11: SITE INFORMATION | J11: STATE IDENTIFIER | K11: REPORTING PERIOD | M11: Declaration of No Exceedances, Periods, or Events | N11: TRE Recalculation | O11: Low Flow Exemption Change | P11: ADDITIONAL INFORMATION
B12: Company Record No. (Field value will automatically generate if a value is not entered.) | C12: Company Name (§60.615a(i)) | D12: Address (§60.615a(i)) | E12: Address 2 | F12: City (§60.615a(i)) | G12: County (§60.615a(i)) | H12: State Abbreviation (§60.615a(i)) (Select from dropdown list) | I12: Zip Code (§60.615a(i)) | J12: Responsible Agency Facility ID (State Facility Identifier) | K12: Beginning Date of Reporting Period (§60.615a(i)) | L12: Ending Date of Reporting Period (§60.615a(i)) | M12: If there are no exceedances, periods, or events specified in paragraphs §60.615a(i)(1) through (7) that occurred during the reporting period, indicate that here. (§60.615a(i)) (Select from dropdown list) | N12: For sites subject to NSPS III, if there was a recalculation of the TRE index value, indicate the file name of the attachment with the recalculation. §60.615(j)(5) | O12: If you are reporting a change in equipment or process operation that increases the operating vent stream flow rate above the low flow exemption level in §60.610a(c)(1), indicate the file name of the attached report. (§60.615a(i)(8)) | P12: Please enter any additional information. | Q12: Enter associated file name reference.
B13: RecordId | C13: FacilityName | D13: AddressLine1 | E13: AddressLine2 | F13: CityName | G13: CountyName | H13: StateName | I13: ZipCode | J13: StateFacId | K13: PeriodStartDate | L13: PeriodEndDate | M13: NoEventsFlag | N13: RecalculationFile | O13: LowFlowFile | P13: AddInfo | Q13: AddFile
B14: e.g.: 1 | C14: e.g.: ABC Company | D14: e.g.: 456 Broad Street | E14: e.g.: Suite 249 | F14: e.g.: Houston | G14: e.g.: Cook | H14: e.g.: TX | I14: e.g.: 77001 | J14: e.g.: | K14: e.g.: 01/01/23 | L14: e.g.: 06/30/23 | M14: e.g.: No exceedances; periods; and events specified in paragraphs §60.615a(i)(1) through (7) occurred during the reporting period. | N14: e.g.: recalculation.pdf | O14: e.g.: flowreport.pdf | P14: e.g.: | Q14: e.g.: addinfo.zip
B15: e.g.: | C15: e.g.: | D15: e.g.: | E15: e.g.: | F15: e.g.: | G15: e.g.: | H15: e.g.: | I15: e.g.: | J15: e.g.: | K15: e.g.: | L15: e.g.: | M15: e.g.: | N15: e.g.: | O15: e.g.: | P15: e.g.: | Q15: e.g.:
B16: e.g.: | C16: e.g.: | D16: e.g.: | E16: e.g.: | F16: e.g.: | G16: e.g.: | H16: e.g.: | I16: e.g.: | J16: e.g.: | K16: e.g.: | L16: e.g.: | M16: e.g.: | N16: e.g.: | O16: e.g.: | P16: e.g.: | Q16: e.g.:
B17: e.g.: | C17: e.g.: | D17: e.g.: | E17: e.g.: | F17: e.g.: | G17: e.g.: | H17: e.g.: | I17: e.g.: | J17: e.g.: | K17: e.g.: | L17: e.g.: | M17: e.g.: | N17: e.g.: | O17: e.g.: | P17: e.g.: | Q17: e.g.:
B18: e.g.: | C18: e.g.: | D18: e.g.: | E18: e.g.: | F18: e.g.: | G18: e.g.: | H18: e.g.: | I18: e.g.: | J18: e.g.: | K18: e.g.: | L18: e.g.: | M18: e.g.: | N18: e.g.: | O18: e.g.: | P18: e.g.: | Q18: e.g.:
B19: e.g.: | C19: e.g.: | D19: e.g.: | E19: e.g.: | F19: e.g.: | G19: e.g.: | H19: e.g.: | I19: e.g.: | J19: e.g.: | K19: e.g.: | L19: e.g.: | M19: e.g.: | N19: e.g.: | O19: e.g.: | P19: e.g.: | Q19: e.g.:
B20: e.g.: | C20: e.g.: | D20: e.g.: | E20: e.g.: | F20: e.g.: | G20: e.g.: | H20: e.g.: | I20: e.g.: | J20: e.g.: | K20: e.g.: | L20: e.g.: | M20: e.g.: | N20: e.g.: | O20: e.g.: | P20: e.g.: | Q20: e.g.:
B21: e.g.: | C21: e.g.: | D21: e.g.: | E21: e.g.: | F21: e.g.: | G21: e.g.: | H21: e.g.: | I21: e.g.: | J21: e.g.: | K21: e.g.: | L21: e.g.: | M21: e.g.: | N21: e.g.: | O21: e.g.: | P21: e.g.: | Q21: e.g.:
B22: e.g.: | C22: e.g.: | D22: e.g.: | E22: e.g.: | F22: e.g.: | G22: e.g.: | H22: e.g.: | I22: e.g.: | J22: e.g.: | K22: e.g.: | L22: e.g.: | M22: e.g.: | N22: e.g.: | O22: e.g.: | P22: e.g.: | Q22: e.g.:
B23: e.g.: | C23: e.g.: | D23: e.g.: | E23: e.g.: | F23: e.g.: | G23: e.g.: | H23: e.g.: | I23: e.g.: | J23: e.g.: | K23: e.g.: | L23: e.g.: | M23: e.g.: | N23: e.g.: | O23: e.g.: | P23: e.g.: | Q23: e.g.:
B24: =IF(C24="","",ROW(B24)-23)
B25: =IF(C25="","",ROW(B25)-23)
B26: =IF(C26="","",ROW(B26)-23)
B27: =IF(C27="","",ROW(B27)-23)
B28: =IF(C28="","",ROW(B28)-23)
B29: =IF(C29="","",ROW(B29)-23)
B30: =IF(C30="","",ROW(B30)-23)
B31: =IF(C31="","",ROW(B31)-23)
B32: =IF(C32="","",ROW(B32)-23)
B33: =IF(C33="","",ROW(B33)-23)
B34: =IF(C34="","",ROW(B34)-23)
B35: =IF(C35="","",ROW(B35)-23)
... B223: =IF(C223="","",ROW(B223)-23)

Sheet Parameter_CEMS_Exceedances
B1: DO NOT REMOVE OR EDIT INFORMATION IN ROWS 1 THORUGH 5 FOR INTERNAL USE ONLY
B2: =Welcome!A2 -> Template Name | C2: =Welcome!B2 -> 60.615 Semiannual Report (Spreadsheet Template)
B3: =Welcome!A3 -> CitationID | C3: =Welcome!B3 -> 60.615
B4: =Welcome!A4 -> Template Version | C4: =Welcome!B4 -> v1.00
B5: =Welcome!A5 -> Last Updated Date | C5: =Welcome!B5 -> 45441
B7: =Company_Information!B7 -> 40 CFR Part 60, Subparts III and IIIa: Standards of Performance for VOC Emissions From SOCMI Air Oxidation Unit Processes; §60.615(j) and §60.615a(i) Semiannual Report
B8: (1) Exceedances of monitored parameters recorded under §60.615(c) and (g) or §60.615a(c). For each exceedance under Subpart IIIa, the report must include a list of the affected facilities or equipment, the monitored parameter that was exceeded, an estimate of the quantity in pounds of each regulated pollutant emitted over
B9: any emission limit, a description of the method used to estimate the emissions, the cause of the exceedance (including unknown cause, if applicable), as applicable, and the corrective action taken.
B10: (6) Exceedances of the emission standard as indicated by a 3-hour average of the TOC CEMS: the affected facilities/equipment, the start date and time, the duration, an estimate of the quantity of pollutant emitted over the limit, a description of the method used to estimate the emissions, the cause of the exceedance, and the corrective action taken.
B11: Note: Company Record No. selections will appear once information is entered onto the Company_Information tab.
B12: Company Record No. (Select from dropdown list) | C12: Process Unit Identification | D12: Affected Facility or Equipment (§60.615(j)(1), §60.615a(i)(1), §60.615a(i)(6)) | E12: Type of Event (Select from dropdown list) (§60.615(j)(1), §60.615a(i)(1), §60.615a(i)(6)) | F12: Monitored Parameter Exceeded (§60.615(j)(1), §60.615a(i)(1)) | G12: Start Date of Exceedance (§60.615(j)(1), §60.615a(i)(1), §60.615a(i)(6)) | H12: Start Time of Exceedance (§60.615(j)(1), §60.615a(i)(1), §60.615a(i)(6)) | I12: Duration of Exceedance (hours) (§60.615(j)(1), §60.615a(i)(1)) | J12: Estimate of the Quantity of Regulated Pollutant Emitted Over the Emission Limit (pounds) (§60.615a(i)(1), §60.615a(i)(6)) | K12: Description of the Method Used to Estimate the Emissions (§60.615a(i)(1), §60.615a(i)(6)) | L12: Cause of the Exceedance (including unknown cause, if applicable) (§60.615a(i)(1), §60.615a(i)(6)) | M12: Corrective Action Taken (§60.615a(i)(1), §60.615a(i)(6))
B13: RecordId | C13: ExceedanceProcessId | D13: ExceedanceFacilityId | E13: ExceedanceType | F13: ExceedanceParameter | G13: ExceedanceStartDate | H13: ExceedanceStartTime | I13: ExceedanceDuration | J13: ExceedancePollutantEstimate | K13: ExceedanceEstimationMethod | L13: ExceedanceCause | M13: ExceedanceCorrectiveAction
B14: e.g.: 1 | C14: e.g.: Unit A | D14: e.g.: Distillation Vent ABC | E14: e.g.: parameter exceedance | F14: e.g.: pH | G14: e.g.: 01/24/24 | H14: e.g.: 1:15 PM | I14: e.g.: 2 | J14: e.g.: 100 | K14: e.g.: | L14: e.g.: | M14: e.g.:
B15: e.g.: | C15: e.g.: | D15: e.g.: | E15: e.g.: | F15: e.g.: | G15: e.g.: | H15: e.g.: | I15: e.g.: | J15: e.g.: | K15: e.g.: | L15: e.g.: | M15: e.g.:
B16: e.g.: | C16: e.g.: | D16: e.g.: | E16: e.g.: | F16: e.g.: | G16: e.g.: | H16: e.g.: | I16: e.g.: | J16: e.g.: | K16: e.g.: | L16: e.g.: | M16: e.g.:
B17: e.g.: | C17: e.g.: | D17: e.g.: | E17: e.g.: | F17: e.g.: | G17: e.g.: | H17: e.g.: | I17: e.g.: | J17: e.g.: | K17: e.g.: | L17: e.g.: | M17: e.g.:
B18: e.g.: | C18: e.g.: | D18: e.g.: | E18: e.g.: | F18: e.g.: | G18: e.g.: | H18: e.g.: | I18: e.g.: | J18: e.g.: | K18: e.g.: | L18: e.g.: | M18: e.g.:
B19: e.g.: | C19: e.g.: | D19: e.g.: | E19: e.g.: | F19: e.g.: | G19: e.g.: | H19: e.g.: | I19: e.g.: | J19: e.g.: | K19: e.g.: | L19: e.g.: | M19: e.g.:
B20: e.g.: | C20: e.g.: | D20: e.g.: | E20: e.g.: | F20: e.g.: | G20: e.g.: | H20: e.g.: | I20: e.g.: | J20: e.g.: | K20: e.g.: | L20: e.g.: | M20: e.g.:
B21: e.g.: | C21: e.g.: | D21: e.g.: | E21: e.g.: | F21: e.g.: | G21: e.g.: | H21: e.g.: | I21: e.g.: | J21: e.g.: | K21: e.g.: | L21: e.g.: | M21: e.g.:
B22: e.g.: | C22: e.g.: | D22: e.g.: | E22: e.g.: | F22: e.g.: | G22: e.g.: | H22: e.g.: | I22: e.g.: | J22: e.g.: | K22: e.g.: | L22: e.g.: | M22: e.g.:
B23: e.g.: | C23: e.g.: | D23: e.g.: | E23: e.g.: | F23: e.g.: | G23: e.g.: | H23: e.g.: | I23: e.g.: | J23: e.g.: | K23: e.g.: | L23: e.g.: | M23: e.g.:

Sheet CEMS_Inoperative
B1: DO NOT REMOVE OR EDIT INFORMATION IN ROWS 1 THORUGH 5 FOR INTERNAL USE ONLY
B2: =Welcome!A2 -> Template Name | C2: =Welcome!B2 -> 60.615 Semiannual Report (Spreadsheet Template)
B3: =Welcome!A3 -> CitationID | C3: =Welcome!B3 -> 60.615
B4: =Welcome!A4 -> Template Version | C4: =Welcome!B4 -> v1.00
B5: =Welcome!A5 -> Last Updated Date | C5: =Welcome!B5 -> 45441
B7: =Company_Information!B7 -> 40 CFR Part 60, Subparts III and IIIa: Standards of Performance for VOC Emissions From SOCMI Air Oxidation Unit Processes; §60.615(j) and §60.615a(i) Semiannual Report
B8: (7) Periods when the TOC CEMS was inoperative. For each exceedance, the report must include a list of the affected facilities or equipment, the start date and time of the period, the duration (in hours) of the period, the cause of the inoperability
B9: (including unknown cause, if applicable), as applicable, and the corrective action taken.
B10: Note: Company Record No. selections will appear once information is entered onto the Company_Information tab.
B12: Company Record No. (Select from dropdown list) | C12: Process Unit Identification | D12: Affected Facility or Equipment (§60.615a(i)(7)) | E12: Start Date of Period (§60.615a(i)(7)) | F12: Start Time of Period (§60.615a(i)(7)) | G12: Duration of Period (hours) (§60.615a(i)(7)) | H12: Cause of the Inoperability (including unknown cause, if applicable) (§60.615a(i)(7)) | I12: Corrective Action Taken (§60.615a(i)(7))
B13: RecordId | C13: InoperativeProcessId | D13: InoperativeFacilityId | E13: InoperativeStartDate | F13: InoperativeStartTime | G13: InoperativeDuration | H13: InoperativeCause | I13: InoperativeCorrectiveAction
B14: e.g.: 1 | C14: e.g.: Unit A | D14: e.g.: Distillation Vent ABC | E14: e.g.: 01/24/24 | F14: e.g.: 1:15 PM | G14: e.g.: 2 | H14: e.g.: | I14: e.g.:
B15: e.g.: | C15: e.g.: | D15: e.g.: | E15: e.g.: | F15: e.g.: | G15: e.g.: | H15: e.g.: | I15: e.g.:
B16: e.g.: | C16: e.g.: | D16: e.g.: | E16: e.g.: | F16: e.g.: | G16: e.g.: | H16: e.g.: | I16: e.g.:
B17: e.g.: | C17: e.g.: | D17: e.g.: | E17: e.g.: | F17: e.g.: | G17: e.g.: | H17: e.g.: | I17: e.g.:
B18: e.g.: | C18: e.g.: | D18: e.g.: | E18: e.g.: | F18: e.g.: | G18: e.g.: | H18: e.g.: | I18: e.g.:
B19: e.g.: | C19: e.g.: | D19: e.g.: | E19: e.g.: | F19: e.g.: | G19: e.g.: | H19: e.g.: | I19: e.g.:
B20: e.g.: | C20: e.g.: | D20: e.g.: | E20: e.g.: | F20: e.g.: | G20: e.g.: | H20: e.g.: | I20: e.g.:
B21: e.g.: | C21: e.g.: | D21: e.g.: | E21: e.g.: | F21: e.g.: | G21: e.g.: | H21: e.g.: | I21: e.g.:
B22: e.g.: | C22: e.g.: | D22: e.g.: | E22: e.g.: | F22: e.g.: | G22: e.g.: | H22: e.g.: | I22: e.g.:
B23: e.g.: | C23: e.g.: | D23: e.g.: | E23: e.g.: | F23: e.g.: | G23: e.g.: | H23: e.g.: | I23: e.g.:

Sheet Bypass_Events
B1: DO NOT REMOVE OR EDIT INFORMATION IN ROWS 1 THORUGH 5 FOR INTERNAL USE ONLY
B2: =Welcome!A2 -> Template Name | C2: =Welcome!B2 -> 60.615 Semiannual Report (Spreadsheet Template)
B3: =Welcome!A3 -> CitationID | C3: =Welcome!B3 -> 60.615
B4: =Welcome!A4 -> Template Version | C4: =Welcome!B4 -> v1.00
B5: =Welcome!A5 -> Last Updated Date | C5: =Welcome!B5 -> 45441
B7: =Company_Information!B7 -> 40 CFR Part 60, Subparts III and IIIa: Standards of Performance for VOC Emissions From SOCMI Air Oxidation Unit Processes; §60.615(j) and §60.615a(i) Semiannual Report
B8: (2) All periods recorded under §60.615(d) or §60.615a(d) when the vent stream is diverted from the control device or has no flow rate.
B9: (5) For each closed vent system subject to the requirements in §60.620a, the semiannual report must include the items specified in §60.620a(i).
B10: Note: Company Record No. selections will appear once information is entered onto the Company_Information tab. Depending on the answer in Column D, cells in Columns H-J will be blacked out.
I11: For Relief Valve Discharge or Flow from Control/Recovery Device Bypass Line
B12: Company Record No. (Select from dropdown list) | C12: Process Unit Identification | D12: Identification of Flow indicator, Relief Valve, Bypass Line, or Closed Vent System (§60.615(j)(2), §60.615a(i)(2)(i)-(iii), §60.615a(i)(5)) | E12: Type of Event (§60.615(j)(2), §60.615a(i)(2)(i)-(iii), §60.615a(i)(5), §60.620a(i)) (Select from dropdown list) | F12: Start Date (§60.615(j)(2), §60.615a(i)(2)(i)-(iii), §60.615a(i)(5), §60.620a(i)) | G12: Start Time (§60.615(j)(2), §60.615a(i)(2)(i)-(iii), §60.615a(i)(5), §60.620a(i)) | H12: Duration (hours) (§60.615(j)(2), §60.615a(i)(2)(i)-(iii), §60.615a(i)(5), §60.620a(i)) | I12: Estimate of the Volume of Gas (standard cubic feet) (§60.615a(i)(2)(ii)-(iii), §60.615a(i)(5), §60.620a(i)(3)) | J12: Concentration of TOC in the Gas (ppmv) (§60.615a(i)(2)(ii)-(iii), §60.615a(i)(5), §60.620a(i)(3)) | K12: Resulting Mass Emissions of TOC Released to Atmosphere/Bypassed Control or Recovery Device (pounds) (§60.615a(i)(2)(ii)-(iii), §60.615a(i)(5), §60.620a(i)(3))
B13: RecordId | C13: BypassProcessId | D13: BypassFacilityId | E13: BypassType | F13: BypassStartDate | G13: BypassStartTime | H13: BypassDuration | I13: BypassVolumeEstimate | J13: BypassConc | K13: BypassMassEmissions
B14: e.g.: 1 | C14: e.g.: Unit A | D14: e.g.: CVS A Bypass Line 2 | E14: e.g.: Flow diverted from control/recovery device to bypass line | F14: e.g.: 05/17/24 | G14: e.g.: 11:15 AM | H14: e.g.: 1 | I14: e.g.: 50 | J14: e.g.: 1000 | K14: e.g.: 40
B15: e.g.: 1 | C15: e.g.: Unit A | D15: e.g.: Bypass Line 1 Flowmeter A | E15: e.g.: Flow indicator not operating | F15: e.g.: 04/28/24 | G15: e.g.: 4:25 AM | H15: e.g.: 2
B16: e.g.: | C16: e.g.: | D16: e.g.: | E16: e.g.: | F16: e.g.: | G16: e.g.: | H16: e.g.: | I16: e.g.: | J16: e.g.: | K16: e.g.:
B17: e.g.: | C17: e.g.: | D17: e.g.: | E17: e.g.: | F17: e.g.: | G17: e.g.: | H17: e.g.: | I17: e.g.: | J17: e.g.: | K17: e.g.:
B18: e.g.: | C18: e.g.: | D18: e.g.: | E18: e.g.: | F18: e.g.: | G18: e.g.: | H18: e.g.: | I18: e.g.: | J18: e.g.: | K18: e.g.:
B19: e.g.: | C19: e.g.: | D19: e.g.: | E19: e.g.: | F19: e.g.: | G19: e.g.: | H19: e.g.: | I19: e.g.: | J19: e.g.: | K19: e.g.:
B20: e.g.: | C20: e.g.: | D20: e.g.: | E20: e.g.: | F20: e.g.: | G20: e.g.: | H20: e.g.: | I20: e.g.: | J20: e.g.: | K20: e.g.:
B21: e.g.: | C21: e.g.: | D21: e.g.: | E21: e.g.: | F21: e.g.: | G21: e.g.: | H21: e.g.: | I21: e.g.: | J21: e.g.: | K21: e.g.:
B22: e.g.: | C22: e.g.: | D22: e.g.: | E22: e.g.: | F22: e.g.: | G22: e.g.: | H22: e.g.: | I22: e.g.: | J22: e.g.: | K22: e.g.:
B23: e.g.: | C23: e.g.: | D23: e.g.: | E23: e.g.: | F23: e.g.: | G23: e.g.: | H23: e.g.: | I23: e.g.: | J23: e.g.: | K23: e.g.:

Sheet Flares
B1: DO NOT REMOVE OR EDIT INFORMATION IN ROWS 1 THORUGH 5 FOR INTERNAL USE ONLY
B2: =Welcome!A2 -> Template Name | C2: =Welcome!B2 -> 60.615 Semiannual Report (Spreadsheet Template)
B3: =Welcome!A3 -> CitationID | C3: =Welcome!B3 -> 60.615
B4: =Welcome!A4 -> Template Version | C4: =Welcome!B4 -> v1.00
B5: =Welcome!A5 -> Last Updated Date | C5: =Welcome!B5 -> 45441
B7: =Company_Information!B7 -> 40 CFR Part 60, Subparts III and IIIa: Standards of Performance for VOC Emissions From SOCMI Air Oxidation Unit Processes; §60.615(j) and §60.615a(i) Semiannual Report
B8: (4) All periods recorded under §60.615(f) in which the pilot flame of the flare was absent.
B9: (4) For each flare subject to the requirements in §60.619a, the semiannual report must include the items specified in §60.619a(l)(2).
B10: Note: Company Record No. selections will appear once information is entered onto the Company_Information tab. Depending on the answer in Column D, cells in Columns H-R will be blacked out.
I11: Visible Emissions Exceeded or Emergency Flaring | J11: Operating Limits Not Met Only | M11: Emergency Flaring Only
B12: Company Record No. (Select from dropdown) | C12: Process Unit Identification | D12: Flare Identification (§60.615(j)(4), §60.615a(i)(4)) | E12: Type of Event (§60.615(j)(4), §60.615a(i)(4), §60.619a(l)(2)) (Select from dropdown) | F12: Date (§60.615(j)(4), §60.615a(i)(4), §60.619a(l)(2)) | G12: Start Time (§60.615(j)(4), §60.615a(i)(4), §60.619a(l)(2)) | H12: End Time (§60.615(j)(4), §60.615a(i)(4), §60.619a(l)(2)) | I12: Estimate of Cumulative Number of Minutes for Which Emissions Were Visible (§60.615a(i)(4), §60.619a(l)(2)(ii), §60.619a(l)(2)(iv)(B)) | J12: Which operating limit was not met? (§60.615a(i)(4), §60.619a(l)(2)(iii)) (Select from dropdown) | K12: Value of Operating Parameter (§60.615a(i)(4), §60.619a(l)(2)(iii)) | L12: Units of Measure for Operating Parameter (§60.615a(i)(4), §60.619a(l)(2)(iii)) (Autofills) | M12: Start Date Flare Tip Velocity Exceeded (§60.615a(i)(4), §60.619a(l)(2)(iv)(C)) | N12: Start Time Flare Tip Velocity Exceeded (§60.615a(i)(4), §60.619a(l)(2)(iv)(C)) | O12: Duration Flare Tip Velocity Exceeded (minutes) (§60.615a(i)(4), §60.619a(l)(2)(iv)(C)) | P12: Maximum 15-Minute Block Average Flare Tip Velocity (ft/sec) (§60.615a(i)(4), §60.619a(l)(2)(iv)(C)) | Q12: Results of Root Cause and Corrective Action Analysis Completed During Reporting Period (§60.615a(i)(4), §60.619a(l)(2)(iv)(D)) | R12: Corrective Actions Implemented During Reporting Period (§60.615a(i)(4), §60.619a(l)(2)(iv)(D)) | S12: Implementation Schedule for Planned Corrective Actions Subsequent to Reporting Period (§60.615a(i)(4), §60.619a(l)(2)(iv)(D))
B13: RecordId | C13: FlareProcessId | D13: FlareId | E13: FlareEventType | F13: FlareDate | G13: FlareStartTime | H13: FlareEndTime | I13: FlareVEMinutes | J13: FlareOpLimit | K13: FlareParameterValue | L13: FlareParameterUnits | M13: FlareTipStartDate | N13: FlareTipStartTime | O13: FlareTipDuration | P13: FlareTipVelocity | Q13: FlareTipRootCause | R13: FlareTipCorrectiveAction | S13: FlareTipSchedule
B14: e.g.: 1 | C14: e.g.: Unit A | D14: e.g.: Flare 302 | E14: e.g.: No pilot/flare flame present | F14: e.g.: 02/04/24 | G14: e.g.: 3:15 PM | H14: e.g.: 3:30 PM
B15: e.g.: | C15: e.g.: Unit A | D15: e.g.: Flare 4-6 | E15: e.g.: Emergency Flaring | F15: e.g.: 03/01/24 | G15: e.g.: 10:05 PM | H15: e.g.: 10:20 PM | I15: e.g.: 10 | M15: e.g.: 03/01/24 | N15: e.g.: 10:10 PM | O15: e.g.: 10:20 PM | P15: e.g.: 500 | Q15: e.g.: | R15: e.g.: | S15: e.g.:
B16: e.g.: | C16: e.g.: Unit A | D16: e.g.: Flare 23 | E16: e.g.: Applicable operating limits not met | F16: e.g.: 03/06/24 | G16: e.g.: 1:30 PM | H16: e.g.: 1:45 PM | J16: e.g.: vtip | K16: e.g.: 450 | L16: e.g.: ft/s
B17: e.g.: | C17: e.g.: | D17: e.g.: | E17: e.g.: | F17: e.g.: | G17: e.g.: | H17: e.g.: | I17: e.g.: | J17: e.g.: | K17: e.g.: | L17: e.g.: | M17: e.g.: | N17: e.g.: | O17: e.g.: | P17: e.g.: | Q17: e.g.: | R17: e.g.: | S17: e.g.:
B18: e.g.: | C18: e.g.: | D18: e.g.: | E18: e.g.: | F18: e.g.: | G18: e.g.: | H18: e.g.: | I18: e.g.: | J18: e.g.: | K18: e.g.: | L18: e.g.: | M18: e.g.: | N18: e.g.: | O18: e.g.: | P18: e.g.: | Q18: e.g.: | R18: e.g.: | S18: e.g.:
B19: e.g.: | C19: e.g.: | D19: e.g.: | E19: e.g.: | F19: e.g.: | G19: e.g.: | H19: e.g.: | I19: e.g.: | J19: e.g.: | K19: e.g.: | L19: e.g.: | M19: e.g.: | N19: e.g.: | O19: e.g.: | P19: e.g.: | Q19: e.g.: | R19: e.g.: | S19: e.g.:
B20: e.g.: | C20: e.g.: | D20: e.g.: | E20: e.g.: | F20: e.g.: | G20: e.g.: | H20: e.g.: | I20: e.g.: | J20: e.g.: | K20: e.g.: | L20: e.g.: | M20: e.g.: | N20: e.g.: | O20: e.g.: | P20: e.g.: | Q20: e.g.: | R20: e.g.: | S20: e.g.:
B21: e.g.: | C21: e.g.: | D21: e.g.: | E21: e.g.: | F21: e.g.: | G21: e.g.: | H21: e.g.: | I21: e.g.: | J21: e.g.: | K21: e.g.: | L21: e.g.: | M21: e.g.: | N21: e.g.: | O21: e.g.: | P21: e.g.: | Q21: e.g.: | R21: e.g.: | S21: e.g.:
B22: e.g.: | C22: e.g.: | D22: e.g.: | E22: e.g.: | F22: e.g.: | G22: e.g.: | H22: e.g.: | I22: e.g.: | J22: e.g.: | K22: e.g.: | L22: e.g.: | M22: e.g.: | N22: e.g.: | O22: e.g.: | P22: e.g.: | Q22: e.g.: | R22: e.g.: | S22: e.g.:
B23: e.g.: | C23: e.g.: | D23: e.g.: | E23: e.g.: | F23: e.g.: | G23: e.g.: | H23: e.g.: | I23: e.g.: | J23: e.g.: | K23: e.g.: | L23: e.g.: | M23: e.g.: | N23: e.g.: | O23: e.g.: | P23: e.g.: | Q23: e.g.: | R23: e.g.: | S23: e.g.:
L24: =IF(J24="","",IF(J24="vtip","ft/s",IF(J24="NHVcz","Btu/scf","Btu/sq ft")))
L25: =IF(J25="","",IF(J25="vtip","ft/s",IF(J25="NHVcz","Btu/scf","Btu/sq ft")))
L26: =IF(J26="","",IF(J26="vtip","ft/s",IF(J26="NHVcz","Btu/scf","Btu/sq ft")))
L27: =IF(J27="","",IF(J27="vtip","ft/s",IF(J27="NHVcz","Btu/scf","Btu/sq ft")))
L28: =IF(J28="","",IF(J28="vtip","ft/s",IF(J28="NHVcz","Btu/scf","Btu/sq ft")))
L29: =IF(J29="","",IF(J29="vtip","ft/s",IF(J29="NHVcz","Btu/scf","Btu/sq ft")))
L30: =IF(J30="","",IF(J30="vtip","ft/s",IF(J30="NHVcz","Btu/scf","Btu/sq ft")))
L31: =IF(J31="","",IF(J31="vtip","ft/s",IF(J31="NHVcz","Btu/scf","Btu/sq ft")))
L32: =IF(J32="","",IF(J32="vtip","ft/s",IF(J32="NHVcz","Btu/scf","Btu/sq ft")))
L33: =IF(J33="","",IF(J33="vtip","ft/s",IF(J33="NHVcz","Btu/scf","Btu/sq ft")))
L34: =IF(J34="","",IF(J34="vtip","ft/s",IF(J34="NHVcz","Btu/scf","Btu/sq ft")))
L35: =IF(J35="","",IF(J35="vtip","ft/s",IF(J35="NHVcz","Btu/scf","Btu/sq ft")))
... L10023: =IF(J10023="","",IF(J10023="vtip","ft/s",IF(J10023="NHVcz","Btu/scf","Btu/sq ft")))

Sheet Boiler_Process_Heater
B1: DO NOT REMOVE OR EDIT INFORMATION IN ROWS 1 THORUGH 5 FOR INTERNAL USE ONLY
B2: =Welcome!A2 -> Template Name | C2: =Welcome!B2 -> 60.615 Semiannual Report (Spreadsheet Template)
B3: =Welcome!A3 -> CitationID | C3: =Welcome!B3 -> 60.615
B4: =Welcome!A4 -> Template Version | C4: =Welcome!B4 -> v1.00
B5: =Welcome!A5 -> Last Updated Date | C5: =Welcome!B5 -> 45441
B7: =Company_Information!B7 -> 40 CFR Part 60, Subparts III and IIIa: Standards of Performance for VOC Emissions From SOCMI Air Oxidation Unit Processes; §60.615(j) and §60.615a(i) Semiannual Report
B8: (3) All periods recorded under §60.615(e) when the boiler or process heater was not operating.
B9: (3) All periods when the boiler or process heater was not operating, including the start date, start time, and duration in hours of each period.
B10: Note: Company Record No. selections will appear once information is entered onto the Company_Information tab.
B12: Company Record No. (Select from dropdown list) | C12: Process Unit Identification | D12: Boiler or Process Heater Identification (§60.615(j)(3), §60.615a(i)(3)) | E12: Start Date (§60.615(j)(3), §60.615a(i)(3)) | F12: Start Time (§60.615(j)(3), §60.615a(i)(3)) | G12: Duration (hours) (§60.615(j)(3), §60.615a(i)(3))
B13: RecordId | C13: BoilerProcessId | D13: BoilerId | E13: BoilerStartDate | F13: BoilerStartTime | G13: BoilerDuration
B14: e.g.: 1 | C14: e.g.: Unit A | D14: e.g.: Boiler ABC | E14: e.g.: 03/10/24 | F14: e.g.: 2:25 PM | G14: e.g.: 5
B15: e.g.: | C15: e.g.: | D15: e.g.: | E15: e.g.: | F15: e.g.: | G15: e.g.:
B16: e.g.: | C16: e.g.: | D16: e.g.: | E16: e.g.: | F16: e.g.: | G16: e.g.:
B17: e.g.: | C17: e.g.: | D17: e.g.: | E17: e.g.: | F17: e.g.: | G17: e.g.:
B18: e.g.: | C18: e.g.: | D18: e.g.: | E18: e.g.: | F18: e.g.: | G18: e.g.:
B19: e.g.: | C19: e.g.: | D19: e.g.: | E19: e.g.: | F19: e.g.: | G19: e.g.:
B20: e.g.: | C20: e.g.: | D20: e.g.: | E20: e.g.: | F20: e.g.: | G20: e.g.:
B21: e.g.: | C21: e.g.: | D21: e.g.: | E21: e.g.: | F21: e.g.: | G21: e.g.:
B22: e.g.: | C22: e.g.: | D22: e.g.: | E22: e.g.: | F22: e.g.: | G22: e.g.:
B23: e.g.: | C23: e.g.: | D23: e.g.: | E23: e.g.: | F23: e.g.: | G23: e.g.:

Sheet Lists
A1: Site | B1: Num | C1: SiteList | E1: States | G1: Event Type
A2: {=IF(SUMPRODUCT(--(LEN(Company_Information!B24:B123)>0))>0,IF(Company_Information!B24="","",Company_Information!B24),"Add a company in the Company Information tab")} -> Add a company in the Company Information tab | B2: =IF(A2="","",MAX(B1:B$1)+1) -> 1 | C2: =+IFERROR(INDEX($A$2:$A$101,MATCH(ROW()-ROW($C$1),$B$2:$B$101,0)),"") -> Add a company in the Company Information tab | E2: AK | G2: Flow indicator not operating
A3: =IF(Company_Information!B25="","",Company_Information!B25) | B3: =IF(A3="","",MAX(B$1:B2)+1) | C3: =+IFERROR(INDEX($A$2:$A$101,MATCH(ROW()-ROW($C$1),$B$2:$B$101,0)),"") | E3: AL | G3: Relief valve discharge
A4: =IF(Company_Information!B26="","",Company_Information!B26) | B4: =IF(A4="","",MAX(B$1:B3)+1) | C4: =+IFERROR(INDEX($A$2:$A$101,MATCH(ROW()-ROW($C$1),$B$2:$B$101,0)),"") | E4: AR | G4: Flow diverted from control/recovery device to bypass line
A5: =IF(Company_Information!B27="","",Company_Information!B27) | B5: =IF(A5="","",MAX(B$1:B4)+1) | C5: =+IFERROR(INDEX($A$2:$A$101,MATCH(ROW()-ROW($C$1),$B$2:$B$101,0)),"") | E5: AS | G5: Seal mechanism is broken
A6: =IF(Company_Information!B28="","",Company_Information!B28) | B6: =IF(A6="","",MAX(B$1:B5)+1) | C6: =+IFERROR(INDEX($A$2:$A$101,MATCH(ROW()-ROW($C$1),$B$2:$B$101,0)),"") | E6: AZ | G6: Bypass line valve position changed
A7: =IF(Company_Information!B29="","",Company_Information!B29) | B7: =IF(A7="","",MAX(B$1:B6)+1) | C7: =+IFERROR(INDEX($A$2:$A$101,MATCH(ROW()-ROW($C$1),$B$2:$B$101,0)),"") | E7: CA | G7: Key to unlock bypass line valve checked out
A8: =IF(Company_Information!B30="","",Company_Information!B30) | B8: =IF(A8="","",MAX(B$1:B7)+1) | C8: =+IFERROR(INDEX($A$2:$A$101,MATCH(ROW()-ROW($C$1),$B$2:$B$101,0)),"") | E8: CO
A9: =IF(Company_Information!B31="","",Company_Information!B31) | B9: =IF(A9="","",MAX(B$1:B8)+1) | C9: =+IFERROR(INDEX($A$2:$A$101,MATCH(ROW()-ROW($C$1),$B$2:$B$101,0)),"") | E9: CT | G9: FlareEvents
A10: =IF(Company_Information!B32="","",Company_Information!B32) | B10: =IF(A10="","",MAX(B$1:B9)+1) | C10: =+IFERROR(INDEX($A$2:$A$101,MATCH(ROW()-ROW($C$1),$B$2:$B$101,0)),"") | E10: DC | G10: No pilot/flare flame present
A11: =IF(Company_Information!B33="","",Company_Information!B33) | B11: =IF(A11="","",MAX(B$1:B10)+1) | C11: =+IFERROR(INDEX($A$2:$A$101,MATCH(ROW()-ROW($C$1),$B$2:$B$101,0)),"") | E11: DE | G11: Visible emissions exceed 5 minutes
A12: =IF(Company_Information!B34="","",Company_Information!B34) | B12: =IF(A12="","",MAX(B$1:B11)+1) | C12: =+IFERROR(INDEX($A$2:$A$101,MATCH(ROW()-ROW($C$1),$B$2:$B$101,0)),"") | E12: FL | G12: Applicable operating limits not met
A13: =IF(Company_Information!B35="","",Company_Information!B35) | B13: =IF(A13="","",MAX(B$1:B12)+1) | C13: =+IFERROR(INDEX($A$2:$A$101,MATCH(ROW()-ROW($C$1),$B$2:$B$101,0)),"") | E13: GA | G13: Emergency Flaring
A14: =IF(Company_Information!B36="","",Company_Information!B36) | B14: =IF(A14="","",MAX(B$1:B13)+1) | C14: =+IFERROR(INDEX($A$2:$A$101,MATCH(ROW()-ROW($C$1),$B$2:$B$101,0)),"") | E14: GU | G14: Pressure-assisted multi-point flare pressure monitor shows burners outside range
A15: =IF(Company_Information!B37="","",Company_Information!B37) | B15: =IF(A15="","",MAX(B$1:B14)+1) | C15: =+IFERROR(INDEX($A$2:$A$101,MATCH(ROW()-ROW($C$1),$B$2:$B$101,0)),"") | E15: HI | G15: Pressure-assisted multi-point flare staging valve indicates stage should not be on but it is
A16: =IF(Company_Information!B38="","",Company_Information!B38) | B16: =IF(A16="","",MAX(B$1:B15)+1) | C16: =+IFERROR(INDEX($A$2:$A$101,MATCH(ROW()-ROW($C$1),$B$2:$B$101,0)),"") | E16: IA | G16: Pressure-assisted multi-point flare staging valve indicates stage should be on but it is not
A17: =IF(Company_Information!B39="","",Company_Information!B39) | B17: =IF(A17="","",MAX(B$1:B16)+1) | C17: =+IFERROR(INDEX($A$2:$A$101,MATCH(ROW()-ROW($C$1),$B$2:$B$101,0)),"") | E17: ID
A18: =IF(Company_Information!B40="","",Company_Information!B40) | B18: =IF(A18="","",MAX(B$1:B17)+1) | C18: =+IFERROR(INDEX($A$2:$A$101,MATCH(ROW()-ROW($C$1),$B$2:$B$101,0)),"") | E18: IL | G18: FlareOpLimits
A19: =IF(Company_Information!B41="","",Company_Information!B41) | B19: =IF(A19="","",MAX(B$1:B18)+1) | C19: =+IFERROR(INDEX($A$2:$A$101,MATCH(ROW()-ROW($C$1),$B$2:$B$101,0)),"") | E19: IN | G19: vtip
A20: =IF(Company_Information!B42="","",Company_Information!B42) | B20: =IF(A20="","",MAX(B$1:B19)+1) | C20: =+IFERROR(INDEX($A$2:$A$101,MATCH(ROW()-ROW($C$1),$B$2:$B$101,0)),"") | E20: KS | G20: NHVcz
A21: =IF(Company_Information!B43="","",Company_Information!B43) | B21: =IF(A21="","",MAX(B$1:B20)+1) | C21: =+IFERROR(INDEX($A$2:$A$101,MATCH(ROW()-ROW($C$1),$B$2:$B$101,0)),"") | E21: KY | G21: NHVdil
A22: =IF(Company_Information!B44="","",Company_Information!B44) | B22: =IF(A22="","",MAX(B$1:B21)+1) | C22: =+IFERROR(INDEX($A$2:$A$101,MATCH(ROW()-ROW($C$1),$B$2:$B$101,0)),"") | E22: LA
A23: =IF(Company_Information!B45="","",Company_Information!B45) | B23: =IF(A23="","",MAX(B$1:B22)+1) | C23: =+IFERROR(INDEX($A$2:$A$101,MATCH(ROW()-ROW($C$1),$B$2:$B$101,0)),"") | E23: MA | G23: FlareOpLimitUnits
A24: =IF(Company_Information!B46="","",Company_Information!B46) | B24: =IF(A24="","",MAX(B$1:B23)+1) | C24: =+IFERROR(INDEX($A$2:$A$101,MATCH(ROW()-ROW($C$1),$B$2:$B$101,0)),"") | E24: MD | G24: ft/sec
A25: =IF(Company_Information!B47="","",Company_Information!B47) | B25: =IF(A25="","",MAX(B$1:B24)+1) | C25: =+IFERROR(INDEX($A$2:$A$101,MATCH(ROW()-ROW($C$1),$B$2:$B$101,0)),"") | E25: ME | G25: Btu/scf
A26: =IF(Company_Information!B48="","",Company_Information!B48) | B26: =IF(A26="","",MAX(B$1:B25)+1) | C26: =+IFERROR(INDEX($A$2:$A$101,MATCH(ROW()-ROW($C$1),$B$2:$B$101,0)),"") | E26: MI | G26: Btu/ft2
A27: =IF(Company_Information!B49="","",Company_Information!B49) | B27: =IF(A27="","",MAX(B$1:B26)+1) | C27: =+IFERROR(INDEX($A$2:$A$101,MATCH(ROW()-ROW($C$1),$B$2:$B$101,0)),"") | E27: MN
A28: =IF(Company_Information!B50="","",Company_Information!B50) | B28: =IF(A28="","",MAX(B$1:B27)+1) | C28: =+IFERROR(INDEX($A$2:$A$101,MATCH(ROW()-ROW($C$1),$B$2:$B$101,0)),"") | E28: MO
A29: =IF(Company_Information!B51="","",Company_Information!B51) | B29: =IF(A29="","",MAX(B$1:B28)+1) | C29: =+IFERROR(INDEX($A$2:$A$101,MATCH(ROW()-ROW($C$1),$B$2:$B$101,0)),"") | E29: MP
A30: =IF(Company_Information!B52="","",Company_Information!B52) | B30: =IF(A30="","",MAX(B$1:B29)+1) | C30: =+IFERROR(INDEX($A$2:$A$101,MATCH(ROW()-ROW($C$1),$B$2:$B$101,0)),"") | E30: MS
A31: =IF(Company_Information!B53="","",Company_Information!B53) | B31: =IF(A31="","",MAX(B$1:B30)+1) | C31: =+IFERROR(INDEX($A$2:$A$101,MATCH(ROW()-ROW($C$1),$B$2:$B$101,0)),"") | E31: MT
A32: =IF(Company_Information!B54="","",Company_Information!B54) | B32: =IF(A32="","",MAX(B$1:B31)+1) | C32: =+IFERROR(INDEX($A$2:$A$101,MATCH(ROW()-ROW($C$1),$B$2:$B$101,0)),"") | E32: NC
A33: =IF(Company_Information!B55="","",Company_Information!B55) | B33: =IF(A33="","",MAX(B$1:B32)+1) | C33: =+IFERROR(INDEX($A$2:$A$101,MATCH(ROW()-ROW($C$1),$B$2:$B$101,0)),"") | E33: ND
A34: =IF(Company_Information!B56="","",Company_Information!B56) | B34: =IF(A34="","",MAX(B$1:B33)+1) | C34: =+IFERROR(INDEX($A$2:$A$101,MATCH(ROW()-ROW($C$1),$B$2:$B$101,0)),"") | E34: NE
A35: =IF(Company_Information!B57="","",Company_Information!B57) | B35: =IF(A35="","",MAX(B$1:B34)+1) | C35: =+IFERROR(INDEX($A$2:$A$101,MATCH(ROW()-ROW($C$1),$B$2:$B$101,0)),"") | E35: NH
A36: =IF(Company_Information!B58="","",Company_Information!B58) | B36: =IF(A36="","",MAX(B$1:B35)+1) | C36: =+IFERROR(INDEX($A$2:$A$101,MATCH(ROW()-ROW($C$1),$B$2:$B$101,0)),"") | E36: NJ
A37: =IF(Company_Information!B59="","",Company_Information!B59) | B37: =IF(A37="","",MAX(B$1:B36)+1) | C37: =+IFERROR(INDEX($A$2:$A$101,MATCH(ROW()-ROW($C$1),$B$2:$B$101,0)),"") | E37: NM
A38: =IF(Company_Information!B60="","",Company_Information!B60) | B38: =IF(A38="","",MAX(B$1:B37)+1) | C38: =+IFERROR(INDEX($A$2:$A$101,MATCH(ROW()-ROW($C$1),$B$2:$B$101,0)),"") | E38: NV
... A57: =IF(Company_Information!B79="","",Company_Information!B79) | B57: =IF(A57="","",MAX(B$1:B56)+1) | C57: =+IFERROR(INDEX($A$2:$A$101,MATCH(ROW()-ROW($C$1),$B$2:$B$101,0)),"") | E57: WY
A58: =IF(Company_Information!B80="","",Company_Information!B80) | B58: =IF(A58="","",MAX(B$1:B57)+1) | C58: =+IFERROR(INDEX($A$2:$A$101,MATCH(ROW()-ROW($C$1),$B$2:$B$101,0)),"")
A59: =IF(Company_Information!B81="","",Company_Information!B81) | B59: =IF(A59="","",MAX(B$1:B58)+1) | C59: =+IFERROR(INDEX($A$2:$A$101,MATCH(ROW()-ROW($C$1),$B$2:$B$101,0)),"")
A60: =IF(Company_Information!B82="","",Company_Information!B82) | B60: =IF(A60="","",MAX(B$1:B59)+1) | C60: =+IFERROR(INDEX($A$2:$A$101,MATCH(ROW()-ROW($C$1),$B$2:$B$101,0)),"")
A61: =IF(Company_Information!B83="","",Company_Information!B83) | B61: =IF(A61="","",MAX(B$1:B60)+1) | C61: =+IFERROR(INDEX($A$2:$A$101,MATCH(ROW()-ROW($C$1),$B$2:$B$101,0)),"")
A62: =IF(Company_Information!B84="","",Company_Information!B84) | B62: =IF(A62="","",MAX(B$1:B61)+1) | C62: =+IFERROR(INDEX($A$2:$A$101,MATCH(ROW()-ROW($C$1),$B$2:$B$101,0)),"")
A63: =IF(Company_Information!B85="","",Company_Information!B85) | B63: =IF(A63="","",MAX(B$1:B62)+1) | C63: =+IFERROR(INDEX($A$2:$A$101,MATCH(ROW()-ROW($C$1),$B$2:$B$101,0)),"")
A64: =IF(Company_Information!B86="","",Company_Information!B86) | B64: =IF(A64="","",MAX(B$1:B63)+1) | C64: =+IFERROR(INDEX($A$2:$A$101,MATCH(ROW()-ROW($C$1),$B$2:$B$101,0)),"")
A65: =IF(Company_Information!B87="","",Company_Information!B87) | B65: =IF(A65="","",MAX(B$1:B64)+1) | C65: =+IFERROR(INDEX($A$2:$A$101,MATCH(ROW()-ROW($C$1),$B$2:$B$101,0)),"")
A66: =IF(Company_Information!B88="","",Company_Information!B88) | B66: =IF(A66="","",MAX(B$1:B65)+1) | C66: =+IFERROR(INDEX($A$2:$A$101,MATCH(ROW()-ROW($C$1),$B$2:$B$101,0)),"")
A67: =IF(Company_Information!B89="","",Company_Information!B89) | B67: =IF(A67="","",MAX(B$1:B66)+1) | C67: =+IFERROR(INDEX($A$2:$A$101,MATCH(ROW()-ROW($C$1),$B$2:$B$101,0)),"")
A68: =IF(Company_Information!B90="","",Company_Information!B90) | B68: =IF(A68="","",MAX(B$1:B67)+1) | C68: =+IFERROR(INDEX($A$2:$A$101,MATCH(ROW()-ROW($C$1),$B$2:$B$101,0)),"")
A69: =IF(Company_Information!B91="","",Company_Information!B91) | B69: =IF(A69="","",MAX(B$1:B68)+1) | C69: =+IFERROR(INDEX($A$2:$A$101,MATCH(ROW()-ROW($C$1),$B$2:$B$101,0)),"")
... A101: =IF(Company_Information!B123="","",Company_Information!B123) | B101: =IF(A101="","",MAX(B$1:B100)+1) | C101: =+IFERROR(INDEX($A$2:$A$101,MATCH(ROW()-ROW($C$1),$B$2:$B$101,0)),"")
B102: =IF(A102="","",MAX(B$1:B101)+1) | C102: =+IFERROR(INDEX($A$2:$A$101,MATCH(ROW()-ROW($C$1),$B$2:$B$101,0)),"")
B103: =IF(A103="","",MAX(B$1:B102)+1) | C103: =+IFERROR(INDEX($A$2:$A$101,MATCH(ROW()-ROW($C$1),$B$2:$B$101,0)),"")
B104: =IF(A104="","",MAX(B$1:B103)+1) | C104: =+IFERROR(INDEX($A$2:$A$101,MATCH(ROW()-ROW($C$1),$B$2:$B$101,0)),"")
B105: =IF(A105="","",MAX(B$1:B104)+1) | C105: =+IFERROR(INDEX($A$2:$A$101,MATCH(ROW()-ROW($C$1),$B$2:$B$101,0)),"")
B106: =IF(A106="","",MAX(B$1:B105)+1) | C106: =+IFERROR(INDEX($A$2:$A$101,MATCH(ROW()-ROW($C$1),$B$2:$B$101,0)),"")
B107: =IF(A107="","",MAX(B$1:B106)+1) | C107: =+IFERROR(INDEX($A$2:$A$101,MATCH(ROW()-ROW($C$1),$B$2:$B$101,0)),"")
B108: =IF(A108="","",MAX(B$1:B107)+1) | C108: =+IFERROR(INDEX($A$2:$A$101,MATCH(ROW()-ROW($C$1),$B$2:$B$101,0)),"")
B109: =IF(A109="","",MAX(B$1:B108)+1) | C109: =+IFERROR(INDEX($A$2:$A$101,MATCH(ROW()-ROW($C$1),$B$2:$B$101,0)),"")
B110: =IF(A110="","",MAX(B$1:B109)+1) | C110: =+IFERROR(INDEX($A$2:$A$101,MATCH(ROW()-ROW($C$1),$B$2:$B$101,0)),"")
B111: =IF(A111="","",MAX(B$1:B110)+1) | C111: =+IFERROR(INDEX($A$2:$A$101,MATCH(ROW()-ROW($C$1),$B$2:$B$101,0)),"")
B112: =IF(A112="","",MAX(B$1:B111)+1) | C112: =+IFERROR(INDEX($A$2:$A$101,MATCH(ROW()-ROW($C$1),$B$2:$B$101,0)),"")
B113: =IF(A113="","",MAX(B$1:B112)+1) | C113: =+IFERROR(INDEX($A$2:$A$101,MATCH(ROW()-ROW($C$1),$B$2:$B$101,0)),"")
... B201: =IF(A201="","",MAX(B$1:B200)+1) | C201: =+IFERROR(INDEX($A$2:$A$101,MATCH(ROW()-ROW($C$1),$B$2:$B$101,0)),"")

Sheet Revisions
A1: Revision Number | B1: Date | C1: Description
A2: 1 | B2: 45441 | C2: Finalized Release Version

Sheet Worksheet Map
A1: Worksheet Name | B1: Parent | C1: JSON Key | D1: Parent Primary Key | E1: Child Foreign Key
A2: Company_Information | C2: records
A3: Parameter_CEMS_Exceedances | B3: records | C3: ParameterExceedances | D3: RecordId | E3: RecordId
A4: CEMS_Inoperative | B4: records | C4: CEMSInoperative | D4: RecordId | E4: RecordId
A5: Bypass_Events | B5: records | C5: BypassEvents | D5: RecordId | E5: RecordId
A6: Flares | B6: records | C6: Flares | D6: RecordId | E6: RecordId
A7: Boiler_Process_Heater | B7: records | C7: BoilerProcessHeater | D7: RecordId | E7: RecordId
